{"text_format":"1","workbook":"xlsx","n_sheets":12,"sheets":["Info","Athletenliste","Messen_Beweglichkeit","Jump-and-Reach","30m Sprint","KaBu","Seilspringen","Liegestütz","Balance","1000m","Gesamtliste","Bezüge"],"not_rendered":{"charts":0,"images":3,"macros":1,"external_links":0,"defined_names":3,"comments":0,"pivot_tables":0},"unopened":[],"bounds":{"document_bytes":16777216,"sheet_cells":100000,"rows_first":2000,"rows_last":500,"rows_between":2000,"halvings":0,"cell_chars":16384,"cell_head_chars":4096},"cells_cut":0,"cells_raw":0,"read":"whole","date_system":"1900"}

{"sheet":"Info","index":0,"n_rows":6,"n_cols":3,"rows_kept":6,"cut":false,"hidden":false,"merged":[]}
[]
[]
[null,null,"DSV-Athletik-Challenge"]
[null,null,"Testbatterie zur Überprüfung sportartbezogener"]
[null,null,"allgemein-athletischer Leistungsvoraussetzungen"]
[null,null,"im Schülerbereich"]

{"sheet":"Athletenliste","index":1,"n_rows":202,"n_cols":9,"rows_kept":202,"cut":false,"hidden":false,"merged":[[3,2,3,3]]}
[]
[null,"SKILANGLAUF - DEUTSCHLAND - ATHLETIK - CHALLENGE"]
[]
[null,"Ort:","Leipzig",null,"Datum:","2012-05-18"]
[]
[null,"Gesamtübersicht"]
[null,"Name","Vorname","Geschl.","JG","Testdatum","AK","LV","Bemerkung"]
[]
[]
[1,null,null,null,null,{"$f":"IF(OR($F$4=\"\",B10=\"\"),\"\",$F$4)","v":""},{"$f":"IF(D10=\"w\",VLOOKUP(E10,Bezüge!$A$6:$B$52,2,FALSE),IF(D10=\"m\",VLOOKUP(E10,Bezüge!$D$6:$E$52,2,FALSE),\"\"))","v":""}]
[2,null,null,null,null,"",{"$f":"IF(D11=\"w\",VLOOKUP(E11,Bezüge!$A$6:$B$52,2,FALSE),IF(D11=\"m\",VLOOKUP(E11,Bezüge!$D$6:$E$52,2,FALSE),\"\"))","v":""}]
[3,null,null,null,null,"",{"$f":"IF(D12=\"w\",VLOOKUP(E12,Bezüge!$A$6:$B$52,2,FALSE),IF(D12=\"m\",VLOOKUP(E12,Bezüge!$D$6:$E$52,2,FALSE),\"\"))","v":""}]
[4,null,null,null,null,"",{"$f":"IF(D13=\"w\",VLOOKUP(E13,Bezüge!$A$6:$B$52,2,FALSE),IF(D13=\"m\",VLOOKUP(E13,Bezüge!$D$6:$E$52,2,FALSE),\"\"))","v":""}]
[5,null,null,null,null,"",{"$f":"IF(D14=\"w\",VLOOKUP(E14,Bezüge!$A$6:$B$52,2,FALSE),IF(D14=\"m\",VLOOKUP(E14,Bezüge!$D$6:$E$52,2,FALSE),\"\"))","v":""}]
[6,null,null,null,null,"",{"$f":"IF(D15=\"w\",VLOOKUP(E15,Bezüge!$A$6:$B$52,2,FALSE),IF(D15=\"m\",VLOOKUP(E15,Bezüge!$D$6:$E$52,2,FALSE),\"\"))","v":""}]
[7,null,null,null,null,"",{"$f":"IF(D16=\"w\",VLOOKUP(E16,Bezüge!$A$6:$B$52,2,FALSE),IF(D16=\"m\",VLOOKUP(E16,Bezüge!$D$6:$E$52,2,FALSE),\"\"))","v":""}]
[8,null,null,null,null,"",{"$f":"IF(D17=\"w\",VLOOKUP(E17,Bezüge!$A$6:$B$52,2,FALSE),IF(D17=\"m\",VLOOKUP(E17,Bezüge!$D$6:$E$52,2,FALSE),\"\"))","v":""}]
[9,null,null,null,null,"",{"$f":"IF(D18=\"w\",VLOOKUP(E18,Bezüge!$A$6:$B$52,2,FALSE),IF(D18=\"m\",VLOOKUP(E18,Bezüge!$D$6:$E$52,2,FALSE),\"\"))","v":""}]
[10,null,null,null,null,"",{"$f":"IF(D19=\"w\",VLOOKUP(E19,Bezüge!$A$6:$B$52,2,FALSE),IF(D19=\"m\",VLOOKUP(E19,Bezüge!$D$6:$E$52,2,FALSE),\"\"))","v":""}]
[11,null,null,null,null,"",{"$f":"IF(D20=\"w\",VLOOKUP(E20,Bezüge!$A$6:$B$52,2,FALSE),IF(D20=\"m\",VLOOKUP(E20,Bezüge!$D$6:$E$52,2,FALSE),\"\"))","v":""}]
[12,null,null,null,null,"",{"$f":"IF(D21=\"w\",VLOOKUP(E21,Bezüge!$A$6:$B$52,2,FALSE),IF(D21=\"m\",VLOOKUP(E21,Bezüge!$D$6:$E$52,2,FALSE),\"\"))","v":""}]
[13,null,null,null,null,"",{"$f":"IF(D22=\"w\",VLOOKUP(E22,Bezüge!$A$6:$B$52,2,FALSE),IF(D22=\"m\",VLOOKUP(E22,Bezüge!$D$6:$E$52,2,FALSE),\"\"))","v":""}]
[14,null,null,null,null,"",{"$f":"IF(D23=\"w\",VLOOKUP(E23,Bezüge!$A$6:$B$52,2,FALSE),IF(D23=\"m\",VLOOKUP(E23,Bezüge!$D$6:$E$52,2,FALSE),\"\"))","v":""}]
[15,null,null,null,null,"",{"$f":"IF(D24=\"w\",VLOOKUP(E24,Bezüge!$A$6:$B$52,2,FALSE),IF(D24=\"m\",VLOOKUP(E24,Bezüge!$D$6:$E$52,2,FALSE),\"\"))","v":""}]
[16,null,null,null,null,"",{"$f":"IF(D25=\"w\",VLOOKUP(E25,Bezüge!$A$6:$B$52,2,FALSE),IF(D25=\"m\",VLOOKUP(E25,Bezüge!$D$6:$E$52,2,FALSE),\"\"))","v":""}]
[17,null,null,null,null,"",{"$f":"IF(D26=\"w\",VLOOKUP(E26,Bezüge!$A$6:$B$52,2,FALSE),IF(D26=\"m\",VLOOKUP(E26,Bezüge!$D$6:$E$52,2,FALSE),\"\"))","v":""}]
[18,null,null,null,null,"",{"$f":"IF(D27=\"w\",VLOOKUP(E27,Bezüge!$A$6:$B$52,2,FALSE),IF(D27=\"m\",VLOOKUP(E27,Bezüge!$D$6:$E$52,2,FALSE),\"\"))","v":""}]
[19,null,null,null,null,"",{"$f":"IF(D28=\"w\",VLOOKUP(E28,Bezüge!$A$6:$B$52,2,FALSE),IF(D28=\"m\",VLOOKUP(E28,Bezüge!$D$6:$E$52,2,FALSE),\"\"))","v":""}]
[20,null,null,null,null,"",{"$f":"IF(D29=\"w\",VLOOKUP(E29,Bezüge!$A$6:$B$52,2,FALSE),IF(D29=\"m\",VLOOKUP(E29,Bezüge!$D$6:$E$52,2,FALSE),\"\"))","v":""}]
[21,null,null,null,null,"",{"$f":"IF(D30=\"w\",VLOOKUP(E30,Bezüge!$A$6:$B$52,2,FALSE),IF(D30=\"m\",VLOOKUP(E30,Bezüge!$D$6:$E$52,2,FALSE),\"\"))","v":""}]
[22,null,null,null,null,"",{"$f":"IF(D31=\"w\",VLOOKUP(E31,Bezüge!$A$6:$B$52,2,FALSE),IF(D31=\"m\",VLOOKUP(E31,Bezüge!$D$6:$E$52,2,FALSE),\"\"))","v":""}]
[23,null,null,null,null,"",{"$f":"IF(D32=\"w\",VLOOKUP(E32,Bezüge!$A$6:$B$52,2,FALSE),IF(D32=\"m\",VLOOKUP(E32,Bezüge!$D$6:$E$52,2,FALSE),\"\"))","v":""}]
[24,null,null,null,null,"",{"$f":"IF(D33=\"w\",VLOOKUP(E33,Bezüge!$A$6:$B$52,2,FALSE),IF(D33=\"m\",VLOOKUP(E33,Bezüge!$D$6:$E$52,2,FALSE),\"\"))","v":""}]
[25,null,null,null,null,"",{"$f":"IF(D34=\"w\",VLOOKUP(E34,Bezüge!$A$6:$B$52,2,FALSE),IF(D34=\"m\",VLOOKUP(E34,Bezüge!$D$6:$E$52,2,FALSE),\"\"))","v":""}]
[26,null,null,null,null,"",{"$f":"IF(D35=\"w\",VLOOKUP(E35,Bezüge!$A$6:$B$52,2,FALSE),IF(D35=\"m\",VLOOKUP(E35,Bezüge!$D$6:$E$52,2,FALSE),\"\"))","v":""}]
[27,null,null,null,null,"",{"$f":"IF(D36=\"w\",VLOOKUP(E36,Bezüge!$A$6:$B$52,2,FALSE),IF(D36=\"m\",VLOOKUP(E36,Bezüge!$D$6:$E$52,2,FALSE),\"\"))","v":""}]
[28,null,null,null,null,"",{"$f":"IF(D37=\"w\",VLOOKUP(E37,Bezüge!$A$6:$B$52,2,FALSE),IF(D37=\"m\",VLOOKUP(E37,Bezüge!$D$6:$E$52,2,FALSE),\"\"))","v":""}]
[29,null,null,null,null,"",{"$f":"IF(D38=\"w\",VLOOKUP(E38,Bezüge!$A$6:$B$52,2,FALSE),IF(D38=\"m\",VLOOKUP(E38,Bezüge!$D$6:$E$52,2,FALSE),\"\"))","v":""}]
[30,null,null,null,null,"",{"$f":"IF(D39=\"w\",VLOOKUP(E39,Bezüge!$A$6:$B$52,2,FALSE),IF(D39=\"m\",VLOOKUP(E39,Bezüge!$D$6:$E$52,2,FALSE),\"\"))","v":""}]
[31,null,null,null,null,"",{"$f":"IF(D40=\"w\",VLOOKUP(E40,Bezüge!$A$6:$B$52,2,FALSE),IF(D40=\"m\",VLOOKUP(E40,Bezüge!$D$6:$E$52,2,FALSE),\"\"))","v":""}]
[32,null,null,null,null,"",{"$f":"IF(D41=\"w\",VLOOKUP(E41,Bezüge!$A$6:$B$52,2,FALSE),IF(D41=\"m\",VLOOKUP(E41,Bezüge!$D$6:$E$52,2,FALSE),\"\"))","v":""}]
[33,null,null,null,null,{"$f":"IF(OR($F$4=\"\",B42=\"\"),\"\",$F$4)","v":""},{"$f":"IF(D42=\"w\",VLOOKUP(E42,Bezüge!$A$6:$B$52,2,FALSE),IF(D42=\"m\",VLOOKUP(E42,Bezüge!$D$6:$E$52,2,FALSE),\"\"))","v":""}]
[34,null,null,null,null,"",{"$f":"IF(D43=\"w\",VLOOKUP(E43,Bezüge!$A$6:$B$52,2,FALSE),IF(D43=\"m\",VLOOKUP(E43,Bezüge!$D$6:$E$52,2,FALSE),\"\"))","v":""}]
[35,null,null,null,null,"",{"$f":"IF(D44=\"w\",VLOOKUP(E44,Bezüge!$A$6:$B$52,2,FALSE),IF(D44=\"m\",VLOOKUP(E44,Bezüge!$D$6:$E$52,2,FALSE),\"\"))","v":""}]
[36,null,null,null,null,"",{"$f":"IF(D45=\"w\",VLOOKUP(E45,Bezüge!$A$6:$B$52,2,FALSE),IF(D45=\"m\",VLOOKUP(E45,Bezüge!$D$6:$E$52,2,FALSE),\"\"))","v":""}]
[37,null,null,null,null,"",{"$f":"IF(D46=\"w\",VLOOKUP(E46,Bezüge!$A$6:$B$52,2,FALSE),IF(D46=\"m\",VLOOKUP(E46,Bezüge!$D$6:$E$52,2,FALSE),\"\"))","v":""}]
[38,null,null,null,null,"",{"$f":"IF(D47=\"w\",VLOOKUP(E47,Bezüge!$A$6:$B$52,2,FALSE),IF(D47=\"m\",VLOOKUP(E47,Bezüge!$D$6:$E$52,2,FALSE),\"\"))","v":""}]
[39,null,null,null,null,"",{"$f":"IF(D48=\"w\",VLOOKUP(E48,Bezüge!$A$6:$B$52,2,FALSE),IF(D48=\"m\",VLOOKUP(E48,Bezüge!$D$6:$E$52,2,FALSE),\"\"))","v":""}]
[40,null,null,null,null,"",{"$f":"IF(D49=\"w\",VLOOKUP(E49,Bezüge!$A$6:$B$52,2,FALSE),IF(D49=\"m\",VLOOKUP(E49,Bezüge!$D$6:$E$52,2,FALSE),\"\"))","v":""}]
[41,null,null,null,null,"",{"$f":"IF(D50=\"w\",VLOOKUP(E50,Bezüge!$A$6:$B$52,2,FALSE),IF(D50=\"m\",VLOOKUP(E50,Bezüge!$D$6:$E$52,2,FALSE),\"\"))","v":""}]
[42,null,null,null,null,"",{"$f":"IF(D51=\"w\",VLOOKUP(E51,Bezüge!$A$6:$B$52,2,FALSE),IF(D51=\"m\",VLOOKUP(E51,Bezüge!$D$6:$E$52,2,FALSE),\"\"))","v":""}]
[43,null,null,null,null,"",{"$f":"IF(D52=\"w\",VLOOKUP(E52,Bezüge!$A$6:$B$52,2,FALSE),IF(D52=\"m\",VLOOKUP(E52,Bezüge!$D$6:$E$52,2,FALSE),\"\"))","v":""}]
[44,null,null,null,null,"",{"$f":"IF(D53=\"w\",VLOOKUP(E53,Bezüge!$A$6:$B$52,2,FALSE),IF(D53=\"m\",VLOOKUP(E53,Bezüge!$D$6:$E$52,2,FALSE),\"\"))","v":""}]
[45,null,null,null,null,"",{"$f":"IF(D54=\"w\",VLOOKUP(E54,Bezüge!$A$6:$B$52,2,FALSE),IF(D54=\"m\",VLOOKUP(E54,Bezüge!$D$6:$E$52,2,FALSE),\"\"))","v":""}]
[46,null,null,null,null,"",{"$f":"IF(D55=\"w\",VLOOKUP(E55,Bezüge!$A$6:$B$52,2,FALSE),IF(D55=\"m\",VLOOKUP(E55,Bezüge!$D$6:$E$52,2,FALSE),\"\"))","v":""}]
[47,null,null,null,null,"",{"$f":"IF(D56=\"w\",VLOOKUP(E56,Bezüge!$A$6:$B$52,2,FALSE),IF(D56=\"m\",VLOOKUP(E56,Bezüge!$D$6:$E$52,2,FALSE),\"\"))","v":""}]
[48,null,null,null,null,"",{"$f":"IF(D57=\"w\",VLOOKUP(E57,Bezüge!$A$6:$B$52,2,FALSE),IF(D57=\"m\",VLOOKUP(E57,Bezüge!$D$6:$E$52,2,FALSE),\"\"))","v":""}]
[49,null,null,null,null,"",{"$f":"IF(D58=\"w\",VLOOKUP(E58,Bezüge!$A$6:$B$52,2,FALSE),IF(D58=\"m\",VLOOKUP(E58,Bezüge!$D$6:$E$52,2,FALSE),\"\"))","v":""}]
[50,null,null,null,null,"",{"$f":"IF(D59=\"w\",VLOOKUP(E59,Bezüge!$A$6:$B$52,2,FALSE),IF(D59=\"m\",VLOOKUP(E59,Bezüge!$D$6:$E$52,2,FALSE),\"\"))","v":""}]
[51,null,null,null,null,"",{"$f":"IF(D60=\"w\",VLOOKUP(E60,Bezüge!$A$6:$B$52,2,FALSE),IF(D60=\"m\",VLOOKUP(E60,Bezüge!$D$6:$E$52,2,FALSE),\"\"))","v":""}]
[52,null,null,null,null,"",{"$f":"IF(D61=\"w\",VLOOKUP(E61,Bezüge!$A$6:$B$52,2,FALSE),IF(D61=\"m\",VLOOKUP(E61,Bezüge!$D$6:$E$52,2,FALSE),\"\"))","v":""}]
[53,null,null,null,null,"",{"$f":"IF(D62=\"w\",VLOOKUP(E62,Bezüge!$A$6:$B$52,2,FALSE),IF(D62=\"m\",VLOOKUP(E62,Bezüge!$D$6:$E$52,2,FALSE),\"\"))","v":""}]
[54,null,null,null,null,"",{"$f":"IF(D63=\"w\",VLOOKUP(E63,Bezüge!$A$6:$B$52,2,FALSE),IF(D63=\"m\",VLOOKUP(E63,Bezüge!$D$6:$E$52,2,FALSE),\"\"))","v":""}]
[55,null,null,null,null,"",{"$f":"IF(D64=\"w\",VLOOKUP(E64,Bezüge!$A$6:$B$52,2,FALSE),IF(D64=\"m\",VLOOKUP(E64,Bezüge!$D$6:$E$52,2,FALSE),\"\"))","v":""}]
[56,null,null,null,null,"",{"$f":"IF(D65=\"w\",VLOOKUP(E65,Bezüge!$A$6:$B$52,2,FALSE),IF(D65=\"m\",VLOOKUP(E65,Bezüge!$D$6:$E$52,2,FALSE),\"\"))","v":""}]
[57,null,null,null,null,"",{"$f":"IF(D66=\"w\",VLOOKUP(E66,Bezüge!$A$6:$B$52,2,FALSE),IF(D66=\"m\",VLOOKUP(E66,Bezüge!$D$6:$E$52,2,FALSE),\"\"))","v":""}]
[58,null,null,null,null,"",{"$f":"IF(D67=\"w\",VLOOKUP(E67,Bezüge!$A$6:$B$52,2,FALSE),IF(D67=\"m\",VLOOKUP(E67,Bezüge!$D$6:$E$52,2,FALSE),\"\"))","v":""}]
[59,null,null,null,null,"",{"$f":"IF(D68=\"w\",VLOOKUP(E68,Bezüge!$A$6:$B$52,2,FALSE),IF(D68=\"m\",VLOOKUP(E68,Bezüge!$D$6:$E$52,2,FALSE),\"\"))","v":""}]
[60,null,null,null,null,"",{"$f":"IF(D69=\"w\",VLOOKUP(E69,Bezüge!$A$6:$B$52,2,FALSE),IF(D69=\"m\",VLOOKUP(E69,Bezüge!$D$6:$E$52,2,FALSE),\"\"))","v":""}]
[61,null,null,null,null,"",{"$f":"IF(D70=\"w\",VLOOKUP(E70,Bezüge!$A$6:$B$52,2,FALSE),IF(D70=\"m\",VLOOKUP(E70,Bezüge!$D$6:$E$52,2,FALSE),\"\"))","v":""}]
[62,null,null,null,null,"",{"$f":"IF(D71=\"w\",VLOOKUP(E71,Bezüge!$A$6:$B$52,2,FALSE),IF(D71=\"m\",VLOOKUP(E71,Bezüge!$D$6:$E$52,2,FALSE),\"\"))","v":""}]
[63,null,null,null,null,"",{"$f":"IF(D72=\"w\",VLOOKUP(E72,Bezüge!$A$6:$B$52,2,FALSE),IF(D72=\"m\",VLOOKUP(E72,Bezüge!$D$6:$E$52,2,FALSE),\"\"))","v":""}]
[64,null,null,null,null,"",{"$f":"IF(D73=\"w\",VLOOKUP(E73,Bezüge!$A$6:$B$52,2,FALSE),IF(D73=\"m\",VLOOKUP(E73,Bezüge!$D$6:$E$52,2,FALSE),\"\"))","v":""}]
[65,null,null,null,null,{"$f":"IF(OR($F$4=\"\",B74=\"\"),\"\",$F$4)","v":""},{"$f":"IF(D74=\"w\",VLOOKUP(E74,Bezüge!$A$6:$B$52,2,FALSE),IF(D74=\"m\",VLOOKUP(E74,Bezüge!$D$6:$E$52,2,FALSE),\"\"))","v":""}]
[66,null,null,null,null,"",{"$f":"IF(D75=\"w\",VLOOKUP(E75,Bezüge!$A$6:$B$52,2,FALSE),IF(D75=\"m\",VLOOKUP(E75,Bezüge!$D$6:$E$52,2,FALSE),\"\"))","v":""}]
[67,null,null,null,null,"",{"$f":"IF(D76=\"w\",VLOOKUP(E76,Bezüge!$A$6:$B$52,2,FALSE),IF(D76=\"m\",VLOOKUP(E76,Bezüge!$D$6:$E$52,2,FALSE),\"\"))","v":""}]
[68,null,null,null,null,"",{"$f":"IF(D77=\"w\",VLOOKUP(E77,Bezüge!$A$6:$B$52,2,FALSE),IF(D77=\"m\",VLOOKUP(E77,Bezüge!$D$6:$E$52,2,FALSE),\"\"))","v":""}]
[69,null,null,null,null,"",{"$f":"IF(D78=\"w\",VLOOKUP(E78,Bezüge!$A$6:$B$52,2,FALSE),IF(D78=\"m\",VLOOKUP(E78,Bezüge!$D$6:$E$52,2,FALSE),\"\"))","v":""}]
[70,null,null,null,null,"",{"$f":"IF(D79=\"w\",VLOOKUP(E79,Bezüge!$A$6:$B$52,2,FALSE),IF(D79=\"m\",VLOOKUP(E79,Bezüge!$D$6:$E$52,2,FALSE),\"\"))","v":""}]
[71,null,null,null,null,"",{"$f":"IF(D80=\"w\",VLOOKUP(E80,Bezüge!$A$6:$B$52,2,FALSE),IF(D80=\"m\",VLOOKUP(E80,Bezüge!$D$6:$E$52,2,FALSE),\"\"))","v":""}]
[72,null,null,null,null,"",{"$f":"IF(D81=\"w\",VLOOKUP(E81,Bezüge!$A$6:$B$52,2,FALSE),IF(D81=\"m\",VLOOKUP(E81,Bezüge!$D$6:$E$52,2,FALSE),\"\"))","v":""}]
[73,null,null,null,null,"",{"$f":"IF(D82=\"w\",VLOOKUP(E82,Bezüge!$A$6:$B$52,2,FALSE),IF(D82=\"m\",VLOOKUP(E82,Bezüge!$D$6:$E$52,2,FALSE),\"\"))","v":""}]
[74,null,null,null,null,"",{"$f":"IF(D83=\"w\",VLOOKUP(E83,Bezüge!$A$6:$B$52,2,FALSE),IF(D83=\"m\",VLOOKUP(E83,Bezüge!$D$6:$E$52,2,FALSE),\"\"))","v":""}]
[75,null,null,null,null,"",{"$f":"IF(D84=\"w\",VLOOKUP(E84,Bezüge!$A$6:$B$52,2,FALSE),IF(D84=\"m\",VLOOKUP(E84,Bezüge!$D$6:$E$52,2,FALSE),\"\"))","v":""}]
[76,null,null,null,null,"",{"$f":"IF(D85=\"w\",VLOOKUP(E85,Bezüge!$A$6:$B$52,2,FALSE),IF(D85=\"m\",VLOOKUP(E85,Bezüge!$D$6:$E$52,2,FALSE),\"\"))","v":""}]
[77,null,null,null,null,"",{"$f":"IF(D86=\"w\",VLOOKUP(E86,Bezüge!$A$6:$B$52,2,FALSE),IF(D86=\"m\",VLOOKUP(E86,Bezüge!$D$6:$E$52,2,FALSE),\"\"))","v":""}]
[78,null,null,null,null,"",{"$f":"IF(D87=\"w\",VLOOKUP(E87,Bezüge!$A$6:$B$52,2,FALSE),IF(D87=\"m\",VLOOKUP(E87,Bezüge!$D$6:$E$52,2,FALSE),\"\"))","v":""}]
[79,null,null,null,null,"",{"$f":"IF(D88=\"w\",VLOOKUP(E88,Bezüge!$A$6:$B$52,2,FALSE),IF(D88=\"m\",VLOOKUP(E88,Bezüge!$D$6:$E$52,2,FALSE),\"\"))","v":""}]
[80,null,null,null,null,"",{"$f":"IF(D89=\"w\",VLOOKUP(E89,Bezüge!$A$6:$B$52,2,FALSE),IF(D89=\"m\",VLOOKUP(E89,Bezüge!$D$6:$E$52,2,FALSE),\"\"))","v":""}]
[81,null,null,null,null,"",{"$f":"IF(D90=\"w\",VLOOKUP(E90,Bezüge!$A$6:$B$52,2,FALSE),IF(D90=\"m\",VLOOKUP(E90,Bezüge!$D$6:$E$52,2,FALSE),\"\"))","v":""}]
[82,null,null,null,null,"",{"$f":"IF(D91=\"w\",VLOOKUP(E91,Bezüge!$A$6:$B$52,2,FALSE),IF(D91=\"m\",VLOOKUP(E91,Bezüge!$D$6:$E$52,2,FALSE),\"\"))","v":""}]
[83,null,null,null,null,"",{"$f":"IF(D92=\"w\",VLOOKUP(E92,Bezüge!$A$6:$B$52,2,FALSE),IF(D92=\"m\",VLOOKUP(E92,Bezüge!$D$6:$E$52,2,FALSE),\"\"))","v":""}]
[84,null,null,null,null,"",{"$f":"IF(D93=\"w\",VLOOKUP(E93,Bezüge!$A$6:$B$52,2,FALSE),IF(D93=\"m\",VLOOKUP(E93,Bezüge!$D$6:$E$52,2,FALSE),\"\"))","v":""}]
[85,null,null,null,null,"",{"$f":"IF(D94=\"w\",VLOOKUP(E94,Bezüge!$A$6:$B$52,2,FALSE),IF(D94=\"m\",VLOOKUP(E94,Bezüge!$D$6:$E$52,2,FALSE),\"\"))","v":""}]
[86,null,null,null,null,"",{"$f":"IF(D95=\"w\",VLOOKUP(E95,Bezüge!$A$6:$B$52,2,FALSE),IF(D95=\"m\",VLOOKUP(E95,Bezüge!$D$6:$E$52,2,FALSE),\"\"))","v":""}]
[87,null,null,null,null,"",{"$f":"IF(D96=\"w\",VLOOKUP(E96,Bezüge!$A$6:$B$52,2,FALSE),IF(D96=\"m\",VLOOKUP(E96,Bezüge!$D$6:$E$52,2,FALSE),\"\"))","v":""}]
[88,null,null,null,null,"",{"$f":"IF(D97=\"w\",VLOOKUP(E97,Bezüge!$A$6:$B$52,2,FALSE),IF(D97=\"m\",VLOOKUP(E97,Bezüge!$D$6:$E$52,2,FALSE),\"\"))","v":""}]
[89,null,null,null,null,"",{"$f":"IF(D98=\"w\",VLOOKUP(E98,Bezüge!$A$6:$B$52,2,FALSE),IF(D98=\"m\",VLOOKUP(E98,Bezüge!$D$6:$E$52,2,FALSE),\"\"))","v":""}]
[90,null,null,null,null,"",{"$f":"IF(D99=\"w\",VLOOKUP(E99,Bezüge!$A$6:$B$52,2,FALSE),IF(D99=\"m\",VLOOKUP(E99,Bezüge!$D$6:$E$52,2,FALSE),\"\"))","v":""}]
[91,null,null,null,null,"",{"$f":"IF(D100=\"w\",VLOOKUP(E100,Bezüge!$A$6:$B$52,2,FALSE),IF(D100=\"m\",VLOOKUP(E100,Bezüge!$D$6:$E$52,2,FALSE),\"\"))","v":""}]
[92,null,null,null,null,"",{"$f":"IF(D101=\"w\",VLOOKUP(E101,Bezüge!$A$6:$B$52,2,FALSE),IF(D101=\"m\",VLOOKUP(E101,Bezüge!$D$6:$E$52,2,FALSE),\"\"))","v":""}]
[93,null,null,null,null,"",{"$f":"IF(D102=\"w\",VLOOKUP(E102,Bezüge!$A$6:$B$52,2,FALSE),IF(D102=\"m\",VLOOKUP(E102,Bezüge!$D$6:$E$52,2,FALSE),\"\"))","v":""}]
[94,null,null,null,null,"",{"$f":"IF(D103=\"w\",VLOOKUP(E103,Bezüge!$A$6:$B$52,2,FALSE),IF(D103=\"m\",VLOOKUP(E103,Bezüge!$D$6:$E$52,2,FALSE),\"\"))","v":""}]
[95,null,null,null,null,"",{"$f":"IF(D104=\"w\",VLOOKUP(E104,Bezüge!$A$6:$B$52,2,FALSE),IF(D104=\"m\",VLOOKUP(E104,Bezüge!$D$6:$E$52,2,FALSE),\"\"))","v":""}]
[96,null,null,null,null,"",{"$f":"IF(D105=\"w\",VLOOKUP(E105,Bezüge!$A$6:$B$52,2,FALSE),IF(D105=\"m\",VLOOKUP(E105,Bezüge!$D$6:$E$52,2,FALSE),\"\"))","v":""}]
[97,null,null,null,null,{"$f":"IF(OR($F$4=\"\",B106=\"\"),\"\",$F$4)","v":""},{"$f":"IF(D106=\"w\",VLOOKUP(E106,Bezüge!$A$6:$B$52,2,FALSE),IF(D106=\"m\",VLOOKUP(E106,Bezüge!$D$6:$E$52,2,FALSE),\"\"))","v":""}]
[98,null,null,null,null,"",{"$f":"IF(D107=\"w\",VLOOKUP(E107,Bezüge!$A$6:$B$52,2,FALSE),IF(D107=\"m\",VLOOKUP(E107,Bezüge!$D$6:$E$52,2,FALSE),\"\"))","v":""}]
[99,null,null,null,null,"",{"$f":"IF(D108=\"w\",VLOOKUP(E108,Bezüge!$A$6:$B$52,2,FALSE),IF(D108=\"m\",VLOOKUP(E108,Bezüge!$D$6:$E$52,2,FALSE),\"\"))","v":""}]
[100,null,null,null,null,"",{"$f":"IF(D109=\"w\",VLOOKUP(E109,Bezüge!$A$6:$B$52,2,FALSE),IF(D109=\"m\",VLOOKUP(E109,Bezüge!$D$6:$E$52,2,FALSE),\"\"))","v":""}]
[101,null,null,null,null,"",{"$f":"IF(D110=\"w\",VLOOKUP(E110,Bezüge!$A$6:$B$52,2,FALSE),IF(D110=\"m\",VLOOKUP(E110,Bezüge!$D$6:$E$52,2,FALSE),\"\"))","v":""}]
[102,null,null,null,null,"",{"$f":"IF(D111=\"w\",VLOOKUP(E111,Bezüge!$A$6:$B$52,2,FALSE),IF(D111=\"m\",VLOOKUP(E111,Bezüge!$D$6:$E$52,2,FALSE),\"\"))","v":""}]
[103,null,null,null,null,"",{"$f":"IF(D112=\"w\",VLOOKUP(E112,Bezüge!$A$6:$B$52,2,FALSE),IF(D112=\"m\",VLOOKUP(E112,Bezüge!$D$6:$E$52,2,FALSE),\"\"))","v":""}]
[104,null,null,null,null,"",{"$f":"IF(D113=\"w\",VLOOKUP(E113,Bezüge!$A$6:$B$52,2,FALSE),IF(D113=\"m\",VLOOKUP(E113,Bezüge!$D$6:$E$52,2,FALSE),\"\"))","v":""}]
[105,null,null,null,null,"",{"$f":"IF(D114=\"w\",VLOOKUP(E114,Bezüge!$A$6:$B$52,2,FALSE),IF(D114=\"m\",VLOOKUP(E114,Bezüge!$D$6:$E$52,2,FALSE),\"\"))","v":""}]
[106,null,null,null,null,"",{"$f":"IF(D115=\"w\",VLOOKUP(E115,Bezüge!$A$6:$B$52,2,FALSE),IF(D115=\"m\",VLOOKUP(E115,Bezüge!$D$6:$E$52,2,FALSE),\"\"))","v":""}]
[107,null,null,null,null,"",{"$f":"IF(D116=\"w\",VLOOKUP(E116,Bezüge!$A$6:$B$52,2,FALSE),IF(D116=\"m\",VLOOKUP(E116,Bezüge!$D$6:$E$52,2,FALSE),\"\"))","v":""}]
[108,null,null,null,null,"",{"$f":"IF(D117=\"w\",VLOOKUP(E117,Bezüge!$A$6:$B$52,2,FALSE),IF(D117=\"m\",VLOOKUP(E117,Bezüge!$D$6:$E$52,2,FALSE),\"\"))","v":""}]
[109,null,null,null,null,"",{"$f":"IF(D118=\"w\",VLOOKUP(E118,Bezüge!$A$6:$B$52,2,FALSE),IF(D118=\"m\",VLOOKUP(E118,Bezüge!$D$6:$E$52,2,FALSE),\"\"))","v":""}]
[110,null,null,null,null,"",{"$f":"IF(D119=\"w\",VLOOKUP(E119,Bezüge!$A$6:$B$52,2,FALSE),IF(D119=\"m\",VLOOKUP(E119,Bezüge!$D$6:$E$52,2,FALSE),\"\"))","v":""}]
[111,null,null,null,null,"",{"$f":"IF(D120=\"w\",VLOOKUP(E120,Bezüge!$A$6:$B$52,2,FALSE),IF(D120=\"m\",VLOOKUP(E120,Bezüge!$D$6:$E$52,2,FALSE),\"\"))","v":""}]
[112,null,null,null,null,"",{"$f":"IF(D121=\"w\",VLOOKUP(E121,Bezüge!$A$6:$B$52,2,FALSE),IF(D121=\"m\",VLOOKUP(E121,Bezüge!$D$6:$E$52,2,FALSE),\"\"))","v":""}]
[113,null,null,null,null,"",{"$f":"IF(D122=\"w\",VLOOKUP(E122,Bezüge!$A$6:$B$52,2,FALSE),IF(D122=\"m\",VLOOKUP(E122,Bezüge!$D$6:$E$52,2,FALSE),\"\"))","v":""}]
[114,null,null,null,null,"",{"$f":"IF(D123=\"w\",VLOOKUP(E123,Bezüge!$A$6:$B$52,2,FALSE),IF(D123=\"m\",VLOOKUP(E123,Bezüge!$D$6:$E$52,2,FALSE),\"\"))","v":""}]
[115,null,null,null,null,"",{"$f":"IF(D124=\"w\",VLOOKUP(E124,Bezüge!$A$6:$B$52,2,FALSE),IF(D124=\"m\",VLOOKUP(E124,Bezüge!$D$6:$E$52,2,FALSE),\"\"))","v":""}]
[116,null,null,null,null,"",{"$f":"IF(D125=\"w\",VLOOKUP(E125,Bezüge!$A$6:$B$52,2,FALSE),IF(D125=\"m\",VLOOKUP(E125,Bezüge!$D$6:$E$52,2,FALSE),\"\"))","v":""}]
[117,null,null,null,null,"",{"$f":"IF(D126=\"w\",VLOOKUP(E126,Bezüge!$A$6:$B$52,2,FALSE),IF(D126=\"m\",VLOOKUP(E126,Bezüge!$D$6:$E$52,2,FALSE),\"\"))","v":""}]
[118,null,null,null,null,"",{"$f":"IF(D127=\"w\",VLOOKUP(E127,Bezüge!$A$6:$B$52,2,FALSE),IF(D127=\"m\",VLOOKUP(E127,Bezüge!$D$6:$E$52,2,FALSE),\"\"))","v":""}]
[119,null,null,null,null,"",{"$f":"IF(D128=\"w\",VLOOKUP(E128,Bezüge!$A$6:$B$52,2,FALSE),IF(D128=\"m\",VLOOKUP(E128,Bezüge!$D$6:$E$52,2,FALSE),\"\"))","v":""}]
[120,null,null,null,null,"",{"$f":"IF(D129=\"w\",VLOOKUP(E129,Bezüge!$A$6:$B$52,2,FALSE),IF(D129=\"m\",VLOOKUP(E129,Bezüge!$D$6:$E$52,2,FALSE),\"\"))","v":""}]
[121,null,null,null,null,"",{"$f":"IF(D130=\"w\",VLOOKUP(E130,Bezüge!$A$6:$B$52,2,FALSE),IF(D130=\"m\",VLOOKUP(E130,Bezüge!$D$6:$E$52,2,FALSE),\"\"))","v":""}]
[122,null,null,null,null,"",{"$f":"IF(D131=\"w\",VLOOKUP(E131,Bezüge!$A$6:$B$52,2,FALSE),IF(D131=\"m\",VLOOKUP(E131,Bezüge!$D$6:$E$52,2,FALSE),\"\"))","v":""}]
[123,null,null,null,null,"",{"$f":"IF(D132=\"w\",VLOOKUP(E132,Bezüge!$A$6:$B$52,2,FALSE),IF(D132=\"m\",VLOOKUP(E132,Bezüge!$D$6:$E$52,2,FALSE),\"\"))","v":""}]
[124,null,null,null,null,"",{"$f":"IF(D133=\"w\",VLOOKUP(E133,Bezüge!$A$6:$B$52,2,FALSE),IF(D133=\"m\",VLOOKUP(E133,Bezüge!$D$6:$E$52,2,FALSE),\"\"))","v":""}]
[125,null,null,null,null,"",{"$f":"IF(D134=\"w\",VLOOKUP(E134,Bezüge!$A$6:$B$52,2,FALSE),IF(D134=\"m\",VLOOKUP(E134,Bezüge!$D$6:$E$52,2,FALSE),\"\"))","v":""}]
[126,null,null,null,null,"",{"$f":"IF(D135=\"w\",VLOOKUP(E135,Bezüge!$A$6:$B$52,2,FALSE),IF(D135=\"m\",VLOOKUP(E135,Bezüge!$D$6:$E$52,2,FALSE),\"\"))","v":""}]
[127,null,null,null,null,"",{"$f":"IF(D136=\"w\",VLOOKUP(E136,Bezüge!$A$6:$B$52,2,FALSE),IF(D136=\"m\",VLOOKUP(E136,Bezüge!$D$6:$E$52,2,FALSE),\"\"))","v":""}]
[128,null,null,null,null,"",{"$f":"IF(D137=\"w\",VLOOKUP(E137,Bezüge!$A$6:$B$52,2,FALSE),IF(D137=\"m\",VLOOKUP(E137,Bezüge!$D$6:$E$52,2,FALSE),\"\"))","v":""}]
[129,null,null,null,null,{"$f":"IF(OR($F$4=\"\",B138=\"\"),\"\",$F$4)","v":""},{"$f":"IF(D138=\"w\",VLOOKUP(E138,Bezüge!$A$6:$B$52,2,FALSE),IF(D138=\"m\",VLOOKUP(E138,Bezüge!$D$6:$E$52,2,FALSE),\"\"))","v":""}]
[130,null,null,null,null,"",{"$f":"IF(D139=\"w\",VLOOKUP(E139,Bezüge!$A$6:$B$52,2,FALSE),IF(D139=\"m\",VLOOKUP(E139,Bezüge!$D$6:$E$52,2,FALSE),\"\"))","v":""}]
[131,null,null,null,null,"",{"$f":"IF(D140=\"w\",VLOOKUP(E140,Bezüge!$A$6:$B$52,2,FALSE),IF(D140=\"m\",VLOOKUP(E140,Bezüge!$D$6:$E$52,2,FALSE),\"\"))","v":""}]
[132,null,null,null,null,"",{"$f":"IF(D141=\"w\",VLOOKUP(E141,Bezüge!$A$6:$B$52,2,FALSE),IF(D141=\"m\",VLOOKUP(E141,Bezüge!$D$6:$E$52,2,FALSE),\"\"))","v":""}]
[133,null,null,null,null,"",{"$f":"IF(D142=\"w\",VLOOKUP(E142,Bezüge!$A$6:$B$52,2,FALSE),IF(D142=\"m\",VLOOKUP(E142,Bezüge!$D$6:$E$52,2,FALSE),\"\"))","v":""}]
[134,null,null,null,null,"",{"$f":"IF(D143=\"w\",VLOOKUP(E143,Bezüge!$A$6:$B$52,2,FALSE),IF(D143=\"m\",VLOOKUP(E143,Bezüge!$D$6:$E$52,2,FALSE),\"\"))","v":""}]
[135,null,null,null,null,"",{"$f":"IF(D144=\"w\",VLOOKUP(E144,Bezüge!$A$6:$B$52,2,FALSE),IF(D144=\"m\",VLOOKUP(E144,Bezüge!$D$6:$E$52,2,FALSE),\"\"))","v":""}]
[136,null,null,null,null,"",{"$f":"IF(D145=\"w\",VLOOKUP(E145,Bezüge!$A$6:$B$52,2,FALSE),IF(D145=\"m\",VLOOKUP(E145,Bezüge!$D$6:$E$52,2,FALSE),\"\"))","v":""}]
[137,null,null,null,null,"",{"$f":"IF(D146=\"w\",VLOOKUP(E146,Bezüge!$A$6:$B$52,2,FALSE),IF(D146=\"m\",VLOOKUP(E146,Bezüge!$D$6:$E$52,2,FALSE),\"\"))","v":""}]
[138,null,null,null,null,"",{"$f":"IF(D147=\"w\",VLOOKUP(E147,Bezüge!$A$6:$B$52,2,FALSE),IF(D147=\"m\",VLOOKUP(E147,Bezüge!$D$6:$E$52,2,FALSE),\"\"))","v":""}]
[139,null,null,null,null,"",{"$f":"IF(D148=\"w\",VLOOKUP(E148,Bezüge!$A$6:$B$52,2,FALSE),IF(D148=\"m\",VLOOKUP(E148,Bezüge!$D$6:$E$52,2,FALSE),\"\"))","v":""}]
[140,null,null,null,null,"",{"$f":"IF(D149=\"w\",VLOOKUP(E149,Bezüge!$A$6:$B$52,2,FALSE),IF(D149=\"m\",VLOOKUP(E149,Bezüge!$D$6:$E$52,2,FALSE),\"\"))","v":""}]
[141,null,null,null,null,"",{"$f":"IF(D150=\"w\",VLOOKUP(E150,Bezüge!$A$6:$B$52,2,FALSE),IF(D150=\"m\",VLOOKUP(E150,Bezüge!$D$6:$E$52,2,FALSE),\"\"))","v":""}]
[142,null,null,null,null,"",{"$f":"IF(D151=\"w\",VLOOKUP(E151,Bezüge!$A$6:$B$52,2,FALSE),IF(D151=\"m\",VLOOKUP(E151,Bezüge!$D$6:$E$52,2,FALSE),\"\"))","v":""}]
[143,null,null,null,null,"",{"$f":"IF(D152=\"w\",VLOOKUP(E152,Bezüge!$A$6:$B$52,2,FALSE),IF(D152=\"m\",VLOOKUP(E152,Bezüge!$D$6:$E$52,2,FALSE),\"\"))","v":""}]
[144,null,null,null,null,"",{"$f":"IF(D153=\"w\",VLOOKUP(E153,Bezüge!$A$6:$B$52,2,FALSE),IF(D153=\"m\",VLOOKUP(E153,Bezüge!$D$6:$E$52,2,FALSE),\"\"))","v":""}]
[145,null,null,null,null,"",{"$f":"IF(D154=\"w\",VLOOKUP(E154,Bezüge!$A$6:$B$52,2,FALSE),IF(D154=\"m\",VLOOKUP(E154,Bezüge!$D$6:$E$52,2,FALSE),\"\"))","v":""}]
[146,null,null,null,null,"",{"$f":"IF(D155=\"w\",VLOOKUP(E155,Bezüge!$A$6:$B$52,2,FALSE),IF(D155=\"m\",VLOOKUP(E155,Bezüge!$D$6:$E$52,2,FALSE),\"\"))","v":""}]
[147,null,null,null,null,"",{"$f":"IF(D156=\"w\",VLOOKUP(E156,Bezüge!$A$6:$B$52,2,FALSE),IF(D156=\"m\",VLOOKUP(E156,Bezüge!$D$6:$E$52,2,FALSE),\"\"))","v":""}]
[148,null,null,null,null,"",{"$f":"IF(D157=\"w\",VLOOKUP(E157,Bezüge!$A$6:$B$52,2,FALSE),IF(D157=\"m\",VLOOKUP(E157,Bezüge!$D$6:$E$52,2,FALSE),\"\"))","v":""}]
[149,null,null,null,null,"",{"$f":"IF(D158=\"w\",VLOOKUP(E158,Bezüge!$A$6:$B$52,2,FALSE),IF(D158=\"m\",VLOOKUP(E158,Bezüge!$D$6:$E$52,2,FALSE),\"\"))","v":""}]
[150,null,null,null,null,"",{"$f":"IF(D159=\"w\",VLOOKUP(E159,Bezüge!$A$6:$B$52,2,FALSE),IF(D159=\"m\",VLOOKUP(E159,Bezüge!$D$6:$E$52,2,FALSE),\"\"))","v":""}]
[151,null,null,null,null,"",{"$f":"IF(D160=\"w\",VLOOKUP(E160,Bezüge!$A$6:$B$52,2,FALSE),IF(D160=\"m\",VLOOKUP(E160,Bezüge!$D$6:$E$52,2,FALSE),\"\"))","v":""}]
[152,null,null,null,null,"",{"$f":"IF(D161=\"w\",VLOOKUP(E161,Bezüge!$A$6:$B$52,2,FALSE),IF(D161=\"m\",VLOOKUP(E161,Bezüge!$D$6:$E$52,2,FALSE),\"\"))","v":""}]
[153,null,null,null,null,"",{"$f":"IF(D162=\"w\",VLOOKUP(E162,Bezüge!$A$6:$B$52,2,FALSE),IF(D162=\"m\",VLOOKUP(E162,Bezüge!$D$6:$E$52,2,FALSE),\"\"))","v":""}]
[154,null,null,null,null,"",{"$f":"IF(D163=\"w\",VLOOKUP(E163,Bezüge!$A$6:$B$52,2,FALSE),IF(D163=\"m\",VLOOKUP(E163,Bezüge!$D$6:$E$52,2,FALSE),\"\"))","v":""}]
[155,null,null,null,null,"",{"$f":"IF(D164=\"w\",VLOOKUP(E164,Bezüge!$A$6:$B$52,2,FALSE),IF(D164=\"m\",VLOOKUP(E164,Bezüge!$D$6:$E$52,2,FALSE),\"\"))","v":""}]
[156,null,null,null,null,"",{"$f":"IF(D165=\"w\",VLOOKUP(E165,Bezüge!$A$6:$B$52,2,FALSE),IF(D165=\"m\",VLOOKUP(E165,Bezüge!$D$6:$E$52,2,FALSE),\"\"))","v":""}]
[157,null,null,null,null,"",{"$f":"IF(D166=\"w\",VLOOKUP(E166,Bezüge!$A$6:$B$52,2,FALSE),IF(D166=\"m\",VLOOKUP(E166,Bezüge!$D$6:$E$52,2,FALSE),\"\"))","v":""}]
[158,null,null,null,null,"",{"$f":"IF(D167=\"w\",VLOOKUP(E167,Bezüge!$A$6:$B$52,2,FALSE),IF(D167=\"m\",VLOOKUP(E167,Bezüge!$D$6:$E$52,2,FALSE),\"\"))","v":""}]
[159,null,null,null,null,"",{"$f":"IF(D168=\"w\",VLOOKUP(E168,Bezüge!$A$6:$B$52,2,FALSE),IF(D168=\"m\",VLOOKUP(E168,Bezüge!$D$6:$E$52,2,FALSE),\"\"))","v":""}]
[160,null,null,null,null,"",{"$f":"IF(D169=\"w\",VLOOKUP(E169,Bezüge!$A$6:$B$52,2,FALSE),IF(D169=\"m\",VLOOKUP(E169,Bezüge!$D$6:$E$52,2,FALSE),\"\"))","v":""}]
[161,null,null,null,null,{"$f":"IF(OR($F$4=\"\",B170=\"\"),\"\",$F$4)","v":""},{"$f":"IF(D170=\"w\",VLOOKUP(E170,Bezüge!$A$6:$B$52,2,FALSE),IF(D170=\"m\",VLOOKUP(E170,Bezüge!$D$6:$E$52,2,FALSE),\"\"))","v":""}]
[162,null,null,null,null,"",{"$f":"IF(D171=\"w\",VLOOKUP(E171,Bezüge!$A$6:$B$52,2,FALSE),IF(D171=\"m\",VLOOKUP(E171,Bezüge!$D$6:$E$52,2,FALSE),\"\"))","v":""}]
[163,null,null,null,null,"",{"$f":"IF(D172=\"w\",VLOOKUP(E172,Bezüge!$A$6:$B$52,2,FALSE),IF(D172=\"m\",VLOOKUP(E172,Bezüge!$D$6:$E$52,2,FALSE),\"\"))","v":""}]
[164,null,null,null,null,"",{"$f":"IF(D173=\"w\",VLOOKUP(E173,Bezüge!$A$6:$B$52,2,FALSE),IF(D173=\"m\",VLOOKUP(E173,Bezüge!$D$6:$E$52,2,FALSE),\"\"))","v":""}]
[165,null,null,null,null,"",{"$f":"IF(D174=\"w\",VLOOKUP(E174,Bezüge!$A$6:$B$52,2,FALSE),IF(D174=\"m\",VLOOKUP(E174,Bezüge!$D$6:$E$52,2,FALSE),\"\"))","v":""}]
[166,null,null,null,null,"",{"$f":"IF(D175=\"w\",VLOOKUP(E175,Bezüge!$A$6:$B$52,2,FALSE),IF(D175=\"m\",VLOOKUP(E175,Bezüge!$D$6:$E$52,2,FALSE),\"\"))","v":""}]
[167,null,null,null,null,"",{"$f":"IF(D176=\"w\",VLOOKUP(E176,Bezüge!$A$6:$B$52,2,FALSE),IF(D176=\"m\",VLOOKUP(E176,Bezüge!$D$6:$E$52,2,FALSE),\"\"))","v":""}]
[168,null,null,null,null,"",{"$f":"IF(D177=\"w\",VLOOKUP(E177,Bezüge!$A$6:$B$52,2,FALSE),IF(D177=\"m\",VLOOKUP(E177,Bezüge!$D$6:$E$52,2,FALSE),\"\"))","v":""}]
[169,null,null,null,null,"",{"$f":"IF(D178=\"w\",VLOOKUP(E178,Bezüge!$A$6:$B$52,2,FALSE),IF(D178=\"m\",VLOOKUP(E178,Bezüge!$D$6:$E$52,2,FALSE),\"\"))","v":""}]
[170,null,null,null,null,"",{"$f":"IF(D179=\"w\",VLOOKUP(E179,Bezüge!$A$6:$B$52,2,FALSE),IF(D179=\"m\",VLOOKUP(E179,Bezüge!$D$6:$E$52,2,FALSE),\"\"))","v":""}]
[171,null,null,null,null,"",{"$f":"IF(D180=\"w\",VLOOKUP(E180,Bezüge!$A$6:$B$52,2,FALSE),IF(D180=\"m\",VLOOKUP(E180,Bezüge!$D$6:$E$52,2,FALSE),\"\"))","v":""}]
[172,null,null,null,null,"",{"$f":"IF(D181=\"w\",VLOOKUP(E181,Bezüge!$A$6:$B$52,2,FALSE),IF(D181=\"m\",VLOOKUP(E181,Bezüge!$D$6:$E$52,2,FALSE),\"\"))","v":""}]
[173,null,null,null,null,"",{"$f":"IF(D182=\"w\",VLOOKUP(E182,Bezüge!$A$6:$B$52,2,FALSE),IF(D182=\"m\",VLOOKUP(E182,Bezüge!$D$6:$E$52,2,FALSE),\"\"))","v":""}]
[174,null,null,null,null,"",{"$f":"IF(D183=\"w\",VLOOKUP(E183,Bezüge!$A$6:$B$52,2,FALSE),IF(D183=\"m\",VLOOKUP(E183,Bezüge!$D$6:$E$52,2,FALSE),\"\"))","v":""}]
[175,null,null,null,null,"",{"$f":"IF(D184=\"w\",VLOOKUP(E184,Bezüge!$A$6:$B$52,2,FALSE),IF(D184=\"m\",VLOOKUP(E184,Bezüge!$D$6:$E$52,2,FALSE),\"\"))","v":""}]
[176,null,null,null,null,"",{"$f":"IF(D185=\"w\",VLOOKUP(E185,Bezüge!$A$6:$B$52,2,FALSE),IF(D185=\"m\",VLOOKUP(E185,Bezüge!$D$6:$E$52,2,FALSE),\"\"))","v":""}]
[177,null,null,null,null,"",{"$f":"IF(D186=\"w\",VLOOKUP(E186,Bezüge!$A$6:$B$52,2,FALSE),IF(D186=\"m\",VLOOKUP(E186,Bezüge!$D$6:$E$52,2,FALSE),\"\"))","v":""}]
[178,null,null,null,null,"",{"$f":"IF(D187=\"w\",VLOOKUP(E187,Bezüge!$A$6:$B$52,2,FALSE),IF(D187=\"m\",VLOOKUP(E187,Bezüge!$D$6:$E$52,2,FALSE),\"\"))","v":""}]
[179,null,null,null,null,"",{"$f":"IF(D188=\"w\",VLOOKUP(E188,Bezüge!$A$6:$B$52,2,FALSE),IF(D188=\"m\",VLOOKUP(E188,Bezüge!$D$6:$E$52,2,FALSE),\"\"))","v":""}]
[180,null,null,null,null,"",{"$f":"IF(D189=\"w\",VLOOKUP(E189,Bezüge!$A$6:$B$52,2,FALSE),IF(D189=\"m\",VLOOKUP(E189,Bezüge!$D$6:$E$52,2,FALSE),\"\"))","v":""}]
[181,null,null,null,null,"",{"$f":"IF(D190=\"w\",VLOOKUP(E190,Bezüge!$A$6:$B$52,2,FALSE),IF(D190=\"m\",VLOOKUP(E190,Bezüge!$D$6:$E$52,2,FALSE),\"\"))","v":""}]
[182,null,null,null,null,"",{"$f":"IF(D191=\"w\",VLOOKUP(E191,Bezüge!$A$6:$B$52,2,FALSE),IF(D191=\"m\",VLOOKUP(E191,Bezüge!$D$6:$E$52,2,FALSE),\"\"))","v":""}]
[183,null,null,null,null,"",{"$f":"IF(D192=\"w\",VLOOKUP(E192,Bezüge!$A$6:$B$52,2,FALSE),IF(D192=\"m\",VLOOKUP(E192,Bezüge!$D$6:$E$52,2,FALSE),\"\"))","v":""}]
[184,null,null,null,null,"",{"$f":"IF(D193=\"w\",VLOOKUP(E193,Bezüge!$A$6:$B$52,2,FALSE),IF(D193=\"m\",VLOOKUP(E193,Bezüge!$D$6:$E$52,2,FALSE),\"\"))","v":""}]
[185,null,null,null,null,"",{"$f":"IF(D194=\"w\",VLOOKUP(E194,Bezüge!$A$6:$B$52,2,FALSE),IF(D194=\"m\",VLOOKUP(E194,Bezüge!$D$6:$E$52,2,FALSE),\"\"))","v":""}]
[186,null,null,null,null,"",{"$f":"IF(D195=\"w\",VLOOKUP(E195,Bezüge!$A$6:$B$52,2,FALSE),IF(D195=\"m\",VLOOKUP(E195,Bezüge!$D$6:$E$52,2,FALSE),\"\"))","v":""}]
[187,null,null,null,null,"",{"$f":"IF(D196=\"w\",VLOOKUP(E196,Bezüge!$A$6:$B$52,2,FALSE),IF(D196=\"m\",VLOOKUP(E196,Bezüge!$D$6:$E$52,2,FALSE),\"\"))","v":""}]
[188,null,null,null,null,"",{"$f":"IF(D197=\"w\",VLOOKUP(E197,Bezüge!$A$6:$B$52,2,FALSE),IF(D197=\"m\",VLOOKUP(E197,Bezüge!$D$6:$E$52,2,FALSE),\"\"))","v":""}]
[189,null,null,null,null,"",{"$f":"IF(D198=\"w\",VLOOKUP(E198,Bezüge!$A$6:$B$52,2,FALSE),IF(D198=\"m\",VLOOKUP(E198,Bezüge!$D$6:$E$52,2,FALSE),\"\"))","v":""}]
[190,null,null,null,null,"",{"$f":"IF(D199=\"w\",VLOOKUP(E199,Bezüge!$A$6:$B$52,2,FALSE),IF(D199=\"m\",VLOOKUP(E199,Bezüge!$D$6:$E$52,2,FALSE),\"\"))","v":""}]
[191,null,null,null,null,"",{"$f":"IF(D200=\"w\",VLOOKUP(E200,Bezüge!$A$6:$B$52,2,FALSE),IF(D200=\"m\",VLOOKUP(E200,Bezüge!$D$6:$E$52,2,FALSE),\"\"))","v":""}]
[192,null,null,null,null,"",{"$f":"IF(D201=\"w\",VLOOKUP(E201,Bezüge!$A$6:$B$52,2,FALSE),IF(D201=\"m\",VLOOKUP(E201,Bezüge!$D$6:$E$52,2,FALSE),\"\"))","v":""}]
[193,null,null,null,null,"",{"$f":"IF(D202=\"w\",VLOOKUP(E202,Bezüge!$A$6:$B$52,2,FALSE),IF(D202=\"m\",VLOOKUP(E202,Bezüge!$D$6:$E$52,2,FALSE),\"\"))","v":""}]

{"sheet":"Messen_Beweglichkeit","index":2,"n_rows":202,"n_cols":58,"rows_kept":202,"cut":false,"hidden":false,"merged":[[6,13,6,34],[6,36,6,57]]}
[]
[null,"SKILANGLAUF - DEUTSCHLAND - ATHLETIK - CHALLENGE"]
[]
[null,"Ort:",{"$f":"Athletenliste!C4","v":"Leipzig"},null,"Datum:",{"$f":"Athletenliste!F4","v":"2012-05-18"}]
[]
[null,"Messen und Beweglichkeit"]
[null,"Name","Vorname","Geschlecht","Jahrgang","Testdatum","AK","LV","Gewicht","Größe","Beweglichkeit","Rang in AK",null,"männlich",null,null,null,null,null,null,null,null,null,null,null,null,null,null,null,null,null,null,null,null,null,null,"Weiblich"]
[null,null,null,null,null,null,null,null,"[00,0 kg]","[0 cm]","[0 cm]",null,null,"U06  ","Ra","U07 ","Ra","U08 ","Ra","U09 ","Ra","U10","Ra","U11 ","Ra","U12 ","Ra","U13","Ra","U14 ","Ra","U15 ","Ra","U16 ","Ra",null,"U06  ","Ra","U07 ","Ra","U08 ","Ra","U09 ","Ra","U10","Ra","U11 ","Ra","U12 ","Ra","U13 ","Ra","U14 ","Ra","U15 ","Ra","U16 ","Ra"]
[]
[null,{"$f":"IF(Athletenliste!B10=\"\",\"\",Athletenliste!B10)","v":""},{"$f":"IF(Athletenliste!C10=\"\",\"\",Athletenliste!C10)","v":""},{"$f":"IF(Athletenliste!D10=\"\",\"\",Athletenliste!D10)","v":""},{"$f":"IF(Athletenliste!E10=\"\",\"\",Athletenliste!E10)","v":""},{"$f":"IF(Athletenliste!F10=\"\",\"\",Athletenliste!F10)","v":""},{"$f":"IF(Athletenliste!G10=\"\",\"\",Athletenliste!G10)","v":""},{"$f":"IF(Athletenliste!H10=\"\",\"\",Athletenliste!H10)","v":""},null,null,null,{"$f":"IF(B10=\"\",\"\",IF(D10=\"m\",INDIRECT(VLOOKUP(G10,Bezüge!$E$6:$F$16,2,FALSE)&ROW(G10)),INDIRECT(VLOOKUP(G10,Bezüge!$B$6:$C$16,2,FALSE)&ROW(G10))))","v":""},null,{"$f":"IF(AND(D10=\"m\",G10=\"U06\",K10<>\"\"),K10,\"\")","v":""},{"$f":"IF(OR(K10=\"\",N10=\"\"),\"\",_xlfn.RANK.EQ(N10,N$10:N$200))","v":""},{"$f":"IF(AND(D10=\"m\",G10=\"U07\",K10<>\"\"),K10,\"\")","v":""},{"$f":"IF(OR(K10=\"\",P10=\"\"),\"\",_xlfn.RANK.EQ(P10,P$10:P$200))","v":""},{"$f":"IF(AND(D10=\"m\",G10=\"U08\",K10<>\"\"),K10,\"\")","v":""},{"$f":"IF(OR(K10=\"\",R10=\"\"),\"\",_xlfn.RANK.EQ(R10,R$10:R$200))","v":""},{"$f":"IF(AND(D10=\"m\",G10=\"U09\",K10<>\"\"),K10,\"\")","v":""},{"$f":"IF(OR(K10=\"\",T10=\"\"),\"\",_xlfn.RANK.EQ(T10,T$10:T$200))","v":""},{"$f":"IF(AND(D10=\"m\",G10=\"U10\",K10<>\"\"),K10,\"\")","v":""},{"$f":"IF(OR(K10=\"\",V10=\"\"),\"\",_xlfn.RANK.EQ(V10,V$10:V$200))","v":""},{"$f":"IF(AND(D10=\"m\",G10=\"U11\",K10<>\"\"),K10,\"\")","v":""},{"$f":"IF(OR(K10=\"\",X10=\"\"),\"\",_xlfn.RANK.EQ(X10,X$10:X$200))","v":""},{"$f":"IF(AND(D10=\"m\",G10=\"U12\",K10<>\"\"),K10,\"\")","v":""},{"$f":"IF(OR(K10=\"\",Z10=\"\"),\"\",_xlfn.RANK.EQ(Z10,Z$10:Z$200))","v":""},{"$f":"IF(AND(D10=\"m\",G10=\"U13\",K10<>\"\"),K10,\"\")","v":""},{"$f":"IF(OR(K10=\"\",AB10=\"\"),\"\",_xlfn.RANK.EQ(AB10,AB$10:AB$200))","v":""},{"$f":"IF(AND(D10=\"m\",G10=\"U14\",K10<>\"\"),K10,\"\")","v":""},{"$f":"IF(OR(K10=\"\",AD10=\"\"),\"\",_xlfn.RANK.EQ(AD10,AD$10:AD$200))","v":""},{"$f":"IF(AND(D10=\"m\",G10=\"U15\",K10<>\"\"),K10,\"\")","v":""},{"$f":"IF(OR(K10=\"\",AF10=\"\"),\"\",_xlfn.RANK.EQ(AF10,AF$10:AF$200))","v":""},{"$f":"IF(AND(D10=\"m\",G10=\"U16\",K10<>\"\"),K10,\"\")","v":""},{"$f":"IF(OR(K10=\"\",AH10=\"\"),\"\",_xlfn.RANK.EQ(AH10,AH$10:AH$200))","v":""},null,{"$f":"IF(AND(D10=\"w\",G10=\"U06\",K10<>\"\"),K10,\"\")","v":""},{"$f":"IF(OR(K10=\"\",AI10=\"\"),\"\",_xlfn.RANK.EQ(AI10,AI$10:AI$200))","v":""},{"$f":"IF(AND(D10=\"w\",G10=\"U07\",K10<>\"\"),K10,\"\")","v":""},{"$f":"IF(OR(K10=\"\",AM10=\"\"),\"\",_xlfn.RANK.EQ(AM10,AM$10:AM$20))","v":""},{"$f":"IF(AND(D10=\"w\",G10=\"U08\",K10<>\"\"),K10,\"\")","v":""},{"$f":"IF(OR(K10=\"\",AO10=\"\"),\"\",_xlfn.RANK.EQ(AO10,AO$10:AO$200,0))","v":""},{"$f":"IF(AND(D10=\"w\",G10=\"U09\",K10<>\"\"),K10,\"\")","v":""},{"$f":"IF(OR(K10=\"\",AQ10=\"\"),\"\",_xlfn.RANK.EQ(AQ10,AQ$10:AQ$200))","v":""},{"$f":"IF(AND(D10=\"w\",G10=\"U10\",K10<>\"\"),K10,\"\")","v":""},{"$f":"IF(OR(K10=\"\",AS10=\"\"),\"\",_xlfn.RANK.EQ(AS10,AS$10:AS$200))","v":""},{"$f":"IF(AND(D10=\"w\",G10=\"U11\",K10<>\"\"),K10,\"\")","v":""},{"$f":"IF(OR(K10=\"\",AU10=\"\"),\"\",_xlfn.RANK.EQ(AU10,AU$10:AU$200))","v":""},{"$f":"IF(AND(D10=\"w\",G10=\"U12\",K10<>\"\"),K10,\"\")","v":""},{"$f":"IF(OR(K10=\"\",AW10=\"\"),\"\",_xlfn.RANK.EQ(AW10,AW$10:AW$200))","v":""},{"$f":"IF(AND(D10=\"w\",G10=\"U13\",K10<>\"\"),K10,\"\")","v":""},{"$f":"IF(OR(K10=\"\",AY10=\"\"),\"\",_xlfn.RANK.EQ(AY10,AY$10:AY$200))","v":""},{"$f":"IF(AND(D10=\"w\",G10=\"U14\",K10<>\"\"),K10,\"\")","v":""},{"$f":"IF(OR(K10=\"\",BA10=\"\"),\"\",_xlfn.RANK.EQ(BA10,BA$10:BA$200))","v":""},{"$f":"IF(AND(D10=\"w\",G10=\"U15\",K10<>\"\"),K10,\"\")","v":""},{"$f":"IF(OR(K10=\"\",BC10=\"\"),\"\",_xlfn.RANK.EQ(BC10,BC$10:BC$200))","v":""},{"$f":"IF(AND(D10=\"w\",G10=\"U16\",K10<>\"\"),K10,\"\")","v":""},{"$f":"IF(OR(K10=\"\",BE10=\"\"),\"\",_xlfn.RANK.EQ(BE10,BE$10:BE$200))","v":""}]
[null,{"$f":"IF(Athletenliste!B11=\"\",\"\",Athletenliste!B11)","v":""},{"$f":"IF(Athletenliste!C11=\"\",\"\",Athletenliste!C11)","v":""},{"$f":"IF(Athletenliste!D11=\"\",\"\",Athletenliste!D11)","v":""},{"$f":"IF(Athletenliste!E11=\"\",\"\",Athletenliste!E11)","v":""},{"$f":"IF(Athletenliste!F11=\"\",\"\",Athletenliste!F11)","v":""},{"$f":"IF(Athletenliste!G11=\"\",\"\",Athletenliste!G11)","v":""},{"$f":"IF(Athletenliste!H11=\"\",\"\",Athletenliste!H11)","v":""},null,null,null,{"$f":"IF(B11=\"\",\"\",IF(D11=\"m\",INDIRECT(VLOOKUP(G11,Bezüge!$E$6:$F$16,2,FALSE)&ROW(G11)),INDIRECT(VLOOKUP(G11,Bezüge!$B$6:$C$16,2,FALSE)&ROW(G11))))","v":""},null,{"$f":"IF(AND(D11=\"m\",G11=\"U06\",K11<>\"\"),K11,\"\")","v":""},{"$f":"IF(OR(K11=\"\",N11=\"\"),\"\",_xlfn.RANK.EQ(N11,N$10:N$200))","v":""},{"$f":"IF(AND(D11=\"m\",G11=\"U07\",K11<>\"\"),K11,\"\")","v":""},{"$f":"IF(OR(K11=\"\",P11=\"\"),\"\",_xlfn.RANK.EQ(P11,P$10:P$200))","v":""},{"$f":"IF(AND(D11=\"m\",G11=\"U08\",K11<>\"\"),K11,\"\")","v":""},{"$f":"IF(OR(K11=\"\",R11=\"\"),\"\",_xlfn.RANK.EQ(R11,R$10:R$200))","v":""},{"$f":"IF(AND(D11=\"m\",G11=\"U09\",K11<>\"\"),K11,\"\")","v":""},{"$f":"IF(OR(K11=\"\",T11=\"\"),\"\",_xlfn.RANK.EQ(T11,T$10:T$200))","v":""},{"$f":"IF(AND(D11=\"m\",G11=\"U10\",K11<>\"\"),K11,\"\")","v":""},{"$f":"IF(OR(K11=\"\",V11=\"\"),\"\",_xlfn.RANK.EQ(V11,V$10:V$200))","v":""},{"$f":"IF(AND(D11=\"m\",G11=\"U11\",K11<>\"\"),K11,\"\")","v":""},{"$f":"IF(OR(K11=\"\",X11=\"\"),\"\",_xlfn.RANK.EQ(X11,X$10:X$200))","v":""},{"$f":"IF(AND(D11=\"m\",G11=\"U12\",K11<>\"\"),K11,\"\")","v":""},{"$f":"IF(OR(K11=\"\",Z11=\"\"),\"\",_xlfn.RANK.EQ(Z11,Z$10:Z$200))","v":""},{"$f":"IF(AND(D11=\"m\",G11=\"U13\",K11<>\"\"),K11,\"\")","v":""},{"$f":"IF(OR(K11=\"\",AB11=\"\"),\"\",_xlfn.RANK.EQ(AB11,AB$10:AB$200))","v":""},{"$f":"IF(AND(D11=\"m\",G11=\"U14\",K11<>\"\"),K11,\"\")","v":""},{"$f":"IF(OR(K11=\"\",AD11=\"\"),\"\",_xlfn.RANK.EQ(AD11,AD$10:AD$200))","v":""},{"$f":"IF(AND(D11=\"m\",G11=\"U15\",K11<>\"\"),K11,\"\")","v":""},{"$f":"IF(OR(K11=\"\",AF11=\"\"),\"\",_xlfn.RANK.EQ(AF11,AF$10:AF$200))","v":""},{"$f":"IF(AND(D11=\"m\",G11=\"U16\",K11<>\"\"),K11,\"\")","v":""},{"$f":"IF(OR(K11=\"\",AH11=\"\"),\"\",_xlfn.RANK.EQ(AH11,AH$10:AH$200))","v":""},null,{"$f":"IF(AND(D11=\"w\",G11=\"U06\",K11<>\"\"),K11,\"\")","v":""},{"$f":"IF(OR(K11=\"\",AI11=\"\"),\"\",_xlfn.RANK.EQ(AI11,AI$10:AI$200))","v":""},{"$f":"IF(AND(D11=\"w\",G11=\"U07\",K11<>\"\"),K11,\"\")","v":""},{"$f":"IF(OR(K11=\"\",AM11=\"\"),\"\",_xlfn.RANK.EQ(AM11,AM$10:AM$20))","v":""},{"$f":"IF(AND(D11=\"w\",G11=\"U08\",K11<>\"\"),K11,\"\")","v":""},{"$f":"IF(OR(K11=\"\",AO11=\"\"),\"\",_xlfn.RANK.EQ(AO11,AO$10:AO$200,0))","v":""},{"$f":"IF(AND(D11=\"w\",G11=\"U09\",K11<>\"\"),K11,\"\")","v":""},{"$f":"IF(OR(K11=\"\",AQ11=\"\"),\"\",_xlfn.RANK.EQ(AQ11,AQ$10:AQ$200))","v":""},{"$f":"IF(AND(D11=\"w\",G11=\"U10\",K11<>\"\"),K11,\"\")","v":""},{"$f":"IF(OR(K11=\"\",AS11=\"\"),\"\",_xlfn.RANK.EQ(AS11,AS$10:AS$200))","v":""},{"$f":"IF(AND(D11=\"w\",G11=\"U11\",K11<>\"\"),K11,\"\")","v":""},{"$f":"IF(OR(K11=\"\",AU11=\"\"),\"\",_xlfn.RANK.EQ(AU11,AU$10:AU$200))","v":""},{"$f":"IF(AND(D11=\"w\",G11=\"U12\",K11<>\"\"),K11,\"\")","v":""},{"$f":"IF(OR(K11=\"\",AW11=\"\"),\"\",_xlfn.RANK.EQ(AW11,AW$10:AW$200))","v":""},{"$f":"IF(AND(D11=\"w\",G11=\"U13\",K11<>\"\"),K11,\"\")","v":""},{"$f":"IF(OR(K11=\"\",AY11=\"\"),\"\",_xlfn.RANK.EQ(AY11,AY$10:AY$200))","v":""},{"$f":"IF(AND(D11=\"w\",G11=\"U14\",K11<>\"\"),K11,\"\")","v":""},{"$f":"IF(OR(K11=\"\",BA11=\"\"),\"\",_xlfn.RANK.EQ(BA11,BA$10:BA$200))","v":""},{"$f":"IF(AND(D11=\"w\",G11=\"U15\",K11<>\"\"),K11,\"\")","v":""},{"$f":"IF(OR(K11=\"\",BC11=\"\"),\"\",_xlfn.RANK.EQ(BC11,BC$10:BC$200))","v":""},{"$f":"IF(AND(D11=\"w\",G11=\"U16\",K11<>\"\"),K11,\"\")","v":""},{"$f":"IF(OR(K11=\"\",BE11=\"\"),\"\",_xlfn.RANK.EQ(BE11,BE$10:BE$200))","v":""}]
[null,{"$f":"IF(Athletenliste!B12=\"\",\"\",Athletenliste!B12)","v":""},{"$f":"IF(Athletenliste!C12=\"\",\"\",Athletenliste!C12)","v":""},{"$f":"IF(Athletenliste!D12=\"\",\"\",Athletenliste!D12)","v":""},{"$f":"IF(Athletenliste!E12=\"\",\"\",Athletenliste!E12)","v":""},{"$f":"IF(Athletenliste!F12=\"\",\"\",Athletenliste!F12)","v":""},{"$f":"IF(Athletenliste!G12=\"\",\"\",Athletenliste!G12)","v":""},{"$f":"IF(Athletenliste!H12=\"\",\"\",Athletenliste!H12)","v":""},null,null,null,{"$f":"IF(B12=\"\",\"\",IF(D12=\"m\",INDIRECT(VLOOKUP(G12,Bezüge!$E$6:$F$16,2,FALSE)&ROW(G12)),INDIRECT(VLOOKUP(G12,Bezüge!$B$6:$C$16,2,FALSE)&ROW(G12))))","v":""},null,"","","","","","","","","","","","","","","","","","","","","","",null,"","","","","","","","","","","","","","","","","","","","","",""]
[null,{"$f":"IF(Athletenliste!B13=\"\",\"\",Athletenliste!B13)","v":""},{"$f":"IF(Athletenliste!C13=\"\",\"\",Athletenliste!C13)","v":""},{"$f":"IF(Athletenliste!D13=\"\",\"\",Athletenliste!D13)","v":""},{"$f":"IF(Athletenliste!E13=\"\",\"\",Athletenliste!E13)","v":""},{"$f":"IF(Athletenliste!F13=\"\",\"\",Athletenliste!F13)","v":""},{"$f":"IF(Athletenliste!G13=\"\",\"\",Athletenliste!G13)","v":""},{"$f":"IF(Athletenliste!H13=\"\",\"\",Athletenliste!H13)","v":""},null,null,null,{"$f":"IF(B13=\"\",\"\",IF(D13=\"m\",INDIRECT(VLOOKUP(G13,Bezüge!$E$6:$F$16,2,FALSE)&ROW(G13)),INDIRECT(VLOOKUP(G13,Bezüge!$B$6:$C$16,2,FALSE)&ROW(G13))))","v":""},null,"","","","","","","","","","","","","","","","","","","","","","",null,"","","","","","","","","","","","","","","","","","","","","",""]
[null,{"$f":"IF(Athletenliste!B14=\"\",\"\",Athletenliste!B14)","v":""},{"$f":"IF(Athletenliste!C14=\"\",\"\",Athletenliste!C14)","v":""},{"$f":"IF(Athletenliste!D14=\"\",\"\",Athletenliste!D14)","v":""},{"$f":"IF(Athletenliste!E14=\"\",\"\",Athletenliste!E14)","v":""},{"$f":"IF(Athletenliste!F14=\"\",\"\",Athletenliste!F14)","v":""},{"$f":"IF(Athletenliste!G14=\"\",\"\",Athletenliste!G14)","v":""},{"$f":"IF(Athletenliste!H14=\"\",\"\",Athletenliste!H14)","v":""},null,null,null,{"$f":"IF(B14=\"\",\"\",IF(D14=\"m\",INDIRECT(VLOOKUP(G14,Bezüge!$E$6:$F$16,2,FALSE)&ROW(G14)),INDIRECT(VLOOKUP(G14,Bezüge!$B$6:$C$16,2,FALSE)&ROW(G14))))","v":""},null,"","","","","","","","","","","","","","","","","","","","","","",null,"","","","","","","","","","","","","","","","","","","","","",""]
[null,{"$f":"IF(Athletenliste!B15=\"\",\"\",Athletenliste!B15)","v":""},{"$f":"IF(Athletenliste!C15=\"\",\"\",Athletenliste!C15)","v":""},{"$f":"IF(Athletenliste!D15=\"\",\"\",Athletenliste!D15)","v":""},{"$f":"IF(Athletenliste!E15=\"\",\"\",Athletenliste!E15)","v":""},{"$f":"IF(Athletenliste!F15=\"\",\"\",Athletenliste!F15)","v":""},{"$f":"IF(Athletenliste!G15=\"\",\"\",Athletenliste!G15)","v":""},{"$f":"IF(Athletenliste!H15=\"\",\"\",Athletenliste!H15)","v":""},null,null,null,{"$f":"IF(B15=\"\",\"\",IF(D15=\"m\",INDIRECT(VLOOKUP(G15,Bezüge!$E$6:$F$16,2,FALSE)&ROW(G15)),INDIRECT(VLOOKUP(G15,Bezüge!$B$6:$C$16,2,FALSE)&ROW(G15))))","v":""},null,"","","","","","","","","","","","","","","","","","","","","","",null,"","","","","","","","","","","","","","","","","","","","","",""]
[null,{"$f":"IF(Athletenliste!B16=\"\",\"\",Athletenliste!B16)","v":""},{"$f":"IF(Athletenliste!C16=\"\",\"\",Athletenliste!C16)","v":""},{"$f":"IF(Athletenliste!D16=\"\",\"\",Athletenliste!D16)","v":""},{"$f":"IF(Athletenliste!E16=\"\",\"\",Athletenliste!E16)","v":""},{"$f":"IF(Athletenliste!F16=\"\",\"\",Athletenliste!F16)","v":""},{"$f":"IF(Athletenliste!G16=\"\",\"\",Athletenliste!G16)","v":""},{"$f":"IF(Athletenliste!H16=\"\",\"\",Athletenliste!H16)","v":""},null,null,null,{"$f":"IF(B16=\"\",\"\",IF(D16=\"m\",INDIRECT(VLOOKUP(G16,Bezüge!$E$6:$F$16,2,FALSE)&ROW(G16)),INDIRECT(VLOOKUP(G16,Bezüge!$B$6:$C$16,2,FALSE)&ROW(G16))))","v":""},null,"","","","","","","","","","","","","","","","","","","","","","",null,"","","","","","","","","","","","","","","","","","","","","",""]
[null,{"$f":"IF(Athletenliste!B17=\"\",\"\",Athletenliste!B17)","v":""},{"$f":"IF(Athletenliste!C17=\"\",\"\",Athletenliste!C17)","v":""},{"$f":"IF(Athletenliste!D17=\"\",\"\",Athletenliste!D17)","v":""},{"$f":"IF(Athletenliste!E17=\"\",\"\",Athletenliste!E17)","v":""},{"$f":"IF(Athletenliste!F17=\"\",\"\",Athletenliste!F17)","v":""},{"$f":"IF(Athletenliste!G17=\"\",\"\",Athletenliste!G17)","v":""},{"$f":"IF(Athletenliste!H17=\"\",\"\",Athletenliste!H17)","v":""},null,null,null,{"$f":"IF(B17=\"\",\"\",IF(D17=\"m\",INDIRECT(VLOOKUP(G17,Bezüge!$E$6:$F$16,2,FALSE)&ROW(G17)),INDIRECT(VLOOKUP(G17,Bezüge!$B$6:$C$16,2,FALSE)&ROW(G17))))","v":""},null,"","","","","","","","","","","","","","","","","","","","","","",null,"","","","","","","","","","","","","","","","","","","","","",""]
[null,{"$f":"IF(Athletenliste!B18=\"\",\"\",Athletenliste!B18)","v":""},{"$f":"IF(Athletenliste!C18=\"\",\"\",Athletenliste!C18)","v":""},{"$f":"IF(Athletenliste!D18=\"\",\"\",Athletenliste!D18)","v":""},{"$f":"IF(Athletenliste!E18=\"\",\"\",Athletenliste!E18)","v":""},{"$f":"IF(Athletenliste!F18=\"\",\"\",Athletenliste!F18)","v":""},{"$f":"IF(Athletenliste!G18=\"\",\"\",Athletenliste!G18)","v":""},{"$f":"IF(Athletenliste!H18=\"\",\"\",Athletenliste!H18)","v":""},null,null,null,{"$f":"IF(B18=\"\",\"\",IF(D18=\"m\",INDIRECT(VLOOKUP(G18,Bezüge!$E$6:$F$16,2,FALSE)&ROW(G18)),INDIRECT(VLOOKUP(G18,Bezüge!$B$6:$C$16,2,FALSE)&ROW(G18))))","v":""},null,"","","","","","","","","","","","","","","","","","","","","","",null,"","","","","","","","","","","","","","","","","","","","","",""]
[null,{"$f":"IF(Athletenliste!B19=\"\",\"\",Athletenliste!B19)","v":""},{"$f":"IF(Athletenliste!C19=\"\",\"\",Athletenliste!C19)","v":""},{"$f":"IF(Athletenliste!D19=\"\",\"\",Athletenliste!D19)","v":""},{"$f":"IF(Athletenliste!E19=\"\",\"\",Athletenliste!E19)","v":""},{"$f":"IF(Athletenliste!F19=\"\",\"\",Athletenliste!F19)","v":""},{"$f":"IF(Athletenliste!G19=\"\",\"\",Athletenliste!G19)","v":""},{"$f":"IF(Athletenliste!H19=\"\",\"\",Athletenliste!H19)","v":""},null,null,null,{"$f":"IF(B19=\"\",\"\",IF(D19=\"m\",INDIRECT(VLOOKUP(G19,Bezüge!$E$6:$F$16,2,FALSE)&ROW(G19)),INDIRECT(VLOOKUP(G19,Bezüge!$B$6:$C$16,2,FALSE)&ROW(G19))))","v":""},null,"","","","","","","","","","","","","","","","","","","","","","",null,"","","","","","","","","","","","","","","","","","","","","",""]
[null,{"$f":"IF(Athletenliste!B20=\"\",\"\",Athletenliste!B20)","v":""},{"$f":"IF(Athletenliste!C20=\"\",\"\",Athletenliste!C20)","v":""},{"$f":"IF(Athletenliste!D20=\"\",\"\",Athletenliste!D20)","v":""},{"$f":"IF(Athletenliste!E20=\"\",\"\",Athletenliste!E20)","v":""},{"$f":"IF(Athletenliste!F20=\"\",\"\",Athletenliste!F20)","v":""},{"$f":"IF(Athletenliste!G20=\"\",\"\",Athletenliste!G20)","v":""},{"$f":"IF(Athletenliste!H20=\"\",\"\",Athletenliste!H20)","v":""},null,null,null,{"$f":"IF(B20=\"\",\"\",IF(D20=\"m\",INDIRECT(VLOOKUP(G20,Bezüge!$E$6:$F$16,2,FALSE)&ROW(G20)),INDIRECT(VLOOKUP(G20,Bezüge!$B$6:$C$16,2,FALSE)&ROW(G20))))","v":""},null,"","","","","","","","","","","","","","","","","","","","","","",null,"","","","","","","","","","","","","","","","","","","","","",""]
[null,{"$f":"IF(Athletenliste!B21=\"\",\"\",Athletenliste!B21)","v":""},{"$f":"IF(Athletenliste!C21=\"\",\"\",Athletenliste!C21)","v":""},{"$f":"IF(Athletenliste!D21=\"\",\"\",Athletenliste!D21)","v":""},{"$f":"IF(Athletenliste!E21=\"\",\"\",Athletenliste!E21)","v":""},{"$f":"IF(Athletenliste!F21=\"\",\"\",Athletenliste!F21)","v":""},{"$f":"IF(Athletenliste!G21=\"\",\"\",Athletenliste!G21)","v":""},{"$f":"IF(Athletenliste!H21=\"\",\"\",Athletenliste!H21)","v":""},null,null,null,{"$f":"IF(B21=\"\",\"\",IF(D21=\"m\",INDIRECT(VLOOKUP(G21,Bezüge!$E$6:$F$16,2,FALSE)&ROW(G21)),INDIRECT(VLOOKUP(G21,Bezüge!$B$6:$C$16,2,FALSE)&ROW(G21))))","v":""},null,"","","","","","","","","","","","","","","","","","","","","","",null,"","","","","","","","","","","","","","","","","","","","","",""]
[null,{"$f":"IF(Athletenliste!B22=\"\",\"\",Athletenliste!B22)","v":""},{"$f":"IF(Athletenliste!C22=\"\",\"\",Athletenliste!C22)","v":""},{"$f":"IF(Athletenliste!D22=\"\",\"\",Athletenliste!D22)","v":""},{"$f":"IF(Athletenliste!E22=\"\",\"\",Athletenliste!E22)","v":""},{"$f":"IF(Athletenliste!F22=\"\",\"\",Athletenliste!F22)","v":""},{"$f":"IF(Athletenliste!G22=\"\",\"\",Athletenliste!G22)","v":""},{"$f":"IF(Athletenliste!H22=\"\",\"\",Athletenliste!H22)","v":""},null,null,null,{"$f":"IF(B22=\"\",\"\",IF(D22=\"m\",INDIRECT(VLOOKUP(G22,Bezüge!$E$6:$F$16,2,FALSE)&ROW(G22)),INDIRECT(VLOOKUP(G22,Bezüge!$B$6:$C$16,2,FALSE)&ROW(G22))))","v":""},null,"","","","","","","","","","","","","","","","","","","","","","",null,"","","","","","","","","","","","","","","","","","","","","",""]
[null,{"$f":"IF(Athletenliste!B23=\"\",\"\",Athletenliste!B23)","v":""},{"$f":"IF(Athletenliste!C23=\"\",\"\",Athletenliste!C23)","v":""},{"$f":"IF(Athletenliste!D23=\"\",\"\",Athletenliste!D23)","v":""},{"$f":"IF(Athletenliste!E23=\"\",\"\",Athletenliste!E23)","v":""},{"$f":"IF(Athletenliste!F23=\"\",\"\",Athletenliste!F23)","v":""},{"$f":"IF(Athletenliste!G23=\"\",\"\",Athletenliste!G23)","v":""},{"$f":"IF(Athletenliste!H23=\"\",\"\",Athletenliste!H23)","v":""},null,null,null,{"$f":"IF(B23=\"\",\"\",IF(D23=\"m\",INDIRECT(VLOOKUP(G23,Bezüge!$E$6:$F$16,2,FALSE)&ROW(G23)),INDIRECT(VLOOKUP(G23,Bezüge!$B$6:$C$16,2,FALSE)&ROW(G23))))","v":""},null,"","","","","","","","","","","","","","","","","","","","","","",null,"","","","","","","","","","","","","","","","","","","","","",""]
[null,{"$f":"IF(Athletenliste!B24=\"\",\"\",Athletenliste!B24)","v":""},{"$f":"IF(Athletenliste!C24=\"\",\"\",Athletenliste!C24)","v":""},{"$f":"IF(Athletenliste!D24=\"\",\"\",Athletenliste!D24)","v":""},{"$f":"IF(Athletenliste!E24=\"\",\"\",Athletenliste!E24)","v":""},{"$f":"IF(Athletenliste!F24=\"\",\"\",Athletenliste!F24)","v":""},{"$f":"IF(Athletenliste!G24=\"\",\"\",Athletenliste!G24)","v":""},{"$f":"IF(Athletenliste!H24=\"\",\"\",Athletenliste!H24)","v":""},null,null,null,{"$f":"IF(B24=\"\",\"\",IF(D24=\"m\",INDIRECT(VLOOKUP(G24,Bezüge!$E$6:$F$16,2,FALSE)&ROW(G24)),INDIRECT(VLOOKUP(G24,Bezüge!$B$6:$C$16,2,FALSE)&ROW(G24))))","v":""},null,"","","","","","","","","","","","","","","","","","","","","","",null,"","","","","","","","","","","","","","","","","","","","","",""]
[null,{"$f":"IF(Athletenliste!B25=\"\",\"\",Athletenliste!B25)","v":""},{"$f":"IF(Athletenliste!C25=\"\",\"\",Athletenliste!C25)","v":""},{"$f":"IF(Athletenliste!D25=\"\",\"\",Athletenliste!D25)","v":""},{"$f":"IF(Athletenliste!E25=\"\",\"\",Athletenliste!E25)","v":""},{"$f":"IF(Athletenliste!F25=\"\",\"\",Athletenliste!F25)","v":""},{"$f":"IF(Athletenliste!G25=\"\",\"\",Athletenliste!G25)","v":""},{"$f":"IF(Athletenliste!H25=\"\",\"\",Athletenliste!H25)","v":""},null,null,null,{"$f":"IF(B25=\"\",\"\",IF(D25=\"m\",INDIRECT(VLOOKUP(G25,Bezüge!$E$6:$F$16,2,FALSE)&ROW(G25)),INDIRECT(VLOOKUP(G25,Bezüge!$B$6:$C$16,2,FALSE)&ROW(G25))))","v":""},null,"","","","","","","","","","","","","","","","","","","","","","",null,"","","","","","","","","","","","","","","","","","","","","",""]
[null,{"$f":"IF(Athletenliste!B26=\"\",\"\",Athletenliste!B26)","v":""},{"$f":"IF(Athletenliste!C26=\"\",\"\",Athletenliste!C26)","v":""},{"$f":"IF(Athletenliste!D26=\"\",\"\",Athletenliste!D26)","v":""},{"$f":"IF(Athletenliste!E26=\"\",\"\",Athletenliste!E26)","v":""},{"$f":"IF(Athletenliste!F26=\"\",\"\",Athletenliste!F26)","v":""},{"$f":"IF(Athletenliste!G26=\"\",\"\",Athletenliste!G26)","v":""},{"$f":"IF(Athletenliste!H26=\"\",\"\",Athletenliste!H26)","v":""},null,null,null,{"$f":"IF(B26=\"\",\"\",IF(D26=\"m\",INDIRECT(VLOOKUP(G26,Bezüge!$E$6:$F$16,2,FALSE)&ROW(G26)),INDIRECT(VLOOKUP(G26,Bezüge!$B$6:$C$16,2,FALSE)&ROW(G26))))","v":""},null,"","","","","","","","","","","","","","","","","","","","","","",null,"","","","","","","","","","","","","","","","","","","","","",""]
[null,{"$f":"IF(Athletenliste!B27=\"\",\"\",Athletenliste!B27)","v":""},{"$f":"IF(Athletenliste!C27=\"\",\"\",Athletenliste!C27)","v":""},{"$f":"IF(Athletenliste!D27=\"\",\"\",Athletenliste!D27)","v":""},{"$f":"IF(Athletenliste!E27=\"\",\"\",Athletenliste!E27)","v":""},{"$f":"IF(Athletenliste!F27=\"\",\"\",Athletenliste!F27)","v":""},{"$f":"IF(Athletenliste!G27=\"\",\"\",Athletenliste!G27)","v":""},{"$f":"IF(Athletenliste!H27=\"\",\"\",Athletenliste!H27)","v":""},null,null,null,{"$f":"IF(B27=\"\",\"\",IF(D27=\"m\",INDIRECT(VLOOKUP(G27,Bezüge!$E$6:$F$16,2,FALSE)&ROW(G27)),INDIRECT(VLOOKUP(G27,Bezüge!$B$6:$C$16,2,FALSE)&ROW(G27))))","v":""},null,"","","","","","","","","","","","","","","","","","","","","","",null,"","","","","","","","","","","","","","","","","","","","","",""]
[null,{"$f":"IF(Athletenliste!B28=\"\",\"\",Athletenliste!B28)","v":""},{"$f":"IF(Athletenliste!C28=\"\",\"\",Athletenliste!C28)","v":""},{"$f":"IF(Athletenliste!D28=\"\",\"\",Athletenliste!D28)","v":""},{"$f":"IF(Athletenliste!E28=\"\",\"\",Athletenliste!E28)","v":""},{"$f":"IF(Athletenliste!F28=\"\",\"\",Athletenliste!F28)","v":""},{"$f":"IF(Athletenliste!G28=\"\",\"\",Athletenliste!G28)","v":""},{"$f":"IF(Athletenliste!H28=\"\",\"\",Athletenliste!H28)","v":""},null,null,null,{"$f":"IF(B28=\"\",\"\",IF(D28=\"m\",INDIRECT(VLOOKUP(G28,Bezüge!$E$6:$F$16,2,FALSE)&ROW(G28)),INDIRECT(VLOOKUP(G28,Bezüge!$B$6:$C$16,2,FALSE)&ROW(G28))))","v":""},null,"","","","","","","","","","","","","","","","","","","","","","",null,"","","","","","","","","","","","","","","","","","","","","",""]
[null,{"$f":"IF(Athletenliste!B29=\"\",\"\",Athletenliste!B29)","v":""},{"$f":"IF(Athletenliste!C29=\"\",\"\",Athletenliste!C29)","v":""},{"$f":"IF(Athletenliste!D29=\"\",\"\",Athletenliste!D29)","v":""},{"$f":"IF(Athletenliste!E29=\"\",\"\",Athletenliste!E29)","v":""},{"$f":"IF(Athletenliste!F29=\"\",\"\",Athletenliste!F29)","v":""},{"$f":"IF(Athletenliste!G29=\"\",\"\",Athletenliste!G29)","v":""},{"$f":"IF(Athletenliste!H29=\"\",\"\",Athletenliste!H29)","v":""},null,null,null,{"$f":"IF(B29=\"\",\"\",IF(D29=\"m\",INDIRECT(VLOOKUP(G29,Bezüge!$E$6:$F$16,2,FALSE)&ROW(G29)),INDIRECT(VLOOKUP(G29,Bezüge!$B$6:$C$16,2,FALSE)&ROW(G29))))","v":""},null,"","","","","","","","","","","","","","","","","","","","","","",null,"","","","","","","","","","","","","","","","","","","","","",""]
[null,{"$f":"IF(Athletenliste!B30=\"\",\"\",Athletenliste!B30)","v":""},{"$f":"IF(Athletenliste!C30=\"\",\"\",Athletenliste!C30)","v":""},{"$f":"IF(Athletenliste!D30=\"\",\"\",Athletenliste!D30)","v":""},{"$f":"IF(Athletenliste!E30=\"\",\"\",Athletenliste!E30)","v":""},{"$f":"IF(Athletenliste!F30=\"\",\"\",Athletenliste!F30)","v":""},{"$f":"IF(Athletenliste!G30=\"\",\"\",Athletenliste!G30)","v":""},{"$f":"IF(Athletenliste!H30=\"\",\"\",Athletenliste!H30)","v":""},null,null,null,{"$f":"IF(B30=\"\",\"\",IF(D30=\"m\",INDIRECT(VLOOKUP(G30,Bezüge!$E$6:$F$16,2,FALSE)&ROW(G30)),INDIRECT(VLOOKUP(G30,Bezüge!$B$6:$C$16,2,FALSE)&ROW(G30))))","v":""},null,"","","","","","","","","","","","","","","","","","","","","","",null,"","","","","","","","","","","","","","","","","","","","","",""]
[null,{"$f":"IF(Athletenliste!B31=\"\",\"\",Athletenliste!B31)","v":""},{"$f":"IF(Athletenliste!C31=\"\",\"\",Athletenliste!C31)","v":""},{"$f":"IF(Athletenliste!D31=\"\",\"\",Athletenliste!D31)","v":""},{"$f":"IF(Athletenliste!E31=\"\",\"\",Athletenliste!E31)","v":""},{"$f":"IF(Athletenliste!F31=\"\",\"\",Athletenliste!F31)","v":""},{"$f":"IF(Athletenliste!G31=\"\",\"\",Athletenliste!G31)","v":""},{"$f":"IF(Athletenliste!H31=\"\",\"\",Athletenliste!H31)","v":""},null,null,null,{"$f":"IF(B31=\"\",\"\",IF(D31=\"m\",INDIRECT(VLOOKUP(G31,Bezüge!$E$6:$F$16,2,FALSE)&ROW(G31)),INDIRECT(VLOOKUP(G31,Bezüge!$B$6:$C$16,2,FALSE)&ROW(G31))))","v":""},null,"","","","","","","","","","","","","","","","","","","","","","",null,"","","","","","","","","","","","","","","","","","","","","",""]
[null,{"$f":"IF(Athletenliste!B32=\"\",\"\",Athletenliste!B32)","v":""},{"$f":"IF(Athletenliste!C32=\"\",\"\",Athletenliste!C32)","v":""},{"$f":"IF(Athletenliste!D32=\"\",\"\",Athletenliste!D32)","v":""},{"$f":"IF(Athletenliste!E32=\"\",\"\",Athletenliste!E32)","v":""},{"$f":"IF(Athletenliste!F32=\"\",\"\",Athletenliste!F32)","v":""},{"$f":"IF(Athletenliste!G32=\"\",\"\",Athletenliste!G32)","v":""},{"$f":"IF(Athletenliste!H32=\"\",\"\",Athletenliste!H32)","v":""},null,null,null,{"$f":"IF(B32=\"\",\"\",IF(D32=\"m\",INDIRECT(VLOOKUP(G32,Bezüge!$E$6:$F$16,2,FALSE)&ROW(G32)),INDIRECT(VLOOKUP(G32,Bezüge!$B$6:$C$16,2,FALSE)&ROW(G32))))","v":""},null,"","","","","","","","","","","","","","","","","","","","","","",null,"","","","","","","","","","","","","","","","","","","","","",""]
[null,{"$f":"IF(Athletenliste!B33=\"\",\"\",Athletenliste!B33)","v":""},{"$f":"IF(Athletenliste!C33=\"\",\"\",Athletenliste!C33)","v":""},{"$f":"IF(Athletenliste!D33=\"\",\"\",Athletenliste!D33)","v":""},{"$f":"IF(Athletenliste!E33=\"\",\"\",Athletenliste!E33)","v":""},{"$f":"IF(Athletenliste!F33=\"\",\"\",Athletenliste!F33)","v":""},{"$f":"IF(Athletenliste!G33=\"\",\"\",Athletenliste!G33)","v":""},{"$f":"IF(Athletenliste!H33=\"\",\"\",Athletenliste!H33)","v":""},null,null,null,{"$f":"IF(B33=\"\",\"\",IF(D33=\"m\",INDIRECT(VLOOKUP(G33,Bezüge!$E$6:$F$16,2,FALSE)&ROW(G33)),INDIRECT(VLOOKUP(G33,Bezüge!$B$6:$C$16,2,FALSE)&ROW(G33))))","v":""},null,"","","","","","","","","","","","","","","","","","","","","","",null,"","","","","","","","","","","","","","","","","","","","","",""]
[null,{"$f":"IF(Athletenliste!B34=\"\",\"\",Athletenliste!B34)","v":""},{"$f":"IF(Athletenliste!C34=\"\",\"\",Athletenliste!C34)","v":""},{"$f":"IF(Athletenliste!D34=\"\",\"\",Athletenliste!D34)","v":""},{"$f":"IF(Athletenliste!E34=\"\",\"\",Athletenliste!E34)","v":""},{"$f":"IF(Athletenliste!F34=\"\",\"\",Athletenliste!F34)","v":""},{"$f":"IF(Athletenliste!G34=\"\",\"\",Athletenliste!G34)","v":""},{"$f":"IF(Athletenliste!H34=\"\",\"\",Athletenliste!H34)","v":""},null,null,null,{"$f":"IF(B34=\"\",\"\",IF(D34=\"m\",INDIRECT(VLOOKUP(G34,Bezüge!$E$6:$F$16,2,FALSE)&ROW(G34)),INDIRECT(VLOOKUP(G34,Bezüge!$B$6:$C$16,2,FALSE)&ROW(G34))))","v":""},null,"","","","","","","","","","","","","","","","","","","","","","",null,"","","","","","","","","","","","","","","","","","","","","",""]
[null,{"$f":"IF(Athletenliste!B35=\"\",\"\",Athletenliste!B35)","v":""},{"$f":"IF(Athletenliste!C35=\"\",\"\",Athletenliste!C35)","v":""},{"$f":"IF(Athletenliste!D35=\"\",\"\",Athletenliste!D35)","v":""},{"$f":"IF(Athletenliste!E35=\"\",\"\",Athletenliste!E35)","v":""},{"$f":"IF(Athletenliste!F35=\"\",\"\",Athletenliste!F35)","v":""},{"$f":"IF(Athletenliste!G35=\"\",\"\",Athletenliste!G35)","v":""},{"$f":"IF(Athletenliste!H35=\"\",\"\",Athletenliste!H35)","v":""},null,null,null,{"$f":"IF(B35=\"\",\"\",IF(D35=\"m\",INDIRECT(VLOOKUP(G35,Bezüge!$E$6:$F$16,2,FALSE)&ROW(G35)),INDIRECT(VLOOKUP(G35,Bezüge!$B$6:$C$16,2,FALSE)&ROW(G35))))","v":""},null,"","","","","","","","","","","","","","","","","","","","","","",null,"","","","","","","","","","","","","","","","","","","","","",""]
[null,{"$f":"IF(Athletenliste!B36=\"\",\"\",Athletenliste!B36)","v":""},{"$f":"IF(Athletenliste!C36=\"\",\"\",Athletenliste!C36)","v":""},{"$f":"IF(Athletenliste!D36=\"\",\"\",Athletenliste!D36)","v":""},{"$f":"IF(Athletenliste!E36=\"\",\"\",Athletenliste!E36)","v":""},{"$f":"IF(Athletenliste!F36=\"\",\"\",Athletenliste!F36)","v":""},{"$f":"IF(Athletenliste!G36=\"\",\"\",Athletenliste!G36)","v":""},{"$f":"IF(Athletenliste!H36=\"\",\"\",Athletenliste!H36)","v":""},null,null,null,{"$f":"IF(B36=\"\",\"\",IF(D36=\"m\",INDIRECT(VLOOKUP(G36,Bezüge!$E$6:$F$16,2,FALSE)&ROW(G36)),INDIRECT(VLOOKUP(G36,Bezüge!$B$6:$C$16,2,FALSE)&ROW(G36))))","v":""},null,"","","","","","","","","","","","","","","","","","","","","","",null,"","","","","","","","","","","","","","","","","","","","","",""]
[null,{"$f":"IF(Athletenliste!B37=\"\",\"\",Athletenliste!B37)","v":""},{"$f":"IF(Athletenliste!C37=\"\",\"\",Athletenliste!C37)","v":""},{"$f":"IF(Athletenliste!D37=\"\",\"\",Athletenliste!D37)","v":""},{"$f":"IF(Athletenliste!E37=\"\",\"\",Athletenliste!E37)","v":""},{"$f":"IF(Athletenliste!F37=\"\",\"\",Athletenliste!F37)","v":""},{"$f":"IF(Athletenliste!G37=\"\",\"\",Athletenliste!G37)","v":""},{"$f":"IF(Athletenliste!H37=\"\",\"\",Athletenliste!H37)","v":""},null,null,null,{"$f":"IF(B37=\"\",\"\",IF(D37=\"m\",INDIRECT(VLOOKUP(G37,Bezüge!$E$6:$F$16,2,FALSE)&ROW(G37)),INDIRECT(VLOOKUP(G37,Bezüge!$B$6:$C$16,2,FALSE)&ROW(G37))))","v":""},null,"","","","","","","","","","","","","","","","","","","","","","",null,"","","","","","","","","","","","","","","","","","","","","",""]
[null,{"$f":"IF(Athletenliste!B38=\"\",\"\",Athletenliste!B38)","v":""},{"$f":"IF(Athletenliste!C38=\"\",\"\",Athletenliste!C38)","v":""},{"$f":"IF(Athletenliste!D38=\"\",\"\",Athletenliste!D38)","v":""},{"$f":"IF(Athletenliste!E38=\"\",\"\",Athletenliste!E38)","v":""},{"$f":"IF(Athletenliste!F38=\"\",\"\",Athletenliste!F38)","v":""},{"$f":"IF(Athletenliste!G38=\"\",\"\",Athletenliste!G38)","v":""},{"$f":"IF(Athletenliste!H38=\"\",\"\",Athletenliste!H38)","v":""},null,null,null,{"$f":"IF(B38=\"\",\"\",IF(D38=\"m\",INDIRECT(VLOOKUP(G38,Bezüge!$E$6:$F$16,2,FALSE)&ROW(G38)),INDIRECT(VLOOKUP(G38,Bezüge!$B$6:$C$16,2,FALSE)&ROW(G38))))","v":""},null,"","","","","","","","","","","","","","","","","","","","","","",null,"","","","","","","","","","","","","","","","","","","","","",""]
[null,{"$f":"IF(Athletenliste!B39=\"\",\"\",Athletenliste!B39)","v":""},{"$f":"IF(Athletenliste!C39=\"\",\"\",Athletenliste!C39)","v":""},{"$f":"IF(Athletenliste!D39=\"\",\"\",Athletenliste!D39)","v":""},{"$f":"IF(Athletenliste!E39=\"\",\"\",Athletenliste!E39)","v":""},{"$f":"IF(Athletenliste!F39=\"\",\"\",Athletenliste!F39)","v":""},{"$f":"IF(Athletenliste!G39=\"\",\"\",Athletenliste!G39)","v":""},{"$f":"IF(Athletenliste!H39=\"\",\"\",Athletenliste!H39)","v":""},null,null,null,{"$f":"IF(B39=\"\",\"\",IF(D39=\"m\",INDIRECT(VLOOKUP(G39,Bezüge!$E$6:$F$16,2,FALSE)&ROW(G39)),INDIRECT(VLOOKUP(G39,Bezüge!$B$6:$C$16,2,FALSE)&ROW(G39))))","v":""},null,"","","","","","","","","","","","","","","","","","","","","","",null,"","","","","","","","","","","","","","","","","","","","","",""]
[null,{"$f":"IF(Athletenliste!B40=\"\",\"\",Athletenliste!B40)","v":""},{"$f":"IF(Athletenliste!C40=\"\",\"\",Athletenliste!C40)","v":""},{"$f":"IF(Athletenliste!D40=\"\",\"\",Athletenliste!D40)","v":""},{"$f":"IF(Athletenliste!E40=\"\",\"\",Athletenliste!E40)","v":""},{"$f":"IF(Athletenliste!F40=\"\",\"\",Athletenliste!F40)","v":""},{"$f":"IF(Athletenliste!G40=\"\",\"\",Athletenliste!G40)","v":""},{"$f":"IF(Athletenliste!H40=\"\",\"\",Athletenliste!H40)","v":""},null,null,null,{"$f":"IF(B40=\"\",\"\",IF(D40=\"m\",INDIRECT(VLOOKUP(G40,Bezüge!$E$6:$F$16,2,FALSE)&ROW(G40)),INDIRECT(VLOOKUP(G40,Bezüge!$B$6:$C$16,2,FALSE)&ROW(G40))))","v":""},null,"","","","","","","","","","","","","","","","","","","","","","",null,"","","","","","","","","","","","","","","","","","","","","",""]
[null,{"$f":"IF(Athletenliste!B41=\"\",\"\",Athletenliste!B41)","v":""},{"$f":"IF(Athletenliste!C41=\"\",\"\",Athletenliste!C41)","v":""},{"$f":"IF(Athletenliste!D41=\"\",\"\",Athletenliste!D41)","v":""},{"$f":"IF(Athletenliste!E41=\"\",\"\",Athletenliste!E41)","v":""},{"$f":"IF(Athletenliste!F41=\"\",\"\",Athletenliste!F41)","v":""},{"$f":"IF(Athletenliste!G41=\"\",\"\",Athletenliste!G41)","v":""},{"$f":"IF(Athletenliste!H41=\"\",\"\",Athletenliste!H41)","v":""},null,null,null,{"$f":"IF(B41=\"\",\"\",IF(D41=\"m\",INDIRECT(VLOOKUP(G41,Bezüge!$E$6:$F$16,2,FALSE)&ROW(G41)),INDIRECT(VLOOKUP(G41,Bezüge!$B$6:$C$16,2,FALSE)&ROW(G41))))","v":""},null,"","","","","","","","","","","","","","","","","","","","","","",null,"","","","","","","","","","","","","","","","","","","","","",""]
[null,{"$f":"IF(Athletenliste!B42=\"\",\"\",Athletenliste!B42)","v":""},{"$f":"IF(Athletenliste!C42=\"\",\"\",Athletenliste!C42)","v":""},{"$f":"IF(Athletenliste!D42=\"\",\"\",Athletenliste!D42)","v":""},{"$f":"IF(Athletenliste!E42=\"\",\"\",Athletenliste!E42)","v":""},{"$f":"IF(Athletenliste!F42=\"\",\"\",Athletenliste!F42)","v":""},{"$f":"IF(Athletenliste!G42=\"\",\"\",Athletenliste!G42)","v":""},{"$f":"IF(Athletenliste!H42=\"\",\"\",Athletenliste!H42)","v":""},null,null,null,{"$f":"IF(B42=\"\",\"\",IF(D42=\"m\",INDIRECT(VLOOKUP(G42,Bezüge!$E$6:$F$16,2,FALSE)&ROW(G42)),INDIRECT(VLOOKUP(G42,Bezüge!$B$6:$C$16,2,FALSE)&ROW(G42))))","v":""},null,"","","","","","","","","","","","","","","","","","","","","","",null,"","","","","","","","","","","","","","","","","","","","","",""]
[null,{"$f":"IF(Athletenliste!B43=\"\",\"\",Athletenliste!B43)","v":""},{"$f":"IF(Athletenliste!C43=\"\",\"\",Athletenliste!C43)","v":""},{"$f":"IF(Athletenliste!D43=\"\",\"\",Athletenliste!D43)","v":""},{"$f":"IF(Athletenliste!E43=\"\",\"\",Athletenliste!E43)","v":""},{"$f":"IF(Athletenliste!F43=\"\",\"\",Athletenliste!F43)","v":""},{"$f":"IF(Athletenliste!G43=\"\",\"\",Athletenliste!G43)","v":""},{"$f":"IF(Athletenliste!H43=\"\",\"\",Athletenliste!H43)","v":""},null,null,null,{"$f":"IF(B43=\"\",\"\",IF(D43=\"m\",INDIRECT(VLOOKUP(G43,Bezüge!$E$6:$F$16,2,FALSE)&ROW(G43)),INDIRECT(VLOOKUP(G43,Bezüge!$B$6:$C$16,2,FALSE)&ROW(G43))))","v":""},null,"","","","","","","","","","","","","","","","","","","","","","",null,"","","","","","","","","","","","","","","","","","","","","",""]
[null,{"$f":"IF(Athletenliste!B44=\"\",\"\",Athletenliste!B44)","v":""},{"$f":"IF(Athletenliste!C44=\"\",\"\",Athletenliste!C44)","v":""},{"$f":"IF(Athletenliste!D44=\"\",\"\",Athletenliste!D44)","v":""},{"$f":"IF(Athletenliste!E44=\"\",\"\",Athletenliste!E44)","v":""},{"$f":"IF(Athletenliste!F44=\"\",\"\",Athletenliste!F44)","v":""},{"$f":"IF(Athletenliste!G44=\"\",\"\",Athletenliste!G44)","v":""},{"$f":"IF(Athletenliste!H44=\"\",\"\",Athletenliste!H44)","v":""},null,null,null,{"$f":"IF(B44=\"\",\"\",IF(D44=\"m\",INDIRECT(VLOOKUP(G44,Bezüge!$E$6:$F$16,2,FALSE)&ROW(G44)),INDIRECT(VLOOKUP(G44,Bezüge!$B$6:$C$16,2,FALSE)&ROW(G44))))","v":""},null,"","","","","","","","","","","","","","","","","","","","","","",null,"","","","","","","","","","","","","","","","","","","","","",""]
[null,{"$f":"IF(Athletenliste!B45=\"\",\"\",Athletenliste!B45)","v":""},{"$f":"IF(Athletenliste!C45=\"\",\"\",Athletenliste!C45)","v":""},{"$f":"IF(Athletenliste!D45=\"\",\"\",Athletenliste!D45)","v":""},{"$f":"IF(Athletenliste!E45=\"\",\"\",Athletenliste!E45)","v":""},{"$f":"IF(Athletenliste!F45=\"\",\"\",Athletenliste!F45)","v":""},{"$f":"IF(Athletenliste!G45=\"\",\"\",Athletenliste!G45)","v":""},{"$f":"IF(Athletenliste!H45=\"\",\"\",Athletenliste!H45)","v":""},null,null,null,{"$f":"IF(B45=\"\",\"\",IF(D45=\"m\",INDIRECT(VLOOKUP(G45,Bezüge!$E$6:$F$16,2,FALSE)&ROW(G45)),INDIRECT(VLOOKUP(G45,Bezüge!$B$6:$C$16,2,FALSE)&ROW(G45))))","v":""},null,"","","","","","","","","","","","","","","","","","","","","","",null,"","","","","","","","","","","","","","","","","","","","","",""]
[null,{"$f":"IF(Athletenliste!B46=\"\",\"\",Athletenliste!B46)","v":""},{"$f":"IF(Athletenliste!C46=\"\",\"\",Athletenliste!C46)","v":""},{"$f":"IF(Athletenliste!D46=\"\",\"\",Athletenliste!D46)","v":""},{"$f":"IF(Athletenliste!E46=\"\",\"\",Athletenliste!E46)","v":""},{"$f":"IF(Athletenliste!F46=\"\",\"\",Athletenliste!F46)","v":""},{"$f":"IF(Athletenliste!G46=\"\",\"\",Athletenliste!G46)","v":""},{"$f":"IF(Athletenliste!H46=\"\",\"\",Athletenliste!H46)","v":""},null,null,null,{"$f":"IF(B46=\"\",\"\",IF(D46=\"m\",INDIRECT(VLOOKUP(G46,Bezüge!$E$6:$F$16,2,FALSE)&ROW(G46)),INDIRECT(VLOOKUP(G46,Bezüge!$B$6:$C$16,2,FALSE)&ROW(G46))))","v":""},null,"","","","","","","","","","","","","","","","","","","","","","",null,"","","","","","","","","","","","","","","","","","","","","",""]
[null,{"$f":"IF(Athletenliste!B47=\"\",\"\",Athletenliste!B47)","v":""},{"$f":"IF(Athletenliste!C47=\"\",\"\",Athletenliste!C47)","v":""},{"$f":"IF(Athletenliste!D47=\"\",\"\",Athletenliste!D47)","v":""},{"$f":"IF(Athletenliste!E47=\"\",\"\",Athletenliste!E47)","v":""},{"$f":"IF(Athletenliste!F47=\"\",\"\",Athletenliste!F47)","v":""},{"$f":"IF(Athletenliste!G47=\"\",\"\",Athletenliste!G47)","v":""},{"$f":"IF(Athletenliste!H47=\"\",\"\",Athletenliste!H47)","v":""},null,null,null,{"$f":"IF(B47=\"\",\"\",IF(D47=\"m\",INDIRECT(VLOOKUP(G47,Bezüge!$E$6:$F$16,2,FALSE)&ROW(G47)),INDIRECT(VLOOKUP(G47,Bezüge!$B$6:$C$16,2,FALSE)&ROW(G47))))","v":""},null,"","","","","","","","","","","","","","","","","","","","","","",null,"","","","","","","","","","","","","","","","","","","","","",""]
[null,{"$f":"IF(Athletenliste!B48=\"\",\"\",Athletenliste!B48)","v":""},{"$f":"IF(Athletenliste!C48=\"\",\"\",Athletenliste!C48)","v":""},{"$f":"IF(Athletenliste!D48=\"\",\"\",Athletenliste!D48)","v":""},{"$f":"IF(Athletenliste!E48=\"\",\"\",Athletenliste!E48)","v":""},{"$f":"IF(Athletenliste!F48=\"\",\"\",Athletenliste!F48)","v":""},{"$f":"IF(Athletenliste!G48=\"\",\"\",Athletenliste!G48)","v":""},{"$f":"IF(Athletenliste!H48=\"\",\"\",Athletenliste!H48)","v":""},null,null,null,{"$f":"IF(B48=\"\",\"\",IF(D48=\"m\",INDIRECT(VLOOKUP(G48,Bezüge!$E$6:$F$16,2,FALSE)&ROW(G48)),INDIRECT(VLOOKUP(G48,Bezüge!$B$6:$C$16,2,FALSE)&ROW(G48))))","v":""},null,"","","","","","","","","","","","","","","","","","","","","","",null,"","","","","","","","","","","","","","","","","","","","","",""]
[null,{"$f":"IF(Athletenliste!B49=\"\",\"\",Athletenliste!B49)","v":""},{"$f":"IF(Athletenliste!C49=\"\",\"\",Athletenliste!C49)","v":""},{"$f":"IF(Athletenliste!D49=\"\",\"\",Athletenliste!D49)","v":""},{"$f":"IF(Athletenliste!E49=\"\",\"\",Athletenliste!E49)","v":""},{"$f":"IF(Athletenliste!F49=\"\",\"\",Athletenliste!F49)","v":""},{"$f":"IF(Athletenliste!G49=\"\",\"\",Athletenliste!G49)","v":""},{"$f":"IF(Athletenliste!H49=\"\",\"\",Athletenliste!H49)","v":""},null,null,null,{"$f":"IF(B49=\"\",\"\",IF(D49=\"m\",INDIRECT(VLOOKUP(G49,Bezüge!$E$6:$F$16,2,FALSE)&ROW(G49)),INDIRECT(VLOOKUP(G49,Bezüge!$B$6:$C$16,2,FALSE)&ROW(G49))))","v":""},null,"","","","","","","","","","","","","","","","","","","","","","",null,"","","","","","","","","","","","","","","","","","","","","",""]
[null,{"$f":"IF(Athletenliste!B50=\"\",\"\",Athletenliste!B50)","v":""},{"$f":"IF(Athletenliste!C50=\"\",\"\",Athletenliste!C50)","v":""},{"$f":"IF(Athletenliste!D50=\"\",\"\",Athletenliste!D50)","v":""},{"$f":"IF(Athletenliste!E50=\"\",\"\",Athletenliste!E50)","v":""},{"$f":"IF(Athletenliste!F50=\"\",\"\",Athletenliste!F50)","v":""},{"$f":"IF(Athletenliste!G50=\"\",\"\",Athletenliste!G50)","v":""},{"$f":"IF(Athletenliste!H50=\"\",\"\",Athletenliste!H50)","v":""},null,null,null,{"$f":"IF(B50=\"\",\"\",IF(D50=\"m\",INDIRECT(VLOOKUP(G50,Bezüge!$E$6:$F$16,2,FALSE)&ROW(G50)),INDIRECT(VLOOKUP(G50,Bezüge!$B$6:$C$16,2,FALSE)&ROW(G50))))","v":""},null,"","","","","","","","","","","","","","","","","","","","","","",null,"","","","","","","","",{"$f":"IF(AND(D50=\"w\",G50=\"U10\",K50<>\"\"),K50,\"\")","v":""},"","","","","","","","","","","","",""]
[null,{"$f":"IF(Athletenliste!B51=\"\",\"\",Athletenliste!B51)","v":""},{"$f":"IF(Athletenliste!C51=\"\",\"\",Athletenliste!C51)","v":""},{"$f":"IF(Athletenliste!D51=\"\",\"\",Athletenliste!D51)","v":""},{"$f":"IF(Athletenliste!E51=\"\",\"\",Athletenliste!E51)","v":""},{"$f":"IF(Athletenliste!F51=\"\",\"\",Athletenliste!F51)","v":""},{"$f":"IF(Athletenliste!G51=\"\",\"\",Athletenliste!G51)","v":""},{"$f":"IF(Athletenliste!H51=\"\",\"\",Athletenliste!H51)","v":""},null,null,null,{"$f":"IF(B51=\"\",\"\",IF(D51=\"m\",INDIRECT(VLOOKUP(G51,Bezüge!$E$6:$F$16,2,FALSE)&ROW(G51)),INDIRECT(VLOOKUP(G51,Bezüge!$B$6:$C$16,2,FALSE)&ROW(G51))))","v":""},null,"","","","","","","","","","","","","","","","","","","","","","",null,"","","","","","","","","","","","","","","","","","","","","",""]
[null,{"$f":"IF(Athletenliste!B52=\"\",\"\",Athletenliste!B52)","v":""},{"$f":"IF(Athletenliste!C52=\"\",\"\",Athletenliste!C52)","v":""},{"$f":"IF(Athletenliste!D52=\"\",\"\",Athletenliste!D52)","v":""},{"$f":"IF(Athletenliste!E52=\"\",\"\",Athletenliste!E52)","v":""},{"$f":"IF(Athletenliste!F52=\"\",\"\",Athletenliste!F52)","v":""},{"$f":"IF(Athletenliste!G52=\"\",\"\",Athletenliste!G52)","v":""},{"$f":"IF(Athletenliste!H52=\"\",\"\",Athletenliste!H52)","v":""},null,null,null,{"$f":"IF(B52=\"\",\"\",IF(D52=\"m\",INDIRECT(VLOOKUP(G52,Bezüge!$E$6:$F$16,2,FALSE)&ROW(G52)),INDIRECT(VLOOKUP(G52,Bezüge!$B$6:$C$16,2,FALSE)&ROW(G52))))","v":""},null,"","","","","","","","","","","","","","","","","","","","","","",null,"","","","","","","","","","","","","","","","","","","","","",""]
[null,{"$f":"IF(Athletenliste!B53=\"\",\"\",Athletenliste!B53)","v":""},{"$f":"IF(Athletenliste!C53=\"\",\"\",Athletenliste!C53)","v":""},{"$f":"IF(Athletenliste!D53=\"\",\"\",Athletenliste!D53)","v":""},{"$f":"IF(Athletenliste!E53=\"\",\"\",Athletenliste!E53)","v":""},{"$f":"IF(Athletenliste!F53=\"\",\"\",Athletenliste!F53)","v":""},{"$f":"IF(Athletenliste!G53=\"\",\"\",Athletenliste!G53)","v":""},{"$f":"IF(Athletenliste!H53=\"\",\"\",Athletenliste!H53)","v":""},null,null,null,{"$f":"IF(B53=\"\",\"\",IF(D53=\"m\",INDIRECT(VLOOKUP(G53,Bezüge!$E$6:$F$16,2,FALSE)&ROW(G53)),INDIRECT(VLOOKUP(G53,Bezüge!$B$6:$C$16,2,FALSE)&ROW(G53))))","v":""},null,"","","","","","","","","","","","","","","","","","","","","","",null,"","","","","","","","","","","","","","","","","","","","","",""]
[null,{"$f":"IF(Athletenliste!B54=\"\",\"\",Athletenliste!B54)","v":""},{"$f":"IF(Athletenliste!C54=\"\",\"\",Athletenliste!C54)","v":""},{"$f":"IF(Athletenliste!D54=\"\",\"\",Athletenliste!D54)","v":""},{"$f":"IF(Athletenliste!E54=\"\",\"\",Athletenliste!E54)","v":""},{"$f":"IF(Athletenliste!F54=\"\",\"\",Athletenliste!F54)","v":""},{"$f":"IF(Athletenliste!G54=\"\",\"\",Athletenliste!G54)","v":""},{"$f":"IF(Athletenliste!H54=\"\",\"\",Athletenliste!H54)","v":""},null,null,null,{"$f":"IF(B54=\"\",\"\",IF(D54=\"m\",INDIRECT(VLOOKUP(G54,Bezüge!$E$6:$F$16,2,FALSE)&ROW(G54)),INDIRECT(VLOOKUP(G54,Bezüge!$B$6:$C$16,2,FALSE)&ROW(G54))))","v":""},null,"","","","","","","","","","","","","","","","","","","","","","",null,"","","","","","","","","","","","","","","","","","","","","",""]
[null,{"$f":"IF(Athletenliste!B55=\"\",\"\",Athletenliste!B55)","v":""},{"$f":"IF(Athletenliste!C55=\"\",\"\",Athletenliste!C55)","v":""},{"$f":"IF(Athletenliste!D55=\"\",\"\",Athletenliste!D55)","v":""},{"$f":"IF(Athletenliste!E55=\"\",\"\",Athletenliste!E55)","v":""},{"$f":"IF(Athletenliste!F55=\"\",\"\",Athletenliste!F55)","v":""},{"$f":"IF(Athletenliste!G55=\"\",\"\",Athletenliste!G55)","v":""},{"$f":"IF(Athletenliste!H55=\"\",\"\",Athletenliste!H55)","v":""},null,null,null,{"$f":"IF(B55=\"\",\"\",IF(D55=\"m\",INDIRECT(VLOOKUP(G55,Bezüge!$E$6:$F$16,2,FALSE)&ROW(G55)),INDIRECT(VLOOKUP(G55,Bezüge!$B$6:$C$16,2,FALSE)&ROW(G55))))","v":""},null,"","","","","","","","","","","","","","","","","","","","","","",null,"","","","","","","","","","","","","","","","","","","","","",""]
[null,{"$f":"IF(Athletenliste!B56=\"\",\"\",Athletenliste!B56)","v":""},{"$f":"IF(Athletenliste!C56=\"\",\"\",Athletenliste!C56)","v":""},{"$f":"IF(Athletenliste!D56=\"\",\"\",Athletenliste!D56)","v":""},{"$f":"IF(Athletenliste!E56=\"\",\"\",Athletenliste!E56)","v":""},{"$f":"IF(Athletenliste!F56=\"\",\"\",Athletenliste!F56)","v":""},{"$f":"IF(Athletenliste!G56=\"\",\"\",Athletenliste!G56)","v":""},{"$f":"IF(Athletenliste!H56=\"\",\"\",Athletenliste!H56)","v":""},null,null,null,{"$f":"IF(B56=\"\",\"\",IF(D56=\"m\",INDIRECT(VLOOKUP(G56,Bezüge!$E$6:$F$16,2,FALSE)&ROW(G56)),INDIRECT(VLOOKUP(G56,Bezüge!$B$6:$C$16,2,FALSE)&ROW(G56))))","v":""},null,"","","","","","","","","","","","","","","","","","","","","","",null,"","","","","","","","","","","","","","","","","","","","","",""]
[null,{"$f":"IF(Athletenliste!B57=\"\",\"\",Athletenliste!B57)","v":""},{"$f":"IF(Athletenliste!C57=\"\",\"\",Athletenliste!C57)","v":""},{"$f":"IF(Athletenliste!D57=\"\",\"\",Athletenliste!D57)","v":""},{"$f":"IF(Athletenliste!E57=\"\",\"\",Athletenliste!E57)","v":""},{"$f":"IF(Athletenliste!F57=\"\",\"\",Athletenliste!F57)","v":""},{"$f":"IF(Athletenliste!G57=\"\",\"\",Athletenliste!G57)","v":""},{"$f":"IF(Athletenliste!H57=\"\",\"\",Athletenliste!H57)","v":""},null,null,null,{"$f":"IF(B57=\"\",\"\",IF(D57=\"m\",INDIRECT(VLOOKUP(G57,Bezüge!$E$6:$F$16,2,FALSE)&ROW(G57)),INDIRECT(VLOOKUP(G57,Bezüge!$B$6:$C$16,2,FALSE)&ROW(G57))))","v":""},null,"","","","","","","","","","","","","","","","","","","","","","",null,"","","","","","","","","","","","","","","","","","","","","",""]
[null,{"$f":"IF(Athletenliste!B58=\"\",\"\",Athletenliste!B58)","v":""},{"$f":"IF(Athletenliste!C58=\"\",\"\",Athletenliste!C58)","v":""},{"$f":"IF(Athletenliste!D58=\"\",\"\",Athletenliste!D58)","v":""},{"$f":"IF(Athletenliste!E58=\"\",\"\",Athletenliste!E58)","v":""},{"$f":"IF(Athletenliste!F58=\"\",\"\",Athletenliste!F58)","v":""},{"$f":"IF(Athletenliste!G58=\"\",\"\",Athletenliste!G58)","v":""},{"$f":"IF(Athletenliste!H58=\"\",\"\",Athletenliste!H58)","v":""},null,null,null,{"$f":"IF(B58=\"\",\"\",IF(D58=\"m\",INDIRECT(VLOOKUP(G58,Bezüge!$E$6:$F$16,2,FALSE)&ROW(G58)),INDIRECT(VLOOKUP(G58,Bezüge!$B$6:$C$16,2,FALSE)&ROW(G58))))","v":""},null,"","","","","","","","","","","","","","","","","","","","","","",null,"","","","","","","","","","","","","","","","","","","","","",""]
[null,{"$f":"IF(Athletenliste!B59=\"\",\"\",Athletenliste!B59)","v":""},{"$f":"IF(Athletenliste!C59=\"\",\"\",Athletenliste!C59)","v":""},{"$f":"IF(Athletenliste!D59=\"\",\"\",Athletenliste!D59)","v":""},{"$f":"IF(Athletenliste!E59=\"\",\"\",Athletenliste!E59)","v":""},{"$f":"IF(Athletenliste!F59=\"\",\"\",Athletenliste!F59)","v":""},{"$f":"IF(Athletenliste!G59=\"\",\"\",Athletenliste!G59)","v":""},{"$f":"IF(Athletenliste!H59=\"\",\"\",Athletenliste!H59)","v":""},null,null,null,{"$f":"IF(B59=\"\",\"\",IF(D59=\"m\",INDIRECT(VLOOKUP(G59,Bezüge!$E$6:$F$16,2,FALSE)&ROW(G59)),INDIRECT(VLOOKUP(G59,Bezüge!$B$6:$C$16,2,FALSE)&ROW(G59))))","v":""},null,"","","","","","","","","","","","","","","","","","","","","","",null,"","","","","","","","","","","","","","","","","","","","","",""]
[null,{"$f":"IF(Athletenliste!B60=\"\",\"\",Athletenliste!B60)","v":""},{"$f":"IF(Athletenliste!C60=\"\",\"\",Athletenliste!C60)","v":""},{"$f":"IF(Athletenliste!D60=\"\",\"\",Athletenliste!D60)","v":""},{"$f":"IF(Athletenliste!E60=\"\",\"\",Athletenliste!E60)","v":""},{"$f":"IF(Athletenliste!F60=\"\",\"\",Athletenliste!F60)","v":""},{"$f":"IF(Athletenliste!G60=\"\",\"\",Athletenliste!G60)","v":""},{"$f":"IF(Athletenliste!H60=\"\",\"\",Athletenliste!H60)","v":""},null,null,null,{"$f":"IF(B60=\"\",\"\",IF(D60=\"m\",INDIRECT(VLOOKUP(G60,Bezüge!$E$6:$F$16,2,FALSE)&ROW(G60)),INDIRECT(VLOOKUP(G60,Bezüge!$B$6:$C$16,2,FALSE)&ROW(G60))))","v":""},null,"","","","","","","","","","","","","","","","","","","","","","",null,"","","","","","","","","","","","","","","","","","","","","",""]
[null,{"$f":"IF(Athletenliste!B61=\"\",\"\",Athletenliste!B61)","v":""},{"$f":"IF(Athletenliste!C61=\"\",\"\",Athletenliste!C61)","v":""},{"$f":"IF(Athletenliste!D61=\"\",\"\",Athletenliste!D61)","v":""},{"$f":"IF(Athletenliste!E61=\"\",\"\",Athletenliste!E61)","v":""},{"$f":"IF(Athletenliste!F61=\"\",\"\",Athletenliste!F61)","v":""},{"$f":"IF(Athletenliste!G61=\"\",\"\",Athletenliste!G61)","v":""},{"$f":"IF(Athletenliste!H61=\"\",\"\",Athletenliste!H61)","v":""},null,null,null,{"$f":"IF(B61=\"\",\"\",IF(D61=\"m\",INDIRECT(VLOOKUP(G61,Bezüge!$E$6:$F$16,2,FALSE)&ROW(G61)),INDIRECT(VLOOKUP(G61,Bezüge!$B$6:$C$16,2,FALSE)&ROW(G61))))","v":""},null,"","","","","","","","","","","","","","","","","","","","","","",null,"","","","","","","","","","","","","","","","","","","","","",""]
[null,{"$f":"IF(Athletenliste!B62=\"\",\"\",Athletenliste!B62)","v":""},{"$f":"IF(Athletenliste!C62=\"\",\"\",Athletenliste!C62)","v":""},{"$f":"IF(Athletenliste!D62=\"\",\"\",Athletenliste!D62)","v":""},{"$f":"IF(Athletenliste!E62=\"\",\"\",Athletenliste!E62)","v":""},{"$f":"IF(Athletenliste!F62=\"\",\"\",Athletenliste!F62)","v":""},{"$f":"IF(Athletenliste!G62=\"\",\"\",Athletenliste!G62)","v":""},{"$f":"IF(Athletenliste!H62=\"\",\"\",Athletenliste!H62)","v":""},null,null,null,{"$f":"IF(B62=\"\",\"\",IF(D62=\"m\",INDIRECT(VLOOKUP(G62,Bezüge!$E$6:$F$16,2,FALSE)&ROW(G62)),INDIRECT(VLOOKUP(G62,Bezüge!$B$6:$C$16,2,FALSE)&ROW(G62))))","v":""},null,"","","","","","","","","","","","","","","","","","","","","","",null,"","","","","","","","","","","","","","","","","","","","","",""]
[null,{"$f":"IF(Athletenliste!B63=\"\",\"\",Athletenliste!B63)","v":""},{"$f":"IF(Athletenliste!C63=\"\",\"\",Athletenliste!C63)","v":""},{"$f":"IF(Athletenliste!D63=\"\",\"\",Athletenliste!D63)","v":""},{"$f":"IF(Athletenliste!E63=\"\",\"\",Athletenliste!E63)","v":""},{"$f":"IF(Athletenliste!F63=\"\",\"\",Athletenliste!F63)","v":""},{"$f":"IF(Athletenliste!G63=\"\",\"\",Athletenliste!G63)","v":""},{"$f":"IF(Athletenliste!H63=\"\",\"\",Athletenliste!H63)","v":""},null,null,null,{"$f":"IF(B63=\"\",\"\",IF(D63=\"m\",INDIRECT(VLOOKUP(G63,Bezüge!$E$6:$F$16,2,FALSE)&ROW(G63)),INDIRECT(VLOOKUP(G63,Bezüge!$B$6:$C$16,2,FALSE)&ROW(G63))))","v":""},null,"","","","","","","","","","","","","","","","","","","","","","",null,"","","","","","","","","","","","","","","","","","","","","",""]
[null,{"$f":"IF(Athletenliste!B64=\"\",\"\",Athletenliste!B64)","v":""},{"$f":"IF(Athletenliste!C64=\"\",\"\",Athletenliste!C64)","v":""},{"$f":"IF(Athletenliste!D64=\"\",\"\",Athletenliste!D64)","v":""},{"$f":"IF(Athletenliste!E64=\"\",\"\",Athletenliste!E64)","v":""},{"$f":"IF(Athletenliste!F64=\"\",\"\",Athletenliste!F64)","v":""},{"$f":"IF(Athletenliste!G64=\"\",\"\",Athletenliste!G64)","v":""},{"$f":"IF(Athletenliste!H64=\"\",\"\",Athletenliste!H64)","v":""},null,null,null,{"$f":"IF(B64=\"\",\"\",IF(D64=\"m\",INDIRECT(VLOOKUP(G64,Bezüge!$E$6:$F$16,2,FALSE)&ROW(G64)),INDIRECT(VLOOKUP(G64,Bezüge!$B$6:$C$16,2,FALSE)&ROW(G64))))","v":""},null,"","","","","","","","","","","","","","","","","","","","","","",null,"","","","","","","","","","","","","","","","","","","","","",""]
[null,{"$f":"IF(Athletenliste!B65=\"\",\"\",Athletenliste!B65)","v":""},{"$f":"IF(Athletenliste!C65=\"\",\"\",Athletenliste!C65)","v":""},{"$f":"IF(Athletenliste!D65=\"\",\"\",Athletenliste!D65)","v":""},{"$f":"IF(Athletenliste!E65=\"\",\"\",Athletenliste!E65)","v":""},{"$f":"IF(Athletenliste!F65=\"\",\"\",Athletenliste!F65)","v":""},{"$f":"IF(Athletenliste!G65=\"\",\"\",Athletenliste!G65)","v":""},{"$f":"IF(Athletenliste!H65=\"\",\"\",Athletenliste!H65)","v":""},null,null,null,{"$f":"IF(B65=\"\",\"\",IF(D65=\"m\",INDIRECT(VLOOKUP(G65,Bezüge!$E$6:$F$16,2,FALSE)&ROW(G65)),INDIRECT(VLOOKUP(G65,Bezüge!$B$6:$C$16,2,FALSE)&ROW(G65))))","v":""},null,"","","","","","","","","","","","","","","","","","","","","","",null,"","","","","","","","","","","","","","","","","","","","","",""]
[null,{"$f":"IF(Athletenliste!B66=\"\",\"\",Athletenliste!B66)","v":""},{"$f":"IF(Athletenliste!C66=\"\",\"\",Athletenliste!C66)","v":""},{"$f":"IF(Athletenliste!D66=\"\",\"\",Athletenliste!D66)","v":""},{"$f":"IF(Athletenliste!E66=\"\",\"\",Athletenliste!E66)","v":""},{"$f":"IF(Athletenliste!F66=\"\",\"\",Athletenliste!F66)","v":""},{"$f":"IF(Athletenliste!G66=\"\",\"\",Athletenliste!G66)","v":""},{"$f":"IF(Athletenliste!H66=\"\",\"\",Athletenliste!H66)","v":""},null,null,null,{"$f":"IF(B66=\"\",\"\",IF(D66=\"m\",INDIRECT(VLOOKUP(G66,Bezüge!$E$6:$F$16,2,FALSE)&ROW(G66)),INDIRECT(VLOOKUP(G66,Bezüge!$B$6:$C$16,2,FALSE)&ROW(G66))))","v":""},null,"","","","","","","","","","","","","","","","","","","","","","",null,"","","","","","","","","","","","","","","","","","","","","",""]
[null,{"$f":"IF(Athletenliste!B67=\"\",\"\",Athletenliste!B67)","v":""},{"$f":"IF(Athletenliste!C67=\"\",\"\",Athletenliste!C67)","v":""},{"$f":"IF(Athletenliste!D67=\"\",\"\",Athletenliste!D67)","v":""},{"$f":"IF(Athletenliste!E67=\"\",\"\",Athletenliste!E67)","v":""},{"$f":"IF(Athletenliste!F67=\"\",\"\",Athletenliste!F67)","v":""},{"$f":"IF(Athletenliste!G67=\"\",\"\",Athletenliste!G67)","v":""},{"$f":"IF(Athletenliste!H67=\"\",\"\",Athletenliste!H67)","v":""},null,null,null,{"$f":"IF(B67=\"\",\"\",IF(D67=\"m\",INDIRECT(VLOOKUP(G67,Bezüge!$E$6:$F$16,2,FALSE)&ROW(G67)),INDIRECT(VLOOKUP(G67,Bezüge!$B$6:$C$16,2,FALSE)&ROW(G67))))","v":""},null,"","","","","","","","","","","","","","","","","","","","","","",null,"","","","","","","","","","","","","","","","","","","","","",""]
[null,{"$f":"IF(Athletenliste!B68=\"\",\"\",Athletenliste!B68)","v":""},{"$f":"IF(Athletenliste!C68=\"\",\"\",Athletenliste!C68)","v":""},{"$f":"IF(Athletenliste!D68=\"\",\"\",Athletenliste!D68)","v":""},{"$f":"IF(Athletenliste!E68=\"\",\"\",Athletenliste!E68)","v":""},{"$f":"IF(Athletenliste!F68=\"\",\"\",Athletenliste!F68)","v":""},{"$f":"IF(Athletenliste!G68=\"\",\"\",Athletenliste!G68)","v":""},{"$f":"IF(Athletenliste!H68=\"\",\"\",Athletenliste!H68)","v":""},null,null,null,{"$f":"IF(B68=\"\",\"\",IF(D68=\"m\",INDIRECT(VLOOKUP(G68,Bezüge!$E$6:$F$16,2,FALSE)&ROW(G68)),INDIRECT(VLOOKUP(G68,Bezüge!$B$6:$C$16,2,FALSE)&ROW(G68))))","v":""},null,"","","","","","","","","","","","","","","","","","","","","","",null,"","","","","","","","","","","","","","","","","","","","","",""]
[null,{"$f":"IF(Athletenliste!B69=\"\",\"\",Athletenliste!B69)","v":""},{"$f":"IF(Athletenliste!C69=\"\",\"\",Athletenliste!C69)","v":""},{"$f":"IF(Athletenliste!D69=\"\",\"\",Athletenliste!D69)","v":""},{"$f":"IF(Athletenliste!E69=\"\",\"\",Athletenliste!E69)","v":""},{"$f":"IF(Athletenliste!F69=\"\",\"\",Athletenliste!F69)","v":""},{"$f":"IF(Athletenliste!G69=\"\",\"\",Athletenliste!G69)","v":""},{"$f":"IF(Athletenliste!H69=\"\",\"\",Athletenliste!H69)","v":""},null,null,null,{"$f":"IF(B69=\"\",\"\",IF(D69=\"m\",INDIRECT(VLOOKUP(G69,Bezüge!$E$6:$F$16,2,FALSE)&ROW(G69)),INDIRECT(VLOOKUP(G69,Bezüge!$B$6:$C$16,2,FALSE)&ROW(G69))))","v":""},null,"","","","","","","","","","","","","","","","","","","","","","",null,"","","","","","","","","","","","","","","","","","","","","",""]
[null,{"$f":"IF(Athletenliste!B70=\"\",\"\",Athletenliste!B70)","v":""},{"$f":"IF(Athletenliste!C70=\"\",\"\",Athletenliste!C70)","v":""},{"$f":"IF(Athletenliste!D70=\"\",\"\",Athletenliste!D70)","v":""},{"$f":"IF(Athletenliste!E70=\"\",\"\",Athletenliste!E70)","v":""},{"$f":"IF(Athletenliste!F70=\"\",\"\",Athletenliste!F70)","v":""},{"$f":"IF(Athletenliste!G70=\"\",\"\",Athletenliste!G70)","v":""},{"$f":"IF(Athletenliste!H70=\"\",\"\",Athletenliste!H70)","v":""},null,null,null,{"$f":"IF(B70=\"\",\"\",IF(D70=\"m\",INDIRECT(VLOOKUP(G70,Bezüge!$E$6:$F$16,2,FALSE)&ROW(G70)),INDIRECT(VLOOKUP(G70,Bezüge!$B$6:$C$16,2,FALSE)&ROW(G70))))","v":""},null,"","","","","","","","","","","","","","","","","","","","","","",null,"","","","","","","","","","","","","","","","","","","","","",""]
[null,{"$f":"IF(Athletenliste!B71=\"\",\"\",Athletenliste!B71)","v":""},{"$f":"IF(Athletenliste!C71=\"\",\"\",Athletenliste!C71)","v":""},{"$f":"IF(Athletenliste!D71=\"\",\"\",Athletenliste!D71)","v":""},{"$f":"IF(Athletenliste!E71=\"\",\"\",Athletenliste!E71)","v":""},{"$f":"IF(Athletenliste!F71=\"\",\"\",Athletenliste!F71)","v":""},{"$f":"IF(Athletenliste!G71=\"\",\"\",Athletenliste!G71)","v":""},{"$f":"IF(Athletenliste!H71=\"\",\"\",Athletenliste!H71)","v":""},null,null,null,{"$f":"IF(B71=\"\",\"\",IF(D71=\"m\",INDIRECT(VLOOKUP(G71,Bezüge!$E$6:$F$16,2,FALSE)&ROW(G71)),INDIRECT(VLOOKUP(G71,Bezüge!$B$6:$C$16,2,FALSE)&ROW(G71))))","v":""},null,"","","","","","","","","","","","","","","","","","","","","","",null,"","","","","","","","","","","","","","","","","","","","","",""]
[null,{"$f":"IF(Athletenliste!B72=\"\",\"\",Athletenliste!B72)","v":""},{"$f":"IF(Athletenliste!C72=\"\",\"\",Athletenliste!C72)","v":""},{"$f":"IF(Athletenliste!D72=\"\",\"\",Athletenliste!D72)","v":""},{"$f":"IF(Athletenliste!E72=\"\",\"\",Athletenliste!E72)","v":""},{"$f":"IF(Athletenliste!F72=\"\",\"\",Athletenliste!F72)","v":""},{"$f":"IF(Athletenliste!G72=\"\",\"\",Athletenliste!G72)","v":""},{"$f":"IF(Athletenliste!H72=\"\",\"\",Athletenliste!H72)","v":""},null,null,null,{"$f":"IF(B72=\"\",\"\",IF(D72=\"m\",INDIRECT(VLOOKUP(G72,Bezüge!$E$6:$F$16,2,FALSE)&ROW(G72)),INDIRECT(VLOOKUP(G72,Bezüge!$B$6:$C$16,2,FALSE)&ROW(G72))))","v":""},null,"","","","","","","","","","","","","","","","","","","","","","",null,"","","","","","","","","","","","","","","","","","","","","",""]
[null,{"$f":"IF(Athletenliste!B73=\"\",\"\",Athletenliste!B73)","v":""},{"$f":"IF(Athletenliste!C73=\"\",\"\",Athletenliste!C73)","v":""},{"$f":"IF(Athletenliste!D73=\"\",\"\",Athletenliste!D73)","v":""},{"$f":"IF(Athletenliste!E73=\"\",\"\",Athletenliste!E73)","v":""},{"$f":"IF(Athletenliste!F73=\"\",\"\",Athletenliste!F73)","v":""},{"$f":"IF(Athletenliste!G73=\"\",\"\",Athletenliste!G73)","v":""},{"$f":"IF(Athletenliste!H73=\"\",\"\",Athletenliste!H73)","v":""},null,null,null,{"$f":"IF(B73=\"\",\"\",IF(D73=\"m\",INDIRECT(VLOOKUP(G73,Bezüge!$E$6:$F$16,2,FALSE)&ROW(G73)),INDIRECT(VLOOKUP(G73,Bezüge!$B$6:$C$16,2,FALSE)&ROW(G73))))","v":""},null,"","","","","","","","","","","","","","","","","","","","","","",null,"","","","","","","","","","","","","","","","","","","","","",""]
[null,{"$f":"IF(Athletenliste!B74=\"\",\"\",Athletenliste!B74)","v":""},{"$f":"IF(Athletenliste!C74=\"\",\"\",Athletenliste!C74)","v":""},{"$f":"IF(Athletenliste!D74=\"\",\"\",Athletenliste!D74)","v":""},{"$f":"IF(Athletenliste!E74=\"\",\"\",Athletenliste!E74)","v":""},{"$f":"IF(Athletenliste!F74=\"\",\"\",Athletenliste!F74)","v":""},{"$f":"IF(Athletenliste!G74=\"\",\"\",Athletenliste!G74)","v":""},{"$f":"IF(Athletenliste!H74=\"\",\"\",Athletenliste!H74)","v":""},null,null,null,{"$f":"IF(B74=\"\",\"\",IF(D74=\"m\",INDIRECT(VLOOKUP(G74,Bezüge!$E$6:$F$16,2,FALSE)&ROW(G74)),INDIRECT(VLOOKUP(G74,Bezüge!$B$6:$C$16,2,FALSE)&ROW(G74))))","v":""},null,"","","","","","","","","","","","","","","","","","","","","","",null,"","","","","","","","","","","","","","","","","","","","","",""]
[null,{"$f":"IF(Athletenliste!B75=\"\",\"\",Athletenliste!B75)","v":""},{"$f":"IF(Athletenliste!C75=\"\",\"\",Athletenliste!C75)","v":""},{"$f":"IF(Athletenliste!D75=\"\",\"\",Athletenliste!D75)","v":""},{"$f":"IF(Athletenliste!E75=\"\",\"\",Athletenliste!E75)","v":""},{"$f":"IF(Athletenliste!F75=\"\",\"\",Athletenliste!F75)","v":""},{"$f":"IF(Athletenliste!G75=\"\",\"\",Athletenliste!G75)","v":""},{"$f":"IF(Athletenliste!H75=\"\",\"\",Athletenliste!H75)","v":""},null,null,null,{"$f":"IF(B75=\"\",\"\",IF(D75=\"m\",INDIRECT(VLOOKUP(G75,Bezüge!$E$6:$F$16,2,FALSE)&ROW(G75)),INDIRECT(VLOOKUP(G75,Bezüge!$B$6:$C$16,2,FALSE)&ROW(G75))))","v":""},null,{"$f":"IF(AND(D75=\"m\",G75=\"U06\",K75<>\"\"),K75,\"\")","v":""},{"$f":"IF(OR(K75=\"\",N75=\"\"),\"\",_xlfn.RANK.EQ(N75,N$10:N$200))","v":""},{"$f":"IF(AND(D75=\"m\",G75=\"U07\",K75<>\"\"),K75,\"\")","v":""},{"$f":"IF(OR(K75=\"\",P75=\"\"),\"\",_xlfn.RANK.EQ(P75,P$10:P$200))","v":""},{"$f":"IF(AND(D75=\"m\",G75=\"U08\",K75<>\"\"),K75,\"\")","v":""},{"$f":"IF(OR(K75=\"\",R75=\"\"),\"\",_xlfn.RANK.EQ(R75,R$10:R$200))","v":""},{"$f":"IF(AND(D75=\"m\",G75=\"U09\",K75<>\"\"),K75,\"\")","v":""},{"$f":"IF(OR(K75=\"\",T75=\"\"),\"\",_xlfn.RANK.EQ(T75,T$10:T$200))","v":""},{"$f":"IF(AND(D75=\"m\",G75=\"U10\",K75<>\"\"),K75,\"\")","v":""},{"$f":"IF(OR(K75=\"\",V75=\"\"),\"\",_xlfn.RANK.EQ(V75,V$10:V$200))","v":""},{"$f":"IF(AND(D75=\"m\",G75=\"U11\",K75<>\"\"),K75,\"\")","v":""},{"$f":"IF(OR(K75=\"\",X75=\"\"),\"\",_xlfn.RANK.EQ(X75,X$10:X$200))","v":""},{"$f":"IF(AND(D75=\"m\",G75=\"U12\",K75<>\"\"),K75,\"\")","v":""},{"$f":"IF(OR(K75=\"\",Z75=\"\"),\"\",_xlfn.RANK.EQ(Z75,Z$10:Z$200))","v":""},{"$f":"IF(AND(D75=\"m\",G75=\"U13\",K75<>\"\"),K75,\"\")","v":""},{"$f":"IF(OR(K75=\"\",AB75=\"\"),\"\",_xlfn.RANK.EQ(AB75,AB$10:AB$200))","v":""},{"$f":"IF(AND(D75=\"m\",G75=\"U14\",K75<>\"\"),K75,\"\")","v":""},{"$f":"IF(OR(K75=\"\",AD75=\"\"),\"\",_xlfn.RANK.EQ(AD75,AD$10:AD$200))","v":""},{"$f":"IF(AND(D75=\"m\",G75=\"U15\",K75<>\"\"),K75,\"\")","v":""},{"$f":"IF(OR(K75=\"\",AF75=\"\"),\"\",_xlfn.RANK.EQ(AF75,AF$10:AF$200))","v":""},{"$f":"IF(AND(D75=\"m\",G75=\"U16\",K75<>\"\"),K75,\"\")","v":""},{"$f":"IF(OR(K75=\"\",AH75=\"\"),\"\",_xlfn.RANK.EQ(AH75,AH$10:AH$200))","v":""},null,{"$f":"IF(AND(D75=\"w\",G75=\"U06\",K75<>\"\"),K75,\"\")","v":""},{"$f":"IF(OR(K75=\"\",AI75=\"\"),\"\",_xlfn.RANK.EQ(AI75,AI$10:AI$200))","v":""},{"$f":"IF(AND(D75=\"w\",G75=\"U07\",K75<>\"\"),K75,\"\")","v":""},{"$f":"IF(OR(K75=\"\",AM75=\"\"),\"\",_xlfn.RANK.EQ(AM75,AM$10:AM$20))","v":""},{"$f":"IF(AND(D75=\"w\",G75=\"U08\",K75<>\"\"),K75,\"\")","v":""},{"$f":"IF(OR(K75=\"\",AO75=\"\"),\"\",_xlfn.RANK.EQ(AO75,AO$10:AO$200,0))","v":""},{"$f":"IF(AND(D75=\"w\",G75=\"U09\",K75<>\"\"),K75,\"\")","v":""},{"$f":"IF(OR(K75=\"\",AQ75=\"\"),\"\",_xlfn.RANK.EQ(AQ75,AQ$10:AQ$200))","v":""},{"$f":"IF(AND(D75=\"w\",G75=\"U10\",K75<>\"\"),K75,\"\")","v":""},{"$f":"IF(OR(K75=\"\",AS75=\"\"),\"\",_xlfn.RANK.EQ(AS75,AS$10:AS$200))","v":""},{"$f":"IF(AND(D75=\"w\",G75=\"U11\",K75<>\"\"),K75,\"\")","v":""},{"$f":"IF(OR(K75=\"\",AU75=\"\"),\"\",_xlfn.RANK.EQ(AU75,AU$10:AU$200))","v":""},{"$f":"IF(AND(D75=\"w\",G75=\"U12\",K75<>\"\"),K75,\"\")","v":""},{"$f":"IF(OR(K75=\"\",AW75=\"\"),\"\",_xlfn.RANK.EQ(AW75,AW$10:AW$200))","v":""},{"$f":"IF(AND(D75=\"w\",G75=\"U13\",K75<>\"\"),K75,\"\")","v":""},{"$f":"IF(OR(K75=\"\",AY75=\"\"),\"\",_xlfn.RANK.EQ(AY75,AY$10:AY$200))","v":""},{"$f":"IF(AND(D75=\"w\",G75=\"U14\",K75<>\"\"),K75,\"\")","v":""},{"$f":"IF(OR(K75=\"\",BA75=\"\"),\"\",_xlfn.RANK.EQ(BA75,BA$10:BA$200))","v":""},{"$f":"IF(AND(D75=\"w\",G75=\"U15\",K75<>\"\"),K75,\"\")","v":""},{"$f":"IF(OR(K75=\"\",BC75=\"\"),\"\",_xlfn.RANK.EQ(BC75,BC$10:BC$200))","v":""},{"$f":"IF(AND(D75=\"w\",G75=\"U16\",K75<>\"\"),K75,\"\")","v":""},{"$f":"IF(OR(K75=\"\",BE75=\"\"),\"\",_xlfn.RANK.EQ(BE75,BE$10:BE$200))","v":""}]
[null,{"$f":"IF(Athletenliste!B76=\"\",\"\",Athletenliste!B76)","v":""},{"$f":"IF(Athletenliste!C76=\"\",\"\",Athletenliste!C76)","v":""},{"$f":"IF(Athletenliste!D76=\"\",\"\",Athletenliste!D76)","v":""},{"$f":"IF(Athletenliste!E76=\"\",\"\",Athletenliste!E76)","v":""},{"$f":"IF(Athletenliste!F76=\"\",\"\",Athletenliste!F76)","v":""},{"$f":"IF(Athletenliste!G76=\"\",\"\",Athletenliste!G76)","v":""},{"$f":"IF(Athletenliste!H76=\"\",\"\",Athletenliste!H76)","v":""},null,null,null,{"$f":"IF(B76=\"\",\"\",IF(D76=\"m\",INDIRECT(VLOOKUP(G76,Bezüge!$E$6:$F$16,2,FALSE)&ROW(G76)),INDIRECT(VLOOKUP(G76,Bezüge!$B$6:$C$16,2,FALSE)&ROW(G76))))","v":""},null,"","","","","","","","","","","","","","","","","","","","","","",null,"","","","","","","","","","","","","","","","","","","","","",""]
[null,{"$f":"IF(Athletenliste!B77=\"\",\"\",Athletenliste!B77)","v":""},{"$f":"IF(Athletenliste!C77=\"\",\"\",Athletenliste!C77)","v":""},{"$f":"IF(Athletenliste!D77=\"\",\"\",Athletenliste!D77)","v":""},{"$f":"IF(Athletenliste!E77=\"\",\"\",Athletenliste!E77)","v":""},{"$f":"IF(Athletenliste!F77=\"\",\"\",Athletenliste!F77)","v":""},{"$f":"IF(Athletenliste!G77=\"\",\"\",Athletenliste!G77)","v":""},{"$f":"IF(Athletenliste!H77=\"\",\"\",Athletenliste!H77)","v":""},null,null,null,{"$f":"IF(B77=\"\",\"\",IF(D77=\"m\",INDIRECT(VLOOKUP(G77,Bezüge!$E$6:$F$16,2,FALSE)&ROW(G77)),INDIRECT(VLOOKUP(G77,Bezüge!$B$6:$C$16,2,FALSE)&ROW(G77))))","v":""},null,"","","","","","","","","","","","","","","","","","","","","","",null,"","","","","","","","","","","","","","","","","","","","","",""]
[null,{"$f":"IF(Athletenliste!B78=\"\",\"\",Athletenliste!B78)","v":""},{"$f":"IF(Athletenliste!C78=\"\",\"\",Athletenliste!C78)","v":""},{"$f":"IF(Athletenliste!D78=\"\",\"\",Athletenliste!D78)","v":""},{"$f":"IF(Athletenliste!E78=\"\",\"\",Athletenliste!E78)","v":""},{"$f":"IF(Athletenliste!F78=\"\",\"\",Athletenliste!F78)","v":""},{"$f":"IF(Athletenliste!G78=\"\",\"\",Athletenliste!G78)","v":""},{"$f":"IF(Athletenliste!H78=\"\",\"\",Athletenliste!H78)","v":""},null,null,null,{"$f":"IF(B78=\"\",\"\",IF(D78=\"m\",INDIRECT(VLOOKUP(G78,Bezüge!$E$6:$F$16,2,FALSE)&ROW(G78)),INDIRECT(VLOOKUP(G78,Bezüge!$B$6:$C$16,2,FALSE)&ROW(G78))))","v":""},null,"","","","","","","","","","","","","","","","","","","","","","",null,"","","","","","","","","","","","","","","","","","","","","",""]
[null,{"$f":"IF(Athletenliste!B79=\"\",\"\",Athletenliste!B79)","v":""},{"$f":"IF(Athletenliste!C79=\"\",\"\",Athletenliste!C79)","v":""},{"$f":"IF(Athletenliste!D79=\"\",\"\",Athletenliste!D79)","v":""},{"$f":"IF(Athletenliste!E79=\"\",\"\",Athletenliste!E79)","v":""},{"$f":"IF(Athletenliste!F79=\"\",\"\",Athletenliste!F79)","v":""},{"$f":"IF(Athletenliste!G79=\"\",\"\",Athletenliste!G79)","v":""},{"$f":"IF(Athletenliste!H79=\"\",\"\",Athletenliste!H79)","v":""},null,null,null,{"$f":"IF(B79=\"\",\"\",IF(D79=\"m\",INDIRECT(VLOOKUP(G79,Bezüge!$E$6:$F$16,2,FALSE)&ROW(G79)),INDIRECT(VLOOKUP(G79,Bezüge!$B$6:$C$16,2,FALSE)&ROW(G79))))","v":""},null,"","","","","","","","","","","","","","","","","","","","","","",null,"","","","","","","","","","","","","","","","","","","","","",""]
[null,{"$f":"IF(Athletenliste!B80=\"\",\"\",Athletenliste!B80)","v":""},{"$f":"IF(Athletenliste!C80=\"\",\"\",Athletenliste!C80)","v":""},{"$f":"IF(Athletenliste!D80=\"\",\"\",Athletenliste!D80)","v":""},{"$f":"IF(Athletenliste!E80=\"\",\"\",Athletenliste!E80)","v":""},{"$f":"IF(Athletenliste!F80=\"\",\"\",Athletenliste!F80)","v":""},{"$f":"IF(Athletenliste!G80=\"\",\"\",Athletenliste!G80)","v":""},{"$f":"IF(Athletenliste!H80=\"\",\"\",Athletenliste!H80)","v":""},null,null,null,{"$f":"IF(B80=\"\",\"\",IF(D80=\"m\",INDIRECT(VLOOKUP(G80,Bezüge!$E$6:$F$16,2,FALSE)&ROW(G80)),INDIRECT(VLOOKUP(G80,Bezüge!$B$6:$C$16,2,FALSE)&ROW(G80))))","v":""},null,"","","","","","","","","","","","","","","","","","","","","","",null,"","","","","","","","","","","","","","","","","","","","","",""]
[null,{"$f":"IF(Athletenliste!B81=\"\",\"\",Athletenliste!B81)","v":""},{"$f":"IF(Athletenliste!C81=\"\",\"\",Athletenliste!C81)","v":""},{"$f":"IF(Athletenliste!D81=\"\",\"\",Athletenliste!D81)","v":""},{"$f":"IF(Athletenliste!E81=\"\",\"\",Athletenliste!E81)","v":""},{"$f":"IF(Athletenliste!F81=\"\",\"\",Athletenliste!F81)","v":""},{"$f":"IF(Athletenliste!G81=\"\",\"\",Athletenliste!G81)","v":""},{"$f":"IF(Athletenliste!H81=\"\",\"\",Athletenliste!H81)","v":""},null,null,null,{"$f":"IF(B81=\"\",\"\",IF(D81=\"m\",INDIRECT(VLOOKUP(G81,Bezüge!$E$6:$F$16,2,FALSE)&ROW(G81)),INDIRECT(VLOOKUP(G81,Bezüge!$B$6:$C$16,2,FALSE)&ROW(G81))))","v":""},null,"","","","","","","","","","","","","","","","","","","","","","",null,"","","","","","","","","","","","","","","","","","","","","",""]
[null,{"$f":"IF(Athletenliste!B82=\"\",\"\",Athletenliste!B82)","v":""},{"$f":"IF(Athletenliste!C82=\"\",\"\",Athletenliste!C82)","v":""},{"$f":"IF(Athletenliste!D82=\"\",\"\",Athletenliste!D82)","v":""},{"$f":"IF(Athletenliste!E82=\"\",\"\",Athletenliste!E82)","v":""},{"$f":"IF(Athletenliste!F82=\"\",\"\",Athletenliste!F82)","v":""},{"$f":"IF(Athletenliste!G82=\"\",\"\",Athletenliste!G82)","v":""},{"$f":"IF(Athletenliste!H82=\"\",\"\",Athletenliste!H82)","v":""},null,null,null,{"$f":"IF(B82=\"\",\"\",IF(D82=\"m\",INDIRECT(VLOOKUP(G82,Bezüge!$E$6:$F$16,2,FALSE)&ROW(G82)),INDIRECT(VLOOKUP(G82,Bezüge!$B$6:$C$16,2,FALSE)&ROW(G82))))","v":""},null,"","","","","","","","","","","","","","","","","","","","","","",null,"","","","","","","","","","","","","","","","","","","","","",""]
[null,{"$f":"IF(Athletenliste!B83=\"\",\"\",Athletenliste!B83)","v":""},{"$f":"IF(Athletenliste!C83=\"\",\"\",Athletenliste!C83)","v":""},{"$f":"IF(Athletenliste!D83=\"\",\"\",Athletenliste!D83)","v":""},{"$f":"IF(Athletenliste!E83=\"\",\"\",Athletenliste!E83)","v":""},{"$f":"IF(Athletenliste!F83=\"\",\"\",Athletenliste!F83)","v":""},{"$f":"IF(Athletenliste!G83=\"\",\"\",Athletenliste!G83)","v":""},{"$f":"IF(Athletenliste!H83=\"\",\"\",Athletenliste!H83)","v":""},null,null,null,{"$f":"IF(B83=\"\",\"\",IF(D83=\"m\",INDIRECT(VLOOKUP(G83,Bezüge!$E$6:$F$16,2,FALSE)&ROW(G83)),INDIRECT(VLOOKUP(G83,Bezüge!$B$6:$C$16,2,FALSE)&ROW(G83))))","v":""},null,"","","","","","","","","","","","","","","","","","","","","","",null,"","","","","","","","","","","","","","","","","","","","","",""]
[null,{"$f":"IF(Athletenliste!B84=\"\",\"\",Athletenliste!B84)","v":""},{"$f":"IF(Athletenliste!C84=\"\",\"\",Athletenliste!C84)","v":""},{"$f":"IF(Athletenliste!D84=\"\",\"\",Athletenliste!D84)","v":""},{"$f":"IF(Athletenliste!E84=\"\",\"\",Athletenliste!E84)","v":""},{"$f":"IF(Athletenliste!F84=\"\",\"\",Athletenliste!F84)","v":""},{"$f":"IF(Athletenliste!G84=\"\",\"\",Athletenliste!G84)","v":""},{"$f":"IF(Athletenliste!H84=\"\",\"\",Athletenliste!H84)","v":""},null,null,null,{"$f":"IF(B84=\"\",\"\",IF(D84=\"m\",INDIRECT(VLOOKUP(G84,Bezüge!$E$6:$F$16,2,FALSE)&ROW(G84)),INDIRECT(VLOOKUP(G84,Bezüge!$B$6:$C$16,2,FALSE)&ROW(G84))))","v":""},null,"","","","","","","","","","","","","","","","","","","","","","",null,"","","","","","","","","","","","","","","","","","","","","",""]
[null,{"$f":"IF(Athletenliste!B85=\"\",\"\",Athletenliste!B85)","v":""},{"$f":"IF(Athletenliste!C85=\"\",\"\",Athletenliste!C85)","v":""},{"$f":"IF(Athletenliste!D85=\"\",\"\",Athletenliste!D85)","v":""},{"$f":"IF(Athletenliste!E85=\"\",\"\",Athletenliste!E85)","v":""},{"$f":"IF(Athletenliste!F85=\"\",\"\",Athletenliste!F85)","v":""},{"$f":"IF(Athletenliste!G85=\"\",\"\",Athletenliste!G85)","v":""},{"$f":"IF(Athletenliste!H85=\"\",\"\",Athletenliste!H85)","v":""},null,null,null,{"$f":"IF(B85=\"\",\"\",IF(D85=\"m\",INDIRECT(VLOOKUP(G85,Bezüge!$E$6:$F$16,2,FALSE)&ROW(G85)),INDIRECT(VLOOKUP(G85,Bezüge!$B$6:$C$16,2,FALSE)&ROW(G85))))","v":""},null,"","","","","","","","","","","","","","","","","","","","","","",null,"","","","","","","","","","","","","","","","","","","","","",""]
[null,{"$f":"IF(Athletenliste!B86=\"\",\"\",Athletenliste!B86)","v":""},{"$f":"IF(Athletenliste!C86=\"\",\"\",Athletenliste!C86)","v":""},{"$f":"IF(Athletenliste!D86=\"\",\"\",Athletenliste!D86)","v":""},{"$f":"IF(Athletenliste!E86=\"\",\"\",Athletenliste!E86)","v":""},{"$f":"IF(Athletenliste!F86=\"\",\"\",Athletenliste!F86)","v":""},{"$f":"IF(Athletenliste!G86=\"\",\"\",Athletenliste!G86)","v":""},{"$f":"IF(Athletenliste!H86=\"\",\"\",Athletenliste!H86)","v":""},null,null,null,{"$f":"IF(B86=\"\",\"\",IF(D86=\"m\",INDIRECT(VLOOKUP(G86,Bezüge!$E$6:$F$16,2,FALSE)&ROW(G86)),INDIRECT(VLOOKUP(G86,Bezüge!$B$6:$C$16,2,FALSE)&ROW(G86))))","v":""},null,"","","","","","","","","","","","","","","","","","","","","","",null,"","","","","","","","","","","","","","","","","","","","","",""]
[null,{"$f":"IF(Athletenliste!B87=\"\",\"\",Athletenliste!B87)","v":""},{"$f":"IF(Athletenliste!C87=\"\",\"\",Athletenliste!C87)","v":""},{"$f":"IF(Athletenliste!D87=\"\",\"\",Athletenliste!D87)","v":""},{"$f":"IF(Athletenliste!E87=\"\",\"\",Athletenliste!E87)","v":""},{"$f":"IF(Athletenliste!F87=\"\",\"\",Athletenliste!F87)","v":""},{"$f":"IF(Athletenliste!G87=\"\",\"\",Athletenliste!G87)","v":""},{"$f":"IF(Athletenliste!H87=\"\",\"\",Athletenliste!H87)","v":""},null,null,null,{"$f":"IF(B87=\"\",\"\",IF(D87=\"m\",INDIRECT(VLOOKUP(G87,Bezüge!$E$6:$F$16,2,FALSE)&ROW(G87)),INDIRECT(VLOOKUP(G87,Bezüge!$B$6:$C$16,2,FALSE)&ROW(G87))))","v":""},null,"","","","","","","","","","","","","","","","","","","","","","",null,"","","","","","","","","","","","","","","","","","","","","",""]
[null,{"$f":"IF(Athletenliste!B88=\"\",\"\",Athletenliste!B88)","v":""},{"$f":"IF(Athletenliste!C88=\"\",\"\",Athletenliste!C88)","v":""},{"$f":"IF(Athletenliste!D88=\"\",\"\",Athletenliste!D88)","v":""},{"$f":"IF(Athletenliste!E88=\"\",\"\",Athletenliste!E88)","v":""},{"$f":"IF(Athletenliste!F88=\"\",\"\",Athletenliste!F88)","v":""},{"$f":"IF(Athletenliste!G88=\"\",\"\",Athletenliste!G88)","v":""},{"$f":"IF(Athletenliste!H88=\"\",\"\",Athletenliste!H88)","v":""},null,null,null,{"$f":"IF(B88=\"\",\"\",IF(D88=\"m\",INDIRECT(VLOOKUP(G88,Bezüge!$E$6:$F$16,2,FALSE)&ROW(G88)),INDIRECT(VLOOKUP(G88,Bezüge!$B$6:$C$16,2,FALSE)&ROW(G88))))","v":""},null,"","","","","","","","","","","","","","","","","","","","","","",null,"","","","","","","","","","","","","","","","","","","","","",""]
[null,{"$f":"IF(Athletenliste!B89=\"\",\"\",Athletenliste!B89)","v":""},{"$f":"IF(Athletenliste!C89=\"\",\"\",Athletenliste!C89)","v":""},{"$f":"IF(Athletenliste!D89=\"\",\"\",Athletenliste!D89)","v":""},{"$f":"IF(Athletenliste!E89=\"\",\"\",Athletenliste!E89)","v":""},{"$f":"IF(Athletenliste!F89=\"\",\"\",Athletenliste!F89)","v":""},{"$f":"IF(Athletenliste!G89=\"\",\"\",Athletenliste!G89)","v":""},{"$f":"IF(Athletenliste!H89=\"\",\"\",Athletenliste!H89)","v":""},null,null,null,{"$f":"IF(B89=\"\",\"\",IF(D89=\"m\",INDIRECT(VLOOKUP(G89,Bezüge!$E$6:$F$16,2,FALSE)&ROW(G89)),INDIRECT(VLOOKUP(G89,Bezüge!$B$6:$C$16,2,FALSE)&ROW(G89))))","v":""},null,"","","","","","","","","","","","","","","","","","","","","","",null,"","","","","","","","","","","","","","","","","","","","","",""]
[null,{"$f":"IF(Athletenliste!B90=\"\",\"\",Athletenliste!B90)","v":""},{"$f":"IF(Athletenliste!C90=\"\",\"\",Athletenliste!C90)","v":""},{"$f":"IF(Athletenliste!D90=\"\",\"\",Athletenliste!D90)","v":""},{"$f":"IF(Athletenliste!E90=\"\",\"\",Athletenliste!E90)","v":""},{"$f":"IF(Athletenliste!F90=\"\",\"\",Athletenliste!F90)","v":""},{"$f":"IF(Athletenliste!G90=\"\",\"\",Athletenliste!G90)","v":""},{"$f":"IF(Athletenliste!H90=\"\",\"\",Athletenliste!H90)","v":""},null,null,null,{"$f":"IF(B90=\"\",\"\",IF(D90=\"m\",INDIRECT(VLOOKUP(G90,Bezüge!$E$6:$F$16,2,FALSE)&ROW(G90)),INDIRECT(VLOOKUP(G90,Bezüge!$B$6:$C$16,2,FALSE)&ROW(G90))))","v":""},null,"","","","","","","","","","","","","","","","","","","","","","",null,"","","","","","","","","","","","","","","","","","","","","",""]
[null,{"$f":"IF(Athletenliste!B91=\"\",\"\",Athletenliste!B91)","v":""},{"$f":"IF(Athletenliste!C91=\"\",\"\",Athletenliste!C91)","v":""},{"$f":"IF(Athletenliste!D91=\"\",\"\",Athletenliste!D91)","v":""},{"$f":"IF(Athletenliste!E91=\"\",\"\",Athletenliste!E91)","v":""},{"$f":"IF(Athletenliste!F91=\"\",\"\",Athletenliste!F91)","v":""},{"$f":"IF(Athletenliste!G91=\"\",\"\",Athletenliste!G91)","v":""},{"$f":"IF(Athletenliste!H91=\"\",\"\",Athletenliste!H91)","v":""},null,null,null,{"$f":"IF(B91=\"\",\"\",IF(D91=\"m\",INDIRECT(VLOOKUP(G91,Bezüge!$E$6:$F$16,2,FALSE)&ROW(G91)),INDIRECT(VLOOKUP(G91,Bezüge!$B$6:$C$16,2,FALSE)&ROW(G91))))","v":""},null,"","","","","","","","","","","","","","","","","","","","","","",null,"","","","","","","","","","","","","","","","","","","","","",""]
[null,{"$f":"IF(Athletenliste!B92=\"\",\"\",Athletenliste!B92)","v":""},{"$f":"IF(Athletenliste!C92=\"\",\"\",Athletenliste!C92)","v":""},{"$f":"IF(Athletenliste!D92=\"\",\"\",Athletenliste!D92)","v":""},{"$f":"IF(Athletenliste!E92=\"\",\"\",Athletenliste!E92)","v":""},{"$f":"IF(Athletenliste!F92=\"\",\"\",Athletenliste!F92)","v":""},{"$f":"IF(Athletenliste!G92=\"\",\"\",Athletenliste!G92)","v":""},{"$f":"IF(Athletenliste!H92=\"\",\"\",Athletenliste!H92)","v":""},null,null,null,{"$f":"IF(B92=\"\",\"\",IF(D92=\"m\",INDIRECT(VLOOKUP(G92,Bezüge!$E$6:$F$16,2,FALSE)&ROW(G92)),INDIRECT(VLOOKUP(G92,Bezüge!$B$6:$C$16,2,FALSE)&ROW(G92))))","v":""},null,"","","","","","","","","","","","","","","","","","","","","","",null,"","","","","","","","","","","","","","","","","","","","","",""]
[null,{"$f":"IF(Athletenliste!B93=\"\",\"\",Athletenliste!B93)","v":""},{"$f":"IF(Athletenliste!C93=\"\",\"\",Athletenliste!C93)","v":""},{"$f":"IF(Athletenliste!D93=\"\",\"\",Athletenliste!D93)","v":""},{"$f":"IF(Athletenliste!E93=\"\",\"\",Athletenliste!E93)","v":""},{"$f":"IF(Athletenliste!F93=\"\",\"\",Athletenliste!F93)","v":""},{"$f":"IF(Athletenliste!G93=\"\",\"\",Athletenliste!G93)","v":""},{"$f":"IF(Athletenliste!H93=\"\",\"\",Athletenliste!H93)","v":""},null,null,null,{"$f":"IF(B93=\"\",\"\",IF(D93=\"m\",INDIRECT(VLOOKUP(G93,Bezüge!$E$6:$F$16,2,FALSE)&ROW(G93)),INDIRECT(VLOOKUP(G93,Bezüge!$B$6:$C$16,2,FALSE)&ROW(G93))))","v":""},null,"","","","","","","","","","","","","","","","","","","","","","",null,"","","","","","","","","","","","","","","","","","","","","",""]
[null,{"$f":"IF(Athletenliste!B94=\"\",\"\",Athletenliste!B94)","v":""},{"$f":"IF(Athletenliste!C94=\"\",\"\",Athletenliste!C94)","v":""},{"$f":"IF(Athletenliste!D94=\"\",\"\",Athletenliste!D94)","v":""},{"$f":"IF(Athletenliste!E94=\"\",\"\",Athletenliste!E94)","v":""},{"$f":"IF(Athletenliste!F94=\"\",\"\",Athletenliste!F94)","v":""},{"$f":"IF(Athletenliste!G94=\"\",\"\",Athletenliste!G94)","v":""},{"$f":"IF(Athletenliste!H94=\"\",\"\",Athletenliste!H94)","v":""},null,null,null,{"$f":"IF(B94=\"\",\"\",IF(D94=\"m\",INDIRECT(VLOOKUP(G94,Bezüge!$E$6:$F$16,2,FALSE)&ROW(G94)),INDIRECT(VLOOKUP(G94,Bezüge!$B$6:$C$16,2,FALSE)&ROW(G94))))","v":""},null,"","","","","","","","","","","","","","","","","","","","","","",null,"","","","","","","","","","","","","","","","","","","","","",""]
[null,{"$f":"IF(Athletenliste!B95=\"\",\"\",Athletenliste!B95)","v":""},{"$f":"IF(Athletenliste!C95=\"\",\"\",Athletenliste!C95)","v":""},{"$f":"IF(Athletenliste!D95=\"\",\"\",Athletenliste!D95)","v":""},{"$f":"IF(Athletenliste!E95=\"\",\"\",Athletenliste!E95)","v":""},{"$f":"IF(Athletenliste!F95=\"\",\"\",Athletenliste!F95)","v":""},{"$f":"IF(Athletenliste!G95=\"\",\"\",Athletenliste!G95)","v":""},{"$f":"IF(Athletenliste!H95=\"\",\"\",Athletenliste!H95)","v":""},null,null,null,{"$f":"IF(B95=\"\",\"\",IF(D95=\"m\",INDIRECT(VLOOKUP(G95,Bezüge!$E$6:$F$16,2,FALSE)&ROW(G95)),INDIRECT(VLOOKUP(G95,Bezüge!$B$6:$C$16,2,FALSE)&ROW(G95))))","v":""},null,"","","","","","","","","","","","","","","","","","","","","","",null,"","","","","","","","","","","","","","","","","","","","","",""]
[null,{"$f":"IF(Athletenliste!B96=\"\",\"\",Athletenliste!B96)","v":""},{"$f":"IF(Athletenliste!C96=\"\",\"\",Athletenliste!C96)","v":""},{"$f":"IF(Athletenliste!D96=\"\",\"\",Athletenliste!D96)","v":""},{"$f":"IF(Athletenliste!E96=\"\",\"\",Athletenliste!E96)","v":""},{"$f":"IF(Athletenliste!F96=\"\",\"\",Athletenliste!F96)","v":""},{"$f":"IF(Athletenliste!G96=\"\",\"\",Athletenliste!G96)","v":""},{"$f":"IF(Athletenliste!H96=\"\",\"\",Athletenliste!H96)","v":""},null,null,null,{"$f":"IF(B96=\"\",\"\",IF(D96=\"m\",INDIRECT(VLOOKUP(G96,Bezüge!$E$6:$F$16,2,FALSE)&ROW(G96)),INDIRECT(VLOOKUP(G96,Bezüge!$B$6:$C$16,2,FALSE)&ROW(G96))))","v":""},null,"","","","","","","","","","","","","","","","","","","","","","",null,"","","","","","","","","","","","","","","","","","","","","",""]
[null,{"$f":"IF(Athletenliste!B97=\"\",\"\",Athletenliste!B97)","v":""},{"$f":"IF(Athletenliste!C97=\"\",\"\",Athletenliste!C97)","v":""},{"$f":"IF(Athletenliste!D97=\"\",\"\",Athletenliste!D97)","v":""},{"$f":"IF(Athletenliste!E97=\"\",\"\",Athletenliste!E97)","v":""},{"$f":"IF(Athletenliste!F97=\"\",\"\",Athletenliste!F97)","v":""},{"$f":"IF(Athletenliste!G97=\"\",\"\",Athletenliste!G97)","v":""},{"$f":"IF(Athletenliste!H97=\"\",\"\",Athletenliste!H97)","v":""},null,null,null,{"$f":"IF(B97=\"\",\"\",IF(D97=\"m\",INDIRECT(VLOOKUP(G97,Bezüge!$E$6:$F$16,2,FALSE)&ROW(G97)),INDIRECT(VLOOKUP(G97,Bezüge!$B$6:$C$16,2,FALSE)&ROW(G97))))","v":""},null,"","","","","","","","","","","","","","","","","","","","","","",null,"","","","","","","","","","","","","","","","","","","","","",""]
[null,{"$f":"IF(Athletenliste!B98=\"\",\"\",Athletenliste!B98)","v":""},{"$f":"IF(Athletenliste!C98=\"\",\"\",Athletenliste!C98)","v":""},{"$f":"IF(Athletenliste!D98=\"\",\"\",Athletenliste!D98)","v":""},{"$f":"IF(Athletenliste!E98=\"\",\"\",Athletenliste!E98)","v":""},{"$f":"IF(Athletenliste!F98=\"\",\"\",Athletenliste!F98)","v":""},{"$f":"IF(Athletenliste!G98=\"\",\"\",Athletenliste!G98)","v":""},{"$f":"IF(Athletenliste!H98=\"\",\"\",Athletenliste!H98)","v":""},null,null,null,{"$f":"IF(B98=\"\",\"\",IF(D98=\"m\",INDIRECT(VLOOKUP(G98,Bezüge!$E$6:$F$16,2,FALSE)&ROW(G98)),INDIRECT(VLOOKUP(G98,Bezüge!$B$6:$C$16,2,FALSE)&ROW(G98))))","v":""},null,"","","","","","","","","","","","","","","","","","","","","","",null,"","","","","","","","","","","","","","","","","","","","","",""]
[null,{"$f":"IF(Athletenliste!B99=\"\",\"\",Athletenliste!B99)","v":""},{"$f":"IF(Athletenliste!C99=\"\",\"\",Athletenliste!C99)","v":""},{"$f":"IF(Athletenliste!D99=\"\",\"\",Athletenliste!D99)","v":""},{"$f":"IF(Athletenliste!E99=\"\",\"\",Athletenliste!E99)","v":""},{"$f":"IF(Athletenliste!F99=\"\",\"\",Athletenliste!F99)","v":""},{"$f":"IF(Athletenliste!G99=\"\",\"\",Athletenliste!G99)","v":""},{"$f":"IF(Athletenliste!H99=\"\",\"\",Athletenliste!H99)","v":""},null,null,null,{"$f":"IF(B99=\"\",\"\",IF(D99=\"m\",INDIRECT(VLOOKUP(G99,Bezüge!$E$6:$F$16,2,FALSE)&ROW(G99)),INDIRECT(VLOOKUP(G99,Bezüge!$B$6:$C$16,2,FALSE)&ROW(G99))))","v":""},null,"","","","","","","","","","","","","","","","","","","","","","",null,"","","","","","","","","","","","","","","","","","","","","",""]
[null,{"$f":"IF(Athletenliste!B100=\"\",\"\",Athletenliste!B100)","v":""},{"$f":"IF(Athletenliste!C100=\"\",\"\",Athletenliste!C100)","v":""},{"$f":"IF(Athletenliste!D100=\"\",\"\",Athletenliste!D100)","v":""},{"$f":"IF(Athletenliste!E100=\"\",\"\",Athletenliste!E100)","v":""},{"$f":"IF(Athletenliste!F100=\"\",\"\",Athletenliste!F100)","v":""},{"$f":"IF(Athletenliste!G100=\"\",\"\",Athletenliste!G100)","v":""},{"$f":"IF(Athletenliste!H100=\"\",\"\",Athletenliste!H100)","v":""},null,null,null,{"$f":"IF(B100=\"\",\"\",IF(D100=\"m\",INDIRECT(VLOOKUP(G100,Bezüge!$E$6:$F$16,2,FALSE)&ROW(G100)),INDIRECT(VLOOKUP(G100,Bezüge!$B$6:$C$16,2,FALSE)&ROW(G100))))","v":""},null,"","","","","","","","","","","","","","","","","","","","","","",null,"","","","","","","","","","","","","","","","","","","","","",""]
[null,{"$f":"IF(Athletenliste!B101=\"\",\"\",Athletenliste!B101)","v":""},{"$f":"IF(Athletenliste!C101=\"\",\"\",Athletenliste!C101)","v":""},{"$f":"IF(Athletenliste!D101=\"\",\"\",Athletenliste!D101)","v":""},{"$f":"IF(Athletenliste!E101=\"\",\"\",Athletenliste!E101)","v":""},{"$f":"IF(Athletenliste!F101=\"\",\"\",Athletenliste!F101)","v":""},{"$f":"IF(Athletenliste!G101=\"\",\"\",Athletenliste!G101)","v":""},{"$f":"IF(Athletenliste!H101=\"\",\"\",Athletenliste!H101)","v":""},null,null,null,{"$f":"IF(B101=\"\",\"\",IF(D101=\"m\",INDIRECT(VLOOKUP(G101,Bezüge!$E$6:$F$16,2,FALSE)&ROW(G101)),INDIRECT(VLOOKUP(G101,Bezüge!$B$6:$C$16,2,FALSE)&ROW(G101))))","v":""},null,"","","","","","","","","","","","","","","","","","","","","","",null,"","","","","","","","","","","","","","","","","","","","","",""]
[null,{"$f":"IF(Athletenliste!B102=\"\",\"\",Athletenliste!B102)","v":""},{"$f":"IF(Athletenliste!C102=\"\",\"\",Athletenliste!C102)","v":""},{"$f":"IF(Athletenliste!D102=\"\",\"\",Athletenliste!D102)","v":""},{"$f":"IF(Athletenliste!E102=\"\",\"\",Athletenliste!E102)","v":""},{"$f":"IF(Athletenliste!F102=\"\",\"\",Athletenliste!F102)","v":""},{"$f":"IF(Athletenliste!G102=\"\",\"\",Athletenliste!G102)","v":""},{"$f":"IF(Athletenliste!H102=\"\",\"\",Athletenliste!H102)","v":""},null,null,null,{"$f":"IF(B102=\"\",\"\",IF(D102=\"m\",INDIRECT(VLOOKUP(G102,Bezüge!$E$6:$F$16,2,FALSE)&ROW(G102)),INDIRECT(VLOOKUP(G102,Bezüge!$B$6:$C$16,2,FALSE)&ROW(G102))))","v":""},null,"","","","","","","","","","","","","","","","","","","","","","",null,"","","","","","","","","","","","","","","","","","","","","",""]
[null,{"$f":"IF(Athletenliste!B103=\"\",\"\",Athletenliste!B103)","v":""},{"$f":"IF(Athletenliste!C103=\"\",\"\",Athletenliste!C103)","v":""},{"$f":"IF(Athletenliste!D103=\"\",\"\",Athletenliste!D103)","v":""},{"$f":"IF(Athletenliste!E103=\"\",\"\",Athletenliste!E103)","v":""},{"$f":"IF(Athletenliste!F103=\"\",\"\",Athletenliste!F103)","v":""},{"$f":"IF(Athletenliste!G103=\"\",\"\",Athletenliste!G103)","v":""},{"$f":"IF(Athletenliste!H103=\"\",\"\",Athletenliste!H103)","v":""},null,null,null,{"$f":"IF(B103=\"\",\"\",IF(D103=\"m\",INDIRECT(VLOOKUP(G103,Bezüge!$E$6:$F$16,2,FALSE)&ROW(G103)),INDIRECT(VLOOKUP(G103,Bezüge!$B$6:$C$16,2,FALSE)&ROW(G103))))","v":""},null,"","","","","","","","","","","","","","","","","","","","","","",null,"","","","","","","","","","","","","","","","","","","","","",""]
[null,{"$f":"IF(Athletenliste!B104=\"\",\"\",Athletenliste!B104)","v":""},{"$f":"IF(Athletenliste!C104=\"\",\"\",Athletenliste!C104)","v":""},{"$f":"IF(Athletenliste!D104=\"\",\"\",Athletenliste!D104)","v":""},{"$f":"IF(Athletenliste!E104=\"\",\"\",Athletenliste!E104)","v":""},{"$f":"IF(Athletenliste!F104=\"\",\"\",Athletenliste!F104)","v":""},{"$f":"IF(Athletenliste!G104=\"\",\"\",Athletenliste!G104)","v":""},{"$f":"IF(Athletenliste!H104=\"\",\"\",Athletenliste!H104)","v":""},null,null,null,{"$f":"IF(B104=\"\",\"\",IF(D104=\"m\",INDIRECT(VLOOKUP(G104,Bezüge!$E$6:$F$16,2,FALSE)&ROW(G104)),INDIRECT(VLOOKUP(G104,Bezüge!$B$6:$C$16,2,FALSE)&ROW(G104))))","v":""},null,"","","","","","","","","","","","","","","","","","","","","","",null,"","","","","","","","","","","","","","","","","","","","","",""]
[null,{"$f":"IF(Athletenliste!B105=\"\",\"\",Athletenliste!B105)","v":""},{"$f":"IF(Athletenliste!C105=\"\",\"\",Athletenliste!C105)","v":""},{"$f":"IF(Athletenliste!D105=\"\",\"\",Athletenliste!D105)","v":""},{"$f":"IF(Athletenliste!E105=\"\",\"\",Athletenliste!E105)","v":""},{"$f":"IF(Athletenliste!F105=\"\",\"\",Athletenliste!F105)","v":""},{"$f":"IF(Athletenliste!G105=\"\",\"\",Athletenliste!G105)","v":""},{"$f":"IF(Athletenliste!H105=\"\",\"\",Athletenliste!H105)","v":""},null,null,null,{"$f":"IF(B105=\"\",\"\",IF(D105=\"m\",INDIRECT(VLOOKUP(G105,Bezüge!$E$6:$F$16,2,FALSE)&ROW(G105)),INDIRECT(VLOOKUP(G105,Bezüge!$B$6:$C$16,2,FALSE)&ROW(G105))))","v":""},null,"","","","","","","","","","","","","","","","","","","","","","",null,"","","","","","","","","","","","","","","","","","","","","",""]
[null,{"$f":"IF(Athletenliste!B106=\"\",\"\",Athletenliste!B106)","v":""},{"$f":"IF(Athletenliste!C106=\"\",\"\",Athletenliste!C106)","v":""},{"$f":"IF(Athletenliste!D106=\"\",\"\",Athletenliste!D106)","v":""},{"$f":"IF(Athletenliste!E106=\"\",\"\",Athletenliste!E106)","v":""},{"$f":"IF(Athletenliste!F106=\"\",\"\",Athletenliste!F106)","v":""},{"$f":"IF(Athletenliste!G106=\"\",\"\",Athletenliste!G106)","v":""},{"$f":"IF(Athletenliste!H106=\"\",\"\",Athletenliste!H106)","v":""},null,null,null,{"$f":"IF(B106=\"\",\"\",IF(D106=\"m\",INDIRECT(VLOOKUP(G106,Bezüge!$E$6:$F$16,2,FALSE)&ROW(G106)),INDIRECT(VLOOKUP(G106,Bezüge!$B$6:$C$16,2,FALSE)&ROW(G106))))","v":""},null,"","","","","","","","","","","","","","","","","","","","","","",null,"","","","","","","","","","","","","","","","","","","","","",""]
[null,{"$f":"IF(Athletenliste!B107=\"\",\"\",Athletenliste!B107)","v":""},{"$f":"IF(Athletenliste!C107=\"\",\"\",Athletenliste!C107)","v":""},{"$f":"IF(Athletenliste!D107=\"\",\"\",Athletenliste!D107)","v":""},{"$f":"IF(Athletenliste!E107=\"\",\"\",Athletenliste!E107)","v":""},{"$f":"IF(Athletenliste!F107=\"\",\"\",Athletenliste!F107)","v":""},{"$f":"IF(Athletenliste!G107=\"\",\"\",Athletenliste!G107)","v":""},{"$f":"IF(Athletenliste!H107=\"\",\"\",Athletenliste!H107)","v":""},null,null,null,{"$f":"IF(B107=\"\",\"\",IF(D107=\"m\",INDIRECT(VLOOKUP(G107,Bezüge!$E$6:$F$16,2,FALSE)&ROW(G107)),INDIRECT(VLOOKUP(G107,Bezüge!$B$6:$C$16,2,FALSE)&ROW(G107))))","v":""},null,"","","","","","","","","","","","","","","","","","","","","","",null,"","","","","","","","","","","","","","","","","","","","","",""]
[null,{"$f":"IF(Athletenliste!B108=\"\",\"\",Athletenliste!B108)","v":""},{"$f":"IF(Athletenliste!C108=\"\",\"\",Athletenliste!C108)","v":""},{"$f":"IF(Athletenliste!D108=\"\",\"\",Athletenliste!D108)","v":""},{"$f":"IF(Athletenliste!E108=\"\",\"\",Athletenliste!E108)","v":""},{"$f":"IF(Athletenliste!F108=\"\",\"\",Athletenliste!F108)","v":""},{"$f":"IF(Athletenliste!G108=\"\",\"\",Athletenliste!G108)","v":""},{"$f":"IF(Athletenliste!H108=\"\",\"\",Athletenliste!H108)","v":""},null,null,null,{"$f":"IF(B108=\"\",\"\",IF(D108=\"m\",INDIRECT(VLOOKUP(G108,Bezüge!$E$6:$F$16,2,FALSE)&ROW(G108)),INDIRECT(VLOOKUP(G108,Bezüge!$B$6:$C$16,2,FALSE)&ROW(G108))))","v":""},null,"","","","","","","","","","","","","","","","","","","","","","",null,"","","","","","","","","","","","","","","","","","","","","",""]
[null,{"$f":"IF(Athletenliste!B109=\"\",\"\",Athletenliste!B109)","v":""},{"$f":"IF(Athletenliste!C109=\"\",\"\",Athletenliste!C109)","v":""},{"$f":"IF(Athletenliste!D109=\"\",\"\",Athletenliste!D109)","v":""},{"$f":"IF(Athletenliste!E109=\"\",\"\",Athletenliste!E109)","v":""},{"$f":"IF(Athletenliste!F109=\"\",\"\",Athletenliste!F109)","v":""},{"$f":"IF(Athletenliste!G109=\"\",\"\",Athletenliste!G109)","v":""},{"$f":"IF(Athletenliste!H109=\"\",\"\",Athletenliste!H109)","v":""},null,null,null,{"$f":"IF(B109=\"\",\"\",IF(D109=\"m\",INDIRECT(VLOOKUP(G109,Bezüge!$E$6:$F$16,2,FALSE)&ROW(G109)),INDIRECT(VLOOKUP(G109,Bezüge!$B$6:$C$16,2,FALSE)&ROW(G109))))","v":""},null,"","","","","","","","","","","","","","","","","","","","","","",null,"","","","","","","","","","","","","","","","","","","","","",""]
[null,{"$f":"IF(Athletenliste!B110=\"\",\"\",Athletenliste!B110)","v":""},{"$f":"IF(Athletenliste!C110=\"\",\"\",Athletenliste!C110)","v":""},{"$f":"IF(Athletenliste!D110=\"\",\"\",Athletenliste!D110)","v":""},{"$f":"IF(Athletenliste!E110=\"\",\"\",Athletenliste!E110)","v":""},{"$f":"IF(Athletenliste!F110=\"\",\"\",Athletenliste!F110)","v":""},{"$f":"IF(Athletenliste!G110=\"\",\"\",Athletenliste!G110)","v":""},{"$f":"IF(Athletenliste!H110=\"\",\"\",Athletenliste!H110)","v":""},null,null,null,{"$f":"IF(B110=\"\",\"\",IF(D110=\"m\",INDIRECT(VLOOKUP(G110,Bezüge!$E$6:$F$16,2,FALSE)&ROW(G110)),INDIRECT(VLOOKUP(G110,Bezüge!$B$6:$C$16,2,FALSE)&ROW(G110))))","v":""},null,"","","","","","","","","","","","","","","","","","","","","","",null,"","","","","","","","","","","","","","","","","","","","","",""]
[null,{"$f":"IF(Athletenliste!B111=\"\",\"\",Athletenliste!B111)","v":""},{"$f":"IF(Athletenliste!C111=\"\",\"\",Athletenliste!C111)","v":""},{"$f":"IF(Athletenliste!D111=\"\",\"\",Athletenliste!D111)","v":""},{"$f":"IF(Athletenliste!E111=\"\",\"\",Athletenliste!E111)","v":""},{"$f":"IF(Athletenliste!F111=\"\",\"\",Athletenliste!F111)","v":""},{"$f":"IF(Athletenliste!G111=\"\",\"\",Athletenliste!G111)","v":""},{"$f":"IF(Athletenliste!H111=\"\",\"\",Athletenliste!H111)","v":""},null,null,null,{"$f":"IF(B111=\"\",\"\",IF(D111=\"m\",INDIRECT(VLOOKUP(G111,Bezüge!$E$6:$F$16,2,FALSE)&ROW(G111)),INDIRECT(VLOOKUP(G111,Bezüge!$B$6:$C$16,2,FALSE)&ROW(G111))))","v":""},null,"","","","","","","","","","","","","","","","","","","","","","",null,"","","","","","","","","","","","","","","","","","","","","",""]
[null,{"$f":"IF(Athletenliste!B112=\"\",\"\",Athletenliste!B112)","v":""},{"$f":"IF(Athletenliste!C112=\"\",\"\",Athletenliste!C112)","v":""},{"$f":"IF(Athletenliste!D112=\"\",\"\",Athletenliste!D112)","v":""},{"$f":"IF(Athletenliste!E112=\"\",\"\",Athletenliste!E112)","v":""},{"$f":"IF(Athletenliste!F112=\"\",\"\",Athletenliste!F112)","v":""},{"$f":"IF(Athletenliste!G112=\"\",\"\",Athletenliste!G112)","v":""},{"$f":"IF(Athletenliste!H112=\"\",\"\",Athletenliste!H112)","v":""},null,null,null,{"$f":"IF(B112=\"\",\"\",IF(D112=\"m\",INDIRECT(VLOOKUP(G112,Bezüge!$E$6:$F$16,2,FALSE)&ROW(G112)),INDIRECT(VLOOKUP(G112,Bezüge!$B$6:$C$16,2,FALSE)&ROW(G112))))","v":""},null,"","","","","","","","","","","","","","","","","","","","","","",null,"","","","","","","","","","","","","","","","","","","","","",""]
[null,{"$f":"IF(Athletenliste!B113=\"\",\"\",Athletenliste!B113)","v":""},{"$f":"IF(Athletenliste!C113=\"\",\"\",Athletenliste!C113)","v":""},{"$f":"IF(Athletenliste!D113=\"\",\"\",Athletenliste!D113)","v":""},{"$f":"IF(Athletenliste!E113=\"\",\"\",Athletenliste!E113)","v":""},{"$f":"IF(Athletenliste!F113=\"\",\"\",Athletenliste!F113)","v":""},{"$f":"IF(Athletenliste!G113=\"\",\"\",Athletenliste!G113)","v":""},{"$f":"IF(Athletenliste!H113=\"\",\"\",Athletenliste!H113)","v":""},null,null,null,{"$f":"IF(B113=\"\",\"\",IF(D113=\"m\",INDIRECT(VLOOKUP(G113,Bezüge!$E$6:$F$16,2,FALSE)&ROW(G113)),INDIRECT(VLOOKUP(G113,Bezüge!$B$6:$C$16,2,FALSE)&ROW(G113))))","v":""},null,"","","","","","","","","","","","","","","","","","","","","","",null,"","","","","","","","","","","","","","","","","","","","","",""]
[null,{"$f":"IF(Athletenliste!B114=\"\",\"\",Athletenliste!B114)","v":""},{"$f":"IF(Athletenliste!C114=\"\",\"\",Athletenliste!C114)","v":""},{"$f":"IF(Athletenliste!D114=\"\",\"\",Athletenliste!D114)","v":""},{"$f":"IF(Athletenliste!E114=\"\",\"\",Athletenliste!E114)","v":""},{"$f":"IF(Athletenliste!F114=\"\",\"\",Athletenliste!F114)","v":""},{"$f":"IF(Athletenliste!G114=\"\",\"\",Athletenliste!G114)","v":""},{"$f":"IF(Athletenliste!H114=\"\",\"\",Athletenliste!H114)","v":""},null,null,null,{"$f":"IF(B114=\"\",\"\",IF(D114=\"m\",INDIRECT(VLOOKUP(G114,Bezüge!$E$6:$F$16,2,FALSE)&ROW(G114)),INDIRECT(VLOOKUP(G114,Bezüge!$B$6:$C$16,2,FALSE)&ROW(G114))))","v":""},null,"","","","","","","","","","","","","","","","","","","","","","",null,"","","","","","","","","","","","","","","","","","","","","",""]
[null,{"$f":"IF(Athletenliste!B115=\"\",\"\",Athletenliste!B115)","v":""},{"$f":"IF(Athletenliste!C115=\"\",\"\",Athletenliste!C115)","v":""},{"$f":"IF(Athletenliste!D115=\"\",\"\",Athletenliste!D115)","v":""},{"$f":"IF(Athletenliste!E115=\"\",\"\",Athletenliste!E115)","v":""},{"$f":"IF(Athletenliste!F115=\"\",\"\",Athletenliste!F115)","v":""},{"$f":"IF(Athletenliste!G115=\"\",\"\",Athletenliste!G115)","v":""},{"$f":"IF(Athletenliste!H115=\"\",\"\",Athletenliste!H115)","v":""},null,null,null,{"$f":"IF(B115=\"\",\"\",IF(D115=\"m\",INDIRECT(VLOOKUP(G115,Bezüge!$E$6:$F$16,2,FALSE)&ROW(G115)),INDIRECT(VLOOKUP(G115,Bezüge!$B$6:$C$16,2,FALSE)&ROW(G115))))","v":""},null,"","","","","","","","","","","","","","","","","","","","","","",null,"","","","","","","","","","","","","","","","","","","","","",""]
[null,{"$f":"IF(Athletenliste!B116=\"\",\"\",Athletenliste!B116)","v":""},{"$f":"IF(Athletenliste!C116=\"\",\"\",Athletenliste!C116)","v":""},{"$f":"IF(Athletenliste!D116=\"\",\"\",Athletenliste!D116)","v":""},{"$f":"IF(Athletenliste!E116=\"\",\"\",Athletenliste!E116)","v":""},{"$f":"IF(Athletenliste!F116=\"\",\"\",Athletenliste!F116)","v":""},{"$f":"IF(Athletenliste!G116=\"\",\"\",Athletenliste!G116)","v":""},{"$f":"IF(Athletenliste!H116=\"\",\"\",Athletenliste!H116)","v":""},null,null,null,{"$f":"IF(B116=\"\",\"\",IF(D116=\"m\",INDIRECT(VLOOKUP(G116,Bezüge!$E$6:$F$16,2,FALSE)&ROW(G116)),INDIRECT(VLOOKUP(G116,Bezüge!$B$6:$C$16,2,FALSE)&ROW(G116))))","v":""},null,"","","","","","","","","","","","","","","","","","","","","","",null,"","","","","","","","","","","","","","","","","","","","","",""]
[null,{"$f":"IF(Athletenliste!B117=\"\",\"\",Athletenliste!B117)","v":""},{"$f":"IF(Athletenliste!C117=\"\",\"\",Athletenliste!C117)","v":""},{"$f":"IF(Athletenliste!D117=\"\",\"\",Athletenliste!D117)","v":""},{"$f":"IF(Athletenliste!E117=\"\",\"\",Athletenliste!E117)","v":""},{"$f":"IF(Athletenliste!F117=\"\",\"\",Athletenliste!F117)","v":""},{"$f":"IF(Athletenliste!G117=\"\",\"\",Athletenliste!G117)","v":""},{"$f":"IF(Athletenliste!H117=\"\",\"\",Athletenliste!H117)","v":""},null,null,null,{"$f":"IF(B117=\"\",\"\",IF(D117=\"m\",INDIRECT(VLOOKUP(G117,Bezüge!$E$6:$F$16,2,FALSE)&ROW(G117)),INDIRECT(VLOOKUP(G117,Bezüge!$B$6:$C$16,2,FALSE)&ROW(G117))))","v":""},null,"","","","","","","","","","","","","","","","","","","","","","",null,"","","","","","","","","","","","","","","","","","","","","",""]
[null,{"$f":"IF(Athletenliste!B118=\"\",\"\",Athletenliste!B118)","v":""},{"$f":"IF(Athletenliste!C118=\"\",\"\",Athletenliste!C118)","v":""},{"$f":"IF(Athletenliste!D118=\"\",\"\",Athletenliste!D118)","v":""},{"$f":"IF(Athletenliste!E118=\"\",\"\",Athletenliste!E118)","v":""},{"$f":"IF(Athletenliste!F118=\"\",\"\",Athletenliste!F118)","v":""},{"$f":"IF(Athletenliste!G118=\"\",\"\",Athletenliste!G118)","v":""},{"$f":"IF(Athletenliste!H118=\"\",\"\",Athletenliste!H118)","v":""},null,null,null,{"$f":"IF(B118=\"\",\"\",IF(D118=\"m\",INDIRECT(VLOOKUP(G118,Bezüge!$E$6:$F$16,2,FALSE)&ROW(G118)),INDIRECT(VLOOKUP(G118,Bezüge!$B$6:$C$16,2,FALSE)&ROW(G118))))","v":""},null,"","","","","","","","","","","","","","","","","","","","","","",null,"","","","","","","","","","","","","","","","","","","","","",""]
[null,{"$f":"IF(Athletenliste!B119=\"\",\"\",Athletenliste!B119)","v":""},{"$f":"IF(Athletenliste!C119=\"\",\"\",Athletenliste!C119)","v":""},{"$f":"IF(Athletenliste!D119=\"\",\"\",Athletenliste!D119)","v":""},{"$f":"IF(Athletenliste!E119=\"\",\"\",Athletenliste!E119)","v":""},{"$f":"IF(Athletenliste!F119=\"\",\"\",Athletenliste!F119)","v":""},{"$f":"IF(Athletenliste!G119=\"\",\"\",Athletenliste!G119)","v":""},{"$f":"IF(Athletenliste!H119=\"\",\"\",Athletenliste!H119)","v":""},null,null,null,{"$f":"IF(B119=\"\",\"\",IF(D119=\"m\",INDIRECT(VLOOKUP(G119,Bezüge!$E$6:$F$16,2,FALSE)&ROW(G119)),INDIRECT(VLOOKUP(G119,Bezüge!$B$6:$C$16,2,FALSE)&ROW(G119))))","v":""},null,"","","","","","","","","","","","","","","","","","","","","","",null,"","","","","","","","","","","","","","","","","","","","","",""]
[null,{"$f":"IF(Athletenliste!B120=\"\",\"\",Athletenliste!B120)","v":""},{"$f":"IF(Athletenliste!C120=\"\",\"\",Athletenliste!C120)","v":""},{"$f":"IF(Athletenliste!D120=\"\",\"\",Athletenliste!D120)","v":""},{"$f":"IF(Athletenliste!E120=\"\",\"\",Athletenliste!E120)","v":""},{"$f":"IF(Athletenliste!F120=\"\",\"\",Athletenliste!F120)","v":""},{"$f":"IF(Athletenliste!G120=\"\",\"\",Athletenliste!G120)","v":""},{"$f":"IF(Athletenliste!H120=\"\",\"\",Athletenliste!H120)","v":""},null,null,null,{"$f":"IF(B120=\"\",\"\",IF(D120=\"m\",INDIRECT(VLOOKUP(G120,Bezüge!$E$6:$F$16,2,FALSE)&ROW(G120)),INDIRECT(VLOOKUP(G120,Bezüge!$B$6:$C$16,2,FALSE)&ROW(G120))))","v":""},null,"","","","","","","","","","","","","","","","","","","","","","",null,"","","","","","","","","","","","","","","","","","","","","",""]
[null,{"$f":"IF(Athletenliste!B121=\"\",\"\",Athletenliste!B121)","v":""},{"$f":"IF(Athletenliste!C121=\"\",\"\",Athletenliste!C121)","v":""},{"$f":"IF(Athletenliste!D121=\"\",\"\",Athletenliste!D121)","v":""},{"$f":"IF(Athletenliste!E121=\"\",\"\",Athletenliste!E121)","v":""},{"$f":"IF(Athletenliste!F121=\"\",\"\",Athletenliste!F121)","v":""},{"$f":"IF(Athletenliste!G121=\"\",\"\",Athletenliste!G121)","v":""},{"$f":"IF(Athletenliste!H121=\"\",\"\",Athletenliste!H121)","v":""},null,null,null,{"$f":"IF(B121=\"\",\"\",IF(D121=\"m\",INDIRECT(VLOOKUP(G121,Bezüge!$E$6:$F$16,2,FALSE)&ROW(G121)),INDIRECT(VLOOKUP(G121,Bezüge!$B$6:$C$16,2,FALSE)&ROW(G121))))","v":""},null,"","","","","","","","","","","","","","","","","","","","","","",null,"","","","","","","","","","","","","","","","","","","","","",""]
[null,{"$f":"IF(Athletenliste!B122=\"\",\"\",Athletenliste!B122)","v":""},{"$f":"IF(Athletenliste!C122=\"\",\"\",Athletenliste!C122)","v":""},{"$f":"IF(Athletenliste!D122=\"\",\"\",Athletenliste!D122)","v":""},{"$f":"IF(Athletenliste!E122=\"\",\"\",Athletenliste!E122)","v":""},{"$f":"IF(Athletenliste!F122=\"\",\"\",Athletenliste!F122)","v":""},{"$f":"IF(Athletenliste!G122=\"\",\"\",Athletenliste!G122)","v":""},{"$f":"IF(Athletenliste!H122=\"\",\"\",Athletenliste!H122)","v":""},null,null,null,{"$f":"IF(B122=\"\",\"\",IF(D122=\"m\",INDIRECT(VLOOKUP(G122,Bezüge!$E$6:$F$16,2,FALSE)&ROW(G122)),INDIRECT(VLOOKUP(G122,Bezüge!$B$6:$C$16,2,FALSE)&ROW(G122))))","v":""},null,"","","","","","","","","","","","","","","","","","","","","","",null,"","","","","","","","","","","","","","","","","","","","","",""]
[null,{"$f":"IF(Athletenliste!B123=\"\",\"\",Athletenliste!B123)","v":""},{"$f":"IF(Athletenliste!C123=\"\",\"\",Athletenliste!C123)","v":""},{"$f":"IF(Athletenliste!D123=\"\",\"\",Athletenliste!D123)","v":""},{"$f":"IF(Athletenliste!E123=\"\",\"\",Athletenliste!E123)","v":""},{"$f":"IF(Athletenliste!F123=\"\",\"\",Athletenliste!F123)","v":""},{"$f":"IF(Athletenliste!G123=\"\",\"\",Athletenliste!G123)","v":""},{"$f":"IF(Athletenliste!H123=\"\",\"\",Athletenliste!H123)","v":""},null,null,null,{"$f":"IF(B123=\"\",\"\",IF(D123=\"m\",INDIRECT(VLOOKUP(G123,Bezüge!$E$6:$F$16,2,FALSE)&ROW(G123)),INDIRECT(VLOOKUP(G123,Bezüge!$B$6:$C$16,2,FALSE)&ROW(G123))))","v":""},null,"","","","","","","","","","","","","","","","","","","","","","",null,"","","","","","","","","","","","","","","","","","","","","",""]
[null,{"$f":"IF(Athletenliste!B124=\"\",\"\",Athletenliste!B124)","v":""},{"$f":"IF(Athletenliste!C124=\"\",\"\",Athletenliste!C124)","v":""},{"$f":"IF(Athletenliste!D124=\"\",\"\",Athletenliste!D124)","v":""},{"$f":"IF(Athletenliste!E124=\"\",\"\",Athletenliste!E124)","v":""},{"$f":"IF(Athletenliste!F124=\"\",\"\",Athletenliste!F124)","v":""},{"$f":"IF(Athletenliste!G124=\"\",\"\",Athletenliste!G124)","v":""},{"$f":"IF(Athletenliste!H124=\"\",\"\",Athletenliste!H124)","v":""},null,null,null,{"$f":"IF(B124=\"\",\"\",IF(D124=\"m\",INDIRECT(VLOOKUP(G124,Bezüge!$E$6:$F$16,2,FALSE)&ROW(G124)),INDIRECT(VLOOKUP(G124,Bezüge!$B$6:$C$16,2,FALSE)&ROW(G124))))","v":""},null,"","","","","","","","","","","","","","","","","","","","","","",null,"","","","","","","","","","","","","","","","","","","","","",""]
[null,{"$f":"IF(Athletenliste!B125=\"\",\"\",Athletenliste!B125)","v":""},{"$f":"IF(Athletenliste!C125=\"\",\"\",Athletenliste!C125)","v":""},{"$f":"IF(Athletenliste!D125=\"\",\"\",Athletenliste!D125)","v":""},{"$f":"IF(Athletenliste!E125=\"\",\"\",Athletenliste!E125)","v":""},{"$f":"IF(Athletenliste!F125=\"\",\"\",Athletenliste!F125)","v":""},{"$f":"IF(Athletenliste!G125=\"\",\"\",Athletenliste!G125)","v":""},{"$f":"IF(Athletenliste!H125=\"\",\"\",Athletenliste!H125)","v":""},null,null,null,{"$f":"IF(B125=\"\",\"\",IF(D125=\"m\",INDIRECT(VLOOKUP(G125,Bezüge!$E$6:$F$16,2,FALSE)&ROW(G125)),INDIRECT(VLOOKUP(G125,Bezüge!$B$6:$C$16,2,FALSE)&ROW(G125))))","v":""},null,"","","","","","","","","","","","","","","","","","","","","","",null,"","","","","","","","","","","","","","","","","","","","","",""]
[null,{"$f":"IF(Athletenliste!B126=\"\",\"\",Athletenliste!B126)","v":""},{"$f":"IF(Athletenliste!C126=\"\",\"\",Athletenliste!C126)","v":""},{"$f":"IF(Athletenliste!D126=\"\",\"\",Athletenliste!D126)","v":""},{"$f":"IF(Athletenliste!E126=\"\",\"\",Athletenliste!E126)","v":""},{"$f":"IF(Athletenliste!F126=\"\",\"\",Athletenliste!F126)","v":""},{"$f":"IF(Athletenliste!G126=\"\",\"\",Athletenliste!G126)","v":""},{"$f":"IF(Athletenliste!H126=\"\",\"\",Athletenliste!H126)","v":""},null,null,null,{"$f":"IF(B126=\"\",\"\",IF(D126=\"m\",INDIRECT(VLOOKUP(G126,Bezüge!$E$6:$F$16,2,FALSE)&ROW(G126)),INDIRECT(VLOOKUP(G126,Bezüge!$B$6:$C$16,2,FALSE)&ROW(G126))))","v":""},null,"","","","","","","","","","","","","","","","","","","","","","",null,"","","","","","","","","","","","","","","","","","","","","",""]
[null,{"$f":"IF(Athletenliste!B127=\"\",\"\",Athletenliste!B127)","v":""},{"$f":"IF(Athletenliste!C127=\"\",\"\",Athletenliste!C127)","v":""},{"$f":"IF(Athletenliste!D127=\"\",\"\",Athletenliste!D127)","v":""},{"$f":"IF(Athletenliste!E127=\"\",\"\",Athletenliste!E127)","v":""},{"$f":"IF(Athletenliste!F127=\"\",\"\",Athletenliste!F127)","v":""},{"$f":"IF(Athletenliste!G127=\"\",\"\",Athletenliste!G127)","v":""},{"$f":"IF(Athletenliste!H127=\"\",\"\",Athletenliste!H127)","v":""},null,null,null,{"$f":"IF(B127=\"\",\"\",IF(D127=\"m\",INDIRECT(VLOOKUP(G127,Bezüge!$E$6:$F$16,2,FALSE)&ROW(G127)),INDIRECT(VLOOKUP(G127,Bezüge!$B$6:$C$16,2,FALSE)&ROW(G127))))","v":""},null,"","","","","","","","","","","","","","","","","","","","","","",null,"","","","","","","","","","","","","","","","","","","","","",""]
[null,{"$f":"IF(Athletenliste!B128=\"\",\"\",Athletenliste!B128)","v":""},{"$f":"IF(Athletenliste!C128=\"\",\"\",Athletenliste!C128)","v":""},{"$f":"IF(Athletenliste!D128=\"\",\"\",Athletenliste!D128)","v":""},{"$f":"IF(Athletenliste!E128=\"\",\"\",Athletenliste!E128)","v":""},{"$f":"IF(Athletenliste!F128=\"\",\"\",Athletenliste!F128)","v":""},{"$f":"IF(Athletenliste!G128=\"\",\"\",Athletenliste!G128)","v":""},{"$f":"IF(Athletenliste!H128=\"\",\"\",Athletenliste!H128)","v":""},null,null,null,{"$f":"IF(B128=\"\",\"\",IF(D128=\"m\",INDIRECT(VLOOKUP(G128,Bezüge!$E$6:$F$16,2,FALSE)&ROW(G128)),INDIRECT(VLOOKUP(G128,Bezüge!$B$6:$C$16,2,FALSE)&ROW(G128))))","v":""},null,"","","","","","","","","","","","","","","","","","","","","","",null,"","","","","","","","","","","","","","","","","","","","","",""]
[null,{"$f":"IF(Athletenliste!B129=\"\",\"\",Athletenliste!B129)","v":""},{"$f":"IF(Athletenliste!C129=\"\",\"\",Athletenliste!C129)","v":""},{"$f":"IF(Athletenliste!D129=\"\",\"\",Athletenliste!D129)","v":""},{"$f":"IF(Athletenliste!E129=\"\",\"\",Athletenliste!E129)","v":""},{"$f":"IF(Athletenliste!F129=\"\",\"\",Athletenliste!F129)","v":""},{"$f":"IF(Athletenliste!G129=\"\",\"\",Athletenliste!G129)","v":""},{"$f":"IF(Athletenliste!H129=\"\",\"\",Athletenliste!H129)","v":""},null,null,null,{"$f":"IF(B129=\"\",\"\",IF(D129=\"m\",INDIRECT(VLOOKUP(G129,Bezüge!$E$6:$F$16,2,FALSE)&ROW(G129)),INDIRECT(VLOOKUP(G129,Bezüge!$B$6:$C$16,2,FALSE)&ROW(G129))))","v":""},null,"","","","","","","","","","","","","","","","","","","","","","",null,"","","","","","","","","","","","","","","","","","","","","",""]
[null,{"$f":"IF(Athletenliste!B130=\"\",\"\",Athletenliste!B130)","v":""},{"$f":"IF(Athletenliste!C130=\"\",\"\",Athletenliste!C130)","v":""},{"$f":"IF(Athletenliste!D130=\"\",\"\",Athletenliste!D130)","v":""},{"$f":"IF(Athletenliste!E130=\"\",\"\",Athletenliste!E130)","v":""},{"$f":"IF(Athletenliste!F130=\"\",\"\",Athletenliste!F130)","v":""},{"$f":"IF(Athletenliste!G130=\"\",\"\",Athletenliste!G130)","v":""},{"$f":"IF(Athletenliste!H130=\"\",\"\",Athletenliste!H130)","v":""},null,null,null,{"$f":"IF(B130=\"\",\"\",IF(D130=\"m\",INDIRECT(VLOOKUP(G130,Bezüge!$E$6:$F$16,2,FALSE)&ROW(G130)),INDIRECT(VLOOKUP(G130,Bezüge!$B$6:$C$16,2,FALSE)&ROW(G130))))","v":""},null,"","","","","","","","","","","","","","","","","","","","","","",null,"","","","","","","","","","","","","","","","","","","","","",""]
[null,{"$f":"IF(Athletenliste!B131=\"\",\"\",Athletenliste!B131)","v":""},{"$f":"IF(Athletenliste!C131=\"\",\"\",Athletenliste!C131)","v":""},{"$f":"IF(Athletenliste!D131=\"\",\"\",Athletenliste!D131)","v":""},{"$f":"IF(Athletenliste!E131=\"\",\"\",Athletenliste!E131)","v":""},{"$f":"IF(Athletenliste!F131=\"\",\"\",Athletenliste!F131)","v":""},{"$f":"IF(Athletenliste!G131=\"\",\"\",Athletenliste!G131)","v":""},{"$f":"IF(Athletenliste!H131=\"\",\"\",Athletenliste!H131)","v":""},null,null,null,{"$f":"IF(B131=\"\",\"\",IF(D131=\"m\",INDIRECT(VLOOKUP(G131,Bezüge!$E$6:$F$16,2,FALSE)&ROW(G131)),INDIRECT(VLOOKUP(G131,Bezüge!$B$6:$C$16,2,FALSE)&ROW(G131))))","v":""},null,"","","","","","","","","","","","","","","","","","","","","","",null,"","","","","","","","","","","","","","","","","","","","","",""]
[null,{"$f":"IF(Athletenliste!B132=\"\",\"\",Athletenliste!B132)","v":""},{"$f":"IF(Athletenliste!C132=\"\",\"\",Athletenliste!C132)","v":""},{"$f":"IF(Athletenliste!D132=\"\",\"\",Athletenliste!D132)","v":""},{"$f":"IF(Athletenliste!E132=\"\",\"\",Athletenliste!E132)","v":""},{"$f":"IF(Athletenliste!F132=\"\",\"\",Athletenliste!F132)","v":""},{"$f":"IF(Athletenliste!G132=\"\",\"\",Athletenliste!G132)","v":""},{"$f":"IF(Athletenliste!H132=\"\",\"\",Athletenliste!H132)","v":""},null,null,null,{"$f":"IF(B132=\"\",\"\",IF(D132=\"m\",INDIRECT(VLOOKUP(G132,Bezüge!$E$6:$F$16,2,FALSE)&ROW(G132)),INDIRECT(VLOOKUP(G132,Bezüge!$B$6:$C$16,2,FALSE)&ROW(G132))))","v":""},null,"","","","","","","","","","","","","","","","","","","","","","",null,"","","","","","","","","","","","","","","","","","","","","",""]
[null,{"$f":"IF(Athletenliste!B133=\"\",\"\",Athletenliste!B133)","v":""},{"$f":"IF(Athletenliste!C133=\"\",\"\",Athletenliste!C133)","v":""},{"$f":"IF(Athletenliste!D133=\"\",\"\",Athletenliste!D133)","v":""},{"$f":"IF(Athletenliste!E133=\"\",\"\",Athletenliste!E133)","v":""},{"$f":"IF(Athletenliste!F133=\"\",\"\",Athletenliste!F133)","v":""},{"$f":"IF(Athletenliste!G133=\"\",\"\",Athletenliste!G133)","v":""},{"$f":"IF(Athletenliste!H133=\"\",\"\",Athletenliste!H133)","v":""},null,null,null,{"$f":"IF(B133=\"\",\"\",IF(D133=\"m\",INDIRECT(VLOOKUP(G133,Bezüge!$E$6:$F$16,2,FALSE)&ROW(G133)),INDIRECT(VLOOKUP(G133,Bezüge!$B$6:$C$16,2,FALSE)&ROW(G133))))","v":""},null,"","","","","","","","","","","","","","","","","","","","","","",null,"","","","","","","","","","","","","","","","","","","","","",""]
[null,{"$f":"IF(Athletenliste!B134=\"\",\"\",Athletenliste!B134)","v":""},{"$f":"IF(Athletenliste!C134=\"\",\"\",Athletenliste!C134)","v":""},{"$f":"IF(Athletenliste!D134=\"\",\"\",Athletenliste!D134)","v":""},{"$f":"IF(Athletenliste!E134=\"\",\"\",Athletenliste!E134)","v":""},{"$f":"IF(Athletenliste!F134=\"\",\"\",Athletenliste!F134)","v":""},{"$f":"IF(Athletenliste!G134=\"\",\"\",Athletenliste!G134)","v":""},{"$f":"IF(Athletenliste!H134=\"\",\"\",Athletenliste!H134)","v":""},null,null,null,{"$f":"IF(B134=\"\",\"\",IF(D134=\"m\",INDIRECT(VLOOKUP(G134,Bezüge!$E$6:$F$16,2,FALSE)&ROW(G134)),INDIRECT(VLOOKUP(G134,Bezüge!$B$6:$C$16,2,FALSE)&ROW(G134))))","v":""},null,"","","","","","","","","","","","","","","","","","","","","","",null,"","","","","","","","","","","","","","","","","","","","","",""]
[null,{"$f":"IF(Athletenliste!B135=\"\",\"\",Athletenliste!B135)","v":""},{"$f":"IF(Athletenliste!C135=\"\",\"\",Athletenliste!C135)","v":""},{"$f":"IF(Athletenliste!D135=\"\",\"\",Athletenliste!D135)","v":""},{"$f":"IF(Athletenliste!E135=\"\",\"\",Athletenliste!E135)","v":""},{"$f":"IF(Athletenliste!F135=\"\",\"\",Athletenliste!F135)","v":""},{"$f":"IF(Athletenliste!G135=\"\",\"\",Athletenliste!G135)","v":""},{"$f":"IF(Athletenliste!H135=\"\",\"\",Athletenliste!H135)","v":""},null,null,null,{"$f":"IF(B135=\"\",\"\",IF(D135=\"m\",INDIRECT(VLOOKUP(G135,Bezüge!$E$6:$F$16,2,FALSE)&ROW(G135)),INDIRECT(VLOOKUP(G135,Bezüge!$B$6:$C$16,2,FALSE)&ROW(G135))))","v":""},null,"","","","","","","","","","","","","","","","","","","","","","",null,"","","","","","","","","","","","","","","","","","","","","",""]
[null,{"$f":"IF(Athletenliste!B136=\"\",\"\",Athletenliste!B136)","v":""},{"$f":"IF(Athletenliste!C136=\"\",\"\",Athletenliste!C136)","v":""},{"$f":"IF(Athletenliste!D136=\"\",\"\",Athletenliste!D136)","v":""},{"$f":"IF(Athletenliste!E136=\"\",\"\",Athletenliste!E136)","v":""},{"$f":"IF(Athletenliste!F136=\"\",\"\",Athletenliste!F136)","v":""},{"$f":"IF(Athletenliste!G136=\"\",\"\",Athletenliste!G136)","v":""},{"$f":"IF(Athletenliste!H136=\"\",\"\",Athletenliste!H136)","v":""},null,null,null,{"$f":"IF(B136=\"\",\"\",IF(D136=\"m\",INDIRECT(VLOOKUP(G136,Bezüge!$E$6:$F$16,2,FALSE)&ROW(G136)),INDIRECT(VLOOKUP(G136,Bezüge!$B$6:$C$16,2,FALSE)&ROW(G136))))","v":""},null,"","","","","","","","","","","","","","","","","","","","","","",null,"","","","","","","","","","","","","","","","","","","","","",""]
[null,{"$f":"IF(Athletenliste!B137=\"\",\"\",Athletenliste!B137)","v":""},{"$f":"IF(Athletenliste!C137=\"\",\"\",Athletenliste!C137)","v":""},{"$f":"IF(Athletenliste!D137=\"\",\"\",Athletenliste!D137)","v":""},{"$f":"IF(Athletenliste!E137=\"\",\"\",Athletenliste!E137)","v":""},{"$f":"IF(Athletenliste!F137=\"\",\"\",Athletenliste!F137)","v":""},{"$f":"IF(Athletenliste!G137=\"\",\"\",Athletenliste!G137)","v":""},{"$f":"IF(Athletenliste!H137=\"\",\"\",Athletenliste!H137)","v":""},null,null,null,{"$f":"IF(B137=\"\",\"\",IF(D137=\"m\",INDIRECT(VLOOKUP(G137,Bezüge!$E$6:$F$16,2,FALSE)&ROW(G137)),INDIRECT(VLOOKUP(G137,Bezüge!$B$6:$C$16,2,FALSE)&ROW(G137))))","v":""},null,"","","","","","","","","","","","","","","","","","","","","","",null,"","","","","","","","","","","","","","","","","","","","","",""]
[null,{"$f":"IF(Athletenliste!B138=\"\",\"\",Athletenliste!B138)","v":""},{"$f":"IF(Athletenliste!C138=\"\",\"\",Athletenliste!C138)","v":""},{"$f":"IF(Athletenliste!D138=\"\",\"\",Athletenliste!D138)","v":""},{"$f":"IF(Athletenliste!E138=\"\",\"\",Athletenliste!E138)","v":""},{"$f":"IF(Athletenliste!F138=\"\",\"\",Athletenliste!F138)","v":""},{"$f":"IF(Athletenliste!G138=\"\",\"\",Athletenliste!G138)","v":""},{"$f":"IF(Athletenliste!H138=\"\",\"\",Athletenliste!H138)","v":""},null,null,null,{"$f":"IF(B138=\"\",\"\",IF(D138=\"m\",INDIRECT(VLOOKUP(G138,Bezüge!$E$6:$F$16,2,FALSE)&ROW(G138)),INDIRECT(VLOOKUP(G138,Bezüge!$B$6:$C$16,2,FALSE)&ROW(G138))))","v":""},null,"","","","","","","","","","","","","","","","","","","","","","",null,"","","","","","","","","","","","","","","","","","","","","",""]
[null,{"$f":"IF(Athletenliste!B139=\"\",\"\",Athletenliste!B139)","v":""},{"$f":"IF(Athletenliste!C139=\"\",\"\",Athletenliste!C139)","v":""},{"$f":"IF(Athletenliste!D139=\"\",\"\",Athletenliste!D139)","v":""},{"$f":"IF(Athletenliste!E139=\"\",\"\",Athletenliste!E139)","v":""},{"$f":"IF(Athletenliste!F139=\"\",\"\",Athletenliste!F139)","v":""},{"$f":"IF(Athletenliste!G139=\"\",\"\",Athletenliste!G139)","v":""},{"$f":"IF(Athletenliste!H139=\"\",\"\",Athletenliste!H139)","v":""},null,null,null,{"$f":"IF(B139=\"\",\"\",IF(D139=\"m\",INDIRECT(VLOOKUP(G139,Bezüge!$E$6:$F$16,2,FALSE)&ROW(G139)),INDIRECT(VLOOKUP(G139,Bezüge!$B$6:$C$16,2,FALSE)&ROW(G139))))","v":""},null,{"$f":"IF(AND(D139=\"m\",G139=\"U06\",K139<>\"\"),K139,\"\")","v":""},{"$f":"IF(OR(K139=\"\",N139=\"\"),\"\",_xlfn.RANK.EQ(N139,N$10:N$200))","v":""},{"$f":"IF(AND(D139=\"m\",G139=\"U07\",K139<>\"\"),K139,\"\")","v":""},{"$f":"IF(OR(K139=\"\",P139=\"\"),\"\",_xlfn.RANK.EQ(P139,P$10:P$200))","v":""},{"$f":"IF(AND(D139=\"m\",G139=\"U08\",K139<>\"\"),K139,\"\")","v":""},{"$f":"IF(OR(K139=\"\",R139=\"\"),\"\",_xlfn.RANK.EQ(R139,R$10:R$200))","v":""},{"$f":"IF(AND(D139=\"m\",G139=\"U09\",K139<>\"\"),K139,\"\")","v":""},{"$f":"IF(OR(K139=\"\",T139=\"\"),\"\",_xlfn.RANK.EQ(T139,T$10:T$200))","v":""},{"$f":"IF(AND(D139=\"m\",G139=\"U10\",K139<>\"\"),K139,\"\")","v":""},{"$f":"IF(OR(K139=\"\",V139=\"\"),\"\",_xlfn.RANK.EQ(V139,V$10:V$200))","v":""},{"$f":"IF(AND(D139=\"m\",G139=\"U11\",K139<>\"\"),K139,\"\")","v":""},{"$f":"IF(OR(K139=\"\",X139=\"\"),\"\",_xlfn.RANK.EQ(X139,X$10:X$200))","v":""},{"$f":"IF(AND(D139=\"m\",G139=\"U12\",K139<>\"\"),K139,\"\")","v":""},{"$f":"IF(OR(K139=\"\",Z139=\"\"),\"\",_xlfn.RANK.EQ(Z139,Z$10:Z$200))","v":""},{"$f":"IF(AND(D139=\"m\",G139=\"U13\",K139<>\"\"),K139,\"\")","v":""},{"$f":"IF(OR(K139=\"\",AB139=\"\"),\"\",_xlfn.RANK.EQ(AB139,AB$10:AB$200))","v":""},{"$f":"IF(AND(D139=\"m\",G139=\"U14\",K139<>\"\"),K139,\"\")","v":""},{"$f":"IF(OR(K139=\"\",AD139=\"\"),\"\",_xlfn.RANK.EQ(AD139,AD$10:AD$200))","v":""},{"$f":"IF(AND(D139=\"m\",G139=\"U15\",K139<>\"\"),K139,\"\")","v":""},{"$f":"IF(OR(K139=\"\",AF139=\"\"),\"\",_xlfn.RANK.EQ(AF139,AF$10:AF$200))","v":""},{"$f":"IF(AND(D139=\"m\",G139=\"U16\",K139<>\"\"),K139,\"\")","v":""},{"$f":"IF(OR(K139=\"\",AH139=\"\"),\"\",_xlfn.RANK.EQ(AH139,AH$10:AH$200))","v":""},null,{"$f":"IF(AND(D139=\"w\",G139=\"U06\",K139<>\"\"),K139,\"\")","v":""},{"$f":"IF(OR(K139=\"\",AI139=\"\"),\"\",_xlfn.RANK.EQ(AI139,AI$10:AI$200))","v":""},{"$f":"IF(AND(D139=\"w\",G139=\"U07\",K139<>\"\"),K139,\"\")","v":""},{"$f":"IF(OR(K139=\"\",AM139=\"\"),\"\",_xlfn.RANK.EQ(AM139,AM$10:AM$20))","v":""},{"$f":"IF(AND(D139=\"w\",G139=\"U08\",K139<>\"\"),K139,\"\")","v":""},{"$f":"IF(OR(K139=\"\",AO139=\"\"),\"\",_xlfn.RANK.EQ(AO139,AO$10:AO$200,0))","v":""},{"$f":"IF(AND(D139=\"w\",G139=\"U09\",K139<>\"\"),K139,\"\")","v":""},{"$f":"IF(OR(K139=\"\",AQ139=\"\"),\"\",_xlfn.RANK.EQ(AQ139,AQ$10:AQ$200))","v":""},{"$f":"IF(AND(D139=\"w\",G139=\"U10\",K139<>\"\"),K139,\"\")","v":""},{"$f":"IF(OR(K139=\"\",AS139=\"\"),\"\",_xlfn.RANK.EQ(AS139,AS$10:AS$200))","v":""},{"$f":"IF(AND(D139=\"w\",G139=\"U11\",K139<>\"\"),K139,\"\")","v":""},{"$f":"IF(OR(K139=\"\",AU139=\"\"),\"\",_xlfn.RANK.EQ(AU139,AU$10:AU$200))","v":""},{"$f":"IF(AND(D139=\"w\",G139=\"U12\",K139<>\"\"),K139,\"\")","v":""},{"$f":"IF(OR(K139=\"\",AW139=\"\"),\"\",_xlfn.RANK.EQ(AW139,AW$10:AW$200))","v":""},{"$f":"IF(AND(D139=\"w\",G139=\"U13\",K139<>\"\"),K139,\"\")","v":""},{"$f":"IF(OR(K139=\"\",AY139=\"\"),\"\",_xlfn.RANK.EQ(AY139,AY$10:AY$200))","v":""},{"$f":"IF(AND(D139=\"w\",G139=\"U14\",K139<>\"\"),K139,\"\")","v":""},{"$f":"IF(OR(K139=\"\",BA139=\"\"),\"\",_xlfn.RANK.EQ(BA139,BA$10:BA$200))","v":""},{"$f":"IF(AND(D139=\"w\",G139=\"U15\",K139<>\"\"),K139,\"\")","v":""},{"$f":"IF(OR(K139=\"\",BC139=\"\"),\"\",_xlfn.RANK.EQ(BC139,BC$10:BC$200))","v":""},{"$f":"IF(AND(D139=\"w\",G139=\"U16\",K139<>\"\"),K139,\"\")","v":""},{"$f":"IF(OR(K139=\"\",BE139=\"\"),\"\",_xlfn.RANK.EQ(BE139,BE$10:BE$200))","v":""}]
[null,{"$f":"IF(Athletenliste!B140=\"\",\"\",Athletenliste!B140)","v":""},{"$f":"IF(Athletenliste!C140=\"\",\"\",Athletenliste!C140)","v":""},{"$f":"IF(Athletenliste!D140=\"\",\"\",Athletenliste!D140)","v":""},{"$f":"IF(Athletenliste!E140=\"\",\"\",Athletenliste!E140)","v":""},{"$f":"IF(Athletenliste!F140=\"\",\"\",Athletenliste!F140)","v":""},{"$f":"IF(Athletenliste!G140=\"\",\"\",Athletenliste!G140)","v":""},{"$f":"IF(Athletenliste!H140=\"\",\"\",Athletenliste!H140)","v":""},null,null,null,{"$f":"IF(B140=\"\",\"\",IF(D140=\"m\",INDIRECT(VLOOKUP(G140,Bezüge!$E$6:$F$16,2,FALSE)&ROW(G140)),INDIRECT(VLOOKUP(G140,Bezüge!$B$6:$C$16,2,FALSE)&ROW(G140))))","v":""},null,"","","","","","","","","","","","","","","","","","","","","","",null,"","","","","","","","","","","","","","","","","","","","","",""]
[null,{"$f":"IF(Athletenliste!B141=\"\",\"\",Athletenliste!B141)","v":""},{"$f":"IF(Athletenliste!C141=\"\",\"\",Athletenliste!C141)","v":""},{"$f":"IF(Athletenliste!D141=\"\",\"\",Athletenliste!D141)","v":""},{"$f":"IF(Athletenliste!E141=\"\",\"\",Athletenliste!E141)","v":""},{"$f":"IF(Athletenliste!F141=\"\",\"\",Athletenliste!F141)","v":""},{"$f":"IF(Athletenliste!G141=\"\",\"\",Athletenliste!G141)","v":""},{"$f":"IF(Athletenliste!H141=\"\",\"\",Athletenliste!H141)","v":""},null,null,null,{"$f":"IF(B141=\"\",\"\",IF(D141=\"m\",INDIRECT(VLOOKUP(G141,Bezüge!$E$6:$F$16,2,FALSE)&ROW(G141)),INDIRECT(VLOOKUP(G141,Bezüge!$B$6:$C$16,2,FALSE)&ROW(G141))))","v":""},null,"","","","","","","","","","","","","","","","","","","","","","",null,"","","","","","","","","","","","","","","","","","","","","",""]
[null,{"$f":"IF(Athletenliste!B142=\"\",\"\",Athletenliste!B142)","v":""},{"$f":"IF(Athletenliste!C142=\"\",\"\",Athletenliste!C142)","v":""},{"$f":"IF(Athletenliste!D142=\"\",\"\",Athletenliste!D142)","v":""},{"$f":"IF(Athletenliste!E142=\"\",\"\",Athletenliste!E142)","v":""},{"$f":"IF(Athletenliste!F142=\"\",\"\",Athletenliste!F142)","v":""},{"$f":"IF(Athletenliste!G142=\"\",\"\",Athletenliste!G142)","v":""},{"$f":"IF(Athletenliste!H142=\"\",\"\",Athletenliste!H142)","v":""},null,null,null,{"$f":"IF(B142=\"\",\"\",IF(D142=\"m\",INDIRECT(VLOOKUP(G142,Bezüge!$E$6:$F$16,2,FALSE)&ROW(G142)),INDIRECT(VLOOKUP(G142,Bezüge!$B$6:$C$16,2,FALSE)&ROW(G142))))","v":""},null,"","","","","","","","","","","","","","","","","","","","","","",null,"","","","","","","","","","","","","","","","","","","","","",""]
[null,{"$f":"IF(Athletenliste!B143=\"\",\"\",Athletenliste!B143)","v":""},{"$f":"IF(Athletenliste!C143=\"\",\"\",Athletenliste!C143)","v":""},{"$f":"IF(Athletenliste!D143=\"\",\"\",Athletenliste!D143)","v":""},{"$f":"IF(Athletenliste!E143=\"\",\"\",Athletenliste!E143)","v":""},{"$f":"IF(Athletenliste!F143=\"\",\"\",Athletenliste!F143)","v":""},{"$f":"IF(Athletenliste!G143=\"\",\"\",Athletenliste!G143)","v":""},{"$f":"IF(Athletenliste!H143=\"\",\"\",Athletenliste!H143)","v":""},null,null,null,{"$f":"IF(B143=\"\",\"\",IF(D143=\"m\",INDIRECT(VLOOKUP(G143,Bezüge!$E$6:$F$16,2,FALSE)&ROW(G143)),INDIRECT(VLOOKUP(G143,Bezüge!$B$6:$C$16,2,FALSE)&ROW(G143))))","v":""},null,"","","","","","","","","","","","","","","","","","","","","","",null,"","","","","","","","","","","","","","","","","","","","","",""]
[null,{"$f":"IF(Athletenliste!B144=\"\",\"\",Athletenliste!B144)","v":""},{"$f":"IF(Athletenliste!C144=\"\",\"\",Athletenliste!C144)","v":""},{"$f":"IF(Athletenliste!D144=\"\",\"\",Athletenliste!D144)","v":""},{"$f":"IF(Athletenliste!E144=\"\",\"\",Athletenliste!E144)","v":""},{"$f":"IF(Athletenliste!F144=\"\",\"\",Athletenliste!F144)","v":""},{"$f":"IF(Athletenliste!G144=\"\",\"\",Athletenliste!G144)","v":""},{"$f":"IF(Athletenliste!H144=\"\",\"\",Athletenliste!H144)","v":""},null,null,null,{"$f":"IF(B144=\"\",\"\",IF(D144=\"m\",INDIRECT(VLOOKUP(G144,Bezüge!$E$6:$F$16,2,FALSE)&ROW(G144)),INDIRECT(VLOOKUP(G144,Bezüge!$B$6:$C$16,2,FALSE)&ROW(G144))))","v":""},null,"","","","","","","","","","","","","","","","","","","","","","",null,"","","","","","","","","","","","","","","","","","","","","",""]
[null,{"$f":"IF(Athletenliste!B145=\"\",\"\",Athletenliste!B145)","v":""},{"$f":"IF(Athletenliste!C145=\"\",\"\",Athletenliste!C145)","v":""},{"$f":"IF(Athletenliste!D145=\"\",\"\",Athletenliste!D145)","v":""},{"$f":"IF(Athletenliste!E145=\"\",\"\",Athletenliste!E145)","v":""},{"$f":"IF(Athletenliste!F145=\"\",\"\",Athletenliste!F145)","v":""},{"$f":"IF(Athletenliste!G145=\"\",\"\",Athletenliste!G145)","v":""},{"$f":"IF(Athletenliste!H145=\"\",\"\",Athletenliste!H145)","v":""},null,null,null,{"$f":"IF(B145=\"\",\"\",IF(D145=\"m\",INDIRECT(VLOOKUP(G145,Bezüge!$E$6:$F$16,2,FALSE)&ROW(G145)),INDIRECT(VLOOKUP(G145,Bezüge!$B$6:$C$16,2,FALSE)&ROW(G145))))","v":""},null,"","","","","","","","","","","","","","","","","","","","","","",null,"","","","","","","","","","","","","","","","","","","","","",""]
[null,{"$f":"IF(Athletenliste!B146=\"\",\"\",Athletenliste!B146)","v":""},{"$f":"IF(Athletenliste!C146=\"\",\"\",Athletenliste!C146)","v":""},{"$f":"IF(Athletenliste!D146=\"\",\"\",Athletenliste!D146)","v":""},{"$f":"IF(Athletenliste!E146=\"\",\"\",Athletenliste!E146)","v":""},{"$f":"IF(Athletenliste!F146=\"\",\"\",Athletenliste!F146)","v":""},{"$f":"IF(Athletenliste!G146=\"\",\"\",Athletenliste!G146)","v":""},{"$f":"IF(Athletenliste!H146=\"\",\"\",Athletenliste!H146)","v":""},null,null,null,{"$f":"IF(B146=\"\",\"\",IF(D146=\"m\",INDIRECT(VLOOKUP(G146,Bezüge!$E$6:$F$16,2,FALSE)&ROW(G146)),INDIRECT(VLOOKUP(G146,Bezüge!$B$6:$C$16,2,FALSE)&ROW(G146))))","v":""},null,"","","","","","","","","","","","","","","","","","","","","","",null,"","","","","","","","","","","","","","","","","","","","","",""]
[null,{"$f":"IF(Athletenliste!B147=\"\",\"\",Athletenliste!B147)","v":""},{"$f":"IF(Athletenliste!C147=\"\",\"\",Athletenliste!C147)","v":""},{"$f":"IF(Athletenliste!D147=\"\",\"\",Athletenliste!D147)","v":""},{"$f":"IF(Athletenliste!E147=\"\",\"\",Athletenliste!E147)","v":""},{"$f":"IF(Athletenliste!F147=\"\",\"\",Athletenliste!F147)","v":""},{"$f":"IF(Athletenliste!G147=\"\",\"\",Athletenliste!G147)","v":""},{"$f":"IF(Athletenliste!H147=\"\",\"\",Athletenliste!H147)","v":""},null,null,null,{"$f":"IF(B147=\"\",\"\",IF(D147=\"m\",INDIRECT(VLOOKUP(G147,Bezüge!$E$6:$F$16,2,FALSE)&ROW(G147)),INDIRECT(VLOOKUP(G147,Bezüge!$B$6:$C$16,2,FALSE)&ROW(G147))))","v":""},null,"","","","","","","","","","","","","","","","","","","","","","",null,"","","","","","","","","","","","","","","","","","","","","",""]
[null,{"$f":"IF(Athletenliste!B148=\"\",\"\",Athletenliste!B148)","v":""},{"$f":"IF(Athletenliste!C148=\"\",\"\",Athletenliste!C148)","v":""},{"$f":"IF(Athletenliste!D148=\"\",\"\",Athletenliste!D148)","v":""},{"$f":"IF(Athletenliste!E148=\"\",\"\",Athletenliste!E148)","v":""},{"$f":"IF(Athletenliste!F148=\"\",\"\",Athletenliste!F148)","v":""},{"$f":"IF(Athletenliste!G148=\"\",\"\",Athletenliste!G148)","v":""},{"$f":"IF(Athletenliste!H148=\"\",\"\",Athletenliste!H148)","v":""},null,null,null,{"$f":"IF(B148=\"\",\"\",IF(D148=\"m\",INDIRECT(VLOOKUP(G148,Bezüge!$E$6:$F$16,2,FALSE)&ROW(G148)),INDIRECT(VLOOKUP(G148,Bezüge!$B$6:$C$16,2,FALSE)&ROW(G148))))","v":""},null,"","","","","","","","","","","","","","","","","","","","","","",null,"","","","","","","","","","","","","","","","","","","","","",""]
[null,{"$f":"IF(Athletenliste!B149=\"\",\"\",Athletenliste!B149)","v":""},{"$f":"IF(Athletenliste!C149=\"\",\"\",Athletenliste!C149)","v":""},{"$f":"IF(Athletenliste!D149=\"\",\"\",Athletenliste!D149)","v":""},{"$f":"IF(Athletenliste!E149=\"\",\"\",Athletenliste!E149)","v":""},{"$f":"IF(Athletenliste!F149=\"\",\"\",Athletenliste!F149)","v":""},{"$f":"IF(Athletenliste!G149=\"\",\"\",Athletenliste!G149)","v":""},{"$f":"IF(Athletenliste!H149=\"\",\"\",Athletenliste!H149)","v":""},null,null,null,{"$f":"IF(B149=\"\",\"\",IF(D149=\"m\",INDIRECT(VLOOKUP(G149,Bezüge!$E$6:$F$16,2,FALSE)&ROW(G149)),INDIRECT(VLOOKUP(G149,Bezüge!$B$6:$C$16,2,FALSE)&ROW(G149))))","v":""},null,"","","","","","","","","","","","","","","","","","","","","","",null,"","","","","","","","","","","","","","","","","","","","","",""]
[null,{"$f":"IF(Athletenliste!B150=\"\",\"\",Athletenliste!B150)","v":""},{"$f":"IF(Athletenliste!C150=\"\",\"\",Athletenliste!C150)","v":""},{"$f":"IF(Athletenliste!D150=\"\",\"\",Athletenliste!D150)","v":""},{"$f":"IF(Athletenliste!E150=\"\",\"\",Athletenliste!E150)","v":""},{"$f":"IF(Athletenliste!F150=\"\",\"\",Athletenliste!F150)","v":""},{"$f":"IF(Athletenliste!G150=\"\",\"\",Athletenliste!G150)","v":""},{"$f":"IF(Athletenliste!H150=\"\",\"\",Athletenliste!H150)","v":""},null,null,null,{"$f":"IF(B150=\"\",\"\",IF(D150=\"m\",INDIRECT(VLOOKUP(G150,Bezüge!$E$6:$F$16,2,FALSE)&ROW(G150)),INDIRECT(VLOOKUP(G150,Bezüge!$B$6:$C$16,2,FALSE)&ROW(G150))))","v":""},null,"","","","","","","","","","","","","","","","","","","","","","",null,"","","","","","","","","","","","","","","","","","","","","",""]
[null,{"$f":"IF(Athletenliste!B151=\"\",\"\",Athletenliste!B151)","v":""},{"$f":"IF(Athletenliste!C151=\"\",\"\",Athletenliste!C151)","v":""},{"$f":"IF(Athletenliste!D151=\"\",\"\",Athletenliste!D151)","v":""},{"$f":"IF(Athletenliste!E151=\"\",\"\",Athletenliste!E151)","v":""},{"$f":"IF(Athletenliste!F151=\"\",\"\",Athletenliste!F151)","v":""},{"$f":"IF(Athletenliste!G151=\"\",\"\",Athletenliste!G151)","v":""},{"$f":"IF(Athletenliste!H151=\"\",\"\",Athletenliste!H151)","v":""},null,null,null,{"$f":"IF(B151=\"\",\"\",IF(D151=\"m\",INDIRECT(VLOOKUP(G151,Bezüge!$E$6:$F$16,2,FALSE)&ROW(G151)),INDIRECT(VLOOKUP(G151,Bezüge!$B$6:$C$16,2,FALSE)&ROW(G151))))","v":""},null,"","","","","","","","","","","","","","","","","","","","","","",null,"","","","","","","","","","","","","","","","","","","","","",""]
[null,{"$f":"IF(Athletenliste!B152=\"\",\"\",Athletenliste!B152)","v":""},{"$f":"IF(Athletenliste!C152=\"\",\"\",Athletenliste!C152)","v":""},{"$f":"IF(Athletenliste!D152=\"\",\"\",Athletenliste!D152)","v":""},{"$f":"IF(Athletenliste!E152=\"\",\"\",Athletenliste!E152)","v":""},{"$f":"IF(Athletenliste!F152=\"\",\"\",Athletenliste!F152)","v":""},{"$f":"IF(Athletenliste!G152=\"\",\"\",Athletenliste!G152)","v":""},{"$f":"IF(Athletenliste!H152=\"\",\"\",Athletenliste!H152)","v":""},null,null,null,{"$f":"IF(B152=\"\",\"\",IF(D152=\"m\",INDIRECT(VLOOKUP(G152,Bezüge!$E$6:$F$16,2,FALSE)&ROW(G152)),INDIRECT(VLOOKUP(G152,Bezüge!$B$6:$C$16,2,FALSE)&ROW(G152))))","v":""},null,"","","","","","","","","","","","","","","","","","","","","","",null,"","","","","","","","","","","","","","","","","","","","","",""]
[null,{"$f":"IF(Athletenliste!B153=\"\",\"\",Athletenliste!B153)","v":""},{"$f":"IF(Athletenliste!C153=\"\",\"\",Athletenliste!C153)","v":""},{"$f":"IF(Athletenliste!D153=\"\",\"\",Athletenliste!D153)","v":""},{"$f":"IF(Athletenliste!E153=\"\",\"\",Athletenliste!E153)","v":""},{"$f":"IF(Athletenliste!F153=\"\",\"\",Athletenliste!F153)","v":""},{"$f":"IF(Athletenliste!G153=\"\",\"\",Athletenliste!G153)","v":""},{"$f":"IF(Athletenliste!H153=\"\",\"\",Athletenliste!H153)","v":""},null,null,null,{"$f":"IF(B153=\"\",\"\",IF(D153=\"m\",INDIRECT(VLOOKUP(G153,Bezüge!$E$6:$F$16,2,FALSE)&ROW(G153)),INDIRECT(VLOOKUP(G153,Bezüge!$B$6:$C$16,2,FALSE)&ROW(G153))))","v":""},null,"","","","","","","","","","","","","","","","","","","","","","",null,"","","","","","","","","","","","","","","","","","","","","",""]
[null,{"$f":"IF(Athletenliste!B154=\"\",\"\",Athletenliste!B154)","v":""},{"$f":"IF(Athletenliste!C154=\"\",\"\",Athletenliste!C154)","v":""},{"$f":"IF(Athletenliste!D154=\"\",\"\",Athletenliste!D154)","v":""},{"$f":"IF(Athletenliste!E154=\"\",\"\",Athletenliste!E154)","v":""},{"$f":"IF(Athletenliste!F154=\"\",\"\",Athletenliste!F154)","v":""},{"$f":"IF(Athletenliste!G154=\"\",\"\",Athletenliste!G154)","v":""},{"$f":"IF(Athletenliste!H154=\"\",\"\",Athletenliste!H154)","v":""},null,null,null,{"$f":"IF(B154=\"\",\"\",IF(D154=\"m\",INDIRECT(VLOOKUP(G154,Bezüge!$E$6:$F$16,2,FALSE)&ROW(G154)),INDIRECT(VLOOKUP(G154,Bezüge!$B$6:$C$16,2,FALSE)&ROW(G154))))","v":""},null,"","","","","","","","","","","","","","","","","","","","","","",null,"","","","","","","","","","","","","","","","","","","","","",""]
[null,{"$f":"IF(Athletenliste!B155=\"\",\"\",Athletenliste!B155)","v":""},{"$f":"IF(Athletenliste!C155=\"\",\"\",Athletenliste!C155)","v":""},{"$f":"IF(Athletenliste!D155=\"\",\"\",Athletenliste!D155)","v":""},{"$f":"IF(Athletenliste!E155=\"\",\"\",Athletenliste!E155)","v":""},{"$f":"IF(Athletenliste!F155=\"\",\"\",Athletenliste!F155)","v":""},{"$f":"IF(Athletenliste!G155=\"\",\"\",Athletenliste!G155)","v":""},{"$f":"IF(Athletenliste!H155=\"\",\"\",Athletenliste!H155)","v":""},null,null,null,{"$f":"IF(B155=\"\",\"\",IF(D155=\"m\",INDIRECT(VLOOKUP(G155,Bezüge!$E$6:$F$16,2,FALSE)&ROW(G155)),INDIRECT(VLOOKUP(G155,Bezüge!$B$6:$C$16,2,FALSE)&ROW(G155))))","v":""},null,"","","","","","","","","","","","","","","","","","","","","","",null,"","","","","","","","","","","","","","","","","","","","","",""]
[null,{"$f":"IF(Athletenliste!B156=\"\",\"\",Athletenliste!B156)","v":""},{"$f":"IF(Athletenliste!C156=\"\",\"\",Athletenliste!C156)","v":""},{"$f":"IF(Athletenliste!D156=\"\",\"\",Athletenliste!D156)","v":""},{"$f":"IF(Athletenliste!E156=\"\",\"\",Athletenliste!E156)","v":""},{"$f":"IF(Athletenliste!F156=\"\",\"\",Athletenliste!F156)","v":""},{"$f":"IF(Athletenliste!G156=\"\",\"\",Athletenliste!G156)","v":""},{"$f":"IF(Athletenliste!H156=\"\",\"\",Athletenliste!H156)","v":""},null,null,null,{"$f":"IF(B156=\"\",\"\",IF(D156=\"m\",INDIRECT(VLOOKUP(G156,Bezüge!$E$6:$F$16,2,FALSE)&ROW(G156)),INDIRECT(VLOOKUP(G156,Bezüge!$B$6:$C$16,2,FALSE)&ROW(G156))))","v":""},null,"","","","","","","","","","","","","","","","","","","","","","",null,"","","","","","","","","","","","","","","","","","","","","",""]
[null,{"$f":"IF(Athletenliste!B157=\"\",\"\",Athletenliste!B157)","v":""},{"$f":"IF(Athletenliste!C157=\"\",\"\",Athletenliste!C157)","v":""},{"$f":"IF(Athletenliste!D157=\"\",\"\",Athletenliste!D157)","v":""},{"$f":"IF(Athletenliste!E157=\"\",\"\",Athletenliste!E157)","v":""},{"$f":"IF(Athletenliste!F157=\"\",\"\",Athletenliste!F157)","v":""},{"$f":"IF(Athletenliste!G157=\"\",\"\",Athletenliste!G157)","v":""},{"$f":"IF(Athletenliste!H157=\"\",\"\",Athletenliste!H157)","v":""},null,null,null,{"$f":"IF(B157=\"\",\"\",IF(D157=\"m\",INDIRECT(VLOOKUP(G157,Bezüge!$E$6:$F$16,2,FALSE)&ROW(G157)),INDIRECT(VLOOKUP(G157,Bezüge!$B$6:$C$16,2,FALSE)&ROW(G157))))","v":""},null,"","","","","","","","","","","","","","","","","","","","","","",null,"","","","","","","","","","","","","","","","","","","","","",""]
[null,{"$f":"IF(Athletenliste!B158=\"\",\"\",Athletenliste!B158)","v":""},{"$f":"IF(Athletenliste!C158=\"\",\"\",Athletenliste!C158)","v":""},{"$f":"IF(Athletenliste!D158=\"\",\"\",Athletenliste!D158)","v":""},{"$f":"IF(Athletenliste!E158=\"\",\"\",Athletenliste!E158)","v":""},{"$f":"IF(Athletenliste!F158=\"\",\"\",Athletenliste!F158)","v":""},{"$f":"IF(Athletenliste!G158=\"\",\"\",Athletenliste!G158)","v":""},{"$f":"IF(Athletenliste!H158=\"\",\"\",Athletenliste!H158)","v":""},null,null,null,{"$f":"IF(B158=\"\",\"\",IF(D158=\"m\",INDIRECT(VLOOKUP(G158,Bezüge!$E$6:$F$16,2,FALSE)&ROW(G158)),INDIRECT(VLOOKUP(G158,Bezüge!$B$6:$C$16,2,FALSE)&ROW(G158))))","v":""},null,"","","","","","","","","","","","","","","","","","","","","","",null,"","","","","","","","","","","","","","","","","","","","","",""]
[null,{"$f":"IF(Athletenliste!B159=\"\",\"\",Athletenliste!B159)","v":""},{"$f":"IF(Athletenliste!C159=\"\",\"\",Athletenliste!C159)","v":""},{"$f":"IF(Athletenliste!D159=\"\",\"\",Athletenliste!D159)","v":""},{"$f":"IF(Athletenliste!E159=\"\",\"\",Athletenliste!E159)","v":""},{"$f":"IF(Athletenliste!F159=\"\",\"\",Athletenliste!F159)","v":""},{"$f":"IF(Athletenliste!G159=\"\",\"\",Athletenliste!G159)","v":""},{"$f":"IF(Athletenliste!H159=\"\",\"\",Athletenliste!H159)","v":""},null,null,null,{"$f":"IF(B159=\"\",\"\",IF(D159=\"m\",INDIRECT(VLOOKUP(G159,Bezüge!$E$6:$F$16,2,FALSE)&ROW(G159)),INDIRECT(VLOOKUP(G159,Bezüge!$B$6:$C$16,2,FALSE)&ROW(G159))))","v":""},null,"","","","","","","","","","","","","","","","","","","","","","",null,"","","","","","","","","","","","","","","","","","","","","",""]
[null,{"$f":"IF(Athletenliste!B160=\"\",\"\",Athletenliste!B160)","v":""},{"$f":"IF(Athletenliste!C160=\"\",\"\",Athletenliste!C160)","v":""},{"$f":"IF(Athletenliste!D160=\"\",\"\",Athletenliste!D160)","v":""},{"$f":"IF(Athletenliste!E160=\"\",\"\",Athletenliste!E160)","v":""},{"$f":"IF(Athletenliste!F160=\"\",\"\",Athletenliste!F160)","v":""},{"$f":"IF(Athletenliste!G160=\"\",\"\",Athletenliste!G160)","v":""},{"$f":"IF(Athletenliste!H160=\"\",\"\",Athletenliste!H160)","v":""},null,null,null,{"$f":"IF(B160=\"\",\"\",IF(D160=\"m\",INDIRECT(VLOOKUP(G160,Bezüge!$E$6:$F$16,2,FALSE)&ROW(G160)),INDIRECT(VLOOKUP(G160,Bezüge!$B$6:$C$16,2,FALSE)&ROW(G160))))","v":""},null,"","","","","","","","","","","","","","","","","","","","","","",null,"","","","","","","","","","","","","","","","","","","","","",""]
[null,{"$f":"IF(Athletenliste!B161=\"\",\"\",Athletenliste!B161)","v":""},{"$f":"IF(Athletenliste!C161=\"\",\"\",Athletenliste!C161)","v":""},{"$f":"IF(Athletenliste!D161=\"\",\"\",Athletenliste!D161)","v":""},{"$f":"IF(Athletenliste!E161=\"\",\"\",Athletenliste!E161)","v":""},{"$f":"IF(Athletenliste!F161=\"\",\"\",Athletenliste!F161)","v":""},{"$f":"IF(Athletenliste!G161=\"\",\"\",Athletenliste!G161)","v":""},{"$f":"IF(Athletenliste!H161=\"\",\"\",Athletenliste!H161)","v":""},null,null,null,{"$f":"IF(B161=\"\",\"\",IF(D161=\"m\",INDIRECT(VLOOKUP(G161,Bezüge!$E$6:$F$16,2,FALSE)&ROW(G161)),INDIRECT(VLOOKUP(G161,Bezüge!$B$6:$C$16,2,FALSE)&ROW(G161))))","v":""},null,"","","","","","","","","","","","","","","","","","","","","","",null,"","","","","","","","","","","","","","","","","","","","","",""]
[null,{"$f":"IF(Athletenliste!B162=\"\",\"\",Athletenliste!B162)","v":""},{"$f":"IF(Athletenliste!C162=\"\",\"\",Athletenliste!C162)","v":""},{"$f":"IF(Athletenliste!D162=\"\",\"\",Athletenliste!D162)","v":""},{"$f":"IF(Athletenliste!E162=\"\",\"\",Athletenliste!E162)","v":""},{"$f":"IF(Athletenliste!F162=\"\",\"\",Athletenliste!F162)","v":""},{"$f":"IF(Athletenliste!G162=\"\",\"\",Athletenliste!G162)","v":""},{"$f":"IF(Athletenliste!H162=\"\",\"\",Athletenliste!H162)","v":""},null,null,null,{"$f":"IF(B162=\"\",\"\",IF(D162=\"m\",INDIRECT(VLOOKUP(G162,Bezüge!$E$6:$F$16,2,FALSE)&ROW(G162)),INDIRECT(VLOOKUP(G162,Bezüge!$B$6:$C$16,2,FALSE)&ROW(G162))))","v":""},null,"","","","","","","","","","","","","","","","","","","","","","",null,"","","","","","","","","","","","","","","","","","","","","",""]
[null,{"$f":"IF(Athletenliste!B163=\"\",\"\",Athletenliste!B163)","v":""},{"$f":"IF(Athletenliste!C163=\"\",\"\",Athletenliste!C163)","v":""},{"$f":"IF(Athletenliste!D163=\"\",\"\",Athletenliste!D163)","v":""},{"$f":"IF(Athletenliste!E163=\"\",\"\",Athletenliste!E163)","v":""},{"$f":"IF(Athletenliste!F163=\"\",\"\",Athletenliste!F163)","v":""},{"$f":"IF(Athletenliste!G163=\"\",\"\",Athletenliste!G163)","v":""},{"$f":"IF(Athletenliste!H163=\"\",\"\",Athletenliste!H163)","v":""},null,null,null,{"$f":"IF(B163=\"\",\"\",IF(D163=\"m\",INDIRECT(VLOOKUP(G163,Bezüge!$E$6:$F$16,2,FALSE)&ROW(G163)),INDIRECT(VLOOKUP(G163,Bezüge!$B$6:$C$16,2,FALSE)&ROW(G163))))","v":""},null,"","","","","","","","","","","","","","","","","","","","","","",null,"","","","","","","","","","","","","","","","","","","","","",""]
[null,{"$f":"IF(Athletenliste!B164=\"\",\"\",Athletenliste!B164)","v":""},{"$f":"IF(Athletenliste!C164=\"\",\"\",Athletenliste!C164)","v":""},{"$f":"IF(Athletenliste!D164=\"\",\"\",Athletenliste!D164)","v":""},{"$f":"IF(Athletenliste!E164=\"\",\"\",Athletenliste!E164)","v":""},{"$f":"IF(Athletenliste!F164=\"\",\"\",Athletenliste!F164)","v":""},{"$f":"IF(Athletenliste!G164=\"\",\"\",Athletenliste!G164)","v":""},{"$f":"IF(Athletenliste!H164=\"\",\"\",Athletenliste!H164)","v":""},null,null,null,{"$f":"IF(B164=\"\",\"\",IF(D164=\"m\",INDIRECT(VLOOKUP(G164,Bezüge!$E$6:$F$16,2,FALSE)&ROW(G164)),INDIRECT(VLOOKUP(G164,Bezüge!$B$6:$C$16,2,FALSE)&ROW(G164))))","v":""},null,"","","","","","","","","","","","","","","","","","","","","","",null,"","","","","","","","","","","","","","","","","","","","","",""]
[null,{"$f":"IF(Athletenliste!B165=\"\",\"\",Athletenliste!B165)","v":""},{"$f":"IF(Athletenliste!C165=\"\",\"\",Athletenliste!C165)","v":""},{"$f":"IF(Athletenliste!D165=\"\",\"\",Athletenliste!D165)","v":""},{"$f":"IF(Athletenliste!E165=\"\",\"\",Athletenliste!E165)","v":""},{"$f":"IF(Athletenliste!F165=\"\",\"\",Athletenliste!F165)","v":""},{"$f":"IF(Athletenliste!G165=\"\",\"\",Athletenliste!G165)","v":""},{"$f":"IF(Athletenliste!H165=\"\",\"\",Athletenliste!H165)","v":""},null,null,null,{"$f":"IF(B165=\"\",\"\",IF(D165=\"m\",INDIRECT(VLOOKUP(G165,Bezüge!$E$6:$F$16,2,FALSE)&ROW(G165)),INDIRECT(VLOOKUP(G165,Bezüge!$B$6:$C$16,2,FALSE)&ROW(G165))))","v":""},null,"","","","","","","","","","","","","","","","","","","","","","",null,"","","","","","","","","","","","","","","","","","","","","",""]
[null,{"$f":"IF(Athletenliste!B166=\"\",\"\",Athletenliste!B166)","v":""},{"$f":"IF(Athletenliste!C166=\"\",\"\",Athletenliste!C166)","v":""},{"$f":"IF(Athletenliste!D166=\"\",\"\",Athletenliste!D166)","v":""},{"$f":"IF(Athletenliste!E166=\"\",\"\",Athletenliste!E166)","v":""},{"$f":"IF(Athletenliste!F166=\"\",\"\",Athletenliste!F166)","v":""},{"$f":"IF(Athletenliste!G166=\"\",\"\",Athletenliste!G166)","v":""},{"$f":"IF(Athletenliste!H166=\"\",\"\",Athletenliste!H166)","v":""},null,null,null,{"$f":"IF(B166=\"\",\"\",IF(D166=\"m\",INDIRECT(VLOOKUP(G166,Bezüge!$E$6:$F$16,2,FALSE)&ROW(G166)),INDIRECT(VLOOKUP(G166,Bezüge!$B$6:$C$16,2,FALSE)&ROW(G166))))","v":""},null,"","","","","","","","","","","","","","","","","","","","","","",null,"","","","","","","","","","","","","","","","","","","","","",""]
[null,{"$f":"IF(Athletenliste!B167=\"\",\"\",Athletenliste!B167)","v":""},{"$f":"IF(Athletenliste!C167=\"\",\"\",Athletenliste!C167)","v":""},{"$f":"IF(Athletenliste!D167=\"\",\"\",Athletenliste!D167)","v":""},{"$f":"IF(Athletenliste!E167=\"\",\"\",Athletenliste!E167)","v":""},{"$f":"IF(Athletenliste!F167=\"\",\"\",Athletenliste!F167)","v":""},{"$f":"IF(Athletenliste!G167=\"\",\"\",Athletenliste!G167)","v":""},{"$f":"IF(Athletenliste!H167=\"\",\"\",Athletenliste!H167)","v":""},null,null,null,{"$f":"IF(B167=\"\",\"\",IF(D167=\"m\",INDIRECT(VLOOKUP(G167,Bezüge!$E$6:$F$16,2,FALSE)&ROW(G167)),INDIRECT(VLOOKUP(G167,Bezüge!$B$6:$C$16,2,FALSE)&ROW(G167))))","v":""},null,"","","","","","","","","","","","","","","","","","","","","","",null,"","","","","","","","","","","","","","","","","","","","","",""]
[null,{"$f":"IF(Athletenliste!B168=\"\",\"\",Athletenliste!B168)","v":""},{"$f":"IF(Athletenliste!C168=\"\",\"\",Athletenliste!C168)","v":""},{"$f":"IF(Athletenliste!D168=\"\",\"\",Athletenliste!D168)","v":""},{"$f":"IF(Athletenliste!E168=\"\",\"\",Athletenliste!E168)","v":""},{"$f":"IF(Athletenliste!F168=\"\",\"\",Athletenliste!F168)","v":""},{"$f":"IF(Athletenliste!G168=\"\",\"\",Athletenliste!G168)","v":""},{"$f":"IF(Athletenliste!H168=\"\",\"\",Athletenliste!H168)","v":""},null,null,null,{"$f":"IF(B168=\"\",\"\",IF(D168=\"m\",INDIRECT(VLOOKUP(G168,Bezüge!$E$6:$F$16,2,FALSE)&ROW(G168)),INDIRECT(VLOOKUP(G168,Bezüge!$B$6:$C$16,2,FALSE)&ROW(G168))))","v":""},null,"","","","","","","","","","","","","","","","","","","","","","",null,"","","","","","","","","","","","","","","","","","","","","",""]
[null,{"$f":"IF(Athletenliste!B169=\"\",\"\",Athletenliste!B169)","v":""},{"$f":"IF(Athletenliste!C169=\"\",\"\",Athletenliste!C169)","v":""},{"$f":"IF(Athletenliste!D169=\"\",\"\",Athletenliste!D169)","v":""},{"$f":"IF(Athletenliste!E169=\"\",\"\",Athletenliste!E169)","v":""},{"$f":"IF(Athletenliste!F169=\"\",\"\",Athletenliste!F169)","v":""},{"$f":"IF(Athletenliste!G169=\"\",\"\",Athletenliste!G169)","v":""},{"$f":"IF(Athletenliste!H169=\"\",\"\",Athletenliste!H169)","v":""},null,null,null,{"$f":"IF(B169=\"\",\"\",IF(D169=\"m\",INDIRECT(VLOOKUP(G169,Bezüge!$E$6:$F$16,2,FALSE)&ROW(G169)),INDIRECT(VLOOKUP(G169,Bezüge!$B$6:$C$16,2,FALSE)&ROW(G169))))","v":""},null,"","","","","","","","","","","","","","","","","","","","","","",null,"","","","","","","","","","","","","","","","","","","","","",""]
[null,{"$f":"IF(Athletenliste!B170=\"\",\"\",Athletenliste!B170)","v":""},{"$f":"IF(Athletenliste!C170=\"\",\"\",Athletenliste!C170)","v":""},{"$f":"IF(Athletenliste!D170=\"\",\"\",Athletenliste!D170)","v":""},{"$f":"IF(Athletenliste!E170=\"\",\"\",Athletenliste!E170)","v":""},{"$f":"IF(Athletenliste!F170=\"\",\"\",Athletenliste!F170)","v":""},{"$f":"IF(Athletenliste!G170=\"\",\"\",Athletenliste!G170)","v":""},{"$f":"IF(Athletenliste!H170=\"\",\"\",Athletenliste!H170)","v":""},null,null,null,{"$f":"IF(B170=\"\",\"\",IF(D170=\"m\",INDIRECT(VLOOKUP(G170,Bezüge!$E$6:$F$16,2,FALSE)&ROW(G170)),INDIRECT(VLOOKUP(G170,Bezüge!$B$6:$C$16,2,FALSE)&ROW(G170))))","v":""},null,"","","","","","","","","","","","","","","","","","","","","","",null,"","","","","","","","","","","","","","","","","","","","","",""]
[null,{"$f":"IF(Athletenliste!B171=\"\",\"\",Athletenliste!B171)","v":""},{"$f":"IF(Athletenliste!C171=\"\",\"\",Athletenliste!C171)","v":""},{"$f":"IF(Athletenliste!D171=\"\",\"\",Athletenliste!D171)","v":""},{"$f":"IF(Athletenliste!E171=\"\",\"\",Athletenliste!E171)","v":""},{"$f":"IF(Athletenliste!F171=\"\",\"\",Athletenliste!F171)","v":""},{"$f":"IF(Athletenliste!G171=\"\",\"\",Athletenliste!G171)","v":""},{"$f":"IF(Athletenliste!H171=\"\",\"\",Athletenliste!H171)","v":""},null,null,null,{"$f":"IF(B171=\"\",\"\",IF(D171=\"m\",INDIRECT(VLOOKUP(G171,Bezüge!$E$6:$F$16,2,FALSE)&ROW(G171)),INDIRECT(VLOOKUP(G171,Bezüge!$B$6:$C$16,2,FALSE)&ROW(G171))))","v":""},null,"","","","","","","","","","","","","","","","","","","","","","",null,"","","","","","","","","","","","","","","","","","","","","",""]
[null,{"$f":"IF(Athletenliste!B172=\"\",\"\",Athletenliste!B172)","v":""},{"$f":"IF(Athletenliste!C172=\"\",\"\",Athletenliste!C172)","v":""},{"$f":"IF(Athletenliste!D172=\"\",\"\",Athletenliste!D172)","v":""},{"$f":"IF(Athletenliste!E172=\"\",\"\",Athletenliste!E172)","v":""},{"$f":"IF(Athletenliste!F172=\"\",\"\",Athletenliste!F172)","v":""},{"$f":"IF(Athletenliste!G172=\"\",\"\",Athletenliste!G172)","v":""},{"$f":"IF(Athletenliste!H172=\"\",\"\",Athletenliste!H172)","v":""},null,null,null,{"$f":"IF(B172=\"\",\"\",IF(D172=\"m\",INDIRECT(VLOOKUP(G172,Bezüge!$E$6:$F$16,2,FALSE)&ROW(G172)),INDIRECT(VLOOKUP(G172,Bezüge!$B$6:$C$16,2,FALSE)&ROW(G172))))","v":""},null,"","","","","","","","","","","","","","","","","","","","","","",null,"","","","","","","","","","","","","","","","","","","","","",""]
[null,{"$f":"IF(Athletenliste!B173=\"\",\"\",Athletenliste!B173)","v":""},{"$f":"IF(Athletenliste!C173=\"\",\"\",Athletenliste!C173)","v":""},{"$f":"IF(Athletenliste!D173=\"\",\"\",Athletenliste!D173)","v":""},{"$f":"IF(Athletenliste!E173=\"\",\"\",Athletenliste!E173)","v":""},{"$f":"IF(Athletenliste!F173=\"\",\"\",Athletenliste!F173)","v":""},{"$f":"IF(Athletenliste!G173=\"\",\"\",Athletenliste!G173)","v":""},{"$f":"IF(Athletenliste!H173=\"\",\"\",Athletenliste!H173)","v":""},null,null,null,{"$f":"IF(B173=\"\",\"\",IF(D173=\"m\",INDIRECT(VLOOKUP(G173,Bezüge!$E$6:$F$16,2,FALSE)&ROW(G173)),INDIRECT(VLOOKUP(G173,Bezüge!$B$6:$C$16,2,FALSE)&ROW(G173))))","v":""},null,"","","","","","","","","","","","","","","","","","","","","","",null,"","","","","","","","","","","","","","","","","","","","","",""]
[null,{"$f":"IF(Athletenliste!B174=\"\",\"\",Athletenliste!B174)","v":""},{"$f":"IF(Athletenliste!C174=\"\",\"\",Athletenliste!C174)","v":""},{"$f":"IF(Athletenliste!D174=\"\",\"\",Athletenliste!D174)","v":""},{"$f":"IF(Athletenliste!E174=\"\",\"\",Athletenliste!E174)","v":""},{"$f":"IF(Athletenliste!F174=\"\",\"\",Athletenliste!F174)","v":""},{"$f":"IF(Athletenliste!G174=\"\",\"\",Athletenliste!G174)","v":""},{"$f":"IF(Athletenliste!H174=\"\",\"\",Athletenliste!H174)","v":""},null,null,null,{"$f":"IF(B174=\"\",\"\",IF(D174=\"m\",INDIRECT(VLOOKUP(G174,Bezüge!$E$6:$F$16,2,FALSE)&ROW(G174)),INDIRECT(VLOOKUP(G174,Bezüge!$B$6:$C$16,2,FALSE)&ROW(G174))))","v":""},null,"","","","","","","","","","","","","","","","","","","","","","",null,"","","","","","","","","","","","","","","","","","","","","",""]
[null,{"$f":"IF(Athletenliste!B175=\"\",\"\",Athletenliste!B175)","v":""},{"$f":"IF(Athletenliste!C175=\"\",\"\",Athletenliste!C175)","v":""},{"$f":"IF(Athletenliste!D175=\"\",\"\",Athletenliste!D175)","v":""},{"$f":"IF(Athletenliste!E175=\"\",\"\",Athletenliste!E175)","v":""},{"$f":"IF(Athletenliste!F175=\"\",\"\",Athletenliste!F175)","v":""},{"$f":"IF(Athletenliste!G175=\"\",\"\",Athletenliste!G175)","v":""},{"$f":"IF(Athletenliste!H175=\"\",\"\",Athletenliste!H175)","v":""},null,null,null,{"$f":"IF(B175=\"\",\"\",IF(D175=\"m\",INDIRECT(VLOOKUP(G175,Bezüge!$E$6:$F$16,2,FALSE)&ROW(G175)),INDIRECT(VLOOKUP(G175,Bezüge!$B$6:$C$16,2,FALSE)&ROW(G175))))","v":""},null,"","","","","","","","","","","","","","","","","","","","","","",null,"","","","","","","","","","","","","","","","","","","","","",""]
[null,{"$f":"IF(Athletenliste!B176=\"\",\"\",Athletenliste!B176)","v":""},{"$f":"IF(Athletenliste!C176=\"\",\"\",Athletenliste!C176)","v":""},{"$f":"IF(Athletenliste!D176=\"\",\"\",Athletenliste!D176)","v":""},{"$f":"IF(Athletenliste!E176=\"\",\"\",Athletenliste!E176)","v":""},{"$f":"IF(Athletenliste!F176=\"\",\"\",Athletenliste!F176)","v":""},{"$f":"IF(Athletenliste!G176=\"\",\"\",Athletenliste!G176)","v":""},{"$f":"IF(Athletenliste!H176=\"\",\"\",Athletenliste!H176)","v":""},null,null,null,{"$f":"IF(B176=\"\",\"\",IF(D176=\"m\",INDIRECT(VLOOKUP(G176,Bezüge!$E$6:$F$16,2,FALSE)&ROW(G176)),INDIRECT(VLOOKUP(G176,Bezüge!$B$6:$C$16,2,FALSE)&ROW(G176))))","v":""},null,"","","","","","","","","","","","","","","","","","","","","","",null,"","","","","","","","","","","","","","","","","","","","","",""]
[null,{"$f":"IF(Athletenliste!B177=\"\",\"\",Athletenliste!B177)","v":""},{"$f":"IF(Athletenliste!C177=\"\",\"\",Athletenliste!C177)","v":""},{"$f":"IF(Athletenliste!D177=\"\",\"\",Athletenliste!D177)","v":""},{"$f":"IF(Athletenliste!E177=\"\",\"\",Athletenliste!E177)","v":""},{"$f":"IF(Athletenliste!F177=\"\",\"\",Athletenliste!F177)","v":""},{"$f":"IF(Athletenliste!G177=\"\",\"\",Athletenliste!G177)","v":""},{"$f":"IF(Athletenliste!H177=\"\",\"\",Athletenliste!H177)","v":""},null,null,null,{"$f":"IF(B177=\"\",\"\",IF(D177=\"m\",INDIRECT(VLOOKUP(G177,Bezüge!$E$6:$F$16,2,FALSE)&ROW(G177)),INDIRECT(VLOOKUP(G177,Bezüge!$B$6:$C$16,2,FALSE)&ROW(G177))))","v":""},null,"","","","","","","","","","","","","","","","","","","","","","",null,"","","","","","","","","","","","","","","","","","","","","",""]
[null,{"$f":"IF(Athletenliste!B178=\"\",\"\",Athletenliste!B178)","v":""},{"$f":"IF(Athletenliste!C178=\"\",\"\",Athletenliste!C178)","v":""},{"$f":"IF(Athletenliste!D178=\"\",\"\",Athletenliste!D178)","v":""},{"$f":"IF(Athletenliste!E178=\"\",\"\",Athletenliste!E178)","v":""},{"$f":"IF(Athletenliste!F178=\"\",\"\",Athletenliste!F178)","v":""},{"$f":"IF(Athletenliste!G178=\"\",\"\",Athletenliste!G178)","v":""},{"$f":"IF(Athletenliste!H178=\"\",\"\",Athletenliste!H178)","v":""},null,null,null,{"$f":"IF(B178=\"\",\"\",IF(D178=\"m\",INDIRECT(VLOOKUP(G178,Bezüge!$E$6:$F$16,2,FALSE)&ROW(G178)),INDIRECT(VLOOKUP(G178,Bezüge!$B$6:$C$16,2,FALSE)&ROW(G178))))","v":""},null,"","","","","","","","","","","","","","","","","","","","","","",null,"","","","","","","","","","","","","","","","","","","","","",""]
[null,{"$f":"IF(Athletenliste!B179=\"\",\"\",Athletenliste!B179)","v":""},{"$f":"IF(Athletenliste!C179=\"\",\"\",Athletenliste!C179)","v":""},{"$f":"IF(Athletenliste!D179=\"\",\"\",Athletenliste!D179)","v":""},{"$f":"IF(Athletenliste!E179=\"\",\"\",Athletenliste!E179)","v":""},{"$f":"IF(Athletenliste!F179=\"\",\"\",Athletenliste!F179)","v":""},{"$f":"IF(Athletenliste!G179=\"\",\"\",Athletenliste!G179)","v":""},{"$f":"IF(Athletenliste!H179=\"\",\"\",Athletenliste!H179)","v":""},null,null,null,{"$f":"IF(B179=\"\",\"\",IF(D179=\"m\",INDIRECT(VLOOKUP(G179,Bezüge!$E$6:$F$16,2,FALSE)&ROW(G179)),INDIRECT(VLOOKUP(G179,Bezüge!$B$6:$C$16,2,FALSE)&ROW(G179))))","v":""},null,"","","","","","","","","","","","","","","","","","","","","","",null,"","","","","","","","","","","","","","","","","","","","","",""]
[null,{"$f":"IF(Athletenliste!B180=\"\",\"\",Athletenliste!B180)","v":""},{"$f":"IF(Athletenliste!C180=\"\",\"\",Athletenliste!C180)","v":""},{"$f":"IF(Athletenliste!D180=\"\",\"\",Athletenliste!D180)","v":""},{"$f":"IF(Athletenliste!E180=\"\",\"\",Athletenliste!E180)","v":""},{"$f":"IF(Athletenliste!F180=\"\",\"\",Athletenliste!F180)","v":""},{"$f":"IF(Athletenliste!G180=\"\",\"\",Athletenliste!G180)","v":""},{"$f":"IF(Athletenliste!H180=\"\",\"\",Athletenliste!H180)","v":""},null,null,null,{"$f":"IF(B180=\"\",\"\",IF(D180=\"m\",INDIRECT(VLOOKUP(G180,Bezüge!$E$6:$F$16,2,FALSE)&ROW(G180)),INDIRECT(VLOOKUP(G180,Bezüge!$B$6:$C$16,2,FALSE)&ROW(G180))))","v":""},null,"","","","","","","","","","","","","","","","","","","","","","",null,"","","","","","","","","","","","","","","","","","","","","",""]
[null,{"$f":"IF(Athletenliste!B181=\"\",\"\",Athletenliste!B181)","v":""},{"$f":"IF(Athletenliste!C181=\"\",\"\",Athletenliste!C181)","v":""},{"$f":"IF(Athletenliste!D181=\"\",\"\",Athletenliste!D181)","v":""},{"$f":"IF(Athletenliste!E181=\"\",\"\",Athletenliste!E181)","v":""},{"$f":"IF(Athletenliste!F181=\"\",\"\",Athletenliste!F181)","v":""},{"$f":"IF(Athletenliste!G181=\"\",\"\",Athletenliste!G181)","v":""},{"$f":"IF(Athletenliste!H181=\"\",\"\",Athletenliste!H181)","v":""},null,null,null,{"$f":"IF(B181=\"\",\"\",IF(D181=\"m\",INDIRECT(VLOOKUP(G181,Bezüge!$E$6:$F$16,2,FALSE)&ROW(G181)),INDIRECT(VLOOKUP(G181,Bezüge!$B$6:$C$16,2,FALSE)&ROW(G181))))","v":""},null,"","","","","","","","","","","","","","","","","","","","","","",null,"","","","","","","","","","","","","","","","","","","","","",""]
[null,{"$f":"IF(Athletenliste!B182=\"\",\"\",Athletenliste!B182)","v":""},{"$f":"IF(Athletenliste!C182=\"\",\"\",Athletenliste!C182)","v":""},{"$f":"IF(Athletenliste!D182=\"\",\"\",Athletenliste!D182)","v":""},{"$f":"IF(Athletenliste!E182=\"\",\"\",Athletenliste!E182)","v":""},{"$f":"IF(Athletenliste!F182=\"\",\"\",Athletenliste!F182)","v":""},{"$f":"IF(Athletenliste!G182=\"\",\"\",Athletenliste!G182)","v":""},{"$f":"IF(Athletenliste!H182=\"\",\"\",Athletenliste!H182)","v":""},null,null,null,{"$f":"IF(B182=\"\",\"\",IF(D182=\"m\",INDIRECT(VLOOKUP(G182,Bezüge!$E$6:$F$16,2,FALSE)&ROW(G182)),INDIRECT(VLOOKUP(G182,Bezüge!$B$6:$C$16,2,FALSE)&ROW(G182))))","v":""},null,"","","","","","","","","","","","","","","","","","","","","","",null,"","","","","","","","","","","","","","","","","","","","","",""]
[null,{"$f":"IF(Athletenliste!B183=\"\",\"\",Athletenliste!B183)","v":""},{"$f":"IF(Athletenliste!C183=\"\",\"\",Athletenliste!C183)","v":""},{"$f":"IF(Athletenliste!D183=\"\",\"\",Athletenliste!D183)","v":""},{"$f":"IF(Athletenliste!E183=\"\",\"\",Athletenliste!E183)","v":""},{"$f":"IF(Athletenliste!F183=\"\",\"\",Athletenliste!F183)","v":""},{"$f":"IF(Athletenliste!G183=\"\",\"\",Athletenliste!G183)","v":""},{"$f":"IF(Athletenliste!H183=\"\",\"\",Athletenliste!H183)","v":""},null,null,null,{"$f":"IF(B183=\"\",\"\",IF(D183=\"m\",INDIRECT(VLOOKUP(G183,Bezüge!$E$6:$F$16,2,FALSE)&ROW(G183)),INDIRECT(VLOOKUP(G183,Bezüge!$B$6:$C$16,2,FALSE)&ROW(G183))))","v":""},null,"","","","","","","","","","","","","","","","","","","","","","",null,"","","","","","","","","","","","","","","","","","","","","",""]
[null,{"$f":"IF(Athletenliste!B184=\"\",\"\",Athletenliste!B184)","v":""},{"$f":"IF(Athletenliste!C184=\"\",\"\",Athletenliste!C184)","v":""},{"$f":"IF(Athletenliste!D184=\"\",\"\",Athletenliste!D184)","v":""},{"$f":"IF(Athletenliste!E184=\"\",\"\",Athletenliste!E184)","v":""},{"$f":"IF(Athletenliste!F184=\"\",\"\",Athletenliste!F184)","v":""},{"$f":"IF(Athletenliste!G184=\"\",\"\",Athletenliste!G184)","v":""},{"$f":"IF(Athletenliste!H184=\"\",\"\",Athletenliste!H184)","v":""},null,null,null,{"$f":"IF(B184=\"\",\"\",IF(D184=\"m\",INDIRECT(VLOOKUP(G184,Bezüge!$E$6:$F$16,2,FALSE)&ROW(G184)),INDIRECT(VLOOKUP(G184,Bezüge!$B$6:$C$16,2,FALSE)&ROW(G184))))","v":""},null,"","","","","","","","","","","","","","","","","","","","","","",null,"","","","","","","","","","","","","","","","","","","","","",""]
[null,{"$f":"IF(Athletenliste!B185=\"\",\"\",Athletenliste!B185)","v":""},{"$f":"IF(Athletenliste!C185=\"\",\"\",Athletenliste!C185)","v":""},{"$f":"IF(Athletenliste!D185=\"\",\"\",Athletenliste!D185)","v":""},{"$f":"IF(Athletenliste!E185=\"\",\"\",Athletenliste!E185)","v":""},{"$f":"IF(Athletenliste!F185=\"\",\"\",Athletenliste!F185)","v":""},{"$f":"IF(Athletenliste!G185=\"\",\"\",Athletenliste!G185)","v":""},{"$f":"IF(Athletenliste!H185=\"\",\"\",Athletenliste!H185)","v":""},null,null,null,{"$f":"IF(B185=\"\",\"\",IF(D185=\"m\",INDIRECT(VLOOKUP(G185,Bezüge!$E$6:$F$16,2,FALSE)&ROW(G185)),INDIRECT(VLOOKUP(G185,Bezüge!$B$6:$C$16,2,FALSE)&ROW(G185))))","v":""},null,"","","","","","","","","","","","","","","","","","","","","","",null,"","","","","","","","","","","","","","","","","","","","","",""]
[null,{"$f":"IF(Athletenliste!B186=\"\",\"\",Athletenliste!B186)","v":""},{"$f":"IF(Athletenliste!C186=\"\",\"\",Athletenliste!C186)","v":""},{"$f":"IF(Athletenliste!D186=\"\",\"\",Athletenliste!D186)","v":""},{"$f":"IF(Athletenliste!E186=\"\",\"\",Athletenliste!E186)","v":""},{"$f":"IF(Athletenliste!F186=\"\",\"\",Athletenliste!F186)","v":""},{"$f":"IF(Athletenliste!G186=\"\",\"\",Athletenliste!G186)","v":""},{"$f":"IF(Athletenliste!H186=\"\",\"\",Athletenliste!H186)","v":""},null,null,null,{"$f":"IF(B186=\"\",\"\",IF(D186=\"m\",INDIRECT(VLOOKUP(G186,Bezüge!$E$6:$F$16,2,FALSE)&ROW(G186)),INDIRECT(VLOOKUP(G186,Bezüge!$B$6:$C$16,2,FALSE)&ROW(G186))))","v":""},null,"","","","","","","","","","","","","","","","","","","","","","",null,"","","","","","","","","","","","","","","","","","","","","",""]
[null,{"$f":"IF(Athletenliste!B187=\"\",\"\",Athletenliste!B187)","v":""},{"$f":"IF(Athletenliste!C187=\"\",\"\",Athletenliste!C187)","v":""},{"$f":"IF(Athletenliste!D187=\"\",\"\",Athletenliste!D187)","v":""},{"$f":"IF(Athletenliste!E187=\"\",\"\",Athletenliste!E187)","v":""},{"$f":"IF(Athletenliste!F187=\"\",\"\",Athletenliste!F187)","v":""},{"$f":"IF(Athletenliste!G187=\"\",\"\",Athletenliste!G187)","v":""},{"$f":"IF(Athletenliste!H187=\"\",\"\",Athletenliste!H187)","v":""},null,null,null,{"$f":"IF(B187=\"\",\"\",IF(D187=\"m\",INDIRECT(VLOOKUP(G187,Bezüge!$E$6:$F$16,2,FALSE)&ROW(G187)),INDIRECT(VLOOKUP(G187,Bezüge!$B$6:$C$16,2,FALSE)&ROW(G187))))","v":""},null,"","","","","","","","","","","","","","","","","","","","","","",null,"","","","","","","","","","","","","","","","","","","","","",""]
[null,{"$f":"IF(Athletenliste!B188=\"\",\"\",Athletenliste!B188)","v":""},{"$f":"IF(Athletenliste!C188=\"\",\"\",Athletenliste!C188)","v":""},{"$f":"IF(Athletenliste!D188=\"\",\"\",Athletenliste!D188)","v":""},{"$f":"IF(Athletenliste!E188=\"\",\"\",Athletenliste!E188)","v":""},{"$f":"IF(Athletenliste!F188=\"\",\"\",Athletenliste!F188)","v":""},{"$f":"IF(Athletenliste!G188=\"\",\"\",Athletenliste!G188)","v":""},{"$f":"IF(Athletenliste!H188=\"\",\"\",Athletenliste!H188)","v":""},null,null,null,{"$f":"IF(B188=\"\",\"\",IF(D188=\"m\",INDIRECT(VLOOKUP(G188,Bezüge!$E$6:$F$16,2,FALSE)&ROW(G188)),INDIRECT(VLOOKUP(G188,Bezüge!$B$6:$C$16,2,FALSE)&ROW(G188))))","v":""},null,"","","","","","","","","","","","","","","","","","","","","","",null,"","","","","","","","","","","","","","","","","","","","","",""]
[null,{"$f":"IF(Athletenliste!B189=\"\",\"\",Athletenliste!B189)","v":""},{"$f":"IF(Athletenliste!C189=\"\",\"\",Athletenliste!C189)","v":""},{"$f":"IF(Athletenliste!D189=\"\",\"\",Athletenliste!D189)","v":""},{"$f":"IF(Athletenliste!E189=\"\",\"\",Athletenliste!E189)","v":""},{"$f":"IF(Athletenliste!F189=\"\",\"\",Athletenliste!F189)","v":""},{"$f":"IF(Athletenliste!G189=\"\",\"\",Athletenliste!G189)","v":""},{"$f":"IF(Athletenliste!H189=\"\",\"\",Athletenliste!H189)","v":""},null,null,null,{"$f":"IF(B189=\"\",\"\",IF(D189=\"m\",INDIRECT(VLOOKUP(G189,Bezüge!$E$6:$F$16,2,FALSE)&ROW(G189)),INDIRECT(VLOOKUP(G189,Bezüge!$B$6:$C$16,2,FALSE)&ROW(G189))))","v":""},null,"","","","","","","","","","","","","","","","","","","","","","",null,"","","","","","","","","","","","","","","","","","","","","",""]
[null,{"$f":"IF(Athletenliste!B190=\"\",\"\",Athletenliste!B190)","v":""},{"$f":"IF(Athletenliste!C190=\"\",\"\",Athletenliste!C190)","v":""},{"$f":"IF(Athletenliste!D190=\"\",\"\",Athletenliste!D190)","v":""},{"$f":"IF(Athletenliste!E190=\"\",\"\",Athletenliste!E190)","v":""},{"$f":"IF(Athletenliste!F190=\"\",\"\",Athletenliste!F190)","v":""},{"$f":"IF(Athletenliste!G190=\"\",\"\",Athletenliste!G190)","v":""},{"$f":"IF(Athletenliste!H190=\"\",\"\",Athletenliste!H190)","v":""},null,null,null,{"$f":"IF(B190=\"\",\"\",IF(D190=\"m\",INDIRECT(VLOOKUP(G190,Bezüge!$E$6:$F$16,2,FALSE)&ROW(G190)),INDIRECT(VLOOKUP(G190,Bezüge!$B$6:$C$16,2,FALSE)&ROW(G190))))","v":""},null,"","","","","","","","","","","","","","","","","","","","","","",null,"","","","","","","","","","","","","","","","","","","","","",""]
[null,{"$f":"IF(Athletenliste!B191=\"\",\"\",Athletenliste!B191)","v":""},{"$f":"IF(Athletenliste!C191=\"\",\"\",Athletenliste!C191)","v":""},{"$f":"IF(Athletenliste!D191=\"\",\"\",Athletenliste!D191)","v":""},{"$f":"IF(Athletenliste!E191=\"\",\"\",Athletenliste!E191)","v":""},{"$f":"IF(Athletenliste!F191=\"\",\"\",Athletenliste!F191)","v":""},{"$f":"IF(Athletenliste!G191=\"\",\"\",Athletenliste!G191)","v":""},{"$f":"IF(Athletenliste!H191=\"\",\"\",Athletenliste!H191)","v":""},null,null,null,{"$f":"IF(B191=\"\",\"\",IF(D191=\"m\",INDIRECT(VLOOKUP(G191,Bezüge!$E$6:$F$16,2,FALSE)&ROW(G191)),INDIRECT(VLOOKUP(G191,Bezüge!$B$6:$C$16,2,FALSE)&ROW(G191))))","v":""},null,"","","","","","","","","","","","","","","","","","","","","","",null,"","","","","","","","","","","","","","","","","","","","","",""]
[null,{"$f":"IF(Athletenliste!B192=\"\",\"\",Athletenliste!B192)","v":""},{"$f":"IF(Athletenliste!C192=\"\",\"\",Athletenliste!C192)","v":""},{"$f":"IF(Athletenliste!D192=\"\",\"\",Athletenliste!D192)","v":""},{"$f":"IF(Athletenliste!E192=\"\",\"\",Athletenliste!E192)","v":""},{"$f":"IF(Athletenliste!F192=\"\",\"\",Athletenliste!F192)","v":""},{"$f":"IF(Athletenliste!G192=\"\",\"\",Athletenliste!G192)","v":""},{"$f":"IF(Athletenliste!H192=\"\",\"\",Athletenliste!H192)","v":""},null,null,null,{"$f":"IF(B192=\"\",\"\",IF(D192=\"m\",INDIRECT(VLOOKUP(G192,Bezüge!$E$6:$F$16,2,FALSE)&ROW(G192)),INDIRECT(VLOOKUP(G192,Bezüge!$B$6:$C$16,2,FALSE)&ROW(G192))))","v":""},null,"","","","","","","","","","","","","","","","","","","","","","",null,"","","","","","","","","","","","","","","","","","","","","",""]
[null,{"$f":"IF(Athletenliste!B193=\"\",\"\",Athletenliste!B193)","v":""},{"$f":"IF(Athletenliste!C193=\"\",\"\",Athletenliste!C193)","v":""},{"$f":"IF(Athletenliste!D193=\"\",\"\",Athletenliste!D193)","v":""},{"$f":"IF(Athletenliste!E193=\"\",\"\",Athletenliste!E193)","v":""},{"$f":"IF(Athletenliste!F193=\"\",\"\",Athletenliste!F193)","v":""},{"$f":"IF(Athletenliste!G193=\"\",\"\",Athletenliste!G193)","v":""},{"$f":"IF(Athletenliste!H193=\"\",\"\",Athletenliste!H193)","v":""},null,null,null,{"$f":"IF(B193=\"\",\"\",IF(D193=\"m\",INDIRECT(VLOOKUP(G193,Bezüge!$E$6:$F$16,2,FALSE)&ROW(G193)),INDIRECT(VLOOKUP(G193,Bezüge!$B$6:$C$16,2,FALSE)&ROW(G193))))","v":""},null,"","","","","","","","","","","","","","","","","","","","","","",null,"","","","","","","","","","","","","","","","","","","","","",""]
[null,{"$f":"IF(Athletenliste!B194=\"\",\"\",Athletenliste!B194)","v":""},{"$f":"IF(Athletenliste!C194=\"\",\"\",Athletenliste!C194)","v":""},{"$f":"IF(Athletenliste!D194=\"\",\"\",Athletenliste!D194)","v":""},{"$f":"IF(Athletenliste!E194=\"\",\"\",Athletenliste!E194)","v":""},{"$f":"IF(Athletenliste!F194=\"\",\"\",Athletenliste!F194)","v":""},{"$f":"IF(Athletenliste!G194=\"\",\"\",Athletenliste!G194)","v":""},{"$f":"IF(Athletenliste!H194=\"\",\"\",Athletenliste!H194)","v":""},null,null,null,{"$f":"IF(B194=\"\",\"\",IF(D194=\"m\",INDIRECT(VLOOKUP(G194,Bezüge!$E$6:$F$16,2,FALSE)&ROW(G194)),INDIRECT(VLOOKUP(G194,Bezüge!$B$6:$C$16,2,FALSE)&ROW(G194))))","v":""},null,"","","","","","","","","","","","","","","","","","","","","","",null,"","","","","","","","","","","","","","","","","","","","","",""]
[null,{"$f":"IF(Athletenliste!B195=\"\",\"\",Athletenliste!B195)","v":""},{"$f":"IF(Athletenliste!C195=\"\",\"\",Athletenliste!C195)","v":""},{"$f":"IF(Athletenliste!D195=\"\",\"\",Athletenliste!D195)","v":""},{"$f":"IF(Athletenliste!E195=\"\",\"\",Athletenliste!E195)","v":""},{"$f":"IF(Athletenliste!F195=\"\",\"\",Athletenliste!F195)","v":""},{"$f":"IF(Athletenliste!G195=\"\",\"\",Athletenliste!G195)","v":""},{"$f":"IF(Athletenliste!H195=\"\",\"\",Athletenliste!H195)","v":""},null,null,null,{"$f":"IF(B195=\"\",\"\",IF(D195=\"m\",INDIRECT(VLOOKUP(G195,Bezüge!$E$6:$F$16,2,FALSE)&ROW(G195)),INDIRECT(VLOOKUP(G195,Bezüge!$B$6:$C$16,2,FALSE)&ROW(G195))))","v":""},null,"","","","","","","","","","","","","","","","","","","","","","",null,"","","","","","","","","","","","","","","","","","","","","",""]
[null,{"$f":"IF(Athletenliste!B196=\"\",\"\",Athletenliste!B196)","v":""},{"$f":"IF(Athletenliste!C196=\"\",\"\",Athletenliste!C196)","v":""},{"$f":"IF(Athletenliste!D196=\"\",\"\",Athletenliste!D196)","v":""},{"$f":"IF(Athletenliste!E196=\"\",\"\",Athletenliste!E196)","v":""},{"$f":"IF(Athletenliste!F196=\"\",\"\",Athletenliste!F196)","v":""},{"$f":"IF(Athletenliste!G196=\"\",\"\",Athletenliste!G196)","v":""},{"$f":"IF(Athletenliste!H196=\"\",\"\",Athletenliste!H196)","v":""},null,null,null,{"$f":"IF(B196=\"\",\"\",IF(D196=\"m\",INDIRECT(VLOOKUP(G196,Bezüge!$E$6:$F$16,2,FALSE)&ROW(G196)),INDIRECT(VLOOKUP(G196,Bezüge!$B$6:$C$16,2,FALSE)&ROW(G196))))","v":""},null,"","","","","","","","","","","","","","","","","","","","","","",null,"","","","","","","","","","","","","","","","","","","","","",""]
[null,{"$f":"IF(Athletenliste!B197=\"\",\"\",Athletenliste!B197)","v":""},{"$f":"IF(Athletenliste!C197=\"\",\"\",Athletenliste!C197)","v":""},{"$f":"IF(Athletenliste!D197=\"\",\"\",Athletenliste!D197)","v":""},{"$f":"IF(Athletenliste!E197=\"\",\"\",Athletenliste!E197)","v":""},{"$f":"IF(Athletenliste!F197=\"\",\"\",Athletenliste!F197)","v":""},{"$f":"IF(Athletenliste!G197=\"\",\"\",Athletenliste!G197)","v":""},{"$f":"IF(Athletenliste!H197=\"\",\"\",Athletenliste!H197)","v":""},null,null,null,{"$f":"IF(B197=\"\",\"\",IF(D197=\"m\",INDIRECT(VLOOKUP(G197,Bezüge!$E$6:$F$16,2,FALSE)&ROW(G197)),INDIRECT(VLOOKUP(G197,Bezüge!$B$6:$C$16,2,FALSE)&ROW(G197))))","v":""},null,"","","","","","","","","","","","","","","","","","","","","","",null,"","","","","","","","","","","","","","","","","","","","","",""]
[null,{"$f":"IF(Athletenliste!B198=\"\",\"\",Athletenliste!B198)","v":""},{"$f":"IF(Athletenliste!C198=\"\",\"\",Athletenliste!C198)","v":""},{"$f":"IF(Athletenliste!D198=\"\",\"\",Athletenliste!D198)","v":""},{"$f":"IF(Athletenliste!E198=\"\",\"\",Athletenliste!E198)","v":""},{"$f":"IF(Athletenliste!F198=\"\",\"\",Athletenliste!F198)","v":""},{"$f":"IF(Athletenliste!G198=\"\",\"\",Athletenliste!G198)","v":""},{"$f":"IF(Athletenliste!H198=\"\",\"\",Athletenliste!H198)","v":""},null,null,null,{"$f":"IF(B198=\"\",\"\",IF(D198=\"m\",INDIRECT(VLOOKUP(G198,Bezüge!$E$6:$F$16,2,FALSE)&ROW(G198)),INDIRECT(VLOOKUP(G198,Bezüge!$B$6:$C$16,2,FALSE)&ROW(G198))))","v":""},null,"","","","","","","","","","","","","","","","","","","","","","",null,"","","","","","","","","","","","","","","","","","","","","",""]
[null,{"$f":"IF(Athletenliste!B199=\"\",\"\",Athletenliste!B199)","v":""},{"$f":"IF(Athletenliste!C199=\"\",\"\",Athletenliste!C199)","v":""},{"$f":"IF(Athletenliste!D199=\"\",\"\",Athletenliste!D199)","v":""},{"$f":"IF(Athletenliste!E199=\"\",\"\",Athletenliste!E199)","v":""},{"$f":"IF(Athletenliste!F199=\"\",\"\",Athletenliste!F199)","v":""},{"$f":"IF(Athletenliste!G199=\"\",\"\",Athletenliste!G199)","v":""},{"$f":"IF(Athletenliste!H199=\"\",\"\",Athletenliste!H199)","v":""},null,null,null,{"$f":"IF(B199=\"\",\"\",IF(D199=\"m\",INDIRECT(VLOOKUP(G199,Bezüge!$E$6:$F$16,2,FALSE)&ROW(G199)),INDIRECT(VLOOKUP(G199,Bezüge!$B$6:$C$16,2,FALSE)&ROW(G199))))","v":""},null,"","","","","","","","","","","","","","","","","","","","","","",null,"","","","","","","","","","","","","","","","","","","","","",""]
[null,{"$f":"IF(Athletenliste!B200=\"\",\"\",Athletenliste!B200)","v":""},{"$f":"IF(Athletenliste!C200=\"\",\"\",Athletenliste!C200)","v":""},{"$f":"IF(Athletenliste!D200=\"\",\"\",Athletenliste!D200)","v":""},{"$f":"IF(Athletenliste!E200=\"\",\"\",Athletenliste!E200)","v":""},{"$f":"IF(Athletenliste!F200=\"\",\"\",Athletenliste!F200)","v":""},{"$f":"IF(Athletenliste!G200=\"\",\"\",Athletenliste!G200)","v":""},{"$f":"IF(Athletenliste!H200=\"\",\"\",Athletenliste!H200)","v":""},null,null,null,{"$f":"IF(B200=\"\",\"\",IF(D200=\"m\",INDIRECT(VLOOKUP(G200,Bezüge!$E$6:$F$16,2,FALSE)&ROW(G200)),INDIRECT(VLOOKUP(G200,Bezüge!$B$6:$C$16,2,FALSE)&ROW(G200))))","v":""},null,"","","","","","","","","","","","","","","","","","","","","","",null,"","","","","","","","","","","","","","","","","","","","","",""]
[null,{"$f":"IF(Athletenliste!B201=\"\",\"\",Athletenliste!B201)","v":""},{"$f":"IF(Athletenliste!C201=\"\",\"\",Athletenliste!C201)","v":""},{"$f":"IF(Athletenliste!D201=\"\",\"\",Athletenliste!D201)","v":""},{"$f":"IF(Athletenliste!E201=\"\",\"\",Athletenliste!E201)","v":""},{"$f":"IF(Athletenliste!F201=\"\",\"\",Athletenliste!F201)","v":""},{"$f":"IF(Athletenliste!G201=\"\",\"\",Athletenliste!G201)","v":""},{"$f":"IF(Athletenliste!H201=\"\",\"\",Athletenliste!H201)","v":""},null,null,null,{"$f":"IF(B201=\"\",\"\",IF(D201=\"m\",INDIRECT(VLOOKUP(G201,Bezüge!$E$6:$F$16,2,FALSE)&ROW(G201)),INDIRECT(VLOOKUP(G201,Bezüge!$B$6:$C$16,2,FALSE)&ROW(G201))))","v":""},null,"","","","","","","","","","","","","","","","","","","","","","",null,"","","","","","","","","","","","","","","","","","","","","",""]
[null,{"$f":"IF(Athletenliste!B202=\"\",\"\",Athletenliste!B202)","v":""},{"$f":"IF(Athletenliste!C202=\"\",\"\",Athletenliste!C202)","v":""},{"$f":"IF(Athletenliste!D202=\"\",\"\",Athletenliste!D202)","v":""},{"$f":"IF(Athletenliste!E202=\"\",\"\",Athletenliste!E202)","v":""},{"$f":"IF(Athletenliste!F202=\"\",\"\",Athletenliste!F202)","v":""},{"$f":"IF(Athletenliste!G202=\"\",\"\",Athletenliste!G202)","v":""},{"$f":"IF(Athletenliste!H202=\"\",\"\",Athletenliste!H202)","v":""},null,null,null,{"$f":"IF(B202=\"\",\"\",IF(D202=\"m\",INDIRECT(VLOOKUP(G202,Bezüge!$E$6:$F$16,2,FALSE)&ROW(G202)),INDIRECT(VLOOKUP(G202,Bezüge!$B$6:$C$16,2,FALSE)&ROW(G202))))","v":""},null,"","","","","","","","","","","","","","","","","","","","","","",null,"","","","","","","","","","","","","","","","","","","","","",""]

{"sheet":"Jump-and-Reach","index":3,"n_rows":202,"n_cols":58,"rows_kept":202,"cut":false,"hidden":false,"merged":[[3,2,3,3],[6,13,6,34],[6,36,6,57]]}
[]
[null,"SKILANGLAUF - DEUTSCHLAND - ATHLETIK - CHALLENGE"]
[]
[null,"Ort:",{"$f":"Athletenliste!C4","v":"Leipzig"},null,"Datum:",{"$f":"Athletenliste!F4","v":"2012-05-18"}]
[]
[null,"Junp-and-Reach"]
[null,"Name","Vorname","Geschlecht","Jahrgang","Testdatum","AK","LV","Jamp-and-reach","Rang in AK",null,null,null,"männlich",null,null,null,null,null,null,null,null,null,null,null,null,null,null,null,null,null,null,null,null,null,null,"Weiblich"]
[null,null,null,null,null,null,null,null,"[0,0 cm]",null,null,null,null,"U06  ","Ra","U07 ","Ra","U08 ","Ra","U09 ","Ra","U10 ","Ra","U11 ","Ra","U12 ","Ra","U13 ","Ra","U14 ","Ra","U15 ","Ra","U16 ","Ra",null,"U06  ","Ra","U07 ","Ra","U08 ","Ra","U09 ","Ra","U10 ","Ra","U11 ","Ra","U12 ","Ra","U13 ","Ra","U14 ","Ra","U15 ","Ra","U16 ","Ra"]
[]
[null,{"$f":"IF(Athletenliste!B10=\"\",\"\",Athletenliste!B10)","v":""},{"$f":"IF(Athletenliste!C10=\"\",\"\",Athletenliste!C10)","v":""},{"$f":"IF(Athletenliste!D10=\"\",\"\",Athletenliste!D10)","v":""},{"$f":"IF(Athletenliste!E10=\"\",\"\",Athletenliste!E10)","v":""},{"$f":"IF(Athletenliste!F10=\"\",\"\",Athletenliste!F10)","v":""},{"$f":"IF(Athletenliste!G10=\"\",\"\",Athletenliste!G10)","v":""},null,null,{"$f":"IF(B10=\"\",\"\",IF(D10=\"m\",INDIRECT(VLOOKUP(G10,Bezüge!$E$6:$F$16,2,FALSE)&ROW(G10)),INDIRECT(VLOOKUP(G10,Bezüge!$B$6:$C$16,2,FALSE)&ROW(G10))))","v":""},null,null,null,{"$f":"IF(AND(D10=\"m\",G10=\"U06\",I10<>\"\"),I10,\"\")","v":""},{"$f":"IF(OR(I10=\"\",N10=\"\"),\"\",_xlfn.RANK.EQ(N10,N$10:N$200))","v":""},{"$f":"IF(AND(D10=\"m\",G10=\"U07\",I10<>\"\"),I10,\"\")","v":""},{"$f":"IF(OR(I10=\"\",P10=\"\"),\"\",_xlfn.RANK.EQ(P10,P$10:P$200))","v":""},{"$f":"IF(AND(D10=\"m\",G10=\"U08\",I10<>\"\"),I10,\"\")","v":""},{"$f":"IF(OR(I10=\"\",R10=\"\"),\"\",_xlfn.RANK.EQ(R10,R$10:R$200))","v":""},{"$f":"IF(AND(D10=\"m\",G10=\"U09\",I10<>\"\"),I10,\"\")","v":""},{"$f":"IF(OR(I10=\"\",T10=\"\"),\"\",_xlfn.RANK.EQ(T10,T$10:T$200))","v":""},{"$f":"IF(AND(D10=\"m\",G10=\"U10\",I10<>\"\"),I10,\"\")","v":""},{"$f":"IF(OR(I10=\"\",V10=\"\"),\"\",_xlfn.RANK.EQ(V10,V$10:V$200))","v":""},{"$f":"IF(AND(D10=\"m\",G10=\"U11\",I10<>\"\"),I10,\"\")","v":""},{"$f":"IF(OR(I10=\"\",X10=\"\"),\"\",_xlfn.RANK.EQ(X10,X$10:X$200))","v":""},{"$f":"IF(AND(D10=\"m\",G10=\"U12\",I10<>\"\"),I10,\"\")","v":""},{"$f":"IF(OR(I10=\"\",Z10=\"\"),\"\",_xlfn.RANK.EQ(Z10,Z$10:Z$200))","v":""},{"$f":"IF(AND(D10=\"m\",G10=\"U13\",I10<>\"\"),I10,\"\")","v":""},{"$f":"IF(OR(I10=\"\",AB10=\"\"),\"\",_xlfn.RANK.EQ(AB10,AB$10:AB$200))","v":""},{"$f":"IF(AND(D10=\"m\",G10=\"U14\",I10<>\"\"),I10,\"\")","v":""},{"$f":"IF(OR(I10=\"\",AD10=\"\"),\"\",_xlfn.RANK.EQ(AD10,AD$10:AD$200))","v":""},{"$f":"IF(AND(D10=\"m\",G10=\"U15\",I10<>\"\"),I10,\"\")","v":""},{"$f":"IF(OR(I10=\"\",AF10=\"\"),\"\",_xlfn.RANK.EQ(AF10,AF$10:AF$200))","v":""},{"$f":"IF(AND(D10=\"m\",G10=\"U16\",I10<>\"\"),I10,\"\")","v":""},{"$f":"IF(OR(I10=\"\",AH10=\"\"),\"\",_xlfn.RANK.EQ(AH10,AH$10:AH$200))","v":""},null,{"$f":"IF(AND(D10=\"w\",G10=\"U06\",I10<>\"\"),I10,\"\")","v":""},{"$f":"IF(OR(I10=\"\",AI10=\"\"),\"\",_xlfn.RANK.EQ(AI10,AI$10:AI$200))","v":""},{"$f":"IF(AND(D10=\"w\",G10=\"U07\",I10<>\"\"),I10,\"\")","v":""},{"$f":"IF(OR(I10=\"\",AM10=\"\"),\"\",_xlfn.RANK.EQ(AM10,AM$10:AM$200))","v":""},{"$f":"IF(AND(D10=\"w\",G10=\"U08\",I10<>\"\"),I10,\"\")","v":""},{"$f":"IF(OR(I10=\"\",AO10=\"\"),\"\",_xlfn.RANK.EQ(AO10,AO$10:AO$200))","v":""},{"$f":"IF(AND(D10=\"w\",G10=\"U09\",I10<>\"\"),I10,\"\")","v":""},{"$f":"IF(OR(I10=\"\",AQ10=\"\"),\"\",_xlfn.RANK.EQ(AQ10,AQ$10:AQ$200))","v":""},{"$f":"IF(AND(D10=\"w\",G10=\"U10\",I10<>\"\"),I10,\"\")","v":""},{"$f":"IF(OR(I10=\"\",AS10=\"\"),\"\",_xlfn.RANK.EQ(AS10,AS$10:AS$200))","v":""},{"$f":"IF(AND(D10=\"w\",G10=\"U11\",I10<>\"\"),I10,\"\")","v":""},{"$f":"IF(OR(I10=\"\",AU10=\"\"),\"\",_xlfn.RANK.EQ(AU10,AU$10:AU$200))","v":""},{"$f":"IF(AND(D10=\"w\",G10=\"U12\",I10<>\"\"),I10,\"\")","v":""},{"$f":"IF(OR(I10=\"\",AW10=\"\"),\"\",_xlfn.RANK.EQ(AW10,AW$10:AW$200))","v":""},{"$f":"IF(AND(D10=\"w\",G10=\"U13\",I10<>\"\"),I10,\"\")","v":""},{"$f":"IF(OR(I10=\"\",AY10=\"\"),\"\",_xlfn.RANK.EQ(AY10,AY$10:AY$200))","v":""},{"$f":"IF(AND(D10=\"w\",G10=\"U14\",I10<>\"\"),I10,\"\")","v":""},{"$f":"IF(OR(I10=\"\",BA10=\"\"),\"\",_xlfn.RANK.EQ(BA10,BA$10:BA$200))","v":""},{"$f":"IF(AND(D10=\"w\",G10=\"U15\",I10<>\"\"),I10,\"\")","v":""},{"$f":"IF(OR(I10=\"\",BC10=\"\"),\"\",_xlfn.RANK.EQ(BC10,BC$10:BC$200))","v":""},{"$f":"IF(AND(D10=\"w\",G10=\"U16\",I10<>\"\"),I10,\"\")","v":""},{"$f":"IF(OR(I10=\"\",BE10=\"\"),\"\",_xlfn.RANK.EQ(BE10,BE$10:BE$200))","v":""}]
[null,{"$f":"IF(Athletenliste!B11=\"\",\"\",Athletenliste!B11)","v":""},{"$f":"IF(Athletenliste!C11=\"\",\"\",Athletenliste!C11)","v":""},{"$f":"IF(Athletenliste!D11=\"\",\"\",Athletenliste!D11)","v":""},{"$f":"IF(Athletenliste!E11=\"\",\"\",Athletenliste!E11)","v":""},{"$f":"IF(Athletenliste!F11=\"\",\"\",Athletenliste!F11)","v":""},{"$f":"IF(Athletenliste!G11=\"\",\"\",Athletenliste!G11)","v":""},{"$f":"IF(Athletenliste!H11=\"\",\"\",Athletenliste!H11)","v":""},null,{"$f":"IF(B11=\"\",\"\",IF(D11=\"m\",INDIRECT(VLOOKUP(G11,Bezüge!$E$6:$F$16,2,FALSE)&ROW(G11)),INDIRECT(VLOOKUP(G11,Bezüge!$B$6:$C$16,2,FALSE)&ROW(G11))))","v":""},null,null,null,"",{"$f":"IF(OR(I11=\"\",N11=\"\"),\"\",_xlfn.RANK.EQ(N11,N$10:N$200))","v":""},{"$f":"IF(AND(D11=\"m\",G11=\"U07\",I11<>\"\"),I11,\"\")","v":""},{"$f":"IF(OR(I11=\"\",P11=\"\"),\"\",_xlfn.RANK.EQ(P11,P$10:P$200))","v":""},{"$f":"IF(AND(D11=\"m\",G11=\"U08\",I11<>\"\"),I11,\"\")","v":""},{"$f":"IF(OR(I11=\"\",R11=\"\"),\"\",_xlfn.RANK.EQ(R11,R$10:R$200))","v":""},{"$f":"IF(AND(D11=\"m\",G11=\"U09\",I11<>\"\"),I11,\"\")","v":""},{"$f":"IF(OR(I11=\"\",T11=\"\"),\"\",_xlfn.RANK.EQ(T11,T$10:T$200))","v":""},{"$f":"IF(AND(D11=\"m\",G11=\"U10\",I11<>\"\"),I11,\"\")","v":""},{"$f":"IF(OR(I11=\"\",V11=\"\"),\"\",_xlfn.RANK.EQ(V11,V$10:V$200))","v":""},{"$f":"IF(AND(D11=\"m\",G11=\"U11\",I11<>\"\"),I11,\"\")","v":""},{"$f":"IF(OR(I11=\"\",X11=\"\"),\"\",_xlfn.RANK.EQ(X11,X$10:X$200))","v":""},{"$f":"IF(AND(D11=\"m\",G11=\"U12\",I11<>\"\"),I11,\"\")","v":""},{"$f":"IF(OR(I11=\"\",Z11=\"\"),\"\",_xlfn.RANK.EQ(Z11,Z$10:Z$200))","v":""},{"$f":"IF(AND(D11=\"m\",G11=\"U13\",I11<>\"\"),I11,\"\")","v":""},{"$f":"IF(OR(I11=\"\",AB11=\"\"),\"\",_xlfn.RANK.EQ(AB11,AB$10:AB$200))","v":""},{"$f":"IF(AND(D11=\"m\",G11=\"U14\",I11<>\"\"),I11,\"\")","v":""},{"$f":"IF(OR(I11=\"\",AD11=\"\"),\"\",_xlfn.RANK.EQ(AD11,AD$10:AD$200))","v":""},{"$f":"IF(AND(D11=\"m\",G11=\"U15\",I11<>\"\"),I11,\"\")","v":""},{"$f":"IF(OR(I11=\"\",AF11=\"\"),\"\",_xlfn.RANK.EQ(AF11,AF$10:AF$200))","v":""},{"$f":"IF(AND(D11=\"m\",G11=\"U16\",I11<>\"\"),I11,\"\")","v":""},{"$f":"IF(OR(I11=\"\",AH11=\"\"),\"\",_xlfn.RANK.EQ(AH11,AH$10:AH$200))","v":""},null,{"$f":"IF(AND(D11=\"w\",G11=\"U06\",I11<>\"\"),I11,\"\")","v":""},{"$f":"IF(OR(I11=\"\",AI11=\"\"),\"\",_xlfn.RANK.EQ(AI11,AI$10:AI$200))","v":""},{"$f":"IF(AND(D11=\"w\",G11=\"U07\",I11<>\"\"),I11,\"\")","v":""},{"$f":"IF(OR(I11=\"\",AM11=\"\"),\"\",_xlfn.RANK.EQ(AM11,AM$10:AM$200))","v":""},{"$f":"IF(AND(D11=\"w\",G11=\"U08\",I11<>\"\"),I11,\"\")","v":""},{"$f":"IF(OR(I11=\"\",AO11=\"\"),\"\",_xlfn.RANK.EQ(AO11,AO$10:AO$200))","v":""},{"$f":"IF(AND(D11=\"w\",G11=\"U09\",I11<>\"\"),I11,\"\")","v":""},{"$f":"IF(OR(I11=\"\",AQ11=\"\"),\"\",_xlfn.RANK.EQ(AQ11,AQ$10:AQ$200))","v":""},{"$f":"IF(AND(D11=\"w\",G11=\"U10\",I11<>\"\"),I11,\"\")","v":""},{"$f":"IF(OR(I11=\"\",AS11=\"\"),\"\",_xlfn.RANK.EQ(AS11,AS$10:AS$200))","v":""},{"$f":"IF(AND(D11=\"w\",G11=\"U11\",I11<>\"\"),I11,\"\")","v":""},{"$f":"IF(OR(I11=\"\",AU11=\"\"),\"\",_xlfn.RANK.EQ(AU11,AU$10:AU$200))","v":""},{"$f":"IF(AND(D11=\"w\",G11=\"U12\",I11<>\"\"),I11,\"\")","v":""},{"$f":"IF(OR(I11=\"\",AW11=\"\"),\"\",_xlfn.RANK.EQ(AW11,AW$10:AW$200))","v":""},{"$f":"IF(AND(D11=\"w\",G11=\"U13\",I11<>\"\"),I11,\"\")","v":""},{"$f":"IF(OR(I11=\"\",AY11=\"\"),\"\",_xlfn.RANK.EQ(AY11,AY$10:AY$200))","v":""},{"$f":"IF(AND(D11=\"w\",G11=\"U14\",I11<>\"\"),I11,\"\")","v":""},{"$f":"IF(OR(I11=\"\",BA11=\"\"),\"\",_xlfn.RANK.EQ(BA11,BA$10:BA$200))","v":""},{"$f":"IF(AND(D11=\"w\",G11=\"U15\",I11<>\"\"),I11,\"\")","v":""},{"$f":"IF(OR(I11=\"\",BC11=\"\"),\"\",_xlfn.RANK.EQ(BC11,BC$10:BC$200))","v":""},{"$f":"IF(AND(D11=\"w\",G11=\"U16\",I11<>\"\"),I11,\"\")","v":""},{"$f":"IF(OR(I11=\"\",BE11=\"\"),\"\",_xlfn.RANK.EQ(BE11,BE$10:BE$200))","v":""}]
[null,{"$f":"IF(Athletenliste!B12=\"\",\"\",Athletenliste!B12)","v":""},{"$f":"IF(Athletenliste!C12=\"\",\"\",Athletenliste!C12)","v":""},{"$f":"IF(Athletenliste!D12=\"\",\"\",Athletenliste!D12)","v":""},{"$f":"IF(Athletenliste!E12=\"\",\"\",Athletenliste!E12)","v":""},{"$f":"IF(Athletenliste!F12=\"\",\"\",Athletenliste!F12)","v":""},{"$f":"IF(Athletenliste!G12=\"\",\"\",Athletenliste!G12)","v":""},{"$f":"IF(Athletenliste!H12=\"\",\"\",Athletenliste!H12)","v":""},null,{"$f":"IF(B12=\"\",\"\",IF(D12=\"m\",INDIRECT(VLOOKUP(G12,Bezüge!$E$6:$F$16,2,FALSE)&ROW(G12)),INDIRECT(VLOOKUP(G12,Bezüge!$B$6:$C$16,2,FALSE)&ROW(G12))))","v":""},null,null,null,"","","","","","","","","","","","","","","","","","","","","","",null,"","","","","","","","","","","","","","","","","","","","","",""]
[null,{"$f":"IF(Athletenliste!B13=\"\",\"\",Athletenliste!B13)","v":""},{"$f":"IF(Athletenliste!C13=\"\",\"\",Athletenliste!C13)","v":""},{"$f":"IF(Athletenliste!D13=\"\",\"\",Athletenliste!D13)","v":""},{"$f":"IF(Athletenliste!E13=\"\",\"\",Athletenliste!E13)","v":""},{"$f":"IF(Athletenliste!F13=\"\",\"\",Athletenliste!F13)","v":""},{"$f":"IF(Athletenliste!G13=\"\",\"\",Athletenliste!G13)","v":""},{"$f":"IF(Athletenliste!H13=\"\",\"\",Athletenliste!H13)","v":""},null,{"$f":"IF(B13=\"\",\"\",IF(D13=\"m\",INDIRECT(VLOOKUP(G13,Bezüge!$E$6:$F$16,2,FALSE)&ROW(G13)),INDIRECT(VLOOKUP(G13,Bezüge!$B$6:$C$16,2,FALSE)&ROW(G13))))","v":""},null,null,null,"","","","","","","","","","","","","","","","","","","","","","",null,"","","","","","","","","","","","","","","","","","","","","",""]
[null,{"$f":"IF(Athletenliste!B14=\"\",\"\",Athletenliste!B14)","v":""},{"$f":"IF(Athletenliste!C14=\"\",\"\",Athletenliste!C14)","v":""},{"$f":"IF(Athletenliste!D14=\"\",\"\",Athletenliste!D14)","v":""},{"$f":"IF(Athletenliste!E14=\"\",\"\",Athletenliste!E14)","v":""},{"$f":"IF(Athletenliste!F14=\"\",\"\",Athletenliste!F14)","v":""},{"$f":"IF(Athletenliste!G14=\"\",\"\",Athletenliste!G14)","v":""},{"$f":"IF(Athletenliste!H14=\"\",\"\",Athletenliste!H14)","v":""},null,{"$f":"IF(B14=\"\",\"\",IF(D14=\"m\",INDIRECT(VLOOKUP(G14,Bezüge!$E$6:$F$16,2,FALSE)&ROW(G14)),INDIRECT(VLOOKUP(G14,Bezüge!$B$6:$C$16,2,FALSE)&ROW(G14))))","v":""},null,null,null,"","","","","","","","","","","","","","","","","","","","","","",null,"","","","","","","","","","","","","","","","","","","","","",""]
[null,{"$f":"IF(Athletenliste!B15=\"\",\"\",Athletenliste!B15)","v":""},{"$f":"IF(Athletenliste!C15=\"\",\"\",Athletenliste!C15)","v":""},{"$f":"IF(Athletenliste!D15=\"\",\"\",Athletenliste!D15)","v":""},{"$f":"IF(Athletenliste!E15=\"\",\"\",Athletenliste!E15)","v":""},{"$f":"IF(Athletenliste!F15=\"\",\"\",Athletenliste!F15)","v":""},{"$f":"IF(Athletenliste!G15=\"\",\"\",Athletenliste!G15)","v":""},{"$f":"IF(Athletenliste!H15=\"\",\"\",Athletenliste!H15)","v":""},null,{"$f":"IF(B15=\"\",\"\",IF(D15=\"m\",INDIRECT(VLOOKUP(G15,Bezüge!$E$6:$F$16,2,FALSE)&ROW(G15)),INDIRECT(VLOOKUP(G15,Bezüge!$B$6:$C$16,2,FALSE)&ROW(G15))))","v":""},null,null,null,"","","","","","","","","","","","","","","","","","","","","","",null,"","","","","","","","","","","","","","","","","","","","","",""]
[null,{"$f":"IF(Athletenliste!B16=\"\",\"\",Athletenliste!B16)","v":""},{"$f":"IF(Athletenliste!C16=\"\",\"\",Athletenliste!C16)","v":""},{"$f":"IF(Athletenliste!D16=\"\",\"\",Athletenliste!D16)","v":""},{"$f":"IF(Athletenliste!E16=\"\",\"\",Athletenliste!E16)","v":""},{"$f":"IF(Athletenliste!F16=\"\",\"\",Athletenliste!F16)","v":""},{"$f":"IF(Athletenliste!G16=\"\",\"\",Athletenliste!G16)","v":""},{"$f":"IF(Athletenliste!H16=\"\",\"\",Athletenliste!H16)","v":""},null,{"$f":"IF(B16=\"\",\"\",IF(D16=\"m\",INDIRECT(VLOOKUP(G16,Bezüge!$E$6:$F$16,2,FALSE)&ROW(G16)),INDIRECT(VLOOKUP(G16,Bezüge!$B$6:$C$16,2,FALSE)&ROW(G16))))","v":""},null,null,null,"","","","","","","","","","","","","","","","","","","","","","",null,"","","","","","","","","","","","","","","","","","","","","",""]
[null,{"$f":"IF(Athletenliste!B17=\"\",\"\",Athletenliste!B17)","v":""},{"$f":"IF(Athletenliste!C17=\"\",\"\",Athletenliste!C17)","v":""},{"$f":"IF(Athletenliste!D17=\"\",\"\",Athletenliste!D17)","v":""},{"$f":"IF(Athletenliste!E17=\"\",\"\",Athletenliste!E17)","v":""},{"$f":"IF(Athletenliste!F17=\"\",\"\",Athletenliste!F17)","v":""},{"$f":"IF(Athletenliste!G17=\"\",\"\",Athletenliste!G17)","v":""},{"$f":"IF(Athletenliste!H17=\"\",\"\",Athletenliste!H17)","v":""},null,{"$f":"IF(B17=\"\",\"\",IF(D17=\"m\",INDIRECT(VLOOKUP(G17,Bezüge!$E$6:$F$16,2,FALSE)&ROW(G17)),INDIRECT(VLOOKUP(G17,Bezüge!$B$6:$C$16,2,FALSE)&ROW(G17))))","v":""},null,null,null,"","","","","","","","","","","","","","","","","","","","","","",null,"","","","","","","","","","","","","","","","","","","","","",""]
[null,{"$f":"IF(Athletenliste!B18=\"\",\"\",Athletenliste!B18)","v":""},{"$f":"IF(Athletenliste!C18=\"\",\"\",Athletenliste!C18)","v":""},{"$f":"IF(Athletenliste!D18=\"\",\"\",Athletenliste!D18)","v":""},{"$f":"IF(Athletenliste!E18=\"\",\"\",Athletenliste!E18)","v":""},{"$f":"IF(Athletenliste!F18=\"\",\"\",Athletenliste!F18)","v":""},{"$f":"IF(Athletenliste!G18=\"\",\"\",Athletenliste!G18)","v":""},{"$f":"IF(Athletenliste!H18=\"\",\"\",Athletenliste!H18)","v":""},null,{"$f":"IF(B18=\"\",\"\",IF(D18=\"m\",INDIRECT(VLOOKUP(G18,Bezüge!$E$6:$F$16,2,FALSE)&ROW(G18)),INDIRECT(VLOOKUP(G18,Bezüge!$B$6:$C$16,2,FALSE)&ROW(G18))))","v":""},null,null,null,"","","","","","","","","","","","","","","","","","","","","","",null,"","","","","","","","","","","","","","","","","","","","","",""]
[null,{"$f":"IF(Athletenliste!B19=\"\",\"\",Athletenliste!B19)","v":""},{"$f":"IF(Athletenliste!C19=\"\",\"\",Athletenliste!C19)","v":""},{"$f":"IF(Athletenliste!D19=\"\",\"\",Athletenliste!D19)","v":""},{"$f":"IF(Athletenliste!E19=\"\",\"\",Athletenliste!E19)","v":""},{"$f":"IF(Athletenliste!F19=\"\",\"\",Athletenliste!F19)","v":""},{"$f":"IF(Athletenliste!G19=\"\",\"\",Athletenliste!G19)","v":""},{"$f":"IF(Athletenliste!H19=\"\",\"\",Athletenliste!H19)","v":""},null,{"$f":"IF(B19=\"\",\"\",IF(D19=\"m\",INDIRECT(VLOOKUP(G19,Bezüge!$E$6:$F$16,2,FALSE)&ROW(G19)),INDIRECT(VLOOKUP(G19,Bezüge!$B$6:$C$16,2,FALSE)&ROW(G19))))","v":""},null,null,null,"","","","","","","","","","","","","","","","","","","","","","",null,"","","","","","","","","","","","","","","","","","","","","",""]
[null,{"$f":"IF(Athletenliste!B20=\"\",\"\",Athletenliste!B20)","v":""},{"$f":"IF(Athletenliste!C20=\"\",\"\",Athletenliste!C20)","v":""},{"$f":"IF(Athletenliste!D20=\"\",\"\",Athletenliste!D20)","v":""},{"$f":"IF(Athletenliste!E20=\"\",\"\",Athletenliste!E20)","v":""},{"$f":"IF(Athletenliste!F20=\"\",\"\",Athletenliste!F20)","v":""},{"$f":"IF(Athletenliste!G20=\"\",\"\",Athletenliste!G20)","v":""},{"$f":"IF(Athletenliste!H20=\"\",\"\",Athletenliste!H20)","v":""},null,{"$f":"IF(B20=\"\",\"\",IF(D20=\"m\",INDIRECT(VLOOKUP(G20,Bezüge!$E$6:$F$16,2,FALSE)&ROW(G20)),INDIRECT(VLOOKUP(G20,Bezüge!$B$6:$C$16,2,FALSE)&ROW(G20))))","v":""},null,null,null,"","","","","","","","","","","","","","","","","","","","","","",null,"","","","","","","","","","","","","","","","","","","","","",""]
[null,{"$f":"IF(Athletenliste!B21=\"\",\"\",Athletenliste!B21)","v":""},{"$f":"IF(Athletenliste!C21=\"\",\"\",Athletenliste!C21)","v":""},{"$f":"IF(Athletenliste!D21=\"\",\"\",Athletenliste!D21)","v":""},{"$f":"IF(Athletenliste!E21=\"\",\"\",Athletenliste!E21)","v":""},{"$f":"IF(Athletenliste!F21=\"\",\"\",Athletenliste!F21)","v":""},{"$f":"IF(Athletenliste!G21=\"\",\"\",Athletenliste!G21)","v":""},{"$f":"IF(Athletenliste!H21=\"\",\"\",Athletenliste!H21)","v":""},null,{"$f":"IF(B21=\"\",\"\",IF(D21=\"m\",INDIRECT(VLOOKUP(G21,Bezüge!$E$6:$F$16,2,FALSE)&ROW(G21)),INDIRECT(VLOOKUP(G21,Bezüge!$B$6:$C$16,2,FALSE)&ROW(G21))))","v":""},null,null,null,"","","","","","","","","","","","","","","","","","","","","","",null,"","","","","","","","","","","","","","","","","","","","","",""]
[null,{"$f":"IF(Athletenliste!B22=\"\",\"\",Athletenliste!B22)","v":""},{"$f":"IF(Athletenliste!C22=\"\",\"\",Athletenliste!C22)","v":""},{"$f":"IF(Athletenliste!D22=\"\",\"\",Athletenliste!D22)","v":""},{"$f":"IF(Athletenliste!E22=\"\",\"\",Athletenliste!E22)","v":""},{"$f":"IF(Athletenliste!F22=\"\",\"\",Athletenliste!F22)","v":""},{"$f":"IF(Athletenliste!G22=\"\",\"\",Athletenliste!G22)","v":""},{"$f":"IF(Athletenliste!H22=\"\",\"\",Athletenliste!H22)","v":""},null,{"$f":"IF(B22=\"\",\"\",IF(D22=\"m\",INDIRECT(VLOOKUP(G22,Bezüge!$E$6:$F$16,2,FALSE)&ROW(G22)),INDIRECT(VLOOKUP(G22,Bezüge!$B$6:$C$16,2,FALSE)&ROW(G22))))","v":""},null,null,null,"","","","","","","","","","","","","","","","","","","","","","",null,"","","","","","","","","","","","","","","","","","","","","",""]
[null,{"$f":"IF(Athletenliste!B23=\"\",\"\",Athletenliste!B23)","v":""},{"$f":"IF(Athletenliste!C23=\"\",\"\",Athletenliste!C23)","v":""},{"$f":"IF(Athletenliste!D23=\"\",\"\",Athletenliste!D23)","v":""},{"$f":"IF(Athletenliste!E23=\"\",\"\",Athletenliste!E23)","v":""},{"$f":"IF(Athletenliste!F23=\"\",\"\",Athletenliste!F23)","v":""},{"$f":"IF(Athletenliste!G23=\"\",\"\",Athletenliste!G23)","v":""},{"$f":"IF(Athletenliste!H23=\"\",\"\",Athletenliste!H23)","v":""},null,{"$f":"IF(B23=\"\",\"\",IF(D23=\"m\",INDIRECT(VLOOKUP(G23,Bezüge!$E$6:$F$16,2,FALSE)&ROW(G23)),INDIRECT(VLOOKUP(G23,Bezüge!$B$6:$C$16,2,FALSE)&ROW(G23))))","v":""},null,null,null,"","","","","","","","","","","","","","","","","","","","","","",null,"","","","","","","","","","","","","","","","","","","","","",""]
[null,{"$f":"IF(Athletenliste!B24=\"\",\"\",Athletenliste!B24)","v":""},{"$f":"IF(Athletenliste!C24=\"\",\"\",Athletenliste!C24)","v":""},{"$f":"IF(Athletenliste!D24=\"\",\"\",Athletenliste!D24)","v":""},{"$f":"IF(Athletenliste!E24=\"\",\"\",Athletenliste!E24)","v":""},{"$f":"IF(Athletenliste!F24=\"\",\"\",Athletenliste!F24)","v":""},{"$f":"IF(Athletenliste!G24=\"\",\"\",Athletenliste!G24)","v":""},{"$f":"IF(Athletenliste!H24=\"\",\"\",Athletenliste!H24)","v":""},null,{"$f":"IF(B24=\"\",\"\",IF(D24=\"m\",INDIRECT(VLOOKUP(G24,Bezüge!$E$6:$F$16,2,FALSE)&ROW(G24)),INDIRECT(VLOOKUP(G24,Bezüge!$B$6:$C$16,2,FALSE)&ROW(G24))))","v":""},null,null,null,"","","","","","","","","","","","","","","","","","","","","","",null,"","","","","","","","","","","","","","","","","","","","","",""]
[null,{"$f":"IF(Athletenliste!B25=\"\",\"\",Athletenliste!B25)","v":""},{"$f":"IF(Athletenliste!C25=\"\",\"\",Athletenliste!C25)","v":""},{"$f":"IF(Athletenliste!D25=\"\",\"\",Athletenliste!D25)","v":""},{"$f":"IF(Athletenliste!E25=\"\",\"\",Athletenliste!E25)","v":""},{"$f":"IF(Athletenliste!F25=\"\",\"\",Athletenliste!F25)","v":""},{"$f":"IF(Athletenliste!G25=\"\",\"\",Athletenliste!G25)","v":""},{"$f":"IF(Athletenliste!H25=\"\",\"\",Athletenliste!H25)","v":""},null,{"$f":"IF(B25=\"\",\"\",IF(D25=\"m\",INDIRECT(VLOOKUP(G25,Bezüge!$E$6:$F$16,2,FALSE)&ROW(G25)),INDIRECT(VLOOKUP(G25,Bezüge!$B$6:$C$16,2,FALSE)&ROW(G25))))","v":""},null,null,null,"","","","","","","","","","","","","","","","","","","","","","",null,"","","","","","","","","","","","","","","","","","","","","",""]
[null,{"$f":"IF(Athletenliste!B26=\"\",\"\",Athletenliste!B26)","v":""},{"$f":"IF(Athletenliste!C26=\"\",\"\",Athletenliste!C26)","v":""},{"$f":"IF(Athletenliste!D26=\"\",\"\",Athletenliste!D26)","v":""},{"$f":"IF(Athletenliste!E26=\"\",\"\",Athletenliste!E26)","v":""},{"$f":"IF(Athletenliste!F26=\"\",\"\",Athletenliste!F26)","v":""},{"$f":"IF(Athletenliste!G26=\"\",\"\",Athletenliste!G26)","v":""},{"$f":"IF(Athletenliste!H26=\"\",\"\",Athletenliste!H26)","v":""},null,{"$f":"IF(B26=\"\",\"\",IF(D26=\"m\",INDIRECT(VLOOKUP(G26,Bezüge!$E$6:$F$16,2,FALSE)&ROW(G26)),INDIRECT(VLOOKUP(G26,Bezüge!$B$6:$C$16,2,FALSE)&ROW(G26))))","v":""},null,null,null,"","","","","","","","","","","","","","","","","","","","","","",null,"","","","","","","","","","","","","","","","","","","","","",""]
[null,{"$f":"IF(Athletenliste!B27=\"\",\"\",Athletenliste!B27)","v":""},{"$f":"IF(Athletenliste!C27=\"\",\"\",Athletenliste!C27)","v":""},{"$f":"IF(Athletenliste!D27=\"\",\"\",Athletenliste!D27)","v":""},{"$f":"IF(Athletenliste!E27=\"\",\"\",Athletenliste!E27)","v":""},{"$f":"IF(Athletenliste!F27=\"\",\"\",Athletenliste!F27)","v":""},{"$f":"IF(Athletenliste!G27=\"\",\"\",Athletenliste!G27)","v":""},{"$f":"IF(Athletenliste!H27=\"\",\"\",Athletenliste!H27)","v":""},null,{"$f":"IF(B27=\"\",\"\",IF(D27=\"m\",INDIRECT(VLOOKUP(G27,Bezüge!$E$6:$F$16,2,FALSE)&ROW(G27)),INDIRECT(VLOOKUP(G27,Bezüge!$B$6:$C$16,2,FALSE)&ROW(G27))))","v":""},null,null,null,"","","","","","","","","","","","","","","","","","","","","","",null,"","","","","","","","","","","","","","","","","","","","","",""]
[null,{"$f":"IF(Athletenliste!B28=\"\",\"\",Athletenliste!B28)","v":""},{"$f":"IF(Athletenliste!C28=\"\",\"\",Athletenliste!C28)","v":""},{"$f":"IF(Athletenliste!D28=\"\",\"\",Athletenliste!D28)","v":""},{"$f":"IF(Athletenliste!E28=\"\",\"\",Athletenliste!E28)","v":""},{"$f":"IF(Athletenliste!F28=\"\",\"\",Athletenliste!F28)","v":""},{"$f":"IF(Athletenliste!G28=\"\",\"\",Athletenliste!G28)","v":""},{"$f":"IF(Athletenliste!H28=\"\",\"\",Athletenliste!H28)","v":""},null,{"$f":"IF(B28=\"\",\"\",IF(D28=\"m\",INDIRECT(VLOOKUP(G28,Bezüge!$E$6:$F$16,2,FALSE)&ROW(G28)),INDIRECT(VLOOKUP(G28,Bezüge!$B$6:$C$16,2,FALSE)&ROW(G28))))","v":""},null,null,null,"","","","","","","","","","","","","","","","","","","","","","",null,"","","","","","","","","","","","","","","","","","","","","",""]
[null,{"$f":"IF(Athletenliste!B29=\"\",\"\",Athletenliste!B29)","v":""},{"$f":"IF(Athletenliste!C29=\"\",\"\",Athletenliste!C29)","v":""},{"$f":"IF(Athletenliste!D29=\"\",\"\",Athletenliste!D29)","v":""},{"$f":"IF(Athletenliste!E29=\"\",\"\",Athletenliste!E29)","v":""},{"$f":"IF(Athletenliste!F29=\"\",\"\",Athletenliste!F29)","v":""},{"$f":"IF(Athletenliste!G29=\"\",\"\",Athletenliste!G29)","v":""},{"$f":"IF(Athletenliste!H29=\"\",\"\",Athletenliste!H29)","v":""},null,{"$f":"IF(B29=\"\",\"\",IF(D29=\"m\",INDIRECT(VLOOKUP(G29,Bezüge!$E$6:$F$16,2,FALSE)&ROW(G29)),INDIRECT(VLOOKUP(G29,Bezüge!$B$6:$C$16,2,FALSE)&ROW(G29))))","v":""},null,null,null,"","","","","","","","","","","","","","","","","","","","","","",null,"","","","","","","","","","","","","","","","","","","","","",""]
[null,{"$f":"IF(Athletenliste!B30=\"\",\"\",Athletenliste!B30)","v":""},{"$f":"IF(Athletenliste!C30=\"\",\"\",Athletenliste!C30)","v":""},{"$f":"IF(Athletenliste!D30=\"\",\"\",Athletenliste!D30)","v":""},{"$f":"IF(Athletenliste!E30=\"\",\"\",Athletenliste!E30)","v":""},{"$f":"IF(Athletenliste!F30=\"\",\"\",Athletenliste!F30)","v":""},{"$f":"IF(Athletenliste!G30=\"\",\"\",Athletenliste!G30)","v":""},{"$f":"IF(Athletenliste!H30=\"\",\"\",Athletenliste!H30)","v":""},null,{"$f":"IF(B30=\"\",\"\",IF(D30=\"m\",INDIRECT(VLOOKUP(G30,Bezüge!$E$6:$F$16,2,FALSE)&ROW(G30)),INDIRECT(VLOOKUP(G30,Bezüge!$B$6:$C$16,2,FALSE)&ROW(G30))))","v":""},null,null,null,"","","","","","","","","","","","","","","","","","","","","","",null,"","","","","","","","","","","","","","","","","","","","","",""]
[null,{"$f":"IF(Athletenliste!B31=\"\",\"\",Athletenliste!B31)","v":""},{"$f":"IF(Athletenliste!C31=\"\",\"\",Athletenliste!C31)","v":""},{"$f":"IF(Athletenliste!D31=\"\",\"\",Athletenliste!D31)","v":""},{"$f":"IF(Athletenliste!E31=\"\",\"\",Athletenliste!E31)","v":""},{"$f":"IF(Athletenliste!F31=\"\",\"\",Athletenliste!F31)","v":""},{"$f":"IF(Athletenliste!G31=\"\",\"\",Athletenliste!G31)","v":""},{"$f":"IF(Athletenliste!H31=\"\",\"\",Athletenliste!H31)","v":""},null,{"$f":"IF(B31=\"\",\"\",IF(D31=\"m\",INDIRECT(VLOOKUP(G31,Bezüge!$E$6:$F$16,2,FALSE)&ROW(G31)),INDIRECT(VLOOKUP(G31,Bezüge!$B$6:$C$16,2,FALSE)&ROW(G31))))","v":""},null,null,null,"","","","","","","","","","","","","","","","","","","","","","",null,"","","","","","","","","","","","","","","","","","","","","",""]
[null,{"$f":"IF(Athletenliste!B32=\"\",\"\",Athletenliste!B32)","v":""},{"$f":"IF(Athletenliste!C32=\"\",\"\",Athletenliste!C32)","v":""},{"$f":"IF(Athletenliste!D32=\"\",\"\",Athletenliste!D32)","v":""},{"$f":"IF(Athletenliste!E32=\"\",\"\",Athletenliste!E32)","v":""},{"$f":"IF(Athletenliste!F32=\"\",\"\",Athletenliste!F32)","v":""},{"$f":"IF(Athletenliste!G32=\"\",\"\",Athletenliste!G32)","v":""},{"$f":"IF(Athletenliste!H32=\"\",\"\",Athletenliste!H32)","v":""},null,{"$f":"IF(B32=\"\",\"\",IF(D32=\"m\",INDIRECT(VLOOKUP(G32,Bezüge!$E$6:$F$16,2,FALSE)&ROW(G32)),INDIRECT(VLOOKUP(G32,Bezüge!$B$6:$C$16,2,FALSE)&ROW(G32))))","v":""},null,null,null,"","","","","","","","","","","","","","","","","","","","","","",null,"","","","","","","","","","","","","","","","","","","","","",""]
[null,{"$f":"IF(Athletenliste!B33=\"\",\"\",Athletenliste!B33)","v":""},{"$f":"IF(Athletenliste!C33=\"\",\"\",Athletenliste!C33)","v":""},{"$f":"IF(Athletenliste!D33=\"\",\"\",Athletenliste!D33)","v":""},{"$f":"IF(Athletenliste!E33=\"\",\"\",Athletenliste!E33)","v":""},{"$f":"IF(Athletenliste!F33=\"\",\"\",Athletenliste!F33)","v":""},{"$f":"IF(Athletenliste!G33=\"\",\"\",Athletenliste!G33)","v":""},{"$f":"IF(Athletenliste!H33=\"\",\"\",Athletenliste!H33)","v":""},null,{"$f":"IF(B33=\"\",\"\",IF(D33=\"m\",INDIRECT(VLOOKUP(G33,Bezüge!$E$6:$F$16,2,FALSE)&ROW(G33)),INDIRECT(VLOOKUP(G33,Bezüge!$B$6:$C$16,2,FALSE)&ROW(G33))))","v":""},null,null,null,"","","","","","","","","","","","","","","","","","","","","","",null,"","","","","","","","","","","","","","","","","","","","","",""]
[null,{"$f":"IF(Athletenliste!B34=\"\",\"\",Athletenliste!B34)","v":""},{"$f":"IF(Athletenliste!C34=\"\",\"\",Athletenliste!C34)","v":""},{"$f":"IF(Athletenliste!D34=\"\",\"\",Athletenliste!D34)","v":""},{"$f":"IF(Athletenliste!E34=\"\",\"\",Athletenliste!E34)","v":""},{"$f":"IF(Athletenliste!F34=\"\",\"\",Athletenliste!F34)","v":""},{"$f":"IF(Athletenliste!G34=\"\",\"\",Athletenliste!G34)","v":""},{"$f":"IF(Athletenliste!H34=\"\",\"\",Athletenliste!H34)","v":""},null,{"$f":"IF(B34=\"\",\"\",IF(D34=\"m\",INDIRECT(VLOOKUP(G34,Bezüge!$E$6:$F$16,2,FALSE)&ROW(G34)),INDIRECT(VLOOKUP(G34,Bezüge!$B$6:$C$16,2,FALSE)&ROW(G34))))","v":""},null,null,null,"","","","","","","","","","","","","","","","","","","","","","",null,"","","","","","","","","","","","","","","","","","","","","",""]
[null,{"$f":"IF(Athletenliste!B35=\"\",\"\",Athletenliste!B35)","v":""},{"$f":"IF(Athletenliste!C35=\"\",\"\",Athletenliste!C35)","v":""},{"$f":"IF(Athletenliste!D35=\"\",\"\",Athletenliste!D35)","v":""},{"$f":"IF(Athletenliste!E35=\"\",\"\",Athletenliste!E35)","v":""},{"$f":"IF(Athletenliste!F35=\"\",\"\",Athletenliste!F35)","v":""},{"$f":"IF(Athletenliste!G35=\"\",\"\",Athletenliste!G35)","v":""},{"$f":"IF(Athletenliste!H35=\"\",\"\",Athletenliste!H35)","v":""},null,{"$f":"IF(B35=\"\",\"\",IF(D35=\"m\",INDIRECT(VLOOKUP(G35,Bezüge!$E$6:$F$16,2,FALSE)&ROW(G35)),INDIRECT(VLOOKUP(G35,Bezüge!$B$6:$C$16,2,FALSE)&ROW(G35))))","v":""},null,null,null,"","","","","","","","","","","","","","","","","","","","","","",null,"","","","","","","","","","","","","","","","","","","","","",""]
[null,{"$f":"IF(Athletenliste!B36=\"\",\"\",Athletenliste!B36)","v":""},{"$f":"IF(Athletenliste!C36=\"\",\"\",Athletenliste!C36)","v":""},{"$f":"IF(Athletenliste!D36=\"\",\"\",Athletenliste!D36)","v":""},{"$f":"IF(Athletenliste!E36=\"\",\"\",Athletenliste!E36)","v":""},{"$f":"IF(Athletenliste!F36=\"\",\"\",Athletenliste!F36)","v":""},{"$f":"IF(Athletenliste!G36=\"\",\"\",Athletenliste!G36)","v":""},{"$f":"IF(Athletenliste!H36=\"\",\"\",Athletenliste!H36)","v":""},null,{"$f":"IF(B36=\"\",\"\",IF(D36=\"m\",INDIRECT(VLOOKUP(G36,Bezüge!$E$6:$F$16,2,FALSE)&ROW(G36)),INDIRECT(VLOOKUP(G36,Bezüge!$B$6:$C$16,2,FALSE)&ROW(G36))))","v":""},null,null,null,"","","","","","","","","","","","","","","","","","","","","","",null,"","","","","","","","","","","","","","","","","","","","","",""]
[null,{"$f":"IF(Athletenliste!B37=\"\",\"\",Athletenliste!B37)","v":""},{"$f":"IF(Athletenliste!C37=\"\",\"\",Athletenliste!C37)","v":""},{"$f":"IF(Athletenliste!D37=\"\",\"\",Athletenliste!D37)","v":""},{"$f":"IF(Athletenliste!E37=\"\",\"\",Athletenliste!E37)","v":""},{"$f":"IF(Athletenliste!F37=\"\",\"\",Athletenliste!F37)","v":""},{"$f":"IF(Athletenliste!G37=\"\",\"\",Athletenliste!G37)","v":""},{"$f":"IF(Athletenliste!H37=\"\",\"\",Athletenliste!H37)","v":""},null,{"$f":"IF(B37=\"\",\"\",IF(D37=\"m\",INDIRECT(VLOOKUP(G37,Bezüge!$E$6:$F$16,2,FALSE)&ROW(G37)),INDIRECT(VLOOKUP(G37,Bezüge!$B$6:$C$16,2,FALSE)&ROW(G37))))","v":""},null,null,null,"","","","","","","","","","","","","","","","","","","","","","",null,"","","","","","","","","","","","","","","","","","","","","",""]
[null,{"$f":"IF(Athletenliste!B38=\"\",\"\",Athletenliste!B38)","v":""},{"$f":"IF(Athletenliste!C38=\"\",\"\",Athletenliste!C38)","v":""},{"$f":"IF(Athletenliste!D38=\"\",\"\",Athletenliste!D38)","v":""},{"$f":"IF(Athletenliste!E38=\"\",\"\",Athletenliste!E38)","v":""},{"$f":"IF(Athletenliste!F38=\"\",\"\",Athletenliste!F38)","v":""},{"$f":"IF(Athletenliste!G38=\"\",\"\",Athletenliste!G38)","v":""},{"$f":"IF(Athletenliste!H38=\"\",\"\",Athletenliste!H38)","v":""},null,{"$f":"IF(B38=\"\",\"\",IF(D38=\"m\",INDIRECT(VLOOKUP(G38,Bezüge!$E$6:$F$16,2,FALSE)&ROW(G38)),INDIRECT(VLOOKUP(G38,Bezüge!$B$6:$C$16,2,FALSE)&ROW(G38))))","v":""},null,null,null,"","","","","","","","","","","","","","","","","","","","","","",null,"","","","","","","","","","","","","","","","","","","","","",""]
[null,{"$f":"IF(Athletenliste!B39=\"\",\"\",Athletenliste!B39)","v":""},{"$f":"IF(Athletenliste!C39=\"\",\"\",Athletenliste!C39)","v":""},{"$f":"IF(Athletenliste!D39=\"\",\"\",Athletenliste!D39)","v":""},{"$f":"IF(Athletenliste!E39=\"\",\"\",Athletenliste!E39)","v":""},{"$f":"IF(Athletenliste!F39=\"\",\"\",Athletenliste!F39)","v":""},{"$f":"IF(Athletenliste!G39=\"\",\"\",Athletenliste!G39)","v":""},{"$f":"IF(Athletenliste!H39=\"\",\"\",Athletenliste!H39)","v":""},null,{"$f":"IF(B39=\"\",\"\",IF(D39=\"m\",INDIRECT(VLOOKUP(G39,Bezüge!$E$6:$F$16,2,FALSE)&ROW(G39)),INDIRECT(VLOOKUP(G39,Bezüge!$B$6:$C$16,2,FALSE)&ROW(G39))))","v":""},null,null,null,"","","","","","","","","","","","","","","","","","","","","","",null,"","","","","","","","","","","","","","","","","","","","","",""]
[null,{"$f":"IF(Athletenliste!B40=\"\",\"\",Athletenliste!B40)","v":""},{"$f":"IF(Athletenliste!C40=\"\",\"\",Athletenliste!C40)","v":""},{"$f":"IF(Athletenliste!D40=\"\",\"\",Athletenliste!D40)","v":""},{"$f":"IF(Athletenliste!E40=\"\",\"\",Athletenliste!E40)","v":""},{"$f":"IF(Athletenliste!F40=\"\",\"\",Athletenliste!F40)","v":""},{"$f":"IF(Athletenliste!G40=\"\",\"\",Athletenliste!G40)","v":""},{"$f":"IF(Athletenliste!H40=\"\",\"\",Athletenliste!H40)","v":""},null,{"$f":"IF(B40=\"\",\"\",IF(D40=\"m\",INDIRECT(VLOOKUP(G40,Bezüge!$E$6:$F$16,2,FALSE)&ROW(G40)),INDIRECT(VLOOKUP(G40,Bezüge!$B$6:$C$16,2,FALSE)&ROW(G40))))","v":""},null,null,null,"","","","","","","","","","","","","","","","","","","","","","",null,"","","","","","","","","","","","","","","","","","","","","",""]
[null,{"$f":"IF(Athletenliste!B41=\"\",\"\",Athletenliste!B41)","v":""},{"$f":"IF(Athletenliste!C41=\"\",\"\",Athletenliste!C41)","v":""},{"$f":"IF(Athletenliste!D41=\"\",\"\",Athletenliste!D41)","v":""},{"$f":"IF(Athletenliste!E41=\"\",\"\",Athletenliste!E41)","v":""},{"$f":"IF(Athletenliste!F41=\"\",\"\",Athletenliste!F41)","v":""},{"$f":"IF(Athletenliste!G41=\"\",\"\",Athletenliste!G41)","v":""},{"$f":"IF(Athletenliste!H41=\"\",\"\",Athletenliste!H41)","v":""},null,{"$f":"IF(B41=\"\",\"\",IF(D41=\"m\",INDIRECT(VLOOKUP(G41,Bezüge!$E$6:$F$16,2,FALSE)&ROW(G41)),INDIRECT(VLOOKUP(G41,Bezüge!$B$6:$C$16,2,FALSE)&ROW(G41))))","v":""},null,null,null,"","","","","","","","","","","","","","","","","","","","","","",null,"","","","","","","","","","","","","","","","","","","","","",""]
[null,{"$f":"IF(Athletenliste!B42=\"\",\"\",Athletenliste!B42)","v":""},{"$f":"IF(Athletenliste!C42=\"\",\"\",Athletenliste!C42)","v":""},{"$f":"IF(Athletenliste!D42=\"\",\"\",Athletenliste!D42)","v":""},{"$f":"IF(Athletenliste!E42=\"\",\"\",Athletenliste!E42)","v":""},{"$f":"IF(Athletenliste!F42=\"\",\"\",Athletenliste!F42)","v":""},{"$f":"IF(Athletenliste!G42=\"\",\"\",Athletenliste!G42)","v":""},{"$f":"IF(Athletenliste!H42=\"\",\"\",Athletenliste!H42)","v":""},null,{"$f":"IF(B42=\"\",\"\",IF(D42=\"m\",INDIRECT(VLOOKUP(G42,Bezüge!$E$6:$F$16,2,FALSE)&ROW(G42)),INDIRECT(VLOOKUP(G42,Bezüge!$B$6:$C$16,2,FALSE)&ROW(G42))))","v":""},null,null,null,"","","","","","","","","","","","","","","","","","","","","","",null,"","","","","","","","","","","","","","","","","","","","","",""]
[null,{"$f":"IF(Athletenliste!B43=\"\",\"\",Athletenliste!B43)","v":""},{"$f":"IF(Athletenliste!C43=\"\",\"\",Athletenliste!C43)","v":""},{"$f":"IF(Athletenliste!D43=\"\",\"\",Athletenliste!D43)","v":""},{"$f":"IF(Athletenliste!E43=\"\",\"\",Athletenliste!E43)","v":""},{"$f":"IF(Athletenliste!F43=\"\",\"\",Athletenliste!F43)","v":""},{"$f":"IF(Athletenliste!G43=\"\",\"\",Athletenliste!G43)","v":""},{"$f":"IF(Athletenliste!H43=\"\",\"\",Athletenliste!H43)","v":""},null,{"$f":"IF(B43=\"\",\"\",IF(D43=\"m\",INDIRECT(VLOOKUP(G43,Bezüge!$E$6:$F$16,2,FALSE)&ROW(G43)),INDIRECT(VLOOKUP(G43,Bezüge!$B$6:$C$16,2,FALSE)&ROW(G43))))","v":""},null,null,null,"","","","","","","","","","","","","","","","","","","","","","",null,"","","","","","","","","","","","","","","","","","","","","",""]
[null,{"$f":"IF(Athletenliste!B44=\"\",\"\",Athletenliste!B44)","v":""},{"$f":"IF(Athletenliste!C44=\"\",\"\",Athletenliste!C44)","v":""},{"$f":"IF(Athletenliste!D44=\"\",\"\",Athletenliste!D44)","v":""},{"$f":"IF(Athletenliste!E44=\"\",\"\",Athletenliste!E44)","v":""},{"$f":"IF(Athletenliste!F44=\"\",\"\",Athletenliste!F44)","v":""},{"$f":"IF(Athletenliste!G44=\"\",\"\",Athletenliste!G44)","v":""},{"$f":"IF(Athletenliste!H44=\"\",\"\",Athletenliste!H44)","v":""},null,{"$f":"IF(B44=\"\",\"\",IF(D44=\"m\",INDIRECT(VLOOKUP(G44,Bezüge!$E$6:$F$16,2,FALSE)&ROW(G44)),INDIRECT(VLOOKUP(G44,Bezüge!$B$6:$C$16,2,FALSE)&ROW(G44))))","v":""},null,null,null,"","","","","","","","","","","","","","","","","","","","","","",null,"","","","","","","","","","","","","","","","","","","","","",""]
[null,{"$f":"IF(Athletenliste!B45=\"\",\"\",Athletenliste!B45)","v":""},{"$f":"IF(Athletenliste!C45=\"\",\"\",Athletenliste!C45)","v":""},{"$f":"IF(Athletenliste!D45=\"\",\"\",Athletenliste!D45)","v":""},{"$f":"IF(Athletenliste!E45=\"\",\"\",Athletenliste!E45)","v":""},{"$f":"IF(Athletenliste!F45=\"\",\"\",Athletenliste!F45)","v":""},{"$f":"IF(Athletenliste!G45=\"\",\"\",Athletenliste!G45)","v":""},{"$f":"IF(Athletenliste!H45=\"\",\"\",Athletenliste!H45)","v":""},null,{"$f":"IF(B45=\"\",\"\",IF(D45=\"m\",INDIRECT(VLOOKUP(G45,Bezüge!$E$6:$F$16,2,FALSE)&ROW(G45)),INDIRECT(VLOOKUP(G45,Bezüge!$B$6:$C$16,2,FALSE)&ROW(G45))))","v":""},null,null,null,"","","","","","","","","","","","","","","","","","","","","","",null,"","","","","","","","","","","","","","","","","","","","","",""]
[null,{"$f":"IF(Athletenliste!B46=\"\",\"\",Athletenliste!B46)","v":""},{"$f":"IF(Athletenliste!C46=\"\",\"\",Athletenliste!C46)","v":""},{"$f":"IF(Athletenliste!D46=\"\",\"\",Athletenliste!D46)","v":""},{"$f":"IF(Athletenliste!E46=\"\",\"\",Athletenliste!E46)","v":""},{"$f":"IF(Athletenliste!F46=\"\",\"\",Athletenliste!F46)","v":""},{"$f":"IF(Athletenliste!G46=\"\",\"\",Athletenliste!G46)","v":""},{"$f":"IF(Athletenliste!H46=\"\",\"\",Athletenliste!H46)","v":""},null,{"$f":"IF(B46=\"\",\"\",IF(D46=\"m\",INDIRECT(VLOOKUP(G46,Bezüge!$E$6:$F$16,2,FALSE)&ROW(G46)),INDIRECT(VLOOKUP(G46,Bezüge!$B$6:$C$16,2,FALSE)&ROW(G46))))","v":""},null,null,null,"","","","","","","","","","","","","","","","","","","","","","",null,"","","","","","","","","","","","","","","","","","","","","",""]
[null,{"$f":"IF(Athletenliste!B47=\"\",\"\",Athletenliste!B47)","v":""},{"$f":"IF(Athletenliste!C47=\"\",\"\",Athletenliste!C47)","v":""},{"$f":"IF(Athletenliste!D47=\"\",\"\",Athletenliste!D47)","v":""},{"$f":"IF(Athletenliste!E47=\"\",\"\",Athletenliste!E47)","v":""},{"$f":"IF(Athletenliste!F47=\"\",\"\",Athletenliste!F47)","v":""},{"$f":"IF(Athletenliste!G47=\"\",\"\",Athletenliste!G47)","v":""},{"$f":"IF(Athletenliste!H47=\"\",\"\",Athletenliste!H47)","v":""},null,{"$f":"IF(B47=\"\",\"\",IF(D47=\"m\",INDIRECT(VLOOKUP(G47,Bezüge!$E$6:$F$16,2,FALSE)&ROW(G47)),INDIRECT(VLOOKUP(G47,Bezüge!$B$6:$C$16,2,FALSE)&ROW(G47))))","v":""},null,null,null,"","","","","","","","","","","","","","","","","","","","","","",null,"","","","","","","","","","","","","","","","","","","","","",""]
[null,{"$f":"IF(Athletenliste!B48=\"\",\"\",Athletenliste!B48)","v":""},{"$f":"IF(Athletenliste!C48=\"\",\"\",Athletenliste!C48)","v":""},{"$f":"IF(Athletenliste!D48=\"\",\"\",Athletenliste!D48)","v":""},{"$f":"IF(Athletenliste!E48=\"\",\"\",Athletenliste!E48)","v":""},{"$f":"IF(Athletenliste!F48=\"\",\"\",Athletenliste!F48)","v":""},{"$f":"IF(Athletenliste!G48=\"\",\"\",Athletenliste!G48)","v":""},{"$f":"IF(Athletenliste!H48=\"\",\"\",Athletenliste!H48)","v":""},null,{"$f":"IF(B48=\"\",\"\",IF(D48=\"m\",INDIRECT(VLOOKUP(G48,Bezüge!$E$6:$F$16,2,FALSE)&ROW(G48)),INDIRECT(VLOOKUP(G48,Bezüge!$B$6:$C$16,2,FALSE)&ROW(G48))))","v":""},null,null,null,"","","","","","","","","","","","","","","","","","","","","","",null,"","","","","","","","","","","","","","","","","","","","","",""]
[null,{"$f":"IF(Athletenliste!B49=\"\",\"\",Athletenliste!B49)","v":""},{"$f":"IF(Athletenliste!C49=\"\",\"\",Athletenliste!C49)","v":""},{"$f":"IF(Athletenliste!D49=\"\",\"\",Athletenliste!D49)","v":""},{"$f":"IF(Athletenliste!E49=\"\",\"\",Athletenliste!E49)","v":""},{"$f":"IF(Athletenliste!F49=\"\",\"\",Athletenliste!F49)","v":""},{"$f":"IF(Athletenliste!G49=\"\",\"\",Athletenliste!G49)","v":""},{"$f":"IF(Athletenliste!H49=\"\",\"\",Athletenliste!H49)","v":""},null,{"$f":"IF(B49=\"\",\"\",IF(D49=\"m\",INDIRECT(VLOOKUP(G49,Bezüge!$E$6:$F$16,2,FALSE)&ROW(G49)),INDIRECT(VLOOKUP(G49,Bezüge!$B$6:$C$16,2,FALSE)&ROW(G49))))","v":""},null,null,null,"","","","","","","","","","","","","","","","","","","","","","",null,"","","","","","","","","","","","","","","","","","","","","",""]
[null,{"$f":"IF(Athletenliste!B50=\"\",\"\",Athletenliste!B50)","v":""},{"$f":"IF(Athletenliste!C50=\"\",\"\",Athletenliste!C50)","v":""},{"$f":"IF(Athletenliste!D50=\"\",\"\",Athletenliste!D50)","v":""},{"$f":"IF(Athletenliste!E50=\"\",\"\",Athletenliste!E50)","v":""},{"$f":"IF(Athletenliste!F50=\"\",\"\",Athletenliste!F50)","v":""},{"$f":"IF(Athletenliste!G50=\"\",\"\",Athletenliste!G50)","v":""},{"$f":"IF(Athletenliste!H50=\"\",\"\",Athletenliste!H50)","v":""},null,{"$f":"IF(B50=\"\",\"\",IF(D50=\"m\",INDIRECT(VLOOKUP(G50,Bezüge!$E$6:$F$16,2,FALSE)&ROW(G50)),INDIRECT(VLOOKUP(G50,Bezüge!$B$6:$C$16,2,FALSE)&ROW(G50))))","v":""},null,null,null,"","","","","","","","","","","","","","","","","","","","","","",null,"","","","","","","","","","","","","","","","","","","","","",""]
[null,{"$f":"IF(Athletenliste!B51=\"\",\"\",Athletenliste!B51)","v":""},{"$f":"IF(Athletenliste!C51=\"\",\"\",Athletenliste!C51)","v":""},{"$f":"IF(Athletenliste!D51=\"\",\"\",Athletenliste!D51)","v":""},{"$f":"IF(Athletenliste!E51=\"\",\"\",Athletenliste!E51)","v":""},{"$f":"IF(Athletenliste!F51=\"\",\"\",Athletenliste!F51)","v":""},{"$f":"IF(Athletenliste!G51=\"\",\"\",Athletenliste!G51)","v":""},{"$f":"IF(Athletenliste!H51=\"\",\"\",Athletenliste!H51)","v":""},null,{"$f":"IF(B51=\"\",\"\",IF(D51=\"m\",INDIRECT(VLOOKUP(G51,Bezüge!$E$6:$F$16,2,FALSE)&ROW(G51)),INDIRECT(VLOOKUP(G51,Bezüge!$B$6:$C$16,2,FALSE)&ROW(G51))))","v":""},null,null,null,"","","","","","","","","","","","","","","","","","","","","","",null,"","","","","","","","","","","","","","","","","","","","","",""]
[null,{"$f":"IF(Athletenliste!B52=\"\",\"\",Athletenliste!B52)","v":""},{"$f":"IF(Athletenliste!C52=\"\",\"\",Athletenliste!C52)","v":""},{"$f":"IF(Athletenliste!D52=\"\",\"\",Athletenliste!D52)","v":""},{"$f":"IF(Athletenliste!E52=\"\",\"\",Athletenliste!E52)","v":""},{"$f":"IF(Athletenliste!F52=\"\",\"\",Athletenliste!F52)","v":""},{"$f":"IF(Athletenliste!G52=\"\",\"\",Athletenliste!G52)","v":""},{"$f":"IF(Athletenliste!H52=\"\",\"\",Athletenliste!H52)","v":""},null,{"$f":"IF(B52=\"\",\"\",IF(D52=\"m\",INDIRECT(VLOOKUP(G52,Bezüge!$E$6:$F$16,2,FALSE)&ROW(G52)),INDIRECT(VLOOKUP(G52,Bezüge!$B$6:$C$16,2,FALSE)&ROW(G52))))","v":""},null,null,null,"","","","","","","","","","","","","","","","","","","","","","",null,"","","","","","","","","","","","","","","","","","","","","",""]
[null,{"$f":"IF(Athletenliste!B53=\"\",\"\",Athletenliste!B53)","v":""},{"$f":"IF(Athletenliste!C53=\"\",\"\",Athletenliste!C53)","v":""},{"$f":"IF(Athletenliste!D53=\"\",\"\",Athletenliste!D53)","v":""},{"$f":"IF(Athletenliste!E53=\"\",\"\",Athletenliste!E53)","v":""},{"$f":"IF(Athletenliste!F53=\"\",\"\",Athletenliste!F53)","v":""},{"$f":"IF(Athletenliste!G53=\"\",\"\",Athletenliste!G53)","v":""},{"$f":"IF(Athletenliste!H53=\"\",\"\",Athletenliste!H53)","v":""},null,{"$f":"IF(B53=\"\",\"\",IF(D53=\"m\",INDIRECT(VLOOKUP(G53,Bezüge!$E$6:$F$16,2,FALSE)&ROW(G53)),INDIRECT(VLOOKUP(G53,Bezüge!$B$6:$C$16,2,FALSE)&ROW(G53))))","v":""},null,null,null,"","","","","","","","","","","","","","","","","","","","","","",null,"","","","","","","","","","","","","","","","","","","","","",""]
[null,{"$f":"IF(Athletenliste!B54=\"\",\"\",Athletenliste!B54)","v":""},{"$f":"IF(Athletenliste!C54=\"\",\"\",Athletenliste!C54)","v":""},{"$f":"IF(Athletenliste!D54=\"\",\"\",Athletenliste!D54)","v":""},{"$f":"IF(Athletenliste!E54=\"\",\"\",Athletenliste!E54)","v":""},{"$f":"IF(Athletenliste!F54=\"\",\"\",Athletenliste!F54)","v":""},{"$f":"IF(Athletenliste!G54=\"\",\"\",Athletenliste!G54)","v":""},{"$f":"IF(Athletenliste!H54=\"\",\"\",Athletenliste!H54)","v":""},null,{"$f":"IF(B54=\"\",\"\",IF(D54=\"m\",INDIRECT(VLOOKUP(G54,Bezüge!$E$6:$F$16,2,FALSE)&ROW(G54)),INDIRECT(VLOOKUP(G54,Bezüge!$B$6:$C$16,2,FALSE)&ROW(G54))))","v":""},null,null,null,"","","","","","","","","","","","","","","","","","","","","","",null,"","","","","","","","","","","","","","","","","","","","","",""]
[null,{"$f":"IF(Athletenliste!B55=\"\",\"\",Athletenliste!B55)","v":""},{"$f":"IF(Athletenliste!C55=\"\",\"\",Athletenliste!C55)","v":""},{"$f":"IF(Athletenliste!D55=\"\",\"\",Athletenliste!D55)","v":""},{"$f":"IF(Athletenliste!E55=\"\",\"\",Athletenliste!E55)","v":""},{"$f":"IF(Athletenliste!F55=\"\",\"\",Athletenliste!F55)","v":""},{"$f":"IF(Athletenliste!G55=\"\",\"\",Athletenliste!G55)","v":""},{"$f":"IF(Athletenliste!H55=\"\",\"\",Athletenliste!H55)","v":""},null,{"$f":"IF(B55=\"\",\"\",IF(D55=\"m\",INDIRECT(VLOOKUP(G55,Bezüge!$E$6:$F$16,2,FALSE)&ROW(G55)),INDIRECT(VLOOKUP(G55,Bezüge!$B$6:$C$16,2,FALSE)&ROW(G55))))","v":""},null,null,null,"","","","","","","","","","","","","","","","","","","","","","",null,"","","","","","","","","","","","","","","","","","","","","",""]
[null,{"$f":"IF(Athletenliste!B56=\"\",\"\",Athletenliste!B56)","v":""},{"$f":"IF(Athletenliste!C56=\"\",\"\",Athletenliste!C56)","v":""},{"$f":"IF(Athletenliste!D56=\"\",\"\",Athletenliste!D56)","v":""},{"$f":"IF(Athletenliste!E56=\"\",\"\",Athletenliste!E56)","v":""},{"$f":"IF(Athletenliste!F56=\"\",\"\",Athletenliste!F56)","v":""},{"$f":"IF(Athletenliste!G56=\"\",\"\",Athletenliste!G56)","v":""},{"$f":"IF(Athletenliste!H56=\"\",\"\",Athletenliste!H56)","v":""},null,{"$f":"IF(B56=\"\",\"\",IF(D56=\"m\",INDIRECT(VLOOKUP(G56,Bezüge!$E$6:$F$16,2,FALSE)&ROW(G56)),INDIRECT(VLOOKUP(G56,Bezüge!$B$6:$C$16,2,FALSE)&ROW(G56))))","v":""},null,null,null,"","","","","","","","","","","","","","","","","","","","","","",null,"","","","","","","","","","","","","","","","","","","","","",""]
[null,{"$f":"IF(Athletenliste!B57=\"\",\"\",Athletenliste!B57)","v":""},{"$f":"IF(Athletenliste!C57=\"\",\"\",Athletenliste!C57)","v":""},{"$f":"IF(Athletenliste!D57=\"\",\"\",Athletenliste!D57)","v":""},{"$f":"IF(Athletenliste!E57=\"\",\"\",Athletenliste!E57)","v":""},{"$f":"IF(Athletenliste!F57=\"\",\"\",Athletenliste!F57)","v":""},{"$f":"IF(Athletenliste!G57=\"\",\"\",Athletenliste!G57)","v":""},{"$f":"IF(Athletenliste!H57=\"\",\"\",Athletenliste!H57)","v":""},null,{"$f":"IF(B57=\"\",\"\",IF(D57=\"m\",INDIRECT(VLOOKUP(G57,Bezüge!$E$6:$F$16,2,FALSE)&ROW(G57)),INDIRECT(VLOOKUP(G57,Bezüge!$B$6:$C$16,2,FALSE)&ROW(G57))))","v":""},null,null,null,"","","","","","","","","","","","","","","","","","","","","","",null,"","","","","","","","","","","","","","","","","","","","","",""]
[null,{"$f":"IF(Athletenliste!B58=\"\",\"\",Athletenliste!B58)","v":""},{"$f":"IF(Athletenliste!C58=\"\",\"\",Athletenliste!C58)","v":""},{"$f":"IF(Athletenliste!D58=\"\",\"\",Athletenliste!D58)","v":""},{"$f":"IF(Athletenliste!E58=\"\",\"\",Athletenliste!E58)","v":""},{"$f":"IF(Athletenliste!F58=\"\",\"\",Athletenliste!F58)","v":""},{"$f":"IF(Athletenliste!G58=\"\",\"\",Athletenliste!G58)","v":""},{"$f":"IF(Athletenliste!H58=\"\",\"\",Athletenliste!H58)","v":""},null,{"$f":"IF(B58=\"\",\"\",IF(D58=\"m\",INDIRECT(VLOOKUP(G58,Bezüge!$E$6:$F$16,2,FALSE)&ROW(G58)),INDIRECT(VLOOKUP(G58,Bezüge!$B$6:$C$16,2,FALSE)&ROW(G58))))","v":""},null,null,null,"","","","","","","","","","","","","","","","","","","","","","",null,"","","","","","","","","","","","","","","","","","","","","",""]
[null,{"$f":"IF(Athletenliste!B59=\"\",\"\",Athletenliste!B59)","v":""},{"$f":"IF(Athletenliste!C59=\"\",\"\",Athletenliste!C59)","v":""},{"$f":"IF(Athletenliste!D59=\"\",\"\",Athletenliste!D59)","v":""},{"$f":"IF(Athletenliste!E59=\"\",\"\",Athletenliste!E59)","v":""},{"$f":"IF(Athletenliste!F59=\"\",\"\",Athletenliste!F59)","v":""},{"$f":"IF(Athletenliste!G59=\"\",\"\",Athletenliste!G59)","v":""},{"$f":"IF(Athletenliste!H59=\"\",\"\",Athletenliste!H59)","v":""},null,{"$f":"IF(B59=\"\",\"\",IF(D59=\"m\",INDIRECT(VLOOKUP(G59,Bezüge!$E$6:$F$16,2,FALSE)&ROW(G59)),INDIRECT(VLOOKUP(G59,Bezüge!$B$6:$C$16,2,FALSE)&ROW(G59))))","v":""},null,null,null,"","","","","","","","","","","","","","","","","","","","","","",null,"","","","","","","","","","","","","","","","","","","","","",""]
[null,{"$f":"IF(Athletenliste!B60=\"\",\"\",Athletenliste!B60)","v":""},{"$f":"IF(Athletenliste!C60=\"\",\"\",Athletenliste!C60)","v":""},{"$f":"IF(Athletenliste!D60=\"\",\"\",Athletenliste!D60)","v":""},{"$f":"IF(Athletenliste!E60=\"\",\"\",Athletenliste!E60)","v":""},{"$f":"IF(Athletenliste!F60=\"\",\"\",Athletenliste!F60)","v":""},{"$f":"IF(Athletenliste!G60=\"\",\"\",Athletenliste!G60)","v":""},{"$f":"IF(Athletenliste!H60=\"\",\"\",Athletenliste!H60)","v":""},null,{"$f":"IF(B60=\"\",\"\",IF(D60=\"m\",INDIRECT(VLOOKUP(G60,Bezüge!$E$6:$F$16,2,FALSE)&ROW(G60)),INDIRECT(VLOOKUP(G60,Bezüge!$B$6:$C$16,2,FALSE)&ROW(G60))))","v":""},null,null,null,"","","","","","","","","","","","","","","","","","","","","","",null,"","","","","","","","","","","","","","","","","","","","","",""]
[null,{"$f":"IF(Athletenliste!B61=\"\",\"\",Athletenliste!B61)","v":""},{"$f":"IF(Athletenliste!C61=\"\",\"\",Athletenliste!C61)","v":""},{"$f":"IF(Athletenliste!D61=\"\",\"\",Athletenliste!D61)","v":""},{"$f":"IF(Athletenliste!E61=\"\",\"\",Athletenliste!E61)","v":""},{"$f":"IF(Athletenliste!F61=\"\",\"\",Athletenliste!F61)","v":""},{"$f":"IF(Athletenliste!G61=\"\",\"\",Athletenliste!G61)","v":""},{"$f":"IF(Athletenliste!H61=\"\",\"\",Athletenliste!H61)","v":""},null,{"$f":"IF(B61=\"\",\"\",IF(D61=\"m\",INDIRECT(VLOOKUP(G61,Bezüge!$E$6:$F$16,2,FALSE)&ROW(G61)),INDIRECT(VLOOKUP(G61,Bezüge!$B$6:$C$16,2,FALSE)&ROW(G61))))","v":""},null,null,null,"","","","","","","","","","","","","","","","","","","","","","",null,"","","","","","","","","","","","","","","","","","","","","",""]
[null,{"$f":"IF(Athletenliste!B62=\"\",\"\",Athletenliste!B62)","v":""},{"$f":"IF(Athletenliste!C62=\"\",\"\",Athletenliste!C62)","v":""},{"$f":"IF(Athletenliste!D62=\"\",\"\",Athletenliste!D62)","v":""},{"$f":"IF(Athletenliste!E62=\"\",\"\",Athletenliste!E62)","v":""},{"$f":"IF(Athletenliste!F62=\"\",\"\",Athletenliste!F62)","v":""},{"$f":"IF(Athletenliste!G62=\"\",\"\",Athletenliste!G62)","v":""},{"$f":"IF(Athletenliste!H62=\"\",\"\",Athletenliste!H62)","v":""},null,{"$f":"IF(B62=\"\",\"\",IF(D62=\"m\",INDIRECT(VLOOKUP(G62,Bezüge!$E$6:$F$16,2,FALSE)&ROW(G62)),INDIRECT(VLOOKUP(G62,Bezüge!$B$6:$C$16,2,FALSE)&ROW(G62))))","v":""},null,null,null,"","","","","","","","","","","","","","","","","","","","","","",null,"","","","","","","","","","","","","","","","","","","","","",""]
[null,{"$f":"IF(Athletenliste!B63=\"\",\"\",Athletenliste!B63)","v":""},{"$f":"IF(Athletenliste!C63=\"\",\"\",Athletenliste!C63)","v":""},{"$f":"IF(Athletenliste!D63=\"\",\"\",Athletenliste!D63)","v":""},{"$f":"IF(Athletenliste!E63=\"\",\"\",Athletenliste!E63)","v":""},{"$f":"IF(Athletenliste!F63=\"\",\"\",Athletenliste!F63)","v":""},{"$f":"IF(Athletenliste!G63=\"\",\"\",Athletenliste!G63)","v":""},{"$f":"IF(Athletenliste!H63=\"\",\"\",Athletenliste!H63)","v":""},null,{"$f":"IF(B63=\"\",\"\",IF(D63=\"m\",INDIRECT(VLOOKUP(G63,Bezüge!$E$6:$F$16,2,FALSE)&ROW(G63)),INDIRECT(VLOOKUP(G63,Bezüge!$B$6:$C$16,2,FALSE)&ROW(G63))))","v":""},null,null,null,"","","","","","","","","","","","","","","","","","","","","","",null,"","","","","","","","","","","","","","","","","","","","","",""]
[null,{"$f":"IF(Athletenliste!B64=\"\",\"\",Athletenliste!B64)","v":""},{"$f":"IF(Athletenliste!C64=\"\",\"\",Athletenliste!C64)","v":""},{"$f":"IF(Athletenliste!D64=\"\",\"\",Athletenliste!D64)","v":""},{"$f":"IF(Athletenliste!E64=\"\",\"\",Athletenliste!E64)","v":""},{"$f":"IF(Athletenliste!F64=\"\",\"\",Athletenliste!F64)","v":""},{"$f":"IF(Athletenliste!G64=\"\",\"\",Athletenliste!G64)","v":""},{"$f":"IF(Athletenliste!H64=\"\",\"\",Athletenliste!H64)","v":""},null,{"$f":"IF(B64=\"\",\"\",IF(D64=\"m\",INDIRECT(VLOOKUP(G64,Bezüge!$E$6:$F$16,2,FALSE)&ROW(G64)),INDIRECT(VLOOKUP(G64,Bezüge!$B$6:$C$16,2,FALSE)&ROW(G64))))","v":""},null,null,null,"","","","","","","","","","","","","","","","","","","","","","",null,"","","","","","","","","","","","","","","","","","","","","",""]
[null,{"$f":"IF(Athletenliste!B65=\"\",\"\",Athletenliste!B65)","v":""},{"$f":"IF(Athletenliste!C65=\"\",\"\",Athletenliste!C65)","v":""},{"$f":"IF(Athletenliste!D65=\"\",\"\",Athletenliste!D65)","v":""},{"$f":"IF(Athletenliste!E65=\"\",\"\",Athletenliste!E65)","v":""},{"$f":"IF(Athletenliste!F65=\"\",\"\",Athletenliste!F65)","v":""},{"$f":"IF(Athletenliste!G65=\"\",\"\",Athletenliste!G65)","v":""},{"$f":"IF(Athletenliste!H65=\"\",\"\",Athletenliste!H65)","v":""},null,{"$f":"IF(B65=\"\",\"\",IF(D65=\"m\",INDIRECT(VLOOKUP(G65,Bezüge!$E$6:$F$16,2,FALSE)&ROW(G65)),INDIRECT(VLOOKUP(G65,Bezüge!$B$6:$C$16,2,FALSE)&ROW(G65))))","v":""},null,null,null,"","","","","","","","","","","","","","","","","","","","","","",null,"","","","","","","","","","","","","","","","","","","","","",""]
[null,{"$f":"IF(Athletenliste!B66=\"\",\"\",Athletenliste!B66)","v":""},{"$f":"IF(Athletenliste!C66=\"\",\"\",Athletenliste!C66)","v":""},{"$f":"IF(Athletenliste!D66=\"\",\"\",Athletenliste!D66)","v":""},{"$f":"IF(Athletenliste!E66=\"\",\"\",Athletenliste!E66)","v":""},{"$f":"IF(Athletenliste!F66=\"\",\"\",Athletenliste!F66)","v":""},{"$f":"IF(Athletenliste!G66=\"\",\"\",Athletenliste!G66)","v":""},{"$f":"IF(Athletenliste!H66=\"\",\"\",Athletenliste!H66)","v":""},null,{"$f":"IF(B66=\"\",\"\",IF(D66=\"m\",INDIRECT(VLOOKUP(G66,Bezüge!$E$6:$F$16,2,FALSE)&ROW(G66)),INDIRECT(VLOOKUP(G66,Bezüge!$B$6:$C$16,2,FALSE)&ROW(G66))))","v":""},null,null,null,"","","","","","","","","","","","","","","","","","","","","","",null,"","","","","","","","","","","","","","","","","","","","","",""]
[null,{"$f":"IF(Athletenliste!B67=\"\",\"\",Athletenliste!B67)","v":""},{"$f":"IF(Athletenliste!C67=\"\",\"\",Athletenliste!C67)","v":""},{"$f":"IF(Athletenliste!D67=\"\",\"\",Athletenliste!D67)","v":""},{"$f":"IF(Athletenliste!E67=\"\",\"\",Athletenliste!E67)","v":""},{"$f":"IF(Athletenliste!F67=\"\",\"\",Athletenliste!F67)","v":""},{"$f":"IF(Athletenliste!G67=\"\",\"\",Athletenliste!G67)","v":""},{"$f":"IF(Athletenliste!H67=\"\",\"\",Athletenliste!H67)","v":""},null,{"$f":"IF(B67=\"\",\"\",IF(D67=\"m\",INDIRECT(VLOOKUP(G67,Bezüge!$E$6:$F$16,2,FALSE)&ROW(G67)),INDIRECT(VLOOKUP(G67,Bezüge!$B$6:$C$16,2,FALSE)&ROW(G67))))","v":""},null,null,null,"","","","","","","","","","","","","","","","","","","","","","",null,"","","","","","","","","","","","","","","","","","","","","",""]
[null,{"$f":"IF(Athletenliste!B68=\"\",\"\",Athletenliste!B68)","v":""},{"$f":"IF(Athletenliste!C68=\"\",\"\",Athletenliste!C68)","v":""},{"$f":"IF(Athletenliste!D68=\"\",\"\",Athletenliste!D68)","v":""},{"$f":"IF(Athletenliste!E68=\"\",\"\",Athletenliste!E68)","v":""},{"$f":"IF(Athletenliste!F68=\"\",\"\",Athletenliste!F68)","v":""},{"$f":"IF(Athletenliste!G68=\"\",\"\",Athletenliste!G68)","v":""},{"$f":"IF(Athletenliste!H68=\"\",\"\",Athletenliste!H68)","v":""},null,{"$f":"IF(B68=\"\",\"\",IF(D68=\"m\",INDIRECT(VLOOKUP(G68,Bezüge!$E$6:$F$16,2,FALSE)&ROW(G68)),INDIRECT(VLOOKUP(G68,Bezüge!$B$6:$C$16,2,FALSE)&ROW(G68))))","v":""},null,null,null,"","","","","","","","","","","","","","","","","","","","","","",null,"","","","","","","","","","","","","","","","","","","","","",""]
[null,{"$f":"IF(Athletenliste!B69=\"\",\"\",Athletenliste!B69)","v":""},{"$f":"IF(Athletenliste!C69=\"\",\"\",Athletenliste!C69)","v":""},{"$f":"IF(Athletenliste!D69=\"\",\"\",Athletenliste!D69)","v":""},{"$f":"IF(Athletenliste!E69=\"\",\"\",Athletenliste!E69)","v":""},{"$f":"IF(Athletenliste!F69=\"\",\"\",Athletenliste!F69)","v":""},{"$f":"IF(Athletenliste!G69=\"\",\"\",Athletenliste!G69)","v":""},{"$f":"IF(Athletenliste!H69=\"\",\"\",Athletenliste!H69)","v":""},null,{"$f":"IF(B69=\"\",\"\",IF(D69=\"m\",INDIRECT(VLOOKUP(G69,Bezüge!$E$6:$F$16,2,FALSE)&ROW(G69)),INDIRECT(VLOOKUP(G69,Bezüge!$B$6:$C$16,2,FALSE)&ROW(G69))))","v":""},null,null,null,"","","","","","","","","","","","","","","","","","","","","","",null,"","","","","","","","","","","","","","","","","","","","","",""]
[null,{"$f":"IF(Athletenliste!B70=\"\",\"\",Athletenliste!B70)","v":""},{"$f":"IF(Athletenliste!C70=\"\",\"\",Athletenliste!C70)","v":""},{"$f":"IF(Athletenliste!D70=\"\",\"\",Athletenliste!D70)","v":""},{"$f":"IF(Athletenliste!E70=\"\",\"\",Athletenliste!E70)","v":""},{"$f":"IF(Athletenliste!F70=\"\",\"\",Athletenliste!F70)","v":""},{"$f":"IF(Athletenliste!G70=\"\",\"\",Athletenliste!G70)","v":""},{"$f":"IF(Athletenliste!H70=\"\",\"\",Athletenliste!H70)","v":""},null,{"$f":"IF(B70=\"\",\"\",IF(D70=\"m\",INDIRECT(VLOOKUP(G70,Bezüge!$E$6:$F$16,2,FALSE)&ROW(G70)),INDIRECT(VLOOKUP(G70,Bezüge!$B$6:$C$16,2,FALSE)&ROW(G70))))","v":""},null,null,null,"","","","","","","","","","","","","","","","","","","","","","",null,"","","","","","","","","","","","","","","","","","","","","",""]
[null,{"$f":"IF(Athletenliste!B71=\"\",\"\",Athletenliste!B71)","v":""},{"$f":"IF(Athletenliste!C71=\"\",\"\",Athletenliste!C71)","v":""},{"$f":"IF(Athletenliste!D71=\"\",\"\",Athletenliste!D71)","v":""},{"$f":"IF(Athletenliste!E71=\"\",\"\",Athletenliste!E71)","v":""},{"$f":"IF(Athletenliste!F71=\"\",\"\",Athletenliste!F71)","v":""},{"$f":"IF(Athletenliste!G71=\"\",\"\",Athletenliste!G71)","v":""},{"$f":"IF(Athletenliste!H71=\"\",\"\",Athletenliste!H71)","v":""},null,{"$f":"IF(B71=\"\",\"\",IF(D71=\"m\",INDIRECT(VLOOKUP(G71,Bezüge!$E$6:$F$16,2,FALSE)&ROW(G71)),INDIRECT(VLOOKUP(G71,Bezüge!$B$6:$C$16,2,FALSE)&ROW(G71))))","v":""},null,null,null,"","","","","","","","","","","","","","","","","","","","","","",null,"","","","","","","","","","","","","","","","","","","","","",""]
[null,{"$f":"IF(Athletenliste!B72=\"\",\"\",Athletenliste!B72)","v":""},{"$f":"IF(Athletenliste!C72=\"\",\"\",Athletenliste!C72)","v":""},{"$f":"IF(Athletenliste!D72=\"\",\"\",Athletenliste!D72)","v":""},{"$f":"IF(Athletenliste!E72=\"\",\"\",Athletenliste!E72)","v":""},{"$f":"IF(Athletenliste!F72=\"\",\"\",Athletenliste!F72)","v":""},{"$f":"IF(Athletenliste!G72=\"\",\"\",Athletenliste!G72)","v":""},{"$f":"IF(Athletenliste!H72=\"\",\"\",Athletenliste!H72)","v":""},null,{"$f":"IF(B72=\"\",\"\",IF(D72=\"m\",INDIRECT(VLOOKUP(G72,Bezüge!$E$6:$F$16,2,FALSE)&ROW(G72)),INDIRECT(VLOOKUP(G72,Bezüge!$B$6:$C$16,2,FALSE)&ROW(G72))))","v":""},null,null,null,"","","","","","","","","","","","","","","","","","","","","","",null,"","","","","","","","","","","","","","","","","","","","","",""]
[null,{"$f":"IF(Athletenliste!B73=\"\",\"\",Athletenliste!B73)","v":""},{"$f":"IF(Athletenliste!C73=\"\",\"\",Athletenliste!C73)","v":""},{"$f":"IF(Athletenliste!D73=\"\",\"\",Athletenliste!D73)","v":""},{"$f":"IF(Athletenliste!E73=\"\",\"\",Athletenliste!E73)","v":""},{"$f":"IF(Athletenliste!F73=\"\",\"\",Athletenliste!F73)","v":""},{"$f":"IF(Athletenliste!G73=\"\",\"\",Athletenliste!G73)","v":""},{"$f":"IF(Athletenliste!H73=\"\",\"\",Athletenliste!H73)","v":""},null,{"$f":"IF(B73=\"\",\"\",IF(D73=\"m\",INDIRECT(VLOOKUP(G73,Bezüge!$E$6:$F$16,2,FALSE)&ROW(G73)),INDIRECT(VLOOKUP(G73,Bezüge!$B$6:$C$16,2,FALSE)&ROW(G73))))","v":""},null,null,null,"","","","","","","","","","","","","","","","","","","","","","",null,"","","","","","","","","","","","","","","","","","","","","",""]
[null,{"$f":"IF(Athletenliste!B74=\"\",\"\",Athletenliste!B74)","v":""},{"$f":"IF(Athletenliste!C74=\"\",\"\",Athletenliste!C74)","v":""},{"$f":"IF(Athletenliste!D74=\"\",\"\",Athletenliste!D74)","v":""},{"$f":"IF(Athletenliste!E74=\"\",\"\",Athletenliste!E74)","v":""},{"$f":"IF(Athletenliste!F74=\"\",\"\",Athletenliste!F74)","v":""},{"$f":"IF(Athletenliste!G74=\"\",\"\",Athletenliste!G74)","v":""},{"$f":"IF(Athletenliste!H74=\"\",\"\",Athletenliste!H74)","v":""},null,{"$f":"IF(B74=\"\",\"\",IF(D74=\"m\",INDIRECT(VLOOKUP(G74,Bezüge!$E$6:$F$16,2,FALSE)&ROW(G74)),INDIRECT(VLOOKUP(G74,Bezüge!$B$6:$C$16,2,FALSE)&ROW(G74))))","v":""},null,null,null,{"$f":"IF(AND(D74=\"m\",G74=\"U06\",I74<>\"\"),I74,\"\")","v":""},"","","","","","","","","","","","","","","","","","","","","",null,"","","","","","","","","","","","","","","","","","","","","",""]
[null,{"$f":"IF(Athletenliste!B75=\"\",\"\",Athletenliste!B75)","v":""},{"$f":"IF(Athletenliste!C75=\"\",\"\",Athletenliste!C75)","v":""},{"$f":"IF(Athletenliste!D75=\"\",\"\",Athletenliste!D75)","v":""},{"$f":"IF(Athletenliste!E75=\"\",\"\",Athletenliste!E75)","v":""},{"$f":"IF(Athletenliste!F75=\"\",\"\",Athletenliste!F75)","v":""},{"$f":"IF(Athletenliste!G75=\"\",\"\",Athletenliste!G75)","v":""},{"$f":"IF(Athletenliste!H75=\"\",\"\",Athletenliste!H75)","v":""},null,{"$f":"IF(B75=\"\",\"\",IF(D75=\"m\",INDIRECT(VLOOKUP(G75,Bezüge!$E$6:$F$16,2,FALSE)&ROW(G75)),INDIRECT(VLOOKUP(G75,Bezüge!$B$6:$C$16,2,FALSE)&ROW(G75))))","v":""},null,null,null,"",{"$f":"IF(OR(I75=\"\",N75=\"\"),\"\",_xlfn.RANK.EQ(N75,N$10:N$200))","v":""},{"$f":"IF(AND(D75=\"m\",G75=\"U07\",I75<>\"\"),I75,\"\")","v":""},{"$f":"IF(OR(I75=\"\",P75=\"\"),\"\",_xlfn.RANK.EQ(P75,P$10:P$200))","v":""},{"$f":"IF(AND(D75=\"m\",G75=\"U08\",I75<>\"\"),I75,\"\")","v":""},{"$f":"IF(OR(I75=\"\",R75=\"\"),\"\",_xlfn.RANK.EQ(R75,R$10:R$200))","v":""},{"$f":"IF(AND(D75=\"m\",G75=\"U09\",I75<>\"\"),I75,\"\")","v":""},{"$f":"IF(OR(I75=\"\",T75=\"\"),\"\",_xlfn.RANK.EQ(T75,T$10:T$200))","v":""},{"$f":"IF(AND(D75=\"m\",G75=\"U10\",I75<>\"\"),I75,\"\")","v":""},{"$f":"IF(OR(I75=\"\",V75=\"\"),\"\",_xlfn.RANK.EQ(V75,V$10:V$200))","v":""},{"$f":"IF(AND(D75=\"m\",G75=\"U11\",I75<>\"\"),I75,\"\")","v":""},{"$f":"IF(OR(I75=\"\",X75=\"\"),\"\",_xlfn.RANK.EQ(X75,X$10:X$200))","v":""},{"$f":"IF(AND(D75=\"m\",G75=\"U12\",I75<>\"\"),I75,\"\")","v":""},{"$f":"IF(OR(I75=\"\",Z75=\"\"),\"\",_xlfn.RANK.EQ(Z75,Z$10:Z$200))","v":""},{"$f":"IF(AND(D75=\"m\",G75=\"U13\",I75<>\"\"),I75,\"\")","v":""},{"$f":"IF(OR(I75=\"\",AB75=\"\"),\"\",_xlfn.RANK.EQ(AB75,AB$10:AB$200))","v":""},{"$f":"IF(AND(D75=\"m\",G75=\"U14\",I75<>\"\"),I75,\"\")","v":""},{"$f":"IF(OR(I75=\"\",AD75=\"\"),\"\",_xlfn.RANK.EQ(AD75,AD$10:AD$200))","v":""},{"$f":"IF(AND(D75=\"m\",G75=\"U15\",I75<>\"\"),I75,\"\")","v":""},{"$f":"IF(OR(I75=\"\",AF75=\"\"),\"\",_xlfn.RANK.EQ(AF75,AF$10:AF$200))","v":""},{"$f":"IF(AND(D75=\"m\",G75=\"U16\",I75<>\"\"),I75,\"\")","v":""},{"$f":"IF(OR(I75=\"\",AH75=\"\"),\"\",_xlfn.RANK.EQ(AH75,AH$10:AH$200))","v":""},null,{"$f":"IF(AND(D75=\"w\",G75=\"U06\",I75<>\"\"),I75,\"\")","v":""},{"$f":"IF(OR(I75=\"\",AI75=\"\"),\"\",_xlfn.RANK.EQ(AI75,AI$10:AI$200))","v":""},{"$f":"IF(AND(D75=\"w\",G75=\"U07\",I75<>\"\"),I75,\"\")","v":""},{"$f":"IF(OR(I75=\"\",AM75=\"\"),\"\",_xlfn.RANK.EQ(AM75,AM$10:AM$200))","v":""},{"$f":"IF(AND(D75=\"w\",G75=\"U08\",I75<>\"\"),I75,\"\")","v":""},{"$f":"IF(OR(I75=\"\",AO75=\"\"),\"\",_xlfn.RANK.EQ(AO75,AO$10:AO$200))","v":""},{"$f":"IF(AND(D75=\"w\",G75=\"U09\",I75<>\"\"),I75,\"\")","v":""},{"$f":"IF(OR(I75=\"\",AQ75=\"\"),\"\",_xlfn.RANK.EQ(AQ75,AQ$10:AQ$200))","v":""},{"$f":"IF(AND(D75=\"w\",G75=\"U10\",I75<>\"\"),I75,\"\")","v":""},{"$f":"IF(OR(I75=\"\",AS75=\"\"),\"\",_xlfn.RANK.EQ(AS75,AS$10:AS$200))","v":""},{"$f":"IF(AND(D75=\"w\",G75=\"U11\",I75<>\"\"),I75,\"\")","v":""},{"$f":"IF(OR(I75=\"\",AU75=\"\"),\"\",_xlfn.RANK.EQ(AU75,AU$10:AU$200))","v":""},{"$f":"IF(AND(D75=\"w\",G75=\"U12\",I75<>\"\"),I75,\"\")","v":""},{"$f":"IF(OR(I75=\"\",AW75=\"\"),\"\",_xlfn.RANK.EQ(AW75,AW$10:AW$200))","v":""},{"$f":"IF(AND(D75=\"w\",G75=\"U13\",I75<>\"\"),I75,\"\")","v":""},{"$f":"IF(OR(I75=\"\",AY75=\"\"),\"\",_xlfn.RANK.EQ(AY75,AY$10:AY$200))","v":""},{"$f":"IF(AND(D75=\"w\",G75=\"U14\",I75<>\"\"),I75,\"\")","v":""},{"$f":"IF(OR(I75=\"\",BA75=\"\"),\"\",_xlfn.RANK.EQ(BA75,BA$10:BA$200))","v":""},{"$f":"IF(AND(D75=\"w\",G75=\"U15\",I75<>\"\"),I75,\"\")","v":""},{"$f":"IF(OR(I75=\"\",BC75=\"\"),\"\",_xlfn.RANK.EQ(BC75,BC$10:BC$200))","v":""},{"$f":"IF(AND(D75=\"w\",G75=\"U16\",I75<>\"\"),I75,\"\")","v":""},{"$f":"IF(OR(I75=\"\",BE75=\"\"),\"\",_xlfn.RANK.EQ(BE75,BE$10:BE$200))","v":""}]
[null,{"$f":"IF(Athletenliste!B76=\"\",\"\",Athletenliste!B76)","v":""},{"$f":"IF(Athletenliste!C76=\"\",\"\",Athletenliste!C76)","v":""},{"$f":"IF(Athletenliste!D76=\"\",\"\",Athletenliste!D76)","v":""},{"$f":"IF(Athletenliste!E76=\"\",\"\",Athletenliste!E76)","v":""},{"$f":"IF(Athletenliste!F76=\"\",\"\",Athletenliste!F76)","v":""},{"$f":"IF(Athletenliste!G76=\"\",\"\",Athletenliste!G76)","v":""},{"$f":"IF(Athletenliste!H76=\"\",\"\",Athletenliste!H76)","v":""},null,{"$f":"IF(B76=\"\",\"\",IF(D76=\"m\",INDIRECT(VLOOKUP(G76,Bezüge!$E$6:$F$16,2,FALSE)&ROW(G76)),INDIRECT(VLOOKUP(G76,Bezüge!$B$6:$C$16,2,FALSE)&ROW(G76))))","v":""},null,null,null,"","","","","","","","","","","","","","","","","","","","","","",null,"","","","","","","","","","","","","","","","","","","","","",""]
[null,{"$f":"IF(Athletenliste!B77=\"\",\"\",Athletenliste!B77)","v":""},{"$f":"IF(Athletenliste!C77=\"\",\"\",Athletenliste!C77)","v":""},{"$f":"IF(Athletenliste!D77=\"\",\"\",Athletenliste!D77)","v":""},{"$f":"IF(Athletenliste!E77=\"\",\"\",Athletenliste!E77)","v":""},{"$f":"IF(Athletenliste!F77=\"\",\"\",Athletenliste!F77)","v":""},{"$f":"IF(Athletenliste!G77=\"\",\"\",Athletenliste!G77)","v":""},{"$f":"IF(Athletenliste!H77=\"\",\"\",Athletenliste!H77)","v":""},null,{"$f":"IF(B77=\"\",\"\",IF(D77=\"m\",INDIRECT(VLOOKUP(G77,Bezüge!$E$6:$F$16,2,FALSE)&ROW(G77)),INDIRECT(VLOOKUP(G77,Bezüge!$B$6:$C$16,2,FALSE)&ROW(G77))))","v":""},null,null,null,"","","","","","","","","","","","","","","","","","","","","","",null,"","","","","","","","","","","","","","","","","","","","","",""]
[null,{"$f":"IF(Athletenliste!B78=\"\",\"\",Athletenliste!B78)","v":""},{"$f":"IF(Athletenliste!C78=\"\",\"\",Athletenliste!C78)","v":""},{"$f":"IF(Athletenliste!D78=\"\",\"\",Athletenliste!D78)","v":""},{"$f":"IF(Athletenliste!E78=\"\",\"\",Athletenliste!E78)","v":""},{"$f":"IF(Athletenliste!F78=\"\",\"\",Athletenliste!F78)","v":""},{"$f":"IF(Athletenliste!G78=\"\",\"\",Athletenliste!G78)","v":""},{"$f":"IF(Athletenliste!H78=\"\",\"\",Athletenliste!H78)","v":""},null,{"$f":"IF(B78=\"\",\"\",IF(D78=\"m\",INDIRECT(VLOOKUP(G78,Bezüge!$E$6:$F$16,2,FALSE)&ROW(G78)),INDIRECT(VLOOKUP(G78,Bezüge!$B$6:$C$16,2,FALSE)&ROW(G78))))","v":""},null,null,null,"","","","","","","","","","","","","","","","","","","","","","",null,"","","","","","","","","","","","","","","","","","","","","",""]
[null,{"$f":"IF(Athletenliste!B79=\"\",\"\",Athletenliste!B79)","v":""},{"$f":"IF(Athletenliste!C79=\"\",\"\",Athletenliste!C79)","v":""},{"$f":"IF(Athletenliste!D79=\"\",\"\",Athletenliste!D79)","v":""},{"$f":"IF(Athletenliste!E79=\"\",\"\",Athletenliste!E79)","v":""},{"$f":"IF(Athletenliste!F79=\"\",\"\",Athletenliste!F79)","v":""},{"$f":"IF(Athletenliste!G79=\"\",\"\",Athletenliste!G79)","v":""},{"$f":"IF(Athletenliste!H79=\"\",\"\",Athletenliste!H79)","v":""},null,{"$f":"IF(B79=\"\",\"\",IF(D79=\"m\",INDIRECT(VLOOKUP(G79,Bezüge!$E$6:$F$16,2,FALSE)&ROW(G79)),INDIRECT(VLOOKUP(G79,Bezüge!$B$6:$C$16,2,FALSE)&ROW(G79))))","v":""},null,null,null,"","","","","","","","","","","","","","","","","","","","","","",null,"","","","","","","","","","","","","","","","","","","","","",""]
[null,{"$f":"IF(Athletenliste!B80=\"\",\"\",Athletenliste!B80)","v":""},{"$f":"IF(Athletenliste!C80=\"\",\"\",Athletenliste!C80)","v":""},{"$f":"IF(Athletenliste!D80=\"\",\"\",Athletenliste!D80)","v":""},{"$f":"IF(Athletenliste!E80=\"\",\"\",Athletenliste!E80)","v":""},{"$f":"IF(Athletenliste!F80=\"\",\"\",Athletenliste!F80)","v":""},{"$f":"IF(Athletenliste!G80=\"\",\"\",Athletenliste!G80)","v":""},{"$f":"IF(Athletenliste!H80=\"\",\"\",Athletenliste!H80)","v":""},null,{"$f":"IF(B80=\"\",\"\",IF(D80=\"m\",INDIRECT(VLOOKUP(G80,Bezüge!$E$6:$F$16,2,FALSE)&ROW(G80)),INDIRECT(VLOOKUP(G80,Bezüge!$B$6:$C$16,2,FALSE)&ROW(G80))))","v":""},null,null,null,"","","","","","","","","","","","","","","","","","","","","","",null,"","","","","","","","","","","","","","","","","","","","","",""]
[null,{"$f":"IF(Athletenliste!B81=\"\",\"\",Athletenliste!B81)","v":""},{"$f":"IF(Athletenliste!C81=\"\",\"\",Athletenliste!C81)","v":""},{"$f":"IF(Athletenliste!D81=\"\",\"\",Athletenliste!D81)","v":""},{"$f":"IF(Athletenliste!E81=\"\",\"\",Athletenliste!E81)","v":""},{"$f":"IF(Athletenliste!F81=\"\",\"\",Athletenliste!F81)","v":""},{"$f":"IF(Athletenliste!G81=\"\",\"\",Athletenliste!G81)","v":""},{"$f":"IF(Athletenliste!H81=\"\",\"\",Athletenliste!H81)","v":""},null,{"$f":"IF(B81=\"\",\"\",IF(D81=\"m\",INDIRECT(VLOOKUP(G81,Bezüge!$E$6:$F$16,2,FALSE)&ROW(G81)),INDIRECT(VLOOKUP(G81,Bezüge!$B$6:$C$16,2,FALSE)&ROW(G81))))","v":""},null,null,null,"","","","","","","","","","","","","","","","","","","","","","",null,"","","","","","","","","","","","","","","","","","","","","",""]
[null,{"$f":"IF(Athletenliste!B82=\"\",\"\",Athletenliste!B82)","v":""},{"$f":"IF(Athletenliste!C82=\"\",\"\",Athletenliste!C82)","v":""},{"$f":"IF(Athletenliste!D82=\"\",\"\",Athletenliste!D82)","v":""},{"$f":"IF(Athletenliste!E82=\"\",\"\",Athletenliste!E82)","v":""},{"$f":"IF(Athletenliste!F82=\"\",\"\",Athletenliste!F82)","v":""},{"$f":"IF(Athletenliste!G82=\"\",\"\",Athletenliste!G82)","v":""},{"$f":"IF(Athletenliste!H82=\"\",\"\",Athletenliste!H82)","v":""},null,{"$f":"IF(B82=\"\",\"\",IF(D82=\"m\",INDIRECT(VLOOKUP(G82,Bezüge!$E$6:$F$16,2,FALSE)&ROW(G82)),INDIRECT(VLOOKUP(G82,Bezüge!$B$6:$C$16,2,FALSE)&ROW(G82))))","v":""},null,null,null,"","","","","","","","","","","","","","","","","","","","","","",null,"","","","","","","","","","","","","","","","","","","","","",""]
[null,{"$f":"IF(Athletenliste!B83=\"\",\"\",Athletenliste!B83)","v":""},{"$f":"IF(Athletenliste!C83=\"\",\"\",Athletenliste!C83)","v":""},{"$f":"IF(Athletenliste!D83=\"\",\"\",Athletenliste!D83)","v":""},{"$f":"IF(Athletenliste!E83=\"\",\"\",Athletenliste!E83)","v":""},{"$f":"IF(Athletenliste!F83=\"\",\"\",Athletenliste!F83)","v":""},{"$f":"IF(Athletenliste!G83=\"\",\"\",Athletenliste!G83)","v":""},{"$f":"IF(Athletenliste!H83=\"\",\"\",Athletenliste!H83)","v":""},null,{"$f":"IF(B83=\"\",\"\",IF(D83=\"m\",INDIRECT(VLOOKUP(G83,Bezüge!$E$6:$F$16,2,FALSE)&ROW(G83)),INDIRECT(VLOOKUP(G83,Bezüge!$B$6:$C$16,2,FALSE)&ROW(G83))))","v":""},null,null,null,"","","","","","","","","","","","","","","","","","","","","","",null,"","","","","","","","","","","","","","","","","","","","","",""]
[null,{"$f":"IF(Athletenliste!B84=\"\",\"\",Athletenliste!B84)","v":""},{"$f":"IF(Athletenliste!C84=\"\",\"\",Athletenliste!C84)","v":""},{"$f":"IF(Athletenliste!D84=\"\",\"\",Athletenliste!D84)","v":""},{"$f":"IF(Athletenliste!E84=\"\",\"\",Athletenliste!E84)","v":""},{"$f":"IF(Athletenliste!F84=\"\",\"\",Athletenliste!F84)","v":""},{"$f":"IF(Athletenliste!G84=\"\",\"\",Athletenliste!G84)","v":""},{"$f":"IF(Athletenliste!H84=\"\",\"\",Athletenliste!H84)","v":""},null,{"$f":"IF(B84=\"\",\"\",IF(D84=\"m\",INDIRECT(VLOOKUP(G84,Bezüge!$E$6:$F$16,2,FALSE)&ROW(G84)),INDIRECT(VLOOKUP(G84,Bezüge!$B$6:$C$16,2,FALSE)&ROW(G84))))","v":""},null,null,null,"","","","","","","","","","","","","","","","","","","","","","",null,"","","","","","","","","","","","","","","","","","","","","",""]
[null,{"$f":"IF(Athletenliste!B85=\"\",\"\",Athletenliste!B85)","v":""},{"$f":"IF(Athletenliste!C85=\"\",\"\",Athletenliste!C85)","v":""},{"$f":"IF(Athletenliste!D85=\"\",\"\",Athletenliste!D85)","v":""},{"$f":"IF(Athletenliste!E85=\"\",\"\",Athletenliste!E85)","v":""},{"$f":"IF(Athletenliste!F85=\"\",\"\",Athletenliste!F85)","v":""},{"$f":"IF(Athletenliste!G85=\"\",\"\",Athletenliste!G85)","v":""},{"$f":"IF(Athletenliste!H85=\"\",\"\",Athletenliste!H85)","v":""},null,{"$f":"IF(B85=\"\",\"\",IF(D85=\"m\",INDIRECT(VLOOKUP(G85,Bezüge!$E$6:$F$16,2,FALSE)&ROW(G85)),INDIRECT(VLOOKUP(G85,Bezüge!$B$6:$C$16,2,FALSE)&ROW(G85))))","v":""},null,null,null,"","","","","","","","","","","","","","","","","","","","","","",null,"","","","","","","","","","","","","","","","","","","","","",""]
[null,{"$f":"IF(Athletenliste!B86=\"\",\"\",Athletenliste!B86)","v":""},{"$f":"IF(Athletenliste!C86=\"\",\"\",Athletenliste!C86)","v":""},{"$f":"IF(Athletenliste!D86=\"\",\"\",Athletenliste!D86)","v":""},{"$f":"IF(Athletenliste!E86=\"\",\"\",Athletenliste!E86)","v":""},{"$f":"IF(Athletenliste!F86=\"\",\"\",Athletenliste!F86)","v":""},{"$f":"IF(Athletenliste!G86=\"\",\"\",Athletenliste!G86)","v":""},{"$f":"IF(Athletenliste!H86=\"\",\"\",Athletenliste!H86)","v":""},null,{"$f":"IF(B86=\"\",\"\",IF(D86=\"m\",INDIRECT(VLOOKUP(G86,Bezüge!$E$6:$F$16,2,FALSE)&ROW(G86)),INDIRECT(VLOOKUP(G86,Bezüge!$B$6:$C$16,2,FALSE)&ROW(G86))))","v":""},null,null,null,"","","","","","","","","","","","","","","","","","","","","","",null,"","","","","","","","","","","","","","","","","","","","","",""]
[null,{"$f":"IF(Athletenliste!B87=\"\",\"\",Athletenliste!B87)","v":""},{"$f":"IF(Athletenliste!C87=\"\",\"\",Athletenliste!C87)","v":""},{"$f":"IF(Athletenliste!D87=\"\",\"\",Athletenliste!D87)","v":""},{"$f":"IF(Athletenliste!E87=\"\",\"\",Athletenliste!E87)","v":""},{"$f":"IF(Athletenliste!F87=\"\",\"\",Athletenliste!F87)","v":""},{"$f":"IF(Athletenliste!G87=\"\",\"\",Athletenliste!G87)","v":""},{"$f":"IF(Athletenliste!H87=\"\",\"\",Athletenliste!H87)","v":""},null,{"$f":"IF(B87=\"\",\"\",IF(D87=\"m\",INDIRECT(VLOOKUP(G87,Bezüge!$E$6:$F$16,2,FALSE)&ROW(G87)),INDIRECT(VLOOKUP(G87,Bezüge!$B$6:$C$16,2,FALSE)&ROW(G87))))","v":""},null,null,null,"","","","","","","","","","","","","","","","","","","","","","",null,"","","","","","","","","","","","","","","","","","","","","",""]
[null,{"$f":"IF(Athletenliste!B88=\"\",\"\",Athletenliste!B88)","v":""},{"$f":"IF(Athletenliste!C88=\"\",\"\",Athletenliste!C88)","v":""},{"$f":"IF(Athletenliste!D88=\"\",\"\",Athletenliste!D88)","v":""},{"$f":"IF(Athletenliste!E88=\"\",\"\",Athletenliste!E88)","v":""},{"$f":"IF(Athletenliste!F88=\"\",\"\",Athletenliste!F88)","v":""},{"$f":"IF(Athletenliste!G88=\"\",\"\",Athletenliste!G88)","v":""},{"$f":"IF(Athletenliste!H88=\"\",\"\",Athletenliste!H88)","v":""},null,{"$f":"IF(B88=\"\",\"\",IF(D88=\"m\",INDIRECT(VLOOKUP(G88,Bezüge!$E$6:$F$16,2,FALSE)&ROW(G88)),INDIRECT(VLOOKUP(G88,Bezüge!$B$6:$C$16,2,FALSE)&ROW(G88))))","v":""},null,null,null,"","","","","","","","","","","","","","","","","","","","","","",null,"","","","","","","","","","","","","","","","","","","","","",""]
[null,{"$f":"IF(Athletenliste!B89=\"\",\"\",Athletenliste!B89)","v":""},{"$f":"IF(Athletenliste!C89=\"\",\"\",Athletenliste!C89)","v":""},{"$f":"IF(Athletenliste!D89=\"\",\"\",Athletenliste!D89)","v":""},{"$f":"IF(Athletenliste!E89=\"\",\"\",Athletenliste!E89)","v":""},{"$f":"IF(Athletenliste!F89=\"\",\"\",Athletenliste!F89)","v":""},{"$f":"IF(Athletenliste!G89=\"\",\"\",Athletenliste!G89)","v":""},{"$f":"IF(Athletenliste!H89=\"\",\"\",Athletenliste!H89)","v":""},null,{"$f":"IF(B89=\"\",\"\",IF(D89=\"m\",INDIRECT(VLOOKUP(G89,Bezüge!$E$6:$F$16,2,FALSE)&ROW(G89)),INDIRECT(VLOOKUP(G89,Bezüge!$B$6:$C$16,2,FALSE)&ROW(G89))))","v":""},null,null,null,"","","","","","","","","","","","","","","","","","","","","","",null,"","","","","","","","","","","","","","","","","","","","","",""]
[null,{"$f":"IF(Athletenliste!B90=\"\",\"\",Athletenliste!B90)","v":""},{"$f":"IF(Athletenliste!C90=\"\",\"\",Athletenliste!C90)","v":""},{"$f":"IF(Athletenliste!D90=\"\",\"\",Athletenliste!D90)","v":""},{"$f":"IF(Athletenliste!E90=\"\",\"\",Athletenliste!E90)","v":""},{"$f":"IF(Athletenliste!F90=\"\",\"\",Athletenliste!F90)","v":""},{"$f":"IF(Athletenliste!G90=\"\",\"\",Athletenliste!G90)","v":""},{"$f":"IF(Athletenliste!H90=\"\",\"\",Athletenliste!H90)","v":""},null,{"$f":"IF(B90=\"\",\"\",IF(D90=\"m\",INDIRECT(VLOOKUP(G90,Bezüge!$E$6:$F$16,2,FALSE)&ROW(G90)),INDIRECT(VLOOKUP(G90,Bezüge!$B$6:$C$16,2,FALSE)&ROW(G90))))","v":""},null,null,null,"","","","","","","","","","","","","","","","","","","","","","",null,"","","","","","","","","","","","","","","","","","","","","",""]
[null,{"$f":"IF(Athletenliste!B91=\"\",\"\",Athletenliste!B91)","v":""},{"$f":"IF(Athletenliste!C91=\"\",\"\",Athletenliste!C91)","v":""},{"$f":"IF(Athletenliste!D91=\"\",\"\",Athletenliste!D91)","v":""},{"$f":"IF(Athletenliste!E91=\"\",\"\",Athletenliste!E91)","v":""},{"$f":"IF(Athletenliste!F91=\"\",\"\",Athletenliste!F91)","v":""},{"$f":"IF(Athletenliste!G91=\"\",\"\",Athletenliste!G91)","v":""},{"$f":"IF(Athletenliste!H91=\"\",\"\",Athletenliste!H91)","v":""},null,{"$f":"IF(B91=\"\",\"\",IF(D91=\"m\",INDIRECT(VLOOKUP(G91,Bezüge!$E$6:$F$16,2,FALSE)&ROW(G91)),INDIRECT(VLOOKUP(G91,Bezüge!$B$6:$C$16,2,FALSE)&ROW(G91))))","v":""},null,null,null,"","","","","","","","","","","","","","","","","","","","","","",null,"","","","","","","","","","","","","","","","","","","","","",""]
[null,{"$f":"IF(Athletenliste!B92=\"\",\"\",Athletenliste!B92)","v":""},{"$f":"IF(Athletenliste!C92=\"\",\"\",Athletenliste!C92)","v":""},{"$f":"IF(Athletenliste!D92=\"\",\"\",Athletenliste!D92)","v":""},{"$f":"IF(Athletenliste!E92=\"\",\"\",Athletenliste!E92)","v":""},{"$f":"IF(Athletenliste!F92=\"\",\"\",Athletenliste!F92)","v":""},{"$f":"IF(Athletenliste!G92=\"\",\"\",Athletenliste!G92)","v":""},{"$f":"IF(Athletenliste!H92=\"\",\"\",Athletenliste!H92)","v":""},null,{"$f":"IF(B92=\"\",\"\",IF(D92=\"m\",INDIRECT(VLOOKUP(G92,Bezüge!$E$6:$F$16,2,FALSE)&ROW(G92)),INDIRECT(VLOOKUP(G92,Bezüge!$B$6:$C$16,2,FALSE)&ROW(G92))))","v":""},null,null,null,"","","","","","","","","","","","","","","","","","","","","","",null,"","","","","","","","","","","","","","","","","","","","","",""]
[null,{"$f":"IF(Athletenliste!B93=\"\",\"\",Athletenliste!B93)","v":""},{"$f":"IF(Athletenliste!C93=\"\",\"\",Athletenliste!C93)","v":""},{"$f":"IF(Athletenliste!D93=\"\",\"\",Athletenliste!D93)","v":""},{"$f":"IF(Athletenliste!E93=\"\",\"\",Athletenliste!E93)","v":""},{"$f":"IF(Athletenliste!F93=\"\",\"\",Athletenliste!F93)","v":""},{"$f":"IF(Athletenliste!G93=\"\",\"\",Athletenliste!G93)","v":""},{"$f":"IF(Athletenliste!H93=\"\",\"\",Athletenliste!H93)","v":""},null,{"$f":"IF(B93=\"\",\"\",IF(D93=\"m\",INDIRECT(VLOOKUP(G93,Bezüge!$E$6:$F$16,2,FALSE)&ROW(G93)),INDIRECT(VLOOKUP(G93,Bezüge!$B$6:$C$16,2,FALSE)&ROW(G93))))","v":""},null,null,null,"","","","","","","","","","","","","","","","","","","","","","",null,"","","","","","","","","","","","","","","","","","","","","",""]
[null,{"$f":"IF(Athletenliste!B94=\"\",\"\",Athletenliste!B94)","v":""},{"$f":"IF(Athletenliste!C94=\"\",\"\",Athletenliste!C94)","v":""},{"$f":"IF(Athletenliste!D94=\"\",\"\",Athletenliste!D94)","v":""},{"$f":"IF(Athletenliste!E94=\"\",\"\",Athletenliste!E94)","v":""},{"$f":"IF(Athletenliste!F94=\"\",\"\",Athletenliste!F94)","v":""},{"$f":"IF(Athletenliste!G94=\"\",\"\",Athletenliste!G94)","v":""},{"$f":"IF(Athletenliste!H94=\"\",\"\",Athletenliste!H94)","v":""},null,{"$f":"IF(B94=\"\",\"\",IF(D94=\"m\",INDIRECT(VLOOKUP(G94,Bezüge!$E$6:$F$16,2,FALSE)&ROW(G94)),INDIRECT(VLOOKUP(G94,Bezüge!$B$6:$C$16,2,FALSE)&ROW(G94))))","v":""},null,null,null,"","","","","","","","","","","","","","","","","","","","","","",null,"","","","","","","","","","","","","","","","","","","","","",""]
[null,{"$f":"IF(Athletenliste!B95=\"\",\"\",Athletenliste!B95)","v":""},{"$f":"IF(Athletenliste!C95=\"\",\"\",Athletenliste!C95)","v":""},{"$f":"IF(Athletenliste!D95=\"\",\"\",Athletenliste!D95)","v":""},{"$f":"IF(Athletenliste!E95=\"\",\"\",Athletenliste!E95)","v":""},{"$f":"IF(Athletenliste!F95=\"\",\"\",Athletenliste!F95)","v":""},{"$f":"IF(Athletenliste!G95=\"\",\"\",Athletenliste!G95)","v":""},{"$f":"IF(Athletenliste!H95=\"\",\"\",Athletenliste!H95)","v":""},null,{"$f":"IF(B95=\"\",\"\",IF(D95=\"m\",INDIRECT(VLOOKUP(G95,Bezüge!$E$6:$F$16,2,FALSE)&ROW(G95)),INDIRECT(VLOOKUP(G95,Bezüge!$B$6:$C$16,2,FALSE)&ROW(G95))))","v":""},null,null,null,"","","","","","","","","","","","","","","","","","","","","","",null,"","","","","","","","","","","","","","","","","","","","","",""]
[null,{"$f":"IF(Athletenliste!B96=\"\",\"\",Athletenliste!B96)","v":""},{"$f":"IF(Athletenliste!C96=\"\",\"\",Athletenliste!C96)","v":""},{"$f":"IF(Athletenliste!D96=\"\",\"\",Athletenliste!D96)","v":""},{"$f":"IF(Athletenliste!E96=\"\",\"\",Athletenliste!E96)","v":""},{"$f":"IF(Athletenliste!F96=\"\",\"\",Athletenliste!F96)","v":""},{"$f":"IF(Athletenliste!G96=\"\",\"\",Athletenliste!G96)","v":""},{"$f":"IF(Athletenliste!H96=\"\",\"\",Athletenliste!H96)","v":""},null,{"$f":"IF(B96=\"\",\"\",IF(D96=\"m\",INDIRECT(VLOOKUP(G96,Bezüge!$E$6:$F$16,2,FALSE)&ROW(G96)),INDIRECT(VLOOKUP(G96,Bezüge!$B$6:$C$16,2,FALSE)&ROW(G96))))","v":""},null,null,null,"","","","","","","","","","","","","","","","","","","","","","",null,"","","","","","","","","","","","","","","","","","","","","",""]
[null,{"$f":"IF(Athletenliste!B97=\"\",\"\",Athletenliste!B97)","v":""},{"$f":"IF(Athletenliste!C97=\"\",\"\",Athletenliste!C97)","v":""},{"$f":"IF(Athletenliste!D97=\"\",\"\",Athletenliste!D97)","v":""},{"$f":"IF(Athletenliste!E97=\"\",\"\",Athletenliste!E97)","v":""},{"$f":"IF(Athletenliste!F97=\"\",\"\",Athletenliste!F97)","v":""},{"$f":"IF(Athletenliste!G97=\"\",\"\",Athletenliste!G97)","v":""},{"$f":"IF(Athletenliste!H97=\"\",\"\",Athletenliste!H97)","v":""},null,{"$f":"IF(B97=\"\",\"\",IF(D97=\"m\",INDIRECT(VLOOKUP(G97,Bezüge!$E$6:$F$16,2,FALSE)&ROW(G97)),INDIRECT(VLOOKUP(G97,Bezüge!$B$6:$C$16,2,FALSE)&ROW(G97))))","v":""},null,null,null,"","","","","","","","","","","","","","","","","","","","","","",null,"","","","","","","","","","","","","","","","","","","","","",""]
[null,{"$f":"IF(Athletenliste!B98=\"\",\"\",Athletenliste!B98)","v":""},{"$f":"IF(Athletenliste!C98=\"\",\"\",Athletenliste!C98)","v":""},{"$f":"IF(Athletenliste!D98=\"\",\"\",Athletenliste!D98)","v":""},{"$f":"IF(Athletenliste!E98=\"\",\"\",Athletenliste!E98)","v":""},{"$f":"IF(Athletenliste!F98=\"\",\"\",Athletenliste!F98)","v":""},{"$f":"IF(Athletenliste!G98=\"\",\"\",Athletenliste!G98)","v":""},{"$f":"IF(Athletenliste!H98=\"\",\"\",Athletenliste!H98)","v":""},null,{"$f":"IF(B98=\"\",\"\",IF(D98=\"m\",INDIRECT(VLOOKUP(G98,Bezüge!$E$6:$F$16,2,FALSE)&ROW(G98)),INDIRECT(VLOOKUP(G98,Bezüge!$B$6:$C$16,2,FALSE)&ROW(G98))))","v":""},null,null,null,"","","","","","","","","","","","","","","","","","","","","","",null,"","","","","","","","","","","","","","","","","","","","","",""]
[null,{"$f":"IF(Athletenliste!B99=\"\",\"\",Athletenliste!B99)","v":""},{"$f":"IF(Athletenliste!C99=\"\",\"\",Athletenliste!C99)","v":""},{"$f":"IF(Athletenliste!D99=\"\",\"\",Athletenliste!D99)","v":""},{"$f":"IF(Athletenliste!E99=\"\",\"\",Athletenliste!E99)","v":""},{"$f":"IF(Athletenliste!F99=\"\",\"\",Athletenliste!F99)","v":""},{"$f":"IF(Athletenliste!G99=\"\",\"\",Athletenliste!G99)","v":""},{"$f":"IF(Athletenliste!H99=\"\",\"\",Athletenliste!H99)","v":""},null,{"$f":"IF(B99=\"\",\"\",IF(D99=\"m\",INDIRECT(VLOOKUP(G99,Bezüge!$E$6:$F$16,2,FALSE)&ROW(G99)),INDIRECT(VLOOKUP(G99,Bezüge!$B$6:$C$16,2,FALSE)&ROW(G99))))","v":""},null,null,null,"","","","","","","","","","","","","","","","","","","","","","",null,"","","","","","","","","","","","","","","","","","","","","",""]
[null,{"$f":"IF(Athletenliste!B100=\"\",\"\",Athletenliste!B100)","v":""},{"$f":"IF(Athletenliste!C100=\"\",\"\",Athletenliste!C100)","v":""},{"$f":"IF(Athletenliste!D100=\"\",\"\",Athletenliste!D100)","v":""},{"$f":"IF(Athletenliste!E100=\"\",\"\",Athletenliste!E100)","v":""},{"$f":"IF(Athletenliste!F100=\"\",\"\",Athletenliste!F100)","v":""},{"$f":"IF(Athletenliste!G100=\"\",\"\",Athletenliste!G100)","v":""},{"$f":"IF(Athletenliste!H100=\"\",\"\",Athletenliste!H100)","v":""},null,{"$f":"IF(B100=\"\",\"\",IF(D100=\"m\",INDIRECT(VLOOKUP(G100,Bezüge!$E$6:$F$16,2,FALSE)&ROW(G100)),INDIRECT(VLOOKUP(G100,Bezüge!$B$6:$C$16,2,FALSE)&ROW(G100))))","v":""},null,null,null,"","","","","","","","","","","","","","","","","","","","","","",null,"","","","","","","","","","","","","","","","","","","","","",""]
[null,{"$f":"IF(Athletenliste!B101=\"\",\"\",Athletenliste!B101)","v":""},{"$f":"IF(Athletenliste!C101=\"\",\"\",Athletenliste!C101)","v":""},{"$f":"IF(Athletenliste!D101=\"\",\"\",Athletenliste!D101)","v":""},{"$f":"IF(Athletenliste!E101=\"\",\"\",Athletenliste!E101)","v":""},{"$f":"IF(Athletenliste!F101=\"\",\"\",Athletenliste!F101)","v":""},{"$f":"IF(Athletenliste!G101=\"\",\"\",Athletenliste!G101)","v":""},{"$f":"IF(Athletenliste!H101=\"\",\"\",Athletenliste!H101)","v":""},null,{"$f":"IF(B101=\"\",\"\",IF(D101=\"m\",INDIRECT(VLOOKUP(G101,Bezüge!$E$6:$F$16,2,FALSE)&ROW(G101)),INDIRECT(VLOOKUP(G101,Bezüge!$B$6:$C$16,2,FALSE)&ROW(G101))))","v":""},null,null,null,"","","","","","","","","","","","","","","","","","","","","","",null,"","","","","","","","","","","","","","","","","","","","","",""]
[null,{"$f":"IF(Athletenliste!B102=\"\",\"\",Athletenliste!B102)","v":""},{"$f":"IF(Athletenliste!C102=\"\",\"\",Athletenliste!C102)","v":""},{"$f":"IF(Athletenliste!D102=\"\",\"\",Athletenliste!D102)","v":""},{"$f":"IF(Athletenliste!E102=\"\",\"\",Athletenliste!E102)","v":""},{"$f":"IF(Athletenliste!F102=\"\",\"\",Athletenliste!F102)","v":""},{"$f":"IF(Athletenliste!G102=\"\",\"\",Athletenliste!G102)","v":""},{"$f":"IF(Athletenliste!H102=\"\",\"\",Athletenliste!H102)","v":""},null,{"$f":"IF(B102=\"\",\"\",IF(D102=\"m\",INDIRECT(VLOOKUP(G102,Bezüge!$E$6:$F$16,2,FALSE)&ROW(G102)),INDIRECT(VLOOKUP(G102,Bezüge!$B$6:$C$16,2,FALSE)&ROW(G102))))","v":""},null,null,null,"","","","","","","","","","","","","","","","","","","","","","",null,"","","","","","","","","","","","","","","","","","","","","",""]
[null,{"$f":"IF(Athletenliste!B103=\"\",\"\",Athletenliste!B103)","v":""},{"$f":"IF(Athletenliste!C103=\"\",\"\",Athletenliste!C103)","v":""},{"$f":"IF(Athletenliste!D103=\"\",\"\",Athletenliste!D103)","v":""},{"$f":"IF(Athletenliste!E103=\"\",\"\",Athletenliste!E103)","v":""},{"$f":"IF(Athletenliste!F103=\"\",\"\",Athletenliste!F103)","v":""},{"$f":"IF(Athletenliste!G103=\"\",\"\",Athletenliste!G103)","v":""},{"$f":"IF(Athletenliste!H103=\"\",\"\",Athletenliste!H103)","v":""},null,{"$f":"IF(B103=\"\",\"\",IF(D103=\"m\",INDIRECT(VLOOKUP(G103,Bezüge!$E$6:$F$16,2,FALSE)&ROW(G103)),INDIRECT(VLOOKUP(G103,Bezüge!$B$6:$C$16,2,FALSE)&ROW(G103))))","v":""},null,null,null,"","","","","","","","","","","","","","","","","","","","","","",null,"","","","","","","","","","","","","","","","","","","","","",""]
[null,{"$f":"IF(Athletenliste!B104=\"\",\"\",Athletenliste!B104)","v":""},{"$f":"IF(Athletenliste!C104=\"\",\"\",Athletenliste!C104)","v":""},{"$f":"IF(Athletenliste!D104=\"\",\"\",Athletenliste!D104)","v":""},{"$f":"IF(Athletenliste!E104=\"\",\"\",Athletenliste!E104)","v":""},{"$f":"IF(Athletenliste!F104=\"\",\"\",Athletenliste!F104)","v":""},{"$f":"IF(Athletenliste!G104=\"\",\"\",Athletenliste!G104)","v":""},{"$f":"IF(Athletenliste!H104=\"\",\"\",Athletenliste!H104)","v":""},null,{"$f":"IF(B104=\"\",\"\",IF(D104=\"m\",INDIRECT(VLOOKUP(G104,Bezüge!$E$6:$F$16,2,FALSE)&ROW(G104)),INDIRECT(VLOOKUP(G104,Bezüge!$B$6:$C$16,2,FALSE)&ROW(G104))))","v":""},null,null,null,"","","","","","","","","","","","","","","","","","","","","","",null,"","","","","","","","","","","","","","","","","","","","","",""]
[null,{"$f":"IF(Athletenliste!B105=\"\",\"\",Athletenliste!B105)","v":""},{"$f":"IF(Athletenliste!C105=\"\",\"\",Athletenliste!C105)","v":""},{"$f":"IF(Athletenliste!D105=\"\",\"\",Athletenliste!D105)","v":""},{"$f":"IF(Athletenliste!E105=\"\",\"\",Athletenliste!E105)","v":""},{"$f":"IF(Athletenliste!F105=\"\",\"\",Athletenliste!F105)","v":""},{"$f":"IF(Athletenliste!G105=\"\",\"\",Athletenliste!G105)","v":""},{"$f":"IF(Athletenliste!H105=\"\",\"\",Athletenliste!H105)","v":""},null,{"$f":"IF(B105=\"\",\"\",IF(D105=\"m\",INDIRECT(VLOOKUP(G105,Bezüge!$E$6:$F$16,2,FALSE)&ROW(G105)),INDIRECT(VLOOKUP(G105,Bezüge!$B$6:$C$16,2,FALSE)&ROW(G105))))","v":""},null,null,null,"","","","","","","","","","","","","","","","","","","","","","",null,"","","","","","","","","","","","","","","","","","","","","",""]
[null,{"$f":"IF(Athletenliste!B106=\"\",\"\",Athletenliste!B106)","v":""},{"$f":"IF(Athletenliste!C106=\"\",\"\",Athletenliste!C106)","v":""},{"$f":"IF(Athletenliste!D106=\"\",\"\",Athletenliste!D106)","v":""},{"$f":"IF(Athletenliste!E106=\"\",\"\",Athletenliste!E106)","v":""},{"$f":"IF(Athletenliste!F106=\"\",\"\",Athletenliste!F106)","v":""},{"$f":"IF(Athletenliste!G106=\"\",\"\",Athletenliste!G106)","v":""},{"$f":"IF(Athletenliste!H106=\"\",\"\",Athletenliste!H106)","v":""},null,{"$f":"IF(B106=\"\",\"\",IF(D106=\"m\",INDIRECT(VLOOKUP(G106,Bezüge!$E$6:$F$16,2,FALSE)&ROW(G106)),INDIRECT(VLOOKUP(G106,Bezüge!$B$6:$C$16,2,FALSE)&ROW(G106))))","v":""},null,null,null,"","","","","","","","","","","","","","","","","","","","","","",null,"","","","","","","","","","","","","","","","","","","","","",""]
[null,{"$f":"IF(Athletenliste!B107=\"\",\"\",Athletenliste!B107)","v":""},{"$f":"IF(Athletenliste!C107=\"\",\"\",Athletenliste!C107)","v":""},{"$f":"IF(Athletenliste!D107=\"\",\"\",Athletenliste!D107)","v":""},{"$f":"IF(Athletenliste!E107=\"\",\"\",Athletenliste!E107)","v":""},{"$f":"IF(Athletenliste!F107=\"\",\"\",Athletenliste!F107)","v":""},{"$f":"IF(Athletenliste!G107=\"\",\"\",Athletenliste!G107)","v":""},{"$f":"IF(Athletenliste!H107=\"\",\"\",Athletenliste!H107)","v":""},null,{"$f":"IF(B107=\"\",\"\",IF(D107=\"m\",INDIRECT(VLOOKUP(G107,Bezüge!$E$6:$F$16,2,FALSE)&ROW(G107)),INDIRECT(VLOOKUP(G107,Bezüge!$B$6:$C$16,2,FALSE)&ROW(G107))))","v":""},null,null,null,"","","","","","","","","","","","","","","","","","","","","","",null,"","","","","","","","","","","","","","","","","","","","","",""]
[null,{"$f":"IF(Athletenliste!B108=\"\",\"\",Athletenliste!B108)","v":""},{"$f":"IF(Athletenliste!C108=\"\",\"\",Athletenliste!C108)","v":""},{"$f":"IF(Athletenliste!D108=\"\",\"\",Athletenliste!D108)","v":""},{"$f":"IF(Athletenliste!E108=\"\",\"\",Athletenliste!E108)","v":""},{"$f":"IF(Athletenliste!F108=\"\",\"\",Athletenliste!F108)","v":""},{"$f":"IF(Athletenliste!G108=\"\",\"\",Athletenliste!G108)","v":""},{"$f":"IF(Athletenliste!H108=\"\",\"\",Athletenliste!H108)","v":""},null,{"$f":"IF(B108=\"\",\"\",IF(D108=\"m\",INDIRECT(VLOOKUP(G108,Bezüge!$E$6:$F$16,2,FALSE)&ROW(G108)),INDIRECT(VLOOKUP(G108,Bezüge!$B$6:$C$16,2,FALSE)&ROW(G108))))","v":""},null,null,null,"","","","","","","","","","","","","","","","","","","","","","",null,"","","","","","","","","","","","","","","","","","","","","",""]
[null,{"$f":"IF(Athletenliste!B109=\"\",\"\",Athletenliste!B109)","v":""},{"$f":"IF(Athletenliste!C109=\"\",\"\",Athletenliste!C109)","v":""},{"$f":"IF(Athletenliste!D109=\"\",\"\",Athletenliste!D109)","v":""},{"$f":"IF(Athletenliste!E109=\"\",\"\",Athletenliste!E109)","v":""},{"$f":"IF(Athletenliste!F109=\"\",\"\",Athletenliste!F109)","v":""},{"$f":"IF(Athletenliste!G109=\"\",\"\",Athletenliste!G109)","v":""},{"$f":"IF(Athletenliste!H109=\"\",\"\",Athletenliste!H109)","v":""},null,{"$f":"IF(B109=\"\",\"\",IF(D109=\"m\",INDIRECT(VLOOKUP(G109,Bezüge!$E$6:$F$16,2,FALSE)&ROW(G109)),INDIRECT(VLOOKUP(G109,Bezüge!$B$6:$C$16,2,FALSE)&ROW(G109))))","v":""},null,null,null,"","","","","","","","","","","","","","","","","","","","","","",null,"","","","","","","","","","","","","","","","","","","","","",""]
[null,{"$f":"IF(Athletenliste!B110=\"\",\"\",Athletenliste!B110)","v":""},{"$f":"IF(Athletenliste!C110=\"\",\"\",Athletenliste!C110)","v":""},{"$f":"IF(Athletenliste!D110=\"\",\"\",Athletenliste!D110)","v":""},{"$f":"IF(Athletenliste!E110=\"\",\"\",Athletenliste!E110)","v":""},{"$f":"IF(Athletenliste!F110=\"\",\"\",Athletenliste!F110)","v":""},{"$f":"IF(Athletenliste!G110=\"\",\"\",Athletenliste!G110)","v":""},{"$f":"IF(Athletenliste!H110=\"\",\"\",Athletenliste!H110)","v":""},null,{"$f":"IF(B110=\"\",\"\",IF(D110=\"m\",INDIRECT(VLOOKUP(G110,Bezüge!$E$6:$F$16,2,FALSE)&ROW(G110)),INDIRECT(VLOOKUP(G110,Bezüge!$B$6:$C$16,2,FALSE)&ROW(G110))))","v":""},null,null,null,"","","","","","","","","","","","","","","","","","","","","","",null,"","","","","","","","","","","","","","","","","","","","","",""]
[null,{"$f":"IF(Athletenliste!B111=\"\",\"\",Athletenliste!B111)","v":""},{"$f":"IF(Athletenliste!C111=\"\",\"\",Athletenliste!C111)","v":""},{"$f":"IF(Athletenliste!D111=\"\",\"\",Athletenliste!D111)","v":""},{"$f":"IF(Athletenliste!E111=\"\",\"\",Athletenliste!E111)","v":""},{"$f":"IF(Athletenliste!F111=\"\",\"\",Athletenliste!F111)","v":""},{"$f":"IF(Athletenliste!G111=\"\",\"\",Athletenliste!G111)","v":""},{"$f":"IF(Athletenliste!H111=\"\",\"\",Athletenliste!H111)","v":""},null,{"$f":"IF(B111=\"\",\"\",IF(D111=\"m\",INDIRECT(VLOOKUP(G111,Bezüge!$E$6:$F$16,2,FALSE)&ROW(G111)),INDIRECT(VLOOKUP(G111,Bezüge!$B$6:$C$16,2,FALSE)&ROW(G111))))","v":""},null,null,null,"","","","","","","","","","","","","","","","","","","","","","",null,"","","","","","","","","","","","","","","","","","","","","",""]
[null,{"$f":"IF(Athletenliste!B112=\"\",\"\",Athletenliste!B112)","v":""},{"$f":"IF(Athletenliste!C112=\"\",\"\",Athletenliste!C112)","v":""},{"$f":"IF(Athletenliste!D112=\"\",\"\",Athletenliste!D112)","v":""},{"$f":"IF(Athletenliste!E112=\"\",\"\",Athletenliste!E112)","v":""},{"$f":"IF(Athletenliste!F112=\"\",\"\",Athletenliste!F112)","v":""},{"$f":"IF(Athletenliste!G112=\"\",\"\",Athletenliste!G112)","v":""},{"$f":"IF(Athletenliste!H112=\"\",\"\",Athletenliste!H112)","v":""},null,{"$f":"IF(B112=\"\",\"\",IF(D112=\"m\",INDIRECT(VLOOKUP(G112,Bezüge!$E$6:$F$16,2,FALSE)&ROW(G112)),INDIRECT(VLOOKUP(G112,Bezüge!$B$6:$C$16,2,FALSE)&ROW(G112))))","v":""},null,null,null,"","","","","","","","","","","","","","","","","","","","","","",null,"","","","","","","","","","","","","","","","","","","","","",""]
[null,{"$f":"IF(Athletenliste!B113=\"\",\"\",Athletenliste!B113)","v":""},{"$f":"IF(Athletenliste!C113=\"\",\"\",Athletenliste!C113)","v":""},{"$f":"IF(Athletenliste!D113=\"\",\"\",Athletenliste!D113)","v":""},{"$f":"IF(Athletenliste!E113=\"\",\"\",Athletenliste!E113)","v":""},{"$f":"IF(Athletenliste!F113=\"\",\"\",Athletenliste!F113)","v":""},{"$f":"IF(Athletenliste!G113=\"\",\"\",Athletenliste!G113)","v":""},{"$f":"IF(Athletenliste!H113=\"\",\"\",Athletenliste!H113)","v":""},null,{"$f":"IF(B113=\"\",\"\",IF(D113=\"m\",INDIRECT(VLOOKUP(G113,Bezüge!$E$6:$F$16,2,FALSE)&ROW(G113)),INDIRECT(VLOOKUP(G113,Bezüge!$B$6:$C$16,2,FALSE)&ROW(G113))))","v":""},null,null,null,"","","","","","","","","","","","","","","","","","","","","","",null,"","","","","","","","","","","","","","","","","","","","","",""]
[null,{"$f":"IF(Athletenliste!B114=\"\",\"\",Athletenliste!B114)","v":""},{"$f":"IF(Athletenliste!C114=\"\",\"\",Athletenliste!C114)","v":""},{"$f":"IF(Athletenliste!D114=\"\",\"\",Athletenliste!D114)","v":""},{"$f":"IF(Athletenliste!E114=\"\",\"\",Athletenliste!E114)","v":""},{"$f":"IF(Athletenliste!F114=\"\",\"\",Athletenliste!F114)","v":""},{"$f":"IF(Athletenliste!G114=\"\",\"\",Athletenliste!G114)","v":""},{"$f":"IF(Athletenliste!H114=\"\",\"\",Athletenliste!H114)","v":""},null,{"$f":"IF(B114=\"\",\"\",IF(D114=\"m\",INDIRECT(VLOOKUP(G114,Bezüge!$E$6:$F$16,2,FALSE)&ROW(G114)),INDIRECT(VLOOKUP(G114,Bezüge!$B$6:$C$16,2,FALSE)&ROW(G114))))","v":""},null,null,null,"","","","","","","","","","","","","","","","","","","","","","",null,"","","","","","","","","","","","","","","","","","","","","",""]
[null,{"$f":"IF(Athletenliste!B115=\"\",\"\",Athletenliste!B115)","v":""},{"$f":"IF(Athletenliste!C115=\"\",\"\",Athletenliste!C115)","v":""},{"$f":"IF(Athletenliste!D115=\"\",\"\",Athletenliste!D115)","v":""},{"$f":"IF(Athletenliste!E115=\"\",\"\",Athletenliste!E115)","v":""},{"$f":"IF(Athletenliste!F115=\"\",\"\",Athletenliste!F115)","v":""},{"$f":"IF(Athletenliste!G115=\"\",\"\",Athletenliste!G115)","v":""},{"$f":"IF(Athletenliste!H115=\"\",\"\",Athletenliste!H115)","v":""},null,{"$f":"IF(B115=\"\",\"\",IF(D115=\"m\",INDIRECT(VLOOKUP(G115,Bezüge!$E$6:$F$16,2,FALSE)&ROW(G115)),INDIRECT(VLOOKUP(G115,Bezüge!$B$6:$C$16,2,FALSE)&ROW(G115))))","v":""},null,null,null,"","","","","","","","","","","","","","","","","","","","","","",null,"","","","","","","","","","","","","","","","","","","","","",""]
[null,{"$f":"IF(Athletenliste!B116=\"\",\"\",Athletenliste!B116)","v":""},{"$f":"IF(Athletenliste!C116=\"\",\"\",Athletenliste!C116)","v":""},{"$f":"IF(Athletenliste!D116=\"\",\"\",Athletenliste!D116)","v":""},{"$f":"IF(Athletenliste!E116=\"\",\"\",Athletenliste!E116)","v":""},{"$f":"IF(Athletenliste!F116=\"\",\"\",Athletenliste!F116)","v":""},{"$f":"IF(Athletenliste!G116=\"\",\"\",Athletenliste!G116)","v":""},{"$f":"IF(Athletenliste!H116=\"\",\"\",Athletenliste!H116)","v":""},null,{"$f":"IF(B116=\"\",\"\",IF(D116=\"m\",INDIRECT(VLOOKUP(G116,Bezüge!$E$6:$F$16,2,FALSE)&ROW(G116)),INDIRECT(VLOOKUP(G116,Bezüge!$B$6:$C$16,2,FALSE)&ROW(G116))))","v":""},null,null,null,"","","","","","","","","","","","","","","","","","","","","","",null,"","","","","","","","","","","","","","","","","","","","","",""]
[null,{"$f":"IF(Athletenliste!B117=\"\",\"\",Athletenliste!B117)","v":""},{"$f":"IF(Athletenliste!C117=\"\",\"\",Athletenliste!C117)","v":""},{"$f":"IF(Athletenliste!D117=\"\",\"\",Athletenliste!D117)","v":""},{"$f":"IF(Athletenliste!E117=\"\",\"\",Athletenliste!E117)","v":""},{"$f":"IF(Athletenliste!F117=\"\",\"\",Athletenliste!F117)","v":""},{"$f":"IF(Athletenliste!G117=\"\",\"\",Athletenliste!G117)","v":""},{"$f":"IF(Athletenliste!H117=\"\",\"\",Athletenliste!H117)","v":""},null,{"$f":"IF(B117=\"\",\"\",IF(D117=\"m\",INDIRECT(VLOOKUP(G117,Bezüge!$E$6:$F$16,2,FALSE)&ROW(G117)),INDIRECT(VLOOKUP(G117,Bezüge!$B$6:$C$16,2,FALSE)&ROW(G117))))","v":""},null,null,null,"","","","","","","","","","","","","","","","","","","","","","",null,"","","","","","","","","","","","","","","","","","","","","",""]
[null,{"$f":"IF(Athletenliste!B118=\"\",\"\",Athletenliste!B118)","v":""},{"$f":"IF(Athletenliste!C118=\"\",\"\",Athletenliste!C118)","v":""},{"$f":"IF(Athletenliste!D118=\"\",\"\",Athletenliste!D118)","v":""},{"$f":"IF(Athletenliste!E118=\"\",\"\",Athletenliste!E118)","v":""},{"$f":"IF(Athletenliste!F118=\"\",\"\",Athletenliste!F118)","v":""},{"$f":"IF(Athletenliste!G118=\"\",\"\",Athletenliste!G118)","v":""},{"$f":"IF(Athletenliste!H118=\"\",\"\",Athletenliste!H118)","v":""},null,{"$f":"IF(B118=\"\",\"\",IF(D118=\"m\",INDIRECT(VLOOKUP(G118,Bezüge!$E$6:$F$16,2,FALSE)&ROW(G118)),INDIRECT(VLOOKUP(G118,Bezüge!$B$6:$C$16,2,FALSE)&ROW(G118))))","v":""},null,null,null,"","","","","","","","","","","","","","","","","","","","","","",null,"","","","","","","","","","","","","","","","","","","","","",""]
[null,{"$f":"IF(Athletenliste!B119=\"\",\"\",Athletenliste!B119)","v":""},{"$f":"IF(Athletenliste!C119=\"\",\"\",Athletenliste!C119)","v":""},{"$f":"IF(Athletenliste!D119=\"\",\"\",Athletenliste!D119)","v":""},{"$f":"IF(Athletenliste!E119=\"\",\"\",Athletenliste!E119)","v":""},{"$f":"IF(Athletenliste!F119=\"\",\"\",Athletenliste!F119)","v":""},{"$f":"IF(Athletenliste!G119=\"\",\"\",Athletenliste!G119)","v":""},{"$f":"IF(Athletenliste!H119=\"\",\"\",Athletenliste!H119)","v":""},null,{"$f":"IF(B119=\"\",\"\",IF(D119=\"m\",INDIRECT(VLOOKUP(G119,Bezüge!$E$6:$F$16,2,FALSE)&ROW(G119)),INDIRECT(VLOOKUP(G119,Bezüge!$B$6:$C$16,2,FALSE)&ROW(G119))))","v":""},null,null,null,"","","","","","","","","","","","","","","","","","","","","","",null,"","","","","","","","","","","","","","","","","","","","","",""]
[null,{"$f":"IF(Athletenliste!B120=\"\",\"\",Athletenliste!B120)","v":""},{"$f":"IF(Athletenliste!C120=\"\",\"\",Athletenliste!C120)","v":""},{"$f":"IF(Athletenliste!D120=\"\",\"\",Athletenliste!D120)","v":""},{"$f":"IF(Athletenliste!E120=\"\",\"\",Athletenliste!E120)","v":""},{"$f":"IF(Athletenliste!F120=\"\",\"\",Athletenliste!F120)","v":""},{"$f":"IF(Athletenliste!G120=\"\",\"\",Athletenliste!G120)","v":""},{"$f":"IF(Athletenliste!H120=\"\",\"\",Athletenliste!H120)","v":""},null,{"$f":"IF(B120=\"\",\"\",IF(D120=\"m\",INDIRECT(VLOOKUP(G120,Bezüge!$E$6:$F$16,2,FALSE)&ROW(G120)),INDIRECT(VLOOKUP(G120,Bezüge!$B$6:$C$16,2,FALSE)&ROW(G120))))","v":""},null,null,null,"","","","","","","","","","","","","","","","","","","","","","",null,"","","","","","","","","","","","","","","","","","","","","",""]
[null,{"$f":"IF(Athletenliste!B121=\"\",\"\",Athletenliste!B121)","v":""},{"$f":"IF(Athletenliste!C121=\"\",\"\",Athletenliste!C121)","v":""},{"$f":"IF(Athletenliste!D121=\"\",\"\",Athletenliste!D121)","v":""},{"$f":"IF(Athletenliste!E121=\"\",\"\",Athletenliste!E121)","v":""},{"$f":"IF(Athletenliste!F121=\"\",\"\",Athletenliste!F121)","v":""},{"$f":"IF(Athletenliste!G121=\"\",\"\",Athletenliste!G121)","v":""},{"$f":"IF(Athletenliste!H121=\"\",\"\",Athletenliste!H121)","v":""},null,{"$f":"IF(B121=\"\",\"\",IF(D121=\"m\",INDIRECT(VLOOKUP(G121,Bezüge!$E$6:$F$16,2,FALSE)&ROW(G121)),INDIRECT(VLOOKUP(G121,Bezüge!$B$6:$C$16,2,FALSE)&ROW(G121))))","v":""},null,null,null,"","","","","","","","","","","","","","","","","","","","","","",null,"","","","","","","","","","","","","","","","","","","","","",""]
[null,{"$f":"IF(Athletenliste!B122=\"\",\"\",Athletenliste!B122)","v":""},{"$f":"IF(Athletenliste!C122=\"\",\"\",Athletenliste!C122)","v":""},{"$f":"IF(Athletenliste!D122=\"\",\"\",Athletenliste!D122)","v":""},{"$f":"IF(Athletenliste!E122=\"\",\"\",Athletenliste!E122)","v":""},{"$f":"IF(Athletenliste!F122=\"\",\"\",Athletenliste!F122)","v":""},{"$f":"IF(Athletenliste!G122=\"\",\"\",Athletenliste!G122)","v":""},{"$f":"IF(Athletenliste!H122=\"\",\"\",Athletenliste!H122)","v":""},null,{"$f":"IF(B122=\"\",\"\",IF(D122=\"m\",INDIRECT(VLOOKUP(G122,Bezüge!$E$6:$F$16,2,FALSE)&ROW(G122)),INDIRECT(VLOOKUP(G122,Bezüge!$B$6:$C$16,2,FALSE)&ROW(G122))))","v":""},null,null,null,"","","","","","","","","","","","","","","","","","","","","","",null,"","","","","","","","","","","","","","","","","","","","","",""]
[null,{"$f":"IF(Athletenliste!B123=\"\",\"\",Athletenliste!B123)","v":""},{"$f":"IF(Athletenliste!C123=\"\",\"\",Athletenliste!C123)","v":""},{"$f":"IF(Athletenliste!D123=\"\",\"\",Athletenliste!D123)","v":""},{"$f":"IF(Athletenliste!E123=\"\",\"\",Athletenliste!E123)","v":""},{"$f":"IF(Athletenliste!F123=\"\",\"\",Athletenliste!F123)","v":""},{"$f":"IF(Athletenliste!G123=\"\",\"\",Athletenliste!G123)","v":""},{"$f":"IF(Athletenliste!H123=\"\",\"\",Athletenliste!H123)","v":""},null,{"$f":"IF(B123=\"\",\"\",IF(D123=\"m\",INDIRECT(VLOOKUP(G123,Bezüge!$E$6:$F$16,2,FALSE)&ROW(G123)),INDIRECT(VLOOKUP(G123,Bezüge!$B$6:$C$16,2,FALSE)&ROW(G123))))","v":""},null,null,null,"","","","","","","","","","","","","","","","","","","","","","",null,"","","","","","","","","","","","","","","","","","","","","",""]
[null,{"$f":"IF(Athletenliste!B124=\"\",\"\",Athletenliste!B124)","v":""},{"$f":"IF(Athletenliste!C124=\"\",\"\",Athletenliste!C124)","v":""},{"$f":"IF(Athletenliste!D124=\"\",\"\",Athletenliste!D124)","v":""},{"$f":"IF(Athletenliste!E124=\"\",\"\",Athletenliste!E124)","v":""},{"$f":"IF(Athletenliste!F124=\"\",\"\",Athletenliste!F124)","v":""},{"$f":"IF(Athletenliste!G124=\"\",\"\",Athletenliste!G124)","v":""},{"$f":"IF(Athletenliste!H124=\"\",\"\",Athletenliste!H124)","v":""},null,{"$f":"IF(B124=\"\",\"\",IF(D124=\"m\",INDIRECT(VLOOKUP(G124,Bezüge!$E$6:$F$16,2,FALSE)&ROW(G124)),INDIRECT(VLOOKUP(G124,Bezüge!$B$6:$C$16,2,FALSE)&ROW(G124))))","v":""},null,null,null,"","","","","","","","","","","","","","","","","","","","","","",null,"","","","","","","","","","","","","","","","","","","","","",""]
[null,{"$f":"IF(Athletenliste!B125=\"\",\"\",Athletenliste!B125)","v":""},{"$f":"IF(Athletenliste!C125=\"\",\"\",Athletenliste!C125)","v":""},{"$f":"IF(Athletenliste!D125=\"\",\"\",Athletenliste!D125)","v":""},{"$f":"IF(Athletenliste!E125=\"\",\"\",Athletenliste!E125)","v":""},{"$f":"IF(Athletenliste!F125=\"\",\"\",Athletenliste!F125)","v":""},{"$f":"IF(Athletenliste!G125=\"\",\"\",Athletenliste!G125)","v":""},{"$f":"IF(Athletenliste!H125=\"\",\"\",Athletenliste!H125)","v":""},null,{"$f":"IF(B125=\"\",\"\",IF(D125=\"m\",INDIRECT(VLOOKUP(G125,Bezüge!$E$6:$F$16,2,FALSE)&ROW(G125)),INDIRECT(VLOOKUP(G125,Bezüge!$B$6:$C$16,2,FALSE)&ROW(G125))))","v":""},null,null,null,"","","","","","","","","","","","","","","","","","","","","","",null,"","","","","","","","","","","","","","","","","","","","","",""]
[null,{"$f":"IF(Athletenliste!B126=\"\",\"\",Athletenliste!B126)","v":""},{"$f":"IF(Athletenliste!C126=\"\",\"\",Athletenliste!C126)","v":""},{"$f":"IF(Athletenliste!D126=\"\",\"\",Athletenliste!D126)","v":""},{"$f":"IF(Athletenliste!E126=\"\",\"\",Athletenliste!E126)","v":""},{"$f":"IF(Athletenliste!F126=\"\",\"\",Athletenliste!F126)","v":""},{"$f":"IF(Athletenliste!G126=\"\",\"\",Athletenliste!G126)","v":""},{"$f":"IF(Athletenliste!H126=\"\",\"\",Athletenliste!H126)","v":""},null,{"$f":"IF(B126=\"\",\"\",IF(D126=\"m\",INDIRECT(VLOOKUP(G126,Bezüge!$E$6:$F$16,2,FALSE)&ROW(G126)),INDIRECT(VLOOKUP(G126,Bezüge!$B$6:$C$16,2,FALSE)&ROW(G126))))","v":""},null,null,null,"","","","","","","","","","","","","","","","","","","","","","",null,"","","","","","","","","","","","","","","","","","","","","",""]
[null,{"$f":"IF(Athletenliste!B127=\"\",\"\",Athletenliste!B127)","v":""},{"$f":"IF(Athletenliste!C127=\"\",\"\",Athletenliste!C127)","v":""},{"$f":"IF(Athletenliste!D127=\"\",\"\",Athletenliste!D127)","v":""},{"$f":"IF(Athletenliste!E127=\"\",\"\",Athletenliste!E127)","v":""},{"$f":"IF(Athletenliste!F127=\"\",\"\",Athletenliste!F127)","v":""},{"$f":"IF(Athletenliste!G127=\"\",\"\",Athletenliste!G127)","v":""},{"$f":"IF(Athletenliste!H127=\"\",\"\",Athletenliste!H127)","v":""},null,{"$f":"IF(B127=\"\",\"\",IF(D127=\"m\",INDIRECT(VLOOKUP(G127,Bezüge!$E$6:$F$16,2,FALSE)&ROW(G127)),INDIRECT(VLOOKUP(G127,Bezüge!$B$6:$C$16,2,FALSE)&ROW(G127))))","v":""},null,null,null,"","","","","","","","","","","","","","","","","","","","","","",null,"","","","","","","","","","","","","","","","","","","","","",""]
[null,{"$f":"IF(Athletenliste!B128=\"\",\"\",Athletenliste!B128)","v":""},{"$f":"IF(Athletenliste!C128=\"\",\"\",Athletenliste!C128)","v":""},{"$f":"IF(Athletenliste!D128=\"\",\"\",Athletenliste!D128)","v":""},{"$f":"IF(Athletenliste!E128=\"\",\"\",Athletenliste!E128)","v":""},{"$f":"IF(Athletenliste!F128=\"\",\"\",Athletenliste!F128)","v":""},{"$f":"IF(Athletenliste!G128=\"\",\"\",Athletenliste!G128)","v":""},{"$f":"IF(Athletenliste!H128=\"\",\"\",Athletenliste!H128)","v":""},null,{"$f":"IF(B128=\"\",\"\",IF(D128=\"m\",INDIRECT(VLOOKUP(G128,Bezüge!$E$6:$F$16,2,FALSE)&ROW(G128)),INDIRECT(VLOOKUP(G128,Bezüge!$B$6:$C$16,2,FALSE)&ROW(G128))))","v":""},null,null,null,"","","","","","","","","","","","","","","","","","","","","","",null,"","","","","","","","","","","","","","","","","","","","","",""]
[null,{"$f":"IF(Athletenliste!B129=\"\",\"\",Athletenliste!B129)","v":""},{"$f":"IF(Athletenliste!C129=\"\",\"\",Athletenliste!C129)","v":""},{"$f":"IF(Athletenliste!D129=\"\",\"\",Athletenliste!D129)","v":""},{"$f":"IF(Athletenliste!E129=\"\",\"\",Athletenliste!E129)","v":""},{"$f":"IF(Athletenliste!F129=\"\",\"\",Athletenliste!F129)","v":""},{"$f":"IF(Athletenliste!G129=\"\",\"\",Athletenliste!G129)","v":""},{"$f":"IF(Athletenliste!H129=\"\",\"\",Athletenliste!H129)","v":""},null,{"$f":"IF(B129=\"\",\"\",IF(D129=\"m\",INDIRECT(VLOOKUP(G129,Bezüge!$E$6:$F$16,2,FALSE)&ROW(G129)),INDIRECT(VLOOKUP(G129,Bezüge!$B$6:$C$16,2,FALSE)&ROW(G129))))","v":""},null,null,null,"","","","","","","","","","","","","","","","","","","","","","",null,"","","","","","","","","","","","","","","","","","","","","",""]
[null,{"$f":"IF(Athletenliste!B130=\"\",\"\",Athletenliste!B130)","v":""},{"$f":"IF(Athletenliste!C130=\"\",\"\",Athletenliste!C130)","v":""},{"$f":"IF(Athletenliste!D130=\"\",\"\",Athletenliste!D130)","v":""},{"$f":"IF(Athletenliste!E130=\"\",\"\",Athletenliste!E130)","v":""},{"$f":"IF(Athletenliste!F130=\"\",\"\",Athletenliste!F130)","v":""},{"$f":"IF(Athletenliste!G130=\"\",\"\",Athletenliste!G130)","v":""},{"$f":"IF(Athletenliste!H130=\"\",\"\",Athletenliste!H130)","v":""},null,{"$f":"IF(B130=\"\",\"\",IF(D130=\"m\",INDIRECT(VLOOKUP(G130,Bezüge!$E$6:$F$16,2,FALSE)&ROW(G130)),INDIRECT(VLOOKUP(G130,Bezüge!$B$6:$C$16,2,FALSE)&ROW(G130))))","v":""},null,null,null,"","","","","","","","","","","","","","","","","","","","","","",null,"","","","","","","","","","","","","","","","","","","","","",""]
[null,{"$f":"IF(Athletenliste!B131=\"\",\"\",Athletenliste!B131)","v":""},{"$f":"IF(Athletenliste!C131=\"\",\"\",Athletenliste!C131)","v":""},{"$f":"IF(Athletenliste!D131=\"\",\"\",Athletenliste!D131)","v":""},{"$f":"IF(Athletenliste!E131=\"\",\"\",Athletenliste!E131)","v":""},{"$f":"IF(Athletenliste!F131=\"\",\"\",Athletenliste!F131)","v":""},{"$f":"IF(Athletenliste!G131=\"\",\"\",Athletenliste!G131)","v":""},{"$f":"IF(Athletenliste!H131=\"\",\"\",Athletenliste!H131)","v":""},null,{"$f":"IF(B131=\"\",\"\",IF(D131=\"m\",INDIRECT(VLOOKUP(G131,Bezüge!$E$6:$F$16,2,FALSE)&ROW(G131)),INDIRECT(VLOOKUP(G131,Bezüge!$B$6:$C$16,2,FALSE)&ROW(G131))))","v":""},null,null,null,"","","","","","","","","","","","","","","","","","","","","","",null,"","","","","","","","","","","","","","","","","","","","","",""]
[null,{"$f":"IF(Athletenliste!B132=\"\",\"\",Athletenliste!B132)","v":""},{"$f":"IF(Athletenliste!C132=\"\",\"\",Athletenliste!C132)","v":""},{"$f":"IF(Athletenliste!D132=\"\",\"\",Athletenliste!D132)","v":""},{"$f":"IF(Athletenliste!E132=\"\",\"\",Athletenliste!E132)","v":""},{"$f":"IF(Athletenliste!F132=\"\",\"\",Athletenliste!F132)","v":""},{"$f":"IF(Athletenliste!G132=\"\",\"\",Athletenliste!G132)","v":""},{"$f":"IF(Athletenliste!H132=\"\",\"\",Athletenliste!H132)","v":""},null,{"$f":"IF(B132=\"\",\"\",IF(D132=\"m\",INDIRECT(VLOOKUP(G132,Bezüge!$E$6:$F$16,2,FALSE)&ROW(G132)),INDIRECT(VLOOKUP(G132,Bezüge!$B$6:$C$16,2,FALSE)&ROW(G132))))","v":""},null,null,null,"","","","","","","","","","","","","","","","","","","","","","",null,"","","","","","","","","","","","","","","","","","","","","",""]
[null,{"$f":"IF(Athletenliste!B133=\"\",\"\",Athletenliste!B133)","v":""},{"$f":"IF(Athletenliste!C133=\"\",\"\",Athletenliste!C133)","v":""},{"$f":"IF(Athletenliste!D133=\"\",\"\",Athletenliste!D133)","v":""},{"$f":"IF(Athletenliste!E133=\"\",\"\",Athletenliste!E133)","v":""},{"$f":"IF(Athletenliste!F133=\"\",\"\",Athletenliste!F133)","v":""},{"$f":"IF(Athletenliste!G133=\"\",\"\",Athletenliste!G133)","v":""},{"$f":"IF(Athletenliste!H133=\"\",\"\",Athletenliste!H133)","v":""},null,{"$f":"IF(B133=\"\",\"\",IF(D133=\"m\",INDIRECT(VLOOKUP(G133,Bezüge!$E$6:$F$16,2,FALSE)&ROW(G133)),INDIRECT(VLOOKUP(G133,Bezüge!$B$6:$C$16,2,FALSE)&ROW(G133))))","v":""},null,null,null,"","","","","","","","","","","","","","","","","","","","","","",null,"","","","","","","","","","","","","","","","","","","","","",""]
[null,{"$f":"IF(Athletenliste!B134=\"\",\"\",Athletenliste!B134)","v":""},{"$f":"IF(Athletenliste!C134=\"\",\"\",Athletenliste!C134)","v":""},{"$f":"IF(Athletenliste!D134=\"\",\"\",Athletenliste!D134)","v":""},{"$f":"IF(Athletenliste!E134=\"\",\"\",Athletenliste!E134)","v":""},{"$f":"IF(Athletenliste!F134=\"\",\"\",Athletenliste!F134)","v":""},{"$f":"IF(Athletenliste!G134=\"\",\"\",Athletenliste!G134)","v":""},{"$f":"IF(Athletenliste!H134=\"\",\"\",Athletenliste!H134)","v":""},null,{"$f":"IF(B134=\"\",\"\",IF(D134=\"m\",INDIRECT(VLOOKUP(G134,Bezüge!$E$6:$F$16,2,FALSE)&ROW(G134)),INDIRECT(VLOOKUP(G134,Bezüge!$B$6:$C$16,2,FALSE)&ROW(G134))))","v":""},null,null,null,"","","","","","","","","","","","","","","","","","","","","","",null,"","","","","","","","","","","","","","","","","","","","","",""]
[null,{"$f":"IF(Athletenliste!B135=\"\",\"\",Athletenliste!B135)","v":""},{"$f":"IF(Athletenliste!C135=\"\",\"\",Athletenliste!C135)","v":""},{"$f":"IF(Athletenliste!D135=\"\",\"\",Athletenliste!D135)","v":""},{"$f":"IF(Athletenliste!E135=\"\",\"\",Athletenliste!E135)","v":""},{"$f":"IF(Athletenliste!F135=\"\",\"\",Athletenliste!F135)","v":""},{"$f":"IF(Athletenliste!G135=\"\",\"\",Athletenliste!G135)","v":""},{"$f":"IF(Athletenliste!H135=\"\",\"\",Athletenliste!H135)","v":""},null,{"$f":"IF(B135=\"\",\"\",IF(D135=\"m\",INDIRECT(VLOOKUP(G135,Bezüge!$E$6:$F$16,2,FALSE)&ROW(G135)),INDIRECT(VLOOKUP(G135,Bezüge!$B$6:$C$16,2,FALSE)&ROW(G135))))","v":""},null,null,null,"","","","","","","","","","","","","","","","","","","","","","",null,"","","","","","","","","","","","","","","","","","","","","",""]
[null,{"$f":"IF(Athletenliste!B136=\"\",\"\",Athletenliste!B136)","v":""},{"$f":"IF(Athletenliste!C136=\"\",\"\",Athletenliste!C136)","v":""},{"$f":"IF(Athletenliste!D136=\"\",\"\",Athletenliste!D136)","v":""},{"$f":"IF(Athletenliste!E136=\"\",\"\",Athletenliste!E136)","v":""},{"$f":"IF(Athletenliste!F136=\"\",\"\",Athletenliste!F136)","v":""},{"$f":"IF(Athletenliste!G136=\"\",\"\",Athletenliste!G136)","v":""},{"$f":"IF(Athletenliste!H136=\"\",\"\",Athletenliste!H136)","v":""},null,{"$f":"IF(B136=\"\",\"\",IF(D136=\"m\",INDIRECT(VLOOKUP(G136,Bezüge!$E$6:$F$16,2,FALSE)&ROW(G136)),INDIRECT(VLOOKUP(G136,Bezüge!$B$6:$C$16,2,FALSE)&ROW(G136))))","v":""},null,null,null,"","","","","","","","","","","","","","","","","","","","","","",null,"","","","","","","","","","","","","","","","","","","","","",""]
[null,{"$f":"IF(Athletenliste!B137=\"\",\"\",Athletenliste!B137)","v":""},{"$f":"IF(Athletenliste!C137=\"\",\"\",Athletenliste!C137)","v":""},{"$f":"IF(Athletenliste!D137=\"\",\"\",Athletenliste!D137)","v":""},{"$f":"IF(Athletenliste!E137=\"\",\"\",Athletenliste!E137)","v":""},{"$f":"IF(Athletenliste!F137=\"\",\"\",Athletenliste!F137)","v":""},{"$f":"IF(Athletenliste!G137=\"\",\"\",Athletenliste!G137)","v":""},{"$f":"IF(Athletenliste!H137=\"\",\"\",Athletenliste!H137)","v":""},null,{"$f":"IF(B137=\"\",\"\",IF(D137=\"m\",INDIRECT(VLOOKUP(G137,Bezüge!$E$6:$F$16,2,FALSE)&ROW(G137)),INDIRECT(VLOOKUP(G137,Bezüge!$B$6:$C$16,2,FALSE)&ROW(G137))))","v":""},null,null,null,"","","","","","","","","","","","","","","","","","","","","","",null,"","","","","","","","","","","","","","","","","","","","","",""]
[null,{"$f":"IF(Athletenliste!B138=\"\",\"\",Athletenliste!B138)","v":""},{"$f":"IF(Athletenliste!C138=\"\",\"\",Athletenliste!C138)","v":""},{"$f":"IF(Athletenliste!D138=\"\",\"\",Athletenliste!D138)","v":""},{"$f":"IF(Athletenliste!E138=\"\",\"\",Athletenliste!E138)","v":""},{"$f":"IF(Athletenliste!F138=\"\",\"\",Athletenliste!F138)","v":""},{"$f":"IF(Athletenliste!G138=\"\",\"\",Athletenliste!G138)","v":""},{"$f":"IF(Athletenliste!H138=\"\",\"\",Athletenliste!H138)","v":""},null,{"$f":"IF(B138=\"\",\"\",IF(D138=\"m\",INDIRECT(VLOOKUP(G138,Bezüge!$E$6:$F$16,2,FALSE)&ROW(G138)),INDIRECT(VLOOKUP(G138,Bezüge!$B$6:$C$16,2,FALSE)&ROW(G138))))","v":""},null,null,null,{"$f":"IF(AND(D138=\"m\",G138=\"U06\",I138<>\"\"),I138,\"\")","v":""},"","","","","","","","","","","","","","","","","","","","","",null,"","","","","","","","","","","","","","","","","","","","","",""]
[null,{"$f":"IF(Athletenliste!B139=\"\",\"\",Athletenliste!B139)","v":""},{"$f":"IF(Athletenliste!C139=\"\",\"\",Athletenliste!C139)","v":""},{"$f":"IF(Athletenliste!D139=\"\",\"\",Athletenliste!D139)","v":""},{"$f":"IF(Athletenliste!E139=\"\",\"\",Athletenliste!E139)","v":""},{"$f":"IF(Athletenliste!F139=\"\",\"\",Athletenliste!F139)","v":""},{"$f":"IF(Athletenliste!G139=\"\",\"\",Athletenliste!G139)","v":""},{"$f":"IF(Athletenliste!H139=\"\",\"\",Athletenliste!H139)","v":""},null,{"$f":"IF(B139=\"\",\"\",IF(D139=\"m\",INDIRECT(VLOOKUP(G139,Bezüge!$E$6:$F$16,2,FALSE)&ROW(G139)),INDIRECT(VLOOKUP(G139,Bezüge!$B$6:$C$16,2,FALSE)&ROW(G139))))","v":""},null,null,null,"",{"$f":"IF(OR(I139=\"\",N139=\"\"),\"\",_xlfn.RANK.EQ(N139,N$10:N$200))","v":""},{"$f":"IF(AND(D139=\"m\",G139=\"U07\",I139<>\"\"),I139,\"\")","v":""},{"$f":"IF(OR(I139=\"\",P139=\"\"),\"\",_xlfn.RANK.EQ(P139,P$10:P$200))","v":""},{"$f":"IF(AND(D139=\"m\",G139=\"U08\",I139<>\"\"),I139,\"\")","v":""},{"$f":"IF(OR(I139=\"\",R139=\"\"),\"\",_xlfn.RANK.EQ(R139,R$10:R$200))","v":""},{"$f":"IF(AND(D139=\"m\",G139=\"U09\",I139<>\"\"),I139,\"\")","v":""},{"$f":"IF(OR(I139=\"\",T139=\"\"),\"\",_xlfn.RANK.EQ(T139,T$10:T$200))","v":""},{"$f":"IF(AND(D139=\"m\",G139=\"U10\",I139<>\"\"),I139,\"\")","v":""},{"$f":"IF(OR(I139=\"\",V139=\"\"),\"\",_xlfn.RANK.EQ(V139,V$10:V$200))","v":""},{"$f":"IF(AND(D139=\"m\",G139=\"U11\",I139<>\"\"),I139,\"\")","v":""},{"$f":"IF(OR(I139=\"\",X139=\"\"),\"\",_xlfn.RANK.EQ(X139,X$10:X$200))","v":""},{"$f":"IF(AND(D139=\"m\",G139=\"U12\",I139<>\"\"),I139,\"\")","v":""},{"$f":"IF(OR(I139=\"\",Z139=\"\"),\"\",_xlfn.RANK.EQ(Z139,Z$10:Z$200))","v":""},{"$f":"IF(AND(D139=\"m\",G139=\"U13\",I139<>\"\"),I139,\"\")","v":""},{"$f":"IF(OR(I139=\"\",AB139=\"\"),\"\",_xlfn.RANK.EQ(AB139,AB$10:AB$200))","v":""},{"$f":"IF(AND(D139=\"m\",G139=\"U14\",I139<>\"\"),I139,\"\")","v":""},{"$f":"IF(OR(I139=\"\",AD139=\"\"),\"\",_xlfn.RANK.EQ(AD139,AD$10:AD$200))","v":""},{"$f":"IF(AND(D139=\"m\",G139=\"U15\",I139<>\"\"),I139,\"\")","v":""},{"$f":"IF(OR(I139=\"\",AF139=\"\"),\"\",_xlfn.RANK.EQ(AF139,AF$10:AF$200))","v":""},{"$f":"IF(AND(D139=\"m\",G139=\"U16\",I139<>\"\"),I139,\"\")","v":""},{"$f":"IF(OR(I139=\"\",AH139=\"\"),\"\",_xlfn.RANK.EQ(AH139,AH$10:AH$200))","v":""},null,{"$f":"IF(AND(D139=\"w\",G139=\"U06\",I139<>\"\"),I139,\"\")","v":""},{"$f":"IF(OR(I139=\"\",AI139=\"\"),\"\",_xlfn.RANK.EQ(AI139,AI$10:AI$200))","v":""},{"$f":"IF(AND(D139=\"w\",G139=\"U07\",I139<>\"\"),I139,\"\")","v":""},{"$f":"IF(OR(I139=\"\",AM139=\"\"),\"\",_xlfn.RANK.EQ(AM139,AM$10:AM$200))","v":""},{"$f":"IF(AND(D139=\"w\",G139=\"U08\",I139<>\"\"),I139,\"\")","v":""},{"$f":"IF(OR(I139=\"\",AO139=\"\"),\"\",_xlfn.RANK.EQ(AO139,AO$10:AO$200))","v":""},{"$f":"IF(AND(D139=\"w\",G139=\"U09\",I139<>\"\"),I139,\"\")","v":""},{"$f":"IF(OR(I139=\"\",AQ139=\"\"),\"\",_xlfn.RANK.EQ(AQ139,AQ$10:AQ$200))","v":""},{"$f":"IF(AND(D139=\"w\",G139=\"U10\",I139<>\"\"),I139,\"\")","v":""},{"$f":"IF(OR(I139=\"\",AS139=\"\"),\"\",_xlfn.RANK.EQ(AS139,AS$10:AS$200))","v":""},{"$f":"IF(AND(D139=\"w\",G139=\"U11\",I139<>\"\"),I139,\"\")","v":""},{"$f":"IF(OR(I139=\"\",AU139=\"\"),\"\",_xlfn.RANK.EQ(AU139,AU$10:AU$200))","v":""},{"$f":"IF(AND(D139=\"w\",G139=\"U12\",I139<>\"\"),I139,\"\")","v":""},{"$f":"IF(OR(I139=\"\",AW139=\"\"),\"\",_xlfn.RANK.EQ(AW139,AW$10:AW$200))","v":""},{"$f":"IF(AND(D139=\"w\",G139=\"U13\",I139<>\"\"),I139,\"\")","v":""},{"$f":"IF(OR(I139=\"\",AY139=\"\"),\"\",_xlfn.RANK.EQ(AY139,AY$10:AY$200))","v":""},{"$f":"IF(AND(D139=\"w\",G139=\"U14\",I139<>\"\"),I139,\"\")","v":""},{"$f":"IF(OR(I139=\"\",BA139=\"\"),\"\",_xlfn.RANK.EQ(BA139,BA$10:BA$200))","v":""},{"$f":"IF(AND(D139=\"w\",G139=\"U15\",I139<>\"\"),I139,\"\")","v":""},{"$f":"IF(OR(I139=\"\",BC139=\"\"),\"\",_xlfn.RANK.EQ(BC139,BC$10:BC$200))","v":""},{"$f":"IF(AND(D139=\"w\",G139=\"U16\",I139<>\"\"),I139,\"\")","v":""},{"$f":"IF(OR(I139=\"\",BE139=\"\"),\"\",_xlfn.RANK.EQ(BE139,BE$10:BE$200))","v":""}]
[null,{"$f":"IF(Athletenliste!B140=\"\",\"\",Athletenliste!B140)","v":""},{"$f":"IF(Athletenliste!C140=\"\",\"\",Athletenliste!C140)","v":""},{"$f":"IF(Athletenliste!D140=\"\",\"\",Athletenliste!D140)","v":""},{"$f":"IF(Athletenliste!E140=\"\",\"\",Athletenliste!E140)","v":""},{"$f":"IF(Athletenliste!F140=\"\",\"\",Athletenliste!F140)","v":""},{"$f":"IF(Athletenliste!G140=\"\",\"\",Athletenliste!G140)","v":""},{"$f":"IF(Athletenliste!H140=\"\",\"\",Athletenliste!H140)","v":""},null,{"$f":"IF(B140=\"\",\"\",IF(D140=\"m\",INDIRECT(VLOOKUP(G140,Bezüge!$E$6:$F$16,2,FALSE)&ROW(G140)),INDIRECT(VLOOKUP(G140,Bezüge!$B$6:$C$16,2,FALSE)&ROW(G140))))","v":""},null,null,null,"","","","","","","","","","","","","","","","","","","","","","",null,"","","","","","","","","","","","","","","","","","","","","",""]
[null,{"$f":"IF(Athletenliste!B141=\"\",\"\",Athletenliste!B141)","v":""},{"$f":"IF(Athletenliste!C141=\"\",\"\",Athletenliste!C141)","v":""},{"$f":"IF(Athletenliste!D141=\"\",\"\",Athletenliste!D141)","v":""},{"$f":"IF(Athletenliste!E141=\"\",\"\",Athletenliste!E141)","v":""},{"$f":"IF(Athletenliste!F141=\"\",\"\",Athletenliste!F141)","v":""},{"$f":"IF(Athletenliste!G141=\"\",\"\",Athletenliste!G141)","v":""},{"$f":"IF(Athletenliste!H141=\"\",\"\",Athletenliste!H141)","v":""},null,{"$f":"IF(B141=\"\",\"\",IF(D141=\"m\",INDIRECT(VLOOKUP(G141,Bezüge!$E$6:$F$16,2,FALSE)&ROW(G141)),INDIRECT(VLOOKUP(G141,Bezüge!$B$6:$C$16,2,FALSE)&ROW(G141))))","v":""},null,null,null,"","","","","","","","","","","","","","","","","","","","","","",null,"","","","","","","","","","","","","","","","","","","","","",""]
[null,{"$f":"IF(Athletenliste!B142=\"\",\"\",Athletenliste!B142)","v":""},{"$f":"IF(Athletenliste!C142=\"\",\"\",Athletenliste!C142)","v":""},{"$f":"IF(Athletenliste!D142=\"\",\"\",Athletenliste!D142)","v":""},{"$f":"IF(Athletenliste!E142=\"\",\"\",Athletenliste!E142)","v":""},{"$f":"IF(Athletenliste!F142=\"\",\"\",Athletenliste!F142)","v":""},{"$f":"IF(Athletenliste!G142=\"\",\"\",Athletenliste!G142)","v":""},{"$f":"IF(Athletenliste!H142=\"\",\"\",Athletenliste!H142)","v":""},null,{"$f":"IF(B142=\"\",\"\",IF(D142=\"m\",INDIRECT(VLOOKUP(G142,Bezüge!$E$6:$F$16,2,FALSE)&ROW(G142)),INDIRECT(VLOOKUP(G142,Bezüge!$B$6:$C$16,2,FALSE)&ROW(G142))))","v":""},null,null,null,"","","","","","","","","","","","","","","","","","","","","","",null,"","","","","","","","","","","","","","","","","","","","","",""]
[null,{"$f":"IF(Athletenliste!B143=\"\",\"\",Athletenliste!B143)","v":""},{"$f":"IF(Athletenliste!C143=\"\",\"\",Athletenliste!C143)","v":""},{"$f":"IF(Athletenliste!D143=\"\",\"\",Athletenliste!D143)","v":""},{"$f":"IF(Athletenliste!E143=\"\",\"\",Athletenliste!E143)","v":""},{"$f":"IF(Athletenliste!F143=\"\",\"\",Athletenliste!F143)","v":""},{"$f":"IF(Athletenliste!G143=\"\",\"\",Athletenliste!G143)","v":""},{"$f":"IF(Athletenliste!H143=\"\",\"\",Athletenliste!H143)","v":""},null,{"$f":"IF(B143=\"\",\"\",IF(D143=\"m\",INDIRECT(VLOOKUP(G143,Bezüge!$E$6:$F$16,2,FALSE)&ROW(G143)),INDIRECT(VLOOKUP(G143,Bezüge!$B$6:$C$16,2,FALSE)&ROW(G143))))","v":""},null,null,null,"","","","","","","","","","","","","","","","","","","","","","",null,"","","","","","","","","","","","","","","","","","","","","",""]
[null,{"$f":"IF(Athletenliste!B144=\"\",\"\",Athletenliste!B144)","v":""},{"$f":"IF(Athletenliste!C144=\"\",\"\",Athletenliste!C144)","v":""},{"$f":"IF(Athletenliste!D144=\"\",\"\",Athletenliste!D144)","v":""},{"$f":"IF(Athletenliste!E144=\"\",\"\",Athletenliste!E144)","v":""},{"$f":"IF(Athletenliste!F144=\"\",\"\",Athletenliste!F144)","v":""},{"$f":"IF(Athletenliste!G144=\"\",\"\",Athletenliste!G144)","v":""},{"$f":"IF(Athletenliste!H144=\"\",\"\",Athletenliste!H144)","v":""},null,{"$f":"IF(B144=\"\",\"\",IF(D144=\"m\",INDIRECT(VLOOKUP(G144,Bezüge!$E$6:$F$16,2,FALSE)&ROW(G144)),INDIRECT(VLOOKUP(G144,Bezüge!$B$6:$C$16,2,FALSE)&ROW(G144))))","v":""},null,null,null,"","","","","","","","","","","","","","","","","","","","","","",null,"","","","","","","","","","","","","","","","","","","","","",""]
[null,{"$f":"IF(Athletenliste!B145=\"\",\"\",Athletenliste!B145)","v":""},{"$f":"IF(Athletenliste!C145=\"\",\"\",Athletenliste!C145)","v":""},{"$f":"IF(Athletenliste!D145=\"\",\"\",Athletenliste!D145)","v":""},{"$f":"IF(Athletenliste!E145=\"\",\"\",Athletenliste!E145)","v":""},{"$f":"IF(Athletenliste!F145=\"\",\"\",Athletenliste!F145)","v":""},{"$f":"IF(Athletenliste!G145=\"\",\"\",Athletenliste!G145)","v":""},{"$f":"IF(Athletenliste!H145=\"\",\"\",Athletenliste!H145)","v":""},null,{"$f":"IF(B145=\"\",\"\",IF(D145=\"m\",INDIRECT(VLOOKUP(G145,Bezüge!$E$6:$F$16,2,FALSE)&ROW(G145)),INDIRECT(VLOOKUP(G145,Bezüge!$B$6:$C$16,2,FALSE)&ROW(G145))))","v":""},null,null,null,"","","","","","","","","","","","","","","","","","","","","","",null,"","","","","","","","","","","","","","","","","","","","","",""]
[null,{"$f":"IF(Athletenliste!B146=\"\",\"\",Athletenliste!B146)","v":""},{"$f":"IF(Athletenliste!C146=\"\",\"\",Athletenliste!C146)","v":""},{"$f":"IF(Athletenliste!D146=\"\",\"\",Athletenliste!D146)","v":""},{"$f":"IF(Athletenliste!E146=\"\",\"\",Athletenliste!E146)","v":""},{"$f":"IF(Athletenliste!F146=\"\",\"\",Athletenliste!F146)","v":""},{"$f":"IF(Athletenliste!G146=\"\",\"\",Athletenliste!G146)","v":""},{"$f":"IF(Athletenliste!H146=\"\",\"\",Athletenliste!H146)","v":""},null,{"$f":"IF(B146=\"\",\"\",IF(D146=\"m\",INDIRECT(VLOOKUP(G146,Bezüge!$E$6:$F$16,2,FALSE)&ROW(G146)),INDIRECT(VLOOKUP(G146,Bezüge!$B$6:$C$16,2,FALSE)&ROW(G146))))","v":""},null,null,null,"","","","","","","","","","","","","","","","","","","","","","",null,"","","","","","","","","","","","","","","","","","","","","",""]
[null,{"$f":"IF(Athletenliste!B147=\"\",\"\",Athletenliste!B147)","v":""},{"$f":"IF(Athletenliste!C147=\"\",\"\",Athletenliste!C147)","v":""},{"$f":"IF(Athletenliste!D147=\"\",\"\",Athletenliste!D147)","v":""},{"$f":"IF(Athletenliste!E147=\"\",\"\",Athletenliste!E147)","v":""},{"$f":"IF(Athletenliste!F147=\"\",\"\",Athletenliste!F147)","v":""},{"$f":"IF(Athletenliste!G147=\"\",\"\",Athletenliste!G147)","v":""},{"$f":"IF(Athletenliste!H147=\"\",\"\",Athletenliste!H147)","v":""},null,{"$f":"IF(B147=\"\",\"\",IF(D147=\"m\",INDIRECT(VLOOKUP(G147,Bezüge!$E$6:$F$16,2,FALSE)&ROW(G147)),INDIRECT(VLOOKUP(G147,Bezüge!$B$6:$C$16,2,FALSE)&ROW(G147))))","v":""},null,null,null,"","","","","","","","","","","","","","","","","","","","","","",null,"","","","","","","","","","","","","","","","","","","","","",""]
[null,{"$f":"IF(Athletenliste!B148=\"\",\"\",Athletenliste!B148)","v":""},{"$f":"IF(Athletenliste!C148=\"\",\"\",Athletenliste!C148)","v":""},{"$f":"IF(Athletenliste!D148=\"\",\"\",Athletenliste!D148)","v":""},{"$f":"IF(Athletenliste!E148=\"\",\"\",Athletenliste!E148)","v":""},{"$f":"IF(Athletenliste!F148=\"\",\"\",Athletenliste!F148)","v":""},{"$f":"IF(Athletenliste!G148=\"\",\"\",Athletenliste!G148)","v":""},{"$f":"IF(Athletenliste!H148=\"\",\"\",Athletenliste!H148)","v":""},null,{"$f":"IF(B148=\"\",\"\",IF(D148=\"m\",INDIRECT(VLOOKUP(G148,Bezüge!$E$6:$F$16,2,FALSE)&ROW(G148)),INDIRECT(VLOOKUP(G148,Bezüge!$B$6:$C$16,2,FALSE)&ROW(G148))))","v":""},null,null,null,"","","","","","","","","","","","","","","","","","","","","","",null,"","","","","","","","","","","","","","","","","","","","","",""]
[null,{"$f":"IF(Athletenliste!B149=\"\",\"\",Athletenliste!B149)","v":""},{"$f":"IF(Athletenliste!C149=\"\",\"\",Athletenliste!C149)","v":""},{"$f":"IF(Athletenliste!D149=\"\",\"\",Athletenliste!D149)","v":""},{"$f":"IF(Athletenliste!E149=\"\",\"\",Athletenliste!E149)","v":""},{"$f":"IF(Athletenliste!F149=\"\",\"\",Athletenliste!F149)","v":""},{"$f":"IF(Athletenliste!G149=\"\",\"\",Athletenliste!G149)","v":""},{"$f":"IF(Athletenliste!H149=\"\",\"\",Athletenliste!H149)","v":""},null,{"$f":"IF(B149=\"\",\"\",IF(D149=\"m\",INDIRECT(VLOOKUP(G149,Bezüge!$E$6:$F$16,2,FALSE)&ROW(G149)),INDIRECT(VLOOKUP(G149,Bezüge!$B$6:$C$16,2,FALSE)&ROW(G149))))","v":""},null,null,null,"","","","","","","","","","","","","","","","","","","","","","",null,"","","","","","","","","","","","","","","","","","","","","",""]
[null,{"$f":"IF(Athletenliste!B150=\"\",\"\",Athletenliste!B150)","v":""},{"$f":"IF(Athletenliste!C150=\"\",\"\",Athletenliste!C150)","v":""},{"$f":"IF(Athletenliste!D150=\"\",\"\",Athletenliste!D150)","v":""},{"$f":"IF(Athletenliste!E150=\"\",\"\",Athletenliste!E150)","v":""},{"$f":"IF(Athletenliste!F150=\"\",\"\",Athletenliste!F150)","v":""},{"$f":"IF(Athletenliste!G150=\"\",\"\",Athletenliste!G150)","v":""},{"$f":"IF(Athletenliste!H150=\"\",\"\",Athletenliste!H150)","v":""},null,{"$f":"IF(B150=\"\",\"\",IF(D150=\"m\",INDIRECT(VLOOKUP(G150,Bezüge!$E$6:$F$16,2,FALSE)&ROW(G150)),INDIRECT(VLOOKUP(G150,Bezüge!$B$6:$C$16,2,FALSE)&ROW(G150))))","v":""},null,null,null,"","","","","","","","","","","","","","","","","","","","","","",null,"","","","","","","","","","","","","","","","","","","","","",""]
[null,{"$f":"IF(Athletenliste!B151=\"\",\"\",Athletenliste!B151)","v":""},{"$f":"IF(Athletenliste!C151=\"\",\"\",Athletenliste!C151)","v":""},{"$f":"IF(Athletenliste!D151=\"\",\"\",Athletenliste!D151)","v":""},{"$f":"IF(Athletenliste!E151=\"\",\"\",Athletenliste!E151)","v":""},{"$f":"IF(Athletenliste!F151=\"\",\"\",Athletenliste!F151)","v":""},{"$f":"IF(Athletenliste!G151=\"\",\"\",Athletenliste!G151)","v":""},{"$f":"IF(Athletenliste!H151=\"\",\"\",Athletenliste!H151)","v":""},null,{"$f":"IF(B151=\"\",\"\",IF(D151=\"m\",INDIRECT(VLOOKUP(G151,Bezüge!$E$6:$F$16,2,FALSE)&ROW(G151)),INDIRECT(VLOOKUP(G151,Bezüge!$B$6:$C$16,2,FALSE)&ROW(G151))))","v":""},null,null,null,"","","","","","","","","","","","","","","","","","","","","","",null,"","","","","","","","","","","","","","","","","","","","","",""]
[null,{"$f":"IF(Athletenliste!B152=\"\",\"\",Athletenliste!B152)","v":""},{"$f":"IF(Athletenliste!C152=\"\",\"\",Athletenliste!C152)","v":""},{"$f":"IF(Athletenliste!D152=\"\",\"\",Athletenliste!D152)","v":""},{"$f":"IF(Athletenliste!E152=\"\",\"\",Athletenliste!E152)","v":""},{"$f":"IF(Athletenliste!F152=\"\",\"\",Athletenliste!F152)","v":""},{"$f":"IF(Athletenliste!G152=\"\",\"\",Athletenliste!G152)","v":""},{"$f":"IF(Athletenliste!H152=\"\",\"\",Athletenliste!H152)","v":""},null,{"$f":"IF(B152=\"\",\"\",IF(D152=\"m\",INDIRECT(VLOOKUP(G152,Bezüge!$E$6:$F$16,2,FALSE)&ROW(G152)),INDIRECT(VLOOKUP(G152,Bezüge!$B$6:$C$16,2,FALSE)&ROW(G152))))","v":""},null,null,null,"","","","","","","","","","","","","","","","","","","","","","",null,"","","","","","","","","","","","","","","","","","","","","",""]
[null,{"$f":"IF(Athletenliste!B153=\"\",\"\",Athletenliste!B153)","v":""},{"$f":"IF(Athletenliste!C153=\"\",\"\",Athletenliste!C153)","v":""},{"$f":"IF(Athletenliste!D153=\"\",\"\",Athletenliste!D153)","v":""},{"$f":"IF(Athletenliste!E153=\"\",\"\",Athletenliste!E153)","v":""},{"$f":"IF(Athletenliste!F153=\"\",\"\",Athletenliste!F153)","v":""},{"$f":"IF(Athletenliste!G153=\"\",\"\",Athletenliste!G153)","v":""},{"$f":"IF(Athletenliste!H153=\"\",\"\",Athletenliste!H153)","v":""},null,{"$f":"IF(B153=\"\",\"\",IF(D153=\"m\",INDIRECT(VLOOKUP(G153,Bezüge!$E$6:$F$16,2,FALSE)&ROW(G153)),INDIRECT(VLOOKUP(G153,Bezüge!$B$6:$C$16,2,FALSE)&ROW(G153))))","v":""},null,null,null,"","","","","","","","","","","","","","","","","","","","","","",null,"","","","","","","","","","","","","","","","","","","","","",""]
[null,{"$f":"IF(Athletenliste!B154=\"\",\"\",Athletenliste!B154)","v":""},{"$f":"IF(Athletenliste!C154=\"\",\"\",Athletenliste!C154)","v":""},{"$f":"IF(Athletenliste!D154=\"\",\"\",Athletenliste!D154)","v":""},{"$f":"IF(Athletenliste!E154=\"\",\"\",Athletenliste!E154)","v":""},{"$f":"IF(Athletenliste!F154=\"\",\"\",Athletenliste!F154)","v":""},{"$f":"IF(Athletenliste!G154=\"\",\"\",Athletenliste!G154)","v":""},{"$f":"IF(Athletenliste!H154=\"\",\"\",Athletenliste!H154)","v":""},null,{"$f":"IF(B154=\"\",\"\",IF(D154=\"m\",INDIRECT(VLOOKUP(G154,Bezüge!$E$6:$F$16,2,FALSE)&ROW(G154)),INDIRECT(VLOOKUP(G154,Bezüge!$B$6:$C$16,2,FALSE)&ROW(G154))))","v":""},null,null,null,"","","","","","","","","","","","","","","","","","","","","","",null,"","","","","","","","","","","","","","","","","","","","","",""]
[null,{"$f":"IF(Athletenliste!B155=\"\",\"\",Athletenliste!B155)","v":""},{"$f":"IF(Athletenliste!C155=\"\",\"\",Athletenliste!C155)","v":""},{"$f":"IF(Athletenliste!D155=\"\",\"\",Athletenliste!D155)","v":""},{"$f":"IF(Athletenliste!E155=\"\",\"\",Athletenliste!E155)","v":""},{"$f":"IF(Athletenliste!F155=\"\",\"\",Athletenliste!F155)","v":""},{"$f":"IF(Athletenliste!G155=\"\",\"\",Athletenliste!G155)","v":""},{"$f":"IF(Athletenliste!H155=\"\",\"\",Athletenliste!H155)","v":""},null,{"$f":"IF(B155=\"\",\"\",IF(D155=\"m\",INDIRECT(VLOOKUP(G155,Bezüge!$E$6:$F$16,2,FALSE)&ROW(G155)),INDIRECT(VLOOKUP(G155,Bezüge!$B$6:$C$16,2,FALSE)&ROW(G155))))","v":""},null,null,null,"","","","","","","","","","","","","","","","","","","","","","",null,"","","","","","","","","","","","","","","","","","","","","",""]
[null,{"$f":"IF(Athletenliste!B156=\"\",\"\",Athletenliste!B156)","v":""},{"$f":"IF(Athletenliste!C156=\"\",\"\",Athletenliste!C156)","v":""},{"$f":"IF(Athletenliste!D156=\"\",\"\",Athletenliste!D156)","v":""},{"$f":"IF(Athletenliste!E156=\"\",\"\",Athletenliste!E156)","v":""},{"$f":"IF(Athletenliste!F156=\"\",\"\",Athletenliste!F156)","v":""},{"$f":"IF(Athletenliste!G156=\"\",\"\",Athletenliste!G156)","v":""},{"$f":"IF(Athletenliste!H156=\"\",\"\",Athletenliste!H156)","v":""},null,{"$f":"IF(B156=\"\",\"\",IF(D156=\"m\",INDIRECT(VLOOKUP(G156,Bezüge!$E$6:$F$16,2,FALSE)&ROW(G156)),INDIRECT(VLOOKUP(G156,Bezüge!$B$6:$C$16,2,FALSE)&ROW(G156))))","v":""},null,null,null,"","","","","","","","","","","","","","","","","","","","","","",null,"","","","","","","","","","","","","","","","","","","","","",""]
[null,{"$f":"IF(Athletenliste!B157=\"\",\"\",Athletenliste!B157)","v":""},{"$f":"IF(Athletenliste!C157=\"\",\"\",Athletenliste!C157)","v":""},{"$f":"IF(Athletenliste!D157=\"\",\"\",Athletenliste!D157)","v":""},{"$f":"IF(Athletenliste!E157=\"\",\"\",Athletenliste!E157)","v":""},{"$f":"IF(Athletenliste!F157=\"\",\"\",Athletenliste!F157)","v":""},{"$f":"IF(Athletenliste!G157=\"\",\"\",Athletenliste!G157)","v":""},{"$f":"IF(Athletenliste!H157=\"\",\"\",Athletenliste!H157)","v":""},null,{"$f":"IF(B157=\"\",\"\",IF(D157=\"m\",INDIRECT(VLOOKUP(G157,Bezüge!$E$6:$F$16,2,FALSE)&ROW(G157)),INDIRECT(VLOOKUP(G157,Bezüge!$B$6:$C$16,2,FALSE)&ROW(G157))))","v":""},null,null,null,"","","","","","","","","","","","","","","","","","","","","","",null,"","","","","","","","","","","","","","","","","","","","","",""]
[null,{"$f":"IF(Athletenliste!B158=\"\",\"\",Athletenliste!B158)","v":""},{"$f":"IF(Athletenliste!C158=\"\",\"\",Athletenliste!C158)","v":""},{"$f":"IF(Athletenliste!D158=\"\",\"\",Athletenliste!D158)","v":""},{"$f":"IF(Athletenliste!E158=\"\",\"\",Athletenliste!E158)","v":""},{"$f":"IF(Athletenliste!F158=\"\",\"\",Athletenliste!F158)","v":""},{"$f":"IF(Athletenliste!G158=\"\",\"\",Athletenliste!G158)","v":""},{"$f":"IF(Athletenliste!H158=\"\",\"\",Athletenliste!H158)","v":""},null,{"$f":"IF(B158=\"\",\"\",IF(D158=\"m\",INDIRECT(VLOOKUP(G158,Bezüge!$E$6:$F$16,2,FALSE)&ROW(G158)),INDIRECT(VLOOKUP(G158,Bezüge!$B$6:$C$16,2,FALSE)&ROW(G158))))","v":""},null,null,null,"","","","","","","","","","","","","","","","","","","","","","",null,"","","","","","","","","","","","","","","","","","","","","",""]
[null,{"$f":"IF(Athletenliste!B159=\"\",\"\",Athletenliste!B159)","v":""},{"$f":"IF(Athletenliste!C159=\"\",\"\",Athletenliste!C159)","v":""},{"$f":"IF(Athletenliste!D159=\"\",\"\",Athletenliste!D159)","v":""},{"$f":"IF(Athletenliste!E159=\"\",\"\",Athletenliste!E159)","v":""},{"$f":"IF(Athletenliste!F159=\"\",\"\",Athletenliste!F159)","v":""},{"$f":"IF(Athletenliste!G159=\"\",\"\",Athletenliste!G159)","v":""},{"$f":"IF(Athletenliste!H159=\"\",\"\",Athletenliste!H159)","v":""},null,{"$f":"IF(B159=\"\",\"\",IF(D159=\"m\",INDIRECT(VLOOKUP(G159,Bezüge!$E$6:$F$16,2,FALSE)&ROW(G159)),INDIRECT(VLOOKUP(G159,Bezüge!$B$6:$C$16,2,FALSE)&ROW(G159))))","v":""},null,null,null,"","","","","","","","","","","","","","","","","","","","","","",null,"","","","","","","","","","","","","","","","","","","","","",""]
[null,{"$f":"IF(Athletenliste!B160=\"\",\"\",Athletenliste!B160)","v":""},{"$f":"IF(Athletenliste!C160=\"\",\"\",Athletenliste!C160)","v":""},{"$f":"IF(Athletenliste!D160=\"\",\"\",Athletenliste!D160)","v":""},{"$f":"IF(Athletenliste!E160=\"\",\"\",Athletenliste!E160)","v":""},{"$f":"IF(Athletenliste!F160=\"\",\"\",Athletenliste!F160)","v":""},{"$f":"IF(Athletenliste!G160=\"\",\"\",Athletenliste!G160)","v":""},{"$f":"IF(Athletenliste!H160=\"\",\"\",Athletenliste!H160)","v":""},null,{"$f":"IF(B160=\"\",\"\",IF(D160=\"m\",INDIRECT(VLOOKUP(G160,Bezüge!$E$6:$F$16,2,FALSE)&ROW(G160)),INDIRECT(VLOOKUP(G160,Bezüge!$B$6:$C$16,2,FALSE)&ROW(G160))))","v":""},null,null,null,"","","","","","","","","","","","","","","","","","","","","","",null,"","","","","","","","","","","","","","","","","","","","","",""]
[null,{"$f":"IF(Athletenliste!B161=\"\",\"\",Athletenliste!B161)","v":""},{"$f":"IF(Athletenliste!C161=\"\",\"\",Athletenliste!C161)","v":""},{"$f":"IF(Athletenliste!D161=\"\",\"\",Athletenliste!D161)","v":""},{"$f":"IF(Athletenliste!E161=\"\",\"\",Athletenliste!E161)","v":""},{"$f":"IF(Athletenliste!F161=\"\",\"\",Athletenliste!F161)","v":""},{"$f":"IF(Athletenliste!G161=\"\",\"\",Athletenliste!G161)","v":""},{"$f":"IF(Athletenliste!H161=\"\",\"\",Athletenliste!H161)","v":""},null,{"$f":"IF(B161=\"\",\"\",IF(D161=\"m\",INDIRECT(VLOOKUP(G161,Bezüge!$E$6:$F$16,2,FALSE)&ROW(G161)),INDIRECT(VLOOKUP(G161,Bezüge!$B$6:$C$16,2,FALSE)&ROW(G161))))","v":""},null,null,null,"","","","","","","","","","","","","","","","","","","","","","",null,"","","","","","","","","","","","","","","","","","","","","",""]
[null,{"$f":"IF(Athletenliste!B162=\"\",\"\",Athletenliste!B162)","v":""},{"$f":"IF(Athletenliste!C162=\"\",\"\",Athletenliste!C162)","v":""},{"$f":"IF(Athletenliste!D162=\"\",\"\",Athletenliste!D162)","v":""},{"$f":"IF(Athletenliste!E162=\"\",\"\",Athletenliste!E162)","v":""},{"$f":"IF(Athletenliste!F162=\"\",\"\",Athletenliste!F162)","v":""},{"$f":"IF(Athletenliste!G162=\"\",\"\",Athletenliste!G162)","v":""},{"$f":"IF(Athletenliste!H162=\"\",\"\",Athletenliste!H162)","v":""},null,{"$f":"IF(B162=\"\",\"\",IF(D162=\"m\",INDIRECT(VLOOKUP(G162,Bezüge!$E$6:$F$16,2,FALSE)&ROW(G162)),INDIRECT(VLOOKUP(G162,Bezüge!$B$6:$C$16,2,FALSE)&ROW(G162))))","v":""},null,null,null,"","","","","","","","","","","","","","","","","","","","","","",null,"","","","","","","","","","","","","","","","","","","","","",""]
[null,{"$f":"IF(Athletenliste!B163=\"\",\"\",Athletenliste!B163)","v":""},{"$f":"IF(Athletenliste!C163=\"\",\"\",Athletenliste!C163)","v":""},{"$f":"IF(Athletenliste!D163=\"\",\"\",Athletenliste!D163)","v":""},{"$f":"IF(Athletenliste!E163=\"\",\"\",Athletenliste!E163)","v":""},{"$f":"IF(Athletenliste!F163=\"\",\"\",Athletenliste!F163)","v":""},{"$f":"IF(Athletenliste!G163=\"\",\"\",Athletenliste!G163)","v":""},{"$f":"IF(Athletenliste!H163=\"\",\"\",Athletenliste!H163)","v":""},null,{"$f":"IF(B163=\"\",\"\",IF(D163=\"m\",INDIRECT(VLOOKUP(G163,Bezüge!$E$6:$F$16,2,FALSE)&ROW(G163)),INDIRECT(VLOOKUP(G163,Bezüge!$B$6:$C$16,2,FALSE)&ROW(G163))))","v":""},null,null,null,"","","","","","","","","","","","","","","","","","","","","","",null,"","","","","","","","","","","","","","","","","","","","","",""]
[null,{"$f":"IF(Athletenliste!B164=\"\",\"\",Athletenliste!B164)","v":""},{"$f":"IF(Athletenliste!C164=\"\",\"\",Athletenliste!C164)","v":""},{"$f":"IF(Athletenliste!D164=\"\",\"\",Athletenliste!D164)","v":""},{"$f":"IF(Athletenliste!E164=\"\",\"\",Athletenliste!E164)","v":""},{"$f":"IF(Athletenliste!F164=\"\",\"\",Athletenliste!F164)","v":""},{"$f":"IF(Athletenliste!G164=\"\",\"\",Athletenliste!G164)","v":""},{"$f":"IF(Athletenliste!H164=\"\",\"\",Athletenliste!H164)","v":""},null,{"$f":"IF(B164=\"\",\"\",IF(D164=\"m\",INDIRECT(VLOOKUP(G164,Bezüge!$E$6:$F$16,2,FALSE)&ROW(G164)),INDIRECT(VLOOKUP(G164,Bezüge!$B$6:$C$16,2,FALSE)&ROW(G164))))","v":""},null,null,null,"","","","","","","","","","","","","","","","","","","","","","",null,"","","","","","","","","","","","","","","","","","","","","",""]
[null,{"$f":"IF(Athletenliste!B165=\"\",\"\",Athletenliste!B165)","v":""},{"$f":"IF(Athletenliste!C165=\"\",\"\",Athletenliste!C165)","v":""},{"$f":"IF(Athletenliste!D165=\"\",\"\",Athletenliste!D165)","v":""},{"$f":"IF(Athletenliste!E165=\"\",\"\",Athletenliste!E165)","v":""},{"$f":"IF(Athletenliste!F165=\"\",\"\",Athletenliste!F165)","v":""},{"$f":"IF(Athletenliste!G165=\"\",\"\",Athletenliste!G165)","v":""},{"$f":"IF(Athletenliste!H165=\"\",\"\",Athletenliste!H165)","v":""},null,{"$f":"IF(B165=\"\",\"\",IF(D165=\"m\",INDIRECT(VLOOKUP(G165,Bezüge!$E$6:$F$16,2,FALSE)&ROW(G165)),INDIRECT(VLOOKUP(G165,Bezüge!$B$6:$C$16,2,FALSE)&ROW(G165))))","v":""},null,null,null,"","","","","","","","","","","","","","","","","","","","","","",null,"","","","","","","","","","","","","","","","","","","","","",""]
[null,{"$f":"IF(Athletenliste!B166=\"\",\"\",Athletenliste!B166)","v":""},{"$f":"IF(Athletenliste!C166=\"\",\"\",Athletenliste!C166)","v":""},{"$f":"IF(Athletenliste!D166=\"\",\"\",Athletenliste!D166)","v":""},{"$f":"IF(Athletenliste!E166=\"\",\"\",Athletenliste!E166)","v":""},{"$f":"IF(Athletenliste!F166=\"\",\"\",Athletenliste!F166)","v":""},{"$f":"IF(Athletenliste!G166=\"\",\"\",Athletenliste!G166)","v":""},{"$f":"IF(Athletenliste!H166=\"\",\"\",Athletenliste!H166)","v":""},null,{"$f":"IF(B166=\"\",\"\",IF(D166=\"m\",INDIRECT(VLOOKUP(G166,Bezüge!$E$6:$F$16,2,FALSE)&ROW(G166)),INDIRECT(VLOOKUP(G166,Bezüge!$B$6:$C$16,2,FALSE)&ROW(G166))))","v":""},null,null,null,"","","","","","","","","","","","","","","","","","","","","","",null,"","","","","","","","","","","","","","","","","","","","","",""]
[null,{"$f":"IF(Athletenliste!B167=\"\",\"\",Athletenliste!B167)","v":""},{"$f":"IF(Athletenliste!C167=\"\",\"\",Athletenliste!C167)","v":""},{"$f":"IF(Athletenliste!D167=\"\",\"\",Athletenliste!D167)","v":""},{"$f":"IF(Athletenliste!E167=\"\",\"\",Athletenliste!E167)","v":""},{"$f":"IF(Athletenliste!F167=\"\",\"\",Athletenliste!F167)","v":""},{"$f":"IF(Athletenliste!G167=\"\",\"\",Athletenliste!G167)","v":""},{"$f":"IF(Athletenliste!H167=\"\",\"\",Athletenliste!H167)","v":""},null,{"$f":"IF(B167=\"\",\"\",IF(D167=\"m\",INDIRECT(VLOOKUP(G167,Bezüge!$E$6:$F$16,2,FALSE)&ROW(G167)),INDIRECT(VLOOKUP(G167,Bezüge!$B$6:$C$16,2,FALSE)&ROW(G167))))","v":""},null,null,null,"","","","","","","","","","","","","","","","","","","","","","",null,"","","","","","","","","","","","","","","","","","","","","",""]
[null,{"$f":"IF(Athletenliste!B168=\"\",\"\",Athletenliste!B168)","v":""},{"$f":"IF(Athletenliste!C168=\"\",\"\",Athletenliste!C168)","v":""},{"$f":"IF(Athletenliste!D168=\"\",\"\",Athletenliste!D168)","v":""},{"$f":"IF(Athletenliste!E168=\"\",\"\",Athletenliste!E168)","v":""},{"$f":"IF(Athletenliste!F168=\"\",\"\",Athletenliste!F168)","v":""},{"$f":"IF(Athletenliste!G168=\"\",\"\",Athletenliste!G168)","v":""},{"$f":"IF(Athletenliste!H168=\"\",\"\",Athletenliste!H168)","v":""},null,{"$f":"IF(B168=\"\",\"\",IF(D168=\"m\",INDIRECT(VLOOKUP(G168,Bezüge!$E$6:$F$16,2,FALSE)&ROW(G168)),INDIRECT(VLOOKUP(G168,Bezüge!$B$6:$C$16,2,FALSE)&ROW(G168))))","v":""},null,null,null,"","","","","","","","","","","","","","","","","","","","","","",null,"","","","","","","","","","","","","","","","","","","","","",""]
[null,{"$f":"IF(Athletenliste!B169=\"\",\"\",Athletenliste!B169)","v":""},{"$f":"IF(Athletenliste!C169=\"\",\"\",Athletenliste!C169)","v":""},{"$f":"IF(Athletenliste!D169=\"\",\"\",Athletenliste!D169)","v":""},{"$f":"IF(Athletenliste!E169=\"\",\"\",Athletenliste!E169)","v":""},{"$f":"IF(Athletenliste!F169=\"\",\"\",Athletenliste!F169)","v":""},{"$f":"IF(Athletenliste!G169=\"\",\"\",Athletenliste!G169)","v":""},{"$f":"IF(Athletenliste!H169=\"\",\"\",Athletenliste!H169)","v":""},null,{"$f":"IF(B169=\"\",\"\",IF(D169=\"m\",INDIRECT(VLOOKUP(G169,Bezüge!$E$6:$F$16,2,FALSE)&ROW(G169)),INDIRECT(VLOOKUP(G169,Bezüge!$B$6:$C$16,2,FALSE)&ROW(G169))))","v":""},null,null,null,"","","","","","","","","","","","","","","","","","","","","","",null,"","","","","","","","","","","","","","","","","","","","","",""]
[null,{"$f":"IF(Athletenliste!B170=\"\",\"\",Athletenliste!B170)","v":""},{"$f":"IF(Athletenliste!C170=\"\",\"\",Athletenliste!C170)","v":""},{"$f":"IF(Athletenliste!D170=\"\",\"\",Athletenliste!D170)","v":""},{"$f":"IF(Athletenliste!E170=\"\",\"\",Athletenliste!E170)","v":""},{"$f":"IF(Athletenliste!F170=\"\",\"\",Athletenliste!F170)","v":""},{"$f":"IF(Athletenliste!G170=\"\",\"\",Athletenliste!G170)","v":""},{"$f":"IF(Athletenliste!H170=\"\",\"\",Athletenliste!H170)","v":""},null,{"$f":"IF(B170=\"\",\"\",IF(D170=\"m\",INDIRECT(VLOOKUP(G170,Bezüge!$E$6:$F$16,2,FALSE)&ROW(G170)),INDIRECT(VLOOKUP(G170,Bezüge!$B$6:$C$16,2,FALSE)&ROW(G170))))","v":""},null,null,null,"","","","","","","","","","","","","","","","","","","","","","",null,"","","","","","","","","","","","","","","","","","","","","",""]
[null,{"$f":"IF(Athletenliste!B171=\"\",\"\",Athletenliste!B171)","v":""},{"$f":"IF(Athletenliste!C171=\"\",\"\",Athletenliste!C171)","v":""},{"$f":"IF(Athletenliste!D171=\"\",\"\",Athletenliste!D171)","v":""},{"$f":"IF(Athletenliste!E171=\"\",\"\",Athletenliste!E171)","v":""},{"$f":"IF(Athletenliste!F171=\"\",\"\",Athletenliste!F171)","v":""},{"$f":"IF(Athletenliste!G171=\"\",\"\",Athletenliste!G171)","v":""},{"$f":"IF(Athletenliste!H171=\"\",\"\",Athletenliste!H171)","v":""},null,{"$f":"IF(B171=\"\",\"\",IF(D171=\"m\",INDIRECT(VLOOKUP(G171,Bezüge!$E$6:$F$16,2,FALSE)&ROW(G171)),INDIRECT(VLOOKUP(G171,Bezüge!$B$6:$C$16,2,FALSE)&ROW(G171))))","v":""},null,null,null,"","","","","","","","","","","","","","","","","","","","","","",null,"","","","","","","","","","","","","","","","","","","","","",""]
[null,{"$f":"IF(Athletenliste!B172=\"\",\"\",Athletenliste!B172)","v":""},{"$f":"IF(Athletenliste!C172=\"\",\"\",Athletenliste!C172)","v":""},{"$f":"IF(Athletenliste!D172=\"\",\"\",Athletenliste!D172)","v":""},{"$f":"IF(Athletenliste!E172=\"\",\"\",Athletenliste!E172)","v":""},{"$f":"IF(Athletenliste!F172=\"\",\"\",Athletenliste!F172)","v":""},{"$f":"IF(Athletenliste!G172=\"\",\"\",Athletenliste!G172)","v":""},{"$f":"IF(Athletenliste!H172=\"\",\"\",Athletenliste!H172)","v":""},null,{"$f":"IF(B172=\"\",\"\",IF(D172=\"m\",INDIRECT(VLOOKUP(G172,Bezüge!$E$6:$F$16,2,FALSE)&ROW(G172)),INDIRECT(VLOOKUP(G172,Bezüge!$B$6:$C$16,2,FALSE)&ROW(G172))))","v":""},null,null,null,"","","","","","","","","","","","","","","","","","","","","","",null,"","","","","","","","","","","","","","","","","","","","","",""]
[null,{"$f":"IF(Athletenliste!B173=\"\",\"\",Athletenliste!B173)","v":""},{"$f":"IF(Athletenliste!C173=\"\",\"\",Athletenliste!C173)","v":""},{"$f":"IF(Athletenliste!D173=\"\",\"\",Athletenliste!D173)","v":""},{"$f":"IF(Athletenliste!E173=\"\",\"\",Athletenliste!E173)","v":""},{"$f":"IF(Athletenliste!F173=\"\",\"\",Athletenliste!F173)","v":""},{"$f":"IF(Athletenliste!G173=\"\",\"\",Athletenliste!G173)","v":""},{"$f":"IF(Athletenliste!H173=\"\",\"\",Athletenliste!H173)","v":""},null,{"$f":"IF(B173=\"\",\"\",IF(D173=\"m\",INDIRECT(VLOOKUP(G173,Bezüge!$E$6:$F$16,2,FALSE)&ROW(G173)),INDIRECT(VLOOKUP(G173,Bezüge!$B$6:$C$16,2,FALSE)&ROW(G173))))","v":""},null,null,null,"","","","","","","","","","","","","","","","","","","","","","",null,"","","","","","","","","","","","","","","","","","","","","",""]
[null,{"$f":"IF(Athletenliste!B174=\"\",\"\",Athletenliste!B174)","v":""},{"$f":"IF(Athletenliste!C174=\"\",\"\",Athletenliste!C174)","v":""},{"$f":"IF(Athletenliste!D174=\"\",\"\",Athletenliste!D174)","v":""},{"$f":"IF(Athletenliste!E174=\"\",\"\",Athletenliste!E174)","v":""},{"$f":"IF(Athletenliste!F174=\"\",\"\",Athletenliste!F174)","v":""},{"$f":"IF(Athletenliste!G174=\"\",\"\",Athletenliste!G174)","v":""},{"$f":"IF(Athletenliste!H174=\"\",\"\",Athletenliste!H174)","v":""},null,{"$f":"IF(B174=\"\",\"\",IF(D174=\"m\",INDIRECT(VLOOKUP(G174,Bezüge!$E$6:$F$16,2,FALSE)&ROW(G174)),INDIRECT(VLOOKUP(G174,Bezüge!$B$6:$C$16,2,FALSE)&ROW(G174))))","v":""},null,null,null,"","","","","","","","","","","","","","","","","","","","","","",null,"","","","","","","","","","","","","","","","","","","","","",""]
[null,{"$f":"IF(Athletenliste!B175=\"\",\"\",Athletenliste!B175)","v":""},{"$f":"IF(Athletenliste!C175=\"\",\"\",Athletenliste!C175)","v":""},{"$f":"IF(Athletenliste!D175=\"\",\"\",Athletenliste!D175)","v":""},{"$f":"IF(Athletenliste!E175=\"\",\"\",Athletenliste!E175)","v":""},{"$f":"IF(Athletenliste!F175=\"\",\"\",Athletenliste!F175)","v":""},{"$f":"IF(Athletenliste!G175=\"\",\"\",Athletenliste!G175)","v":""},{"$f":"IF(Athletenliste!H175=\"\",\"\",Athletenliste!H175)","v":""},null,{"$f":"IF(B175=\"\",\"\",IF(D175=\"m\",INDIRECT(VLOOKUP(G175,Bezüge!$E$6:$F$16,2,FALSE)&ROW(G175)),INDIRECT(VLOOKUP(G175,Bezüge!$B$6:$C$16,2,FALSE)&ROW(G175))))","v":""},null,null,null,"","","","","","","","","","","","","","","","","","","","","","",null,"","","","","","","","","","","","","","","","","","","","","",""]
[null,{"$f":"IF(Athletenliste!B176=\"\",\"\",Athletenliste!B176)","v":""},{"$f":"IF(Athletenliste!C176=\"\",\"\",Athletenliste!C176)","v":""},{"$f":"IF(Athletenliste!D176=\"\",\"\",Athletenliste!D176)","v":""},{"$f":"IF(Athletenliste!E176=\"\",\"\",Athletenliste!E176)","v":""},{"$f":"IF(Athletenliste!F176=\"\",\"\",Athletenliste!F176)","v":""},{"$f":"IF(Athletenliste!G176=\"\",\"\",Athletenliste!G176)","v":""},{"$f":"IF(Athletenliste!H176=\"\",\"\",Athletenliste!H176)","v":""},null,{"$f":"IF(B176=\"\",\"\",IF(D176=\"m\",INDIRECT(VLOOKUP(G176,Bezüge!$E$6:$F$16,2,FALSE)&ROW(G176)),INDIRECT(VLOOKUP(G176,Bezüge!$B$6:$C$16,2,FALSE)&ROW(G176))))","v":""},null,null,null,"","","","","","","","","","","","","","","","","","","","","","",null,"","","","","","","","","","","","","","","","","","","","","",""]
[null,{"$f":"IF(Athletenliste!B177=\"\",\"\",Athletenliste!B177)","v":""},{"$f":"IF(Athletenliste!C177=\"\",\"\",Athletenliste!C177)","v":""},{"$f":"IF(Athletenliste!D177=\"\",\"\",Athletenliste!D177)","v":""},{"$f":"IF(Athletenliste!E177=\"\",\"\",Athletenliste!E177)","v":""},{"$f":"IF(Athletenliste!F177=\"\",\"\",Athletenliste!F177)","v":""},{"$f":"IF(Athletenliste!G177=\"\",\"\",Athletenliste!G177)","v":""},{"$f":"IF(Athletenliste!H177=\"\",\"\",Athletenliste!H177)","v":""},null,{"$f":"IF(B177=\"\",\"\",IF(D177=\"m\",INDIRECT(VLOOKUP(G177,Bezüge!$E$6:$F$16,2,FALSE)&ROW(G177)),INDIRECT(VLOOKUP(G177,Bezüge!$B$6:$C$16,2,FALSE)&ROW(G177))))","v":""},null,null,null,"","","","","","","","","","","","","","","","","","","","","","",null,"","","","","","","","","","","","","","","","","","","","","",""]
[null,{"$f":"IF(Athletenliste!B178=\"\",\"\",Athletenliste!B178)","v":""},{"$f":"IF(Athletenliste!C178=\"\",\"\",Athletenliste!C178)","v":""},{"$f":"IF(Athletenliste!D178=\"\",\"\",Athletenliste!D178)","v":""},{"$f":"IF(Athletenliste!E178=\"\",\"\",Athletenliste!E178)","v":""},{"$f":"IF(Athletenliste!F178=\"\",\"\",Athletenliste!F178)","v":""},{"$f":"IF(Athletenliste!G178=\"\",\"\",Athletenliste!G178)","v":""},{"$f":"IF(Athletenliste!H178=\"\",\"\",Athletenliste!H178)","v":""},null,{"$f":"IF(B178=\"\",\"\",IF(D178=\"m\",INDIRECT(VLOOKUP(G178,Bezüge!$E$6:$F$16,2,FALSE)&ROW(G178)),INDIRECT(VLOOKUP(G178,Bezüge!$B$6:$C$16,2,FALSE)&ROW(G178))))","v":""},null,null,null,"","","","","","","","","","","","","","","","","","","","","","",null,"","","","","","","","","","","","","","","","","","","","","",""]
[null,{"$f":"IF(Athletenliste!B179=\"\",\"\",Athletenliste!B179)","v":""},{"$f":"IF(Athletenliste!C179=\"\",\"\",Athletenliste!C179)","v":""},{"$f":"IF(Athletenliste!D179=\"\",\"\",Athletenliste!D179)","v":""},{"$f":"IF(Athletenliste!E179=\"\",\"\",Athletenliste!E179)","v":""},{"$f":"IF(Athletenliste!F179=\"\",\"\",Athletenliste!F179)","v":""},{"$f":"IF(Athletenliste!G179=\"\",\"\",Athletenliste!G179)","v":""},{"$f":"IF(Athletenliste!H179=\"\",\"\",Athletenliste!H179)","v":""},null,{"$f":"IF(B179=\"\",\"\",IF(D179=\"m\",INDIRECT(VLOOKUP(G179,Bezüge!$E$6:$F$16,2,FALSE)&ROW(G179)),INDIRECT(VLOOKUP(G179,Bezüge!$B$6:$C$16,2,FALSE)&ROW(G179))))","v":""},null,null,null,"","","","","","","","","","","","","","","","","","","","","","",null,"","","","","","","","","","","","","","","","","","","","","",""]
[null,{"$f":"IF(Athletenliste!B180=\"\",\"\",Athletenliste!B180)","v":""},{"$f":"IF(Athletenliste!C180=\"\",\"\",Athletenliste!C180)","v":""},{"$f":"IF(Athletenliste!D180=\"\",\"\",Athletenliste!D180)","v":""},{"$f":"IF(Athletenliste!E180=\"\",\"\",Athletenliste!E180)","v":""},{"$f":"IF(Athletenliste!F180=\"\",\"\",Athletenliste!F180)","v":""},{"$f":"IF(Athletenliste!G180=\"\",\"\",Athletenliste!G180)","v":""},{"$f":"IF(Athletenliste!H180=\"\",\"\",Athletenliste!H180)","v":""},null,{"$f":"IF(B180=\"\",\"\",IF(D180=\"m\",INDIRECT(VLOOKUP(G180,Bezüge!$E$6:$F$16,2,FALSE)&ROW(G180)),INDIRECT(VLOOKUP(G180,Bezüge!$B$6:$C$16,2,FALSE)&ROW(G180))))","v":""},null,null,null,"","","","","","","","","","","","","","","","","","","","","","",null,"","","","","","","","","","","","","","","","","","","","","",""]
[null,{"$f":"IF(Athletenliste!B181=\"\",\"\",Athletenliste!B181)","v":""},{"$f":"IF(Athletenliste!C181=\"\",\"\",Athletenliste!C181)","v":""},{"$f":"IF(Athletenliste!D181=\"\",\"\",Athletenliste!D181)","v":""},{"$f":"IF(Athletenliste!E181=\"\",\"\",Athletenliste!E181)","v":""},{"$f":"IF(Athletenliste!F181=\"\",\"\",Athletenliste!F181)","v":""},{"$f":"IF(Athletenliste!G181=\"\",\"\",Athletenliste!G181)","v":""},{"$f":"IF(Athletenliste!H181=\"\",\"\",Athletenliste!H181)","v":""},null,{"$f":"IF(B181=\"\",\"\",IF(D181=\"m\",INDIRECT(VLOOKUP(G181,Bezüge!$E$6:$F$16,2,FALSE)&ROW(G181)),INDIRECT(VLOOKUP(G181,Bezüge!$B$6:$C$16,2,FALSE)&ROW(G181))))","v":""},null,null,null,"","","","","","","","","","","","","","","","","","","","","","",null,"","","","","","","","","","","","","","","","","","","","","",""]
[null,{"$f":"IF(Athletenliste!B182=\"\",\"\",Athletenliste!B182)","v":""},{"$f":"IF(Athletenliste!C182=\"\",\"\",Athletenliste!C182)","v":""},{"$f":"IF(Athletenliste!D182=\"\",\"\",Athletenliste!D182)","v":""},{"$f":"IF(Athletenliste!E182=\"\",\"\",Athletenliste!E182)","v":""},{"$f":"IF(Athletenliste!F182=\"\",\"\",Athletenliste!F182)","v":""},{"$f":"IF(Athletenliste!G182=\"\",\"\",Athletenliste!G182)","v":""},{"$f":"IF(Athletenliste!H182=\"\",\"\",Athletenliste!H182)","v":""},null,{"$f":"IF(B182=\"\",\"\",IF(D182=\"m\",INDIRECT(VLOOKUP(G182,Bezüge!$E$6:$F$16,2,FALSE)&ROW(G182)),INDIRECT(VLOOKUP(G182,Bezüge!$B$6:$C$16,2,FALSE)&ROW(G182))))","v":""},null,null,null,"","","","","","","","","","","","","","","","","","","","","","",null,"","","","","","","","","","","","","","","","","","","","","",""]
[null,{"$f":"IF(Athletenliste!B183=\"\",\"\",Athletenliste!B183)","v":""},{"$f":"IF(Athletenliste!C183=\"\",\"\",Athletenliste!C183)","v":""},{"$f":"IF(Athletenliste!D183=\"\",\"\",Athletenliste!D183)","v":""},{"$f":"IF(Athletenliste!E183=\"\",\"\",Athletenliste!E183)","v":""},{"$f":"IF(Athletenliste!F183=\"\",\"\",Athletenliste!F183)","v":""},{"$f":"IF(Athletenliste!G183=\"\",\"\",Athletenliste!G183)","v":""},{"$f":"IF(Athletenliste!H183=\"\",\"\",Athletenliste!H183)","v":""},null,{"$f":"IF(B183=\"\",\"\",IF(D183=\"m\",INDIRECT(VLOOKUP(G183,Bezüge!$E$6:$F$16,2,FALSE)&ROW(G183)),INDIRECT(VLOOKUP(G183,Bezüge!$B$6:$C$16,2,FALSE)&ROW(G183))))","v":""},null,null,null,"","","","","","","","","","","","","","","","","","","","","","",null,"","","","","","","","","","","","","","","","","","","","","",""]
[null,{"$f":"IF(Athletenliste!B184=\"\",\"\",Athletenliste!B184)","v":""},{"$f":"IF(Athletenliste!C184=\"\",\"\",Athletenliste!C184)","v":""},{"$f":"IF(Athletenliste!D184=\"\",\"\",Athletenliste!D184)","v":""},{"$f":"IF(Athletenliste!E184=\"\",\"\",Athletenliste!E184)","v":""},{"$f":"IF(Athletenliste!F184=\"\",\"\",Athletenliste!F184)","v":""},{"$f":"IF(Athletenliste!G184=\"\",\"\",Athletenliste!G184)","v":""},{"$f":"IF(Athletenliste!H184=\"\",\"\",Athletenliste!H184)","v":""},null,{"$f":"IF(B184=\"\",\"\",IF(D184=\"m\",INDIRECT(VLOOKUP(G184,Bezüge!$E$6:$F$16,2,FALSE)&ROW(G184)),INDIRECT(VLOOKUP(G184,Bezüge!$B$6:$C$16,2,FALSE)&ROW(G184))))","v":""},null,null,null,"","","","","","","","","","","","","","","","","","","","","","",null,"","","","","","","","","","","","","","","","","","","","","",""]
[null,{"$f":"IF(Athletenliste!B185=\"\",\"\",Athletenliste!B185)","v":""},{"$f":"IF(Athletenliste!C185=\"\",\"\",Athletenliste!C185)","v":""},{"$f":"IF(Athletenliste!D185=\"\",\"\",Athletenliste!D185)","v":""},{"$f":"IF(Athletenliste!E185=\"\",\"\",Athletenliste!E185)","v":""},{"$f":"IF(Athletenliste!F185=\"\",\"\",Athletenliste!F185)","v":""},{"$f":"IF(Athletenliste!G185=\"\",\"\",Athletenliste!G185)","v":""},{"$f":"IF(Athletenliste!H185=\"\",\"\",Athletenliste!H185)","v":""},null,{"$f":"IF(B185=\"\",\"\",IF(D185=\"m\",INDIRECT(VLOOKUP(G185,Bezüge!$E$6:$F$16,2,FALSE)&ROW(G185)),INDIRECT(VLOOKUP(G185,Bezüge!$B$6:$C$16,2,FALSE)&ROW(G185))))","v":""},null,null,null,"","","","","","","","","","","","","","","","","","","","","","",null,"","","","","","","","","","","","","","","","","","","","","",""]
[null,{"$f":"IF(Athletenliste!B186=\"\",\"\",Athletenliste!B186)","v":""},{"$f":"IF(Athletenliste!C186=\"\",\"\",Athletenliste!C186)","v":""},{"$f":"IF(Athletenliste!D186=\"\",\"\",Athletenliste!D186)","v":""},{"$f":"IF(Athletenliste!E186=\"\",\"\",Athletenliste!E186)","v":""},{"$f":"IF(Athletenliste!F186=\"\",\"\",Athletenliste!F186)","v":""},{"$f":"IF(Athletenliste!G186=\"\",\"\",Athletenliste!G186)","v":""},{"$f":"IF(Athletenliste!H186=\"\",\"\",Athletenliste!H186)","v":""},null,{"$f":"IF(B186=\"\",\"\",IF(D186=\"m\",INDIRECT(VLOOKUP(G186,Bezüge!$E$6:$F$16,2,FALSE)&ROW(G186)),INDIRECT(VLOOKUP(G186,Bezüge!$B$6:$C$16,2,FALSE)&ROW(G186))))","v":""},null,null,null,"","","","","","","","","","","","","","","","","","","","","","",null,"","","","","","","","","","","","","","","","","","","","","",""]
[null,{"$f":"IF(Athletenliste!B187=\"\",\"\",Athletenliste!B187)","v":""},{"$f":"IF(Athletenliste!C187=\"\",\"\",Athletenliste!C187)","v":""},{"$f":"IF(Athletenliste!D187=\"\",\"\",Athletenliste!D187)","v":""},{"$f":"IF(Athletenliste!E187=\"\",\"\",Athletenliste!E187)","v":""},{"$f":"IF(Athletenliste!F187=\"\",\"\",Athletenliste!F187)","v":""},{"$f":"IF(Athletenliste!G187=\"\",\"\",Athletenliste!G187)","v":""},{"$f":"IF(Athletenliste!H187=\"\",\"\",Athletenliste!H187)","v":""},null,{"$f":"IF(B187=\"\",\"\",IF(D187=\"m\",INDIRECT(VLOOKUP(G187,Bezüge!$E$6:$F$16,2,FALSE)&ROW(G187)),INDIRECT(VLOOKUP(G187,Bezüge!$B$6:$C$16,2,FALSE)&ROW(G187))))","v":""},null,null,null,"","","","","","","","","","","","","","","","","","","","","","",null,"","","","","","","","","","","","","","","","","","","","","",""]
[null,{"$f":"IF(Athletenliste!B188=\"\",\"\",Athletenliste!B188)","v":""},{"$f":"IF(Athletenliste!C188=\"\",\"\",Athletenliste!C188)","v":""},{"$f":"IF(Athletenliste!D188=\"\",\"\",Athletenliste!D188)","v":""},{"$f":"IF(Athletenliste!E188=\"\",\"\",Athletenliste!E188)","v":""},{"$f":"IF(Athletenliste!F188=\"\",\"\",Athletenliste!F188)","v":""},{"$f":"IF(Athletenliste!G188=\"\",\"\",Athletenliste!G188)","v":""},{"$f":"IF(Athletenliste!H188=\"\",\"\",Athletenliste!H188)","v":""},null,{"$f":"IF(B188=\"\",\"\",IF(D188=\"m\",INDIRECT(VLOOKUP(G188,Bezüge!$E$6:$F$16,2,FALSE)&ROW(G188)),INDIRECT(VLOOKUP(G188,Bezüge!$B$6:$C$16,2,FALSE)&ROW(G188))))","v":""},null,null,null,"","","","","","","","","","","","","","","","","","","","","","",null,"","","","","","","","","","","","","","","","","","","","","",""]
[null,{"$f":"IF(Athletenliste!B189=\"\",\"\",Athletenliste!B189)","v":""},{"$f":"IF(Athletenliste!C189=\"\",\"\",Athletenliste!C189)","v":""},{"$f":"IF(Athletenliste!D189=\"\",\"\",Athletenliste!D189)","v":""},{"$f":"IF(Athletenliste!E189=\"\",\"\",Athletenliste!E189)","v":""},{"$f":"IF(Athletenliste!F189=\"\",\"\",Athletenliste!F189)","v":""},{"$f":"IF(Athletenliste!G189=\"\",\"\",Athletenliste!G189)","v":""},{"$f":"IF(Athletenliste!H189=\"\",\"\",Athletenliste!H189)","v":""},null,{"$f":"IF(B189=\"\",\"\",IF(D189=\"m\",INDIRECT(VLOOKUP(G189,Bezüge!$E$6:$F$16,2,FALSE)&ROW(G189)),INDIRECT(VLOOKUP(G189,Bezüge!$B$6:$C$16,2,FALSE)&ROW(G189))))","v":""},null,null,null,"","","","","","","","","","","","","","","","","","","","","","",null,"","","","","","","","","","","","","","","","","","","","","",""]
[null,{"$f":"IF(Athletenliste!B190=\"\",\"\",Athletenliste!B190)","v":""},{"$f":"IF(Athletenliste!C190=\"\",\"\",Athletenliste!C190)","v":""},{"$f":"IF(Athletenliste!D190=\"\",\"\",Athletenliste!D190)","v":""},{"$f":"IF(Athletenliste!E190=\"\",\"\",Athletenliste!E190)","v":""},{"$f":"IF(Athletenliste!F190=\"\",\"\",Athletenliste!F190)","v":""},{"$f":"IF(Athletenliste!G190=\"\",\"\",Athletenliste!G190)","v":""},{"$f":"IF(Athletenliste!H190=\"\",\"\",Athletenliste!H190)","v":""},null,{"$f":"IF(B190=\"\",\"\",IF(D190=\"m\",INDIRECT(VLOOKUP(G190,Bezüge!$E$6:$F$16,2,FALSE)&ROW(G190)),INDIRECT(VLOOKUP(G190,Bezüge!$B$6:$C$16,2,FALSE)&ROW(G190))))","v":""},null,null,null,"","","","","","","","","","","","","","","","","","","","","","",null,"","","","","","","","","","","","","","","","","","","","","",""]
[null,{"$f":"IF(Athletenliste!B191=\"\",\"\",Athletenliste!B191)","v":""},{"$f":"IF(Athletenliste!C191=\"\",\"\",Athletenliste!C191)","v":""},{"$f":"IF(Athletenliste!D191=\"\",\"\",Athletenliste!D191)","v":""},{"$f":"IF(Athletenliste!E191=\"\",\"\",Athletenliste!E191)","v":""},{"$f":"IF(Athletenliste!F191=\"\",\"\",Athletenliste!F191)","v":""},{"$f":"IF(Athletenliste!G191=\"\",\"\",Athletenliste!G191)","v":""},{"$f":"IF(Athletenliste!H191=\"\",\"\",Athletenliste!H191)","v":""},null,{"$f":"IF(B191=\"\",\"\",IF(D191=\"m\",INDIRECT(VLOOKUP(G191,Bezüge!$E$6:$F$16,2,FALSE)&ROW(G191)),INDIRECT(VLOOKUP(G191,Bezüge!$B$6:$C$16,2,FALSE)&ROW(G191))))","v":""},null,null,null,"","","","","","","","","","","","","","","","","","","","","","",null,"","","","","","","","","","","","","","","","","","","","","",""]
[null,{"$f":"IF(Athletenliste!B192=\"\",\"\",Athletenliste!B192)","v":""},{"$f":"IF(Athletenliste!C192=\"\",\"\",Athletenliste!C192)","v":""},{"$f":"IF(Athletenliste!D192=\"\",\"\",Athletenliste!D192)","v":""},{"$f":"IF(Athletenliste!E192=\"\",\"\",Athletenliste!E192)","v":""},{"$f":"IF(Athletenliste!F192=\"\",\"\",Athletenliste!F192)","v":""},{"$f":"IF(Athletenliste!G192=\"\",\"\",Athletenliste!G192)","v":""},{"$f":"IF(Athletenliste!H192=\"\",\"\",Athletenliste!H192)","v":""},null,{"$f":"IF(B192=\"\",\"\",IF(D192=\"m\",INDIRECT(VLOOKUP(G192,Bezüge!$E$6:$F$16,2,FALSE)&ROW(G192)),INDIRECT(VLOOKUP(G192,Bezüge!$B$6:$C$16,2,FALSE)&ROW(G192))))","v":""},null,null,null,"","","","","","","","","","","","","","","","","","","","","","",null,"","","","","","","","","","","","","","","","","","","","","",""]
[null,{"$f":"IF(Athletenliste!B193=\"\",\"\",Athletenliste!B193)","v":""},{"$f":"IF(Athletenliste!C193=\"\",\"\",Athletenliste!C193)","v":""},{"$f":"IF(Athletenliste!D193=\"\",\"\",Athletenliste!D193)","v":""},{"$f":"IF(Athletenliste!E193=\"\",\"\",Athletenliste!E193)","v":""},{"$f":"IF(Athletenliste!F193=\"\",\"\",Athletenliste!F193)","v":""},{"$f":"IF(Athletenliste!G193=\"\",\"\",Athletenliste!G193)","v":""},{"$f":"IF(Athletenliste!H193=\"\",\"\",Athletenliste!H193)","v":""},null,{"$f":"IF(B193=\"\",\"\",IF(D193=\"m\",INDIRECT(VLOOKUP(G193,Bezüge!$E$6:$F$16,2,FALSE)&ROW(G193)),INDIRECT(VLOOKUP(G193,Bezüge!$B$6:$C$16,2,FALSE)&ROW(G193))))","v":""},null,null,null,"","","","","","","","","","","","","","","","","","","","","","",null,"","","","","","","","","","","","","","","","","","","","","",""]
[null,{"$f":"IF(Athletenliste!B194=\"\",\"\",Athletenliste!B194)","v":""},{"$f":"IF(Athletenliste!C194=\"\",\"\",Athletenliste!C194)","v":""},{"$f":"IF(Athletenliste!D194=\"\",\"\",Athletenliste!D194)","v":""},{"$f":"IF(Athletenliste!E194=\"\",\"\",Athletenliste!E194)","v":""},{"$f":"IF(Athletenliste!F194=\"\",\"\",Athletenliste!F194)","v":""},{"$f":"IF(Athletenliste!G194=\"\",\"\",Athletenliste!G194)","v":""},{"$f":"IF(Athletenliste!H194=\"\",\"\",Athletenliste!H194)","v":""},null,{"$f":"IF(B194=\"\",\"\",IF(D194=\"m\",INDIRECT(VLOOKUP(G194,Bezüge!$E$6:$F$16,2,FALSE)&ROW(G194)),INDIRECT(VLOOKUP(G194,Bezüge!$B$6:$C$16,2,FALSE)&ROW(G194))))","v":""},null,null,null,"","","","","","","","","","","","","","","","","","","","","","",null,"","","","","","","","","","","","","","","","","","","","","",""]
[null,{"$f":"IF(Athletenliste!B195=\"\",\"\",Athletenliste!B195)","v":""},{"$f":"IF(Athletenliste!C195=\"\",\"\",Athletenliste!C195)","v":""},{"$f":"IF(Athletenliste!D195=\"\",\"\",Athletenliste!D195)","v":""},{"$f":"IF(Athletenliste!E195=\"\",\"\",Athletenliste!E195)","v":""},{"$f":"IF(Athletenliste!F195=\"\",\"\",Athletenliste!F195)","v":""},{"$f":"IF(Athletenliste!G195=\"\",\"\",Athletenliste!G195)","v":""},{"$f":"IF(Athletenliste!H195=\"\",\"\",Athletenliste!H195)","v":""},null,{"$f":"IF(B195=\"\",\"\",IF(D195=\"m\",INDIRECT(VLOOKUP(G195,Bezüge!$E$6:$F$16,2,FALSE)&ROW(G195)),INDIRECT(VLOOKUP(G195,Bezüge!$B$6:$C$16,2,FALSE)&ROW(G195))))","v":""},null,null,null,"","","","","","","","","","","","","","","","","","","","","","",null,"","","","","","","","","","","","","","","","","","","","","",""]
[null,{"$f":"IF(Athletenliste!B196=\"\",\"\",Athletenliste!B196)","v":""},{"$f":"IF(Athletenliste!C196=\"\",\"\",Athletenliste!C196)","v":""},{"$f":"IF(Athletenliste!D196=\"\",\"\",Athletenliste!D196)","v":""},{"$f":"IF(Athletenliste!E196=\"\",\"\",Athletenliste!E196)","v":""},{"$f":"IF(Athletenliste!F196=\"\",\"\",Athletenliste!F196)","v":""},{"$f":"IF(Athletenliste!G196=\"\",\"\",Athletenliste!G196)","v":""},{"$f":"IF(Athletenliste!H196=\"\",\"\",Athletenliste!H196)","v":""},null,{"$f":"IF(B196=\"\",\"\",IF(D196=\"m\",INDIRECT(VLOOKUP(G196,Bezüge!$E$6:$F$16,2,FALSE)&ROW(G196)),INDIRECT(VLOOKUP(G196,Bezüge!$B$6:$C$16,2,FALSE)&ROW(G196))))","v":""},null,null,null,"","","","","","","","","","","","","","","","","","","","","","",null,"","","","","","","","","","","","","","","","","","","","","",""]
[null,{"$f":"IF(Athletenliste!B197=\"\",\"\",Athletenliste!B197)","v":""},{"$f":"IF(Athletenliste!C197=\"\",\"\",Athletenliste!C197)","v":""},{"$f":"IF(Athletenliste!D197=\"\",\"\",Athletenliste!D197)","v":""},{"$f":"IF(Athletenliste!E197=\"\",\"\",Athletenliste!E197)","v":""},{"$f":"IF(Athletenliste!F197=\"\",\"\",Athletenliste!F197)","v":""},{"$f":"IF(Athletenliste!G197=\"\",\"\",Athletenliste!G197)","v":""},{"$f":"IF(Athletenliste!H197=\"\",\"\",Athletenliste!H197)","v":""},null,{"$f":"IF(B197=\"\",\"\",IF(D197=\"m\",INDIRECT(VLOOKUP(G197,Bezüge!$E$6:$F$16,2,FALSE)&ROW(G197)),INDIRECT(VLOOKUP(G197,Bezüge!$B$6:$C$16,2,FALSE)&ROW(G197))))","v":""},null,null,null,"","","","","","","","","","","","","","","","","","","","","","",null,"","","","","","","","","","","","","","","","","","","","","",""]
[null,{"$f":"IF(Athletenliste!B198=\"\",\"\",Athletenliste!B198)","v":""},{"$f":"IF(Athletenliste!C198=\"\",\"\",Athletenliste!C198)","v":""},{"$f":"IF(Athletenliste!D198=\"\",\"\",Athletenliste!D198)","v":""},{"$f":"IF(Athletenliste!E198=\"\",\"\",Athletenliste!E198)","v":""},{"$f":"IF(Athletenliste!F198=\"\",\"\",Athletenliste!F198)","v":""},{"$f":"IF(Athletenliste!G198=\"\",\"\",Athletenliste!G198)","v":""},{"$f":"IF(Athletenliste!H198=\"\",\"\",Athletenliste!H198)","v":""},null,{"$f":"IF(B198=\"\",\"\",IF(D198=\"m\",INDIRECT(VLOOKUP(G198,Bezüge!$E$6:$F$16,2,FALSE)&ROW(G198)),INDIRECT(VLOOKUP(G198,Bezüge!$B$6:$C$16,2,FALSE)&ROW(G198))))","v":""},null,null,null,"","","","","","","","","","","","","","","","","","","","","","",null,"","","","","","","","","","","","","","","","","","","","","",""]
[null,{"$f":"IF(Athletenliste!B199=\"\",\"\",Athletenliste!B199)","v":""},{"$f":"IF(Athletenliste!C199=\"\",\"\",Athletenliste!C199)","v":""},{"$f":"IF(Athletenliste!D199=\"\",\"\",Athletenliste!D199)","v":""},{"$f":"IF(Athletenliste!E199=\"\",\"\",Athletenliste!E199)","v":""},{"$f":"IF(Athletenliste!F199=\"\",\"\",Athletenliste!F199)","v":""},{"$f":"IF(Athletenliste!G199=\"\",\"\",Athletenliste!G199)","v":""},{"$f":"IF(Athletenliste!H199=\"\",\"\",Athletenliste!H199)","v":""},null,{"$f":"IF(B199=\"\",\"\",IF(D199=\"m\",INDIRECT(VLOOKUP(G199,Bezüge!$E$6:$F$16,2,FALSE)&ROW(G199)),INDIRECT(VLOOKUP(G199,Bezüge!$B$6:$C$16,2,FALSE)&ROW(G199))))","v":""},null,null,null,"","","","","","","","","","","","","","","","","","","","","","",null,"","","","","","","","","","","","","","","","","","","","","",""]
[null,{"$f":"IF(Athletenliste!B200=\"\",\"\",Athletenliste!B200)","v":""},{"$f":"IF(Athletenliste!C200=\"\",\"\",Athletenliste!C200)","v":""},{"$f":"IF(Athletenliste!D200=\"\",\"\",Athletenliste!D200)","v":""},{"$f":"IF(Athletenliste!E200=\"\",\"\",Athletenliste!E200)","v":""},{"$f":"IF(Athletenliste!F200=\"\",\"\",Athletenliste!F200)","v":""},{"$f":"IF(Athletenliste!G200=\"\",\"\",Athletenliste!G200)","v":""},{"$f":"IF(Athletenliste!H200=\"\",\"\",Athletenliste!H200)","v":""},null,{"$f":"IF(B200=\"\",\"\",IF(D200=\"m\",INDIRECT(VLOOKUP(G200,Bezüge!$E$6:$F$16,2,FALSE)&ROW(G200)),INDIRECT(VLOOKUP(G200,Bezüge!$B$6:$C$16,2,FALSE)&ROW(G200))))","v":""},null,null,null,"","","","","","","","","","","","","","","","","","","","","","",null,"","","","","","","","","","","","","","","","","","","","","",""]
[null,{"$f":"IF(Athletenliste!B201=\"\",\"\",Athletenliste!B201)","v":""},{"$f":"IF(Athletenliste!C201=\"\",\"\",Athletenliste!C201)","v":""},{"$f":"IF(Athletenliste!D201=\"\",\"\",Athletenliste!D201)","v":""},{"$f":"IF(Athletenliste!E201=\"\",\"\",Athletenliste!E201)","v":""},{"$f":"IF(Athletenliste!F201=\"\",\"\",Athletenliste!F201)","v":""},{"$f":"IF(Athletenliste!G201=\"\",\"\",Athletenliste!G201)","v":""},{"$f":"IF(Athletenliste!H201=\"\",\"\",Athletenliste!H201)","v":""},null,null,null,null,null,"","","","","","","","","","","","","","","","","","","","","","",null,"","","","","","","","","","","","","","","","","","","","","",""]
[null,{"$f":"IF(Athletenliste!B202=\"\",\"\",Athletenliste!B202)","v":""},{"$f":"IF(Athletenliste!C202=\"\",\"\",Athletenliste!C202)","v":""},{"$f":"IF(Athletenliste!D202=\"\",\"\",Athletenliste!D202)","v":""},{"$f":"IF(Athletenliste!E202=\"\",\"\",Athletenliste!E202)","v":""},{"$f":"IF(Athletenliste!F202=\"\",\"\",Athletenliste!F202)","v":""},{"$f":"IF(Athletenliste!G202=\"\",\"\",Athletenliste!G202)","v":""},{"$f":"IF(Athletenliste!H202=\"\",\"\",Athletenliste!H202)","v":""},null,null,null,null,null,{"$f":"IF(AND(D202=\"m\",G202=\"U06\",I202<>\"\"),I202,\"\")","v":""},"","","","","","","","","","","","","","","","","","","","","",null,"","","","","","","","","","","","","","","","","","","","","",""]

{"sheet":"30m Sprint","index":4,"n_rows":202,"n_cols":58,"rows_kept":202,"cut":false,"hidden":false,"merged":[[3,2,3,3],[6,13,6,34],[6,36,6,57]]}
[]
[null,"SKILANGLAUF - DEUTSCHLAND - ATHLETIK - CHALLENGE"]
[]
[null,"Ort:",{"$f":"Athletenliste!C4","v":"Leipzig"},null,"Datum:",{"$f":"Athletenliste!F4","v":"2012-05-18"}]
[]
[null,"30m Sprint"]
[null,"Name","Vorname","Geschlecht","Jahrgang","Testdatum","AK","LV","30 m Sprint","Rang in AK",null,null,null,"männlich",null,null,null,null,null,null,null,null,null,null,null,null,null,null,null,null,null,null,null,null,null,null,"Weiblich"]
[null,null,null,null,null,null,null,null,"[0,00 s]",null,null,null,null,"U06  ","Ra","U07 ","Ra","U08 ","Ra","U09 ","Ra","U10 ","Ra","U11 ","Ra","U12 ","Ra","U13 ","Ra","U14 ","Ra","U15 ","Ra","U16 ","Ra",null,"U06  ","Ra","U07 ","Ra","U08 ","Ra","U09 ","Ra","U10 ","Ra","U11 ","Ra","U12 ","Ra","U13 ","Ra","U14 ","Ra","U15 ","Ra","U16 ","Ra"]
[]
[null,{"$f":"IF(Athletenliste!B10=\"\",\"\",Athletenliste!B10)","v":""},{"$f":"IF(Athletenliste!C10=\"\",\"\",Athletenliste!C10)","v":""},{"$f":"IF(Athletenliste!D10=\"\",\"\",Athletenliste!D10)","v":""},{"$f":"IF(Athletenliste!E10=\"\",\"\",Athletenliste!E10)","v":""},{"$f":"IF(Athletenliste!F10=\"\",\"\",Athletenliste!F10)","v":""},{"$f":"IF(Athletenliste!G10=\"\",\"\",Athletenliste!G10)","v":""},{"$f":"IF(Athletenliste!H10=\"\",\"\",Athletenliste!H10)","v":""},null,{"$f":"IF(B10=\"\",\"\",IF(D10=\"m\",INDIRECT(VLOOKUP(G10,Bezüge!$E$6:$F$16,2,FALSE)&ROW(G10)),INDIRECT(VLOOKUP(G10,Bezüge!$B$6:$C$16,2,FALSE)&ROW(G10))))","v":""},null,null,null,{"$f":"IF(AND(D10=\"m\",G10=\"U06\",I10<>\"\"),I10,\"\")","v":""},{"$f":"IF(OR(I10=\"\",N10=\"\"),\"\",_xlfn.RANK.EQ(N10,N$10:N$200,1))","v":""},{"$f":"IF(AND(D10=\"m\",G10=\"U07\",I10<>\"\"),I10,\"\")","v":""},{"$f":"IF(OR(I10=\"\",P10=\"\"),\"\",_xlfn.RANK.EQ(P10,P$10:P$200,1))","v":""},{"$f":"IF(AND(D10=\"m\",G10=\"U08\",I10<>\"\"),I10,\"\")","v":""},{"$f":"IF(OR(I10=\"\",R10=\"\"),\"\",_xlfn.RANK.EQ(R10,R$10:R$200,1))","v":""},{"$f":"IF(AND(D10=\"m\",G10=\"U09\",I10<>\"\"),I10,\"\")","v":""},{"$f":"IF(OR(I10=\"\",T10=\"\"),\"\",_xlfn.RANK.EQ(T10,T$10:T$200,1))","v":""},{"$f":"IF(AND(D10=\"m\",G10=\"U10\",I10<>\"\"),I10,\"\")","v":""},{"$f":"IF(OR(I10=\"\",V10=\"\"),\"\",_xlfn.RANK.EQ(V10,V$10:V$200,1))","v":""},{"$f":"IF(AND(D10=\"m\",G10=\"U11\",I10<>\"\"),I10,\"\")","v":""},{"$f":"IF(OR(I10=\"\",X10=\"\"),\"\",_xlfn.RANK.EQ(X10,X$10:X$200,1))","v":""},{"$f":"IF(AND(D10=\"m\",G10=\"U12\",I10<>\"\"),I10,\"\")","v":""},{"$f":"IF(OR(I10=\"\",Z10=\"\"),\"\",_xlfn.RANK.EQ(Z10,Z$10:Z$200,1))","v":""},{"$f":"IF(AND(D10=\"m\",G10=\"U13\",I10<>\"\"),I10,\"\")","v":""},{"$f":"IF(OR(I10=\"\",AB10=\"\"),\"\",_xlfn.RANK.EQ(AB10,AB$10:AB$200,1))","v":""},{"$f":"IF(AND(D10=\"m\",G10=\"U14\",I10<>\"\"),I10,\"\")","v":""},{"$f":"IF(OR(I10=\"\",AD10=\"\"),\"\",_xlfn.RANK.EQ(AD10,AD$10:AD$200,1))","v":""},{"$f":"IF(AND(D10=\"m\",G10=\"U15\",I10<>\"\"),I10,\"\")","v":""},{"$f":"IF(OR(I10=\"\",AF10=\"\"),\"\",_xlfn.RANK.EQ(AF10,AF$10:AF$200,1))","v":""},{"$f":"IF(AND(D10=\"m\",G10=\"U16\",I10<>\"\"),I10,\"\")","v":""},{"$f":"IF(OR(I10=\"\",AH10=\"\"),\"\",_xlfn.RANK.EQ(AH10,AH$10:AH$200,1))","v":""},null,{"$f":"IF(AND(D10=\"w\",G10=\"U06\",I10<>\"\"),I10,\"\")","v":""},{"$f":"IF(OR(I10=\"\",AI10=\"\"),\"\",_xlfn.RANK.EQ(AI10,AI$10:AI$200,1))","v":""},{"$f":"IF(AND(D10=\"w\",G10=\"U07\",I10<>\"\"),I10,\"\")","v":""},{"$f":"IF(OR(I10=\"\",AM10=\"\"),\"\",_xlfn.RANK.EQ(AM10,AM$10:AM$20,1))","v":""},{"$f":"IF(AND(D10=\"w\",G10=\"U08\",I10<>\"\"),I10,\"\")","v":""},{"$f":"IF(OR(I10=\"\",AO10=\"\"),\"\",_xlfn.RANK.EQ(AO10,AO$10:AO$200,0))","v":""},{"$f":"IF(AND(D10=\"w\",G10=\"U09\",I10<>\"\"),I10,\"\")","v":""},{"$f":"IF(OR(I10=\"\",AQ10=\"\"),\"\",_xlfn.RANK.EQ(AQ10,AQ$10:AQ$200,1))","v":""},{"$f":"IF(AND(D10=\"w\",G10=\"U10\",I10<>\"\"),I10,\"\")","v":""},{"$f":"IF(OR(I10=\"\",AS10=\"\"),\"\",_xlfn.RANK.EQ(AS10,AS$10:AS$200,1))","v":""},{"$f":"IF(AND(D10=\"w\",G10=\"U11\",I10<>\"\"),I10,\"\")","v":""},{"$f":"IF(OR(I10=\"\",AU10=\"\"),\"\",_xlfn.RANK.EQ(AU10,AU$10:AU$200,1))","v":""},{"$f":"IF(AND(D10=\"w\",G10=\"U12\",I10<>\"\"),I10,\"\")","v":""},{"$f":"IF(OR(I10=\"\",AW10=\"\"),\"\",_xlfn.RANK.EQ(AW10,AW$10:AW$200,1))","v":""},{"$f":"IF(AND(D10=\"w\",G10=\"U13\",I10<>\"\"),I10,\"\")","v":""},{"$f":"IF(OR(I10=\"\",AY10=\"\"),\"\",_xlfn.RANK.EQ(AY10,AY$10:AY$200,1))","v":""},{"$f":"IF(AND(D10=\"w\",G10=\"U14\",I10<>\"\"),I10,\"\")","v":""},{"$f":"IF(OR(I10=\"\",BA10=\"\"),\"\",_xlfn.RANK.EQ(BA10,BA$10:BA$200,1))","v":""},{"$f":"IF(AND(D10=\"w\",G10=\"U15\",I10<>\"\"),I10,\"\")","v":""},{"$f":"IF(OR(I10=\"\",BC10=\"\"),\"\",_xlfn.RANK.EQ(BC10,BC$10:BC$200,1))","v":""},{"$f":"IF(AND(D10=\"w\",G10=\"U16\",I10<>\"\"),I10,\"\")","v":""},{"$f":"IF(OR(I10=\"\",BE10=\"\"),\"\",_xlfn.RANK.EQ(BE10,BE$10:BE$200,1))","v":""}]
[null,{"$f":"IF(Athletenliste!B11=\"\",\"\",Athletenliste!B11)","v":""},{"$f":"IF(Athletenliste!C11=\"\",\"\",Athletenliste!C11)","v":""},{"$f":"IF(Athletenliste!D11=\"\",\"\",Athletenliste!D11)","v":""},{"$f":"IF(Athletenliste!E11=\"\",\"\",Athletenliste!E11)","v":""},{"$f":"IF(Athletenliste!F11=\"\",\"\",Athletenliste!F11)","v":""},{"$f":"IF(Athletenliste!G11=\"\",\"\",Athletenliste!G11)","v":""},{"$f":"IF(Athletenliste!H11=\"\",\"\",Athletenliste!H11)","v":""},null,{"$f":"IF(B11=\"\",\"\",IF(D11=\"m\",INDIRECT(VLOOKUP(G11,Bezüge!$E$6:$F$16,2,FALSE)&ROW(G11)),INDIRECT(VLOOKUP(G11,Bezüge!$B$6:$C$16,2,FALSE)&ROW(G11))))","v":""},null,null,null,{"$f":"IF(AND(D11=\"m\",G11=\"U06\",I11<>\"\"),I11,\"\")","v":""},{"$f":"IF(OR(I11=\"\",N11=\"\"),\"\",_xlfn.RANK.EQ(N11,N$10:N$200,1))","v":""},{"$f":"IF(AND(D11=\"m\",G11=\"U07\",I11<>\"\"),I11,\"\")","v":""},{"$f":"IF(OR(I11=\"\",P11=\"\"),\"\",_xlfn.RANK.EQ(P11,P$10:P$200,1))","v":""},{"$f":"IF(AND(D11=\"m\",G11=\"U08\",I11<>\"\"),I11,\"\")","v":""},{"$f":"IF(OR(I11=\"\",R11=\"\"),\"\",_xlfn.RANK.EQ(R11,R$10:R$200,1))","v":""},{"$f":"IF(AND(D11=\"m\",G11=\"U09\",I11<>\"\"),I11,\"\")","v":""},{"$f":"IF(OR(I11=\"\",T11=\"\"),\"\",_xlfn.RANK.EQ(T11,T$10:T$200,1))","v":""},{"$f":"IF(AND(D11=\"m\",G11=\"U10\",I11<>\"\"),I11,\"\")","v":""},{"$f":"IF(OR(I11=\"\",V11=\"\"),\"\",_xlfn.RANK.EQ(V11,V$10:V$200,1))","v":""},{"$f":"IF(AND(D11=\"m\",G11=\"U11\",I11<>\"\"),I11,\"\")","v":""},{"$f":"IF(OR(I11=\"\",X11=\"\"),\"\",_xlfn.RANK.EQ(X11,X$10:X$200,1))","v":""},{"$f":"IF(AND(D11=\"m\",G11=\"U12\",I11<>\"\"),I11,\"\")","v":""},{"$f":"IF(OR(I11=\"\",Z11=\"\"),\"\",_xlfn.RANK.EQ(Z11,Z$10:Z$200,1))","v":""},{"$f":"IF(AND(D11=\"m\",G11=\"U13\",I11<>\"\"),I11,\"\")","v":""},{"$f":"IF(OR(I11=\"\",AB11=\"\"),\"\",_xlfn.RANK.EQ(AB11,AB$10:AB$200,1))","v":""},{"$f":"IF(AND(D11=\"m\",G11=\"U14\",I11<>\"\"),I11,\"\")","v":""},{"$f":"IF(OR(I11=\"\",AD11=\"\"),\"\",_xlfn.RANK.EQ(AD11,AD$10:AD$200,1))","v":""},{"$f":"IF(AND(D11=\"m\",G11=\"U15\",I11<>\"\"),I11,\"\")","v":""},{"$f":"IF(OR(I11=\"\",AF11=\"\"),\"\",_xlfn.RANK.EQ(AF11,AF$10:AF$200,1))","v":""},{"$f":"IF(AND(D11=\"m\",G11=\"U16\",I11<>\"\"),I11,\"\")","v":""},{"$f":"IF(OR(I11=\"\",AH11=\"\"),\"\",_xlfn.RANK.EQ(AH11,AH$10:AH$200,1))","v":""},null,{"$f":"IF(AND(D11=\"w\",G11=\"U06\",I11<>\"\"),I11,\"\")","v":""},{"$f":"IF(OR(I11=\"\",AI11=\"\"),\"\",_xlfn.RANK.EQ(AI11,AI$10:AI$200,1))","v":""},{"$f":"IF(AND(D11=\"w\",G11=\"U07\",I11<>\"\"),I11,\"\")","v":""},{"$f":"IF(OR(I11=\"\",AM11=\"\"),\"\",_xlfn.RANK.EQ(AM11,AM$10:AM$20,1))","v":""},{"$f":"IF(AND(D11=\"w\",G11=\"U08\",I11<>\"\"),I11,\"\")","v":""},{"$f":"IF(OR(I11=\"\",AO11=\"\"),\"\",_xlfn.RANK.EQ(AO11,AO$10:AO$200,0))","v":""},{"$f":"IF(AND(D11=\"w\",G11=\"U09\",I11<>\"\"),I11,\"\")","v":""},{"$f":"IF(OR(I11=\"\",AQ11=\"\"),\"\",_xlfn.RANK.EQ(AQ11,AQ$10:AQ$200,1))","v":""},{"$f":"IF(AND(D11=\"w\",G11=\"U10\",I11<>\"\"),I11,\"\")","v":""},{"$f":"IF(OR(I11=\"\",AS11=\"\"),\"\",_xlfn.RANK.EQ(AS11,AS$10:AS$200,1))","v":""},{"$f":"IF(AND(D11=\"w\",G11=\"U11\",I11<>\"\"),I11,\"\")","v":""},{"$f":"IF(OR(I11=\"\",AU11=\"\"),\"\",_xlfn.RANK.EQ(AU11,AU$10:AU$200,1))","v":""},{"$f":"IF(AND(D11=\"w\",G11=\"U12\",I11<>\"\"),I11,\"\")","v":""},{"$f":"IF(OR(I11=\"\",AW11=\"\"),\"\",_xlfn.RANK.EQ(AW11,AW$10:AW$200,1))","v":""},{"$f":"IF(AND(D11=\"w\",G11=\"U13\",I11<>\"\"),I11,\"\")","v":""},{"$f":"IF(OR(I11=\"\",AY11=\"\"),\"\",_xlfn.RANK.EQ(AY11,AY$10:AY$200,1))","v":""},{"$f":"IF(AND(D11=\"w\",G11=\"U14\",I11<>\"\"),I11,\"\")","v":""},{"$f":"IF(OR(I11=\"\",BA11=\"\"),\"\",_xlfn.RANK.EQ(BA11,BA$10:BA$200,1))","v":""},{"$f":"IF(AND(D11=\"w\",G11=\"U15\",I11<>\"\"),I11,\"\")","v":""},{"$f":"IF(OR(I11=\"\",BC11=\"\"),\"\",_xlfn.RANK.EQ(BC11,BC$10:BC$200,1))","v":""},{"$f":"IF(AND(D11=\"w\",G11=\"U16\",I11<>\"\"),I11,\"\")","v":""},{"$f":"IF(OR(I11=\"\",BE11=\"\"),\"\",_xlfn.RANK.EQ(BE11,BE$10:BE$200,1))","v":""}]
[null,{"$f":"IF(Athletenliste!B12=\"\",\"\",Athletenliste!B12)","v":""},{"$f":"IF(Athletenliste!C12=\"\",\"\",Athletenliste!C12)","v":""},{"$f":"IF(Athletenliste!D12=\"\",\"\",Athletenliste!D12)","v":""},{"$f":"IF(Athletenliste!E12=\"\",\"\",Athletenliste!E12)","v":""},{"$f":"IF(Athletenliste!F12=\"\",\"\",Athletenliste!F12)","v":""},{"$f":"IF(Athletenliste!G12=\"\",\"\",Athletenliste!G12)","v":""},{"$f":"IF(Athletenliste!H12=\"\",\"\",Athletenliste!H12)","v":""},null,{"$f":"IF(B12=\"\",\"\",IF(D12=\"m\",INDIRECT(VLOOKUP(G12,Bezüge!$E$6:$F$16,2,FALSE)&ROW(G12)),INDIRECT(VLOOKUP(G12,Bezüge!$B$6:$C$16,2,FALSE)&ROW(G12))))","v":""},null,null,null,"","","","","","","","","","","","","","","","","","","","","","",null,"","","","","","","","","","","","","","","","","","","","","",""]
[null,{"$f":"IF(Athletenliste!B13=\"\",\"\",Athletenliste!B13)","v":""},{"$f":"IF(Athletenliste!C13=\"\",\"\",Athletenliste!C13)","v":""},{"$f":"IF(Athletenliste!D13=\"\",\"\",Athletenliste!D13)","v":""},{"$f":"IF(Athletenliste!E13=\"\",\"\",Athletenliste!E13)","v":""},{"$f":"IF(Athletenliste!F13=\"\",\"\",Athletenliste!F13)","v":""},{"$f":"IF(Athletenliste!G13=\"\",\"\",Athletenliste!G13)","v":""},{"$f":"IF(Athletenliste!H13=\"\",\"\",Athletenliste!H13)","v":""},null,{"$f":"IF(B13=\"\",\"\",IF(D13=\"m\",INDIRECT(VLOOKUP(G13,Bezüge!$E$6:$F$16,2,FALSE)&ROW(G13)),INDIRECT(VLOOKUP(G13,Bezüge!$B$6:$C$16,2,FALSE)&ROW(G13))))","v":""},null,null,null,"","","","","","","","","","","","","","","","","","","","","","",null,"","","","","","","","","","","","","","","","","","","","","",""]
[null,{"$f":"IF(Athletenliste!B14=\"\",\"\",Athletenliste!B14)","v":""},{"$f":"IF(Athletenliste!C14=\"\",\"\",Athletenliste!C14)","v":""},{"$f":"IF(Athletenliste!D14=\"\",\"\",Athletenliste!D14)","v":""},{"$f":"IF(Athletenliste!E14=\"\",\"\",Athletenliste!E14)","v":""},{"$f":"IF(Athletenliste!F14=\"\",\"\",Athletenliste!F14)","v":""},{"$f":"IF(Athletenliste!G14=\"\",\"\",Athletenliste!G14)","v":""},{"$f":"IF(Athletenliste!H14=\"\",\"\",Athletenliste!H14)","v":""},null,{"$f":"IF(B14=\"\",\"\",IF(D14=\"m\",INDIRECT(VLOOKUP(G14,Bezüge!$E$6:$F$16,2,FALSE)&ROW(G14)),INDIRECT(VLOOKUP(G14,Bezüge!$B$6:$C$16,2,FALSE)&ROW(G14))))","v":""},null,null,null,"","","","","","","","","","","","","","","","","","","","","","",null,"","","","","","","","","","","","","","","","","","","","","",""]
[null,{"$f":"IF(Athletenliste!B15=\"\",\"\",Athletenliste!B15)","v":""},{"$f":"IF(Athletenliste!C15=\"\",\"\",Athletenliste!C15)","v":""},{"$f":"IF(Athletenliste!D15=\"\",\"\",Athletenliste!D15)","v":""},{"$f":"IF(Athletenliste!E15=\"\",\"\",Athletenliste!E15)","v":""},{"$f":"IF(Athletenliste!F15=\"\",\"\",Athletenliste!F15)","v":""},{"$f":"IF(Athletenliste!G15=\"\",\"\",Athletenliste!G15)","v":""},{"$f":"IF(Athletenliste!H15=\"\",\"\",Athletenliste!H15)","v":""},null,{"$f":"IF(B15=\"\",\"\",IF(D15=\"m\",INDIRECT(VLOOKUP(G15,Bezüge!$E$6:$F$16,2,FALSE)&ROW(G15)),INDIRECT(VLOOKUP(G15,Bezüge!$B$6:$C$16,2,FALSE)&ROW(G15))))","v":""},null,null,null,"","","","","","","","","","","","","","","","","","","","","","",null,"","","","","","","","","","","","","","","","","","","","","",""]
[null,{"$f":"IF(Athletenliste!B16=\"\",\"\",Athletenliste!B16)","v":""},{"$f":"IF(Athletenliste!C16=\"\",\"\",Athletenliste!C16)","v":""},{"$f":"IF(Athletenliste!D16=\"\",\"\",Athletenliste!D16)","v":""},{"$f":"IF(Athletenliste!E16=\"\",\"\",Athletenliste!E16)","v":""},{"$f":"IF(Athletenliste!F16=\"\",\"\",Athletenliste!F16)","v":""},{"$f":"IF(Athletenliste!G16=\"\",\"\",Athletenliste!G16)","v":""},{"$f":"IF(Athletenliste!H16=\"\",\"\",Athletenliste!H16)","v":""},null,{"$f":"IF(B16=\"\",\"\",IF(D16=\"m\",INDIRECT(VLOOKUP(G16,Bezüge!$E$6:$F$16,2,FALSE)&ROW(G16)),INDIRECT(VLOOKUP(G16,Bezüge!$B$6:$C$16,2,FALSE)&ROW(G16))))","v":""},null,null,null,"","","","","","","","","","","","","","","","","","","","","","",null,"","","","","","","","","","","","","","","","","","","","","",""]
[null,{"$f":"IF(Athletenliste!B17=\"\",\"\",Athletenliste!B17)","v":""},{"$f":"IF(Athletenliste!C17=\"\",\"\",Athletenliste!C17)","v":""},{"$f":"IF(Athletenliste!D17=\"\",\"\",Athletenliste!D17)","v":""},{"$f":"IF(Athletenliste!E17=\"\",\"\",Athletenliste!E17)","v":""},{"$f":"IF(Athletenliste!F17=\"\",\"\",Athletenliste!F17)","v":""},{"$f":"IF(Athletenliste!G17=\"\",\"\",Athletenliste!G17)","v":""},{"$f":"IF(Athletenliste!H17=\"\",\"\",Athletenliste!H17)","v":""},null,{"$f":"IF(B17=\"\",\"\",IF(D17=\"m\",INDIRECT(VLOOKUP(G17,Bezüge!$E$6:$F$16,2,FALSE)&ROW(G17)),INDIRECT(VLOOKUP(G17,Bezüge!$B$6:$C$16,2,FALSE)&ROW(G17))))","v":""},null,null,null,"","","","","","","","","","","","","","","","","","","","","","",null,"","","","","","","","","","","","","","","","","","","","","",""]
[null,{"$f":"IF(Athletenliste!B18=\"\",\"\",Athletenliste!B18)","v":""},{"$f":"IF(Athletenliste!C18=\"\",\"\",Athletenliste!C18)","v":""},{"$f":"IF(Athletenliste!D18=\"\",\"\",Athletenliste!D18)","v":""},{"$f":"IF(Athletenliste!E18=\"\",\"\",Athletenliste!E18)","v":""},{"$f":"IF(Athletenliste!F18=\"\",\"\",Athletenliste!F18)","v":""},{"$f":"IF(Athletenliste!G18=\"\",\"\",Athletenliste!G18)","v":""},{"$f":"IF(Athletenliste!H18=\"\",\"\",Athletenliste!H18)","v":""},null,{"$f":"IF(B18=\"\",\"\",IF(D18=\"m\",INDIRECT(VLOOKUP(G18,Bezüge!$E$6:$F$16,2,FALSE)&ROW(G18)),INDIRECT(VLOOKUP(G18,Bezüge!$B$6:$C$16,2,FALSE)&ROW(G18))))","v":""},null,null,null,"","","","","","","","","","","","","","","","","","","","","","",null,"","","","","","","","","","","","","","","","","","","","","",""]
[null,{"$f":"IF(Athletenliste!B19=\"\",\"\",Athletenliste!B19)","v":""},{"$f":"IF(Athletenliste!C19=\"\",\"\",Athletenliste!C19)","v":""},{"$f":"IF(Athletenliste!D19=\"\",\"\",Athletenliste!D19)","v":""},{"$f":"IF(Athletenliste!E19=\"\",\"\",Athletenliste!E19)","v":""},{"$f":"IF(Athletenliste!F19=\"\",\"\",Athletenliste!F19)","v":""},{"$f":"IF(Athletenliste!G19=\"\",\"\",Athletenliste!G19)","v":""},{"$f":"IF(Athletenliste!H19=\"\",\"\",Athletenliste!H19)","v":""},null,{"$f":"IF(B19=\"\",\"\",IF(D19=\"m\",INDIRECT(VLOOKUP(G19,Bezüge!$E$6:$F$16,2,FALSE)&ROW(G19)),INDIRECT(VLOOKUP(G19,Bezüge!$B$6:$C$16,2,FALSE)&ROW(G19))))","v":""},null,null,null,"","","","","","","","","","","","","","","","","","","","","","",null,"","","","","","","","","","","","","","","","","","","","","",""]
[null,{"$f":"IF(Athletenliste!B20=\"\",\"\",Athletenliste!B20)","v":""},{"$f":"IF(Athletenliste!C20=\"\",\"\",Athletenliste!C20)","v":""},{"$f":"IF(Athletenliste!D20=\"\",\"\",Athletenliste!D20)","v":""},{"$f":"IF(Athletenliste!E20=\"\",\"\",Athletenliste!E20)","v":""},{"$f":"IF(Athletenliste!F20=\"\",\"\",Athletenliste!F20)","v":""},{"$f":"IF(Athletenliste!G20=\"\",\"\",Athletenliste!G20)","v":""},{"$f":"IF(Athletenliste!H20=\"\",\"\",Athletenliste!H20)","v":""},null,{"$f":"IF(B20=\"\",\"\",IF(D20=\"m\",INDIRECT(VLOOKUP(G20,Bezüge!$E$6:$F$16,2,FALSE)&ROW(G20)),INDIRECT(VLOOKUP(G20,Bezüge!$B$6:$C$16,2,FALSE)&ROW(G20))))","v":""},null,null,null,"","","","","","","","","","","","","","","","","","","","","","",null,"","","","","","","","","","","","","","","","","","","","","",""]
[null,{"$f":"IF(Athletenliste!B21=\"\",\"\",Athletenliste!B21)","v":""},{"$f":"IF(Athletenliste!C21=\"\",\"\",Athletenliste!C21)","v":""},{"$f":"IF(Athletenliste!D21=\"\",\"\",Athletenliste!D21)","v":""},{"$f":"IF(Athletenliste!E21=\"\",\"\",Athletenliste!E21)","v":""},{"$f":"IF(Athletenliste!F21=\"\",\"\",Athletenliste!F21)","v":""},{"$f":"IF(Athletenliste!G21=\"\",\"\",Athletenliste!G21)","v":""},{"$f":"IF(Athletenliste!H21=\"\",\"\",Athletenliste!H21)","v":""},null,{"$f":"IF(B21=\"\",\"\",IF(D21=\"m\",INDIRECT(VLOOKUP(G21,Bezüge!$E$6:$F$16,2,FALSE)&ROW(G21)),INDIRECT(VLOOKUP(G21,Bezüge!$B$6:$C$16,2,FALSE)&ROW(G21))))","v":""},null,null,null,"","","","","","","","","","","","","","","","","","","","","","",null,"","","","","","","","","","","","","","","","","","","","","",""]
[null,{"$f":"IF(Athletenliste!B22=\"\",\"\",Athletenliste!B22)","v":""},{"$f":"IF(Athletenliste!C22=\"\",\"\",Athletenliste!C22)","v":""},{"$f":"IF(Athletenliste!D22=\"\",\"\",Athletenliste!D22)","v":""},{"$f":"IF(Athletenliste!E22=\"\",\"\",Athletenliste!E22)","v":""},{"$f":"IF(Athletenliste!F22=\"\",\"\",Athletenliste!F22)","v":""},{"$f":"IF(Athletenliste!G22=\"\",\"\",Athletenliste!G22)","v":""},{"$f":"IF(Athletenliste!H22=\"\",\"\",Athletenliste!H22)","v":""},null,{"$f":"IF(B22=\"\",\"\",IF(D22=\"m\",INDIRECT(VLOOKUP(G22,Bezüge!$E$6:$F$16,2,FALSE)&ROW(G22)),INDIRECT(VLOOKUP(G22,Bezüge!$B$6:$C$16,2,FALSE)&ROW(G22))))","v":""},null,null,null,"","","","","","","","","","","","","","","","","","","","","","",null,"","","","","","","","","","","","","","","","","","","","","",""]
[null,{"$f":"IF(Athletenliste!B23=\"\",\"\",Athletenliste!B23)","v":""},{"$f":"IF(Athletenliste!C23=\"\",\"\",Athletenliste!C23)","v":""},{"$f":"IF(Athletenliste!D23=\"\",\"\",Athletenliste!D23)","v":""},{"$f":"IF(Athletenliste!E23=\"\",\"\",Athletenliste!E23)","v":""},{"$f":"IF(Athletenliste!F23=\"\",\"\",Athletenliste!F23)","v":""},{"$f":"IF(Athletenliste!G23=\"\",\"\",Athletenliste!G23)","v":""},{"$f":"IF(Athletenliste!H23=\"\",\"\",Athletenliste!H23)","v":""},null,{"$f":"IF(B23=\"\",\"\",IF(D23=\"m\",INDIRECT(VLOOKUP(G23,Bezüge!$E$6:$F$16,2,FALSE)&ROW(G23)),INDIRECT(VLOOKUP(G23,Bezüge!$B$6:$C$16,2,FALSE)&ROW(G23))))","v":""},null,null,null,"","","","","","","","","","","","","","","","","","","","","","",null,"","","","","","","","","","","","","","","","","","","","","",""]
[null,{"$f":"IF(Athletenliste!B24=\"\",\"\",Athletenliste!B24)","v":""},{"$f":"IF(Athletenliste!C24=\"\",\"\",Athletenliste!C24)","v":""},{"$f":"IF(Athletenliste!D24=\"\",\"\",Athletenliste!D24)","v":""},{"$f":"IF(Athletenliste!E24=\"\",\"\",Athletenliste!E24)","v":""},{"$f":"IF(Athletenliste!F24=\"\",\"\",Athletenliste!F24)","v":""},{"$f":"IF(Athletenliste!G24=\"\",\"\",Athletenliste!G24)","v":""},{"$f":"IF(Athletenliste!H24=\"\",\"\",Athletenliste!H24)","v":""},null,{"$f":"IF(B24=\"\",\"\",IF(D24=\"m\",INDIRECT(VLOOKUP(G24,Bezüge!$E$6:$F$16,2,FALSE)&ROW(G24)),INDIRECT(VLOOKUP(G24,Bezüge!$B$6:$C$16,2,FALSE)&ROW(G24))))","v":""},null,null,null,"","","","","","","","","","","","","","","","","","","","","","",null,"","","","","","","","","","","","","","","","","","","","","",""]
[null,{"$f":"IF(Athletenliste!B25=\"\",\"\",Athletenliste!B25)","v":""},{"$f":"IF(Athletenliste!C25=\"\",\"\",Athletenliste!C25)","v":""},{"$f":"IF(Athletenliste!D25=\"\",\"\",Athletenliste!D25)","v":""},{"$f":"IF(Athletenliste!E25=\"\",\"\",Athletenliste!E25)","v":""},{"$f":"IF(Athletenliste!F25=\"\",\"\",Athletenliste!F25)","v":""},{"$f":"IF(Athletenliste!G25=\"\",\"\",Athletenliste!G25)","v":""},{"$f":"IF(Athletenliste!H25=\"\",\"\",Athletenliste!H25)","v":""},null,{"$f":"IF(B25=\"\",\"\",IF(D25=\"m\",INDIRECT(VLOOKUP(G25,Bezüge!$E$6:$F$16,2,FALSE)&ROW(G25)),INDIRECT(VLOOKUP(G25,Bezüge!$B$6:$C$16,2,FALSE)&ROW(G25))))","v":""},null,null,null,"","","","","","","","","","","","","","","","","","","","","","",null,"","","","","","","","","","","","","","","","","","","","","",""]
[null,{"$f":"IF(Athletenliste!B26=\"\",\"\",Athletenliste!B26)","v":""},{"$f":"IF(Athletenliste!C26=\"\",\"\",Athletenliste!C26)","v":""},{"$f":"IF(Athletenliste!D26=\"\",\"\",Athletenliste!D26)","v":""},{"$f":"IF(Athletenliste!E26=\"\",\"\",Athletenliste!E26)","v":""},{"$f":"IF(Athletenliste!F26=\"\",\"\",Athletenliste!F26)","v":""},{"$f":"IF(Athletenliste!G26=\"\",\"\",Athletenliste!G26)","v":""},{"$f":"IF(Athletenliste!H26=\"\",\"\",Athletenliste!H26)","v":""},null,{"$f":"IF(B26=\"\",\"\",IF(D26=\"m\",INDIRECT(VLOOKUP(G26,Bezüge!$E$6:$F$16,2,FALSE)&ROW(G26)),INDIRECT(VLOOKUP(G26,Bezüge!$B$6:$C$16,2,FALSE)&ROW(G26))))","v":""},null,null,null,"","","","","","","","","","","","","","","","","","","","","","",null,"","","","","","","","","","","","","","","","","","","","","",""]
[null,{"$f":"IF(Athletenliste!B27=\"\",\"\",Athletenliste!B27)","v":""},{"$f":"IF(Athletenliste!C27=\"\",\"\",Athletenliste!C27)","v":""},{"$f":"IF(Athletenliste!D27=\"\",\"\",Athletenliste!D27)","v":""},{"$f":"IF(Athletenliste!E27=\"\",\"\",Athletenliste!E27)","v":""},{"$f":"IF(Athletenliste!F27=\"\",\"\",Athletenliste!F27)","v":""},{"$f":"IF(Athletenliste!G27=\"\",\"\",Athletenliste!G27)","v":""},{"$f":"IF(Athletenliste!H27=\"\",\"\",Athletenliste!H27)","v":""},null,{"$f":"IF(B27=\"\",\"\",IF(D27=\"m\",INDIRECT(VLOOKUP(G27,Bezüge!$E$6:$F$16,2,FALSE)&ROW(G27)),INDIRECT(VLOOKUP(G27,Bezüge!$B$6:$C$16,2,FALSE)&ROW(G27))))","v":""},null,null,null,"","","","","","","","","","","","","","","","","","","","","","",null,"","","","","","","","","","","","","","","","","","","","","",""]
[null,{"$f":"IF(Athletenliste!B28=\"\",\"\",Athletenliste!B28)","v":""},{"$f":"IF(Athletenliste!C28=\"\",\"\",Athletenliste!C28)","v":""},{"$f":"IF(Athletenliste!D28=\"\",\"\",Athletenliste!D28)","v":""},{"$f":"IF(Athletenliste!E28=\"\",\"\",Athletenliste!E28)","v":""},{"$f":"IF(Athletenliste!F28=\"\",\"\",Athletenliste!F28)","v":""},{"$f":"IF(Athletenliste!G28=\"\",\"\",Athletenliste!G28)","v":""},{"$f":"IF(Athletenliste!H28=\"\",\"\",Athletenliste!H28)","v":""},null,{"$f":"IF(B28=\"\",\"\",IF(D28=\"m\",INDIRECT(VLOOKUP(G28,Bezüge!$E$6:$F$16,2,FALSE)&ROW(G28)),INDIRECT(VLOOKUP(G28,Bezüge!$B$6:$C$16,2,FALSE)&ROW(G28))))","v":""},null,null,null,"","","","","","","","","","","","","","","","","","","","","","",null,"","","","","","","","","","","","","","","","","","","","","",""]
[null,{"$f":"IF(Athletenliste!B29=\"\",\"\",Athletenliste!B29)","v":""},{"$f":"IF(Athletenliste!C29=\"\",\"\",Athletenliste!C29)","v":""},{"$f":"IF(Athletenliste!D29=\"\",\"\",Athletenliste!D29)","v":""},{"$f":"IF(Athletenliste!E29=\"\",\"\",Athletenliste!E29)","v":""},{"$f":"IF(Athletenliste!F29=\"\",\"\",Athletenliste!F29)","v":""},{"$f":"IF(Athletenliste!G29=\"\",\"\",Athletenliste!G29)","v":""},{"$f":"IF(Athletenliste!H29=\"\",\"\",Athletenliste!H29)","v":""},null,{"$f":"IF(B29=\"\",\"\",IF(D29=\"m\",INDIRECT(VLOOKUP(G29,Bezüge!$E$6:$F$16,2,FALSE)&ROW(G29)),INDIRECT(VLOOKUP(G29,Bezüge!$B$6:$C$16,2,FALSE)&ROW(G29))))","v":""},null,null,null,"","","","","","","","","","","","","","","","","","","","","","",null,"","","","","","","","","","","","","","","","","","","","","",""]
[null,{"$f":"IF(Athletenliste!B30=\"\",\"\",Athletenliste!B30)","v":""},{"$f":"IF(Athletenliste!C30=\"\",\"\",Athletenliste!C30)","v":""},{"$f":"IF(Athletenliste!D30=\"\",\"\",Athletenliste!D30)","v":""},{"$f":"IF(Athletenliste!E30=\"\",\"\",Athletenliste!E30)","v":""},{"$f":"IF(Athletenliste!F30=\"\",\"\",Athletenliste!F30)","v":""},{"$f":"IF(Athletenliste!G30=\"\",\"\",Athletenliste!G30)","v":""},{"$f":"IF(Athletenliste!H30=\"\",\"\",Athletenliste!H30)","v":""},null,{"$f":"IF(B30=\"\",\"\",IF(D30=\"m\",INDIRECT(VLOOKUP(G30,Bezüge!$E$6:$F$16,2,FALSE)&ROW(G30)),INDIRECT(VLOOKUP(G30,Bezüge!$B$6:$C$16,2,FALSE)&ROW(G30))))","v":""},null,null,null,"","","","","","","","","","","","","","","","","","","","","","",null,"","","","","","","","","","","","","","","","","","","","","",""]
[null,{"$f":"IF(Athletenliste!B31=\"\",\"\",Athletenliste!B31)","v":""},{"$f":"IF(Athletenliste!C31=\"\",\"\",Athletenliste!C31)","v":""},{"$f":"IF(Athletenliste!D31=\"\",\"\",Athletenliste!D31)","v":""},{"$f":"IF(Athletenliste!E31=\"\",\"\",Athletenliste!E31)","v":""},{"$f":"IF(Athletenliste!F31=\"\",\"\",Athletenliste!F31)","v":""},{"$f":"IF(Athletenliste!G31=\"\",\"\",Athletenliste!G31)","v":""},{"$f":"IF(Athletenliste!H31=\"\",\"\",Athletenliste!H31)","v":""},null,{"$f":"IF(B31=\"\",\"\",IF(D31=\"m\",INDIRECT(VLOOKUP(G31,Bezüge!$E$6:$F$16,2,FALSE)&ROW(G31)),INDIRECT(VLOOKUP(G31,Bezüge!$B$6:$C$16,2,FALSE)&ROW(G31))))","v":""},null,null,null,"","","","","","","","","","","","","","","","","","","","","","",null,"","","","","","","","","","","","","","","","","","","","","",""]
[null,{"$f":"IF(Athletenliste!B32=\"\",\"\",Athletenliste!B32)","v":""},{"$f":"IF(Athletenliste!C32=\"\",\"\",Athletenliste!C32)","v":""},{"$f":"IF(Athletenliste!D32=\"\",\"\",Athletenliste!D32)","v":""},{"$f":"IF(Athletenliste!E32=\"\",\"\",Athletenliste!E32)","v":""},{"$f":"IF(Athletenliste!F32=\"\",\"\",Athletenliste!F32)","v":""},{"$f":"IF(Athletenliste!G32=\"\",\"\",Athletenliste!G32)","v":""},{"$f":"IF(Athletenliste!H32=\"\",\"\",Athletenliste!H32)","v":""},null,{"$f":"IF(B32=\"\",\"\",IF(D32=\"m\",INDIRECT(VLOOKUP(G32,Bezüge!$E$6:$F$16,2,FALSE)&ROW(G32)),INDIRECT(VLOOKUP(G32,Bezüge!$B$6:$C$16,2,FALSE)&ROW(G32))))","v":""},null,null,null,"","","","","","","","","","","","","","","","","","","","","","",null,"","","","","","","","","","","","","","","","","","","","","",""]
[null,{"$f":"IF(Athletenliste!B33=\"\",\"\",Athletenliste!B33)","v":""},{"$f":"IF(Athletenliste!C33=\"\",\"\",Athletenliste!C33)","v":""},{"$f":"IF(Athletenliste!D33=\"\",\"\",Athletenliste!D33)","v":""},{"$f":"IF(Athletenliste!E33=\"\",\"\",Athletenliste!E33)","v":""},{"$f":"IF(Athletenliste!F33=\"\",\"\",Athletenliste!F33)","v":""},{"$f":"IF(Athletenliste!G33=\"\",\"\",Athletenliste!G33)","v":""},{"$f":"IF(Athletenliste!H33=\"\",\"\",Athletenliste!H33)","v":""},null,{"$f":"IF(B33=\"\",\"\",IF(D33=\"m\",INDIRECT(VLOOKUP(G33,Bezüge!$E$6:$F$16,2,FALSE)&ROW(G33)),INDIRECT(VLOOKUP(G33,Bezüge!$B$6:$C$16,2,FALSE)&ROW(G33))))","v":""},null,null,null,"","","","","","","","","","","","","","","","","","","","","","",null,"","","","","","","","","","","","","","","","","","","","","",""]
[null,{"$f":"IF(Athletenliste!B34=\"\",\"\",Athletenliste!B34)","v":""},{"$f":"IF(Athletenliste!C34=\"\",\"\",Athletenliste!C34)","v":""},{"$f":"IF(Athletenliste!D34=\"\",\"\",Athletenliste!D34)","v":""},{"$f":"IF(Athletenliste!E34=\"\",\"\",Athletenliste!E34)","v":""},{"$f":"IF(Athletenliste!F34=\"\",\"\",Athletenliste!F34)","v":""},{"$f":"IF(Athletenliste!G34=\"\",\"\",Athletenliste!G34)","v":""},{"$f":"IF(Athletenliste!H34=\"\",\"\",Athletenliste!H34)","v":""},null,{"$f":"IF(B34=\"\",\"\",IF(D34=\"m\",INDIRECT(VLOOKUP(G34,Bezüge!$E$6:$F$16,2,FALSE)&ROW(G34)),INDIRECT(VLOOKUP(G34,Bezüge!$B$6:$C$16,2,FALSE)&ROW(G34))))","v":""},null,null,null,"","","","","","","","","","","","","","","","","","","","","","",null,"","","","","","","","","","","","","","","","","","","","","",""]
[null,{"$f":"IF(Athletenliste!B35=\"\",\"\",Athletenliste!B35)","v":""},{"$f":"IF(Athletenliste!C35=\"\",\"\",Athletenliste!C35)","v":""},{"$f":"IF(Athletenliste!D35=\"\",\"\",Athletenliste!D35)","v":""},{"$f":"IF(Athletenliste!E35=\"\",\"\",Athletenliste!E35)","v":""},{"$f":"IF(Athletenliste!F35=\"\",\"\",Athletenliste!F35)","v":""},{"$f":"IF(Athletenliste!G35=\"\",\"\",Athletenliste!G35)","v":""},{"$f":"IF(Athletenliste!H35=\"\",\"\",Athletenliste!H35)","v":""},null,{"$f":"IF(B35=\"\",\"\",IF(D35=\"m\",INDIRECT(VLOOKUP(G35,Bezüge!$E$6:$F$16,2,FALSE)&ROW(G35)),INDIRECT(VLOOKUP(G35,Bezüge!$B$6:$C$16,2,FALSE)&ROW(G35))))","v":""},null,null,null,"","","","","","","","","","","","","","","","","","","","","","",null,"","","","","","","","","","","","","","","","","","","","","",""]
[null,{"$f":"IF(Athletenliste!B36=\"\",\"\",Athletenliste!B36)","v":""},{"$f":"IF(Athletenliste!C36=\"\",\"\",Athletenliste!C36)","v":""},{"$f":"IF(Athletenliste!D36=\"\",\"\",Athletenliste!D36)","v":""},{"$f":"IF(Athletenliste!E36=\"\",\"\",Athletenliste!E36)","v":""},{"$f":"IF(Athletenliste!F36=\"\",\"\",Athletenliste!F36)","v":""},{"$f":"IF(Athletenliste!G36=\"\",\"\",Athletenliste!G36)","v":""},{"$f":"IF(Athletenliste!H36=\"\",\"\",Athletenliste!H36)","v":""},null,{"$f":"IF(B36=\"\",\"\",IF(D36=\"m\",INDIRECT(VLOOKUP(G36,Bezüge!$E$6:$F$16,2,FALSE)&ROW(G36)),INDIRECT(VLOOKUP(G36,Bezüge!$B$6:$C$16,2,FALSE)&ROW(G36))))","v":""},null,null,null,"","","","","","","","","","","","","","","","","","","","","","",null,"","","","","","","","","","","","","","","","","","","","","",""]
[null,{"$f":"IF(Athletenliste!B37=\"\",\"\",Athletenliste!B37)","v":""},{"$f":"IF(Athletenliste!C37=\"\",\"\",Athletenliste!C37)","v":""},{"$f":"IF(Athletenliste!D37=\"\",\"\",Athletenliste!D37)","v":""},{"$f":"IF(Athletenliste!E37=\"\",\"\",Athletenliste!E37)","v":""},{"$f":"IF(Athletenliste!F37=\"\",\"\",Athletenliste!F37)","v":""},{"$f":"IF(Athletenliste!G37=\"\",\"\",Athletenliste!G37)","v":""},{"$f":"IF(Athletenliste!H37=\"\",\"\",Athletenliste!H37)","v":""},null,{"$f":"IF(B37=\"\",\"\",IF(D37=\"m\",INDIRECT(VLOOKUP(G37,Bezüge!$E$6:$F$16,2,FALSE)&ROW(G37)),INDIRECT(VLOOKUP(G37,Bezüge!$B$6:$C$16,2,FALSE)&ROW(G37))))","v":""},null,null,null,"","","","","","","","","","","","","","","","","","","","","","",null,"","","","","","","","","","","","","","","","","","","","","",""]
[null,{"$f":"IF(Athletenliste!B38=\"\",\"\",Athletenliste!B38)","v":""},{"$f":"IF(Athletenliste!C38=\"\",\"\",Athletenliste!C38)","v":""},{"$f":"IF(Athletenliste!D38=\"\",\"\",Athletenliste!D38)","v":""},{"$f":"IF(Athletenliste!E38=\"\",\"\",Athletenliste!E38)","v":""},{"$f":"IF(Athletenliste!F38=\"\",\"\",Athletenliste!F38)","v":""},{"$f":"IF(Athletenliste!G38=\"\",\"\",Athletenliste!G38)","v":""},{"$f":"IF(Athletenliste!H38=\"\",\"\",Athletenliste!H38)","v":""},null,{"$f":"IF(B38=\"\",\"\",IF(D38=\"m\",INDIRECT(VLOOKUP(G38,Bezüge!$E$6:$F$16,2,FALSE)&ROW(G38)),INDIRECT(VLOOKUP(G38,Bezüge!$B$6:$C$16,2,FALSE)&ROW(G38))))","v":""},null,null,null,"","","","","","","","","","","","","","","","","","","","","","",null,"","","","","","","","","","","","","","","","","","","","","",""]
[null,{"$f":"IF(Athletenliste!B39=\"\",\"\",Athletenliste!B39)","v":""},{"$f":"IF(Athletenliste!C39=\"\",\"\",Athletenliste!C39)","v":""},{"$f":"IF(Athletenliste!D39=\"\",\"\",Athletenliste!D39)","v":""},{"$f":"IF(Athletenliste!E39=\"\",\"\",Athletenliste!E39)","v":""},{"$f":"IF(Athletenliste!F39=\"\",\"\",Athletenliste!F39)","v":""},{"$f":"IF(Athletenliste!G39=\"\",\"\",Athletenliste!G39)","v":""},{"$f":"IF(Athletenliste!H39=\"\",\"\",Athletenliste!H39)","v":""},null,{"$f":"IF(B39=\"\",\"\",IF(D39=\"m\",INDIRECT(VLOOKUP(G39,Bezüge!$E$6:$F$16,2,FALSE)&ROW(G39)),INDIRECT(VLOOKUP(G39,Bezüge!$B$6:$C$16,2,FALSE)&ROW(G39))))","v":""},null,null,null,"","","","","","","","","","","","","","","","","","","","","","",null,"","","","","","","","","","","","","","","","","","","","","",""]
[null,{"$f":"IF(Athletenliste!B40=\"\",\"\",Athletenliste!B40)","v":""},{"$f":"IF(Athletenliste!C40=\"\",\"\",Athletenliste!C40)","v":""},{"$f":"IF(Athletenliste!D40=\"\",\"\",Athletenliste!D40)","v":""},{"$f":"IF(Athletenliste!E40=\"\",\"\",Athletenliste!E40)","v":""},{"$f":"IF(Athletenliste!F40=\"\",\"\",Athletenliste!F40)","v":""},{"$f":"IF(Athletenliste!G40=\"\",\"\",Athletenliste!G40)","v":""},{"$f":"IF(Athletenliste!H40=\"\",\"\",Athletenliste!H40)","v":""},null,{"$f":"IF(B40=\"\",\"\",IF(D40=\"m\",INDIRECT(VLOOKUP(G40,Bezüge!$E$6:$F$16,2,FALSE)&ROW(G40)),INDIRECT(VLOOKUP(G40,Bezüge!$B$6:$C$16,2,FALSE)&ROW(G40))))","v":""},null,null,null,"","","","","","","","","","","","","","","","","","","","","","",null,"","","","","","","","","","","","","","","","","","","","","",""]
[null,{"$f":"IF(Athletenliste!B41=\"\",\"\",Athletenliste!B41)","v":""},{"$f":"IF(Athletenliste!C41=\"\",\"\",Athletenliste!C41)","v":""},{"$f":"IF(Athletenliste!D41=\"\",\"\",Athletenliste!D41)","v":""},{"$f":"IF(Athletenliste!E41=\"\",\"\",Athletenliste!E41)","v":""},{"$f":"IF(Athletenliste!F41=\"\",\"\",Athletenliste!F41)","v":""},{"$f":"IF(Athletenliste!G41=\"\",\"\",Athletenliste!G41)","v":""},{"$f":"IF(Athletenliste!H41=\"\",\"\",Athletenliste!H41)","v":""},null,{"$f":"IF(B41=\"\",\"\",IF(D41=\"m\",INDIRECT(VLOOKUP(G41,Bezüge!$E$6:$F$16,2,FALSE)&ROW(G41)),INDIRECT(VLOOKUP(G41,Bezüge!$B$6:$C$16,2,FALSE)&ROW(G41))))","v":""},null,null,null,"","","","","","","","","","","","","","","","","","","","","","",null,"","","","","","","","","","","","","","","","","","","","","",""]
[null,{"$f":"IF(Athletenliste!B42=\"\",\"\",Athletenliste!B42)","v":""},{"$f":"IF(Athletenliste!C42=\"\",\"\",Athletenliste!C42)","v":""},{"$f":"IF(Athletenliste!D42=\"\",\"\",Athletenliste!D42)","v":""},{"$f":"IF(Athletenliste!E42=\"\",\"\",Athletenliste!E42)","v":""},{"$f":"IF(Athletenliste!F42=\"\",\"\",Athletenliste!F42)","v":""},{"$f":"IF(Athletenliste!G42=\"\",\"\",Athletenliste!G42)","v":""},{"$f":"IF(Athletenliste!H42=\"\",\"\",Athletenliste!H42)","v":""},null,{"$f":"IF(B42=\"\",\"\",IF(D42=\"m\",INDIRECT(VLOOKUP(G42,Bezüge!$E$6:$F$16,2,FALSE)&ROW(G42)),INDIRECT(VLOOKUP(G42,Bezüge!$B$6:$C$16,2,FALSE)&ROW(G42))))","v":""},null,null,null,"","","","","","","","","","","","","","","","","","","","","","",null,"","","","","","","","","","","","","","","","","","","","","",""]
[null,{"$f":"IF(Athletenliste!B43=\"\",\"\",Athletenliste!B43)","v":""},{"$f":"IF(Athletenliste!C43=\"\",\"\",Athletenliste!C43)","v":""},{"$f":"IF(Athletenliste!D43=\"\",\"\",Athletenliste!D43)","v":""},{"$f":"IF(Athletenliste!E43=\"\",\"\",Athletenliste!E43)","v":""},{"$f":"IF(Athletenliste!F43=\"\",\"\",Athletenliste!F43)","v":""},{"$f":"IF(Athletenliste!G43=\"\",\"\",Athletenliste!G43)","v":""},{"$f":"IF(Athletenliste!H43=\"\",\"\",Athletenliste!H43)","v":""},null,{"$f":"IF(B43=\"\",\"\",IF(D43=\"m\",INDIRECT(VLOOKUP(G43,Bezüge!$E$6:$F$16,2,FALSE)&ROW(G43)),INDIRECT(VLOOKUP(G43,Bezüge!$B$6:$C$16,2,FALSE)&ROW(G43))))","v":""},null,null,null,"","","","","","","","","","","","","","","","","","","","","","",null,"","","","","","","","","","","","","","","","","","","","","",""]
[null,{"$f":"IF(Athletenliste!B44=\"\",\"\",Athletenliste!B44)","v":""},{"$f":"IF(Athletenliste!C44=\"\",\"\",Athletenliste!C44)","v":""},{"$f":"IF(Athletenliste!D44=\"\",\"\",Athletenliste!D44)","v":""},{"$f":"IF(Athletenliste!E44=\"\",\"\",Athletenliste!E44)","v":""},{"$f":"IF(Athletenliste!F44=\"\",\"\",Athletenliste!F44)","v":""},{"$f":"IF(Athletenliste!G44=\"\",\"\",Athletenliste!G44)","v":""},{"$f":"IF(Athletenliste!H44=\"\",\"\",Athletenliste!H44)","v":""},null,{"$f":"IF(B44=\"\",\"\",IF(D44=\"m\",INDIRECT(VLOOKUP(G44,Bezüge!$E$6:$F$16,2,FALSE)&ROW(G44)),INDIRECT(VLOOKUP(G44,Bezüge!$B$6:$C$16,2,FALSE)&ROW(G44))))","v":""},null,null,null,"","","","","","","","","","","","","","","","","","","","","","",null,"","","","","","","","","","","","","","","","","","","","","",""]
[null,{"$f":"IF(Athletenliste!B45=\"\",\"\",Athletenliste!B45)","v":""},{"$f":"IF(Athletenliste!C45=\"\",\"\",Athletenliste!C45)","v":""},{"$f":"IF(Athletenliste!D45=\"\",\"\",Athletenliste!D45)","v":""},{"$f":"IF(Athletenliste!E45=\"\",\"\",Athletenliste!E45)","v":""},{"$f":"IF(Athletenliste!F45=\"\",\"\",Athletenliste!F45)","v":""},{"$f":"IF(Athletenliste!G45=\"\",\"\",Athletenliste!G45)","v":""},{"$f":"IF(Athletenliste!H45=\"\",\"\",Athletenliste!H45)","v":""},null,{"$f":"IF(B45=\"\",\"\",IF(D45=\"m\",INDIRECT(VLOOKUP(G45,Bezüge!$E$6:$F$16,2,FALSE)&ROW(G45)),INDIRECT(VLOOKUP(G45,Bezüge!$B$6:$C$16,2,FALSE)&ROW(G45))))","v":""},null,null,null,"","","","","","","","","","","","","","","","","","","","","","",null,"","","","","","","","","","","","","","","","","","","","","",""]
[null,{"$f":"IF(Athletenliste!B46=\"\",\"\",Athletenliste!B46)","v":""},{"$f":"IF(Athletenliste!C46=\"\",\"\",Athletenliste!C46)","v":""},{"$f":"IF(Athletenliste!D46=\"\",\"\",Athletenliste!D46)","v":""},{"$f":"IF(Athletenliste!E46=\"\",\"\",Athletenliste!E46)","v":""},{"$f":"IF(Athletenliste!F46=\"\",\"\",Athletenliste!F46)","v":""},{"$f":"IF(Athletenliste!G46=\"\",\"\",Athletenliste!G46)","v":""},{"$f":"IF(Athletenliste!H46=\"\",\"\",Athletenliste!H46)","v":""},null,{"$f":"IF(B46=\"\",\"\",IF(D46=\"m\",INDIRECT(VLOOKUP(G46,Bezüge!$E$6:$F$16,2,FALSE)&ROW(G46)),INDIRECT(VLOOKUP(G46,Bezüge!$B$6:$C$16,2,FALSE)&ROW(G46))))","v":""},null,null,null,"","","","","","","","","","","","","","","","","","","","","","",null,"","","","","","","","","","","","","","","","","","","","","",""]
[null,{"$f":"IF(Athletenliste!B47=\"\",\"\",Athletenliste!B47)","v":""},{"$f":"IF(Athletenliste!C47=\"\",\"\",Athletenliste!C47)","v":""},{"$f":"IF(Athletenliste!D47=\"\",\"\",Athletenliste!D47)","v":""},{"$f":"IF(Athletenliste!E47=\"\",\"\",Athletenliste!E47)","v":""},{"$f":"IF(Athletenliste!F47=\"\",\"\",Athletenliste!F47)","v":""},{"$f":"IF(Athletenliste!G47=\"\",\"\",Athletenliste!G47)","v":""},{"$f":"IF(Athletenliste!H47=\"\",\"\",Athletenliste!H47)","v":""},null,{"$f":"IF(B47=\"\",\"\",IF(D47=\"m\",INDIRECT(VLOOKUP(G47,Bezüge!$E$6:$F$16,2,FALSE)&ROW(G47)),INDIRECT(VLOOKUP(G47,Bezüge!$B$6:$C$16,2,FALSE)&ROW(G47))))","v":""},null,null,null,"","","","","","","","","","","","","","","","","","","","","","",null,"","","","","","","","","","","","","","","","","","","","","",""]
[null,{"$f":"IF(Athletenliste!B48=\"\",\"\",Athletenliste!B48)","v":""},{"$f":"IF(Athletenliste!C48=\"\",\"\",Athletenliste!C48)","v":""},{"$f":"IF(Athletenliste!D48=\"\",\"\",Athletenliste!D48)","v":""},{"$f":"IF(Athletenliste!E48=\"\",\"\",Athletenliste!E48)","v":""},{"$f":"IF(Athletenliste!F48=\"\",\"\",Athletenliste!F48)","v":""},{"$f":"IF(Athletenliste!G48=\"\",\"\",Athletenliste!G48)","v":""},{"$f":"IF(Athletenliste!H48=\"\",\"\",Athletenliste!H48)","v":""},null,{"$f":"IF(B48=\"\",\"\",IF(D48=\"m\",INDIRECT(VLOOKUP(G48,Bezüge!$E$6:$F$16,2,FALSE)&ROW(G48)),INDIRECT(VLOOKUP(G48,Bezüge!$B$6:$C$16,2,FALSE)&ROW(G48))))","v":""},null,null,null,"","","","","","","","","","","","","","","","","","","","","","",null,"","","","","","","","","","","","","","","","","","","","","",""]
[null,{"$f":"IF(Athletenliste!B49=\"\",\"\",Athletenliste!B49)","v":""},{"$f":"IF(Athletenliste!C49=\"\",\"\",Athletenliste!C49)","v":""},{"$f":"IF(Athletenliste!D49=\"\",\"\",Athletenliste!D49)","v":""},{"$f":"IF(Athletenliste!E49=\"\",\"\",Athletenliste!E49)","v":""},{"$f":"IF(Athletenliste!F49=\"\",\"\",Athletenliste!F49)","v":""},{"$f":"IF(Athletenliste!G49=\"\",\"\",Athletenliste!G49)","v":""},{"$f":"IF(Athletenliste!H49=\"\",\"\",Athletenliste!H49)","v":""},null,{"$f":"IF(B49=\"\",\"\",IF(D49=\"m\",INDIRECT(VLOOKUP(G49,Bezüge!$E$6:$F$16,2,FALSE)&ROW(G49)),INDIRECT(VLOOKUP(G49,Bezüge!$B$6:$C$16,2,FALSE)&ROW(G49))))","v":""},null,null,null,"","","","","","","","","","","","","","","","","","","","","","",null,"","","","","","","","","","","","","","","","","","","","","",""]
[null,{"$f":"IF(Athletenliste!B50=\"\",\"\",Athletenliste!B50)","v":""},{"$f":"IF(Athletenliste!C50=\"\",\"\",Athletenliste!C50)","v":""},{"$f":"IF(Athletenliste!D50=\"\",\"\",Athletenliste!D50)","v":""},{"$f":"IF(Athletenliste!E50=\"\",\"\",Athletenliste!E50)","v":""},{"$f":"IF(Athletenliste!F50=\"\",\"\",Athletenliste!F50)","v":""},{"$f":"IF(Athletenliste!G50=\"\",\"\",Athletenliste!G50)","v":""},{"$f":"IF(Athletenliste!H50=\"\",\"\",Athletenliste!H50)","v":""},null,{"$f":"IF(B50=\"\",\"\",IF(D50=\"m\",INDIRECT(VLOOKUP(G50,Bezüge!$E$6:$F$16,2,FALSE)&ROW(G50)),INDIRECT(VLOOKUP(G50,Bezüge!$B$6:$C$16,2,FALSE)&ROW(G50))))","v":""},null,null,null,"","","","","","","","","","","","","","","","","","","","","","",null,"","","","","","","","","","","","","","","","","","","","","",""]
[null,{"$f":"IF(Athletenliste!B51=\"\",\"\",Athletenliste!B51)","v":""},{"$f":"IF(Athletenliste!C51=\"\",\"\",Athletenliste!C51)","v":""},{"$f":"IF(Athletenliste!D51=\"\",\"\",Athletenliste!D51)","v":""},{"$f":"IF(Athletenliste!E51=\"\",\"\",Athletenliste!E51)","v":""},{"$f":"IF(Athletenliste!F51=\"\",\"\",Athletenliste!F51)","v":""},{"$f":"IF(Athletenliste!G51=\"\",\"\",Athletenliste!G51)","v":""},{"$f":"IF(Athletenliste!H51=\"\",\"\",Athletenliste!H51)","v":""},null,{"$f":"IF(B51=\"\",\"\",IF(D51=\"m\",INDIRECT(VLOOKUP(G51,Bezüge!$E$6:$F$16,2,FALSE)&ROW(G51)),INDIRECT(VLOOKUP(G51,Bezüge!$B$6:$C$16,2,FALSE)&ROW(G51))))","v":""},null,null,null,"","","","","","","","","","","","","","","","","","","","","","",null,"","","","","","","","","","","","","","","","","","","","","",""]
[null,{"$f":"IF(Athletenliste!B52=\"\",\"\",Athletenliste!B52)","v":""},{"$f":"IF(Athletenliste!C52=\"\",\"\",Athletenliste!C52)","v":""},{"$f":"IF(Athletenliste!D52=\"\",\"\",Athletenliste!D52)","v":""},{"$f":"IF(Athletenliste!E52=\"\",\"\",Athletenliste!E52)","v":""},{"$f":"IF(Athletenliste!F52=\"\",\"\",Athletenliste!F52)","v":""},{"$f":"IF(Athletenliste!G52=\"\",\"\",Athletenliste!G52)","v":""},{"$f":"IF(Athletenliste!H52=\"\",\"\",Athletenliste!H52)","v":""},null,{"$f":"IF(B52=\"\",\"\",IF(D52=\"m\",INDIRECT(VLOOKUP(G52,Bezüge!$E$6:$F$16,2,FALSE)&ROW(G52)),INDIRECT(VLOOKUP(G52,Bezüge!$B$6:$C$16,2,FALSE)&ROW(G52))))","v":""},null,null,null,"","","","","","","","","","","","","","","","","","","","","","",null,"","","","","","","","","","","","","","","","","","","","","",""]
[null,{"$f":"IF(Athletenliste!B53=\"\",\"\",Athletenliste!B53)","v":""},{"$f":"IF(Athletenliste!C53=\"\",\"\",Athletenliste!C53)","v":""},{"$f":"IF(Athletenliste!D53=\"\",\"\",Athletenliste!D53)","v":""},{"$f":"IF(Athletenliste!E53=\"\",\"\",Athletenliste!E53)","v":""},{"$f":"IF(Athletenliste!F53=\"\",\"\",Athletenliste!F53)","v":""},{"$f":"IF(Athletenliste!G53=\"\",\"\",Athletenliste!G53)","v":""},{"$f":"IF(Athletenliste!H53=\"\",\"\",Athletenliste!H53)","v":""},null,{"$f":"IF(B53=\"\",\"\",IF(D53=\"m\",INDIRECT(VLOOKUP(G53,Bezüge!$E$6:$F$16,2,FALSE)&ROW(G53)),INDIRECT(VLOOKUP(G53,Bezüge!$B$6:$C$16,2,FALSE)&ROW(G53))))","v":""},null,null,null,"","","","","","","","","","","","","","","","","","","","","","",null,"","","","","","","","","","","","","","","","","","","","","",""]
[null,{"$f":"IF(Athletenliste!B54=\"\",\"\",Athletenliste!B54)","v":""},{"$f":"IF(Athletenliste!C54=\"\",\"\",Athletenliste!C54)","v":""},{"$f":"IF(Athletenliste!D54=\"\",\"\",Athletenliste!D54)","v":""},{"$f":"IF(Athletenliste!E54=\"\",\"\",Athletenliste!E54)","v":""},{"$f":"IF(Athletenliste!F54=\"\",\"\",Athletenliste!F54)","v":""},{"$f":"IF(Athletenliste!G54=\"\",\"\",Athletenliste!G54)","v":""},{"$f":"IF(Athletenliste!H54=\"\",\"\",Athletenliste!H54)","v":""},null,{"$f":"IF(B54=\"\",\"\",IF(D54=\"m\",INDIRECT(VLOOKUP(G54,Bezüge!$E$6:$F$16,2,FALSE)&ROW(G54)),INDIRECT(VLOOKUP(G54,Bezüge!$B$6:$C$16,2,FALSE)&ROW(G54))))","v":""},null,null,null,"","","","","","","","","","","","","","","","","","","","","","",null,"","","","","","","","","","","","","","","","","","","","","",""]
[null,{"$f":"IF(Athletenliste!B55=\"\",\"\",Athletenliste!B55)","v":""},{"$f":"IF(Athletenliste!C55=\"\",\"\",Athletenliste!C55)","v":""},{"$f":"IF(Athletenliste!D55=\"\",\"\",Athletenliste!D55)","v":""},{"$f":"IF(Athletenliste!E55=\"\",\"\",Athletenliste!E55)","v":""},{"$f":"IF(Athletenliste!F55=\"\",\"\",Athletenliste!F55)","v":""},{"$f":"IF(Athletenliste!G55=\"\",\"\",Athletenliste!G55)","v":""},{"$f":"IF(Athletenliste!H55=\"\",\"\",Athletenliste!H55)","v":""},null,{"$f":"IF(B55=\"\",\"\",IF(D55=\"m\",INDIRECT(VLOOKUP(G55,Bezüge!$E$6:$F$16,2,FALSE)&ROW(G55)),INDIRECT(VLOOKUP(G55,Bezüge!$B$6:$C$16,2,FALSE)&ROW(G55))))","v":""},null,null,null,"","","","","","","","","","","","","","","","","","","","","","",null,"","","","","","","","","","","","","","","","","","","","","",""]
[null,{"$f":"IF(Athletenliste!B56=\"\",\"\",Athletenliste!B56)","v":""},{"$f":"IF(Athletenliste!C56=\"\",\"\",Athletenliste!C56)","v":""},{"$f":"IF(Athletenliste!D56=\"\",\"\",Athletenliste!D56)","v":""},{"$f":"IF(Athletenliste!E56=\"\",\"\",Athletenliste!E56)","v":""},{"$f":"IF(Athletenliste!F56=\"\",\"\",Athletenliste!F56)","v":""},{"$f":"IF(Athletenliste!G56=\"\",\"\",Athletenliste!G56)","v":""},{"$f":"IF(Athletenliste!H56=\"\",\"\",Athletenliste!H56)","v":""},null,{"$f":"IF(B56=\"\",\"\",IF(D56=\"m\",INDIRECT(VLOOKUP(G56,Bezüge!$E$6:$F$16,2,FALSE)&ROW(G56)),INDIRECT(VLOOKUP(G56,Bezüge!$B$6:$C$16,2,FALSE)&ROW(G56))))","v":""},null,null,null,"","","","","","","","","","","","","","","","","","","","","","",null,"","","","","","","","","","","","","","","","","","","","","",""]
[null,{"$f":"IF(Athletenliste!B57=\"\",\"\",Athletenliste!B57)","v":""},{"$f":"IF(Athletenliste!C57=\"\",\"\",Athletenliste!C57)","v":""},{"$f":"IF(Athletenliste!D57=\"\",\"\",Athletenliste!D57)","v":""},{"$f":"IF(Athletenliste!E57=\"\",\"\",Athletenliste!E57)","v":""},{"$f":"IF(Athletenliste!F57=\"\",\"\",Athletenliste!F57)","v":""},{"$f":"IF(Athletenliste!G57=\"\",\"\",Athletenliste!G57)","v":""},{"$f":"IF(Athletenliste!H57=\"\",\"\",Athletenliste!H57)","v":""},null,{"$f":"IF(B57=\"\",\"\",IF(D57=\"m\",INDIRECT(VLOOKUP(G57,Bezüge!$E$6:$F$16,2,FALSE)&ROW(G57)),INDIRECT(VLOOKUP(G57,Bezüge!$B$6:$C$16,2,FALSE)&ROW(G57))))","v":""},null,null,null,"","","","","","","","","","","","","","","","","","","","","","",null,"","","","","","","","","","","","","","","","","","","","","",""]
[null,{"$f":"IF(Athletenliste!B58=\"\",\"\",Athletenliste!B58)","v":""},{"$f":"IF(Athletenliste!C58=\"\",\"\",Athletenliste!C58)","v":""},{"$f":"IF(Athletenliste!D58=\"\",\"\",Athletenliste!D58)","v":""},{"$f":"IF(Athletenliste!E58=\"\",\"\",Athletenliste!E58)","v":""},{"$f":"IF(Athletenliste!F58=\"\",\"\",Athletenliste!F58)","v":""},{"$f":"IF(Athletenliste!G58=\"\",\"\",Athletenliste!G58)","v":""},{"$f":"IF(Athletenliste!H58=\"\",\"\",Athletenliste!H58)","v":""},null,{"$f":"IF(B58=\"\",\"\",IF(D58=\"m\",INDIRECT(VLOOKUP(G58,Bezüge!$E$6:$F$16,2,FALSE)&ROW(G58)),INDIRECT(VLOOKUP(G58,Bezüge!$B$6:$C$16,2,FALSE)&ROW(G58))))","v":""},null,null,null,"","","","","","","","","","","","","","","","","","","","","","",null,"","","","","","","","","","","","","","","","","","","","","",""]
[null,{"$f":"IF(Athletenliste!B59=\"\",\"\",Athletenliste!B59)","v":""},{"$f":"IF(Athletenliste!C59=\"\",\"\",Athletenliste!C59)","v":""},{"$f":"IF(Athletenliste!D59=\"\",\"\",Athletenliste!D59)","v":""},{"$f":"IF(Athletenliste!E59=\"\",\"\",Athletenliste!E59)","v":""},{"$f":"IF(Athletenliste!F59=\"\",\"\",Athletenliste!F59)","v":""},{"$f":"IF(Athletenliste!G59=\"\",\"\",Athletenliste!G59)","v":""},{"$f":"IF(Athletenliste!H59=\"\",\"\",Athletenliste!H59)","v":""},null,{"$f":"IF(B59=\"\",\"\",IF(D59=\"m\",INDIRECT(VLOOKUP(G59,Bezüge!$E$6:$F$16,2,FALSE)&ROW(G59)),INDIRECT(VLOOKUP(G59,Bezüge!$B$6:$C$16,2,FALSE)&ROW(G59))))","v":""},null,null,null,"","","","","","","","","","","","","","","","","","","","","","",null,"","","","","","","","","","","","","","","","","","","","","",""]
[null,{"$f":"IF(Athletenliste!B60=\"\",\"\",Athletenliste!B60)","v":""},{"$f":"IF(Athletenliste!C60=\"\",\"\",Athletenliste!C60)","v":""},{"$f":"IF(Athletenliste!D60=\"\",\"\",Athletenliste!D60)","v":""},{"$f":"IF(Athletenliste!E60=\"\",\"\",Athletenliste!E60)","v":""},{"$f":"IF(Athletenliste!F60=\"\",\"\",Athletenliste!F60)","v":""},{"$f":"IF(Athletenliste!G60=\"\",\"\",Athletenliste!G60)","v":""},{"$f":"IF(Athletenliste!H60=\"\",\"\",Athletenliste!H60)","v":""},null,{"$f":"IF(B60=\"\",\"\",IF(D60=\"m\",INDIRECT(VLOOKUP(G60,Bezüge!$E$6:$F$16,2,FALSE)&ROW(G60)),INDIRECT(VLOOKUP(G60,Bezüge!$B$6:$C$16,2,FALSE)&ROW(G60))))","v":""},null,null,null,"","","","","","","","","","","","","","","","","","","","","","",null,"","","","","","","","","","","","","","","","","","","","","",""]
[null,{"$f":"IF(Athletenliste!B61=\"\",\"\",Athletenliste!B61)","v":""},{"$f":"IF(Athletenliste!C61=\"\",\"\",Athletenliste!C61)","v":""},{"$f":"IF(Athletenliste!D61=\"\",\"\",Athletenliste!D61)","v":""},{"$f":"IF(Athletenliste!E61=\"\",\"\",Athletenliste!E61)","v":""},{"$f":"IF(Athletenliste!F61=\"\",\"\",Athletenliste!F61)","v":""},{"$f":"IF(Athletenliste!G61=\"\",\"\",Athletenliste!G61)","v":""},{"$f":"IF(Athletenliste!H61=\"\",\"\",Athletenliste!H61)","v":""},null,{"$f":"IF(B61=\"\",\"\",IF(D61=\"m\",INDIRECT(VLOOKUP(G61,Bezüge!$E$6:$F$16,2,FALSE)&ROW(G61)),INDIRECT(VLOOKUP(G61,Bezüge!$B$6:$C$16,2,FALSE)&ROW(G61))))","v":""},null,null,null,"","","","","","","","","","","","","","","","","","","","","","",null,"","","","","","","","","","","","","","","","","","","","","",""]
[null,{"$f":"IF(Athletenliste!B62=\"\",\"\",Athletenliste!B62)","v":""},{"$f":"IF(Athletenliste!C62=\"\",\"\",Athletenliste!C62)","v":""},{"$f":"IF(Athletenliste!D62=\"\",\"\",Athletenliste!D62)","v":""},{"$f":"IF(Athletenliste!E62=\"\",\"\",Athletenliste!E62)","v":""},{"$f":"IF(Athletenliste!F62=\"\",\"\",Athletenliste!F62)","v":""},{"$f":"IF(Athletenliste!G62=\"\",\"\",Athletenliste!G62)","v":""},{"$f":"IF(Athletenliste!H62=\"\",\"\",Athletenliste!H62)","v":""},null,{"$f":"IF(B62=\"\",\"\",IF(D62=\"m\",INDIRECT(VLOOKUP(G62,Bezüge!$E$6:$F$16,2,FALSE)&ROW(G62)),INDIRECT(VLOOKUP(G62,Bezüge!$B$6:$C$16,2,FALSE)&ROW(G62))))","v":""},null,null,null,"","","","","","","","","","","","","","","","","","","","","","",null,"","","","","","","","","","","","","","","","","","","","","",""]
[null,{"$f":"IF(Athletenliste!B63=\"\",\"\",Athletenliste!B63)","v":""},{"$f":"IF(Athletenliste!C63=\"\",\"\",Athletenliste!C63)","v":""},{"$f":"IF(Athletenliste!D63=\"\",\"\",Athletenliste!D63)","v":""},{"$f":"IF(Athletenliste!E63=\"\",\"\",Athletenliste!E63)","v":""},{"$f":"IF(Athletenliste!F63=\"\",\"\",Athletenliste!F63)","v":""},{"$f":"IF(Athletenliste!G63=\"\",\"\",Athletenliste!G63)","v":""},{"$f":"IF(Athletenliste!H63=\"\",\"\",Athletenliste!H63)","v":""},null,{"$f":"IF(B63=\"\",\"\",IF(D63=\"m\",INDIRECT(VLOOKUP(G63,Bezüge!$E$6:$F$16,2,FALSE)&ROW(G63)),INDIRECT(VLOOKUP(G63,Bezüge!$B$6:$C$16,2,FALSE)&ROW(G63))))","v":""},null,null,null,"","","","","","","","","","","","","","","","","","","","","","",null,"","","","","","","","","","","","","","","","","","","","","",""]
[null,{"$f":"IF(Athletenliste!B64=\"\",\"\",Athletenliste!B64)","v":""},{"$f":"IF(Athletenliste!C64=\"\",\"\",Athletenliste!C64)","v":""},{"$f":"IF(Athletenliste!D64=\"\",\"\",Athletenliste!D64)","v":""},{"$f":"IF(Athletenliste!E64=\"\",\"\",Athletenliste!E64)","v":""},{"$f":"IF(Athletenliste!F64=\"\",\"\",Athletenliste!F64)","v":""},{"$f":"IF(Athletenliste!G64=\"\",\"\",Athletenliste!G64)","v":""},{"$f":"IF(Athletenliste!H64=\"\",\"\",Athletenliste!H64)","v":""},null,{"$f":"IF(B64=\"\",\"\",IF(D64=\"m\",INDIRECT(VLOOKUP(G64,Bezüge!$E$6:$F$16,2,FALSE)&ROW(G64)),INDIRECT(VLOOKUP(G64,Bezüge!$B$6:$C$16,2,FALSE)&ROW(G64))))","v":""},null,null,null,"","","","","","","","","","","","","","","","","","","","","","",null,"","","","","","","","","","","","","","","","","","","","","",""]
[null,{"$f":"IF(Athletenliste!B65=\"\",\"\",Athletenliste!B65)","v":""},{"$f":"IF(Athletenliste!C65=\"\",\"\",Athletenliste!C65)","v":""},{"$f":"IF(Athletenliste!D65=\"\",\"\",Athletenliste!D65)","v":""},{"$f":"IF(Athletenliste!E65=\"\",\"\",Athletenliste!E65)","v":""},{"$f":"IF(Athletenliste!F65=\"\",\"\",Athletenliste!F65)","v":""},{"$f":"IF(Athletenliste!G65=\"\",\"\",Athletenliste!G65)","v":""},{"$f":"IF(Athletenliste!H65=\"\",\"\",Athletenliste!H65)","v":""},null,{"$f":"IF(B65=\"\",\"\",IF(D65=\"m\",INDIRECT(VLOOKUP(G65,Bezüge!$E$6:$F$16,2,FALSE)&ROW(G65)),INDIRECT(VLOOKUP(G65,Bezüge!$B$6:$C$16,2,FALSE)&ROW(G65))))","v":""},null,null,null,"","","","","","","","","","","","","","","","","","","","","","",null,"","","","","","","","","","","","","","","","","","","","","",""]
[null,{"$f":"IF(Athletenliste!B66=\"\",\"\",Athletenliste!B66)","v":""},{"$f":"IF(Athletenliste!C66=\"\",\"\",Athletenliste!C66)","v":""},{"$f":"IF(Athletenliste!D66=\"\",\"\",Athletenliste!D66)","v":""},{"$f":"IF(Athletenliste!E66=\"\",\"\",Athletenliste!E66)","v":""},{"$f":"IF(Athletenliste!F66=\"\",\"\",Athletenliste!F66)","v":""},{"$f":"IF(Athletenliste!G66=\"\",\"\",Athletenliste!G66)","v":""},{"$f":"IF(Athletenliste!H66=\"\",\"\",Athletenliste!H66)","v":""},null,{"$f":"IF(B66=\"\",\"\",IF(D66=\"m\",INDIRECT(VLOOKUP(G66,Bezüge!$E$6:$F$16,2,FALSE)&ROW(G66)),INDIRECT(VLOOKUP(G66,Bezüge!$B$6:$C$16,2,FALSE)&ROW(G66))))","v":""},null,null,null,"","","","","","","","","","","","","","","","","","","","","","",null,"","","","","","","","","","","","","","","","","","","","","",""]
[null,{"$f":"IF(Athletenliste!B67=\"\",\"\",Athletenliste!B67)","v":""},{"$f":"IF(Athletenliste!C67=\"\",\"\",Athletenliste!C67)","v":""},{"$f":"IF(Athletenliste!D67=\"\",\"\",Athletenliste!D67)","v":""},{"$f":"IF(Athletenliste!E67=\"\",\"\",Athletenliste!E67)","v":""},{"$f":"IF(Athletenliste!F67=\"\",\"\",Athletenliste!F67)","v":""},{"$f":"IF(Athletenliste!G67=\"\",\"\",Athletenliste!G67)","v":""},{"$f":"IF(Athletenliste!H67=\"\",\"\",Athletenliste!H67)","v":""},null,{"$f":"IF(B67=\"\",\"\",IF(D67=\"m\",INDIRECT(VLOOKUP(G67,Bezüge!$E$6:$F$16,2,FALSE)&ROW(G67)),INDIRECT(VLOOKUP(G67,Bezüge!$B$6:$C$16,2,FALSE)&ROW(G67))))","v":""},null,null,null,"","","","","","","","","","","","","","","","","","","","","","",null,"","","","","","","","","","","","","","","","","","","","","",""]
[null,{"$f":"IF(Athletenliste!B68=\"\",\"\",Athletenliste!B68)","v":""},{"$f":"IF(Athletenliste!C68=\"\",\"\",Athletenliste!C68)","v":""},{"$f":"IF(Athletenliste!D68=\"\",\"\",Athletenliste!D68)","v":""},{"$f":"IF(Athletenliste!E68=\"\",\"\",Athletenliste!E68)","v":""},{"$f":"IF(Athletenliste!F68=\"\",\"\",Athletenliste!F68)","v":""},{"$f":"IF(Athletenliste!G68=\"\",\"\",Athletenliste!G68)","v":""},{"$f":"IF(Athletenliste!H68=\"\",\"\",Athletenliste!H68)","v":""},null,{"$f":"IF(B68=\"\",\"\",IF(D68=\"m\",INDIRECT(VLOOKUP(G68,Bezüge!$E$6:$F$16,2,FALSE)&ROW(G68)),INDIRECT(VLOOKUP(G68,Bezüge!$B$6:$C$16,2,FALSE)&ROW(G68))))","v":""},null,null,null,"","","","","","","","","","","","","","","","","","","","","","",null,"","","","","","","","","","","","","","","","","","","","","",""]
[null,{"$f":"IF(Athletenliste!B69=\"\",\"\",Athletenliste!B69)","v":""},{"$f":"IF(Athletenliste!C69=\"\",\"\",Athletenliste!C69)","v":""},{"$f":"IF(Athletenliste!D69=\"\",\"\",Athletenliste!D69)","v":""},{"$f":"IF(Athletenliste!E69=\"\",\"\",Athletenliste!E69)","v":""},{"$f":"IF(Athletenliste!F69=\"\",\"\",Athletenliste!F69)","v":""},{"$f":"IF(Athletenliste!G69=\"\",\"\",Athletenliste!G69)","v":""},{"$f":"IF(Athletenliste!H69=\"\",\"\",Athletenliste!H69)","v":""},null,{"$f":"IF(B69=\"\",\"\",IF(D69=\"m\",INDIRECT(VLOOKUP(G69,Bezüge!$E$6:$F$16,2,FALSE)&ROW(G69)),INDIRECT(VLOOKUP(G69,Bezüge!$B$6:$C$16,2,FALSE)&ROW(G69))))","v":""},null,null,null,"","","","","","","","","","","","","","","","","","","","","","",null,"","","","","","","","","","","","","","","","","","","","","",""]
[null,{"$f":"IF(Athletenliste!B70=\"\",\"\",Athletenliste!B70)","v":""},{"$f":"IF(Athletenliste!C70=\"\",\"\",Athletenliste!C70)","v":""},{"$f":"IF(Athletenliste!D70=\"\",\"\",Athletenliste!D70)","v":""},{"$f":"IF(Athletenliste!E70=\"\",\"\",Athletenliste!E70)","v":""},{"$f":"IF(Athletenliste!F70=\"\",\"\",Athletenliste!F70)","v":""},{"$f":"IF(Athletenliste!G70=\"\",\"\",Athletenliste!G70)","v":""},{"$f":"IF(Athletenliste!H70=\"\",\"\",Athletenliste!H70)","v":""},null,{"$f":"IF(B70=\"\",\"\",IF(D70=\"m\",INDIRECT(VLOOKUP(G70,Bezüge!$E$6:$F$16,2,FALSE)&ROW(G70)),INDIRECT(VLOOKUP(G70,Bezüge!$B$6:$C$16,2,FALSE)&ROW(G70))))","v":""},null,null,null,"","","","","","","","","","","","","","","","","","","","","","",null,"","","","","","","","","","","","","","","","","","","","","",""]
[null,{"$f":"IF(Athletenliste!B71=\"\",\"\",Athletenliste!B71)","v":""},{"$f":"IF(Athletenliste!C71=\"\",\"\",Athletenliste!C71)","v":""},{"$f":"IF(Athletenliste!D71=\"\",\"\",Athletenliste!D71)","v":""},{"$f":"IF(Athletenliste!E71=\"\",\"\",Athletenliste!E71)","v":""},{"$f":"IF(Athletenliste!F71=\"\",\"\",Athletenliste!F71)","v":""},{"$f":"IF(Athletenliste!G71=\"\",\"\",Athletenliste!G71)","v":""},{"$f":"IF(Athletenliste!H71=\"\",\"\",Athletenliste!H71)","v":""},null,{"$f":"IF(B71=\"\",\"\",IF(D71=\"m\",INDIRECT(VLOOKUP(G71,Bezüge!$E$6:$F$16,2,FALSE)&ROW(G71)),INDIRECT(VLOOKUP(G71,Bezüge!$B$6:$C$16,2,FALSE)&ROW(G71))))","v":""},null,null,null,"","","","","","","","","","","","","","","","","","","","","","",null,"","","","","","","","","","","","","","","","","","","","","",""]
[null,{"$f":"IF(Athletenliste!B72=\"\",\"\",Athletenliste!B72)","v":""},{"$f":"IF(Athletenliste!C72=\"\",\"\",Athletenliste!C72)","v":""},{"$f":"IF(Athletenliste!D72=\"\",\"\",Athletenliste!D72)","v":""},{"$f":"IF(Athletenliste!E72=\"\",\"\",Athletenliste!E72)","v":""},{"$f":"IF(Athletenliste!F72=\"\",\"\",Athletenliste!F72)","v":""},{"$f":"IF(Athletenliste!G72=\"\",\"\",Athletenliste!G72)","v":""},{"$f":"IF(Athletenliste!H72=\"\",\"\",Athletenliste!H72)","v":""},null,{"$f":"IF(B72=\"\",\"\",IF(D72=\"m\",INDIRECT(VLOOKUP(G72,Bezüge!$E$6:$F$16,2,FALSE)&ROW(G72)),INDIRECT(VLOOKUP(G72,Bezüge!$B$6:$C$16,2,FALSE)&ROW(G72))))","v":""},null,null,null,"","","","","","","","","","","","","","","","","","","","","","",null,"","","","","","","","","","","","","","","","","","","","","",""]
[null,{"$f":"IF(Athletenliste!B73=\"\",\"\",Athletenliste!B73)","v":""},{"$f":"IF(Athletenliste!C73=\"\",\"\",Athletenliste!C73)","v":""},{"$f":"IF(Athletenliste!D73=\"\",\"\",Athletenliste!D73)","v":""},{"$f":"IF(Athletenliste!E73=\"\",\"\",Athletenliste!E73)","v":""},{"$f":"IF(Athletenliste!F73=\"\",\"\",Athletenliste!F73)","v":""},{"$f":"IF(Athletenliste!G73=\"\",\"\",Athletenliste!G73)","v":""},{"$f":"IF(Athletenliste!H73=\"\",\"\",Athletenliste!H73)","v":""},null,{"$f":"IF(B73=\"\",\"\",IF(D73=\"m\",INDIRECT(VLOOKUP(G73,Bezüge!$E$6:$F$16,2,FALSE)&ROW(G73)),INDIRECT(VLOOKUP(G73,Bezüge!$B$6:$C$16,2,FALSE)&ROW(G73))))","v":""},null,null,null,"","","","","","","","","","","","","","","","","","","","","","",null,"","","","","","","","","","","","","","","","","","","","","",""]
[null,{"$f":"IF(Athletenliste!B74=\"\",\"\",Athletenliste!B74)","v":""},{"$f":"IF(Athletenliste!C74=\"\",\"\",Athletenliste!C74)","v":""},{"$f":"IF(Athletenliste!D74=\"\",\"\",Athletenliste!D74)","v":""},{"$f":"IF(Athletenliste!E74=\"\",\"\",Athletenliste!E74)","v":""},{"$f":"IF(Athletenliste!F74=\"\",\"\",Athletenliste!F74)","v":""},{"$f":"IF(Athletenliste!G74=\"\",\"\",Athletenliste!G74)","v":""},{"$f":"IF(Athletenliste!H74=\"\",\"\",Athletenliste!H74)","v":""},null,{"$f":"IF(B74=\"\",\"\",IF(D74=\"m\",INDIRECT(VLOOKUP(G74,Bezüge!$E$6:$F$16,2,FALSE)&ROW(G74)),INDIRECT(VLOOKUP(G74,Bezüge!$B$6:$C$16,2,FALSE)&ROW(G74))))","v":""},null,null,null,"","","","","","","","","","","","","","","","","","","","","","",null,"","","","","","","","","","","","","","","","","","","","","",""]
[null,{"$f":"IF(Athletenliste!B75=\"\",\"\",Athletenliste!B75)","v":""},{"$f":"IF(Athletenliste!C75=\"\",\"\",Athletenliste!C75)","v":""},{"$f":"IF(Athletenliste!D75=\"\",\"\",Athletenliste!D75)","v":""},{"$f":"IF(Athletenliste!E75=\"\",\"\",Athletenliste!E75)","v":""},{"$f":"IF(Athletenliste!F75=\"\",\"\",Athletenliste!F75)","v":""},{"$f":"IF(Athletenliste!G75=\"\",\"\",Athletenliste!G75)","v":""},{"$f":"IF(Athletenliste!H75=\"\",\"\",Athletenliste!H75)","v":""},null,{"$f":"IF(B75=\"\",\"\",IF(D75=\"m\",INDIRECT(VLOOKUP(G75,Bezüge!$E$6:$F$16,2,FALSE)&ROW(G75)),INDIRECT(VLOOKUP(G75,Bezüge!$B$6:$C$16,2,FALSE)&ROW(G75))))","v":""},null,null,null,{"$f":"IF(AND(D75=\"m\",G75=\"U06\",I75<>\"\"),I75,\"\")","v":""},{"$f":"IF(OR(I75=\"\",N75=\"\"),\"\",_xlfn.RANK.EQ(N75,N$10:N$200,1))","v":""},{"$f":"IF(AND(D75=\"m\",G75=\"U07\",I75<>\"\"),I75,\"\")","v":""},{"$f":"IF(OR(I75=\"\",P75=\"\"),\"\",_xlfn.RANK.EQ(P75,P$10:P$200,1))","v":""},{"$f":"IF(AND(D75=\"m\",G75=\"U08\",I75<>\"\"),I75,\"\")","v":""},{"$f":"IF(OR(I75=\"\",R75=\"\"),\"\",_xlfn.RANK.EQ(R75,R$10:R$200,1))","v":""},{"$f":"IF(AND(D75=\"m\",G75=\"U09\",I75<>\"\"),I75,\"\")","v":""},{"$f":"IF(OR(I75=\"\",T75=\"\"),\"\",_xlfn.RANK.EQ(T75,T$10:T$200,1))","v":""},{"$f":"IF(AND(D75=\"m\",G75=\"U10\",I75<>\"\"),I75,\"\")","v":""},{"$f":"IF(OR(I75=\"\",V75=\"\"),\"\",_xlfn.RANK.EQ(V75,V$10:V$200,1))","v":""},{"$f":"IF(AND(D75=\"m\",G75=\"U11\",I75<>\"\"),I75,\"\")","v":""},{"$f":"IF(OR(I75=\"\",X75=\"\"),\"\",_xlfn.RANK.EQ(X75,X$10:X$200,1))","v":""},{"$f":"IF(AND(D75=\"m\",G75=\"U12\",I75<>\"\"),I75,\"\")","v":""},{"$f":"IF(OR(I75=\"\",Z75=\"\"),\"\",_xlfn.RANK.EQ(Z75,Z$10:Z$200,1))","v":""},{"$f":"IF(AND(D75=\"m\",G75=\"U13\",I75<>\"\"),I75,\"\")","v":""},{"$f":"IF(OR(I75=\"\",AB75=\"\"),\"\",_xlfn.RANK.EQ(AB75,AB$10:AB$200,1))","v":""},{"$f":"IF(AND(D75=\"m\",G75=\"U14\",I75<>\"\"),I75,\"\")","v":""},{"$f":"IF(OR(I75=\"\",AD75=\"\"),\"\",_xlfn.RANK.EQ(AD75,AD$10:AD$200,1))","v":""},{"$f":"IF(AND(D75=\"m\",G75=\"U15\",I75<>\"\"),I75,\"\")","v":""},{"$f":"IF(OR(I75=\"\",AF75=\"\"),\"\",_xlfn.RANK.EQ(AF75,AF$10:AF$200,1))","v":""},{"$f":"IF(AND(D75=\"m\",G75=\"U16\",I75<>\"\"),I75,\"\")","v":""},{"$f":"IF(OR(I75=\"\",AH75=\"\"),\"\",_xlfn.RANK.EQ(AH75,AH$10:AH$200,1))","v":""},null,{"$f":"IF(AND(D75=\"w\",G75=\"U06\",I75<>\"\"),I75,\"\")","v":""},{"$f":"IF(OR(I75=\"\",AI75=\"\"),\"\",_xlfn.RANK.EQ(AI75,AI$10:AI$200,1))","v":""},{"$f":"IF(AND(D75=\"w\",G75=\"U07\",I75<>\"\"),I75,\"\")","v":""},{"$f":"IF(OR(I75=\"\",AM75=\"\"),\"\",_xlfn.RANK.EQ(AM75,AM$10:AM$20,1))","v":""},{"$f":"IF(AND(D75=\"w\",G75=\"U08\",I75<>\"\"),I75,\"\")","v":""},{"$f":"IF(OR(I75=\"\",AO75=\"\"),\"\",_xlfn.RANK.EQ(AO75,AO$10:AO$200,0))","v":""},{"$f":"IF(AND(D75=\"w\",G75=\"U09\",I75<>\"\"),I75,\"\")","v":""},{"$f":"IF(OR(I75=\"\",AQ75=\"\"),\"\",_xlfn.RANK.EQ(AQ75,AQ$10:AQ$200,1))","v":""},{"$f":"IF(AND(D75=\"w\",G75=\"U10\",I75<>\"\"),I75,\"\")","v":""},{"$f":"IF(OR(I75=\"\",AS75=\"\"),\"\",_xlfn.RANK.EQ(AS75,AS$10:AS$200,1))","v":""},{"$f":"IF(AND(D75=\"w\",G75=\"U11\",I75<>\"\"),I75,\"\")","v":""},{"$f":"IF(OR(I75=\"\",AU75=\"\"),\"\",_xlfn.RANK.EQ(AU75,AU$10:AU$200,1))","v":""},{"$f":"IF(AND(D75=\"w\",G75=\"U12\",I75<>\"\"),I75,\"\")","v":""},{"$f":"IF(OR(I75=\"\",AW75=\"\"),\"\",_xlfn.RANK.EQ(AW75,AW$10:AW$200,1))","v":""},{"$f":"IF(AND(D75=\"w\",G75=\"U13\",I75<>\"\"),I75,\"\")","v":""},{"$f":"IF(OR(I75=\"\",AY75=\"\"),\"\",_xlfn.RANK.EQ(AY75,AY$10:AY$200,1))","v":""},{"$f":"IF(AND(D75=\"w\",G75=\"U14\",I75<>\"\"),I75,\"\")","v":""},{"$f":"IF(OR(I75=\"\",BA75=\"\"),\"\",_xlfn.RANK.EQ(BA75,BA$10:BA$200,1))","v":""},{"$f":"IF(AND(D75=\"w\",G75=\"U15\",I75<>\"\"),I75,\"\")","v":""},{"$f":"IF(OR(I75=\"\",BC75=\"\"),\"\",_xlfn.RANK.EQ(BC75,BC$10:BC$200,1))","v":""},{"$f":"IF(AND(D75=\"w\",G75=\"U16\",I75<>\"\"),I75,\"\")","v":""},{"$f":"IF(OR(I75=\"\",BE75=\"\"),\"\",_xlfn.RANK.EQ(BE75,BE$10:BE$200,1))","v":""}]
[null,{"$f":"IF(Athletenliste!B76=\"\",\"\",Athletenliste!B76)","v":""},{"$f":"IF(Athletenliste!C76=\"\",\"\",Athletenliste!C76)","v":""},{"$f":"IF(Athletenliste!D76=\"\",\"\",Athletenliste!D76)","v":""},{"$f":"IF(Athletenliste!E76=\"\",\"\",Athletenliste!E76)","v":""},{"$f":"IF(Athletenliste!F76=\"\",\"\",Athletenliste!F76)","v":""},{"$f":"IF(Athletenliste!G76=\"\",\"\",Athletenliste!G76)","v":""},{"$f":"IF(Athletenliste!H76=\"\",\"\",Athletenliste!H76)","v":""},null,{"$f":"IF(B76=\"\",\"\",IF(D76=\"m\",INDIRECT(VLOOKUP(G76,Bezüge!$E$6:$F$16,2,FALSE)&ROW(G76)),INDIRECT(VLOOKUP(G76,Bezüge!$B$6:$C$16,2,FALSE)&ROW(G76))))","v":""},null,null,null,"","","","","","","","","","","","","","","","","","","","","","",null,"","","","","","","","","","","","","","","","","","","","","",""]
[null,{"$f":"IF(Athletenliste!B77=\"\",\"\",Athletenliste!B77)","v":""},{"$f":"IF(Athletenliste!C77=\"\",\"\",Athletenliste!C77)","v":""},{"$f":"IF(Athletenliste!D77=\"\",\"\",Athletenliste!D77)","v":""},{"$f":"IF(Athletenliste!E77=\"\",\"\",Athletenliste!E77)","v":""},{"$f":"IF(Athletenliste!F77=\"\",\"\",Athletenliste!F77)","v":""},{"$f":"IF(Athletenliste!G77=\"\",\"\",Athletenliste!G77)","v":""},{"$f":"IF(Athletenliste!H77=\"\",\"\",Athletenliste!H77)","v":""},null,{"$f":"IF(B77=\"\",\"\",IF(D77=\"m\",INDIRECT(VLOOKUP(G77,Bezüge!$E$6:$F$16,2,FALSE)&ROW(G77)),INDIRECT(VLOOKUP(G77,Bezüge!$B$6:$C$16,2,FALSE)&ROW(G77))))","v":""},null,null,null,"","","","","","","","","","","","","","","","","","","","","","",null,"","","","","","","","","","","","","","","","","","","","","",""]
[null,{"$f":"IF(Athletenliste!B78=\"\",\"\",Athletenliste!B78)","v":""},{"$f":"IF(Athletenliste!C78=\"\",\"\",Athletenliste!C78)","v":""},{"$f":"IF(Athletenliste!D78=\"\",\"\",Athletenliste!D78)","v":""},{"$f":"IF(Athletenliste!E78=\"\",\"\",Athletenliste!E78)","v":""},{"$f":"IF(Athletenliste!F78=\"\",\"\",Athletenliste!F78)","v":""},{"$f":"IF(Athletenliste!G78=\"\",\"\",Athletenliste!G78)","v":""},{"$f":"IF(Athletenliste!H78=\"\",\"\",Athletenliste!H78)","v":""},null,{"$f":"IF(B78=\"\",\"\",IF(D78=\"m\",INDIRECT(VLOOKUP(G78,Bezüge!$E$6:$F$16,2,FALSE)&ROW(G78)),INDIRECT(VLOOKUP(G78,Bezüge!$B$6:$C$16,2,FALSE)&ROW(G78))))","v":""},null,null,null,"","","","","","","","","","","","","","","","","","","","","","",null,"","","","","","","","","","","","","","","","","","","","","",""]
[null,{"$f":"IF(Athletenliste!B79=\"\",\"\",Athletenliste!B79)","v":""},{"$f":"IF(Athletenliste!C79=\"\",\"\",Athletenliste!C79)","v":""},{"$f":"IF(Athletenliste!D79=\"\",\"\",Athletenliste!D79)","v":""},{"$f":"IF(Athletenliste!E79=\"\",\"\",Athletenliste!E79)","v":""},{"$f":"IF(Athletenliste!F79=\"\",\"\",Athletenliste!F79)","v":""},{"$f":"IF(Athletenliste!G79=\"\",\"\",Athletenliste!G79)","v":""},{"$f":"IF(Athletenliste!H79=\"\",\"\",Athletenliste!H79)","v":""},null,{"$f":"IF(B79=\"\",\"\",IF(D79=\"m\",INDIRECT(VLOOKUP(G79,Bezüge!$E$6:$F$16,2,FALSE)&ROW(G79)),INDIRECT(VLOOKUP(G79,Bezüge!$B$6:$C$16,2,FALSE)&ROW(G79))))","v":""},null,null,null,"","","","","","","","","","","","","","","","","","","","","","",null,"","","","","","","","","","","","","","","","","","","","","",""]
[null,{"$f":"IF(Athletenliste!B80=\"\",\"\",Athletenliste!B80)","v":""},{"$f":"IF(Athletenliste!C80=\"\",\"\",Athletenliste!C80)","v":""},{"$f":"IF(Athletenliste!D80=\"\",\"\",Athletenliste!D80)","v":""},{"$f":"IF(Athletenliste!E80=\"\",\"\",Athletenliste!E80)","v":""},{"$f":"IF(Athletenliste!F80=\"\",\"\",Athletenliste!F80)","v":""},{"$f":"IF(Athletenliste!G80=\"\",\"\",Athletenliste!G80)","v":""},{"$f":"IF(Athletenliste!H80=\"\",\"\",Athletenliste!H80)","v":""},null,{"$f":"IF(B80=\"\",\"\",IF(D80=\"m\",INDIRECT(VLOOKUP(G80,Bezüge!$E$6:$F$16,2,FALSE)&ROW(G80)),INDIRECT(VLOOKUP(G80,Bezüge!$B$6:$C$16,2,FALSE)&ROW(G80))))","v":""},null,null,null,"","","","","","","","","","","","","","","","","","","","","","",null,"","","","","","","","","","","","","","","","","","","","","",""]
[null,{"$f":"IF(Athletenliste!B81=\"\",\"\",Athletenliste!B81)","v":""},{"$f":"IF(Athletenliste!C81=\"\",\"\",Athletenliste!C81)","v":""},{"$f":"IF(Athletenliste!D81=\"\",\"\",Athletenliste!D81)","v":""},{"$f":"IF(Athletenliste!E81=\"\",\"\",Athletenliste!E81)","v":""},{"$f":"IF(Athletenliste!F81=\"\",\"\",Athletenliste!F81)","v":""},{"$f":"IF(Athletenliste!G81=\"\",\"\",Athletenliste!G81)","v":""},{"$f":"IF(Athletenliste!H81=\"\",\"\",Athletenliste!H81)","v":""},null,{"$f":"IF(B81=\"\",\"\",IF(D81=\"m\",INDIRECT(VLOOKUP(G81,Bezüge!$E$6:$F$16,2,FALSE)&ROW(G81)),INDIRECT(VLOOKUP(G81,Bezüge!$B$6:$C$16,2,FALSE)&ROW(G81))))","v":""},null,null,null,"","","","","","","","","","","","","","","","","","","","","","",null,"","","","","","","","","","","","","","","","","","","","","",""]
[null,{"$f":"IF(Athletenliste!B82=\"\",\"\",Athletenliste!B82)","v":""},{"$f":"IF(Athletenliste!C82=\"\",\"\",Athletenliste!C82)","v":""},{"$f":"IF(Athletenliste!D82=\"\",\"\",Athletenliste!D82)","v":""},{"$f":"IF(Athletenliste!E82=\"\",\"\",Athletenliste!E82)","v":""},{"$f":"IF(Athletenliste!F82=\"\",\"\",Athletenliste!F82)","v":""},{"$f":"IF(Athletenliste!G82=\"\",\"\",Athletenliste!G82)","v":""},{"$f":"IF(Athletenliste!H82=\"\",\"\",Athletenliste!H82)","v":""},null,{"$f":"IF(B82=\"\",\"\",IF(D82=\"m\",INDIRECT(VLOOKUP(G82,Bezüge!$E$6:$F$16,2,FALSE)&ROW(G82)),INDIRECT(VLOOKUP(G82,Bezüge!$B$6:$C$16,2,FALSE)&ROW(G82))))","v":""},null,null,null,"","","","","","","","","","","","","","","","","","","","","","",null,"","","","","","","","","","","","","","","","","","","","","",""]
[null,{"$f":"IF(Athletenliste!B83=\"\",\"\",Athletenliste!B83)","v":""},{"$f":"IF(Athletenliste!C83=\"\",\"\",Athletenliste!C83)","v":""},{"$f":"IF(Athletenliste!D83=\"\",\"\",Athletenliste!D83)","v":""},{"$f":"IF(Athletenliste!E83=\"\",\"\",Athletenliste!E83)","v":""},{"$f":"IF(Athletenliste!F83=\"\",\"\",Athletenliste!F83)","v":""},{"$f":"IF(Athletenliste!G83=\"\",\"\",Athletenliste!G83)","v":""},{"$f":"IF(Athletenliste!H83=\"\",\"\",Athletenliste!H83)","v":""},null,{"$f":"IF(B83=\"\",\"\",IF(D83=\"m\",INDIRECT(VLOOKUP(G83,Bezüge!$E$6:$F$16,2,FALSE)&ROW(G83)),INDIRECT(VLOOKUP(G83,Bezüge!$B$6:$C$16,2,FALSE)&ROW(G83))))","v":""},null,null,null,"","","","","","","","","","","","","","","","","","","","","","",null,"","","","","","","","","","","","","","","","","","","","","",""]
[null,{"$f":"IF(Athletenliste!B84=\"\",\"\",Athletenliste!B84)","v":""},{"$f":"IF(Athletenliste!C84=\"\",\"\",Athletenliste!C84)","v":""},{"$f":"IF(Athletenliste!D84=\"\",\"\",Athletenliste!D84)","v":""},{"$f":"IF(Athletenliste!E84=\"\",\"\",Athletenliste!E84)","v":""},{"$f":"IF(Athletenliste!F84=\"\",\"\",Athletenliste!F84)","v":""},{"$f":"IF(Athletenliste!G84=\"\",\"\",Athletenliste!G84)","v":""},{"$f":"IF(Athletenliste!H84=\"\",\"\",Athletenliste!H84)","v":""},null,{"$f":"IF(B84=\"\",\"\",IF(D84=\"m\",INDIRECT(VLOOKUP(G84,Bezüge!$E$6:$F$16,2,FALSE)&ROW(G84)),INDIRECT(VLOOKUP(G84,Bezüge!$B$6:$C$16,2,FALSE)&ROW(G84))))","v":""},null,null,null,"","","","","","","","","","","","","","","","","","","","","","",null,"","","","","","","","","","","","","","","","","","","","","",""]
[null,{"$f":"IF(Athletenliste!B85=\"\",\"\",Athletenliste!B85)","v":""},{"$f":"IF(Athletenliste!C85=\"\",\"\",Athletenliste!C85)","v":""},{"$f":"IF(Athletenliste!D85=\"\",\"\",Athletenliste!D85)","v":""},{"$f":"IF(Athletenliste!E85=\"\",\"\",Athletenliste!E85)","v":""},{"$f":"IF(Athletenliste!F85=\"\",\"\",Athletenliste!F85)","v":""},{"$f":"IF(Athletenliste!G85=\"\",\"\",Athletenliste!G85)","v":""},{"$f":"IF(Athletenliste!H85=\"\",\"\",Athletenliste!H85)","v":""},null,{"$f":"IF(B85=\"\",\"\",IF(D85=\"m\",INDIRECT(VLOOKUP(G85,Bezüge!$E$6:$F$16,2,FALSE)&ROW(G85)),INDIRECT(VLOOKUP(G85,Bezüge!$B$6:$C$16,2,FALSE)&ROW(G85))))","v":""},null,null,null,"","","","","","","","","","","","","","","","","","","","","","",null,"","","","","","","","","","","","","","","","","","","","","",""]
[null,{"$f":"IF(Athletenliste!B86=\"\",\"\",Athletenliste!B86)","v":""},{"$f":"IF(Athletenliste!C86=\"\",\"\",Athletenliste!C86)","v":""},{"$f":"IF(Athletenliste!D86=\"\",\"\",Athletenliste!D86)","v":""},{"$f":"IF(Athletenliste!E86=\"\",\"\",Athletenliste!E86)","v":""},{"$f":"IF(Athletenliste!F86=\"\",\"\",Athletenliste!F86)","v":""},{"$f":"IF(Athletenliste!G86=\"\",\"\",Athletenliste!G86)","v":""},{"$f":"IF(Athletenliste!H86=\"\",\"\",Athletenliste!H86)","v":""},null,{"$f":"IF(B86=\"\",\"\",IF(D86=\"m\",INDIRECT(VLOOKUP(G86,Bezüge!$E$6:$F$16,2,FALSE)&ROW(G86)),INDIRECT(VLOOKUP(G86,Bezüge!$B$6:$C$16,2,FALSE)&ROW(G86))))","v":""},null,null,null,"","","","","","","","","","","","","","","","","","","","","","",null,"","","","","","","","","","","","","","","","","","","","","",""]
[null,{"$f":"IF(Athletenliste!B87=\"\",\"\",Athletenliste!B87)","v":""},{"$f":"IF(Athletenliste!C87=\"\",\"\",Athletenliste!C87)","v":""},{"$f":"IF(Athletenliste!D87=\"\",\"\",Athletenliste!D87)","v":""},{"$f":"IF(Athletenliste!E87=\"\",\"\",Athletenliste!E87)","v":""},{"$f":"IF(Athletenliste!F87=\"\",\"\",Athletenliste!F87)","v":""},{"$f":"IF(Athletenliste!G87=\"\",\"\",Athletenliste!G87)","v":""},{"$f":"IF(Athletenliste!H87=\"\",\"\",Athletenliste!H87)","v":""},null,{"$f":"IF(B87=\"\",\"\",IF(D87=\"m\",INDIRECT(VLOOKUP(G87,Bezüge!$E$6:$F$16,2,FALSE)&ROW(G87)),INDIRECT(VLOOKUP(G87,Bezüge!$B$6:$C$16,2,FALSE)&ROW(G87))))","v":""},null,null,null,"","","","","","","","","","","","","","","","","","","","","","",null,"","","","","","","","","","","","","","","","","","","","","",""]
[null,{"$f":"IF(Athletenliste!B88=\"\",\"\",Athletenliste!B88)","v":""},{"$f":"IF(Athletenliste!C88=\"\",\"\",Athletenliste!C88)","v":""},{"$f":"IF(Athletenliste!D88=\"\",\"\",Athletenliste!D88)","v":""},{"$f":"IF(Athletenliste!E88=\"\",\"\",Athletenliste!E88)","v":""},{"$f":"IF(Athletenliste!F88=\"\",\"\",Athletenliste!F88)","v":""},{"$f":"IF(Athletenliste!G88=\"\",\"\",Athletenliste!G88)","v":""},{"$f":"IF(Athletenliste!H88=\"\",\"\",Athletenliste!H88)","v":""},null,{"$f":"IF(B88=\"\",\"\",IF(D88=\"m\",INDIRECT(VLOOKUP(G88,Bezüge!$E$6:$F$16,2,FALSE)&ROW(G88)),INDIRECT(VLOOKUP(G88,Bezüge!$B$6:$C$16,2,FALSE)&ROW(G88))))","v":""},null,null,null,"","","","","","","","","","","","","","","","","","","","","","",null,"","","","","","","","","","","","","","","","","","","","","",""]
[null,{"$f":"IF(Athletenliste!B89=\"\",\"\",Athletenliste!B89)","v":""},{"$f":"IF(Athletenliste!C89=\"\",\"\",Athletenliste!C89)","v":""},{"$f":"IF(Athletenliste!D89=\"\",\"\",Athletenliste!D89)","v":""},{"$f":"IF(Athletenliste!E89=\"\",\"\",Athletenliste!E89)","v":""},{"$f":"IF(Athletenliste!F89=\"\",\"\",Athletenliste!F89)","v":""},{"$f":"IF(Athletenliste!G89=\"\",\"\",Athletenliste!G89)","v":""},{"$f":"IF(Athletenliste!H89=\"\",\"\",Athletenliste!H89)","v":""},null,{"$f":"IF(B89=\"\",\"\",IF(D89=\"m\",INDIRECT(VLOOKUP(G89,Bezüge!$E$6:$F$16,2,FALSE)&ROW(G89)),INDIRECT(VLOOKUP(G89,Bezüge!$B$6:$C$16,2,FALSE)&ROW(G89))))","v":""},null,null,null,"","","","","","","","","","","","","","","","","","","","","","",null,"","","","","","","","","","","","","","","","","","","","","",""]
[null,{"$f":"IF(Athletenliste!B90=\"\",\"\",Athletenliste!B90)","v":""},{"$f":"IF(Athletenliste!C90=\"\",\"\",Athletenliste!C90)","v":""},{"$f":"IF(Athletenliste!D90=\"\",\"\",Athletenliste!D90)","v":""},{"$f":"IF(Athletenliste!E90=\"\",\"\",Athletenliste!E90)","v":""},{"$f":"IF(Athletenliste!F90=\"\",\"\",Athletenliste!F90)","v":""},{"$f":"IF(Athletenliste!G90=\"\",\"\",Athletenliste!G90)","v":""},{"$f":"IF(Athletenliste!H90=\"\",\"\",Athletenliste!H90)","v":""},null,{"$f":"IF(B90=\"\",\"\",IF(D90=\"m\",INDIRECT(VLOOKUP(G90,Bezüge!$E$6:$F$16,2,FALSE)&ROW(G90)),INDIRECT(VLOOKUP(G90,Bezüge!$B$6:$C$16,2,FALSE)&ROW(G90))))","v":""},null,null,null,"","","","","","","","","","","","","","","","","","","","","","",null,"","","","","","","","","","","","","","","","","","","","","",""]
[null,{"$f":"IF(Athletenliste!B91=\"\",\"\",Athletenliste!B91)","v":""},{"$f":"IF(Athletenliste!C91=\"\",\"\",Athletenliste!C91)","v":""},{"$f":"IF(Athletenliste!D91=\"\",\"\",Athletenliste!D91)","v":""},{"$f":"IF(Athletenliste!E91=\"\",\"\",Athletenliste!E91)","v":""},{"$f":"IF(Athletenliste!F91=\"\",\"\",Athletenliste!F91)","v":""},{"$f":"IF(Athletenliste!G91=\"\",\"\",Athletenliste!G91)","v":""},{"$f":"IF(Athletenliste!H91=\"\",\"\",Athletenliste!H91)","v":""},null,{"$f":"IF(B91=\"\",\"\",IF(D91=\"m\",INDIRECT(VLOOKUP(G91,Bezüge!$E$6:$F$16,2,FALSE)&ROW(G91)),INDIRECT(VLOOKUP(G91,Bezüge!$B$6:$C$16,2,FALSE)&ROW(G91))))","v":""},null,null,null,"","","","","","","","","","","","","","","","","","","","","","",null,"","","","","","","","","","","","","","","","","","","","","",""]
[null,{"$f":"IF(Athletenliste!B92=\"\",\"\",Athletenliste!B92)","v":""},{"$f":"IF(Athletenliste!C92=\"\",\"\",Athletenliste!C92)","v":""},{"$f":"IF(Athletenliste!D92=\"\",\"\",Athletenliste!D92)","v":""},{"$f":"IF(Athletenliste!E92=\"\",\"\",Athletenliste!E92)","v":""},{"$f":"IF(Athletenliste!F92=\"\",\"\",Athletenliste!F92)","v":""},{"$f":"IF(Athletenliste!G92=\"\",\"\",Athletenliste!G92)","v":""},{"$f":"IF(Athletenliste!H92=\"\",\"\",Athletenliste!H92)","v":""},null,{"$f":"IF(B92=\"\",\"\",IF(D92=\"m\",INDIRECT(VLOOKUP(G92,Bezüge!$E$6:$F$16,2,FALSE)&ROW(G92)),INDIRECT(VLOOKUP(G92,Bezüge!$B$6:$C$16,2,FALSE)&ROW(G92))))","v":""},null,null,null,"","","","","","","","","","","","","","","","","","","","","","",null,"","","","","","","","","","","","","","","","","","","","","",""]
[null,{"$f":"IF(Athletenliste!B93=\"\",\"\",Athletenliste!B93)","v":""},{"$f":"IF(Athletenliste!C93=\"\",\"\",Athletenliste!C93)","v":""},{"$f":"IF(Athletenliste!D93=\"\",\"\",Athletenliste!D93)","v":""},{"$f":"IF(Athletenliste!E93=\"\",\"\",Athletenliste!E93)","v":""},{"$f":"IF(Athletenliste!F93=\"\",\"\",Athletenliste!F93)","v":""},{"$f":"IF(Athletenliste!G93=\"\",\"\",Athletenliste!G93)","v":""},{"$f":"IF(Athletenliste!H93=\"\",\"\",Athletenliste!H93)","v":""},null,{"$f":"IF(B93=\"\",\"\",IF(D93=\"m\",INDIRECT(VLOOKUP(G93,Bezüge!$E$6:$F$16,2,FALSE)&ROW(G93)),INDIRECT(VLOOKUP(G93,Bezüge!$B$6:$C$16,2,FALSE)&ROW(G93))))","v":""},null,null,null,"","","","","","","","","","","","","","","","","","","","","","",null,"","","","","","","","","","","","","","","","","","","","","",""]
[null,{"$f":"IF(Athletenliste!B94=\"\",\"\",Athletenliste!B94)","v":""},{"$f":"IF(Athletenliste!C94=\"\",\"\",Athletenliste!C94)","v":""},{"$f":"IF(Athletenliste!D94=\"\",\"\",Athletenliste!D94)","v":""},{"$f":"IF(Athletenliste!E94=\"\",\"\",Athletenliste!E94)","v":""},{"$f":"IF(Athletenliste!F94=\"\",\"\",Athletenliste!F94)","v":""},{"$f":"IF(Athletenliste!G94=\"\",\"\",Athletenliste!G94)","v":""},{"$f":"IF(Athletenliste!H94=\"\",\"\",Athletenliste!H94)","v":""},null,{"$f":"IF(B94=\"\",\"\",IF(D94=\"m\",INDIRECT(VLOOKUP(G94,Bezüge!$E$6:$F$16,2,FALSE)&ROW(G94)),INDIRECT(VLOOKUP(G94,Bezüge!$B$6:$C$16,2,FALSE)&ROW(G94))))","v":""},null,null,null,"","","","","","","","","","","","","","","","","","","","","","",null,"","","","","","","","","","","","","","","","","","","","","",""]
[null,{"$f":"IF(Athletenliste!B95=\"\",\"\",Athletenliste!B95)","v":""},{"$f":"IF(Athletenliste!C95=\"\",\"\",Athletenliste!C95)","v":""},{"$f":"IF(Athletenliste!D95=\"\",\"\",Athletenliste!D95)","v":""},{"$f":"IF(Athletenliste!E95=\"\",\"\",Athletenliste!E95)","v":""},{"$f":"IF(Athletenliste!F95=\"\",\"\",Athletenliste!F95)","v":""},{"$f":"IF(Athletenliste!G95=\"\",\"\",Athletenliste!G95)","v":""},{"$f":"IF(Athletenliste!H95=\"\",\"\",Athletenliste!H95)","v":""},null,{"$f":"IF(B95=\"\",\"\",IF(D95=\"m\",INDIRECT(VLOOKUP(G95,Bezüge!$E$6:$F$16,2,FALSE)&ROW(G95)),INDIRECT(VLOOKUP(G95,Bezüge!$B$6:$C$16,2,FALSE)&ROW(G95))))","v":""},null,null,null,"","","","","","","","","","","","","","","","","","","","","","",null,"","","","","","","","","","","","","","","","","","","","","",""]
[null,{"$f":"IF(Athletenliste!B96=\"\",\"\",Athletenliste!B96)","v":""},{"$f":"IF(Athletenliste!C96=\"\",\"\",Athletenliste!C96)","v":""},{"$f":"IF(Athletenliste!D96=\"\",\"\",Athletenliste!D96)","v":""},{"$f":"IF(Athletenliste!E96=\"\",\"\",Athletenliste!E96)","v":""},{"$f":"IF(Athletenliste!F96=\"\",\"\",Athletenliste!F96)","v":""},{"$f":"IF(Athletenliste!G96=\"\",\"\",Athletenliste!G96)","v":""},{"$f":"IF(Athletenliste!H96=\"\",\"\",Athletenliste!H96)","v":""},null,{"$f":"IF(B96=\"\",\"\",IF(D96=\"m\",INDIRECT(VLOOKUP(G96,Bezüge!$E$6:$F$16,2,FALSE)&ROW(G96)),INDIRECT(VLOOKUP(G96,Bezüge!$B$6:$C$16,2,FALSE)&ROW(G96))))","v":""},null,null,null,"","","","","","","","","","","","","","","","","","","","","","",null,"","","","","","","","","","","","","","","","","","","","","",""]
[null,{"$f":"IF(Athletenliste!B97=\"\",\"\",Athletenliste!B97)","v":""},{"$f":"IF(Athletenliste!C97=\"\",\"\",Athletenliste!C97)","v":""},{"$f":"IF(Athletenliste!D97=\"\",\"\",Athletenliste!D97)","v":""},{"$f":"IF(Athletenliste!E97=\"\",\"\",Athletenliste!E97)","v":""},{"$f":"IF(Athletenliste!F97=\"\",\"\",Athletenliste!F97)","v":""},{"$f":"IF(Athletenliste!G97=\"\",\"\",Athletenliste!G97)","v":""},{"$f":"IF(Athletenliste!H97=\"\",\"\",Athletenliste!H97)","v":""},null,{"$f":"IF(B97=\"\",\"\",IF(D97=\"m\",INDIRECT(VLOOKUP(G97,Bezüge!$E$6:$F$16,2,FALSE)&ROW(G97)),INDIRECT(VLOOKUP(G97,Bezüge!$B$6:$C$16,2,FALSE)&ROW(G97))))","v":""},null,null,null,"","","","","","","","","","","","","","","","","","","","","","",null,"","","","","","","","","","","","","","","","","","","","","",""]
[null,{"$f":"IF(Athletenliste!B98=\"\",\"\",Athletenliste!B98)","v":""},{"$f":"IF(Athletenliste!C98=\"\",\"\",Athletenliste!C98)","v":""},{"$f":"IF(Athletenliste!D98=\"\",\"\",Athletenliste!D98)","v":""},{"$f":"IF(Athletenliste!E98=\"\",\"\",Athletenliste!E98)","v":""},{"$f":"IF(Athletenliste!F98=\"\",\"\",Athletenliste!F98)","v":""},{"$f":"IF(Athletenliste!G98=\"\",\"\",Athletenliste!G98)","v":""},{"$f":"IF(Athletenliste!H98=\"\",\"\",Athletenliste!H98)","v":""},null,{"$f":"IF(B98=\"\",\"\",IF(D98=\"m\",INDIRECT(VLOOKUP(G98,Bezüge!$E$6:$F$16,2,FALSE)&ROW(G98)),INDIRECT(VLOOKUP(G98,Bezüge!$B$6:$C$16,2,FALSE)&ROW(G98))))","v":""},null,null,null,"","","","","","","","","","","","","","","","","","","","","","",null,"","","","","","","","","","","","","","","","","","","","","",""]
[null,{"$f":"IF(Athletenliste!B99=\"\",\"\",Athletenliste!B99)","v":""},{"$f":"IF(Athletenliste!C99=\"\",\"\",Athletenliste!C99)","v":""},{"$f":"IF(Athletenliste!D99=\"\",\"\",Athletenliste!D99)","v":""},{"$f":"IF(Athletenliste!E99=\"\",\"\",Athletenliste!E99)","v":""},{"$f":"IF(Athletenliste!F99=\"\",\"\",Athletenliste!F99)","v":""},{"$f":"IF(Athletenliste!G99=\"\",\"\",Athletenliste!G99)","v":""},{"$f":"IF(Athletenliste!H99=\"\",\"\",Athletenliste!H99)","v":""},null,{"$f":"IF(B99=\"\",\"\",IF(D99=\"m\",INDIRECT(VLOOKUP(G99,Bezüge!$E$6:$F$16,2,FALSE)&ROW(G99)),INDIRECT(VLOOKUP(G99,Bezüge!$B$6:$C$16,2,FALSE)&ROW(G99))))","v":""},null,null,null,"","","","","","","","","","","","","","","","","","","","","","",null,"","","","","","","","","","","","","","","","","","","","","",""]
[null,{"$f":"IF(Athletenliste!B100=\"\",\"\",Athletenliste!B100)","v":""},{"$f":"IF(Athletenliste!C100=\"\",\"\",Athletenliste!C100)","v":""},{"$f":"IF(Athletenliste!D100=\"\",\"\",Athletenliste!D100)","v":""},{"$f":"IF(Athletenliste!E100=\"\",\"\",Athletenliste!E100)","v":""},{"$f":"IF(Athletenliste!F100=\"\",\"\",Athletenliste!F100)","v":""},{"$f":"IF(Athletenliste!G100=\"\",\"\",Athletenliste!G100)","v":""},{"$f":"IF(Athletenliste!H100=\"\",\"\",Athletenliste!H100)","v":""},null,{"$f":"IF(B100=\"\",\"\",IF(D100=\"m\",INDIRECT(VLOOKUP(G100,Bezüge!$E$6:$F$16,2,FALSE)&ROW(G100)),INDIRECT(VLOOKUP(G100,Bezüge!$B$6:$C$16,2,FALSE)&ROW(G100))))","v":""},null,null,null,"","","","","","","","","","","","","","","","","","","","","","",null,"","","","","","","","","","","","","","","","","","","","","",""]
[null,{"$f":"IF(Athletenliste!B101=\"\",\"\",Athletenliste!B101)","v":""},{"$f":"IF(Athletenliste!C101=\"\",\"\",Athletenliste!C101)","v":""},{"$f":"IF(Athletenliste!D101=\"\",\"\",Athletenliste!D101)","v":""},{"$f":"IF(Athletenliste!E101=\"\",\"\",Athletenliste!E101)","v":""},{"$f":"IF(Athletenliste!F101=\"\",\"\",Athletenliste!F101)","v":""},{"$f":"IF(Athletenliste!G101=\"\",\"\",Athletenliste!G101)","v":""},{"$f":"IF(Athletenliste!H101=\"\",\"\",Athletenliste!H101)","v":""},null,{"$f":"IF(B101=\"\",\"\",IF(D101=\"m\",INDIRECT(VLOOKUP(G101,Bezüge!$E$6:$F$16,2,FALSE)&ROW(G101)),INDIRECT(VLOOKUP(G101,Bezüge!$B$6:$C$16,2,FALSE)&ROW(G101))))","v":""},null,null,null,"","","","","","","","","","","","","","","","","","","","","","",null,"","","","","","","","","","","","","","","","","","","","","",""]
[null,{"$f":"IF(Athletenliste!B102=\"\",\"\",Athletenliste!B102)","v":""},{"$f":"IF(Athletenliste!C102=\"\",\"\",Athletenliste!C102)","v":""},{"$f":"IF(Athletenliste!D102=\"\",\"\",Athletenliste!D102)","v":""},{"$f":"IF(Athletenliste!E102=\"\",\"\",Athletenliste!E102)","v":""},{"$f":"IF(Athletenliste!F102=\"\",\"\",Athletenliste!F102)","v":""},{"$f":"IF(Athletenliste!G102=\"\",\"\",Athletenliste!G102)","v":""},{"$f":"IF(Athletenliste!H102=\"\",\"\",Athletenliste!H102)","v":""},null,{"$f":"IF(B102=\"\",\"\",IF(D102=\"m\",INDIRECT(VLOOKUP(G102,Bezüge!$E$6:$F$16,2,FALSE)&ROW(G102)),INDIRECT(VLOOKUP(G102,Bezüge!$B$6:$C$16,2,FALSE)&ROW(G102))))","v":""},null,null,null,"","","","","","","","","","","","","","","","","","","","","","",null,"","","","","","","","","","","","","","","","","","","","","",""]
[null,{"$f":"IF(Athletenliste!B103=\"\",\"\",Athletenliste!B103)","v":""},{"$f":"IF(Athletenliste!C103=\"\",\"\",Athletenliste!C103)","v":""},{"$f":"IF(Athletenliste!D103=\"\",\"\",Athletenliste!D103)","v":""},{"$f":"IF(Athletenliste!E103=\"\",\"\",Athletenliste!E103)","v":""},{"$f":"IF(Athletenliste!F103=\"\",\"\",Athletenliste!F103)","v":""},{"$f":"IF(Athletenliste!G103=\"\",\"\",Athletenliste!G103)","v":""},{"$f":"IF(Athletenliste!H103=\"\",\"\",Athletenliste!H103)","v":""},null,{"$f":"IF(B103=\"\",\"\",IF(D103=\"m\",INDIRECT(VLOOKUP(G103,Bezüge!$E$6:$F$16,2,FALSE)&ROW(G103)),INDIRECT(VLOOKUP(G103,Bezüge!$B$6:$C$16,2,FALSE)&ROW(G103))))","v":""},null,null,null,"","","","","","","","","","","","","","","","","","","","","","",null,"","","","","","","","","","","","","","","","","","","","","",""]
[null,{"$f":"IF(Athletenliste!B104=\"\",\"\",Athletenliste!B104)","v":""},{"$f":"IF(Athletenliste!C104=\"\",\"\",Athletenliste!C104)","v":""},{"$f":"IF(Athletenliste!D104=\"\",\"\",Athletenliste!D104)","v":""},{"$f":"IF(Athletenliste!E104=\"\",\"\",Athletenliste!E104)","v":""},{"$f":"IF(Athletenliste!F104=\"\",\"\",Athletenliste!F104)","v":""},{"$f":"IF(Athletenliste!G104=\"\",\"\",Athletenliste!G104)","v":""},{"$f":"IF(Athletenliste!H104=\"\",\"\",Athletenliste!H104)","v":""},null,{"$f":"IF(B104=\"\",\"\",IF(D104=\"m\",INDIRECT(VLOOKUP(G104,Bezüge!$E$6:$F$16,2,FALSE)&ROW(G104)),INDIRECT(VLOOKUP(G104,Bezüge!$B$6:$C$16,2,FALSE)&ROW(G104))))","v":""},null,null,null,"","","","","","","","","","","","","","","","","","","","","","",null,"","","","","","","","","","","","","","","","","","","","","",""]
[null,{"$f":"IF(Athletenliste!B105=\"\",\"\",Athletenliste!B105)","v":""},{"$f":"IF(Athletenliste!C105=\"\",\"\",Athletenliste!C105)","v":""},{"$f":"IF(Athletenliste!D105=\"\",\"\",Athletenliste!D105)","v":""},{"$f":"IF(Athletenliste!E105=\"\",\"\",Athletenliste!E105)","v":""},{"$f":"IF(Athletenliste!F105=\"\",\"\",Athletenliste!F105)","v":""},{"$f":"IF(Athletenliste!G105=\"\",\"\",Athletenliste!G105)","v":""},{"$f":"IF(Athletenliste!H105=\"\",\"\",Athletenliste!H105)","v":""},null,{"$f":"IF(B105=\"\",\"\",IF(D105=\"m\",INDIRECT(VLOOKUP(G105,Bezüge!$E$6:$F$16,2,FALSE)&ROW(G105)),INDIRECT(VLOOKUP(G105,Bezüge!$B$6:$C$16,2,FALSE)&ROW(G105))))","v":""},null,null,null,"","","","","","","","","","","","","","","","","","","","","","",null,"","","","","","","","","","","","","","","","","","","","","",""]
[null,{"$f":"IF(Athletenliste!B106=\"\",\"\",Athletenliste!B106)","v":""},{"$f":"IF(Athletenliste!C106=\"\",\"\",Athletenliste!C106)","v":""},{"$f":"IF(Athletenliste!D106=\"\",\"\",Athletenliste!D106)","v":""},{"$f":"IF(Athletenliste!E106=\"\",\"\",Athletenliste!E106)","v":""},{"$f":"IF(Athletenliste!F106=\"\",\"\",Athletenliste!F106)","v":""},{"$f":"IF(Athletenliste!G106=\"\",\"\",Athletenliste!G106)","v":""},{"$f":"IF(Athletenliste!H106=\"\",\"\",Athletenliste!H106)","v":""},null,{"$f":"IF(B106=\"\",\"\",IF(D106=\"m\",INDIRECT(VLOOKUP(G106,Bezüge!$E$6:$F$16,2,FALSE)&ROW(G106)),INDIRECT(VLOOKUP(G106,Bezüge!$B$6:$C$16,2,FALSE)&ROW(G106))))","v":""},null,null,null,"","","","","","","","","","","","","","","","","","","","","","",null,"","","","","","","","","","","","","","","","","","","","","",""]
[null,{"$f":"IF(Athletenliste!B107=\"\",\"\",Athletenliste!B107)","v":""},{"$f":"IF(Athletenliste!C107=\"\",\"\",Athletenliste!C107)","v":""},{"$f":"IF(Athletenliste!D107=\"\",\"\",Athletenliste!D107)","v":""},{"$f":"IF(Athletenliste!E107=\"\",\"\",Athletenliste!E107)","v":""},{"$f":"IF(Athletenliste!F107=\"\",\"\",Athletenliste!F107)","v":""},{"$f":"IF(Athletenliste!G107=\"\",\"\",Athletenliste!G107)","v":""},{"$f":"IF(Athletenliste!H107=\"\",\"\",Athletenliste!H107)","v":""},null,{"$f":"IF(B107=\"\",\"\",IF(D107=\"m\",INDIRECT(VLOOKUP(G107,Bezüge!$E$6:$F$16,2,FALSE)&ROW(G107)),INDIRECT(VLOOKUP(G107,Bezüge!$B$6:$C$16,2,FALSE)&ROW(G107))))","v":""},null,null,null,"","","","","","","","","","","","","","","","","","","","","","",null,"","","","","","","","","","","","","","","","","","","","","",""]
[null,{"$f":"IF(Athletenliste!B108=\"\",\"\",Athletenliste!B108)","v":""},{"$f":"IF(Athletenliste!C108=\"\",\"\",Athletenliste!C108)","v":""},{"$f":"IF(Athletenliste!D108=\"\",\"\",Athletenliste!D108)","v":""},{"$f":"IF(Athletenliste!E108=\"\",\"\",Athletenliste!E108)","v":""},{"$f":"IF(Athletenliste!F108=\"\",\"\",Athletenliste!F108)","v":""},{"$f":"IF(Athletenliste!G108=\"\",\"\",Athletenliste!G108)","v":""},{"$f":"IF(Athletenliste!H108=\"\",\"\",Athletenliste!H108)","v":""},null,{"$f":"IF(B108=\"\",\"\",IF(D108=\"m\",INDIRECT(VLOOKUP(G108,Bezüge!$E$6:$F$16,2,FALSE)&ROW(G108)),INDIRECT(VLOOKUP(G108,Bezüge!$B$6:$C$16,2,FALSE)&ROW(G108))))","v":""},null,null,null,"","","","","","","","","","","","","","","","","","","","","","",null,"","","","","","","","","","","","","","","","","","","","","",""]
[null,{"$f":"IF(Athletenliste!B109=\"\",\"\",Athletenliste!B109)","v":""},{"$f":"IF(Athletenliste!C109=\"\",\"\",Athletenliste!C109)","v":""},{"$f":"IF(Athletenliste!D109=\"\",\"\",Athletenliste!D109)","v":""},{"$f":"IF(Athletenliste!E109=\"\",\"\",Athletenliste!E109)","v":""},{"$f":"IF(Athletenliste!F109=\"\",\"\",Athletenliste!F109)","v":""},{"$f":"IF(Athletenliste!G109=\"\",\"\",Athletenliste!G109)","v":""},{"$f":"IF(Athletenliste!H109=\"\",\"\",Athletenliste!H109)","v":""},null,{"$f":"IF(B109=\"\",\"\",IF(D109=\"m\",INDIRECT(VLOOKUP(G109,Bezüge!$E$6:$F$16,2,FALSE)&ROW(G109)),INDIRECT(VLOOKUP(G109,Bezüge!$B$6:$C$16,2,FALSE)&ROW(G109))))","v":""},null,null,null,"","","","","","","","","","","","","","","","","","","","","","",null,"","","","","","","","","","","","","","","","","","","","","",""]
[null,{"$f":"IF(Athletenliste!B110=\"\",\"\",Athletenliste!B110)","v":""},{"$f":"IF(Athletenliste!C110=\"\",\"\",Athletenliste!C110)","v":""},{"$f":"IF(Athletenliste!D110=\"\",\"\",Athletenliste!D110)","v":""},{"$f":"IF(Athletenliste!E110=\"\",\"\",Athletenliste!E110)","v":""},{"$f":"IF(Athletenliste!F110=\"\",\"\",Athletenliste!F110)","v":""},{"$f":"IF(Athletenliste!G110=\"\",\"\",Athletenliste!G110)","v":""},{"$f":"IF(Athletenliste!H110=\"\",\"\",Athletenliste!H110)","v":""},null,{"$f":"IF(B110=\"\",\"\",IF(D110=\"m\",INDIRECT(VLOOKUP(G110,Bezüge!$E$6:$F$16,2,FALSE)&ROW(G110)),INDIRECT(VLOOKUP(G110,Bezüge!$B$6:$C$16,2,FALSE)&ROW(G110))))","v":""},null,null,null,"","","","","","","","","","","","","","","","","","","","","","",null,"","","","","","","","","","","","","","","","","","","","","",""]
[null,{"$f":"IF(Athletenliste!B111=\"\",\"\",Athletenliste!B111)","v":""},{"$f":"IF(Athletenliste!C111=\"\",\"\",Athletenliste!C111)","v":""},{"$f":"IF(Athletenliste!D111=\"\",\"\",Athletenliste!D111)","v":""},{"$f":"IF(Athletenliste!E111=\"\",\"\",Athletenliste!E111)","v":""},{"$f":"IF(Athletenliste!F111=\"\",\"\",Athletenliste!F111)","v":""},{"$f":"IF(Athletenliste!G111=\"\",\"\",Athletenliste!G111)","v":""},{"$f":"IF(Athletenliste!H111=\"\",\"\",Athletenliste!H111)","v":""},null,{"$f":"IF(B111=\"\",\"\",IF(D111=\"m\",INDIRECT(VLOOKUP(G111,Bezüge!$E$6:$F$16,2,FALSE)&ROW(G111)),INDIRECT(VLOOKUP(G111,Bezüge!$B$6:$C$16,2,FALSE)&ROW(G111))))","v":""},null,null,null,"","","","","","","","","","","","","","","","","","","","","","",null,"","","","","","","","","","","","","","","","","","","","","",""]
[null,{"$f":"IF(Athletenliste!B112=\"\",\"\",Athletenliste!B112)","v":""},{"$f":"IF(Athletenliste!C112=\"\",\"\",Athletenliste!C112)","v":""},{"$f":"IF(Athletenliste!D112=\"\",\"\",Athletenliste!D112)","v":""},{"$f":"IF(Athletenliste!E112=\"\",\"\",Athletenliste!E112)","v":""},{"$f":"IF(Athletenliste!F112=\"\",\"\",Athletenliste!F112)","v":""},{"$f":"IF(Athletenliste!G112=\"\",\"\",Athletenliste!G112)","v":""},{"$f":"IF(Athletenliste!H112=\"\",\"\",Athletenliste!H112)","v":""},null,{"$f":"IF(B112=\"\",\"\",IF(D112=\"m\",INDIRECT(VLOOKUP(G112,Bezüge!$E$6:$F$16,2,FALSE)&ROW(G112)),INDIRECT(VLOOKUP(G112,Bezüge!$B$6:$C$16,2,FALSE)&ROW(G112))))","v":""},null,null,null,"","","","","","","","","","","","","","","","","","","","","","",null,"","","","","","","","","","","","","","","","","","","","","",""]
[null,{"$f":"IF(Athletenliste!B113=\"\",\"\",Athletenliste!B113)","v":""},{"$f":"IF(Athletenliste!C113=\"\",\"\",Athletenliste!C113)","v":""},{"$f":"IF(Athletenliste!D113=\"\",\"\",Athletenliste!D113)","v":""},{"$f":"IF(Athletenliste!E113=\"\",\"\",Athletenliste!E113)","v":""},{"$f":"IF(Athletenliste!F113=\"\",\"\",Athletenliste!F113)","v":""},{"$f":"IF(Athletenliste!G113=\"\",\"\",Athletenliste!G113)","v":""},{"$f":"IF(Athletenliste!H113=\"\",\"\",Athletenliste!H113)","v":""},null,{"$f":"IF(B113=\"\",\"\",IF(D113=\"m\",INDIRECT(VLOOKUP(G113,Bezüge!$E$6:$F$16,2,FALSE)&ROW(G113)),INDIRECT(VLOOKUP(G113,Bezüge!$B$6:$C$16,2,FALSE)&ROW(G113))))","v":""},null,null,null,"","","","","","","","","","","","","","","","","","","","","","",null,"","","","","","","","","","","","","","","","","","","","","",""]
[null,{"$f":"IF(Athletenliste!B114=\"\",\"\",Athletenliste!B114)","v":""},{"$f":"IF(Athletenliste!C114=\"\",\"\",Athletenliste!C114)","v":""},{"$f":"IF(Athletenliste!D114=\"\",\"\",Athletenliste!D114)","v":""},{"$f":"IF(Athletenliste!E114=\"\",\"\",Athletenliste!E114)","v":""},{"$f":"IF(Athletenliste!F114=\"\",\"\",Athletenliste!F114)","v":""},{"$f":"IF(Athletenliste!G114=\"\",\"\",Athletenliste!G114)","v":""},{"$f":"IF(Athletenliste!H114=\"\",\"\",Athletenliste!H114)","v":""},null,{"$f":"IF(B114=\"\",\"\",IF(D114=\"m\",INDIRECT(VLOOKUP(G114,Bezüge!$E$6:$F$16,2,FALSE)&ROW(G114)),INDIRECT(VLOOKUP(G114,Bezüge!$B$6:$C$16,2,FALSE)&ROW(G114))))","v":""},null,null,null,"","","","","","","","","","","","","","","","","","","","","","",null,"","","","","","","","","","","","","","","","","","","","","",""]
[null,{"$f":"IF(Athletenliste!B115=\"\",\"\",Athletenliste!B115)","v":""},{"$f":"IF(Athletenliste!C115=\"\",\"\",Athletenliste!C115)","v":""},{"$f":"IF(Athletenliste!D115=\"\",\"\",Athletenliste!D115)","v":""},{"$f":"IF(Athletenliste!E115=\"\",\"\",Athletenliste!E115)","v":""},{"$f":"IF(Athletenliste!F115=\"\",\"\",Athletenliste!F115)","v":""},{"$f":"IF(Athletenliste!G115=\"\",\"\",Athletenliste!G115)","v":""},{"$f":"IF(Athletenliste!H115=\"\",\"\",Athletenliste!H115)","v":""},null,{"$f":"IF(B115=\"\",\"\",IF(D115=\"m\",INDIRECT(VLOOKUP(G115,Bezüge!$E$6:$F$16,2,FALSE)&ROW(G115)),INDIRECT(VLOOKUP(G115,Bezüge!$B$6:$C$16,2,FALSE)&ROW(G115))))","v":""},null,null,null,"","","","","","","","","","","","","","","","","","","","","","",null,"","","","","","","","","","","","","","","","","","","","","",""]
[null,{"$f":"IF(Athletenliste!B116=\"\",\"\",Athletenliste!B116)","v":""},{"$f":"IF(Athletenliste!C116=\"\",\"\",Athletenliste!C116)","v":""},{"$f":"IF(Athletenliste!D116=\"\",\"\",Athletenliste!D116)","v":""},{"$f":"IF(Athletenliste!E116=\"\",\"\",Athletenliste!E116)","v":""},{"$f":"IF(Athletenliste!F116=\"\",\"\",Athletenliste!F116)","v":""},{"$f":"IF(Athletenliste!G116=\"\",\"\",Athletenliste!G116)","v":""},{"$f":"IF(Athletenliste!H116=\"\",\"\",Athletenliste!H116)","v":""},null,{"$f":"IF(B116=\"\",\"\",IF(D116=\"m\",INDIRECT(VLOOKUP(G116,Bezüge!$E$6:$F$16,2,FALSE)&ROW(G116)),INDIRECT(VLOOKUP(G116,Bezüge!$B$6:$C$16,2,FALSE)&ROW(G116))))","v":""},null,null,null,"","","","","","","","","","","","","","","","","","","","","","",null,"","","","","","","","","","","","","","","","","","","","","",""]
[null,{"$f":"IF(Athletenliste!B117=\"\",\"\",Athletenliste!B117)","v":""},{"$f":"IF(Athletenliste!C117=\"\",\"\",Athletenliste!C117)","v":""},{"$f":"IF(Athletenliste!D117=\"\",\"\",Athletenliste!D117)","v":""},{"$f":"IF(Athletenliste!E117=\"\",\"\",Athletenliste!E117)","v":""},{"$f":"IF(Athletenliste!F117=\"\",\"\",Athletenliste!F117)","v":""},{"$f":"IF(Athletenliste!G117=\"\",\"\",Athletenliste!G117)","v":""},{"$f":"IF(Athletenliste!H117=\"\",\"\",Athletenliste!H117)","v":""},null,{"$f":"IF(B117=\"\",\"\",IF(D117=\"m\",INDIRECT(VLOOKUP(G117,Bezüge!$E$6:$F$16,2,FALSE)&ROW(G117)),INDIRECT(VLOOKUP(G117,Bezüge!$B$6:$C$16,2,FALSE)&ROW(G117))))","v":""},null,null,null,"","","","","","","","","","","","","","","","","","","","","","",null,"","","","","","","","","","","","","","","","","","","","","",""]
[null,{"$f":"IF(Athletenliste!B118=\"\",\"\",Athletenliste!B118)","v":""},{"$f":"IF(Athletenliste!C118=\"\",\"\",Athletenliste!C118)","v":""},{"$f":"IF(Athletenliste!D118=\"\",\"\",Athletenliste!D118)","v":""},{"$f":"IF(Athletenliste!E118=\"\",\"\",Athletenliste!E118)","v":""},{"$f":"IF(Athletenliste!F118=\"\",\"\",Athletenliste!F118)","v":""},{"$f":"IF(Athletenliste!G118=\"\",\"\",Athletenliste!G118)","v":""},{"$f":"IF(Athletenliste!H118=\"\",\"\",Athletenliste!H118)","v":""},null,{"$f":"IF(B118=\"\",\"\",IF(D118=\"m\",INDIRECT(VLOOKUP(G118,Bezüge!$E$6:$F$16,2,FALSE)&ROW(G118)),INDIRECT(VLOOKUP(G118,Bezüge!$B$6:$C$16,2,FALSE)&ROW(G118))))","v":""},null,null,null,"","","","","","","","","","","","","","","","","","","","","","",null,"","","","","","","","","","","","","","","","","","","","","",""]
[null,{"$f":"IF(Athletenliste!B119=\"\",\"\",Athletenliste!B119)","v":""},{"$f":"IF(Athletenliste!C119=\"\",\"\",Athletenliste!C119)","v":""},{"$f":"IF(Athletenliste!D119=\"\",\"\",Athletenliste!D119)","v":""},{"$f":"IF(Athletenliste!E119=\"\",\"\",Athletenliste!E119)","v":""},{"$f":"IF(Athletenliste!F119=\"\",\"\",Athletenliste!F119)","v":""},{"$f":"IF(Athletenliste!G119=\"\",\"\",Athletenliste!G119)","v":""},{"$f":"IF(Athletenliste!H119=\"\",\"\",Athletenliste!H119)","v":""},null,{"$f":"IF(B119=\"\",\"\",IF(D119=\"m\",INDIRECT(VLOOKUP(G119,Bezüge!$E$6:$F$16,2,FALSE)&ROW(G119)),INDIRECT(VLOOKUP(G119,Bezüge!$B$6:$C$16,2,FALSE)&ROW(G119))))","v":""},null,null,null,"","","","","","","","","","","","","","","","","","","","","","",null,"","","","","","","","","","","","","","","","","","","","","",""]
[null,{"$f":"IF(Athletenliste!B120=\"\",\"\",Athletenliste!B120)","v":""},{"$f":"IF(Athletenliste!C120=\"\",\"\",Athletenliste!C120)","v":""},{"$f":"IF(Athletenliste!D120=\"\",\"\",Athletenliste!D120)","v":""},{"$f":"IF(Athletenliste!E120=\"\",\"\",Athletenliste!E120)","v":""},{"$f":"IF(Athletenliste!F120=\"\",\"\",Athletenliste!F120)","v":""},{"$f":"IF(Athletenliste!G120=\"\",\"\",Athletenliste!G120)","v":""},{"$f":"IF(Athletenliste!H120=\"\",\"\",Athletenliste!H120)","v":""},null,{"$f":"IF(B120=\"\",\"\",IF(D120=\"m\",INDIRECT(VLOOKUP(G120,Bezüge!$E$6:$F$16,2,FALSE)&ROW(G120)),INDIRECT(VLOOKUP(G120,Bezüge!$B$6:$C$16,2,FALSE)&ROW(G120))))","v":""},null,null,null,"","","","","","","","","","","","","","","","","","","","","","",null,"","","","","","","","","","","","","","","","","","","","","",""]
[null,{"$f":"IF(Athletenliste!B121=\"\",\"\",Athletenliste!B121)","v":""},{"$f":"IF(Athletenliste!C121=\"\",\"\",Athletenliste!C121)","v":""},{"$f":"IF(Athletenliste!D121=\"\",\"\",Athletenliste!D121)","v":""},{"$f":"IF(Athletenliste!E121=\"\",\"\",Athletenliste!E121)","v":""},{"$f":"IF(Athletenliste!F121=\"\",\"\",Athletenliste!F121)","v":""},{"$f":"IF(Athletenliste!G121=\"\",\"\",Athletenliste!G121)","v":""},{"$f":"IF(Athletenliste!H121=\"\",\"\",Athletenliste!H121)","v":""},null,{"$f":"IF(B121=\"\",\"\",IF(D121=\"m\",INDIRECT(VLOOKUP(G121,Bezüge!$E$6:$F$16,2,FALSE)&ROW(G121)),INDIRECT(VLOOKUP(G121,Bezüge!$B$6:$C$16,2,FALSE)&ROW(G121))))","v":""},null,null,null,"","","","","","","","","","","","","","","","","","","","","","",null,"","","","","","","","","","","","","","","","","","","","","",""]
[null,{"$f":"IF(Athletenliste!B122=\"\",\"\",Athletenliste!B122)","v":""},{"$f":"IF(Athletenliste!C122=\"\",\"\",Athletenliste!C122)","v":""},{"$f":"IF(Athletenliste!D122=\"\",\"\",Athletenliste!D122)","v":""},{"$f":"IF(Athletenliste!E122=\"\",\"\",Athletenliste!E122)","v":""},{"$f":"IF(Athletenliste!F122=\"\",\"\",Athletenliste!F122)","v":""},{"$f":"IF(Athletenliste!G122=\"\",\"\",Athletenliste!G122)","v":""},{"$f":"IF(Athletenliste!H122=\"\",\"\",Athletenliste!H122)","v":""},null,{"$f":"IF(B122=\"\",\"\",IF(D122=\"m\",INDIRECT(VLOOKUP(G122,Bezüge!$E$6:$F$16,2,FALSE)&ROW(G122)),INDIRECT(VLOOKUP(G122,Bezüge!$B$6:$C$16,2,FALSE)&ROW(G122))))","v":""},null,null,null,"","","","","","","","","","","","","","","","","","","","","","",null,"","","","","","","","","","","","","","","","","","","","","",""]
[null,{"$f":"IF(Athletenliste!B123=\"\",\"\",Athletenliste!B123)","v":""},{"$f":"IF(Athletenliste!C123=\"\",\"\",Athletenliste!C123)","v":""},{"$f":"IF(Athletenliste!D123=\"\",\"\",Athletenliste!D123)","v":""},{"$f":"IF(Athletenliste!E123=\"\",\"\",Athletenliste!E123)","v":""},{"$f":"IF(Athletenliste!F123=\"\",\"\",Athletenliste!F123)","v":""},{"$f":"IF(Athletenliste!G123=\"\",\"\",Athletenliste!G123)","v":""},{"$f":"IF(Athletenliste!H123=\"\",\"\",Athletenliste!H123)","v":""},null,{"$f":"IF(B123=\"\",\"\",IF(D123=\"m\",INDIRECT(VLOOKUP(G123,Bezüge!$E$6:$F$16,2,FALSE)&ROW(G123)),INDIRECT(VLOOKUP(G123,Bezüge!$B$6:$C$16,2,FALSE)&ROW(G123))))","v":""},null,null,null,"","","","","","","","","","","","","","","","","","","","","","",null,"","","","","","","","","","","","","","","","","","","","","",""]
[null,{"$f":"IF(Athletenliste!B124=\"\",\"\",Athletenliste!B124)","v":""},{"$f":"IF(Athletenliste!C124=\"\",\"\",Athletenliste!C124)","v":""},{"$f":"IF(Athletenliste!D124=\"\",\"\",Athletenliste!D124)","v":""},{"$f":"IF(Athletenliste!E124=\"\",\"\",Athletenliste!E124)","v":""},{"$f":"IF(Athletenliste!F124=\"\",\"\",Athletenliste!F124)","v":""},{"$f":"IF(Athletenliste!G124=\"\",\"\",Athletenliste!G124)","v":""},{"$f":"IF(Athletenliste!H124=\"\",\"\",Athletenliste!H124)","v":""},null,{"$f":"IF(B124=\"\",\"\",IF(D124=\"m\",INDIRECT(VLOOKUP(G124,Bezüge!$E$6:$F$16,2,FALSE)&ROW(G124)),INDIRECT(VLOOKUP(G124,Bezüge!$B$6:$C$16,2,FALSE)&ROW(G124))))","v":""},null,null,null,"","","","","","","","","","","","","","","","","","","","","","",null,"","","","","","","","","","","","","","","","","","","","","",""]
[null,{"$f":"IF(Athletenliste!B125=\"\",\"\",Athletenliste!B125)","v":""},{"$f":"IF(Athletenliste!C125=\"\",\"\",Athletenliste!C125)","v":""},{"$f":"IF(Athletenliste!D125=\"\",\"\",Athletenliste!D125)","v":""},{"$f":"IF(Athletenliste!E125=\"\",\"\",Athletenliste!E125)","v":""},{"$f":"IF(Athletenliste!F125=\"\",\"\",Athletenliste!F125)","v":""},{"$f":"IF(Athletenliste!G125=\"\",\"\",Athletenliste!G125)","v":""},{"$f":"IF(Athletenliste!H125=\"\",\"\",Athletenliste!H125)","v":""},null,{"$f":"IF(B125=\"\",\"\",IF(D125=\"m\",INDIRECT(VLOOKUP(G125,Bezüge!$E$6:$F$16,2,FALSE)&ROW(G125)),INDIRECT(VLOOKUP(G125,Bezüge!$B$6:$C$16,2,FALSE)&ROW(G125))))","v":""},null,null,null,"","","","","","","","","","","","","","","","","","","","","","",null,"","","","","","","","","","","","","","","","","","","","","",""]
[null,{"$f":"IF(Athletenliste!B126=\"\",\"\",Athletenliste!B126)","v":""},{"$f":"IF(Athletenliste!C126=\"\",\"\",Athletenliste!C126)","v":""},{"$f":"IF(Athletenliste!D126=\"\",\"\",Athletenliste!D126)","v":""},{"$f":"IF(Athletenliste!E126=\"\",\"\",Athletenliste!E126)","v":""},{"$f":"IF(Athletenliste!F126=\"\",\"\",Athletenliste!F126)","v":""},{"$f":"IF(Athletenliste!G126=\"\",\"\",Athletenliste!G126)","v":""},{"$f":"IF(Athletenliste!H126=\"\",\"\",Athletenliste!H126)","v":""},null,{"$f":"IF(B126=\"\",\"\",IF(D126=\"m\",INDIRECT(VLOOKUP(G126,Bezüge!$E$6:$F$16,2,FALSE)&ROW(G126)),INDIRECT(VLOOKUP(G126,Bezüge!$B$6:$C$16,2,FALSE)&ROW(G126))))","v":""},null,null,null,"","","","","","","","","","","","","","","","","","","","","","",null,"","","","","","","","","","","","","","","","","","","","","",""]
[null,{"$f":"IF(Athletenliste!B127=\"\",\"\",Athletenliste!B127)","v":""},{"$f":"IF(Athletenliste!C127=\"\",\"\",Athletenliste!C127)","v":""},{"$f":"IF(Athletenliste!D127=\"\",\"\",Athletenliste!D127)","v":""},{"$f":"IF(Athletenliste!E127=\"\",\"\",Athletenliste!E127)","v":""},{"$f":"IF(Athletenliste!F127=\"\",\"\",Athletenliste!F127)","v":""},{"$f":"IF(Athletenliste!G127=\"\",\"\",Athletenliste!G127)","v":""},{"$f":"IF(Athletenliste!H127=\"\",\"\",Athletenliste!H127)","v":""},null,{"$f":"IF(B127=\"\",\"\",IF(D127=\"m\",INDIRECT(VLOOKUP(G127,Bezüge!$E$6:$F$16,2,FALSE)&ROW(G127)),INDIRECT(VLOOKUP(G127,Bezüge!$B$6:$C$16,2,FALSE)&ROW(G127))))","v":""},null,null,null,"","","","","","","","","","","","","","","","","","","","","","",null,"","","","","","","","","","","","","","","","","","","","","",""]
[null,{"$f":"IF(Athletenliste!B128=\"\",\"\",Athletenliste!B128)","v":""},{"$f":"IF(Athletenliste!C128=\"\",\"\",Athletenliste!C128)","v":""},{"$f":"IF(Athletenliste!D128=\"\",\"\",Athletenliste!D128)","v":""},{"$f":"IF(Athletenliste!E128=\"\",\"\",Athletenliste!E128)","v":""},{"$f":"IF(Athletenliste!F128=\"\",\"\",Athletenliste!F128)","v":""},{"$f":"IF(Athletenliste!G128=\"\",\"\",Athletenliste!G128)","v":""},{"$f":"IF(Athletenliste!H128=\"\",\"\",Athletenliste!H128)","v":""},null,{"$f":"IF(B128=\"\",\"\",IF(D128=\"m\",INDIRECT(VLOOKUP(G128,Bezüge!$E$6:$F$16,2,FALSE)&ROW(G128)),INDIRECT(VLOOKUP(G128,Bezüge!$B$6:$C$16,2,FALSE)&ROW(G128))))","v":""},null,null,null,"","","","","","","","","","","","","","","","","","","","","","",null,"","","","","","","","","","","","","","","","","","","","","",""]
[null,{"$f":"IF(Athletenliste!B129=\"\",\"\",Athletenliste!B129)","v":""},{"$f":"IF(Athletenliste!C129=\"\",\"\",Athletenliste!C129)","v":""},{"$f":"IF(Athletenliste!D129=\"\",\"\",Athletenliste!D129)","v":""},{"$f":"IF(Athletenliste!E129=\"\",\"\",Athletenliste!E129)","v":""},{"$f":"IF(Athletenliste!F129=\"\",\"\",Athletenliste!F129)","v":""},{"$f":"IF(Athletenliste!G129=\"\",\"\",Athletenliste!G129)","v":""},{"$f":"IF(Athletenliste!H129=\"\",\"\",Athletenliste!H129)","v":""},null,{"$f":"IF(B129=\"\",\"\",IF(D129=\"m\",INDIRECT(VLOOKUP(G129,Bezüge!$E$6:$F$16,2,FALSE)&ROW(G129)),INDIRECT(VLOOKUP(G129,Bezüge!$B$6:$C$16,2,FALSE)&ROW(G129))))","v":""},null,null,null,"","","","","","","","","","","","","","","","","","","","","","",null,"","","","","","","","","","","","","","","","","","","","","",""]
[null,{"$f":"IF(Athletenliste!B130=\"\",\"\",Athletenliste!B130)","v":""},{"$f":"IF(Athletenliste!C130=\"\",\"\",Athletenliste!C130)","v":""},{"$f":"IF(Athletenliste!D130=\"\",\"\",Athletenliste!D130)","v":""},{"$f":"IF(Athletenliste!E130=\"\",\"\",Athletenliste!E130)","v":""},{"$f":"IF(Athletenliste!F130=\"\",\"\",Athletenliste!F130)","v":""},{"$f":"IF(Athletenliste!G130=\"\",\"\",Athletenliste!G130)","v":""},{"$f":"IF(Athletenliste!H130=\"\",\"\",Athletenliste!H130)","v":""},null,{"$f":"IF(B130=\"\",\"\",IF(D130=\"m\",INDIRECT(VLOOKUP(G130,Bezüge!$E$6:$F$16,2,FALSE)&ROW(G130)),INDIRECT(VLOOKUP(G130,Bezüge!$B$6:$C$16,2,FALSE)&ROW(G130))))","v":""},null,null,null,"","","","","","","","","","","","","","","","","","","","","","",null,"","","","","","","","","","","","","","","","","","","","","",""]
[null,{"$f":"IF(Athletenliste!B131=\"\",\"\",Athletenliste!B131)","v":""},{"$f":"IF(Athletenliste!C131=\"\",\"\",Athletenliste!C131)","v":""},{"$f":"IF(Athletenliste!D131=\"\",\"\",Athletenliste!D131)","v":""},{"$f":"IF(Athletenliste!E131=\"\",\"\",Athletenliste!E131)","v":""},{"$f":"IF(Athletenliste!F131=\"\",\"\",Athletenliste!F131)","v":""},{"$f":"IF(Athletenliste!G131=\"\",\"\",Athletenliste!G131)","v":""},{"$f":"IF(Athletenliste!H131=\"\",\"\",Athletenliste!H131)","v":""},null,{"$f":"IF(B131=\"\",\"\",IF(D131=\"m\",INDIRECT(VLOOKUP(G131,Bezüge!$E$6:$F$16,2,FALSE)&ROW(G131)),INDIRECT(VLOOKUP(G131,Bezüge!$B$6:$C$16,2,FALSE)&ROW(G131))))","v":""},null,null,null,"","","","","","","","","","","","","","","","","","","","","","",null,"","","","","","","","","","","","","","","","","","","","","",""]
[null,{"$f":"IF(Athletenliste!B132=\"\",\"\",Athletenliste!B132)","v":""},{"$f":"IF(Athletenliste!C132=\"\",\"\",Athletenliste!C132)","v":""},{"$f":"IF(Athletenliste!D132=\"\",\"\",Athletenliste!D132)","v":""},{"$f":"IF(Athletenliste!E132=\"\",\"\",Athletenliste!E132)","v":""},{"$f":"IF(Athletenliste!F132=\"\",\"\",Athletenliste!F132)","v":""},{"$f":"IF(Athletenliste!G132=\"\",\"\",Athletenliste!G132)","v":""},{"$f":"IF(Athletenliste!H132=\"\",\"\",Athletenliste!H132)","v":""},null,{"$f":"IF(B132=\"\",\"\",IF(D132=\"m\",INDIRECT(VLOOKUP(G132,Bezüge!$E$6:$F$16,2,FALSE)&ROW(G132)),INDIRECT(VLOOKUP(G132,Bezüge!$B$6:$C$16,2,FALSE)&ROW(G132))))","v":""},null,null,null,"","","","","","","","","","","","","","","","","","","","","","",null,"","","","","","","","","","","","","","","","","","","","","",""]
[null,{"$f":"IF(Athletenliste!B133=\"\",\"\",Athletenliste!B133)","v":""},{"$f":"IF(Athletenliste!C133=\"\",\"\",Athletenliste!C133)","v":""},{"$f":"IF(Athletenliste!D133=\"\",\"\",Athletenliste!D133)","v":""},{"$f":"IF(Athletenliste!E133=\"\",\"\",Athletenliste!E133)","v":""},{"$f":"IF(Athletenliste!F133=\"\",\"\",Athletenliste!F133)","v":""},{"$f":"IF(Athletenliste!G133=\"\",\"\",Athletenliste!G133)","v":""},{"$f":"IF(Athletenliste!H133=\"\",\"\",Athletenliste!H133)","v":""},null,{"$f":"IF(B133=\"\",\"\",IF(D133=\"m\",INDIRECT(VLOOKUP(G133,Bezüge!$E$6:$F$16,2,FALSE)&ROW(G133)),INDIRECT(VLOOKUP(G133,Bezüge!$B$6:$C$16,2,FALSE)&ROW(G133))))","v":""},null,null,null,"","","","","","","","","","","","","","","","","","","","","","",null,"","","","","","","","","","","","","","","","","","","","","",""]
[null,{"$f":"IF(Athletenliste!B134=\"\",\"\",Athletenliste!B134)","v":""},{"$f":"IF(Athletenliste!C134=\"\",\"\",Athletenliste!C134)","v":""},{"$f":"IF(Athletenliste!D134=\"\",\"\",Athletenliste!D134)","v":""},{"$f":"IF(Athletenliste!E134=\"\",\"\",Athletenliste!E134)","v":""},{"$f":"IF(Athletenliste!F134=\"\",\"\",Athletenliste!F134)","v":""},{"$f":"IF(Athletenliste!G134=\"\",\"\",Athletenliste!G134)","v":""},{"$f":"IF(Athletenliste!H134=\"\",\"\",Athletenliste!H134)","v":""},null,{"$f":"IF(B134=\"\",\"\",IF(D134=\"m\",INDIRECT(VLOOKUP(G134,Bezüge!$E$6:$F$16,2,FALSE)&ROW(G134)),INDIRECT(VLOOKUP(G134,Bezüge!$B$6:$C$16,2,FALSE)&ROW(G134))))","v":""},null,null,null,"","","","","","","","","","","","","","","","","","","","","","",null,"","","","","","","","","","","","","","","","","","","","","",""]
[null,{"$f":"IF(Athletenliste!B135=\"\",\"\",Athletenliste!B135)","v":""},{"$f":"IF(Athletenliste!C135=\"\",\"\",Athletenliste!C135)","v":""},{"$f":"IF(Athletenliste!D135=\"\",\"\",Athletenliste!D135)","v":""},{"$f":"IF(Athletenliste!E135=\"\",\"\",Athletenliste!E135)","v":""},{"$f":"IF(Athletenliste!F135=\"\",\"\",Athletenliste!F135)","v":""},{"$f":"IF(Athletenliste!G135=\"\",\"\",Athletenliste!G135)","v":""},{"$f":"IF(Athletenliste!H135=\"\",\"\",Athletenliste!H135)","v":""},null,{"$f":"IF(B135=\"\",\"\",IF(D135=\"m\",INDIRECT(VLOOKUP(G135,Bezüge!$E$6:$F$16,2,FALSE)&ROW(G135)),INDIRECT(VLOOKUP(G135,Bezüge!$B$6:$C$16,2,FALSE)&ROW(G135))))","v":""},null,null,null,"","","","","","","","","","","","","","","","","","","","","","",null,"","","","","","","","","","","","","","","","","","","","","",""]
[null,{"$f":"IF(Athletenliste!B136=\"\",\"\",Athletenliste!B136)","v":""},{"$f":"IF(Athletenliste!C136=\"\",\"\",Athletenliste!C136)","v":""},{"$f":"IF(Athletenliste!D136=\"\",\"\",Athletenliste!D136)","v":""},{"$f":"IF(Athletenliste!E136=\"\",\"\",Athletenliste!E136)","v":""},{"$f":"IF(Athletenliste!F136=\"\",\"\",Athletenliste!F136)","v":""},{"$f":"IF(Athletenliste!G136=\"\",\"\",Athletenliste!G136)","v":""},{"$f":"IF(Athletenliste!H136=\"\",\"\",Athletenliste!H136)","v":""},null,{"$f":"IF(B136=\"\",\"\",IF(D136=\"m\",INDIRECT(VLOOKUP(G136,Bezüge!$E$6:$F$16,2,FALSE)&ROW(G136)),INDIRECT(VLOOKUP(G136,Bezüge!$B$6:$C$16,2,FALSE)&ROW(G136))))","v":""},null,null,null,"","","","","","","","","","","","","","","","","","","","","","",null,"","","","","","","","","","","","","","","","","","","","","",""]
[null,{"$f":"IF(Athletenliste!B137=\"\",\"\",Athletenliste!B137)","v":""},{"$f":"IF(Athletenliste!C137=\"\",\"\",Athletenliste!C137)","v":""},{"$f":"IF(Athletenliste!D137=\"\",\"\",Athletenliste!D137)","v":""},{"$f":"IF(Athletenliste!E137=\"\",\"\",Athletenliste!E137)","v":""},{"$f":"IF(Athletenliste!F137=\"\",\"\",Athletenliste!F137)","v":""},{"$f":"IF(Athletenliste!G137=\"\",\"\",Athletenliste!G137)","v":""},{"$f":"IF(Athletenliste!H137=\"\",\"\",Athletenliste!H137)","v":""},null,{"$f":"IF(B137=\"\",\"\",IF(D137=\"m\",INDIRECT(VLOOKUP(G137,Bezüge!$E$6:$F$16,2,FALSE)&ROW(G137)),INDIRECT(VLOOKUP(G137,Bezüge!$B$6:$C$16,2,FALSE)&ROW(G137))))","v":""},null,null,null,"","","","","","","","","","","","","","","","","","","","","","",null,"","","","","","","","","","","","","","","","","","","","","",""]
[null,{"$f":"IF(Athletenliste!B138=\"\",\"\",Athletenliste!B138)","v":""},{"$f":"IF(Athletenliste!C138=\"\",\"\",Athletenliste!C138)","v":""},{"$f":"IF(Athletenliste!D138=\"\",\"\",Athletenliste!D138)","v":""},{"$f":"IF(Athletenliste!E138=\"\",\"\",Athletenliste!E138)","v":""},{"$f":"IF(Athletenliste!F138=\"\",\"\",Athletenliste!F138)","v":""},{"$f":"IF(Athletenliste!G138=\"\",\"\",Athletenliste!G138)","v":""},{"$f":"IF(Athletenliste!H138=\"\",\"\",Athletenliste!H138)","v":""},null,{"$f":"IF(B138=\"\",\"\",IF(D138=\"m\",INDIRECT(VLOOKUP(G138,Bezüge!$E$6:$F$16,2,FALSE)&ROW(G138)),INDIRECT(VLOOKUP(G138,Bezüge!$B$6:$C$16,2,FALSE)&ROW(G138))))","v":""},null,null,null,"","","","","","","","","","","","","","","","","","","","","","",null,"","","","","","","","","","","","","","","","","","","","","",""]
[null,{"$f":"IF(Athletenliste!B139=\"\",\"\",Athletenliste!B139)","v":""},{"$f":"IF(Athletenliste!C139=\"\",\"\",Athletenliste!C139)","v":""},{"$f":"IF(Athletenliste!D139=\"\",\"\",Athletenliste!D139)","v":""},{"$f":"IF(Athletenliste!E139=\"\",\"\",Athletenliste!E139)","v":""},{"$f":"IF(Athletenliste!F139=\"\",\"\",Athletenliste!F139)","v":""},{"$f":"IF(Athletenliste!G139=\"\",\"\",Athletenliste!G139)","v":""},{"$f":"IF(Athletenliste!H139=\"\",\"\",Athletenliste!H139)","v":""},null,{"$f":"IF(B139=\"\",\"\",IF(D139=\"m\",INDIRECT(VLOOKUP(G139,Bezüge!$E$6:$F$16,2,FALSE)&ROW(G139)),INDIRECT(VLOOKUP(G139,Bezüge!$B$6:$C$16,2,FALSE)&ROW(G139))))","v":""},null,null,null,{"$f":"IF(AND(D139=\"m\",G139=\"U06\",I139<>\"\"),I139,\"\")","v":""},{"$f":"IF(OR(I139=\"\",N139=\"\"),\"\",_xlfn.RANK.EQ(N139,N$10:N$200,1))","v":""},{"$f":"IF(AND(D139=\"m\",G139=\"U07\",I139<>\"\"),I139,\"\")","v":""},{"$f":"IF(OR(I139=\"\",P139=\"\"),\"\",_xlfn.RANK.EQ(P139,P$10:P$200,1))","v":""},{"$f":"IF(AND(D139=\"m\",G139=\"U08\",I139<>\"\"),I139,\"\")","v":""},{"$f":"IF(OR(I139=\"\",R139=\"\"),\"\",_xlfn.RANK.EQ(R139,R$10:R$200,1))","v":""},{"$f":"IF(AND(D139=\"m\",G139=\"U09\",I139<>\"\"),I139,\"\")","v":""},{"$f":"IF(OR(I139=\"\",T139=\"\"),\"\",_xlfn.RANK.EQ(T139,T$10:T$200,1))","v":""},{"$f":"IF(AND(D139=\"m\",G139=\"U10\",I139<>\"\"),I139,\"\")","v":""},{"$f":"IF(OR(I139=\"\",V139=\"\"),\"\",_xlfn.RANK.EQ(V139,V$10:V$200,1))","v":""},{"$f":"IF(AND(D139=\"m\",G139=\"U11\",I139<>\"\"),I139,\"\")","v":""},{"$f":"IF(OR(I139=\"\",X139=\"\"),\"\",_xlfn.RANK.EQ(X139,X$10:X$200,1))","v":""},{"$f":"IF(AND(D139=\"m\",G139=\"U12\",I139<>\"\"),I139,\"\")","v":""},{"$f":"IF(OR(I139=\"\",Z139=\"\"),\"\",_xlfn.RANK.EQ(Z139,Z$10:Z$200,1))","v":""},{"$f":"IF(AND(D139=\"m\",G139=\"U13\",I139<>\"\"),I139,\"\")","v":""},{"$f":"IF(OR(I139=\"\",AB139=\"\"),\"\",_xlfn.RANK.EQ(AB139,AB$10:AB$200,1))","v":""},{"$f":"IF(AND(D139=\"m\",G139=\"U14\",I139<>\"\"),I139,\"\")","v":""},{"$f":"IF(OR(I139=\"\",AD139=\"\"),\"\",_xlfn.RANK.EQ(AD139,AD$10:AD$200,1))","v":""},{"$f":"IF(AND(D139=\"m\",G139=\"U15\",I139<>\"\"),I139,\"\")","v":""},{"$f":"IF(OR(I139=\"\",AF139=\"\"),\"\",_xlfn.RANK.EQ(AF139,AF$10:AF$200,1))","v":""},{"$f":"IF(AND(D139=\"m\",G139=\"U16\",I139<>\"\"),I139,\"\")","v":""},{"$f":"IF(OR(I139=\"\",AH139=\"\"),\"\",_xlfn.RANK.EQ(AH139,AH$10:AH$200,1))","v":""},null,{"$f":"IF(AND(D139=\"w\",G139=\"U06\",I139<>\"\"),I139,\"\")","v":""},{"$f":"IF(OR(I139=\"\",AI139=\"\"),\"\",_xlfn.RANK.EQ(AI139,AI$10:AI$200,1))","v":""},{"$f":"IF(AND(D139=\"w\",G139=\"U07\",I139<>\"\"),I139,\"\")","v":""},{"$f":"IF(OR(I139=\"\",AM139=\"\"),\"\",_xlfn.RANK.EQ(AM139,AM$10:AM$20,1))","v":""},{"$f":"IF(AND(D139=\"w\",G139=\"U08\",I139<>\"\"),I139,\"\")","v":""},{"$f":"IF(OR(I139=\"\",AO139=\"\"),\"\",_xlfn.RANK.EQ(AO139,AO$10:AO$200,0))","v":""},{"$f":"IF(AND(D139=\"w\",G139=\"U09\",I139<>\"\"),I139,\"\")","v":""},{"$f":"IF(OR(I139=\"\",AQ139=\"\"),\"\",_xlfn.RANK.EQ(AQ139,AQ$10:AQ$200,1))","v":""},{"$f":"IF(AND(D139=\"w\",G139=\"U10\",I139<>\"\"),I139,\"\")","v":""},{"$f":"IF(OR(I139=\"\",AS139=\"\"),\"\",_xlfn.RANK.EQ(AS139,AS$10:AS$200,1))","v":""},{"$f":"IF(AND(D139=\"w\",G139=\"U11\",I139<>\"\"),I139,\"\")","v":""},{"$f":"IF(OR(I139=\"\",AU139=\"\"),\"\",_xlfn.RANK.EQ(AU139,AU$10:AU$200,1))","v":""},{"$f":"IF(AND(D139=\"w\",G139=\"U12\",I139<>\"\"),I139,\"\")","v":""},{"$f":"IF(OR(I139=\"\",AW139=\"\"),\"\",_xlfn.RANK.EQ(AW139,AW$10:AW$200,1))","v":""},{"$f":"IF(AND(D139=\"w\",G139=\"U13\",I139<>\"\"),I139,\"\")","v":""},{"$f":"IF(OR(I139=\"\",AY139=\"\"),\"\",_xlfn.RANK.EQ(AY139,AY$10:AY$200,1))","v":""},{"$f":"IF(AND(D139=\"w\",G139=\"U14\",I139<>\"\"),I139,\"\")","v":""},{"$f":"IF(OR(I139=\"\",BA139=\"\"),\"\",_xlfn.RANK.EQ(BA139,BA$10:BA$200,1))","v":""},{"$f":"IF(AND(D139=\"w\",G139=\"U15\",I139<>\"\"),I139,\"\")","v":""},{"$f":"IF(OR(I139=\"\",BC139=\"\"),\"\",_xlfn.RANK.EQ(BC139,BC$10:BC$200,1))","v":""},{"$f":"IF(AND(D139=\"w\",G139=\"U16\",I139<>\"\"),I139,\"\")","v":""},{"$f":"IF(OR(I139=\"\",BE139=\"\"),\"\",_xlfn.RANK.EQ(BE139,BE$10:BE$200,1))","v":""}]
[null,{"$f":"IF(Athletenliste!B140=\"\",\"\",Athletenliste!B140)","v":""},{"$f":"IF(Athletenliste!C140=\"\",\"\",Athletenliste!C140)","v":""},{"$f":"IF(Athletenliste!D140=\"\",\"\",Athletenliste!D140)","v":""},{"$f":"IF(Athletenliste!E140=\"\",\"\",Athletenliste!E140)","v":""},{"$f":"IF(Athletenliste!F140=\"\",\"\",Athletenliste!F140)","v":""},{"$f":"IF(Athletenliste!G140=\"\",\"\",Athletenliste!G140)","v":""},{"$f":"IF(Athletenliste!H140=\"\",\"\",Athletenliste!H140)","v":""},null,{"$f":"IF(B140=\"\",\"\",IF(D140=\"m\",INDIRECT(VLOOKUP(G140,Bezüge!$E$6:$F$16,2,FALSE)&ROW(G140)),INDIRECT(VLOOKUP(G140,Bezüge!$B$6:$C$16,2,FALSE)&ROW(G140))))","v":""},null,null,null,"","","","","","","","","","","","","","","","","","","","","","",null,"","","","","","","","","","","","","","","","","","","","","",""]
[null,{"$f":"IF(Athletenliste!B141=\"\",\"\",Athletenliste!B141)","v":""},{"$f":"IF(Athletenliste!C141=\"\",\"\",Athletenliste!C141)","v":""},{"$f":"IF(Athletenliste!D141=\"\",\"\",Athletenliste!D141)","v":""},{"$f":"IF(Athletenliste!E141=\"\",\"\",Athletenliste!E141)","v":""},{"$f":"IF(Athletenliste!F141=\"\",\"\",Athletenliste!F141)","v":""},{"$f":"IF(Athletenliste!G141=\"\",\"\",Athletenliste!G141)","v":""},{"$f":"IF(Athletenliste!H141=\"\",\"\",Athletenliste!H141)","v":""},null,{"$f":"IF(B141=\"\",\"\",IF(D141=\"m\",INDIRECT(VLOOKUP(G141,Bezüge!$E$6:$F$16,2,FALSE)&ROW(G141)),INDIRECT(VLOOKUP(G141,Bezüge!$B$6:$C$16,2,FALSE)&ROW(G141))))","v":""},null,null,null,"","","","","","","","","","","","","","","","","","","","","","",null,"","","","","","","","","","","","","","","","","","","","","",""]
[null,{"$f":"IF(Athletenliste!B142=\"\",\"\",Athletenliste!B142)","v":""},{"$f":"IF(Athletenliste!C142=\"\",\"\",Athletenliste!C142)","v":""},{"$f":"IF(Athletenliste!D142=\"\",\"\",Athletenliste!D142)","v":""},{"$f":"IF(Athletenliste!E142=\"\",\"\",Athletenliste!E142)","v":""},{"$f":"IF(Athletenliste!F142=\"\",\"\",Athletenliste!F142)","v":""},{"$f":"IF(Athletenliste!G142=\"\",\"\",Athletenliste!G142)","v":""},{"$f":"IF(Athletenliste!H142=\"\",\"\",Athletenliste!H142)","v":""},null,{"$f":"IF(B142=\"\",\"\",IF(D142=\"m\",INDIRECT(VLOOKUP(G142,Bezüge!$E$6:$F$16,2,FALSE)&ROW(G142)),INDIRECT(VLOOKUP(G142,Bezüge!$B$6:$C$16,2,FALSE)&ROW(G142))))","v":""},null,null,null,"","","","","","","","","","","","","","","","","","","","","","",null,"","","","","","","","","","","","","","","","","","","","","",""]
[null,{"$f":"IF(Athletenliste!B143=\"\",\"\",Athletenliste!B143)","v":""},{"$f":"IF(Athletenliste!C143=\"\",\"\",Athletenliste!C143)","v":""},{"$f":"IF(Athletenliste!D143=\"\",\"\",Athletenliste!D143)","v":""},{"$f":"IF(Athletenliste!E143=\"\",\"\",Athletenliste!E143)","v":""},{"$f":"IF(Athletenliste!F143=\"\",\"\",Athletenliste!F143)","v":""},{"$f":"IF(Athletenliste!G143=\"\",\"\",Athletenliste!G143)","v":""},{"$f":"IF(Athletenliste!H143=\"\",\"\",Athletenliste!H143)","v":""},null,{"$f":"IF(B143=\"\",\"\",IF(D143=\"m\",INDIRECT(VLOOKUP(G143,Bezüge!$E$6:$F$16,2,FALSE)&ROW(G143)),INDIRECT(VLOOKUP(G143,Bezüge!$B$6:$C$16,2,FALSE)&ROW(G143))))","v":""},null,null,null,"","","","","","","","","","","","","","","","","","","","","","",null,"","","","","","","","","","","","","","","","","","","","","",""]
[null,{"$f":"IF(Athletenliste!B144=\"\",\"\",Athletenliste!B144)","v":""},{"$f":"IF(Athletenliste!C144=\"\",\"\",Athletenliste!C144)","v":""},{"$f":"IF(Athletenliste!D144=\"\",\"\",Athletenliste!D144)","v":""},{"$f":"IF(Athletenliste!E144=\"\",\"\",Athletenliste!E144)","v":""},{"$f":"IF(Athletenliste!F144=\"\",\"\",Athletenliste!F144)","v":""},{"$f":"IF(Athletenliste!G144=\"\",\"\",Athletenliste!G144)","v":""},{"$f":"IF(Athletenliste!H144=\"\",\"\",Athletenliste!H144)","v":""},null,{"$f":"IF(B144=\"\",\"\",IF(D144=\"m\",INDIRECT(VLOOKUP(G144,Bezüge!$E$6:$F$16,2,FALSE)&ROW(G144)),INDIRECT(VLOOKUP(G144,Bezüge!$B$6:$C$16,2,FALSE)&ROW(G144))))","v":""},null,null,null,"","","","","","","","","","","","","","","","","","","","","","",null,"","","","","","","","","","","","","","","","","","","","","",""]
[null,{"$f":"IF(Athletenliste!B145=\"\",\"\",Athletenliste!B145)","v":""},{"$f":"IF(Athletenliste!C145=\"\",\"\",Athletenliste!C145)","v":""},{"$f":"IF(Athletenliste!D145=\"\",\"\",Athletenliste!D145)","v":""},{"$f":"IF(Athletenliste!E145=\"\",\"\",Athletenliste!E145)","v":""},{"$f":"IF(Athletenliste!F145=\"\",\"\",Athletenliste!F145)","v":""},{"$f":"IF(Athletenliste!G145=\"\",\"\",Athletenliste!G145)","v":""},{"$f":"IF(Athletenliste!H145=\"\",\"\",Athletenliste!H145)","v":""},null,{"$f":"IF(B145=\"\",\"\",IF(D145=\"m\",INDIRECT(VLOOKUP(G145,Bezüge!$E$6:$F$16,2,FALSE)&ROW(G145)),INDIRECT(VLOOKUP(G145,Bezüge!$B$6:$C$16,2,FALSE)&ROW(G145))))","v":""},null,null,null,"","","","","","","","","","","","","","","","","","","","","","",null,"","","","","","","","","","","","","","","","","","","","","",""]
[null,{"$f":"IF(Athletenliste!B146=\"\",\"\",Athletenliste!B146)","v":""},{"$f":"IF(Athletenliste!C146=\"\",\"\",Athletenliste!C146)","v":""},{"$f":"IF(Athletenliste!D146=\"\",\"\",Athletenliste!D146)","v":""},{"$f":"IF(Athletenliste!E146=\"\",\"\",Athletenliste!E146)","v":""},{"$f":"IF(Athletenliste!F146=\"\",\"\",Athletenliste!F146)","v":""},{"$f":"IF(Athletenliste!G146=\"\",\"\",Athletenliste!G146)","v":""},{"$f":"IF(Athletenliste!H146=\"\",\"\",Athletenliste!H146)","v":""},null,{"$f":"IF(B146=\"\",\"\",IF(D146=\"m\",INDIRECT(VLOOKUP(G146,Bezüge!$E$6:$F$16,2,FALSE)&ROW(G146)),INDIRECT(VLOOKUP(G146,Bezüge!$B$6:$C$16,2,FALSE)&ROW(G146))))","v":""},null,null,null,"","","","","","","","","","","","","","","","","","","","","","",null,"","","","","","","","","","","","","","","","","","","","","",""]
[null,{"$f":"IF(Athletenliste!B147=\"\",\"\",Athletenliste!B147)","v":""},{"$f":"IF(Athletenliste!C147=\"\",\"\",Athletenliste!C147)","v":""},{"$f":"IF(Athletenliste!D147=\"\",\"\",Athletenliste!D147)","v":""},{"$f":"IF(Athletenliste!E147=\"\",\"\",Athletenliste!E147)","v":""},{"$f":"IF(Athletenliste!F147=\"\",\"\",Athletenliste!F147)","v":""},{"$f":"IF(Athletenliste!G147=\"\",\"\",Athletenliste!G147)","v":""},{"$f":"IF(Athletenliste!H147=\"\",\"\",Athletenliste!H147)","v":""},null,{"$f":"IF(B147=\"\",\"\",IF(D147=\"m\",INDIRECT(VLOOKUP(G147,Bezüge!$E$6:$F$16,2,FALSE)&ROW(G147)),INDIRECT(VLOOKUP(G147,Bezüge!$B$6:$C$16,2,FALSE)&ROW(G147))))","v":""},null,null,null,"","","","","","","","","","","","","","","","","","","","","","",null,"","","","","","","","","","","","","","","","","","","","","",""]
[null,{"$f":"IF(Athletenliste!B148=\"\",\"\",Athletenliste!B148)","v":""},{"$f":"IF(Athletenliste!C148=\"\",\"\",Athletenliste!C148)","v":""},{"$f":"IF(Athletenliste!D148=\"\",\"\",Athletenliste!D148)","v":""},{"$f":"IF(Athletenliste!E148=\"\",\"\",Athletenliste!E148)","v":""},{"$f":"IF(Athletenliste!F148=\"\",\"\",Athletenliste!F148)","v":""},{"$f":"IF(Athletenliste!G148=\"\",\"\",Athletenliste!G148)","v":""},{"$f":"IF(Athletenliste!H148=\"\",\"\",Athletenliste!H148)","v":""},null,{"$f":"IF(B148=\"\",\"\",IF(D148=\"m\",INDIRECT(VLOOKUP(G148,Bezüge!$E$6:$F$16,2,FALSE)&ROW(G148)),INDIRECT(VLOOKUP(G148,Bezüge!$B$6:$C$16,2,FALSE)&ROW(G148))))","v":""},null,null,null,"","","","","","","","","","","","","","","","","","","","","","",null,"","","","","","","","","","","","","","","","","","","","","",""]
[null,{"$f":"IF(Athletenliste!B149=\"\",\"\",Athletenliste!B149)","v":""},{"$f":"IF(Athletenliste!C149=\"\",\"\",Athletenliste!C149)","v":""},{"$f":"IF(Athletenliste!D149=\"\",\"\",Athletenliste!D149)","v":""},{"$f":"IF(Athletenliste!E149=\"\",\"\",Athletenliste!E149)","v":""},{"$f":"IF(Athletenliste!F149=\"\",\"\",Athletenliste!F149)","v":""},{"$f":"IF(Athletenliste!G149=\"\",\"\",Athletenliste!G149)","v":""},{"$f":"IF(Athletenliste!H149=\"\",\"\",Athletenliste!H149)","v":""},null,{"$f":"IF(B149=\"\",\"\",IF(D149=\"m\",INDIRECT(VLOOKUP(G149,Bezüge!$E$6:$F$16,2,FALSE)&ROW(G149)),INDIRECT(VLOOKUP(G149,Bezüge!$B$6:$C$16,2,FALSE)&ROW(G149))))","v":""},null,null,null,"","","","","","","","","","","","","","","","","","","","","","",null,"","","","","","","","","","","","","","","","","","","","","",""]
[null,{"$f":"IF(Athletenliste!B150=\"\",\"\",Athletenliste!B150)","v":""},{"$f":"IF(Athletenliste!C150=\"\",\"\",Athletenliste!C150)","v":""},{"$f":"IF(Athletenliste!D150=\"\",\"\",Athletenliste!D150)","v":""},{"$f":"IF(Athletenliste!E150=\"\",\"\",Athletenliste!E150)","v":""},{"$f":"IF(Athletenliste!F150=\"\",\"\",Athletenliste!F150)","v":""},{"$f":"IF(Athletenliste!G150=\"\",\"\",Athletenliste!G150)","v":""},{"$f":"IF(Athletenliste!H150=\"\",\"\",Athletenliste!H150)","v":""},null,{"$f":"IF(B150=\"\",\"\",IF(D150=\"m\",INDIRECT(VLOOKUP(G150,Bezüge!$E$6:$F$16,2,FALSE)&ROW(G150)),INDIRECT(VLOOKUP(G150,Bezüge!$B$6:$C$16,2,FALSE)&ROW(G150))))","v":""},null,null,null,"","","","","","","","","","","","","","","","","","","","","","",null,"","","","","","","","","","","","","","","","","","","","","",""]
[null,{"$f":"IF(Athletenliste!B151=\"\",\"\",Athletenliste!B151)","v":""},{"$f":"IF(Athletenliste!C151=\"\",\"\",Athletenliste!C151)","v":""},{"$f":"IF(Athletenliste!D151=\"\",\"\",Athletenliste!D151)","v":""},{"$f":"IF(Athletenliste!E151=\"\",\"\",Athletenliste!E151)","v":""},{"$f":"IF(Athletenliste!F151=\"\",\"\",Athletenliste!F151)","v":""},{"$f":"IF(Athletenliste!G151=\"\",\"\",Athletenliste!G151)","v":""},{"$f":"IF(Athletenliste!H151=\"\",\"\",Athletenliste!H151)","v":""},null,{"$f":"IF(B151=\"\",\"\",IF(D151=\"m\",INDIRECT(VLOOKUP(G151,Bezüge!$E$6:$F$16,2,FALSE)&ROW(G151)),INDIRECT(VLOOKUP(G151,Bezüge!$B$6:$C$16,2,FALSE)&ROW(G151))))","v":""},null,null,null,"","","","","","","","","","","","","","","","","","","","","","",null,"","","","","","","","","","","","","","","","","","","","","",""]
[null,{"$f":"IF(Athletenliste!B152=\"\",\"\",Athletenliste!B152)","v":""},{"$f":"IF(Athletenliste!C152=\"\",\"\",Athletenliste!C152)","v":""},{"$f":"IF(Athletenliste!D152=\"\",\"\",Athletenliste!D152)","v":""},{"$f":"IF(Athletenliste!E152=\"\",\"\",Athletenliste!E152)","v":""},{"$f":"IF(Athletenliste!F152=\"\",\"\",Athletenliste!F152)","v":""},{"$f":"IF(Athletenliste!G152=\"\",\"\",Athletenliste!G152)","v":""},{"$f":"IF(Athletenliste!H152=\"\",\"\",Athletenliste!H152)","v":""},null,{"$f":"IF(B152=\"\",\"\",IF(D152=\"m\",INDIRECT(VLOOKUP(G152,Bezüge!$E$6:$F$16,2,FALSE)&ROW(G152)),INDIRECT(VLOOKUP(G152,Bezüge!$B$6:$C$16,2,FALSE)&ROW(G152))))","v":""},null,null,null,"","","","","","","","","","","","","","","","","","","","","","",null,"","","","","","","","","","","","","","","","","","","","","",""]
[null,{"$f":"IF(Athletenliste!B153=\"\",\"\",Athletenliste!B153)","v":""},{"$f":"IF(Athletenliste!C153=\"\",\"\",Athletenliste!C153)","v":""},{"$f":"IF(Athletenliste!D153=\"\",\"\",Athletenliste!D153)","v":""},{"$f":"IF(Athletenliste!E153=\"\",\"\",Athletenliste!E153)","v":""},{"$f":"IF(Athletenliste!F153=\"\",\"\",Athletenliste!F153)","v":""},{"$f":"IF(Athletenliste!G153=\"\",\"\",Athletenliste!G153)","v":""},{"$f":"IF(Athletenliste!H153=\"\",\"\",Athletenliste!H153)","v":""},null,{"$f":"IF(B153=\"\",\"\",IF(D153=\"m\",INDIRECT(VLOOKUP(G153,Bezüge!$E$6:$F$16,2,FALSE)&ROW(G153)),INDIRECT(VLOOKUP(G153,Bezüge!$B$6:$C$16,2,FALSE)&ROW(G153))))","v":""},null,null,null,"","","","","","","","","","","","","","","","","","","","","","",null,"","","","","","","","","","","","","","","","","","","","","",""]
[null,{"$f":"IF(Athletenliste!B154=\"\",\"\",Athletenliste!B154)","v":""},{"$f":"IF(Athletenliste!C154=\"\",\"\",Athletenliste!C154)","v":""},{"$f":"IF(Athletenliste!D154=\"\",\"\",Athletenliste!D154)","v":""},{"$f":"IF(Athletenliste!E154=\"\",\"\",Athletenliste!E154)","v":""},{"$f":"IF(Athletenliste!F154=\"\",\"\",Athletenliste!F154)","v":""},{"$f":"IF(Athletenliste!G154=\"\",\"\",Athletenliste!G154)","v":""},{"$f":"IF(Athletenliste!H154=\"\",\"\",Athletenliste!H154)","v":""},null,{"$f":"IF(B154=\"\",\"\",IF(D154=\"m\",INDIRECT(VLOOKUP(G154,Bezüge!$E$6:$F$16,2,FALSE)&ROW(G154)),INDIRECT(VLOOKUP(G154,Bezüge!$B$6:$C$16,2,FALSE)&ROW(G154))))","v":""},null,null,null,"","","","","","","","","","","","","","","","","","","","","","",null,"","","","","","","","","","","","","","","","","","","","","",""]
[null,{"$f":"IF(Athletenliste!B155=\"\",\"\",Athletenliste!B155)","v":""},{"$f":"IF(Athletenliste!C155=\"\",\"\",Athletenliste!C155)","v":""},{"$f":"IF(Athletenliste!D155=\"\",\"\",Athletenliste!D155)","v":""},{"$f":"IF(Athletenliste!E155=\"\",\"\",Athletenliste!E155)","v":""},{"$f":"IF(Athletenliste!F155=\"\",\"\",Athletenliste!F155)","v":""},{"$f":"IF(Athletenliste!G155=\"\",\"\",Athletenliste!G155)","v":""},{"$f":"IF(Athletenliste!H155=\"\",\"\",Athletenliste!H155)","v":""},null,{"$f":"IF(B155=\"\",\"\",IF(D155=\"m\",INDIRECT(VLOOKUP(G155,Bezüge!$E$6:$F$16,2,FALSE)&ROW(G155)),INDIRECT(VLOOKUP(G155,Bezüge!$B$6:$C$16,2,FALSE)&ROW(G155))))","v":""},null,null,null,"","","","","","","","","","","","","","","","","","","","","","",null,"","","","","","","","","","","","","","","","","","","","","",""]
[null,{"$f":"IF(Athletenliste!B156=\"\",\"\",Athletenliste!B156)","v":""},{"$f":"IF(Athletenliste!C156=\"\",\"\",Athletenliste!C156)","v":""},{"$f":"IF(Athletenliste!D156=\"\",\"\",Athletenliste!D156)","v":""},{"$f":"IF(Athletenliste!E156=\"\",\"\",Athletenliste!E156)","v":""},{"$f":"IF(Athletenliste!F156=\"\",\"\",Athletenliste!F156)","v":""},{"$f":"IF(Athletenliste!G156=\"\",\"\",Athletenliste!G156)","v":""},{"$f":"IF(Athletenliste!H156=\"\",\"\",Athletenliste!H156)","v":""},null,{"$f":"IF(B156=\"\",\"\",IF(D156=\"m\",INDIRECT(VLOOKUP(G156,Bezüge!$E$6:$F$16,2,FALSE)&ROW(G156)),INDIRECT(VLOOKUP(G156,Bezüge!$B$6:$C$16,2,FALSE)&ROW(G156))))","v":""},null,null,null,"","","","","","","","","","","","","","","","","","","","","","",null,"","","","","","","","","","","","","","","","","","","","","",""]
[null,{"$f":"IF(Athletenliste!B157=\"\",\"\",Athletenliste!B157)","v":""},{"$f":"IF(Athletenliste!C157=\"\",\"\",Athletenliste!C157)","v":""},{"$f":"IF(Athletenliste!D157=\"\",\"\",Athletenliste!D157)","v":""},{"$f":"IF(Athletenliste!E157=\"\",\"\",Athletenliste!E157)","v":""},{"$f":"IF(Athletenliste!F157=\"\",\"\",Athletenliste!F157)","v":""},{"$f":"IF(Athletenliste!G157=\"\",\"\",Athletenliste!G157)","v":""},{"$f":"IF(Athletenliste!H157=\"\",\"\",Athletenliste!H157)","v":""},null,{"$f":"IF(B157=\"\",\"\",IF(D157=\"m\",INDIRECT(VLOOKUP(G157,Bezüge!$E$6:$F$16,2,FALSE)&ROW(G157)),INDIRECT(VLOOKUP(G157,Bezüge!$B$6:$C$16,2,FALSE)&ROW(G157))))","v":""},null,null,null,"","","","","","","","","","","","","","","","","","","","","","",null,"","","","","","","","","","","","","","","","","","","","","",""]
[null,{"$f":"IF(Athletenliste!B158=\"\",\"\",Athletenliste!B158)","v":""},{"$f":"IF(Athletenliste!C158=\"\",\"\",Athletenliste!C158)","v":""},{"$f":"IF(Athletenliste!D158=\"\",\"\",Athletenliste!D158)","v":""},{"$f":"IF(Athletenliste!E158=\"\",\"\",Athletenliste!E158)","v":""},{"$f":"IF(Athletenliste!F158=\"\",\"\",Athletenliste!F158)","v":""},{"$f":"IF(Athletenliste!G158=\"\",\"\",Athletenliste!G158)","v":""},{"$f":"IF(Athletenliste!H158=\"\",\"\",Athletenliste!H158)","v":""},null,{"$f":"IF(B158=\"\",\"\",IF(D158=\"m\",INDIRECT(VLOOKUP(G158,Bezüge!$E$6:$F$16,2,FALSE)&ROW(G158)),INDIRECT(VLOOKUP(G158,Bezüge!$B$6:$C$16,2,FALSE)&ROW(G158))))","v":""},null,null,null,"","","","","","","","","","","","","","","","","","","","","","",null,"","","","","","","","","","","","","","","","","","","","","",""]
[null,{"$f":"IF(Athletenliste!B159=\"\",\"\",Athletenliste!B159)","v":""},{"$f":"IF(Athletenliste!C159=\"\",\"\",Athletenliste!C159)","v":""},{"$f":"IF(Athletenliste!D159=\"\",\"\",Athletenliste!D159)","v":""},{"$f":"IF(Athletenliste!E159=\"\",\"\",Athletenliste!E159)","v":""},{"$f":"IF(Athletenliste!F159=\"\",\"\",Athletenliste!F159)","v":""},{"$f":"IF(Athletenliste!G159=\"\",\"\",Athletenliste!G159)","v":""},{"$f":"IF(Athletenliste!H159=\"\",\"\",Athletenliste!H159)","v":""},null,{"$f":"IF(B159=\"\",\"\",IF(D159=\"m\",INDIRECT(VLOOKUP(G159,Bezüge!$E$6:$F$16,2,FALSE)&ROW(G159)),INDIRECT(VLOOKUP(G159,Bezüge!$B$6:$C$16,2,FALSE)&ROW(G159))))","v":""},null,null,null,"","","","","","","","","","","","","","","","","","","","","","",null,"","","","","","","","","","","","","","","","","","","","","",""]
[null,{"$f":"IF(Athletenliste!B160=\"\",\"\",Athletenliste!B160)","v":""},{"$f":"IF(Athletenliste!C160=\"\",\"\",Athletenliste!C160)","v":""},{"$f":"IF(Athletenliste!D160=\"\",\"\",Athletenliste!D160)","v":""},{"$f":"IF(Athletenliste!E160=\"\",\"\",Athletenliste!E160)","v":""},{"$f":"IF(Athletenliste!F160=\"\",\"\",Athletenliste!F160)","v":""},{"$f":"IF(Athletenliste!G160=\"\",\"\",Athletenliste!G160)","v":""},{"$f":"IF(Athletenliste!H160=\"\",\"\",Athletenliste!H160)","v":""},null,{"$f":"IF(B160=\"\",\"\",IF(D160=\"m\",INDIRECT(VLOOKUP(G160,Bezüge!$E$6:$F$16,2,FALSE)&ROW(G160)),INDIRECT(VLOOKUP(G160,Bezüge!$B$6:$C$16,2,FALSE)&ROW(G160))))","v":""},null,null,null,"","","","","","","","","","","","","","","","","","","","","","",null,"","","","","","","","","","","","","","","","","","","","","",""]
[null,{"$f":"IF(Athletenliste!B161=\"\",\"\",Athletenliste!B161)","v":""},{"$f":"IF(Athletenliste!C161=\"\",\"\",Athletenliste!C161)","v":""},{"$f":"IF(Athletenliste!D161=\"\",\"\",Athletenliste!D161)","v":""},{"$f":"IF(Athletenliste!E161=\"\",\"\",Athletenliste!E161)","v":""},{"$f":"IF(Athletenliste!F161=\"\",\"\",Athletenliste!F161)","v":""},{"$f":"IF(Athletenliste!G161=\"\",\"\",Athletenliste!G161)","v":""},{"$f":"IF(Athletenliste!H161=\"\",\"\",Athletenliste!H161)","v":""},null,{"$f":"IF(B161=\"\",\"\",IF(D161=\"m\",INDIRECT(VLOOKUP(G161,Bezüge!$E$6:$F$16,2,FALSE)&ROW(G161)),INDIRECT(VLOOKUP(G161,Bezüge!$B$6:$C$16,2,FALSE)&ROW(G161))))","v":""},null,null,null,"","","","","","","","","","","","","","","","","","","","","","",null,"","","","","","","","","","","","","","","","","","","","","",""]
[null,{"$f":"IF(Athletenliste!B162=\"\",\"\",Athletenliste!B162)","v":""},{"$f":"IF(Athletenliste!C162=\"\",\"\",Athletenliste!C162)","v":""},{"$f":"IF(Athletenliste!D162=\"\",\"\",Athletenliste!D162)","v":""},{"$f":"IF(Athletenliste!E162=\"\",\"\",Athletenliste!E162)","v":""},{"$f":"IF(Athletenliste!F162=\"\",\"\",Athletenliste!F162)","v":""},{"$f":"IF(Athletenliste!G162=\"\",\"\",Athletenliste!G162)","v":""},{"$f":"IF(Athletenliste!H162=\"\",\"\",Athletenliste!H162)","v":""},null,{"$f":"IF(B162=\"\",\"\",IF(D162=\"m\",INDIRECT(VLOOKUP(G162,Bezüge!$E$6:$F$16,2,FALSE)&ROW(G162)),INDIRECT(VLOOKUP(G162,Bezüge!$B$6:$C$16,2,FALSE)&ROW(G162))))","v":""},null,null,null,"","","","","","","","","","","","","","","","","","","","","","",null,"","","","","","","","","","","","","","","","","","","","","",""]
[null,{"$f":"IF(Athletenliste!B163=\"\",\"\",Athletenliste!B163)","v":""},{"$f":"IF(Athletenliste!C163=\"\",\"\",Athletenliste!C163)","v":""},{"$f":"IF(Athletenliste!D163=\"\",\"\",Athletenliste!D163)","v":""},{"$f":"IF(Athletenliste!E163=\"\",\"\",Athletenliste!E163)","v":""},{"$f":"IF(Athletenliste!F163=\"\",\"\",Athletenliste!F163)","v":""},{"$f":"IF(Athletenliste!G163=\"\",\"\",Athletenliste!G163)","v":""},{"$f":"IF(Athletenliste!H163=\"\",\"\",Athletenliste!H163)","v":""},null,{"$f":"IF(B163=\"\",\"\",IF(D163=\"m\",INDIRECT(VLOOKUP(G163,Bezüge!$E$6:$F$16,2,FALSE)&ROW(G163)),INDIRECT(VLOOKUP(G163,Bezüge!$B$6:$C$16,2,FALSE)&ROW(G163))))","v":""},null,null,null,"","","","","","","","","","","","","","","","","","","","","","",null,"","","","","","","","","","","","","","","","","","","","","",""]
[null,{"$f":"IF(Athletenliste!B164=\"\",\"\",Athletenliste!B164)","v":""},{"$f":"IF(Athletenliste!C164=\"\",\"\",Athletenliste!C164)","v":""},{"$f":"IF(Athletenliste!D164=\"\",\"\",Athletenliste!D164)","v":""},{"$f":"IF(Athletenliste!E164=\"\",\"\",Athletenliste!E164)","v":""},{"$f":"IF(Athletenliste!F164=\"\",\"\",Athletenliste!F164)","v":""},{"$f":"IF(Athletenliste!G164=\"\",\"\",Athletenliste!G164)","v":""},{"$f":"IF(Athletenliste!H164=\"\",\"\",Athletenliste!H164)","v":""},null,{"$f":"IF(B164=\"\",\"\",IF(D164=\"m\",INDIRECT(VLOOKUP(G164,Bezüge!$E$6:$F$16,2,FALSE)&ROW(G164)),INDIRECT(VLOOKUP(G164,Bezüge!$B$6:$C$16,2,FALSE)&ROW(G164))))","v":""},null,null,null,"","","","","","","","","","","","","","","","","","","","","","",null,"","","","","","","","","","","","","","","","","","","","","",""]
[null,{"$f":"IF(Athletenliste!B165=\"\",\"\",Athletenliste!B165)","v":""},{"$f":"IF(Athletenliste!C165=\"\",\"\",Athletenliste!C165)","v":""},{"$f":"IF(Athletenliste!D165=\"\",\"\",Athletenliste!D165)","v":""},{"$f":"IF(Athletenliste!E165=\"\",\"\",Athletenliste!E165)","v":""},{"$f":"IF(Athletenliste!F165=\"\",\"\",Athletenliste!F165)","v":""},{"$f":"IF(Athletenliste!G165=\"\",\"\",Athletenliste!G165)","v":""},{"$f":"IF(Athletenliste!H165=\"\",\"\",Athletenliste!H165)","v":""},null,{"$f":"IF(B165=\"\",\"\",IF(D165=\"m\",INDIRECT(VLOOKUP(G165,Bezüge!$E$6:$F$16,2,FALSE)&ROW(G165)),INDIRECT(VLOOKUP(G165,Bezüge!$B$6:$C$16,2,FALSE)&ROW(G165))))","v":""},null,null,null,"","","","","","","","","","","","","","","","","","","","","","",null,"","","","","","","","","","","","","","","","","","","","","",""]
[null,{"$f":"IF(Athletenliste!B166=\"\",\"\",Athletenliste!B166)","v":""},{"$f":"IF(Athletenliste!C166=\"\",\"\",Athletenliste!C166)","v":""},{"$f":"IF(Athletenliste!D166=\"\",\"\",Athletenliste!D166)","v":""},{"$f":"IF(Athletenliste!E166=\"\",\"\",Athletenliste!E166)","v":""},{"$f":"IF(Athletenliste!F166=\"\",\"\",Athletenliste!F166)","v":""},{"$f":"IF(Athletenliste!G166=\"\",\"\",Athletenliste!G166)","v":""},{"$f":"IF(Athletenliste!H166=\"\",\"\",Athletenliste!H166)","v":""},null,{"$f":"IF(B166=\"\",\"\",IF(D166=\"m\",INDIRECT(VLOOKUP(G166,Bezüge!$E$6:$F$16,2,FALSE)&ROW(G166)),INDIRECT(VLOOKUP(G166,Bezüge!$B$6:$C$16,2,FALSE)&ROW(G166))))","v":""},null,null,null,"","","","","","","","","","","","","","","","","","","","","","",null,"","","","","","","","","","","","","","","","","","","","","",""]
[null,{"$f":"IF(Athletenliste!B167=\"\",\"\",Athletenliste!B167)","v":""},{"$f":"IF(Athletenliste!C167=\"\",\"\",Athletenliste!C167)","v":""},{"$f":"IF(Athletenliste!D167=\"\",\"\",Athletenliste!D167)","v":""},{"$f":"IF(Athletenliste!E167=\"\",\"\",Athletenliste!E167)","v":""},{"$f":"IF(Athletenliste!F167=\"\",\"\",Athletenliste!F167)","v":""},{"$f":"IF(Athletenliste!G167=\"\",\"\",Athletenliste!G167)","v":""},{"$f":"IF(Athletenliste!H167=\"\",\"\",Athletenliste!H167)","v":""},null,{"$f":"IF(B167=\"\",\"\",IF(D167=\"m\",INDIRECT(VLOOKUP(G167,Bezüge!$E$6:$F$16,2,FALSE)&ROW(G167)),INDIRECT(VLOOKUP(G167,Bezüge!$B$6:$C$16,2,FALSE)&ROW(G167))))","v":""},null,null,null,"","","","","","","","","","","","","","","","","","","","","","",null,"","","","","","","","","","","","","","","","","","","","","",""]
[null,{"$f":"IF(Athletenliste!B168=\"\",\"\",Athletenliste!B168)","v":""},{"$f":"IF(Athletenliste!C168=\"\",\"\",Athletenliste!C168)","v":""},{"$f":"IF(Athletenliste!D168=\"\",\"\",Athletenliste!D168)","v":""},{"$f":"IF(Athletenliste!E168=\"\",\"\",Athletenliste!E168)","v":""},{"$f":"IF(Athletenliste!F168=\"\",\"\",Athletenliste!F168)","v":""},{"$f":"IF(Athletenliste!G168=\"\",\"\",Athletenliste!G168)","v":""},{"$f":"IF(Athletenliste!H168=\"\",\"\",Athletenliste!H168)","v":""},null,{"$f":"IF(B168=\"\",\"\",IF(D168=\"m\",INDIRECT(VLOOKUP(G168,Bezüge!$E$6:$F$16,2,FALSE)&ROW(G168)),INDIRECT(VLOOKUP(G168,Bezüge!$B$6:$C$16,2,FALSE)&ROW(G168))))","v":""},null,null,null,"","","","","","","","","","","","","","","","","","","","","","",null,"","","","","","","","","","","","","","","","","","","","","",""]
[null,{"$f":"IF(Athletenliste!B169=\"\",\"\",Athletenliste!B169)","v":""},{"$f":"IF(Athletenliste!C169=\"\",\"\",Athletenliste!C169)","v":""},{"$f":"IF(Athletenliste!D169=\"\",\"\",Athletenliste!D169)","v":""},{"$f":"IF(Athletenliste!E169=\"\",\"\",Athletenliste!E169)","v":""},{"$f":"IF(Athletenliste!F169=\"\",\"\",Athletenliste!F169)","v":""},{"$f":"IF(Athletenliste!G169=\"\",\"\",Athletenliste!G169)","v":""},{"$f":"IF(Athletenliste!H169=\"\",\"\",Athletenliste!H169)","v":""},null,{"$f":"IF(B169=\"\",\"\",IF(D169=\"m\",INDIRECT(VLOOKUP(G169,Bezüge!$E$6:$F$16,2,FALSE)&ROW(G169)),INDIRECT(VLOOKUP(G169,Bezüge!$B$6:$C$16,2,FALSE)&ROW(G169))))","v":""},null,null,null,"","","","","","","","","","","","","","","","","","","","","","",null,"","","","","","","","","","","","","","","","","","","","","",""]
[null,{"$f":"IF(Athletenliste!B170=\"\",\"\",Athletenliste!B170)","v":""},{"$f":"IF(Athletenliste!C170=\"\",\"\",Athletenliste!C170)","v":""},{"$f":"IF(Athletenliste!D170=\"\",\"\",Athletenliste!D170)","v":""},{"$f":"IF(Athletenliste!E170=\"\",\"\",Athletenliste!E170)","v":""},{"$f":"IF(Athletenliste!F170=\"\",\"\",Athletenliste!F170)","v":""},{"$f":"IF(Athletenliste!G170=\"\",\"\",Athletenliste!G170)","v":""},{"$f":"IF(Athletenliste!H170=\"\",\"\",Athletenliste!H170)","v":""},null,{"$f":"IF(B170=\"\",\"\",IF(D170=\"m\",INDIRECT(VLOOKUP(G170,Bezüge!$E$6:$F$16,2,FALSE)&ROW(G170)),INDIRECT(VLOOKUP(G170,Bezüge!$B$6:$C$16,2,FALSE)&ROW(G170))))","v":""},null,null,null,"","","","","","","","","","","","","","","","","","","","","","",null,"","","","","","","","","","","","","","","","","","","","","",""]
[null,{"$f":"IF(Athletenliste!B171=\"\",\"\",Athletenliste!B171)","v":""},{"$f":"IF(Athletenliste!C171=\"\",\"\",Athletenliste!C171)","v":""},{"$f":"IF(Athletenliste!D171=\"\",\"\",Athletenliste!D171)","v":""},{"$f":"IF(Athletenliste!E171=\"\",\"\",Athletenliste!E171)","v":""},{"$f":"IF(Athletenliste!F171=\"\",\"\",Athletenliste!F171)","v":""},{"$f":"IF(Athletenliste!G171=\"\",\"\",Athletenliste!G171)","v":""},{"$f":"IF(Athletenliste!H171=\"\",\"\",Athletenliste!H171)","v":""},null,{"$f":"IF(B171=\"\",\"\",IF(D171=\"m\",INDIRECT(VLOOKUP(G171,Bezüge!$E$6:$F$16,2,FALSE)&ROW(G171)),INDIRECT(VLOOKUP(G171,Bezüge!$B$6:$C$16,2,FALSE)&ROW(G171))))","v":""},null,null,null,"","","","","","","","","","","","","","","","","","","","","","",null,"","","","","","","","","","","","","","","","","","","","","",""]
[null,{"$f":"IF(Athletenliste!B172=\"\",\"\",Athletenliste!B172)","v":""},{"$f":"IF(Athletenliste!C172=\"\",\"\",Athletenliste!C172)","v":""},{"$f":"IF(Athletenliste!D172=\"\",\"\",Athletenliste!D172)","v":""},{"$f":"IF(Athletenliste!E172=\"\",\"\",Athletenliste!E172)","v":""},{"$f":"IF(Athletenliste!F172=\"\",\"\",Athletenliste!F172)","v":""},{"$f":"IF(Athletenliste!G172=\"\",\"\",Athletenliste!G172)","v":""},{"$f":"IF(Athletenliste!H172=\"\",\"\",Athletenliste!H172)","v":""},null,{"$f":"IF(B172=\"\",\"\",IF(D172=\"m\",INDIRECT(VLOOKUP(G172,Bezüge!$E$6:$F$16,2,FALSE)&ROW(G172)),INDIRECT(VLOOKUP(G172,Bezüge!$B$6:$C$16,2,FALSE)&ROW(G172))))","v":""},null,null,null,"","","","","","","","","","","","","","","","","","","","","","",null,"","","","","","","","","","","","","","","","","","","","","",""]
[null,{"$f":"IF(Athletenliste!B173=\"\",\"\",Athletenliste!B173)","v":""},{"$f":"IF(Athletenliste!C173=\"\",\"\",Athletenliste!C173)","v":""},{"$f":"IF(Athletenliste!D173=\"\",\"\",Athletenliste!D173)","v":""},{"$f":"IF(Athletenliste!E173=\"\",\"\",Athletenliste!E173)","v":""},{"$f":"IF(Athletenliste!F173=\"\",\"\",Athletenliste!F173)","v":""},{"$f":"IF(Athletenliste!G173=\"\",\"\",Athletenliste!G173)","v":""},{"$f":"IF(Athletenliste!H173=\"\",\"\",Athletenliste!H173)","v":""},null,{"$f":"IF(B173=\"\",\"\",IF(D173=\"m\",INDIRECT(VLOOKUP(G173,Bezüge!$E$6:$F$16,2,FALSE)&ROW(G173)),INDIRECT(VLOOKUP(G173,Bezüge!$B$6:$C$16,2,FALSE)&ROW(G173))))","v":""},null,null,null,"","","","","","","","","","","","","","","","","","","","","","",null,"","","","","","","","","","","","","","","","","","","","","",""]
[null,{"$f":"IF(Athletenliste!B174=\"\",\"\",Athletenliste!B174)","v":""},{"$f":"IF(Athletenliste!C174=\"\",\"\",Athletenliste!C174)","v":""},{"$f":"IF(Athletenliste!D174=\"\",\"\",Athletenliste!D174)","v":""},{"$f":"IF(Athletenliste!E174=\"\",\"\",Athletenliste!E174)","v":""},{"$f":"IF(Athletenliste!F174=\"\",\"\",Athletenliste!F174)","v":""},{"$f":"IF(Athletenliste!G174=\"\",\"\",Athletenliste!G174)","v":""},{"$f":"IF(Athletenliste!H174=\"\",\"\",Athletenliste!H174)","v":""},null,{"$f":"IF(B174=\"\",\"\",IF(D174=\"m\",INDIRECT(VLOOKUP(G174,Bezüge!$E$6:$F$16,2,FALSE)&ROW(G174)),INDIRECT(VLOOKUP(G174,Bezüge!$B$6:$C$16,2,FALSE)&ROW(G174))))","v":""},null,null,null,"","","","","","","","","","","","","","","","","","","","","","",null,"","","","","","","","","","","","","","","","","","","","","",""]
[null,{"$f":"IF(Athletenliste!B175=\"\",\"\",Athletenliste!B175)","v":""},{"$f":"IF(Athletenliste!C175=\"\",\"\",Athletenliste!C175)","v":""},{"$f":"IF(Athletenliste!D175=\"\",\"\",Athletenliste!D175)","v":""},{"$f":"IF(Athletenliste!E175=\"\",\"\",Athletenliste!E175)","v":""},{"$f":"IF(Athletenliste!F175=\"\",\"\",Athletenliste!F175)","v":""},{"$f":"IF(Athletenliste!G175=\"\",\"\",Athletenliste!G175)","v":""},{"$f":"IF(Athletenliste!H175=\"\",\"\",Athletenliste!H175)","v":""},null,{"$f":"IF(B175=\"\",\"\",IF(D175=\"m\",INDIRECT(VLOOKUP(G175,Bezüge!$E$6:$F$16,2,FALSE)&ROW(G175)),INDIRECT(VLOOKUP(G175,Bezüge!$B$6:$C$16,2,FALSE)&ROW(G175))))","v":""},null,null,null,"","","","","","","","","","","","","","","","","","","","","","",null,"","","","","","","","","","","","","","","","","","","","","",""]
[null,{"$f":"IF(Athletenliste!B176=\"\",\"\",Athletenliste!B176)","v":""},{"$f":"IF(Athletenliste!C176=\"\",\"\",Athletenliste!C176)","v":""},{"$f":"IF(Athletenliste!D176=\"\",\"\",Athletenliste!D176)","v":""},{"$f":"IF(Athletenliste!E176=\"\",\"\",Athletenliste!E176)","v":""},{"$f":"IF(Athletenliste!F176=\"\",\"\",Athletenliste!F176)","v":""},{"$f":"IF(Athletenliste!G176=\"\",\"\",Athletenliste!G176)","v":""},{"$f":"IF(Athletenliste!H176=\"\",\"\",Athletenliste!H176)","v":""},null,{"$f":"IF(B176=\"\",\"\",IF(D176=\"m\",INDIRECT(VLOOKUP(G176,Bezüge!$E$6:$F$16,2,FALSE)&ROW(G176)),INDIRECT(VLOOKUP(G176,Bezüge!$B$6:$C$16,2,FALSE)&ROW(G176))))","v":""},null,null,null,"","","","","","","","","","","","","","","","","","","","","","",null,"","","","","","","","","","","","","","","","","","","","","",""]
[null,{"$f":"IF(Athletenliste!B177=\"\",\"\",Athletenliste!B177)","v":""},{"$f":"IF(Athletenliste!C177=\"\",\"\",Athletenliste!C177)","v":""},{"$f":"IF(Athletenliste!D177=\"\",\"\",Athletenliste!D177)","v":""},{"$f":"IF(Athletenliste!E177=\"\",\"\",Athletenliste!E177)","v":""},{"$f":"IF(Athletenliste!F177=\"\",\"\",Athletenliste!F177)","v":""},{"$f":"IF(Athletenliste!G177=\"\",\"\",Athletenliste!G177)","v":""},{"$f":"IF(Athletenliste!H177=\"\",\"\",Athletenliste!H177)","v":""},null,{"$f":"IF(B177=\"\",\"\",IF(D177=\"m\",INDIRECT(VLOOKUP(G177,Bezüge!$E$6:$F$16,2,FALSE)&ROW(G177)),INDIRECT(VLOOKUP(G177,Bezüge!$B$6:$C$16,2,FALSE)&ROW(G177))))","v":""},null,null,null,"","","","","","","","","","","","","","","","","","","","","","",null,"","","","","","","","","","","","","","","","","","","","","",""]
[null,{"$f":"IF(Athletenliste!B178=\"\",\"\",Athletenliste!B178)","v":""},{"$f":"IF(Athletenliste!C178=\"\",\"\",Athletenliste!C178)","v":""},{"$f":"IF(Athletenliste!D178=\"\",\"\",Athletenliste!D178)","v":""},{"$f":"IF(Athletenliste!E178=\"\",\"\",Athletenliste!E178)","v":""},{"$f":"IF(Athletenliste!F178=\"\",\"\",Athletenliste!F178)","v":""},{"$f":"IF(Athletenliste!G178=\"\",\"\",Athletenliste!G178)","v":""},{"$f":"IF(Athletenliste!H178=\"\",\"\",Athletenliste!H178)","v":""},null,{"$f":"IF(B178=\"\",\"\",IF(D178=\"m\",INDIRECT(VLOOKUP(G178,Bezüge!$E$6:$F$16,2,FALSE)&ROW(G178)),INDIRECT(VLOOKUP(G178,Bezüge!$B$6:$C$16,2,FALSE)&ROW(G178))))","v":""},null,null,null,"","","","","","","","","","","","","","","","","","","","","","",null,"","","","","","","","","","","","","","","","","","","","","",""]
[null,{"$f":"IF(Athletenliste!B179=\"\",\"\",Athletenliste!B179)","v":""},{"$f":"IF(Athletenliste!C179=\"\",\"\",Athletenliste!C179)","v":""},{"$f":"IF(Athletenliste!D179=\"\",\"\",Athletenliste!D179)","v":""},{"$f":"IF(Athletenliste!E179=\"\",\"\",Athletenliste!E179)","v":""},{"$f":"IF(Athletenliste!F179=\"\",\"\",Athletenliste!F179)","v":""},{"$f":"IF(Athletenliste!G179=\"\",\"\",Athletenliste!G179)","v":""},{"$f":"IF(Athletenliste!H179=\"\",\"\",Athletenliste!H179)","v":""},null,{"$f":"IF(B179=\"\",\"\",IF(D179=\"m\",INDIRECT(VLOOKUP(G179,Bezüge!$E$6:$F$16,2,FALSE)&ROW(G179)),INDIRECT(VLOOKUP(G179,Bezüge!$B$6:$C$16,2,FALSE)&ROW(G179))))","v":""},null,null,null,"","","","","","","","","","","","","","","","","","","","","","",null,"","","","","","","","","","","","","","","","","","","","","",""]
[null,{"$f":"IF(Athletenliste!B180=\"\",\"\",Athletenliste!B180)","v":""},{"$f":"IF(Athletenliste!C180=\"\",\"\",Athletenliste!C180)","v":""},{"$f":"IF(Athletenliste!D180=\"\",\"\",Athletenliste!D180)","v":""},{"$f":"IF(Athletenliste!E180=\"\",\"\",Athletenliste!E180)","v":""},{"$f":"IF(Athletenliste!F180=\"\",\"\",Athletenliste!F180)","v":""},{"$f":"IF(Athletenliste!G180=\"\",\"\",Athletenliste!G180)","v":""},{"$f":"IF(Athletenliste!H180=\"\",\"\",Athletenliste!H180)","v":""},null,{"$f":"IF(B180=\"\",\"\",IF(D180=\"m\",INDIRECT(VLOOKUP(G180,Bezüge!$E$6:$F$16,2,FALSE)&ROW(G180)),INDIRECT(VLOOKUP(G180,Bezüge!$B$6:$C$16,2,FALSE)&ROW(G180))))","v":""},null,null,null,"","","","","","","","","","","","","","","","","","","","","","",null,"","","","","","","","","","","","","","","","","","","","","",""]
[null,{"$f":"IF(Athletenliste!B181=\"\",\"\",Athletenliste!B181)","v":""},{"$f":"IF(Athletenliste!C181=\"\",\"\",Athletenliste!C181)","v":""},{"$f":"IF(Athletenliste!D181=\"\",\"\",Athletenliste!D181)","v":""},{"$f":"IF(Athletenliste!E181=\"\",\"\",Athletenliste!E181)","v":""},{"$f":"IF(Athletenliste!F181=\"\",\"\",Athletenliste!F181)","v":""},{"$f":"IF(Athletenliste!G181=\"\",\"\",Athletenliste!G181)","v":""},{"$f":"IF(Athletenliste!H181=\"\",\"\",Athletenliste!H181)","v":""},null,{"$f":"IF(B181=\"\",\"\",IF(D181=\"m\",INDIRECT(VLOOKUP(G181,Bezüge!$E$6:$F$16,2,FALSE)&ROW(G181)),INDIRECT(VLOOKUP(G181,Bezüge!$B$6:$C$16,2,FALSE)&ROW(G181))))","v":""},null,null,null,"","","","","","","","","","","","","","","","","","","","","","",null,"","","","","","","","","","","","","","","","","","","","","",""]
[null,{"$f":"IF(Athletenliste!B182=\"\",\"\",Athletenliste!B182)","v":""},{"$f":"IF(Athletenliste!C182=\"\",\"\",Athletenliste!C182)","v":""},{"$f":"IF(Athletenliste!D182=\"\",\"\",Athletenliste!D182)","v":""},{"$f":"IF(Athletenliste!E182=\"\",\"\",Athletenliste!E182)","v":""},{"$f":"IF(Athletenliste!F182=\"\",\"\",Athletenliste!F182)","v":""},{"$f":"IF(Athletenliste!G182=\"\",\"\",Athletenliste!G182)","v":""},{"$f":"IF(Athletenliste!H182=\"\",\"\",Athletenliste!H182)","v":""},null,{"$f":"IF(B182=\"\",\"\",IF(D182=\"m\",INDIRECT(VLOOKUP(G182,Bezüge!$E$6:$F$16,2,FALSE)&ROW(G182)),INDIRECT(VLOOKUP(G182,Bezüge!$B$6:$C$16,2,FALSE)&ROW(G182))))","v":""},null,null,null,"","","","","","","","","","","","","","","","","","","","","","",null,"","","","","","","","","","","","","","","","","","","","","",""]
[null,{"$f":"IF(Athletenliste!B183=\"\",\"\",Athletenliste!B183)","v":""},{"$f":"IF(Athletenliste!C183=\"\",\"\",Athletenliste!C183)","v":""},{"$f":"IF(Athletenliste!D183=\"\",\"\",Athletenliste!D183)","v":""},{"$f":"IF(Athletenliste!E183=\"\",\"\",Athletenliste!E183)","v":""},{"$f":"IF(Athletenliste!F183=\"\",\"\",Athletenliste!F183)","v":""},{"$f":"IF(Athletenliste!G183=\"\",\"\",Athletenliste!G183)","v":""},{"$f":"IF(Athletenliste!H183=\"\",\"\",Athletenliste!H183)","v":""},null,{"$f":"IF(B183=\"\",\"\",IF(D183=\"m\",INDIRECT(VLOOKUP(G183,Bezüge!$E$6:$F$16,2,FALSE)&ROW(G183)),INDIRECT(VLOOKUP(G183,Bezüge!$B$6:$C$16,2,FALSE)&ROW(G183))))","v":""},null,null,null,"","","","","","","","","","","","","","","","","","","","","","",null,"","","","","","","","","","","","","","","","","","","","","",""]
[null,{"$f":"IF(Athletenliste!B184=\"\",\"\",Athletenliste!B184)","v":""},{"$f":"IF(Athletenliste!C184=\"\",\"\",Athletenliste!C184)","v":""},{"$f":"IF(Athletenliste!D184=\"\",\"\",Athletenliste!D184)","v":""},{"$f":"IF(Athletenliste!E184=\"\",\"\",Athletenliste!E184)","v":""},{"$f":"IF(Athletenliste!F184=\"\",\"\",Athletenliste!F184)","v":""},{"$f":"IF(Athletenliste!G184=\"\",\"\",Athletenliste!G184)","v":""},{"$f":"IF(Athletenliste!H184=\"\",\"\",Athletenliste!H184)","v":""},null,{"$f":"IF(B184=\"\",\"\",IF(D184=\"m\",INDIRECT(VLOOKUP(G184,Bezüge!$E$6:$F$16,2,FALSE)&ROW(G184)),INDIRECT(VLOOKUP(G184,Bezüge!$B$6:$C$16,2,FALSE)&ROW(G184))))","v":""},null,null,null,"","","","","","","","","","","","","","","","","","","","","","",null,"","","","","","","","","","","","","","","","","","","","","",""]
[null,{"$f":"IF(Athletenliste!B185=\"\",\"\",Athletenliste!B185)","v":""},{"$f":"IF(Athletenliste!C185=\"\",\"\",Athletenliste!C185)","v":""},{"$f":"IF(Athletenliste!D185=\"\",\"\",Athletenliste!D185)","v":""},{"$f":"IF(Athletenliste!E185=\"\",\"\",Athletenliste!E185)","v":""},{"$f":"IF(Athletenliste!F185=\"\",\"\",Athletenliste!F185)","v":""},{"$f":"IF(Athletenliste!G185=\"\",\"\",Athletenliste!G185)","v":""},{"$f":"IF(Athletenliste!H185=\"\",\"\",Athletenliste!H185)","v":""},null,{"$f":"IF(B185=\"\",\"\",IF(D185=\"m\",INDIRECT(VLOOKUP(G185,Bezüge!$E$6:$F$16,2,FALSE)&ROW(G185)),INDIRECT(VLOOKUP(G185,Bezüge!$B$6:$C$16,2,FALSE)&ROW(G185))))","v":""},null,null,null,"","","","","","","","","","","","","","","","","","","","","","",null,"","","","","","","","","","","","","","","","","","","","","",""]
[null,{"$f":"IF(Athletenliste!B186=\"\",\"\",Athletenliste!B186)","v":""},{"$f":"IF(Athletenliste!C186=\"\",\"\",Athletenliste!C186)","v":""},{"$f":"IF(Athletenliste!D186=\"\",\"\",Athletenliste!D186)","v":""},{"$f":"IF(Athletenliste!E186=\"\",\"\",Athletenliste!E186)","v":""},{"$f":"IF(Athletenliste!F186=\"\",\"\",Athletenliste!F186)","v":""},{"$f":"IF(Athletenliste!G186=\"\",\"\",Athletenliste!G186)","v":""},{"$f":"IF(Athletenliste!H186=\"\",\"\",Athletenliste!H186)","v":""},null,{"$f":"IF(B186=\"\",\"\",IF(D186=\"m\",INDIRECT(VLOOKUP(G186,Bezüge!$E$6:$F$16,2,FALSE)&ROW(G186)),INDIRECT(VLOOKUP(G186,Bezüge!$B$6:$C$16,2,FALSE)&ROW(G186))))","v":""},null,null,null,"","","","","","","","","","","","","","","","","","","","","","",null,"","","","","","","","","","","","","","","","","","","","","",""]
[null,{"$f":"IF(Athletenliste!B187=\"\",\"\",Athletenliste!B187)","v":""},{"$f":"IF(Athletenliste!C187=\"\",\"\",Athletenliste!C187)","v":""},{"$f":"IF(Athletenliste!D187=\"\",\"\",Athletenliste!D187)","v":""},{"$f":"IF(Athletenliste!E187=\"\",\"\",Athletenliste!E187)","v":""},{"$f":"IF(Athletenliste!F187=\"\",\"\",Athletenliste!F187)","v":""},{"$f":"IF(Athletenliste!G187=\"\",\"\",Athletenliste!G187)","v":""},{"$f":"IF(Athletenliste!H187=\"\",\"\",Athletenliste!H187)","v":""},null,{"$f":"IF(B187=\"\",\"\",IF(D187=\"m\",INDIRECT(VLOOKUP(G187,Bezüge!$E$6:$F$16,2,FALSE)&ROW(G187)),INDIRECT(VLOOKUP(G187,Bezüge!$B$6:$C$16,2,FALSE)&ROW(G187))))","v":""},null,null,null,"","","","","","","","","","","","","","","","","","","","","","",null,"","","","","","","","","","","","","","","","","","","","","",""]
[null,{"$f":"IF(Athletenliste!B188=\"\",\"\",Athletenliste!B188)","v":""},{"$f":"IF(Athletenliste!C188=\"\",\"\",Athletenliste!C188)","v":""},{"$f":"IF(Athletenliste!D188=\"\",\"\",Athletenliste!D188)","v":""},{"$f":"IF(Athletenliste!E188=\"\",\"\",Athletenliste!E188)","v":""},{"$f":"IF(Athletenliste!F188=\"\",\"\",Athletenliste!F188)","v":""},{"$f":"IF(Athletenliste!G188=\"\",\"\",Athletenliste!G188)","v":""},{"$f":"IF(Athletenliste!H188=\"\",\"\",Athletenliste!H188)","v":""},null,{"$f":"IF(B188=\"\",\"\",IF(D188=\"m\",INDIRECT(VLOOKUP(G188,Bezüge!$E$6:$F$16,2,FALSE)&ROW(G188)),INDIRECT(VLOOKUP(G188,Bezüge!$B$6:$C$16,2,FALSE)&ROW(G188))))","v":""},null,null,null,"","","","","","","","","","","","","","","","","","","","","","",null,"","","","","","","","","","","","","","","","","","","","","",""]
[null,{"$f":"IF(Athletenliste!B189=\"\",\"\",Athletenliste!B189)","v":""},{"$f":"IF(Athletenliste!C189=\"\",\"\",Athletenliste!C189)","v":""},{"$f":"IF(Athletenliste!D189=\"\",\"\",Athletenliste!D189)","v":""},{"$f":"IF(Athletenliste!E189=\"\",\"\",Athletenliste!E189)","v":""},{"$f":"IF(Athletenliste!F189=\"\",\"\",Athletenliste!F189)","v":""},{"$f":"IF(Athletenliste!G189=\"\",\"\",Athletenliste!G189)","v":""},{"$f":"IF(Athletenliste!H189=\"\",\"\",Athletenliste!H189)","v":""},null,{"$f":"IF(B189=\"\",\"\",IF(D189=\"m\",INDIRECT(VLOOKUP(G189,Bezüge!$E$6:$F$16,2,FALSE)&ROW(G189)),INDIRECT(VLOOKUP(G189,Bezüge!$B$6:$C$16,2,FALSE)&ROW(G189))))","v":""},null,null,null,"","","","","","","","","","","","","","","","","","","","","","",null,"","","","","","","","","","","","","","","","","","","","","",""]
[null,{"$f":"IF(Athletenliste!B190=\"\",\"\",Athletenliste!B190)","v":""},{"$f":"IF(Athletenliste!C190=\"\",\"\",Athletenliste!C190)","v":""},{"$f":"IF(Athletenliste!D190=\"\",\"\",Athletenliste!D190)","v":""},{"$f":"IF(Athletenliste!E190=\"\",\"\",Athletenliste!E190)","v":""},{"$f":"IF(Athletenliste!F190=\"\",\"\",Athletenliste!F190)","v":""},{"$f":"IF(Athletenliste!G190=\"\",\"\",Athletenliste!G190)","v":""},{"$f":"IF(Athletenliste!H190=\"\",\"\",Athletenliste!H190)","v":""},null,{"$f":"IF(B190=\"\",\"\",IF(D190=\"m\",INDIRECT(VLOOKUP(G190,Bezüge!$E$6:$F$16,2,FALSE)&ROW(G190)),INDIRECT(VLOOKUP(G190,Bezüge!$B$6:$C$16,2,FALSE)&ROW(G190))))","v":""},null,null,null,"","","","","","","","","","","","","","","","","","","","","","",null,"","","","","","","","","","","","","","","","","","","","","",""]
[null,{"$f":"IF(Athletenliste!B191=\"\",\"\",Athletenliste!B191)","v":""},{"$f":"IF(Athletenliste!C191=\"\",\"\",Athletenliste!C191)","v":""},{"$f":"IF(Athletenliste!D191=\"\",\"\",Athletenliste!D191)","v":""},{"$f":"IF(Athletenliste!E191=\"\",\"\",Athletenliste!E191)","v":""},{"$f":"IF(Athletenliste!F191=\"\",\"\",Athletenliste!F191)","v":""},{"$f":"IF(Athletenliste!G191=\"\",\"\",Athletenliste!G191)","v":""},{"$f":"IF(Athletenliste!H191=\"\",\"\",Athletenliste!H191)","v":""},null,{"$f":"IF(B191=\"\",\"\",IF(D191=\"m\",INDIRECT(VLOOKUP(G191,Bezüge!$E$6:$F$16,2,FALSE)&ROW(G191)),INDIRECT(VLOOKUP(G191,Bezüge!$B$6:$C$16,2,FALSE)&ROW(G191))))","v":""},null,null,null,"","","","","","","","","","","","","","","","","","","","","","",null,"","","","","","","","","","","","","","","","","","","","","",""]
[null,{"$f":"IF(Athletenliste!B192=\"\",\"\",Athletenliste!B192)","v":""},{"$f":"IF(Athletenliste!C192=\"\",\"\",Athletenliste!C192)","v":""},{"$f":"IF(Athletenliste!D192=\"\",\"\",Athletenliste!D192)","v":""},{"$f":"IF(Athletenliste!E192=\"\",\"\",Athletenliste!E192)","v":""},{"$f":"IF(Athletenliste!F192=\"\",\"\",Athletenliste!F192)","v":""},{"$f":"IF(Athletenliste!G192=\"\",\"\",Athletenliste!G192)","v":""},{"$f":"IF(Athletenliste!H192=\"\",\"\",Athletenliste!H192)","v":""},null,{"$f":"IF(B192=\"\",\"\",IF(D192=\"m\",INDIRECT(VLOOKUP(G192,Bezüge!$E$6:$F$16,2,FALSE)&ROW(G192)),INDIRECT(VLOOKUP(G192,Bezüge!$B$6:$C$16,2,FALSE)&ROW(G192))))","v":""},null,null,null,"","","","","","","","","","","","","","","","","","","","","","",null,"","","","","","","","","","","","","","","","","","","","","",""]
[null,{"$f":"IF(Athletenliste!B193=\"\",\"\",Athletenliste!B193)","v":""},{"$f":"IF(Athletenliste!C193=\"\",\"\",Athletenliste!C193)","v":""},{"$f":"IF(Athletenliste!D193=\"\",\"\",Athletenliste!D193)","v":""},{"$f":"IF(Athletenliste!E193=\"\",\"\",Athletenliste!E193)","v":""},{"$f":"IF(Athletenliste!F193=\"\",\"\",Athletenliste!F193)","v":""},{"$f":"IF(Athletenliste!G193=\"\",\"\",Athletenliste!G193)","v":""},{"$f":"IF(Athletenliste!H193=\"\",\"\",Athletenliste!H193)","v":""},null,{"$f":"IF(B193=\"\",\"\",IF(D193=\"m\",INDIRECT(VLOOKUP(G193,Bezüge!$E$6:$F$16,2,FALSE)&ROW(G193)),INDIRECT(VLOOKUP(G193,Bezüge!$B$6:$C$16,2,FALSE)&ROW(G193))))","v":""},null,null,null,"","","","","","","","","","","","","","","","","","","","","","",null,"","","","","","","","","","","","","","","","","","","","","",""]
[null,{"$f":"IF(Athletenliste!B194=\"\",\"\",Athletenliste!B194)","v":""},{"$f":"IF(Athletenliste!C194=\"\",\"\",Athletenliste!C194)","v":""},{"$f":"IF(Athletenliste!D194=\"\",\"\",Athletenliste!D194)","v":""},{"$f":"IF(Athletenliste!E194=\"\",\"\",Athletenliste!E194)","v":""},{"$f":"IF(Athletenliste!F194=\"\",\"\",Athletenliste!F194)","v":""},{"$f":"IF(Athletenliste!G194=\"\",\"\",Athletenliste!G194)","v":""},{"$f":"IF(Athletenliste!H194=\"\",\"\",Athletenliste!H194)","v":""},null,{"$f":"IF(B194=\"\",\"\",IF(D194=\"m\",INDIRECT(VLOOKUP(G194,Bezüge!$E$6:$F$16,2,FALSE)&ROW(G194)),INDIRECT(VLOOKUP(G194,Bezüge!$B$6:$C$16,2,FALSE)&ROW(G194))))","v":""},null,null,null,"","","","","","","","","","","","","","","","","","","","","","",null,"","","","","","","","","","","","","","","","","","","","","",""]
[null,{"$f":"IF(Athletenliste!B195=\"\",\"\",Athletenliste!B195)","v":""},{"$f":"IF(Athletenliste!C195=\"\",\"\",Athletenliste!C195)","v":""},{"$f":"IF(Athletenliste!D195=\"\",\"\",Athletenliste!D195)","v":""},{"$f":"IF(Athletenliste!E195=\"\",\"\",Athletenliste!E195)","v":""},{"$f":"IF(Athletenliste!F195=\"\",\"\",Athletenliste!F195)","v":""},{"$f":"IF(Athletenliste!G195=\"\",\"\",Athletenliste!G195)","v":""},{"$f":"IF(Athletenliste!H195=\"\",\"\",Athletenliste!H195)","v":""},null,{"$f":"IF(B195=\"\",\"\",IF(D195=\"m\",INDIRECT(VLOOKUP(G195,Bezüge!$E$6:$F$16,2,FALSE)&ROW(G195)),INDIRECT(VLOOKUP(G195,Bezüge!$B$6:$C$16,2,FALSE)&ROW(G195))))","v":""},null,null,null,"","","","","","","","","","","","","","","","","","","","","","",null,"","","","","","","","","","","","","","","","","","","","","",""]
[null,{"$f":"IF(Athletenliste!B196=\"\",\"\",Athletenliste!B196)","v":""},{"$f":"IF(Athletenliste!C196=\"\",\"\",Athletenliste!C196)","v":""},{"$f":"IF(Athletenliste!D196=\"\",\"\",Athletenliste!D196)","v":""},{"$f":"IF(Athletenliste!E196=\"\",\"\",Athletenliste!E196)","v":""},{"$f":"IF(Athletenliste!F196=\"\",\"\",Athletenliste!F196)","v":""},{"$f":"IF(Athletenliste!G196=\"\",\"\",Athletenliste!G196)","v":""},{"$f":"IF(Athletenliste!H196=\"\",\"\",Athletenliste!H196)","v":""},null,{"$f":"IF(B196=\"\",\"\",IF(D196=\"m\",INDIRECT(VLOOKUP(G196,Bezüge!$E$6:$F$16,2,FALSE)&ROW(G196)),INDIRECT(VLOOKUP(G196,Bezüge!$B$6:$C$16,2,FALSE)&ROW(G196))))","v":""},null,null,null,"","","","","","","","","","","","","","","","","","","","","","",null,"","","","","","","","","","","","","","","","","","","","","",""]
[null,{"$f":"IF(Athletenliste!B197=\"\",\"\",Athletenliste!B197)","v":""},{"$f":"IF(Athletenliste!C197=\"\",\"\",Athletenliste!C197)","v":""},{"$f":"IF(Athletenliste!D197=\"\",\"\",Athletenliste!D197)","v":""},{"$f":"IF(Athletenliste!E197=\"\",\"\",Athletenliste!E197)","v":""},{"$f":"IF(Athletenliste!F197=\"\",\"\",Athletenliste!F197)","v":""},{"$f":"IF(Athletenliste!G197=\"\",\"\",Athletenliste!G197)","v":""},{"$f":"IF(Athletenliste!H197=\"\",\"\",Athletenliste!H197)","v":""},null,{"$f":"IF(B197=\"\",\"\",IF(D197=\"m\",INDIRECT(VLOOKUP(G197,Bezüge!$E$6:$F$16,2,FALSE)&ROW(G197)),INDIRECT(VLOOKUP(G197,Bezüge!$B$6:$C$16,2,FALSE)&ROW(G197))))","v":""},null,null,null,"","","","","","","","","","","","","","","","","","","","","","",null,"","","","","","","","","","","","","","","","","","","","","",""]
[null,{"$f":"IF(Athletenliste!B198=\"\",\"\",Athletenliste!B198)","v":""},{"$f":"IF(Athletenliste!C198=\"\",\"\",Athletenliste!C198)","v":""},{"$f":"IF(Athletenliste!D198=\"\",\"\",Athletenliste!D198)","v":""},{"$f":"IF(Athletenliste!E198=\"\",\"\",Athletenliste!E198)","v":""},{"$f":"IF(Athletenliste!F198=\"\",\"\",Athletenliste!F198)","v":""},{"$f":"IF(Athletenliste!G198=\"\",\"\",Athletenliste!G198)","v":""},{"$f":"IF(Athletenliste!H198=\"\",\"\",Athletenliste!H198)","v":""},null,{"$f":"IF(B198=\"\",\"\",IF(D198=\"m\",INDIRECT(VLOOKUP(G198,Bezüge!$E$6:$F$16,2,FALSE)&ROW(G198)),INDIRECT(VLOOKUP(G198,Bezüge!$B$6:$C$16,2,FALSE)&ROW(G198))))","v":""},null,null,null,"","","","","","","","","","","","","","","","","","","","","","",null,"","","","","","","","","","","","","","","","","","","","","",""]
[null,{"$f":"IF(Athletenliste!B199=\"\",\"\",Athletenliste!B199)","v":""},{"$f":"IF(Athletenliste!C199=\"\",\"\",Athletenliste!C199)","v":""},{"$f":"IF(Athletenliste!D199=\"\",\"\",Athletenliste!D199)","v":""},{"$f":"IF(Athletenliste!E199=\"\",\"\",Athletenliste!E199)","v":""},{"$f":"IF(Athletenliste!F199=\"\",\"\",Athletenliste!F199)","v":""},{"$f":"IF(Athletenliste!G199=\"\",\"\",Athletenliste!G199)","v":""},{"$f":"IF(Athletenliste!H199=\"\",\"\",Athletenliste!H199)","v":""},null,{"$f":"IF(B199=\"\",\"\",IF(D199=\"m\",INDIRECT(VLOOKUP(G199,Bezüge!$E$6:$F$16,2,FALSE)&ROW(G199)),INDIRECT(VLOOKUP(G199,Bezüge!$B$6:$C$16,2,FALSE)&ROW(G199))))","v":""},null,null,null,"","","","","","","","","","","","","","","","","","","","","","",null,"","","","","","","","","","","","","","","","","","","","","",""]
[null,{"$f":"IF(Athletenliste!B200=\"\",\"\",Athletenliste!B200)","v":""},{"$f":"IF(Athletenliste!C200=\"\",\"\",Athletenliste!C200)","v":""},{"$f":"IF(Athletenliste!D200=\"\",\"\",Athletenliste!D200)","v":""},{"$f":"IF(Athletenliste!E200=\"\",\"\",Athletenliste!E200)","v":""},{"$f":"IF(Athletenliste!F200=\"\",\"\",Athletenliste!F200)","v":""},{"$f":"IF(Athletenliste!G200=\"\",\"\",Athletenliste!G200)","v":""},{"$f":"IF(Athletenliste!H200=\"\",\"\",Athletenliste!H200)","v":""},null,{"$f":"IF(B200=\"\",\"\",IF(D200=\"m\",INDIRECT(VLOOKUP(G200,Bezüge!$E$6:$F$16,2,FALSE)&ROW(G200)),INDIRECT(VLOOKUP(G200,Bezüge!$B$6:$C$16,2,FALSE)&ROW(G200))))","v":""},null,null,null,"","","","","","","","","","","","","","","","","","","","","","",null,"","","","","","","","","","","","","","","","","","","","","",""]
[null,{"$f":"IF(Athletenliste!B201=\"\",\"\",Athletenliste!B201)","v":""},{"$f":"IF(Athletenliste!C201=\"\",\"\",Athletenliste!C201)","v":""},{"$f":"IF(Athletenliste!D201=\"\",\"\",Athletenliste!D201)","v":""},{"$f":"IF(Athletenliste!E201=\"\",\"\",Athletenliste!E201)","v":""},{"$f":"IF(Athletenliste!F201=\"\",\"\",Athletenliste!F201)","v":""},{"$f":"IF(Athletenliste!G201=\"\",\"\",Athletenliste!G201)","v":""},{"$f":"IF(Athletenliste!H201=\"\",\"\",Athletenliste!H201)","v":""},null,null,null,null,null,"","","","","","","","","","","","","","","","","","","","","","",null,"","","","","","","","","","","","","","","","","","","","","",""]
[null,{"$f":"IF(Athletenliste!B202=\"\",\"\",Athletenliste!B202)","v":""},{"$f":"IF(Athletenliste!C202=\"\",\"\",Athletenliste!C202)","v":""},{"$f":"IF(Athletenliste!D202=\"\",\"\",Athletenliste!D202)","v":""},{"$f":"IF(Athletenliste!E202=\"\",\"\",Athletenliste!E202)","v":""},{"$f":"IF(Athletenliste!F202=\"\",\"\",Athletenliste!F202)","v":""},{"$f":"IF(Athletenliste!G202=\"\",\"\",Athletenliste!G202)","v":""},{"$f":"IF(Athletenliste!H202=\"\",\"\",Athletenliste!H202)","v":""},null,null,null,null,null,"","","","","","","","","","","","","","","","","","","","","","",null,"","","","","","","","","","","","","","","","","","","","","",""]

{"sheet":"KaBu","index":5,"n_rows":202,"n_cols":58,"rows_kept":202,"cut":false,"hidden":false,"merged":[[3,2,3,3],[6,13,6,34],[6,36,6,57]]}
[]
[null,"SKILANGLAUF - DEUTSCHLAND - ATHLETIK - CHALLENGE"]
[]
[null,"Ort:",{"$f":"Athletenliste!C4","v":"Leipzig"},null,"Datum:",{"$f":"Athletenliste!F4","v":"2012-05-18"}]
[]
[null,"KaBu"]
[null,"Name","Vorname","Geschlecht","Jahrgang","Testdatum","AK","LV","KaBu","Rang in AK",null,null,null,"männlich",null,null,null,null,null,null,null,null,null,null,null,null,null,null,null,null,null,null,null,null,null,null,"Weiblich"]
[null,null,null,null,null,null,null,null,"[0,00 s]",null,null,null,null,"U06  ","Ra","U07 ","Ra","U08 ","Ra","U09 ","Ra","U10 ","Ra","U11 ","Ra","U12 ","Ra","U13 ","Ra","U14 ","Ra","U15 ","Ra","U16 ","Ra",null,"U06  ","Ra","U07 ","Ra","U08 ","Ra","U09 ","Ra","U10 ","Ra","U11 ","Ra","U12 ","Ra","U13 ","Ra","U14 ","Ra","U15 ","Ra","U16 ","Ra"]
[]
[null,{"$f":"IF(Athletenliste!B10=\"\",\"\",Athletenliste!B10)","v":""},{"$f":"IF(Athletenliste!C10=\"\",\"\",Athletenliste!C10)","v":""},{"$f":"IF(Athletenliste!D10=\"\",\"\",Athletenliste!D10)","v":""},{"$f":"IF(Athletenliste!E10=\"\",\"\",Athletenliste!E10)","v":""},{"$f":"IF(Athletenliste!F10=\"\",\"\",Athletenliste!F10)","v":""},{"$f":"IF(Athletenliste!G10=\"\",\"\",Athletenliste!G10)","v":""},{"$f":"IF(Athletenliste!H10=\"\",\"\",Athletenliste!H10)","v":""},null,{"$f":"IF(B10=\"\",\"\",IF(D10=\"m\",INDIRECT(VLOOKUP(G10,Bezüge!$E$6:$F$16,2,FALSE)&ROW(G10)),INDIRECT(VLOOKUP(G10,Bezüge!$B$6:$C$16,2,FALSE)&ROW(G10))))","v":""},null,null,null,{"$f":"IF(AND(D10=\"m\",G10=\"U06\",I10<>\"\"),I10,\"\")","v":""},{"$f":"IF(OR(I10=\"\",N10=\"\"),\"\",_xlfn.RANK.EQ(N10,N$10:N$200,1))","v":""},{"$f":"IF(AND(D10=\"m\",G10=\"U07\",I10<>\"\"),I10,\"\")","v":""},{"$f":"IF(OR(I10=\"\",P10=\"\"),\"\",_xlfn.RANK.EQ(P10,P$10:P$200,1))","v":""},{"$f":"IF(AND(D10=\"m\",G10=\"U08\",I10<>\"\"),I10,\"\")","v":""},{"$f":"IF(OR(I10=\"\",R10=\"\"),\"\",_xlfn.RANK.EQ(R10,R$10:R$200,1))","v":""},{"$f":"IF(AND(D10=\"m\",G10=\"U09\",I10<>\"\"),I10,\"\")","v":""},{"$f":"IF(OR(I10=\"\",T10=\"\"),\"\",_xlfn.RANK.EQ(T10,T$10:T$200,1))","v":""},{"$f":"IF(AND(D10=\"m\",G10=\"U10\",I10<>\"\"),I10,\"\")","v":""},{"$f":"IF(OR(I10=\"\",V10=\"\"),\"\",_xlfn.RANK.EQ(V10,V$10:V$200,1))","v":""},{"$f":"IF(AND(D10=\"m\",G10=\"U11\",I10<>\"\"),I10,\"\")","v":""},{"$f":"IF(OR(I10=\"\",X10=\"\"),\"\",_xlfn.RANK.EQ(X10,X$10:X$200,1))","v":""},{"$f":"IF(AND(D10=\"m\",G10=\"U12\",I10<>\"\"),I10,\"\")","v":""},{"$f":"IF(OR(I10=\"\",Z10=\"\"),\"\",_xlfn.RANK.EQ(Z10,Z$10:Z$200,1))","v":""},{"$f":"IF(AND(D10=\"m\",G10=\"U13\",I10<>\"\"),I10,\"\")","v":""},{"$f":"IF(OR(I10=\"\",AB10=\"\"),\"\",_xlfn.RANK.EQ(AB10,AB$10:AB$200,1))","v":""},{"$f":"IF(AND(D10=\"m\",G10=\"U14\",I10<>\"\"),I10,\"\")","v":""},{"$f":"IF(OR(I10=\"\",AD10=\"\"),\"\",_xlfn.RANK.EQ(AD10,AD$10:AD$200,1))","v":""},{"$f":"IF(AND(D10=\"m\",G10=\"U15\",I10<>\"\"),I10,\"\")","v":""},{"$f":"IF(OR(I10=\"\",AF10=\"\"),\"\",_xlfn.RANK.EQ(AF10,AF$10:AF$200,1))","v":""},{"$f":"IF(AND(D10=\"m\",G10=\"U16\",I10<>\"\"),I10,\"\")","v":""},{"$f":"IF(OR(I10=\"\",AH10=\"\"),\"\",_xlfn.RANK.EQ(AH10,AH$10:AH$200,1))","v":""},null,{"$f":"IF(AND(D10=\"w\",G10=\"U06\",I10<>\"\"),I10,\"\")","v":""},{"$f":"IF(OR(I10=\"\",AI10=\"\"),\"\",_xlfn.RANK.EQ(AI10,AI$10:AI$200,1))","v":""},{"$f":"IF(AND(D10=\"w\",G10=\"U07\",I10<>\"\"),I10,\"\")","v":""},{"$f":"IF(OR(I10=\"\",AM10=\"\"),\"\",_xlfn.RANK.EQ(AM10,AM$10:AM$20,1))","v":""},{"$f":"IF(AND(D10=\"w\",G10=\"U08\",I10<>\"\"),I10,\"\")","v":""},{"$f":"IF(OR(I10=\"\",AO10=\"\"),\"\",_xlfn.RANK.EQ(AO10,AO$10:AO$200,0))","v":""},{"$f":"IF(AND(D10=\"w\",G10=\"U09\",I10<>\"\"),I10,\"\")","v":""},{"$f":"IF(OR(I10=\"\",AQ10=\"\"),\"\",_xlfn.RANK.EQ(AQ10,AQ$10:AQ$200,1))","v":""},{"$f":"IF(AND(D10=\"w\",G10=\"U10\",I10<>\"\"),I10,\"\")","v":""},{"$f":"IF(OR(I10=\"\",AS10=\"\"),\"\",_xlfn.RANK.EQ(AS10,AS$10:AS$200,1))","v":""},{"$f":"IF(AND(D10=\"w\",G10=\"U11\",I10<>\"\"),I10,\"\")","v":""},{"$f":"IF(OR(I10=\"\",AU10=\"\"),\"\",_xlfn.RANK.EQ(AU10,AU$10:AU$200,1))","v":""},{"$f":"IF(AND(D10=\"w\",G10=\"U12\",I10<>\"\"),I10,\"\")","v":""},{"$f":"IF(OR(I10=\"\",AW10=\"\"),\"\",_xlfn.RANK.EQ(AW10,AW$10:AW$200,1))","v":""},{"$f":"IF(AND(D10=\"w\",G10=\"U13\",I10<>\"\"),I10,\"\")","v":""},{"$f":"IF(OR(I10=\"\",AY10=\"\"),\"\",_xlfn.RANK.EQ(AY10,AY$10:AY$200,1))","v":""},{"$f":"IF(AND(D10=\"w\",G10=\"U14\",I10<>\"\"),I10,\"\")","v":""},{"$f":"IF(OR(I10=\"\",BA10=\"\"),\"\",_xlfn.RANK.EQ(BA10,BA$10:BA$200,1))","v":""},{"$f":"IF(AND(D10=\"w\",G10=\"U15\",I10<>\"\"),I10,\"\")","v":""},{"$f":"IF(OR(I10=\"\",BC10=\"\"),\"\",_xlfn.RANK.EQ(BC10,BC$10:BC$200,1))","v":""},{"$f":"IF(AND(D10=\"w\",G10=\"U16\",I10<>\"\"),I10,\"\")","v":""},{"$f":"IF(OR(I10=\"\",BE10=\"\"),\"\",_xlfn.RANK.EQ(BE10,BE$10:BE$200,1))","v":""}]
[null,{"$f":"IF(Athletenliste!B11=\"\",\"\",Athletenliste!B11)","v":""},{"$f":"IF(Athletenliste!C11=\"\",\"\",Athletenliste!C11)","v":""},{"$f":"IF(Athletenliste!D11=\"\",\"\",Athletenliste!D11)","v":""},{"$f":"IF(Athletenliste!E11=\"\",\"\",Athletenliste!E11)","v":""},{"$f":"IF(Athletenliste!F11=\"\",\"\",Athletenliste!F11)","v":""},{"$f":"IF(Athletenliste!G11=\"\",\"\",Athletenliste!G11)","v":""},{"$f":"IF(Athletenliste!H11=\"\",\"\",Athletenliste!H11)","v":""},null,{"$f":"IF(B11=\"\",\"\",IF(D11=\"m\",INDIRECT(VLOOKUP(G11,Bezüge!$E$6:$F$16,2,FALSE)&ROW(G11)),INDIRECT(VLOOKUP(G11,Bezüge!$B$6:$C$16,2,FALSE)&ROW(G11))))","v":""},null,null,null,{"$f":"IF(AND(D11=\"m\",G11=\"U06\",I11<>\"\"),I11,\"\")","v":""},{"$f":"IF(OR(I11=\"\",N11=\"\"),\"\",_xlfn.RANK.EQ(N11,N$10:N$200,1))","v":""},{"$f":"IF(AND(D11=\"m\",G11=\"U07\",I11<>\"\"),I11,\"\")","v":""},{"$f":"IF(OR(I11=\"\",P11=\"\"),\"\",_xlfn.RANK.EQ(P11,P$10:P$200,1))","v":""},{"$f":"IF(AND(D11=\"m\",G11=\"U08\",I11<>\"\"),I11,\"\")","v":""},{"$f":"IF(OR(I11=\"\",R11=\"\"),\"\",_xlfn.RANK.EQ(R11,R$10:R$200,1))","v":""},{"$f":"IF(AND(D11=\"m\",G11=\"U09\",I11<>\"\"),I11,\"\")","v":""},{"$f":"IF(OR(I11=\"\",T11=\"\"),\"\",_xlfn.RANK.EQ(T11,T$10:T$200,1))","v":""},{"$f":"IF(AND(D11=\"m\",G11=\"U10\",I11<>\"\"),I11,\"\")","v":""},{"$f":"IF(OR(I11=\"\",V11=\"\"),\"\",_xlfn.RANK.EQ(V11,V$10:V$200,1))","v":""},{"$f":"IF(AND(D11=\"m\",G11=\"U11\",I11<>\"\"),I11,\"\")","v":""},{"$f":"IF(OR(I11=\"\",X11=\"\"),\"\",_xlfn.RANK.EQ(X11,X$10:X$200,1))","v":""},{"$f":"IF(AND(D11=\"m\",G11=\"U12\",I11<>\"\"),I11,\"\")","v":""},{"$f":"IF(OR(I11=\"\",Z11=\"\"),\"\",_xlfn.RANK.EQ(Z11,Z$10:Z$200,1))","v":""},{"$f":"IF(AND(D11=\"m\",G11=\"U13\",I11<>\"\"),I11,\"\")","v":""},{"$f":"IF(OR(I11=\"\",AB11=\"\"),\"\",_xlfn.RANK.EQ(AB11,AB$10:AB$200,1))","v":""},{"$f":"IF(AND(D11=\"m\",G11=\"U14\",I11<>\"\"),I11,\"\")","v":""},{"$f":"IF(OR(I11=\"\",AD11=\"\"),\"\",_xlfn.RANK.EQ(AD11,AD$10:AD$200,1))","v":""},{"$f":"IF(AND(D11=\"m\",G11=\"U15\",I11<>\"\"),I11,\"\")","v":""},{"$f":"IF(OR(I11=\"\",AF11=\"\"),\"\",_xlfn.RANK.EQ(AF11,AF$10:AF$200,1))","v":""},{"$f":"IF(AND(D11=\"m\",G11=\"U16\",I11<>\"\"),I11,\"\")","v":""},{"$f":"IF(OR(I11=\"\",AH11=\"\"),\"\",_xlfn.RANK.EQ(AH11,AH$10:AH$200,1))","v":""},null,{"$f":"IF(AND(D11=\"w\",G11=\"U06\",I11<>\"\"),I11,\"\")","v":""},{"$f":"IF(OR(I11=\"\",AI11=\"\"),\"\",_xlfn.RANK.EQ(AI11,AI$10:AI$200,1))","v":""},{"$f":"IF(AND(D11=\"w\",G11=\"U07\",I11<>\"\"),I11,\"\")","v":""},{"$f":"IF(OR(I11=\"\",AM11=\"\"),\"\",_xlfn.RANK.EQ(AM11,AM$10:AM$20,1))","v":""},{"$f":"IF(AND(D11=\"w\",G11=\"U08\",I11<>\"\"),I11,\"\")","v":""},{"$f":"IF(OR(I11=\"\",AO11=\"\"),\"\",_xlfn.RANK.EQ(AO11,AO$10:AO$200,0))","v":""},{"$f":"IF(AND(D11=\"w\",G11=\"U09\",I11<>\"\"),I11,\"\")","v":""},{"$f":"IF(OR(I11=\"\",AQ11=\"\"),\"\",_xlfn.RANK.EQ(AQ11,AQ$10:AQ$200,1))","v":""},{"$f":"IF(AND(D11=\"w\",G11=\"U10\",I11<>\"\"),I11,\"\")","v":""},{"$f":"IF(OR(I11=\"\",AS11=\"\"),\"\",_xlfn.RANK.EQ(AS11,AS$10:AS$200,1))","v":""},{"$f":"IF(AND(D11=\"w\",G11=\"U11\",I11<>\"\"),I11,\"\")","v":""},{"$f":"IF(OR(I11=\"\",AU11=\"\"),\"\",_xlfn.RANK.EQ(AU11,AU$10:AU$200,1))","v":""},{"$f":"IF(AND(D11=\"w\",G11=\"U12\",I11<>\"\"),I11,\"\")","v":""},{"$f":"IF(OR(I11=\"\",AW11=\"\"),\"\",_xlfn.RANK.EQ(AW11,AW$10:AW$200,1))","v":""},{"$f":"IF(AND(D11=\"w\",G11=\"U13\",I11<>\"\"),I11,\"\")","v":""},{"$f":"IF(OR(I11=\"\",AY11=\"\"),\"\",_xlfn.RANK.EQ(AY11,AY$10:AY$200,1))","v":""},{"$f":"IF(AND(D11=\"w\",G11=\"U14\",I11<>\"\"),I11,\"\")","v":""},{"$f":"IF(OR(I11=\"\",BA11=\"\"),\"\",_xlfn.RANK.EQ(BA11,BA$10:BA$200,1))","v":""},{"$f":"IF(AND(D11=\"w\",G11=\"U15\",I11<>\"\"),I11,\"\")","v":""},{"$f":"IF(OR(I11=\"\",BC11=\"\"),\"\",_xlfn.RANK.EQ(BC11,BC$10:BC$200,1))","v":""},{"$f":"IF(AND(D11=\"w\",G11=\"U16\",I11<>\"\"),I11,\"\")","v":""},{"$f":"IF(OR(I11=\"\",BE11=\"\"),\"\",_xlfn.RANK.EQ(BE11,BE$10:BE$200,1))","v":""}]
[null,{"$f":"IF(Athletenliste!B12=\"\",\"\",Athletenliste!B12)","v":""},{"$f":"IF(Athletenliste!C12=\"\",\"\",Athletenliste!C12)","v":""},{"$f":"IF(Athletenliste!D12=\"\",\"\",Athletenliste!D12)","v":""},{"$f":"IF(Athletenliste!E12=\"\",\"\",Athletenliste!E12)","v":""},{"$f":"IF(Athletenliste!F12=\"\",\"\",Athletenliste!F12)","v":""},{"$f":"IF(Athletenliste!G12=\"\",\"\",Athletenliste!G12)","v":""},{"$f":"IF(Athletenliste!H12=\"\",\"\",Athletenliste!H12)","v":""},null,{"$f":"IF(B12=\"\",\"\",IF(D12=\"m\",INDIRECT(VLOOKUP(G12,Bezüge!$E$6:$F$16,2,FALSE)&ROW(G12)),INDIRECT(VLOOKUP(G12,Bezüge!$B$6:$C$16,2,FALSE)&ROW(G12))))","v":""},null,null,null,"","","","","","","","","","","","","","","","","","","","","","",null,"","","","","","","","","","","","","","","","","","","","","",""]
[null,{"$f":"IF(Athletenliste!B13=\"\",\"\",Athletenliste!B13)","v":""},{"$f":"IF(Athletenliste!C13=\"\",\"\",Athletenliste!C13)","v":""},{"$f":"IF(Athletenliste!D13=\"\",\"\",Athletenliste!D13)","v":""},{"$f":"IF(Athletenliste!E13=\"\",\"\",Athletenliste!E13)","v":""},{"$f":"IF(Athletenliste!F13=\"\",\"\",Athletenliste!F13)","v":""},{"$f":"IF(Athletenliste!G13=\"\",\"\",Athletenliste!G13)","v":""},{"$f":"IF(Athletenliste!H13=\"\",\"\",Athletenliste!H13)","v":""},null,{"$f":"IF(B13=\"\",\"\",IF(D13=\"m\",INDIRECT(VLOOKUP(G13,Bezüge!$E$6:$F$16,2,FALSE)&ROW(G13)),INDIRECT(VLOOKUP(G13,Bezüge!$B$6:$C$16,2,FALSE)&ROW(G13))))","v":""},null,null,null,"","","","","","","","","","","","","","","","","","","","","","",null,"","","","","","","","","","","","","","","","","","","","","",""]
[null,{"$f":"IF(Athletenliste!B14=\"\",\"\",Athletenliste!B14)","v":""},{"$f":"IF(Athletenliste!C14=\"\",\"\",Athletenliste!C14)","v":""},{"$f":"IF(Athletenliste!D14=\"\",\"\",Athletenliste!D14)","v":""},{"$f":"IF(Athletenliste!E14=\"\",\"\",Athletenliste!E14)","v":""},{"$f":"IF(Athletenliste!F14=\"\",\"\",Athletenliste!F14)","v":""},{"$f":"IF(Athletenliste!G14=\"\",\"\",Athletenliste!G14)","v":""},{"$f":"IF(Athletenliste!H14=\"\",\"\",Athletenliste!H14)","v":""},null,{"$f":"IF(B14=\"\",\"\",IF(D14=\"m\",INDIRECT(VLOOKUP(G14,Bezüge!$E$6:$F$16,2,FALSE)&ROW(G14)),INDIRECT(VLOOKUP(G14,Bezüge!$B$6:$C$16,2,FALSE)&ROW(G14))))","v":""},null,null,null,"","","","","","","","","","","","","","","","","","","","","","",null,"","","","","","","","","","","","","","","","","","","","","",""]
[null,{"$f":"IF(Athletenliste!B15=\"\",\"\",Athletenliste!B15)","v":""},{"$f":"IF(Athletenliste!C15=\"\",\"\",Athletenliste!C15)","v":""},{"$f":"IF(Athletenliste!D15=\"\",\"\",Athletenliste!D15)","v":""},{"$f":"IF(Athletenliste!E15=\"\",\"\",Athletenliste!E15)","v":""},{"$f":"IF(Athletenliste!F15=\"\",\"\",Athletenliste!F15)","v":""},{"$f":"IF(Athletenliste!G15=\"\",\"\",Athletenliste!G15)","v":""},{"$f":"IF(Athletenliste!H15=\"\",\"\",Athletenliste!H15)","v":""},null,{"$f":"IF(B15=\"\",\"\",IF(D15=\"m\",INDIRECT(VLOOKUP(G15,Bezüge!$E$6:$F$16,2,FALSE)&ROW(G15)),INDIRECT(VLOOKUP(G15,Bezüge!$B$6:$C$16,2,FALSE)&ROW(G15))))","v":""},null,null,null,"","","","","","","","","","","","","","","","","","","","","","",null,"","","","","","","","","","","","","","","","","","","","","",""]
[null,{"$f":"IF(Athletenliste!B16=\"\",\"\",Athletenliste!B16)","v":""},{"$f":"IF(Athletenliste!C16=\"\",\"\",Athletenliste!C16)","v":""},{"$f":"IF(Athletenliste!D16=\"\",\"\",Athletenliste!D16)","v":""},{"$f":"IF(Athletenliste!E16=\"\",\"\",Athletenliste!E16)","v":""},{"$f":"IF(Athletenliste!F16=\"\",\"\",Athletenliste!F16)","v":""},{"$f":"IF(Athletenliste!G16=\"\",\"\",Athletenliste!G16)","v":""},{"$f":"IF(Athletenliste!H16=\"\",\"\",Athletenliste!H16)","v":""},null,{"$f":"IF(B16=\"\",\"\",IF(D16=\"m\",INDIRECT(VLOOKUP(G16,Bezüge!$E$6:$F$16,2,FALSE)&ROW(G16)),INDIRECT(VLOOKUP(G16,Bezüge!$B$6:$C$16,2,FALSE)&ROW(G16))))","v":""},null,null,null,"","","","","","","","","","","","","","","","","","","","","","",null,"","","","","","","","","","","","","","","","","","","","","",""]
[null,{"$f":"IF(Athletenliste!B17=\"\",\"\",Athletenliste!B17)","v":""},{"$f":"IF(Athletenliste!C17=\"\",\"\",Athletenliste!C17)","v":""},{"$f":"IF(Athletenliste!D17=\"\",\"\",Athletenliste!D17)","v":""},{"$f":"IF(Athletenliste!E17=\"\",\"\",Athletenliste!E17)","v":""},{"$f":"IF(Athletenliste!F17=\"\",\"\",Athletenliste!F17)","v":""},{"$f":"IF(Athletenliste!G17=\"\",\"\",Athletenliste!G17)","v":""},{"$f":"IF(Athletenliste!H17=\"\",\"\",Athletenliste!H17)","v":""},null,{"$f":"IF(B17=\"\",\"\",IF(D17=\"m\",INDIRECT(VLOOKUP(G17,Bezüge!$E$6:$F$16,2,FALSE)&ROW(G17)),INDIRECT(VLOOKUP(G17,Bezüge!$B$6:$C$16,2,FALSE)&ROW(G17))))","v":""},null,null,null,"","","","","","","","","","","","","","","","","","","","","","",null,"","","","","","","","","","","","","","","","","","","","","",""]
[null,{"$f":"IF(Athletenliste!B18=\"\",\"\",Athletenliste!B18)","v":""},{"$f":"IF(Athletenliste!C18=\"\",\"\",Athletenliste!C18)","v":""},{"$f":"IF(Athletenliste!D18=\"\",\"\",Athletenliste!D18)","v":""},{"$f":"IF(Athletenliste!E18=\"\",\"\",Athletenliste!E18)","v":""},{"$f":"IF(Athletenliste!F18=\"\",\"\",Athletenliste!F18)","v":""},{"$f":"IF(Athletenliste!G18=\"\",\"\",Athletenliste!G18)","v":""},{"$f":"IF(Athletenliste!H18=\"\",\"\",Athletenliste!H18)","v":""},null,{"$f":"IF(B18=\"\",\"\",IF(D18=\"m\",INDIRECT(VLOOKUP(G18,Bezüge!$E$6:$F$16,2,FALSE)&ROW(G18)),INDIRECT(VLOOKUP(G18,Bezüge!$B$6:$C$16,2,FALSE)&ROW(G18))))","v":""},null,null,null,"","","","","","","","","","","","","","","","","","","","","","",null,"","","","","","","","","","","","","","","","","","","","","",""]
[null,{"$f":"IF(Athletenliste!B19=\"\",\"\",Athletenliste!B19)","v":""},{"$f":"IF(Athletenliste!C19=\"\",\"\",Athletenliste!C19)","v":""},{"$f":"IF(Athletenliste!D19=\"\",\"\",Athletenliste!D19)","v":""},{"$f":"IF(Athletenliste!E19=\"\",\"\",Athletenliste!E19)","v":""},{"$f":"IF(Athletenliste!F19=\"\",\"\",Athletenliste!F19)","v":""},{"$f":"IF(Athletenliste!G19=\"\",\"\",Athletenliste!G19)","v":""},{"$f":"IF(Athletenliste!H19=\"\",\"\",Athletenliste!H19)","v":""},null,{"$f":"IF(B19=\"\",\"\",IF(D19=\"m\",INDIRECT(VLOOKUP(G19,Bezüge!$E$6:$F$16,2,FALSE)&ROW(G19)),INDIRECT(VLOOKUP(G19,Bezüge!$B$6:$C$16,2,FALSE)&ROW(G19))))","v":""},null,null,null,"","","","","","","","","","","","","","","","","","","","","","",null,"","","","","","","","","","","","","","","","","","","","","",""]
[null,{"$f":"IF(Athletenliste!B20=\"\",\"\",Athletenliste!B20)","v":""},{"$f":"IF(Athletenliste!C20=\"\",\"\",Athletenliste!C20)","v":""},{"$f":"IF(Athletenliste!D20=\"\",\"\",Athletenliste!D20)","v":""},{"$f":"IF(Athletenliste!E20=\"\",\"\",Athletenliste!E20)","v":""},{"$f":"IF(Athletenliste!F20=\"\",\"\",Athletenliste!F20)","v":""},{"$f":"IF(Athletenliste!G20=\"\",\"\",Athletenliste!G20)","v":""},{"$f":"IF(Athletenliste!H20=\"\",\"\",Athletenliste!H20)","v":""},null,{"$f":"IF(B20=\"\",\"\",IF(D20=\"m\",INDIRECT(VLOOKUP(G20,Bezüge!$E$6:$F$16,2,FALSE)&ROW(G20)),INDIRECT(VLOOKUP(G20,Bezüge!$B$6:$C$16,2,FALSE)&ROW(G20))))","v":""},null,null,null,"","","","","","","","","","","","","","","","","","","","","","",null,"","","","","","","","","","","","","","","","","","","","","",""]
[null,{"$f":"IF(Athletenliste!B21=\"\",\"\",Athletenliste!B21)","v":""},{"$f":"IF(Athletenliste!C21=\"\",\"\",Athletenliste!C21)","v":""},{"$f":"IF(Athletenliste!D21=\"\",\"\",Athletenliste!D21)","v":""},{"$f":"IF(Athletenliste!E21=\"\",\"\",Athletenliste!E21)","v":""},{"$f":"IF(Athletenliste!F21=\"\",\"\",Athletenliste!F21)","v":""},{"$f":"IF(Athletenliste!G21=\"\",\"\",Athletenliste!G21)","v":""},{"$f":"IF(Athletenliste!H21=\"\",\"\",Athletenliste!H21)","v":""},null,{"$f":"IF(B21=\"\",\"\",IF(D21=\"m\",INDIRECT(VLOOKUP(G21,Bezüge!$E$6:$F$16,2,FALSE)&ROW(G21)),INDIRECT(VLOOKUP(G21,Bezüge!$B$6:$C$16,2,FALSE)&ROW(G21))))","v":""},null,null,null,"","","","","","","","","","","","","","","","","","","","","","",null,"","","","","","","","","","","","","","","","","","","","","",""]
[null,{"$f":"IF(Athletenliste!B22=\"\",\"\",Athletenliste!B22)","v":""},{"$f":"IF(Athletenliste!C22=\"\",\"\",Athletenliste!C22)","v":""},{"$f":"IF(Athletenliste!D22=\"\",\"\",Athletenliste!D22)","v":""},{"$f":"IF(Athletenliste!E22=\"\",\"\",Athletenliste!E22)","v":""},{"$f":"IF(Athletenliste!F22=\"\",\"\",Athletenliste!F22)","v":""},{"$f":"IF(Athletenliste!G22=\"\",\"\",Athletenliste!G22)","v":""},{"$f":"IF(Athletenliste!H22=\"\",\"\",Athletenliste!H22)","v":""},null,{"$f":"IF(B22=\"\",\"\",IF(D22=\"m\",INDIRECT(VLOOKUP(G22,Bezüge!$E$6:$F$16,2,FALSE)&ROW(G22)),INDIRECT(VLOOKUP(G22,Bezüge!$B$6:$C$16,2,FALSE)&ROW(G22))))","v":""},null,null,null,"","","","","","","","","","","","","","","","","","","","","","",null,"","","","","","","","","","","","","","","","","","","","","",""]
[null,{"$f":"IF(Athletenliste!B23=\"\",\"\",Athletenliste!B23)","v":""},{"$f":"IF(Athletenliste!C23=\"\",\"\",Athletenliste!C23)","v":""},{"$f":"IF(Athletenliste!D23=\"\",\"\",Athletenliste!D23)","v":""},{"$f":"IF(Athletenliste!E23=\"\",\"\",Athletenliste!E23)","v":""},{"$f":"IF(Athletenliste!F23=\"\",\"\",Athletenliste!F23)","v":""},{"$f":"IF(Athletenliste!G23=\"\",\"\",Athletenliste!G23)","v":""},{"$f":"IF(Athletenliste!H23=\"\",\"\",Athletenliste!H23)","v":""},null,{"$f":"IF(B23=\"\",\"\",IF(D23=\"m\",INDIRECT(VLOOKUP(G23,Bezüge!$E$6:$F$16,2,FALSE)&ROW(G23)),INDIRECT(VLOOKUP(G23,Bezüge!$B$6:$C$16,2,FALSE)&ROW(G23))))","v":""},null,null,null,"","","","","","","","","","","","","","","","","","","","","","",null,"","","","","","","","","","","","","","","","","","","","","",""]
[null,{"$f":"IF(Athletenliste!B24=\"\",\"\",Athletenliste!B24)","v":""},{"$f":"IF(Athletenliste!C24=\"\",\"\",Athletenliste!C24)","v":""},{"$f":"IF(Athletenliste!D24=\"\",\"\",Athletenliste!D24)","v":""},{"$f":"IF(Athletenliste!E24=\"\",\"\",Athletenliste!E24)","v":""},{"$f":"IF(Athletenliste!F24=\"\",\"\",Athletenliste!F24)","v":""},{"$f":"IF(Athletenliste!G24=\"\",\"\",Athletenliste!G24)","v":""},{"$f":"IF(Athletenliste!H24=\"\",\"\",Athletenliste!H24)","v":""},null,{"$f":"IF(B24=\"\",\"\",IF(D24=\"m\",INDIRECT(VLOOKUP(G24,Bezüge!$E$6:$F$16,2,FALSE)&ROW(G24)),INDIRECT(VLOOKUP(G24,Bezüge!$B$6:$C$16,2,FALSE)&ROW(G24))))","v":""},null,null,null,"","","","","","","","","","","","","","","","","","","","","","",null,"","","","","","","","","","","","","","","","","","","","","",""]
[null,{"$f":"IF(Athletenliste!B25=\"\",\"\",Athletenliste!B25)","v":""},{"$f":"IF(Athletenliste!C25=\"\",\"\",Athletenliste!C25)","v":""},{"$f":"IF(Athletenliste!D25=\"\",\"\",Athletenliste!D25)","v":""},{"$f":"IF(Athletenliste!E25=\"\",\"\",Athletenliste!E25)","v":""},{"$f":"IF(Athletenliste!F25=\"\",\"\",Athletenliste!F25)","v":""},{"$f":"IF(Athletenliste!G25=\"\",\"\",Athletenliste!G25)","v":""},{"$f":"IF(Athletenliste!H25=\"\",\"\",Athletenliste!H25)","v":""},null,{"$f":"IF(B25=\"\",\"\",IF(D25=\"m\",INDIRECT(VLOOKUP(G25,Bezüge!$E$6:$F$16,2,FALSE)&ROW(G25)),INDIRECT(VLOOKUP(G25,Bezüge!$B$6:$C$16,2,FALSE)&ROW(G25))))","v":""},null,null,null,"","","","","","","","","","","","","","","","","","","","","","",null,"","","","","","","","","","","","","","","","","","","","","",""]
[null,{"$f":"IF(Athletenliste!B26=\"\",\"\",Athletenliste!B26)","v":""},{"$f":"IF(Athletenliste!C26=\"\",\"\",Athletenliste!C26)","v":""},{"$f":"IF(Athletenliste!D26=\"\",\"\",Athletenliste!D26)","v":""},{"$f":"IF(Athletenliste!E26=\"\",\"\",Athletenliste!E26)","v":""},{"$f":"IF(Athletenliste!F26=\"\",\"\",Athletenliste!F26)","v":""},{"$f":"IF(Athletenliste!G26=\"\",\"\",Athletenliste!G26)","v":""},{"$f":"IF(Athletenliste!H26=\"\",\"\",Athletenliste!H26)","v":""},null,{"$f":"IF(B26=\"\",\"\",IF(D26=\"m\",INDIRECT(VLOOKUP(G26,Bezüge!$E$6:$F$16,2,FALSE)&ROW(G26)),INDIRECT(VLOOKUP(G26,Bezüge!$B$6:$C$16,2,FALSE)&ROW(G26))))","v":""},null,null,null,"","","","","","","","","","","","","","","","","","","","","","",null,"","","","","","","","","","","","","","","","","","","","","",""]
[null,{"$f":"IF(Athletenliste!B27=\"\",\"\",Athletenliste!B27)","v":""},{"$f":"IF(Athletenliste!C27=\"\",\"\",Athletenliste!C27)","v":""},{"$f":"IF(Athletenliste!D27=\"\",\"\",Athletenliste!D27)","v":""},{"$f":"IF(Athletenliste!E27=\"\",\"\",Athletenliste!E27)","v":""},{"$f":"IF(Athletenliste!F27=\"\",\"\",Athletenliste!F27)","v":""},{"$f":"IF(Athletenliste!G27=\"\",\"\",Athletenliste!G27)","v":""},{"$f":"IF(Athletenliste!H27=\"\",\"\",Athletenliste!H27)","v":""},null,{"$f":"IF(B27=\"\",\"\",IF(D27=\"m\",INDIRECT(VLOOKUP(G27,Bezüge!$E$6:$F$16,2,FALSE)&ROW(G27)),INDIRECT(VLOOKUP(G27,Bezüge!$B$6:$C$16,2,FALSE)&ROW(G27))))","v":""},null,null,null,"","","","","","","","","","","","","","","","","","","","","","",null,"","","","","","","","","","","","","","","","","","","","","",""]
[null,{"$f":"IF(Athletenliste!B28=\"\",\"\",Athletenliste!B28)","v":""},{"$f":"IF(Athletenliste!C28=\"\",\"\",Athletenliste!C28)","v":""},{"$f":"IF(Athletenliste!D28=\"\",\"\",Athletenliste!D28)","v":""},{"$f":"IF(Athletenliste!E28=\"\",\"\",Athletenliste!E28)","v":""},{"$f":"IF(Athletenliste!F28=\"\",\"\",Athletenliste!F28)","v":""},{"$f":"IF(Athletenliste!G28=\"\",\"\",Athletenliste!G28)","v":""},{"$f":"IF(Athletenliste!H28=\"\",\"\",Athletenliste!H28)","v":""},null,{"$f":"IF(B28=\"\",\"\",IF(D28=\"m\",INDIRECT(VLOOKUP(G28,Bezüge!$E$6:$F$16,2,FALSE)&ROW(G28)),INDIRECT(VLOOKUP(G28,Bezüge!$B$6:$C$16,2,FALSE)&ROW(G28))))","v":""},null,null,null,"","","","","","","","","","","","","","","","","","","","","","",null,"","","","","","","","","","","","","","","","","","","","","",""]
[null,{"$f":"IF(Athletenliste!B29=\"\",\"\",Athletenliste!B29)","v":""},{"$f":"IF(Athletenliste!C29=\"\",\"\",Athletenliste!C29)","v":""},{"$f":"IF(Athletenliste!D29=\"\",\"\",Athletenliste!D29)","v":""},{"$f":"IF(Athletenliste!E29=\"\",\"\",Athletenliste!E29)","v":""},{"$f":"IF(Athletenliste!F29=\"\",\"\",Athletenliste!F29)","v":""},{"$f":"IF(Athletenliste!G29=\"\",\"\",Athletenliste!G29)","v":""},{"$f":"IF(Athletenliste!H29=\"\",\"\",Athletenliste!H29)","v":""},null,{"$f":"IF(B29=\"\",\"\",IF(D29=\"m\",INDIRECT(VLOOKUP(G29,Bezüge!$E$6:$F$16,2,FALSE)&ROW(G29)),INDIRECT(VLOOKUP(G29,Bezüge!$B$6:$C$16,2,FALSE)&ROW(G29))))","v":""},null,null,null,"","","","","","","","","","","","","","","","","","","","","","",null,"","","","","","","","","","","","","","","","","","","","","",""]
[null,{"$f":"IF(Athletenliste!B30=\"\",\"\",Athletenliste!B30)","v":""},{"$f":"IF(Athletenliste!C30=\"\",\"\",Athletenliste!C30)","v":""},{"$f":"IF(Athletenliste!D30=\"\",\"\",Athletenliste!D30)","v":""},{"$f":"IF(Athletenliste!E30=\"\",\"\",Athletenliste!E30)","v":""},{"$f":"IF(Athletenliste!F30=\"\",\"\",Athletenliste!F30)","v":""},{"$f":"IF(Athletenliste!G30=\"\",\"\",Athletenliste!G30)","v":""},{"$f":"IF(Athletenliste!H30=\"\",\"\",Athletenliste!H30)","v":""},null,{"$f":"IF(B30=\"\",\"\",IF(D30=\"m\",INDIRECT(VLOOKUP(G30,Bezüge!$E$6:$F$16,2,FALSE)&ROW(G30)),INDIRECT(VLOOKUP(G30,Bezüge!$B$6:$C$16,2,FALSE)&ROW(G30))))","v":""},null,null,null,"","","","","","","","","","","","","","","","","","","","","","",null,"","","","","","","","","","","","","","","","","","","","","",""]
[null,{"$f":"IF(Athletenliste!B31=\"\",\"\",Athletenliste!B31)","v":""},{"$f":"IF(Athletenliste!C31=\"\",\"\",Athletenliste!C31)","v":""},{"$f":"IF(Athletenliste!D31=\"\",\"\",Athletenliste!D31)","v":""},{"$f":"IF(Athletenliste!E31=\"\",\"\",Athletenliste!E31)","v":""},{"$f":"IF(Athletenliste!F31=\"\",\"\",Athletenliste!F31)","v":""},{"$f":"IF(Athletenliste!G31=\"\",\"\",Athletenliste!G31)","v":""},{"$f":"IF(Athletenliste!H31=\"\",\"\",Athletenliste!H31)","v":""},null,{"$f":"IF(B31=\"\",\"\",IF(D31=\"m\",INDIRECT(VLOOKUP(G31,Bezüge!$E$6:$F$16,2,FALSE)&ROW(G31)),INDIRECT(VLOOKUP(G31,Bezüge!$B$6:$C$16,2,FALSE)&ROW(G31))))","v":""},null,null,null,"","","","","","","","","","","","","","","","","","","","","","",null,"","","","","","","","","","","","","","","","","","","","","",""]
[null,{"$f":"IF(Athletenliste!B32=\"\",\"\",Athletenliste!B32)","v":""},{"$f":"IF(Athletenliste!C32=\"\",\"\",Athletenliste!C32)","v":""},{"$f":"IF(Athletenliste!D32=\"\",\"\",Athletenliste!D32)","v":""},{"$f":"IF(Athletenliste!E32=\"\",\"\",Athletenliste!E32)","v":""},{"$f":"IF(Athletenliste!F32=\"\",\"\",Athletenliste!F32)","v":""},{"$f":"IF(Athletenliste!G32=\"\",\"\",Athletenliste!G32)","v":""},{"$f":"IF(Athletenliste!H32=\"\",\"\",Athletenliste!H32)","v":""},null,{"$f":"IF(B32=\"\",\"\",IF(D32=\"m\",INDIRECT(VLOOKUP(G32,Bezüge!$E$6:$F$16,2,FALSE)&ROW(G32)),INDIRECT(VLOOKUP(G32,Bezüge!$B$6:$C$16,2,FALSE)&ROW(G32))))","v":""},null,null,null,"","","","","","","","","","","","","","","","","","","","","","",null,"","","","","","","","","","","","","","","","","","","","","",""]
[null,{"$f":"IF(Athletenliste!B33=\"\",\"\",Athletenliste!B33)","v":""},{"$f":"IF(Athletenliste!C33=\"\",\"\",Athletenliste!C33)","v":""},{"$f":"IF(Athletenliste!D33=\"\",\"\",Athletenliste!D33)","v":""},{"$f":"IF(Athletenliste!E33=\"\",\"\",Athletenliste!E33)","v":""},{"$f":"IF(Athletenliste!F33=\"\",\"\",Athletenliste!F33)","v":""},{"$f":"IF(Athletenliste!G33=\"\",\"\",Athletenliste!G33)","v":""},{"$f":"IF(Athletenliste!H33=\"\",\"\",Athletenliste!H33)","v":""},null,{"$f":"IF(B33=\"\",\"\",IF(D33=\"m\",INDIRECT(VLOOKUP(G33,Bezüge!$E$6:$F$16,2,FALSE)&ROW(G33)),INDIRECT(VLOOKUP(G33,Bezüge!$B$6:$C$16,2,FALSE)&ROW(G33))))","v":""},null,null,null,"","","","","","","","","","","","","","","","","","","","","","",null,"","","","","","","","","","","","","","","","","","","","","",""]
[null,{"$f":"IF(Athletenliste!B34=\"\",\"\",Athletenliste!B34)","v":""},{"$f":"IF(Athletenliste!C34=\"\",\"\",Athletenliste!C34)","v":""},{"$f":"IF(Athletenliste!D34=\"\",\"\",Athletenliste!D34)","v":""},{"$f":"IF(Athletenliste!E34=\"\",\"\",Athletenliste!E34)","v":""},{"$f":"IF(Athletenliste!F34=\"\",\"\",Athletenliste!F34)","v":""},{"$f":"IF(Athletenliste!G34=\"\",\"\",Athletenliste!G34)","v":""},{"$f":"IF(Athletenliste!H34=\"\",\"\",Athletenliste!H34)","v":""},null,{"$f":"IF(B34=\"\",\"\",IF(D34=\"m\",INDIRECT(VLOOKUP(G34,Bezüge!$E$6:$F$16,2,FALSE)&ROW(G34)),INDIRECT(VLOOKUP(G34,Bezüge!$B$6:$C$16,2,FALSE)&ROW(G34))))","v":""},null,null,null,"","","","","","","","","","","","","","","","","","","","","","",null,"","","","","","","","","","","","","","","","","","","","","",""]
[null,{"$f":"IF(Athletenliste!B35=\"\",\"\",Athletenliste!B35)","v":""},{"$f":"IF(Athletenliste!C35=\"\",\"\",Athletenliste!C35)","v":""},{"$f":"IF(Athletenliste!D35=\"\",\"\",Athletenliste!D35)","v":""},{"$f":"IF(Athletenliste!E35=\"\",\"\",Athletenliste!E35)","v":""},{"$f":"IF(Athletenliste!F35=\"\",\"\",Athletenliste!F35)","v":""},{"$f":"IF(Athletenliste!G35=\"\",\"\",Athletenliste!G35)","v":""},{"$f":"IF(Athletenliste!H35=\"\",\"\",Athletenliste!H35)","v":""},null,{"$f":"IF(B35=\"\",\"\",IF(D35=\"m\",INDIRECT(VLOOKUP(G35,Bezüge!$E$6:$F$16,2,FALSE)&ROW(G35)),INDIRECT(VLOOKUP(G35,Bezüge!$B$6:$C$16,2,FALSE)&ROW(G35))))","v":""},null,null,null,"","","","","","","","","","","","","","","","","","","","","","",null,"","","","","","","","","","","","","","","","","","","","","",""]
[null,{"$f":"IF(Athletenliste!B36=\"\",\"\",Athletenliste!B36)","v":""},{"$f":"IF(Athletenliste!C36=\"\",\"\",Athletenliste!C36)","v":""},{"$f":"IF(Athletenliste!D36=\"\",\"\",Athletenliste!D36)","v":""},{"$f":"IF(Athletenliste!E36=\"\",\"\",Athletenliste!E36)","v":""},{"$f":"IF(Athletenliste!F36=\"\",\"\",Athletenliste!F36)","v":""},{"$f":"IF(Athletenliste!G36=\"\",\"\",Athletenliste!G36)","v":""},{"$f":"IF(Athletenliste!H36=\"\",\"\",Athletenliste!H36)","v":""},null,{"$f":"IF(B36=\"\",\"\",IF(D36=\"m\",INDIRECT(VLOOKUP(G36,Bezüge!$E$6:$F$16,2,FALSE)&ROW(G36)),INDIRECT(VLOOKUP(G36,Bezüge!$B$6:$C$16,2,FALSE)&ROW(G36))))","v":""},null,null,null,"","","","","","","","","","","","","","","","","","","","","","",null,"","","","","","","","","","","","","","","","","","","","","",""]
[null,{"$f":"IF(Athletenliste!B37=\"\",\"\",Athletenliste!B37)","v":""},{"$f":"IF(Athletenliste!C37=\"\",\"\",Athletenliste!C37)","v":""},{"$f":"IF(Athletenliste!D37=\"\",\"\",Athletenliste!D37)","v":""},{"$f":"IF(Athletenliste!E37=\"\",\"\",Athletenliste!E37)","v":""},{"$f":"IF(Athletenliste!F37=\"\",\"\",Athletenliste!F37)","v":""},{"$f":"IF(Athletenliste!G37=\"\",\"\",Athletenliste!G37)","v":""},{"$f":"IF(Athletenliste!H37=\"\",\"\",Athletenliste!H37)","v":""},null,{"$f":"IF(B37=\"\",\"\",IF(D37=\"m\",INDIRECT(VLOOKUP(G37,Bezüge!$E$6:$F$16,2,FALSE)&ROW(G37)),INDIRECT(VLOOKUP(G37,Bezüge!$B$6:$C$16,2,FALSE)&ROW(G37))))","v":""},null,null,null,"","","","","","","","","","","","","","","","","","","","","","",null,"","","","","","","","","","","","","","","","","","","","","",""]
[null,{"$f":"IF(Athletenliste!B38=\"\",\"\",Athletenliste!B38)","v":""},{"$f":"IF(Athletenliste!C38=\"\",\"\",Athletenliste!C38)","v":""},{"$f":"IF(Athletenliste!D38=\"\",\"\",Athletenliste!D38)","v":""},{"$f":"IF(Athletenliste!E38=\"\",\"\",Athletenliste!E38)","v":""},{"$f":"IF(Athletenliste!F38=\"\",\"\",Athletenliste!F38)","v":""},{"$f":"IF(Athletenliste!G38=\"\",\"\",Athletenliste!G38)","v":""},{"$f":"IF(Athletenliste!H38=\"\",\"\",Athletenliste!H38)","v":""},null,{"$f":"IF(B38=\"\",\"\",IF(D38=\"m\",INDIRECT(VLOOKUP(G38,Bezüge!$E$6:$F$16,2,FALSE)&ROW(G38)),INDIRECT(VLOOKUP(G38,Bezüge!$B$6:$C$16,2,FALSE)&ROW(G38))))","v":""},null,null,null,"","","","","","","","","","","","","","","","","","","","","","",null,"","","","","","","","","","","","","","","","","","","","","",""]
[null,{"$f":"IF(Athletenliste!B39=\"\",\"\",Athletenliste!B39)","v":""},{"$f":"IF(Athletenliste!C39=\"\",\"\",Athletenliste!C39)","v":""},{"$f":"IF(Athletenliste!D39=\"\",\"\",Athletenliste!D39)","v":""},{"$f":"IF(Athletenliste!E39=\"\",\"\",Athletenliste!E39)","v":""},{"$f":"IF(Athletenliste!F39=\"\",\"\",Athletenliste!F39)","v":""},{"$f":"IF(Athletenliste!G39=\"\",\"\",Athletenliste!G39)","v":""},{"$f":"IF(Athletenliste!H39=\"\",\"\",Athletenliste!H39)","v":""},null,{"$f":"IF(B39=\"\",\"\",IF(D39=\"m\",INDIRECT(VLOOKUP(G39,Bezüge!$E$6:$F$16,2,FALSE)&ROW(G39)),INDIRECT(VLOOKUP(G39,Bezüge!$B$6:$C$16,2,FALSE)&ROW(G39))))","v":""},null,null,null,"","","","","","","","","","","","","","","","","","","","","","",null,"","","","","","","","","","","","","","","","","","","","","",""]
[null,{"$f":"IF(Athletenliste!B40=\"\",\"\",Athletenliste!B40)","v":""},{"$f":"IF(Athletenliste!C40=\"\",\"\",Athletenliste!C40)","v":""},{"$f":"IF(Athletenliste!D40=\"\",\"\",Athletenliste!D40)","v":""},{"$f":"IF(Athletenliste!E40=\"\",\"\",Athletenliste!E40)","v":""},{"$f":"IF(Athletenliste!F40=\"\",\"\",Athletenliste!F40)","v":""},{"$f":"IF(Athletenliste!G40=\"\",\"\",Athletenliste!G40)","v":""},{"$f":"IF(Athletenliste!H40=\"\",\"\",Athletenliste!H40)","v":""},null,{"$f":"IF(B40=\"\",\"\",IF(D40=\"m\",INDIRECT(VLOOKUP(G40,Bezüge!$E$6:$F$16,2,FALSE)&ROW(G40)),INDIRECT(VLOOKUP(G40,Bezüge!$B$6:$C$16,2,FALSE)&ROW(G40))))","v":""},null,null,null,"","","","","","","","","","","","","","","","","","","","","","",null,"","","","","","","","","","","","","","","","","","","","","",""]
[null,{"$f":"IF(Athletenliste!B41=\"\",\"\",Athletenliste!B41)","v":""},{"$f":"IF(Athletenliste!C41=\"\",\"\",Athletenliste!C41)","v":""},{"$f":"IF(Athletenliste!D41=\"\",\"\",Athletenliste!D41)","v":""},{"$f":"IF(Athletenliste!E41=\"\",\"\",Athletenliste!E41)","v":""},{"$f":"IF(Athletenliste!F41=\"\",\"\",Athletenliste!F41)","v":""},{"$f":"IF(Athletenliste!G41=\"\",\"\",Athletenliste!G41)","v":""},{"$f":"IF(Athletenliste!H41=\"\",\"\",Athletenliste!H41)","v":""},null,{"$f":"IF(B41=\"\",\"\",IF(D41=\"m\",INDIRECT(VLOOKUP(G41,Bezüge!$E$6:$F$16,2,FALSE)&ROW(G41)),INDIRECT(VLOOKUP(G41,Bezüge!$B$6:$C$16,2,FALSE)&ROW(G41))))","v":""},null,null,null,"","","","","","","","","","","","","","","","","","","","","","",null,"","","","","","","","","","","","","","","","","","","","","",""]
[null,{"$f":"IF(Athletenliste!B42=\"\",\"\",Athletenliste!B42)","v":""},{"$f":"IF(Athletenliste!C42=\"\",\"\",Athletenliste!C42)","v":""},{"$f":"IF(Athletenliste!D42=\"\",\"\",Athletenliste!D42)","v":""},{"$f":"IF(Athletenliste!E42=\"\",\"\",Athletenliste!E42)","v":""},{"$f":"IF(Athletenliste!F42=\"\",\"\",Athletenliste!F42)","v":""},{"$f":"IF(Athletenliste!G42=\"\",\"\",Athletenliste!G42)","v":""},{"$f":"IF(Athletenliste!H42=\"\",\"\",Athletenliste!H42)","v":""},null,{"$f":"IF(B42=\"\",\"\",IF(D42=\"m\",INDIRECT(VLOOKUP(G42,Bezüge!$E$6:$F$16,2,FALSE)&ROW(G42)),INDIRECT(VLOOKUP(G42,Bezüge!$B$6:$C$16,2,FALSE)&ROW(G42))))","v":""},null,null,null,"","","","","","","","","","","","","","","","","","","","","","",null,"","","","","","","","","","","","","","","","","","","","","",""]
[null,{"$f":"IF(Athletenliste!B43=\"\",\"\",Athletenliste!B43)","v":""},{"$f":"IF(Athletenliste!C43=\"\",\"\",Athletenliste!C43)","v":""},{"$f":"IF(Athletenliste!D43=\"\",\"\",Athletenliste!D43)","v":""},{"$f":"IF(Athletenliste!E43=\"\",\"\",Athletenliste!E43)","v":""},{"$f":"IF(Athletenliste!F43=\"\",\"\",Athletenliste!F43)","v":""},{"$f":"IF(Athletenliste!G43=\"\",\"\",Athletenliste!G43)","v":""},{"$f":"IF(Athletenliste!H43=\"\",\"\",Athletenliste!H43)","v":""},null,{"$f":"IF(B43=\"\",\"\",IF(D43=\"m\",INDIRECT(VLOOKUP(G43,Bezüge!$E$6:$F$16,2,FALSE)&ROW(G43)),INDIRECT(VLOOKUP(G43,Bezüge!$B$6:$C$16,2,FALSE)&ROW(G43))))","v":""},null,null,null,"","","","","","","","","","","","","","","","","","","","","","",null,"","","","","","","","","","","","","","","","","","","","","",""]
[null,{"$f":"IF(Athletenliste!B44=\"\",\"\",Athletenliste!B44)","v":""},{"$f":"IF(Athletenliste!C44=\"\",\"\",Athletenliste!C44)","v":""},{"$f":"IF(Athletenliste!D44=\"\",\"\",Athletenliste!D44)","v":""},{"$f":"IF(Athletenliste!E44=\"\",\"\",Athletenliste!E44)","v":""},{"$f":"IF(Athletenliste!F44=\"\",\"\",Athletenliste!F44)","v":""},{"$f":"IF(Athletenliste!G44=\"\",\"\",Athletenliste!G44)","v":""},{"$f":"IF(Athletenliste!H44=\"\",\"\",Athletenliste!H44)","v":""},null,{"$f":"IF(B44=\"\",\"\",IF(D44=\"m\",INDIRECT(VLOOKUP(G44,Bezüge!$E$6:$F$16,2,FALSE)&ROW(G44)),INDIRECT(VLOOKUP(G44,Bezüge!$B$6:$C$16,2,FALSE)&ROW(G44))))","v":""},null,null,null,"","","","","","","","","","","","","","","","","","","","","","",null,"","","","","","","","","","","","","","","","","","","","","",""]
[null,{"$f":"IF(Athletenliste!B45=\"\",\"\",Athletenliste!B45)","v":""},{"$f":"IF(Athletenliste!C45=\"\",\"\",Athletenliste!C45)","v":""},{"$f":"IF(Athletenliste!D45=\"\",\"\",Athletenliste!D45)","v":""},{"$f":"IF(Athletenliste!E45=\"\",\"\",Athletenliste!E45)","v":""},{"$f":"IF(Athletenliste!F45=\"\",\"\",Athletenliste!F45)","v":""},{"$f":"IF(Athletenliste!G45=\"\",\"\",Athletenliste!G45)","v":""},{"$f":"IF(Athletenliste!H45=\"\",\"\",Athletenliste!H45)","v":""},null,{"$f":"IF(B45=\"\",\"\",IF(D45=\"m\",INDIRECT(VLOOKUP(G45,Bezüge!$E$6:$F$16,2,FALSE)&ROW(G45)),INDIRECT(VLOOKUP(G45,Bezüge!$B$6:$C$16,2,FALSE)&ROW(G45))))","v":""},null,null,null,"","","","","","","","","","","","","","","","","","","","","","",null,"","","","","","","","","","","","","","","","","","","","","",""]
[null,{"$f":"IF(Athletenliste!B46=\"\",\"\",Athletenliste!B46)","v":""},{"$f":"IF(Athletenliste!C46=\"\",\"\",Athletenliste!C46)","v":""},{"$f":"IF(Athletenliste!D46=\"\",\"\",Athletenliste!D46)","v":""},{"$f":"IF(Athletenliste!E46=\"\",\"\",Athletenliste!E46)","v":""},{"$f":"IF(Athletenliste!F46=\"\",\"\",Athletenliste!F46)","v":""},{"$f":"IF(Athletenliste!G46=\"\",\"\",Athletenliste!G46)","v":""},{"$f":"IF(Athletenliste!H46=\"\",\"\",Athletenliste!H46)","v":""},null,{"$f":"IF(B46=\"\",\"\",IF(D46=\"m\",INDIRECT(VLOOKUP(G46,Bezüge!$E$6:$F$16,2,FALSE)&ROW(G46)),INDIRECT(VLOOKUP(G46,Bezüge!$B$6:$C$16,2,FALSE)&ROW(G46))))","v":""},null,null,null,"","","","","","","","","","","","","","","","","","","","","","",null,"","","","","","","","","","","","","","","","","","","","","",""]
[null,{"$f":"IF(Athletenliste!B47=\"\",\"\",Athletenliste!B47)","v":""},{"$f":"IF(Athletenliste!C47=\"\",\"\",Athletenliste!C47)","v":""},{"$f":"IF(Athletenliste!D47=\"\",\"\",Athletenliste!D47)","v":""},{"$f":"IF(Athletenliste!E47=\"\",\"\",Athletenliste!E47)","v":""},{"$f":"IF(Athletenliste!F47=\"\",\"\",Athletenliste!F47)","v":""},{"$f":"IF(Athletenliste!G47=\"\",\"\",Athletenliste!G47)","v":""},{"$f":"IF(Athletenliste!H47=\"\",\"\",Athletenliste!H47)","v":""},null,{"$f":"IF(B47=\"\",\"\",IF(D47=\"m\",INDIRECT(VLOOKUP(G47,Bezüge!$E$6:$F$16,2,FALSE)&ROW(G47)),INDIRECT(VLOOKUP(G47,Bezüge!$B$6:$C$16,2,FALSE)&ROW(G47))))","v":""},null,null,null,"","","","","","","","","","","","","","","","","","","","","","",null,"","","","","","","","","","","","","","","","","","","","","",""]
[null,{"$f":"IF(Athletenliste!B48=\"\",\"\",Athletenliste!B48)","v":""},{"$f":"IF(Athletenliste!C48=\"\",\"\",Athletenliste!C48)","v":""},{"$f":"IF(Athletenliste!D48=\"\",\"\",Athletenliste!D48)","v":""},{"$f":"IF(Athletenliste!E48=\"\",\"\",Athletenliste!E48)","v":""},{"$f":"IF(Athletenliste!F48=\"\",\"\",Athletenliste!F48)","v":""},{"$f":"IF(Athletenliste!G48=\"\",\"\",Athletenliste!G48)","v":""},{"$f":"IF(Athletenliste!H48=\"\",\"\",Athletenliste!H48)","v":""},null,{"$f":"IF(B48=\"\",\"\",IF(D48=\"m\",INDIRECT(VLOOKUP(G48,Bezüge!$E$6:$F$16,2,FALSE)&ROW(G48)),INDIRECT(VLOOKUP(G48,Bezüge!$B$6:$C$16,2,FALSE)&ROW(G48))))","v":""},null,null,null,"","","","","","","","","","","","","","","","","","","","","","",null,"","","","","","","","","","","","","","","","","","","","","",""]
[null,{"$f":"IF(Athletenliste!B49=\"\",\"\",Athletenliste!B49)","v":""},{"$f":"IF(Athletenliste!C49=\"\",\"\",Athletenliste!C49)","v":""},{"$f":"IF(Athletenliste!D49=\"\",\"\",Athletenliste!D49)","v":""},{"$f":"IF(Athletenliste!E49=\"\",\"\",Athletenliste!E49)","v":""},{"$f":"IF(Athletenliste!F49=\"\",\"\",Athletenliste!F49)","v":""},{"$f":"IF(Athletenliste!G49=\"\",\"\",Athletenliste!G49)","v":""},{"$f":"IF(Athletenliste!H49=\"\",\"\",Athletenliste!H49)","v":""},null,{"$f":"IF(B49=\"\",\"\",IF(D49=\"m\",INDIRECT(VLOOKUP(G49,Bezüge!$E$6:$F$16,2,FALSE)&ROW(G49)),INDIRECT(VLOOKUP(G49,Bezüge!$B$6:$C$16,2,FALSE)&ROW(G49))))","v":""},null,null,null,"","","","","","","","","","","","","","","","","","","","","","",null,"","","","","","","","","","","","","","","","","","","","","",""]
[null,{"$f":"IF(Athletenliste!B50=\"\",\"\",Athletenliste!B50)","v":""},{"$f":"IF(Athletenliste!C50=\"\",\"\",Athletenliste!C50)","v":""},{"$f":"IF(Athletenliste!D50=\"\",\"\",Athletenliste!D50)","v":""},{"$f":"IF(Athletenliste!E50=\"\",\"\",Athletenliste!E50)","v":""},{"$f":"IF(Athletenliste!F50=\"\",\"\",Athletenliste!F50)","v":""},{"$f":"IF(Athletenliste!G50=\"\",\"\",Athletenliste!G50)","v":""},{"$f":"IF(Athletenliste!H50=\"\",\"\",Athletenliste!H50)","v":""},null,{"$f":"IF(B50=\"\",\"\",IF(D50=\"m\",INDIRECT(VLOOKUP(G50,Bezüge!$E$6:$F$16,2,FALSE)&ROW(G50)),INDIRECT(VLOOKUP(G50,Bezüge!$B$6:$C$16,2,FALSE)&ROW(G50))))","v":""},null,null,null,"","","","","","","","","","","","","","","","","","","","","","",null,"","","","","","","","","","","","","","","","","","","","","",""]
[null,{"$f":"IF(Athletenliste!B51=\"\",\"\",Athletenliste!B51)","v":""},{"$f":"IF(Athletenliste!C51=\"\",\"\",Athletenliste!C51)","v":""},{"$f":"IF(Athletenliste!D51=\"\",\"\",Athletenliste!D51)","v":""},{"$f":"IF(Athletenliste!E51=\"\",\"\",Athletenliste!E51)","v":""},{"$f":"IF(Athletenliste!F51=\"\",\"\",Athletenliste!F51)","v":""},{"$f":"IF(Athletenliste!G51=\"\",\"\",Athletenliste!G51)","v":""},{"$f":"IF(Athletenliste!H51=\"\",\"\",Athletenliste!H51)","v":""},null,{"$f":"IF(B51=\"\",\"\",IF(D51=\"m\",INDIRECT(VLOOKUP(G51,Bezüge!$E$6:$F$16,2,FALSE)&ROW(G51)),INDIRECT(VLOOKUP(G51,Bezüge!$B$6:$C$16,2,FALSE)&ROW(G51))))","v":""},null,null,null,"","","","","","","","","","","","","","","","","","","","","","",null,"","","","","","","","","","","","","","","","","","","","","",""]
[null,{"$f":"IF(Athletenliste!B52=\"\",\"\",Athletenliste!B52)","v":""},{"$f":"IF(Athletenliste!C52=\"\",\"\",Athletenliste!C52)","v":""},{"$f":"IF(Athletenliste!D52=\"\",\"\",Athletenliste!D52)","v":""},{"$f":"IF(Athletenliste!E52=\"\",\"\",Athletenliste!E52)","v":""},{"$f":"IF(Athletenliste!F52=\"\",\"\",Athletenliste!F52)","v":""},{"$f":"IF(Athletenliste!G52=\"\",\"\",Athletenliste!G52)","v":""},{"$f":"IF(Athletenliste!H52=\"\",\"\",Athletenliste!H52)","v":""},null,{"$f":"IF(B52=\"\",\"\",IF(D52=\"m\",INDIRECT(VLOOKUP(G52,Bezüge!$E$6:$F$16,2,FALSE)&ROW(G52)),INDIRECT(VLOOKUP(G52,Bezüge!$B$6:$C$16,2,FALSE)&ROW(G52))))","v":""},null,null,null,"","","","","","","","","","","","","","","","","","","","","","",null,"","","","","","","","","","","","","","","","","","","","","",""]
[null,{"$f":"IF(Athletenliste!B53=\"\",\"\",Athletenliste!B53)","v":""},{"$f":"IF(Athletenliste!C53=\"\",\"\",Athletenliste!C53)","v":""},{"$f":"IF(Athletenliste!D53=\"\",\"\",Athletenliste!D53)","v":""},{"$f":"IF(Athletenliste!E53=\"\",\"\",Athletenliste!E53)","v":""},{"$f":"IF(Athletenliste!F53=\"\",\"\",Athletenliste!F53)","v":""},{"$f":"IF(Athletenliste!G53=\"\",\"\",Athletenliste!G53)","v":""},{"$f":"IF(Athletenliste!H53=\"\",\"\",Athletenliste!H53)","v":""},null,{"$f":"IF(B53=\"\",\"\",IF(D53=\"m\",INDIRECT(VLOOKUP(G53,Bezüge!$E$6:$F$16,2,FALSE)&ROW(G53)),INDIRECT(VLOOKUP(G53,Bezüge!$B$6:$C$16,2,FALSE)&ROW(G53))))","v":""},null,null,null,"","","","","","","","","","","","","","","","","","","","","","",null,"","","","","","","","","","","","","","","","","","","","","",""]
[null,{"$f":"IF(Athletenliste!B54=\"\",\"\",Athletenliste!B54)","v":""},{"$f":"IF(Athletenliste!C54=\"\",\"\",Athletenliste!C54)","v":""},{"$f":"IF(Athletenliste!D54=\"\",\"\",Athletenliste!D54)","v":""},{"$f":"IF(Athletenliste!E54=\"\",\"\",Athletenliste!E54)","v":""},{"$f":"IF(Athletenliste!F54=\"\",\"\",Athletenliste!F54)","v":""},{"$f":"IF(Athletenliste!G54=\"\",\"\",Athletenliste!G54)","v":""},{"$f":"IF(Athletenliste!H54=\"\",\"\",Athletenliste!H54)","v":""},null,{"$f":"IF(B54=\"\",\"\",IF(D54=\"m\",INDIRECT(VLOOKUP(G54,Bezüge!$E$6:$F$16,2,FALSE)&ROW(G54)),INDIRECT(VLOOKUP(G54,Bezüge!$B$6:$C$16,2,FALSE)&ROW(G54))))","v":""},null,null,null,"","","","","","","","","","","","","","","","","","","","","","",null,"","","","","","","","","","","","","","","","","","","","","",""]
[null,{"$f":"IF(Athletenliste!B55=\"\",\"\",Athletenliste!B55)","v":""},{"$f":"IF(Athletenliste!C55=\"\",\"\",Athletenliste!C55)","v":""},{"$f":"IF(Athletenliste!D55=\"\",\"\",Athletenliste!D55)","v":""},{"$f":"IF(Athletenliste!E55=\"\",\"\",Athletenliste!E55)","v":""},{"$f":"IF(Athletenliste!F55=\"\",\"\",Athletenliste!F55)","v":""},{"$f":"IF(Athletenliste!G55=\"\",\"\",Athletenliste!G55)","v":""},{"$f":"IF(Athletenliste!H55=\"\",\"\",Athletenliste!H55)","v":""},null,{"$f":"IF(B55=\"\",\"\",IF(D55=\"m\",INDIRECT(VLOOKUP(G55,Bezüge!$E$6:$F$16,2,FALSE)&ROW(G55)),INDIRECT(VLOOKUP(G55,Bezüge!$B$6:$C$16,2,FALSE)&ROW(G55))))","v":""},null,null,null,"","","","","","","","","","","","","","","","","","","","","","",null,"","","","","","","","","","","","","","","","","","","","","",""]
[null,{"$f":"IF(Athletenliste!B56=\"\",\"\",Athletenliste!B56)","v":""},{"$f":"IF(Athletenliste!C56=\"\",\"\",Athletenliste!C56)","v":""},{"$f":"IF(Athletenliste!D56=\"\",\"\",Athletenliste!D56)","v":""},{"$f":"IF(Athletenliste!E56=\"\",\"\",Athletenliste!E56)","v":""},{"$f":"IF(Athletenliste!F56=\"\",\"\",Athletenliste!F56)","v":""},{"$f":"IF(Athletenliste!G56=\"\",\"\",Athletenliste!G56)","v":""},{"$f":"IF(Athletenliste!H56=\"\",\"\",Athletenliste!H56)","v":""},null,{"$f":"IF(B56=\"\",\"\",IF(D56=\"m\",INDIRECT(VLOOKUP(G56,Bezüge!$E$6:$F$16,2,FALSE)&ROW(G56)),INDIRECT(VLOOKUP(G56,Bezüge!$B$6:$C$16,2,FALSE)&ROW(G56))))","v":""},null,null,null,"","","","","","","","","","","","","","","","","","","","","","",null,"","","","","","","","","","","","","","","","","","","","","",""]
[null,{"$f":"IF(Athletenliste!B57=\"\",\"\",Athletenliste!B57)","v":""},{"$f":"IF(Athletenliste!C57=\"\",\"\",Athletenliste!C57)","v":""},{"$f":"IF(Athletenliste!D57=\"\",\"\",Athletenliste!D57)","v":""},{"$f":"IF(Athletenliste!E57=\"\",\"\",Athletenliste!E57)","v":""},{"$f":"IF(Athletenliste!F57=\"\",\"\",Athletenliste!F57)","v":""},{"$f":"IF(Athletenliste!G57=\"\",\"\",Athletenliste!G57)","v":""},{"$f":"IF(Athletenliste!H57=\"\",\"\",Athletenliste!H57)","v":""},null,{"$f":"IF(B57=\"\",\"\",IF(D57=\"m\",INDIRECT(VLOOKUP(G57,Bezüge!$E$6:$F$16,2,FALSE)&ROW(G57)),INDIRECT(VLOOKUP(G57,Bezüge!$B$6:$C$16,2,FALSE)&ROW(G57))))","v":""},null,null,null,"","","","","","","","","","","","","","","","","","","","","","",null,"","","","","","","","","","","","","","","","","","","","","",""]
[null,{"$f":"IF(Athletenliste!B58=\"\",\"\",Athletenliste!B58)","v":""},{"$f":"IF(Athletenliste!C58=\"\",\"\",Athletenliste!C58)","v":""},{"$f":"IF(Athletenliste!D58=\"\",\"\",Athletenliste!D58)","v":""},{"$f":"IF(Athletenliste!E58=\"\",\"\",Athletenliste!E58)","v":""},{"$f":"IF(Athletenliste!F58=\"\",\"\",Athletenliste!F58)","v":""},{"$f":"IF(Athletenliste!G58=\"\",\"\",Athletenliste!G58)","v":""},{"$f":"IF(Athletenliste!H58=\"\",\"\",Athletenliste!H58)","v":""},null,{"$f":"IF(B58=\"\",\"\",IF(D58=\"m\",INDIRECT(VLOOKUP(G58,Bezüge!$E$6:$F$16,2,FALSE)&ROW(G58)),INDIRECT(VLOOKUP(G58,Bezüge!$B$6:$C$16,2,FALSE)&ROW(G58))))","v":""},null,null,null,"","","","","","","","","","","","","","","","","","","","","","",null,"","","","","","","","","","","","","","","","","","","","","",""]
[null,{"$f":"IF(Athletenliste!B59=\"\",\"\",Athletenliste!B59)","v":""},{"$f":"IF(Athletenliste!C59=\"\",\"\",Athletenliste!C59)","v":""},{"$f":"IF(Athletenliste!D59=\"\",\"\",Athletenliste!D59)","v":""},{"$f":"IF(Athletenliste!E59=\"\",\"\",Athletenliste!E59)","v":""},{"$f":"IF(Athletenliste!F59=\"\",\"\",Athletenliste!F59)","v":""},{"$f":"IF(Athletenliste!G59=\"\",\"\",Athletenliste!G59)","v":""},{"$f":"IF(Athletenliste!H59=\"\",\"\",Athletenliste!H59)","v":""},null,{"$f":"IF(B59=\"\",\"\",IF(D59=\"m\",INDIRECT(VLOOKUP(G59,Bezüge!$E$6:$F$16,2,FALSE)&ROW(G59)),INDIRECT(VLOOKUP(G59,Bezüge!$B$6:$C$16,2,FALSE)&ROW(G59))))","v":""},null,null,null,"","","","","","","","","","","","","","","","","","","","","","",null,"","","","","","","","","","","","","","","","","","","","","",""]
[null,{"$f":"IF(Athletenliste!B60=\"\",\"\",Athletenliste!B60)","v":""},{"$f":"IF(Athletenliste!C60=\"\",\"\",Athletenliste!C60)","v":""},{"$f":"IF(Athletenliste!D60=\"\",\"\",Athletenliste!D60)","v":""},{"$f":"IF(Athletenliste!E60=\"\",\"\",Athletenliste!E60)","v":""},{"$f":"IF(Athletenliste!F60=\"\",\"\",Athletenliste!F60)","v":""},{"$f":"IF(Athletenliste!G60=\"\",\"\",Athletenliste!G60)","v":""},{"$f":"IF(Athletenliste!H60=\"\",\"\",Athletenliste!H60)","v":""},null,{"$f":"IF(B60=\"\",\"\",IF(D60=\"m\",INDIRECT(VLOOKUP(G60,Bezüge!$E$6:$F$16,2,FALSE)&ROW(G60)),INDIRECT(VLOOKUP(G60,Bezüge!$B$6:$C$16,2,FALSE)&ROW(G60))))","v":""},null,null,null,"","","","","","","","","","","","","","","","","","","","","","",null,"","","","","","","","","","","","","","","","","","","","","",""]
[null,{"$f":"IF(Athletenliste!B61=\"\",\"\",Athletenliste!B61)","v":""},{"$f":"IF(Athletenliste!C61=\"\",\"\",Athletenliste!C61)","v":""},{"$f":"IF(Athletenliste!D61=\"\",\"\",Athletenliste!D61)","v":""},{"$f":"IF(Athletenliste!E61=\"\",\"\",Athletenliste!E61)","v":""},{"$f":"IF(Athletenliste!F61=\"\",\"\",Athletenliste!F61)","v":""},{"$f":"IF(Athletenliste!G61=\"\",\"\",Athletenliste!G61)","v":""},{"$f":"IF(Athletenliste!H61=\"\",\"\",Athletenliste!H61)","v":""},null,{"$f":"IF(B61=\"\",\"\",IF(D61=\"m\",INDIRECT(VLOOKUP(G61,Bezüge!$E$6:$F$16,2,FALSE)&ROW(G61)),INDIRECT(VLOOKUP(G61,Bezüge!$B$6:$C$16,2,FALSE)&ROW(G61))))","v":""},null,null,null,"","","","","","","","","","","","","","","","","","","","","","",null,"","","","","","","","","","","","","","","","","","","","","",""]
[null,{"$f":"IF(Athletenliste!B62=\"\",\"\",Athletenliste!B62)","v":""},{"$f":"IF(Athletenliste!C62=\"\",\"\",Athletenliste!C62)","v":""},{"$f":"IF(Athletenliste!D62=\"\",\"\",Athletenliste!D62)","v":""},{"$f":"IF(Athletenliste!E62=\"\",\"\",Athletenliste!E62)","v":""},{"$f":"IF(Athletenliste!F62=\"\",\"\",Athletenliste!F62)","v":""},{"$f":"IF(Athletenliste!G62=\"\",\"\",Athletenliste!G62)","v":""},{"$f":"IF(Athletenliste!H62=\"\",\"\",Athletenliste!H62)","v":""},null,{"$f":"IF(B62=\"\",\"\",IF(D62=\"m\",INDIRECT(VLOOKUP(G62,Bezüge!$E$6:$F$16,2,FALSE)&ROW(G62)),INDIRECT(VLOOKUP(G62,Bezüge!$B$6:$C$16,2,FALSE)&ROW(G62))))","v":""},null,null,null,"","","","","","","","","","","","","","","","","","","","","","",null,"","","","","","","","","","","","","","","","","","","","","",""]
[null,{"$f":"IF(Athletenliste!B63=\"\",\"\",Athletenliste!B63)","v":""},{"$f":"IF(Athletenliste!C63=\"\",\"\",Athletenliste!C63)","v":""},{"$f":"IF(Athletenliste!D63=\"\",\"\",Athletenliste!D63)","v":""},{"$f":"IF(Athletenliste!E63=\"\",\"\",Athletenliste!E63)","v":""},{"$f":"IF(Athletenliste!F63=\"\",\"\",Athletenliste!F63)","v":""},{"$f":"IF(Athletenliste!G63=\"\",\"\",Athletenliste!G63)","v":""},{"$f":"IF(Athletenliste!H63=\"\",\"\",Athletenliste!H63)","v":""},null,{"$f":"IF(B63=\"\",\"\",IF(D63=\"m\",INDIRECT(VLOOKUP(G63,Bezüge!$E$6:$F$16,2,FALSE)&ROW(G63)),INDIRECT(VLOOKUP(G63,Bezüge!$B$6:$C$16,2,FALSE)&ROW(G63))))","v":""},null,null,null,"","","","","","","","","","","","","","","","","","","","","","",null,"","","","","","","","","","","","","","","","","","","","","",""]
[null,{"$f":"IF(Athletenliste!B64=\"\",\"\",Athletenliste!B64)","v":""},{"$f":"IF(Athletenliste!C64=\"\",\"\",Athletenliste!C64)","v":""},{"$f":"IF(Athletenliste!D64=\"\",\"\",Athletenliste!D64)","v":""},{"$f":"IF(Athletenliste!E64=\"\",\"\",Athletenliste!E64)","v":""},{"$f":"IF(Athletenliste!F64=\"\",\"\",Athletenliste!F64)","v":""},{"$f":"IF(Athletenliste!G64=\"\",\"\",Athletenliste!G64)","v":""},{"$f":"IF(Athletenliste!H64=\"\",\"\",Athletenliste!H64)","v":""},null,{"$f":"IF(B64=\"\",\"\",IF(D64=\"m\",INDIRECT(VLOOKUP(G64,Bezüge!$E$6:$F$16,2,FALSE)&ROW(G64)),INDIRECT(VLOOKUP(G64,Bezüge!$B$6:$C$16,2,FALSE)&ROW(G64))))","v":""},null,null,null,"","","","","","","","","","","","","","","","","","","","","","",null,"","","","","","","","","","","","","","","","","","","","","",""]
[null,{"$f":"IF(Athletenliste!B65=\"\",\"\",Athletenliste!B65)","v":""},{"$f":"IF(Athletenliste!C65=\"\",\"\",Athletenliste!C65)","v":""},{"$f":"IF(Athletenliste!D65=\"\",\"\",Athletenliste!D65)","v":""},{"$f":"IF(Athletenliste!E65=\"\",\"\",Athletenliste!E65)","v":""},{"$f":"IF(Athletenliste!F65=\"\",\"\",Athletenliste!F65)","v":""},{"$f":"IF(Athletenliste!G65=\"\",\"\",Athletenliste!G65)","v":""},{"$f":"IF(Athletenliste!H65=\"\",\"\",Athletenliste!H65)","v":""},null,{"$f":"IF(B65=\"\",\"\",IF(D65=\"m\",INDIRECT(VLOOKUP(G65,Bezüge!$E$6:$F$16,2,FALSE)&ROW(G65)),INDIRECT(VLOOKUP(G65,Bezüge!$B$6:$C$16,2,FALSE)&ROW(G65))))","v":""},null,null,null,"","","","","","","","","","","","","","","","","","","","","","",null,"","","","","","","","","","","","","","","","","","","","","",""]
[null,{"$f":"IF(Athletenliste!B66=\"\",\"\",Athletenliste!B66)","v":""},{"$f":"IF(Athletenliste!C66=\"\",\"\",Athletenliste!C66)","v":""},{"$f":"IF(Athletenliste!D66=\"\",\"\",Athletenliste!D66)","v":""},{"$f":"IF(Athletenliste!E66=\"\",\"\",Athletenliste!E66)","v":""},{"$f":"IF(Athletenliste!F66=\"\",\"\",Athletenliste!F66)","v":""},{"$f":"IF(Athletenliste!G66=\"\",\"\",Athletenliste!G66)","v":""},{"$f":"IF(Athletenliste!H66=\"\",\"\",Athletenliste!H66)","v":""},null,{"$f":"IF(B66=\"\",\"\",IF(D66=\"m\",INDIRECT(VLOOKUP(G66,Bezüge!$E$6:$F$16,2,FALSE)&ROW(G66)),INDIRECT(VLOOKUP(G66,Bezüge!$B$6:$C$16,2,FALSE)&ROW(G66))))","v":""},null,null,null,"","","","","","","","","","","","","","","","","","","","","","",null,"","","","","","","","","","","","","","","","","","","","","",""]
[null,{"$f":"IF(Athletenliste!B67=\"\",\"\",Athletenliste!B67)","v":""},{"$f":"IF(Athletenliste!C67=\"\",\"\",Athletenliste!C67)","v":""},{"$f":"IF(Athletenliste!D67=\"\",\"\",Athletenliste!D67)","v":""},{"$f":"IF(Athletenliste!E67=\"\",\"\",Athletenliste!E67)","v":""},{"$f":"IF(Athletenliste!F67=\"\",\"\",Athletenliste!F67)","v":""},{"$f":"IF(Athletenliste!G67=\"\",\"\",Athletenliste!G67)","v":""},{"$f":"IF(Athletenliste!H67=\"\",\"\",Athletenliste!H67)","v":""},null,{"$f":"IF(B67=\"\",\"\",IF(D67=\"m\",INDIRECT(VLOOKUP(G67,Bezüge!$E$6:$F$16,2,FALSE)&ROW(G67)),INDIRECT(VLOOKUP(G67,Bezüge!$B$6:$C$16,2,FALSE)&ROW(G67))))","v":""},null,null,null,"","","","","","","","","","","","","","","","","","","","","","",null,"","","","","","","","","","","","","","","","","","","","","",""]
[null,{"$f":"IF(Athletenliste!B68=\"\",\"\",Athletenliste!B68)","v":""},{"$f":"IF(Athletenliste!C68=\"\",\"\",Athletenliste!C68)","v":""},{"$f":"IF(Athletenliste!D68=\"\",\"\",Athletenliste!D68)","v":""},{"$f":"IF(Athletenliste!E68=\"\",\"\",Athletenliste!E68)","v":""},{"$f":"IF(Athletenliste!F68=\"\",\"\",Athletenliste!F68)","v":""},{"$f":"IF(Athletenliste!G68=\"\",\"\",Athletenliste!G68)","v":""},{"$f":"IF(Athletenliste!H68=\"\",\"\",Athletenliste!H68)","v":""},null,{"$f":"IF(B68=\"\",\"\",IF(D68=\"m\",INDIRECT(VLOOKUP(G68,Bezüge!$E$6:$F$16,2,FALSE)&ROW(G68)),INDIRECT(VLOOKUP(G68,Bezüge!$B$6:$C$16,2,FALSE)&ROW(G68))))","v":""},null,null,null,"","","","","","","","","","","","","","","","","","","","","","",null,"","","","","","","","","","","","","","","","","","","","","",""]
[null,{"$f":"IF(Athletenliste!B69=\"\",\"\",Athletenliste!B69)","v":""},{"$f":"IF(Athletenliste!C69=\"\",\"\",Athletenliste!C69)","v":""},{"$f":"IF(Athletenliste!D69=\"\",\"\",Athletenliste!D69)","v":""},{"$f":"IF(Athletenliste!E69=\"\",\"\",Athletenliste!E69)","v":""},{"$f":"IF(Athletenliste!F69=\"\",\"\",Athletenliste!F69)","v":""},{"$f":"IF(Athletenliste!G69=\"\",\"\",Athletenliste!G69)","v":""},{"$f":"IF(Athletenliste!H69=\"\",\"\",Athletenliste!H69)","v":""},null,{"$f":"IF(B69=\"\",\"\",IF(D69=\"m\",INDIRECT(VLOOKUP(G69,Bezüge!$E$6:$F$16,2,FALSE)&ROW(G69)),INDIRECT(VLOOKUP(G69,Bezüge!$B$6:$C$16,2,FALSE)&ROW(G69))))","v":""},null,null,null,"","","","","","","","","","","","","","","","","","","","","","",null,"","","","","","","","","","","","","","","","","","","","","",""]
[null,{"$f":"IF(Athletenliste!B70=\"\",\"\",Athletenliste!B70)","v":""},{"$f":"IF(Athletenliste!C70=\"\",\"\",Athletenliste!C70)","v":""},{"$f":"IF(Athletenliste!D70=\"\",\"\",Athletenliste!D70)","v":""},{"$f":"IF(Athletenliste!E70=\"\",\"\",Athletenliste!E70)","v":""},{"$f":"IF(Athletenliste!F70=\"\",\"\",Athletenliste!F70)","v":""},{"$f":"IF(Athletenliste!G70=\"\",\"\",Athletenliste!G70)","v":""},{"$f":"IF(Athletenliste!H70=\"\",\"\",Athletenliste!H70)","v":""},null,{"$f":"IF(B70=\"\",\"\",IF(D70=\"m\",INDIRECT(VLOOKUP(G70,Bezüge!$E$6:$F$16,2,FALSE)&ROW(G70)),INDIRECT(VLOOKUP(G70,Bezüge!$B$6:$C$16,2,FALSE)&ROW(G70))))","v":""},null,null,null,"","","","","","","","","","","","","","","","","","","","","","",null,"","","","","","","","","","","","","","","","","","","","","",""]
[null,{"$f":"IF(Athletenliste!B71=\"\",\"\",Athletenliste!B71)","v":""},{"$f":"IF(Athletenliste!C71=\"\",\"\",Athletenliste!C71)","v":""},{"$f":"IF(Athletenliste!D71=\"\",\"\",Athletenliste!D71)","v":""},{"$f":"IF(Athletenliste!E71=\"\",\"\",Athletenliste!E71)","v":""},{"$f":"IF(Athletenliste!F71=\"\",\"\",Athletenliste!F71)","v":""},{"$f":"IF(Athletenliste!G71=\"\",\"\",Athletenliste!G71)","v":""},{"$f":"IF(Athletenliste!H71=\"\",\"\",Athletenliste!H71)","v":""},null,{"$f":"IF(B71=\"\",\"\",IF(D71=\"m\",INDIRECT(VLOOKUP(G71,Bezüge!$E$6:$F$16,2,FALSE)&ROW(G71)),INDIRECT(VLOOKUP(G71,Bezüge!$B$6:$C$16,2,FALSE)&ROW(G71))))","v":""},null,null,null,"","","","","","","","","","","","","","","","","","","","","","",null,"","","","","","","","","","","","","","","","","","","","","",""]
[null,{"$f":"IF(Athletenliste!B72=\"\",\"\",Athletenliste!B72)","v":""},{"$f":"IF(Athletenliste!C72=\"\",\"\",Athletenliste!C72)","v":""},{"$f":"IF(Athletenliste!D72=\"\",\"\",Athletenliste!D72)","v":""},{"$f":"IF(Athletenliste!E72=\"\",\"\",Athletenliste!E72)","v":""},{"$f":"IF(Athletenliste!F72=\"\",\"\",Athletenliste!F72)","v":""},{"$f":"IF(Athletenliste!G72=\"\",\"\",Athletenliste!G72)","v":""},{"$f":"IF(Athletenliste!H72=\"\",\"\",Athletenliste!H72)","v":""},null,{"$f":"IF(B72=\"\",\"\",IF(D72=\"m\",INDIRECT(VLOOKUP(G72,Bezüge!$E$6:$F$16,2,FALSE)&ROW(G72)),INDIRECT(VLOOKUP(G72,Bezüge!$B$6:$C$16,2,FALSE)&ROW(G72))))","v":""},null,null,null,"","","","","","","","","","","","","","","","","","","","","","",null,"","","","","","","","","","","","","","","","","","","","","",""]
[null,{"$f":"IF(Athletenliste!B73=\"\",\"\",Athletenliste!B73)","v":""},{"$f":"IF(Athletenliste!C73=\"\",\"\",Athletenliste!C73)","v":""},{"$f":"IF(Athletenliste!D73=\"\",\"\",Athletenliste!D73)","v":""},{"$f":"IF(Athletenliste!E73=\"\",\"\",Athletenliste!E73)","v":""},{"$f":"IF(Athletenliste!F73=\"\",\"\",Athletenliste!F73)","v":""},{"$f":"IF(Athletenliste!G73=\"\",\"\",Athletenliste!G73)","v":""},{"$f":"IF(Athletenliste!H73=\"\",\"\",Athletenliste!H73)","v":""},null,{"$f":"IF(B73=\"\",\"\",IF(D73=\"m\",INDIRECT(VLOOKUP(G73,Bezüge!$E$6:$F$16,2,FALSE)&ROW(G73)),INDIRECT(VLOOKUP(G73,Bezüge!$B$6:$C$16,2,FALSE)&ROW(G73))))","v":""},null,null,null,"","","","","","","","","","","","","","","","","","","","","","",null,"","","","","","","","","","","","","","","","","","","","","",""]
[null,{"$f":"IF(Athletenliste!B74=\"\",\"\",Athletenliste!B74)","v":""},{"$f":"IF(Athletenliste!C74=\"\",\"\",Athletenliste!C74)","v":""},{"$f":"IF(Athletenliste!D74=\"\",\"\",Athletenliste!D74)","v":""},{"$f":"IF(Athletenliste!E74=\"\",\"\",Athletenliste!E74)","v":""},{"$f":"IF(Athletenliste!F74=\"\",\"\",Athletenliste!F74)","v":""},{"$f":"IF(Athletenliste!G74=\"\",\"\",Athletenliste!G74)","v":""},{"$f":"IF(Athletenliste!H74=\"\",\"\",Athletenliste!H74)","v":""},null,{"$f":"IF(B74=\"\",\"\",IF(D74=\"m\",INDIRECT(VLOOKUP(G74,Bezüge!$E$6:$F$16,2,FALSE)&ROW(G74)),INDIRECT(VLOOKUP(G74,Bezüge!$B$6:$C$16,2,FALSE)&ROW(G74))))","v":""},null,null,null,"","","","","","","","","","","","","","","","","","","","","","",null,"","","","","","","","","","","","","","","","","","","","","",""]
[null,{"$f":"IF(Athletenliste!B75=\"\",\"\",Athletenliste!B75)","v":""},{"$f":"IF(Athletenliste!C75=\"\",\"\",Athletenliste!C75)","v":""},{"$f":"IF(Athletenliste!D75=\"\",\"\",Athletenliste!D75)","v":""},{"$f":"IF(Athletenliste!E75=\"\",\"\",Athletenliste!E75)","v":""},{"$f":"IF(Athletenliste!F75=\"\",\"\",Athletenliste!F75)","v":""},{"$f":"IF(Athletenliste!G75=\"\",\"\",Athletenliste!G75)","v":""},{"$f":"IF(Athletenliste!H75=\"\",\"\",Athletenliste!H75)","v":""},null,{"$f":"IF(B75=\"\",\"\",IF(D75=\"m\",INDIRECT(VLOOKUP(G75,Bezüge!$E$6:$F$16,2,FALSE)&ROW(G75)),INDIRECT(VLOOKUP(G75,Bezüge!$B$6:$C$16,2,FALSE)&ROW(G75))))","v":""},null,null,null,{"$f":"IF(AND(D75=\"m\",G75=\"U06\",I75<>\"\"),I75,\"\")","v":""},{"$f":"IF(OR(I75=\"\",N75=\"\"),\"\",_xlfn.RANK.EQ(N75,N$10:N$200,1))","v":""},{"$f":"IF(AND(D75=\"m\",G75=\"U07\",I75<>\"\"),I75,\"\")","v":""},{"$f":"IF(OR(I75=\"\",P75=\"\"),\"\",_xlfn.RANK.EQ(P75,P$10:P$200,1))","v":""},{"$f":"IF(AND(D75=\"m\",G75=\"U08\",I75<>\"\"),I75,\"\")","v":""},{"$f":"IF(OR(I75=\"\",R75=\"\"),\"\",_xlfn.RANK.EQ(R75,R$10:R$200,1))","v":""},{"$f":"IF(AND(D75=\"m\",G75=\"U09\",I75<>\"\"),I75,\"\")","v":""},{"$f":"IF(OR(I75=\"\",T75=\"\"),\"\",_xlfn.RANK.EQ(T75,T$10:T$200,1))","v":""},{"$f":"IF(AND(D75=\"m\",G75=\"U10\",I75<>\"\"),I75,\"\")","v":""},{"$f":"IF(OR(I75=\"\",V75=\"\"),\"\",_xlfn.RANK.EQ(V75,V$10:V$200,1))","v":""},{"$f":"IF(AND(D75=\"m\",G75=\"U11\",I75<>\"\"),I75,\"\")","v":""},{"$f":"IF(OR(I75=\"\",X75=\"\"),\"\",_xlfn.RANK.EQ(X75,X$10:X$200,1))","v":""},{"$f":"IF(AND(D75=\"m\",G75=\"U12\",I75<>\"\"),I75,\"\")","v":""},{"$f":"IF(OR(I75=\"\",Z75=\"\"),\"\",_xlfn.RANK.EQ(Z75,Z$10:Z$200,1))","v":""},{"$f":"IF(AND(D75=\"m\",G75=\"U13\",I75<>\"\"),I75,\"\")","v":""},{"$f":"IF(OR(I75=\"\",AB75=\"\"),\"\",_xlfn.RANK.EQ(AB75,AB$10:AB$200,1))","v":""},{"$f":"IF(AND(D75=\"m\",G75=\"U14\",I75<>\"\"),I75,\"\")","v":""},{"$f":"IF(OR(I75=\"\",AD75=\"\"),\"\",_xlfn.RANK.EQ(AD75,AD$10:AD$200,1))","v":""},{"$f":"IF(AND(D75=\"m\",G75=\"U15\",I75<>\"\"),I75,\"\")","v":""},{"$f":"IF(OR(I75=\"\",AF75=\"\"),\"\",_xlfn.RANK.EQ(AF75,AF$10:AF$200,1))","v":""},{"$f":"IF(AND(D75=\"m\",G75=\"U16\",I75<>\"\"),I75,\"\")","v":""},{"$f":"IF(OR(I75=\"\",AH75=\"\"),\"\",_xlfn.RANK.EQ(AH75,AH$10:AH$200,1))","v":""},null,{"$f":"IF(AND(D75=\"w\",G75=\"U06\",I75<>\"\"),I75,\"\")","v":""},{"$f":"IF(OR(I75=\"\",AI75=\"\"),\"\",_xlfn.RANK.EQ(AI75,AI$10:AI$200,1))","v":""},{"$f":"IF(AND(D75=\"w\",G75=\"U07\",I75<>\"\"),I75,\"\")","v":""},{"$f":"IF(OR(I75=\"\",AM75=\"\"),\"\",_xlfn.RANK.EQ(AM75,AM$10:AM$20,1))","v":""},{"$f":"IF(AND(D75=\"w\",G75=\"U08\",I75<>\"\"),I75,\"\")","v":""},{"$f":"IF(OR(I75=\"\",AO75=\"\"),\"\",_xlfn.RANK.EQ(AO75,AO$10:AO$200,0))","v":""},{"$f":"IF(AND(D75=\"w\",G75=\"U09\",I75<>\"\"),I75,\"\")","v":""},{"$f":"IF(OR(I75=\"\",AQ75=\"\"),\"\",_xlfn.RANK.EQ(AQ75,AQ$10:AQ$200,1))","v":""},{"$f":"IF(AND(D75=\"w\",G75=\"U10\",I75<>\"\"),I75,\"\")","v":""},{"$f":"IF(OR(I75=\"\",AS75=\"\"),\"\",_xlfn.RANK.EQ(AS75,AS$10:AS$200,1))","v":""},{"$f":"IF(AND(D75=\"w\",G75=\"U11\",I75<>\"\"),I75,\"\")","v":""},{"$f":"IF(OR(I75=\"\",AU75=\"\"),\"\",_xlfn.RANK.EQ(AU75,AU$10:AU$200,1))","v":""},{"$f":"IF(AND(D75=\"w\",G75=\"U12\",I75<>\"\"),I75,\"\")","v":""},{"$f":"IF(OR(I75=\"\",AW75=\"\"),\"\",_xlfn.RANK.EQ(AW75,AW$10:AW$200,1))","v":""},{"$f":"IF(AND(D75=\"w\",G75=\"U13\",I75<>\"\"),I75,\"\")","v":""},{"$f":"IF(OR(I75=\"\",AY75=\"\"),\"\",_xlfn.RANK.EQ(AY75,AY$10:AY$200,1))","v":""},{"$f":"IF(AND(D75=\"w\",G75=\"U14\",I75<>\"\"),I75,\"\")","v":""},{"$f":"IF(OR(I75=\"\",BA75=\"\"),\"\",_xlfn.RANK.EQ(BA75,BA$10:BA$200,1))","v":""},{"$f":"IF(AND(D75=\"w\",G75=\"U15\",I75<>\"\"),I75,\"\")","v":""},{"$f":"IF(OR(I75=\"\",BC75=\"\"),\"\",_xlfn.RANK.EQ(BC75,BC$10:BC$200,1))","v":""},{"$f":"IF(AND(D75=\"w\",G75=\"U16\",I75<>\"\"),I75,\"\")","v":""},{"$f":"IF(OR(I75=\"\",BE75=\"\"),\"\",_xlfn.RANK.EQ(BE75,BE$10:BE$200,1))","v":""}]
[null,{"$f":"IF(Athletenliste!B76=\"\",\"\",Athletenliste!B76)","v":""},{"$f":"IF(Athletenliste!C76=\"\",\"\",Athletenliste!C76)","v":""},{"$f":"IF(Athletenliste!D76=\"\",\"\",Athletenliste!D76)","v":""},{"$f":"IF(Athletenliste!E76=\"\",\"\",Athletenliste!E76)","v":""},{"$f":"IF(Athletenliste!F76=\"\",\"\",Athletenliste!F76)","v":""},{"$f":"IF(Athletenliste!G76=\"\",\"\",Athletenliste!G76)","v":""},{"$f":"IF(Athletenliste!H76=\"\",\"\",Athletenliste!H76)","v":""},null,{"$f":"IF(B76=\"\",\"\",IF(D76=\"m\",INDIRECT(VLOOKUP(G76,Bezüge!$E$6:$F$16,2,FALSE)&ROW(G76)),INDIRECT(VLOOKUP(G76,Bezüge!$B$6:$C$16,2,FALSE)&ROW(G76))))","v":""},null,null,null,"","","","","","","","","","","","","","","","","","","","","","",null,"","","","","","","","","","","","","","","","","","","","","",""]
[null,{"$f":"IF(Athletenliste!B77=\"\",\"\",Athletenliste!B77)","v":""},{"$f":"IF(Athletenliste!C77=\"\",\"\",Athletenliste!C77)","v":""},{"$f":"IF(Athletenliste!D77=\"\",\"\",Athletenliste!D77)","v":""},{"$f":"IF(Athletenliste!E77=\"\",\"\",Athletenliste!E77)","v":""},{"$f":"IF(Athletenliste!F77=\"\",\"\",Athletenliste!F77)","v":""},{"$f":"IF(Athletenliste!G77=\"\",\"\",Athletenliste!G77)","v":""},{"$f":"IF(Athletenliste!H77=\"\",\"\",Athletenliste!H77)","v":""},null,{"$f":"IF(B77=\"\",\"\",IF(D77=\"m\",INDIRECT(VLOOKUP(G77,Bezüge!$E$6:$F$16,2,FALSE)&ROW(G77)),INDIRECT(VLOOKUP(G77,Bezüge!$B$6:$C$16,2,FALSE)&ROW(G77))))","v":""},null,null,null,"","","","","","","","","","","","","","","","","","","","","","",null,"","","","","","","","","","","","","","","","","","","","","",""]
[null,{"$f":"IF(Athletenliste!B78=\"\",\"\",Athletenliste!B78)","v":""},{"$f":"IF(Athletenliste!C78=\"\",\"\",Athletenliste!C78)","v":""},{"$f":"IF(Athletenliste!D78=\"\",\"\",Athletenliste!D78)","v":""},{"$f":"IF(Athletenliste!E78=\"\",\"\",Athletenliste!E78)","v":""},{"$f":"IF(Athletenliste!F78=\"\",\"\",Athletenliste!F78)","v":""},{"$f":"IF(Athletenliste!G78=\"\",\"\",Athletenliste!G78)","v":""},{"$f":"IF(Athletenliste!H78=\"\",\"\",Athletenliste!H78)","v":""},null,{"$f":"IF(B78=\"\",\"\",IF(D78=\"m\",INDIRECT(VLOOKUP(G78,Bezüge!$E$6:$F$16,2,FALSE)&ROW(G78)),INDIRECT(VLOOKUP(G78,Bezüge!$B$6:$C$16,2,FALSE)&ROW(G78))))","v":""},null,null,null,"","","","","","","","","","","","","","","","","","","","","","",null,"","","","","","","","","","","","","","","","","","","","","",""]
[null,{"$f":"IF(Athletenliste!B79=\"\",\"\",Athletenliste!B79)","v":""},{"$f":"IF(Athletenliste!C79=\"\",\"\",Athletenliste!C79)","v":""},{"$f":"IF(Athletenliste!D79=\"\",\"\",Athletenliste!D79)","v":""},{"$f":"IF(Athletenliste!E79=\"\",\"\",Athletenliste!E79)","v":""},{"$f":"IF(Athletenliste!F79=\"\",\"\",Athletenliste!F79)","v":""},{"$f":"IF(Athletenliste!G79=\"\",\"\",Athletenliste!G79)","v":""},{"$f":"IF(Athletenliste!H79=\"\",\"\",Athletenliste!H79)","v":""},null,{"$f":"IF(B79=\"\",\"\",IF(D79=\"m\",INDIRECT(VLOOKUP(G79,Bezüge!$E$6:$F$16,2,FALSE)&ROW(G79)),INDIRECT(VLOOKUP(G79,Bezüge!$B$6:$C$16,2,FALSE)&ROW(G79))))","v":""},null,null,null,"","","","","","","","","","","","","","","","","","","","","","",null,"","","","","","","","","","","","","","","","","","","","","",""]
[null,{"$f":"IF(Athletenliste!B80=\"\",\"\",Athletenliste!B80)","v":""},{"$f":"IF(Athletenliste!C80=\"\",\"\",Athletenliste!C80)","v":""},{"$f":"IF(Athletenliste!D80=\"\",\"\",Athletenliste!D80)","v":""},{"$f":"IF(Athletenliste!E80=\"\",\"\",Athletenliste!E80)","v":""},{"$f":"IF(Athletenliste!F80=\"\",\"\",Athletenliste!F80)","v":""},{"$f":"IF(Athletenliste!G80=\"\",\"\",Athletenliste!G80)","v":""},{"$f":"IF(Athletenliste!H80=\"\",\"\",Athletenliste!H80)","v":""},null,{"$f":"IF(B80=\"\",\"\",IF(D80=\"m\",INDIRECT(VLOOKUP(G80,Bezüge!$E$6:$F$16,2,FALSE)&ROW(G80)),INDIRECT(VLOOKUP(G80,Bezüge!$B$6:$C$16,2,FALSE)&ROW(G80))))","v":""},null,null,null,"","","","","","","","","","","","","","","","","","","","","","",null,"","","","","","","","","","","","","","","","","","","","","",""]
[null,{"$f":"IF(Athletenliste!B81=\"\",\"\",Athletenliste!B81)","v":""},{"$f":"IF(Athletenliste!C81=\"\",\"\",Athletenliste!C81)","v":""},{"$f":"IF(Athletenliste!D81=\"\",\"\",Athletenliste!D81)","v":""},{"$f":"IF(Athletenliste!E81=\"\",\"\",Athletenliste!E81)","v":""},{"$f":"IF(Athletenliste!F81=\"\",\"\",Athletenliste!F81)","v":""},{"$f":"IF(Athletenliste!G81=\"\",\"\",Athletenliste!G81)","v":""},{"$f":"IF(Athletenliste!H81=\"\",\"\",Athletenliste!H81)","v":""},null,{"$f":"IF(B81=\"\",\"\",IF(D81=\"m\",INDIRECT(VLOOKUP(G81,Bezüge!$E$6:$F$16,2,FALSE)&ROW(G81)),INDIRECT(VLOOKUP(G81,Bezüge!$B$6:$C$16,2,FALSE)&ROW(G81))))","v":""},null,null,null,"","","","","","","","","","","","","","","","","","","","","","",null,"","","","","","","","","","","","","","","","","","","","","",""]
[null,{"$f":"IF(Athletenliste!B82=\"\",\"\",Athletenliste!B82)","v":""},{"$f":"IF(Athletenliste!C82=\"\",\"\",Athletenliste!C82)","v":""},{"$f":"IF(Athletenliste!D82=\"\",\"\",Athletenliste!D82)","v":""},{"$f":"IF(Athletenliste!E82=\"\",\"\",Athletenliste!E82)","v":""},{"$f":"IF(Athletenliste!F82=\"\",\"\",Athletenliste!F82)","v":""},{"$f":"IF(Athletenliste!G82=\"\",\"\",Athletenliste!G82)","v":""},{"$f":"IF(Athletenliste!H82=\"\",\"\",Athletenliste!H82)","v":""},null,{"$f":"IF(B82=\"\",\"\",IF(D82=\"m\",INDIRECT(VLOOKUP(G82,Bezüge!$E$6:$F$16,2,FALSE)&ROW(G82)),INDIRECT(VLOOKUP(G82,Bezüge!$B$6:$C$16,2,FALSE)&ROW(G82))))","v":""},null,null,null,"","","","","","","","","","","","","","","","","","","","","","",null,"","","","","","","","","","","","","","","","","","","","","",""]
[null,{"$f":"IF(Athletenliste!B83=\"\",\"\",Athletenliste!B83)","v":""},{"$f":"IF(Athletenliste!C83=\"\",\"\",Athletenliste!C83)","v":""},{"$f":"IF(Athletenliste!D83=\"\",\"\",Athletenliste!D83)","v":""},{"$f":"IF(Athletenliste!E83=\"\",\"\",Athletenliste!E83)","v":""},{"$f":"IF(Athletenliste!F83=\"\",\"\",Athletenliste!F83)","v":""},{"$f":"IF(Athletenliste!G83=\"\",\"\",Athletenliste!G83)","v":""},{"$f":"IF(Athletenliste!H83=\"\",\"\",Athletenliste!H83)","v":""},null,{"$f":"IF(B83=\"\",\"\",IF(D83=\"m\",INDIRECT(VLOOKUP(G83,Bezüge!$E$6:$F$16,2,FALSE)&ROW(G83)),INDIRECT(VLOOKUP(G83,Bezüge!$B$6:$C$16,2,FALSE)&ROW(G83))))","v":""},null,null,null,"","","","","","","","","","","","","","","","","","","","","","",null,"","","","","","","","","","","","","","","","","","","","","",""]
[null,{"$f":"IF(Athletenliste!B84=\"\",\"\",Athletenliste!B84)","v":""},{"$f":"IF(Athletenliste!C84=\"\",\"\",Athletenliste!C84)","v":""},{"$f":"IF(Athletenliste!D84=\"\",\"\",Athletenliste!D84)","v":""},{"$f":"IF(Athletenliste!E84=\"\",\"\",Athletenliste!E84)","v":""},{"$f":"IF(Athletenliste!F84=\"\",\"\",Athletenliste!F84)","v":""},{"$f":"IF(Athletenliste!G84=\"\",\"\",Athletenliste!G84)","v":""},{"$f":"IF(Athletenliste!H84=\"\",\"\",Athletenliste!H84)","v":""},null,{"$f":"IF(B84=\"\",\"\",IF(D84=\"m\",INDIRECT(VLOOKUP(G84,Bezüge!$E$6:$F$16,2,FALSE)&ROW(G84)),INDIRECT(VLOOKUP(G84,Bezüge!$B$6:$C$16,2,FALSE)&ROW(G84))))","v":""},null,null,null,"","","","","","","","","","","","","","","","","","","","","","",null,"","","","","","","","","","","","","","","","","","","","","",""]
[null,{"$f":"IF(Athletenliste!B85=\"\",\"\",Athletenliste!B85)","v":""},{"$f":"IF(Athletenliste!C85=\"\",\"\",Athletenliste!C85)","v":""},{"$f":"IF(Athletenliste!D85=\"\",\"\",Athletenliste!D85)","v":""},{"$f":"IF(Athletenliste!E85=\"\",\"\",Athletenliste!E85)","v":""},{"$f":"IF(Athletenliste!F85=\"\",\"\",Athletenliste!F85)","v":""},{"$f":"IF(Athletenliste!G85=\"\",\"\",Athletenliste!G85)","v":""},{"$f":"IF(Athletenliste!H85=\"\",\"\",Athletenliste!H85)","v":""},null,{"$f":"IF(B85=\"\",\"\",IF(D85=\"m\",INDIRECT(VLOOKUP(G85,Bezüge!$E$6:$F$16,2,FALSE)&ROW(G85)),INDIRECT(VLOOKUP(G85,Bezüge!$B$6:$C$16,2,FALSE)&ROW(G85))))","v":""},null,null,null,"","","","","","","","","","","","","","","","","","","","","","",null,"","","","","","","","","","","","","","","","","","","","","",""]
[null,{"$f":"IF(Athletenliste!B86=\"\",\"\",Athletenliste!B86)","v":""},{"$f":"IF(Athletenliste!C86=\"\",\"\",Athletenliste!C86)","v":""},{"$f":"IF(Athletenliste!D86=\"\",\"\",Athletenliste!D86)","v":""},{"$f":"IF(Athletenliste!E86=\"\",\"\",Athletenliste!E86)","v":""},{"$f":"IF(Athletenliste!F86=\"\",\"\",Athletenliste!F86)","v":""},{"$f":"IF(Athletenliste!G86=\"\",\"\",Athletenliste!G86)","v":""},{"$f":"IF(Athletenliste!H86=\"\",\"\",Athletenliste!H86)","v":""},null,{"$f":"IF(B86=\"\",\"\",IF(D86=\"m\",INDIRECT(VLOOKUP(G86,Bezüge!$E$6:$F$16,2,FALSE)&ROW(G86)),INDIRECT(VLOOKUP(G86,Bezüge!$B$6:$C$16,2,FALSE)&ROW(G86))))","v":""},null,null,null,"","","","","","","","","","","","","","","","","","","","","","",null,"","","","","","","","","","","","","","","","","","","","","",""]
[null,{"$f":"IF(Athletenliste!B87=\"\",\"\",Athletenliste!B87)","v":""},{"$f":"IF(Athletenliste!C87=\"\",\"\",Athletenliste!C87)","v":""},{"$f":"IF(Athletenliste!D87=\"\",\"\",Athletenliste!D87)","v":""},{"$f":"IF(Athletenliste!E87=\"\",\"\",Athletenliste!E87)","v":""},{"$f":"IF(Athletenliste!F87=\"\",\"\",Athletenliste!F87)","v":""},{"$f":"IF(Athletenliste!G87=\"\",\"\",Athletenliste!G87)","v":""},{"$f":"IF(Athletenliste!H87=\"\",\"\",Athletenliste!H87)","v":""},null,{"$f":"IF(B87=\"\",\"\",IF(D87=\"m\",INDIRECT(VLOOKUP(G87,Bezüge!$E$6:$F$16,2,FALSE)&ROW(G87)),INDIRECT(VLOOKUP(G87,Bezüge!$B$6:$C$16,2,FALSE)&ROW(G87))))","v":""},null,null,null,"","","","","","","","","","","","","","","","","","","","","","",null,"","","","","","","","","","","","","","","","","","","","","",""]
[null,{"$f":"IF(Athletenliste!B88=\"\",\"\",Athletenliste!B88)","v":""},{"$f":"IF(Athletenliste!C88=\"\",\"\",Athletenliste!C88)","v":""},{"$f":"IF(Athletenliste!D88=\"\",\"\",Athletenliste!D88)","v":""},{"$f":"IF(Athletenliste!E88=\"\",\"\",Athletenliste!E88)","v":""},{"$f":"IF(Athletenliste!F88=\"\",\"\",Athletenliste!F88)","v":""},{"$f":"IF(Athletenliste!G88=\"\",\"\",Athletenliste!G88)","v":""},{"$f":"IF(Athletenliste!H88=\"\",\"\",Athletenliste!H88)","v":""},null,{"$f":"IF(B88=\"\",\"\",IF(D88=\"m\",INDIRECT(VLOOKUP(G88,Bezüge!$E$6:$F$16,2,FALSE)&ROW(G88)),INDIRECT(VLOOKUP(G88,Bezüge!$B$6:$C$16,2,FALSE)&ROW(G88))))","v":""},null,null,null,"","","","","","","","","","","","","","","","","","","","","","",null,"","","","","","","","","","","","","","","","","","","","","",""]
[null,{"$f":"IF(Athletenliste!B89=\"\",\"\",Athletenliste!B89)","v":""},{"$f":"IF(Athletenliste!C89=\"\",\"\",Athletenliste!C89)","v":""},{"$f":"IF(Athletenliste!D89=\"\",\"\",Athletenliste!D89)","v":""},{"$f":"IF(Athletenliste!E89=\"\",\"\",Athletenliste!E89)","v":""},{"$f":"IF(Athletenliste!F89=\"\",\"\",Athletenliste!F89)","v":""},{"$f":"IF(Athletenliste!G89=\"\",\"\",Athletenliste!G89)","v":""},{"$f":"IF(Athletenliste!H89=\"\",\"\",Athletenliste!H89)","v":""},null,{"$f":"IF(B89=\"\",\"\",IF(D89=\"m\",INDIRECT(VLOOKUP(G89,Bezüge!$E$6:$F$16,2,FALSE)&ROW(G89)),INDIRECT(VLOOKUP(G89,Bezüge!$B$6:$C$16,2,FALSE)&ROW(G89))))","v":""},null,null,null,"","","","","","","","","","","","","","","","","","","","","","",null,"","","","","","","","","","","","","","","","","","","","","",""]
[null,{"$f":"IF(Athletenliste!B90=\"\",\"\",Athletenliste!B90)","v":""},{"$f":"IF(Athletenliste!C90=\"\",\"\",Athletenliste!C90)","v":""},{"$f":"IF(Athletenliste!D90=\"\",\"\",Athletenliste!D90)","v":""},{"$f":"IF(Athletenliste!E90=\"\",\"\",Athletenliste!E90)","v":""},{"$f":"IF(Athletenliste!F90=\"\",\"\",Athletenliste!F90)","v":""},{"$f":"IF(Athletenliste!G90=\"\",\"\",Athletenliste!G90)","v":""},{"$f":"IF(Athletenliste!H90=\"\",\"\",Athletenliste!H90)","v":""},null,{"$f":"IF(B90=\"\",\"\",IF(D90=\"m\",INDIRECT(VLOOKUP(G90,Bezüge!$E$6:$F$16,2,FALSE)&ROW(G90)),INDIRECT(VLOOKUP(G90,Bezüge!$B$6:$C$16,2,FALSE)&ROW(G90))))","v":""},null,null,null,"","","","","","","","","","","","","","","","","","","","","","",null,"","","","","","","","","","","","","","","","","","","","","",""]
[null,{"$f":"IF(Athletenliste!B91=\"\",\"\",Athletenliste!B91)","v":""},{"$f":"IF(Athletenliste!C91=\"\",\"\",Athletenliste!C91)","v":""},{"$f":"IF(Athletenliste!D91=\"\",\"\",Athletenliste!D91)","v":""},{"$f":"IF(Athletenliste!E91=\"\",\"\",Athletenliste!E91)","v":""},{"$f":"IF(Athletenliste!F91=\"\",\"\",Athletenliste!F91)","v":""},{"$f":"IF(Athletenliste!G91=\"\",\"\",Athletenliste!G91)","v":""},{"$f":"IF(Athletenliste!H91=\"\",\"\",Athletenliste!H91)","v":""},null,{"$f":"IF(B91=\"\",\"\",IF(D91=\"m\",INDIRECT(VLOOKUP(G91,Bezüge!$E$6:$F$16,2,FALSE)&ROW(G91)),INDIRECT(VLOOKUP(G91,Bezüge!$B$6:$C$16,2,FALSE)&ROW(G91))))","v":""},null,null,null,"","","","","","","","","","","","","","","","","","","","","","",null,"","","","","","","","","","","","","","","","","","","","","",""]
[null,{"$f":"IF(Athletenliste!B92=\"\",\"\",Athletenliste!B92)","v":""},{"$f":"IF(Athletenliste!C92=\"\",\"\",Athletenliste!C92)","v":""},{"$f":"IF(Athletenliste!D92=\"\",\"\",Athletenliste!D92)","v":""},{"$f":"IF(Athletenliste!E92=\"\",\"\",Athletenliste!E92)","v":""},{"$f":"IF(Athletenliste!F92=\"\",\"\",Athletenliste!F92)","v":""},{"$f":"IF(Athletenliste!G92=\"\",\"\",Athletenliste!G92)","v":""},{"$f":"IF(Athletenliste!H92=\"\",\"\",Athletenliste!H92)","v":""},null,{"$f":"IF(B92=\"\",\"\",IF(D92=\"m\",INDIRECT(VLOOKUP(G92,Bezüge!$E$6:$F$16,2,FALSE)&ROW(G92)),INDIRECT(VLOOKUP(G92,Bezüge!$B$6:$C$16,2,FALSE)&ROW(G92))))","v":""},null,null,null,"","","","","","","","","","","","","","","","","","","","","","",null,"","","","","","","","","","","","","","","","","","","","","",""]
[null,{"$f":"IF(Athletenliste!B93=\"\",\"\",Athletenliste!B93)","v":""},{"$f":"IF(Athletenliste!C93=\"\",\"\",Athletenliste!C93)","v":""},{"$f":"IF(Athletenliste!D93=\"\",\"\",Athletenliste!D93)","v":""},{"$f":"IF(Athletenliste!E93=\"\",\"\",Athletenliste!E93)","v":""},{"$f":"IF(Athletenliste!F93=\"\",\"\",Athletenliste!F93)","v":""},{"$f":"IF(Athletenliste!G93=\"\",\"\",Athletenliste!G93)","v":""},{"$f":"IF(Athletenliste!H93=\"\",\"\",Athletenliste!H93)","v":""},null,{"$f":"IF(B93=\"\",\"\",IF(D93=\"m\",INDIRECT(VLOOKUP(G93,Bezüge!$E$6:$F$16,2,FALSE)&ROW(G93)),INDIRECT(VLOOKUP(G93,Bezüge!$B$6:$C$16,2,FALSE)&ROW(G93))))","v":""},null,null,null,"","","","","","","","","","","","","","","","","","","","","","",null,"","","","","","","","","","","","","","","","","","","","","",""]
[null,{"$f":"IF(Athletenliste!B94=\"\",\"\",Athletenliste!B94)","v":""},{"$f":"IF(Athletenliste!C94=\"\",\"\",Athletenliste!C94)","v":""},{"$f":"IF(Athletenliste!D94=\"\",\"\",Athletenliste!D94)","v":""},{"$f":"IF(Athletenliste!E94=\"\",\"\",Athletenliste!E94)","v":""},{"$f":"IF(Athletenliste!F94=\"\",\"\",Athletenliste!F94)","v":""},{"$f":"IF(Athletenliste!G94=\"\",\"\",Athletenliste!G94)","v":""},{"$f":"IF(Athletenliste!H94=\"\",\"\",Athletenliste!H94)","v":""},null,{"$f":"IF(B94=\"\",\"\",IF(D94=\"m\",INDIRECT(VLOOKUP(G94,Bezüge!$E$6:$F$16,2,FALSE)&ROW(G94)),INDIRECT(VLOOKUP(G94,Bezüge!$B$6:$C$16,2,FALSE)&ROW(G94))))","v":""},null,null,null,"","","","","","","","","","","","","","","","","","","","","","",null,"","","","","","","","","","","","","","","","","","","","","",""]
[null,{"$f":"IF(Athletenliste!B95=\"\",\"\",Athletenliste!B95)","v":""},{"$f":"IF(Athletenliste!C95=\"\",\"\",Athletenliste!C95)","v":""},{"$f":"IF(Athletenliste!D95=\"\",\"\",Athletenliste!D95)","v":""},{"$f":"IF(Athletenliste!E95=\"\",\"\",Athletenliste!E95)","v":""},{"$f":"IF(Athletenliste!F95=\"\",\"\",Athletenliste!F95)","v":""},{"$f":"IF(Athletenliste!G95=\"\",\"\",Athletenliste!G95)","v":""},{"$f":"IF(Athletenliste!H95=\"\",\"\",Athletenliste!H95)","v":""},null,{"$f":"IF(B95=\"\",\"\",IF(D95=\"m\",INDIRECT(VLOOKUP(G95,Bezüge!$E$6:$F$16,2,FALSE)&ROW(G95)),INDIRECT(VLOOKUP(G95,Bezüge!$B$6:$C$16,2,FALSE)&ROW(G95))))","v":""},null,null,null,"","","","","","","","","","","","","","","","","","","","","","",null,"","","","","","","","","","","","","","","","","","","","","",""]
[null,{"$f":"IF(Athletenliste!B96=\"\",\"\",Athletenliste!B96)","v":""},{"$f":"IF(Athletenliste!C96=\"\",\"\",Athletenliste!C96)","v":""},{"$f":"IF(Athletenliste!D96=\"\",\"\",Athletenliste!D96)","v":""},{"$f":"IF(Athletenliste!E96=\"\",\"\",Athletenliste!E96)","v":""},{"$f":"IF(Athletenliste!F96=\"\",\"\",Athletenliste!F96)","v":""},{"$f":"IF(Athletenliste!G96=\"\",\"\",Athletenliste!G96)","v":""},{"$f":"IF(Athletenliste!H96=\"\",\"\",Athletenliste!H96)","v":""},null,{"$f":"IF(B96=\"\",\"\",IF(D96=\"m\",INDIRECT(VLOOKUP(G96,Bezüge!$E$6:$F$16,2,FALSE)&ROW(G96)),INDIRECT(VLOOKUP(G96,Bezüge!$B$6:$C$16,2,FALSE)&ROW(G96))))","v":""},null,null,null,"","","","","","","","","","","","","","","","","","","","","","",null,"","","","","","","","","","","","","","","","","","","","","",""]
[null,{"$f":"IF(Athletenliste!B97=\"\",\"\",Athletenliste!B97)","v":""},{"$f":"IF(Athletenliste!C97=\"\",\"\",Athletenliste!C97)","v":""},{"$f":"IF(Athletenliste!D97=\"\",\"\",Athletenliste!D97)","v":""},{"$f":"IF(Athletenliste!E97=\"\",\"\",Athletenliste!E97)","v":""},{"$f":"IF(Athletenliste!F97=\"\",\"\",Athletenliste!F97)","v":""},{"$f":"IF(Athletenliste!G97=\"\",\"\",Athletenliste!G97)","v":""},{"$f":"IF(Athletenliste!H97=\"\",\"\",Athletenliste!H97)","v":""},null,{"$f":"IF(B97=\"\",\"\",IF(D97=\"m\",INDIRECT(VLOOKUP(G97,Bezüge!$E$6:$F$16,2,FALSE)&ROW(G97)),INDIRECT(VLOOKUP(G97,Bezüge!$B$6:$C$16,2,FALSE)&ROW(G97))))","v":""},null,null,null,"","","","","","","","","","","","","","","","","","","","","","",null,"","","","","","","","","","","","","","","","","","","","","",""]
[null,{"$f":"IF(Athletenliste!B98=\"\",\"\",Athletenliste!B98)","v":""},{"$f":"IF(Athletenliste!C98=\"\",\"\",Athletenliste!C98)","v":""},{"$f":"IF(Athletenliste!D98=\"\",\"\",Athletenliste!D98)","v":""},{"$f":"IF(Athletenliste!E98=\"\",\"\",Athletenliste!E98)","v":""},{"$f":"IF(Athletenliste!F98=\"\",\"\",Athletenliste!F98)","v":""},{"$f":"IF(Athletenliste!G98=\"\",\"\",Athletenliste!G98)","v":""},{"$f":"IF(Athletenliste!H98=\"\",\"\",Athletenliste!H98)","v":""},null,{"$f":"IF(B98=\"\",\"\",IF(D98=\"m\",INDIRECT(VLOOKUP(G98,Bezüge!$E$6:$F$16,2,FALSE)&ROW(G98)),INDIRECT(VLOOKUP(G98,Bezüge!$B$6:$C$16,2,FALSE)&ROW(G98))))","v":""},null,null,null,"","","","","","","","","","","","","","","","","","","","","","",null,"","","","","","","","","","","","","","","","","","","","","",""]
[null,{"$f":"IF(Athletenliste!B99=\"\",\"\",Athletenliste!B99)","v":""},{"$f":"IF(Athletenliste!C99=\"\",\"\",Athletenliste!C99)","v":""},{"$f":"IF(Athletenliste!D99=\"\",\"\",Athletenliste!D99)","v":""},{"$f":"IF(Athletenliste!E99=\"\",\"\",Athletenliste!E99)","v":""},{"$f":"IF(Athletenliste!F99=\"\",\"\",Athletenliste!F99)","v":""},{"$f":"IF(Athletenliste!G99=\"\",\"\",Athletenliste!G99)","v":""},{"$f":"IF(Athletenliste!H99=\"\",\"\",Athletenliste!H99)","v":""},null,{"$f":"IF(B99=\"\",\"\",IF(D99=\"m\",INDIRECT(VLOOKUP(G99,Bezüge!$E$6:$F$16,2,FALSE)&ROW(G99)),INDIRECT(VLOOKUP(G99,Bezüge!$B$6:$C$16,2,FALSE)&ROW(G99))))","v":""},null,null,null,"","","","","","","","","","","","","","","","","","","","","","",null,"","","","","","","","","","","","","","","","","","","","","",""]
[null,{"$f":"IF(Athletenliste!B100=\"\",\"\",Athletenliste!B100)","v":""},{"$f":"IF(Athletenliste!C100=\"\",\"\",Athletenliste!C100)","v":""},{"$f":"IF(Athletenliste!D100=\"\",\"\",Athletenliste!D100)","v":""},{"$f":"IF(Athletenliste!E100=\"\",\"\",Athletenliste!E100)","v":""},{"$f":"IF(Athletenliste!F100=\"\",\"\",Athletenliste!F100)","v":""},{"$f":"IF(Athletenliste!G100=\"\",\"\",Athletenliste!G100)","v":""},{"$f":"IF(Athletenliste!H100=\"\",\"\",Athletenliste!H100)","v":""},null,{"$f":"IF(B100=\"\",\"\",IF(D100=\"m\",INDIRECT(VLOOKUP(G100,Bezüge!$E$6:$F$16,2,FALSE)&ROW(G100)),INDIRECT(VLOOKUP(G100,Bezüge!$B$6:$C$16,2,FALSE)&ROW(G100))))","v":""},null,null,null,"","","","","","","","","","","","","","","","","","","","","","",null,"","","","","","","","","","","","","","","","","","","","","",""]
[null,{"$f":"IF(Athletenliste!B101=\"\",\"\",Athletenliste!B101)","v":""},{"$f":"IF(Athletenliste!C101=\"\",\"\",Athletenliste!C101)","v":""},{"$f":"IF(Athletenliste!D101=\"\",\"\",Athletenliste!D101)","v":""},{"$f":"IF(Athletenliste!E101=\"\",\"\",Athletenliste!E101)","v":""},{"$f":"IF(Athletenliste!F101=\"\",\"\",Athletenliste!F101)","v":""},{"$f":"IF(Athletenliste!G101=\"\",\"\",Athletenliste!G101)","v":""},{"$f":"IF(Athletenliste!H101=\"\",\"\",Athletenliste!H101)","v":""},null,{"$f":"IF(B101=\"\",\"\",IF(D101=\"m\",INDIRECT(VLOOKUP(G101,Bezüge!$E$6:$F$16,2,FALSE)&ROW(G101)),INDIRECT(VLOOKUP(G101,Bezüge!$B$6:$C$16,2,FALSE)&ROW(G101))))","v":""},null,null,null,"","","","","","","","","","","","","","","","","","","","","","",null,"","","","","","","","","","","","","","","","","","","","","",""]
[null,{"$f":"IF(Athletenliste!B102=\"\",\"\",Athletenliste!B102)","v":""},{"$f":"IF(Athletenliste!C102=\"\",\"\",Athletenliste!C102)","v":""},{"$f":"IF(Athletenliste!D102=\"\",\"\",Athletenliste!D102)","v":""},{"$f":"IF(Athletenliste!E102=\"\",\"\",Athletenliste!E102)","v":""},{"$f":"IF(Athletenliste!F102=\"\",\"\",Athletenliste!F102)","v":""},{"$f":"IF(Athletenliste!G102=\"\",\"\",Athletenliste!G102)","v":""},{"$f":"IF(Athletenliste!H102=\"\",\"\",Athletenliste!H102)","v":""},null,{"$f":"IF(B102=\"\",\"\",IF(D102=\"m\",INDIRECT(VLOOKUP(G102,Bezüge!$E$6:$F$16,2,FALSE)&ROW(G102)),INDIRECT(VLOOKUP(G102,Bezüge!$B$6:$C$16,2,FALSE)&ROW(G102))))","v":""},null,null,null,"","","","","","","","","","","","","","","","","","","","","","",null,"","","","","","","","","","","","","","","","","","","","","",""]
[null,{"$f":"IF(Athletenliste!B103=\"\",\"\",Athletenliste!B103)","v":""},{"$f":"IF(Athletenliste!C103=\"\",\"\",Athletenliste!C103)","v":""},{"$f":"IF(Athletenliste!D103=\"\",\"\",Athletenliste!D103)","v":""},{"$f":"IF(Athletenliste!E103=\"\",\"\",Athletenliste!E103)","v":""},{"$f":"IF(Athletenliste!F103=\"\",\"\",Athletenliste!F103)","v":""},{"$f":"IF(Athletenliste!G103=\"\",\"\",Athletenliste!G103)","v":""},{"$f":"IF(Athletenliste!H103=\"\",\"\",Athletenliste!H103)","v":""},null,{"$f":"IF(B103=\"\",\"\",IF(D103=\"m\",INDIRECT(VLOOKUP(G103,Bezüge!$E$6:$F$16,2,FALSE)&ROW(G103)),INDIRECT(VLOOKUP(G103,Bezüge!$B$6:$C$16,2,FALSE)&ROW(G103))))","v":""},null,null,null,"","","","","","","","","","","","","","","","","","","","","","",null,"","","","","","","","","","","","","","","","","","","","","",""]
[null,{"$f":"IF(Athletenliste!B104=\"\",\"\",Athletenliste!B104)","v":""},{"$f":"IF(Athletenliste!C104=\"\",\"\",Athletenliste!C104)","v":""},{"$f":"IF(Athletenliste!D104=\"\",\"\",Athletenliste!D104)","v":""},{"$f":"IF(Athletenliste!E104=\"\",\"\",Athletenliste!E104)","v":""},{"$f":"IF(Athletenliste!F104=\"\",\"\",Athletenliste!F104)","v":""},{"$f":"IF(Athletenliste!G104=\"\",\"\",Athletenliste!G104)","v":""},{"$f":"IF(Athletenliste!H104=\"\",\"\",Athletenliste!H104)","v":""},null,{"$f":"IF(B104=\"\",\"\",IF(D104=\"m\",INDIRECT(VLOOKUP(G104,Bezüge!$E$6:$F$16,2,FALSE)&ROW(G104)),INDIRECT(VLOOKUP(G104,Bezüge!$B$6:$C$16,2,FALSE)&ROW(G104))))","v":""},null,null,null,"","","","","","","","","","","","","","","","","","","","","","",null,"","","","","","","","","","","","","","","","","","","","","",""]
[null,{"$f":"IF(Athletenliste!B105=\"\",\"\",Athletenliste!B105)","v":""},{"$f":"IF(Athletenliste!C105=\"\",\"\",Athletenliste!C105)","v":""},{"$f":"IF(Athletenliste!D105=\"\",\"\",Athletenliste!D105)","v":""},{"$f":"IF(Athletenliste!E105=\"\",\"\",Athletenliste!E105)","v":""},{"$f":"IF(Athletenliste!F105=\"\",\"\",Athletenliste!F105)","v":""},{"$f":"IF(Athletenliste!G105=\"\",\"\",Athletenliste!G105)","v":""},{"$f":"IF(Athletenliste!H105=\"\",\"\",Athletenliste!H105)","v":""},null,{"$f":"IF(B105=\"\",\"\",IF(D105=\"m\",INDIRECT(VLOOKUP(G105,Bezüge!$E$6:$F$16,2,FALSE)&ROW(G105)),INDIRECT(VLOOKUP(G105,Bezüge!$B$6:$C$16,2,FALSE)&ROW(G105))))","v":""},null,null,null,"","","","","","","","","","","","","","","","","","","","","","",null,"","","","","","","","","","","","","","","","","","","","","",""]
[null,{"$f":"IF(Athletenliste!B106=\"\",\"\",Athletenliste!B106)","v":""},{"$f":"IF(Athletenliste!C106=\"\",\"\",Athletenliste!C106)","v":""},{"$f":"IF(Athletenliste!D106=\"\",\"\",Athletenliste!D106)","v":""},{"$f":"IF(Athletenliste!E106=\"\",\"\",Athletenliste!E106)","v":""},{"$f":"IF(Athletenliste!F106=\"\",\"\",Athletenliste!F106)","v":""},{"$f":"IF(Athletenliste!G106=\"\",\"\",Athletenliste!G106)","v":""},{"$f":"IF(Athletenliste!H106=\"\",\"\",Athletenliste!H106)","v":""},null,{"$f":"IF(B106=\"\",\"\",IF(D106=\"m\",INDIRECT(VLOOKUP(G106,Bezüge!$E$6:$F$16,2,FALSE)&ROW(G106)),INDIRECT(VLOOKUP(G106,Bezüge!$B$6:$C$16,2,FALSE)&ROW(G106))))","v":""},null,null,null,"","","","","","","","","","","","","","","","","","","","","","",null,"","","","","","","","","","","","","","","","","","","","","",""]
[null,{"$f":"IF(Athletenliste!B107=\"\",\"\",Athletenliste!B107)","v":""},{"$f":"IF(Athletenliste!C107=\"\",\"\",Athletenliste!C107)","v":""},{"$f":"IF(Athletenliste!D107=\"\",\"\",Athletenliste!D107)","v":""},{"$f":"IF(Athletenliste!E107=\"\",\"\",Athletenliste!E107)","v":""},{"$f":"IF(Athletenliste!F107=\"\",\"\",Athletenliste!F107)","v":""},{"$f":"IF(Athletenliste!G107=\"\",\"\",Athletenliste!G107)","v":""},{"$f":"IF(Athletenliste!H107=\"\",\"\",Athletenliste!H107)","v":""},null,{"$f":"IF(B107=\"\",\"\",IF(D107=\"m\",INDIRECT(VLOOKUP(G107,Bezüge!$E$6:$F$16,2,FALSE)&ROW(G107)),INDIRECT(VLOOKUP(G107,Bezüge!$B$6:$C$16,2,FALSE)&ROW(G107))))","v":""},null,null,null,"","","","","","","","","","","","","","","","","","","","","","",null,"","","","","","","","","","","","","","","","","","","","","",""]
[null,{"$f":"IF(Athletenliste!B108=\"\",\"\",Athletenliste!B108)","v":""},{"$f":"IF(Athletenliste!C108=\"\",\"\",Athletenliste!C108)","v":""},{"$f":"IF(Athletenliste!D108=\"\",\"\",Athletenliste!D108)","v":""},{"$f":"IF(Athletenliste!E108=\"\",\"\",Athletenliste!E108)","v":""},{"$f":"IF(Athletenliste!F108=\"\",\"\",Athletenliste!F108)","v":""},{"$f":"IF(Athletenliste!G108=\"\",\"\",Athletenliste!G108)","v":""},{"$f":"IF(Athletenliste!H108=\"\",\"\",Athletenliste!H108)","v":""},null,{"$f":"IF(B108=\"\",\"\",IF(D108=\"m\",INDIRECT(VLOOKUP(G108,Bezüge!$E$6:$F$16,2,FALSE)&ROW(G108)),INDIRECT(VLOOKUP(G108,Bezüge!$B$6:$C$16,2,FALSE)&ROW(G108))))","v":""},null,null,null,"","","","","","","","","","","","","","","","","","","","","","",null,"","","","","","","","","","","","","","","","","","","","","",""]
[null,{"$f":"IF(Athletenliste!B109=\"\",\"\",Athletenliste!B109)","v":""},{"$f":"IF(Athletenliste!C109=\"\",\"\",Athletenliste!C109)","v":""},{"$f":"IF(Athletenliste!D109=\"\",\"\",Athletenliste!D109)","v":""},{"$f":"IF(Athletenliste!E109=\"\",\"\",Athletenliste!E109)","v":""},{"$f":"IF(Athletenliste!F109=\"\",\"\",Athletenliste!F109)","v":""},{"$f":"IF(Athletenliste!G109=\"\",\"\",Athletenliste!G109)","v":""},{"$f":"IF(Athletenliste!H109=\"\",\"\",Athletenliste!H109)","v":""},null,{"$f":"IF(B109=\"\",\"\",IF(D109=\"m\",INDIRECT(VLOOKUP(G109,Bezüge!$E$6:$F$16,2,FALSE)&ROW(G109)),INDIRECT(VLOOKUP(G109,Bezüge!$B$6:$C$16,2,FALSE)&ROW(G109))))","v":""},null,null,null,"","","","","","","","","","","","","","","","","","","","","","",null,"","","","","","","","","","","","","","","","","","","","","",""]
[null,{"$f":"IF(Athletenliste!B110=\"\",\"\",Athletenliste!B110)","v":""},{"$f":"IF(Athletenliste!C110=\"\",\"\",Athletenliste!C110)","v":""},{"$f":"IF(Athletenliste!D110=\"\",\"\",Athletenliste!D110)","v":""},{"$f":"IF(Athletenliste!E110=\"\",\"\",Athletenliste!E110)","v":""},{"$f":"IF(Athletenliste!F110=\"\",\"\",Athletenliste!F110)","v":""},{"$f":"IF(Athletenliste!G110=\"\",\"\",Athletenliste!G110)","v":""},{"$f":"IF(Athletenliste!H110=\"\",\"\",Athletenliste!H110)","v":""},null,{"$f":"IF(B110=\"\",\"\",IF(D110=\"m\",INDIRECT(VLOOKUP(G110,Bezüge!$E$6:$F$16,2,FALSE)&ROW(G110)),INDIRECT(VLOOKUP(G110,Bezüge!$B$6:$C$16,2,FALSE)&ROW(G110))))","v":""},null,null,null,"","","","","","","","","","","","","","","","","","","","","","",null,"","","","","","","","","","","","","","","","","","","","","",""]
[null,{"$f":"IF(Athletenliste!B111=\"\",\"\",Athletenliste!B111)","v":""},{"$f":"IF(Athletenliste!C111=\"\",\"\",Athletenliste!C111)","v":""},{"$f":"IF(Athletenliste!D111=\"\",\"\",Athletenliste!D111)","v":""},{"$f":"IF(Athletenliste!E111=\"\",\"\",Athletenliste!E111)","v":""},{"$f":"IF(Athletenliste!F111=\"\",\"\",Athletenliste!F111)","v":""},{"$f":"IF(Athletenliste!G111=\"\",\"\",Athletenliste!G111)","v":""},{"$f":"IF(Athletenliste!H111=\"\",\"\",Athletenliste!H111)","v":""},null,{"$f":"IF(B111=\"\",\"\",IF(D111=\"m\",INDIRECT(VLOOKUP(G111,Bezüge!$E$6:$F$16,2,FALSE)&ROW(G111)),INDIRECT(VLOOKUP(G111,Bezüge!$B$6:$C$16,2,FALSE)&ROW(G111))))","v":""},null,null,null,"","","","","","","","","","","","","","","","","","","","","","",null,"","","","","","","","","","","","","","","","","","","","","",""]
[null,{"$f":"IF(Athletenliste!B112=\"\",\"\",Athletenliste!B112)","v":""},{"$f":"IF(Athletenliste!C112=\"\",\"\",Athletenliste!C112)","v":""},{"$f":"IF(Athletenliste!D112=\"\",\"\",Athletenliste!D112)","v":""},{"$f":"IF(Athletenliste!E112=\"\",\"\",Athletenliste!E112)","v":""},{"$f":"IF(Athletenliste!F112=\"\",\"\",Athletenliste!F112)","v":""},{"$f":"IF(Athletenliste!G112=\"\",\"\",Athletenliste!G112)","v":""},{"$f":"IF(Athletenliste!H112=\"\",\"\",Athletenliste!H112)","v":""},null,{"$f":"IF(B112=\"\",\"\",IF(D112=\"m\",INDIRECT(VLOOKUP(G112,Bezüge!$E$6:$F$16,2,FALSE)&ROW(G112)),INDIRECT(VLOOKUP(G112,Bezüge!$B$6:$C$16,2,FALSE)&ROW(G112))))","v":""},null,null,null,"","","","","","","","","","","","","","","","","","","","","","",null,"","","","","","","","","","","","","","","","","","","","","",""]
[null,{"$f":"IF(Athletenliste!B113=\"\",\"\",Athletenliste!B113)","v":""},{"$f":"IF(Athletenliste!C113=\"\",\"\",Athletenliste!C113)","v":""},{"$f":"IF(Athletenliste!D113=\"\",\"\",Athletenliste!D113)","v":""},{"$f":"IF(Athletenliste!E113=\"\",\"\",Athletenliste!E113)","v":""},{"$f":"IF(Athletenliste!F113=\"\",\"\",Athletenliste!F113)","v":""},{"$f":"IF(Athletenliste!G113=\"\",\"\",Athletenliste!G113)","v":""},{"$f":"IF(Athletenliste!H113=\"\",\"\",Athletenliste!H113)","v":""},null,{"$f":"IF(B113=\"\",\"\",IF(D113=\"m\",INDIRECT(VLOOKUP(G113,Bezüge!$E$6:$F$16,2,FALSE)&ROW(G113)),INDIRECT(VLOOKUP(G113,Bezüge!$B$6:$C$16,2,FALSE)&ROW(G113))))","v":""},null,null,null,"","","","","","","","","","","","","","","","","","","","","","",null,"","","","","","","","","","","","","","","","","","","","","",""]
[null,{"$f":"IF(Athletenliste!B114=\"\",\"\",Athletenliste!B114)","v":""},{"$f":"IF(Athletenliste!C114=\"\",\"\",Athletenliste!C114)","v":""},{"$f":"IF(Athletenliste!D114=\"\",\"\",Athletenliste!D114)","v":""},{"$f":"IF(Athletenliste!E114=\"\",\"\",Athletenliste!E114)","v":""},{"$f":"IF(Athletenliste!F114=\"\",\"\",Athletenliste!F114)","v":""},{"$f":"IF(Athletenliste!G114=\"\",\"\",Athletenliste!G114)","v":""},{"$f":"IF(Athletenliste!H114=\"\",\"\",Athletenliste!H114)","v":""},null,{"$f":"IF(B114=\"\",\"\",IF(D114=\"m\",INDIRECT(VLOOKUP(G114,Bezüge!$E$6:$F$16,2,FALSE)&ROW(G114)),INDIRECT(VLOOKUP(G114,Bezüge!$B$6:$C$16,2,FALSE)&ROW(G114))))","v":""},null,null,null,"","","","","","","","","","","","","","","","","","","","","","",null,"","","","","","","","","","","","","","","","","","","","","",""]
[null,{"$f":"IF(Athletenliste!B115=\"\",\"\",Athletenliste!B115)","v":""},{"$f":"IF(Athletenliste!C115=\"\",\"\",Athletenliste!C115)","v":""},{"$f":"IF(Athletenliste!D115=\"\",\"\",Athletenliste!D115)","v":""},{"$f":"IF(Athletenliste!E115=\"\",\"\",Athletenliste!E115)","v":""},{"$f":"IF(Athletenliste!F115=\"\",\"\",Athletenliste!F115)","v":""},{"$f":"IF(Athletenliste!G115=\"\",\"\",Athletenliste!G115)","v":""},{"$f":"IF(Athletenliste!H115=\"\",\"\",Athletenliste!H115)","v":""},null,{"$f":"IF(B115=\"\",\"\",IF(D115=\"m\",INDIRECT(VLOOKUP(G115,Bezüge!$E$6:$F$16,2,FALSE)&ROW(G115)),INDIRECT(VLOOKUP(G115,Bezüge!$B$6:$C$16,2,FALSE)&ROW(G115))))","v":""},null,null,null,"","","","","","","","","","","","","","","","","","","","","","",null,"","","","","","","","","","","","","","","","","","","","","",""]
[null,{"$f":"IF(Athletenliste!B116=\"\",\"\",Athletenliste!B116)","v":""},{"$f":"IF(Athletenliste!C116=\"\",\"\",Athletenliste!C116)","v":""},{"$f":"IF(Athletenliste!D116=\"\",\"\",Athletenliste!D116)","v":""},{"$f":"IF(Athletenliste!E116=\"\",\"\",Athletenliste!E116)","v":""},{"$f":"IF(Athletenliste!F116=\"\",\"\",Athletenliste!F116)","v":""},{"$f":"IF(Athletenliste!G116=\"\",\"\",Athletenliste!G116)","v":""},{"$f":"IF(Athletenliste!H116=\"\",\"\",Athletenliste!H116)","v":""},null,{"$f":"IF(B116=\"\",\"\",IF(D116=\"m\",INDIRECT(VLOOKUP(G116,Bezüge!$E$6:$F$16,2,FALSE)&ROW(G116)),INDIRECT(VLOOKUP(G116,Bezüge!$B$6:$C$16,2,FALSE)&ROW(G116))))","v":""},null,null,null,"","","","","","","","","","","","","","","","","","","","","","",null,"","","","","","","","","","","","","","","","","","","","","",""]
[null,{"$f":"IF(Athletenliste!B117=\"\",\"\",Athletenliste!B117)","v":""},{"$f":"IF(Athletenliste!C117=\"\",\"\",Athletenliste!C117)","v":""},{"$f":"IF(Athletenliste!D117=\"\",\"\",Athletenliste!D117)","v":""},{"$f":"IF(Athletenliste!E117=\"\",\"\",Athletenliste!E117)","v":""},{"$f":"IF(Athletenliste!F117=\"\",\"\",Athletenliste!F117)","v":""},{"$f":"IF(Athletenliste!G117=\"\",\"\",Athletenliste!G117)","v":""},{"$f":"IF(Athletenliste!H117=\"\",\"\",Athletenliste!H117)","v":""},null,{"$f":"IF(B117=\"\",\"\",IF(D117=\"m\",INDIRECT(VLOOKUP(G117,Bezüge!$E$6:$F$16,2,FALSE)&ROW(G117)),INDIRECT(VLOOKUP(G117,Bezüge!$B$6:$C$16,2,FALSE)&ROW(G117))))","v":""},null,null,null,"","","","","","","","","","","","","","","","","","","","","","",null,"","","","","","","","","","","","","","","","","","","","","",""]
[null,{"$f":"IF(Athletenliste!B118=\"\",\"\",Athletenliste!B118)","v":""},{"$f":"IF(Athletenliste!C118=\"\",\"\",Athletenliste!C118)","v":""},{"$f":"IF(Athletenliste!D118=\"\",\"\",Athletenliste!D118)","v":""},{"$f":"IF(Athletenliste!E118=\"\",\"\",Athletenliste!E118)","v":""},{"$f":"IF(Athletenliste!F118=\"\",\"\",Athletenliste!F118)","v":""},{"$f":"IF(Athletenliste!G118=\"\",\"\",Athletenliste!G118)","v":""},{"$f":"IF(Athletenliste!H118=\"\",\"\",Athletenliste!H118)","v":""},null,{"$f":"IF(B118=\"\",\"\",IF(D118=\"m\",INDIRECT(VLOOKUP(G118,Bezüge!$E$6:$F$16,2,FALSE)&ROW(G118)),INDIRECT(VLOOKUP(G118,Bezüge!$B$6:$C$16,2,FALSE)&ROW(G118))))","v":""},null,null,null,"","","","","","","","","","","","","","","","","","","","","","",null,"","","","","","","","","","","","","","","","","","","","","",""]
[null,{"$f":"IF(Athletenliste!B119=\"\",\"\",Athletenliste!B119)","v":""},{"$f":"IF(Athletenliste!C119=\"\",\"\",Athletenliste!C119)","v":""},{"$f":"IF(Athletenliste!D119=\"\",\"\",Athletenliste!D119)","v":""},{"$f":"IF(Athletenliste!E119=\"\",\"\",Athletenliste!E119)","v":""},{"$f":"IF(Athletenliste!F119=\"\",\"\",Athletenliste!F119)","v":""},{"$f":"IF(Athletenliste!G119=\"\",\"\",Athletenliste!G119)","v":""},{"$f":"IF(Athletenliste!H119=\"\",\"\",Athletenliste!H119)","v":""},null,{"$f":"IF(B119=\"\",\"\",IF(D119=\"m\",INDIRECT(VLOOKUP(G119,Bezüge!$E$6:$F$16,2,FALSE)&ROW(G119)),INDIRECT(VLOOKUP(G119,Bezüge!$B$6:$C$16,2,FALSE)&ROW(G119))))","v":""},null,null,null,"","","","","","","","","","","","","","","","","","","","","","",null,"","","","","","","","","","","","","","","","","","","","","",""]
[null,{"$f":"IF(Athletenliste!B120=\"\",\"\",Athletenliste!B120)","v":""},{"$f":"IF(Athletenliste!C120=\"\",\"\",Athletenliste!C120)","v":""},{"$f":"IF(Athletenliste!D120=\"\",\"\",Athletenliste!D120)","v":""},{"$f":"IF(Athletenliste!E120=\"\",\"\",Athletenliste!E120)","v":""},{"$f":"IF(Athletenliste!F120=\"\",\"\",Athletenliste!F120)","v":""},{"$f":"IF(Athletenliste!G120=\"\",\"\",Athletenliste!G120)","v":""},{"$f":"IF(Athletenliste!H120=\"\",\"\",Athletenliste!H120)","v":""},null,{"$f":"IF(B120=\"\",\"\",IF(D120=\"m\",INDIRECT(VLOOKUP(G120,Bezüge!$E$6:$F$16,2,FALSE)&ROW(G120)),INDIRECT(VLOOKUP(G120,Bezüge!$B$6:$C$16,2,FALSE)&ROW(G120))))","v":""},null,null,null,"","","","","","","","","","","","","","","","","","","","","","",null,"","","","","","","","","","","","","","","","","","","","","",""]
[null,{"$f":"IF(Athletenliste!B121=\"\",\"\",Athletenliste!B121)","v":""},{"$f":"IF(Athletenliste!C121=\"\",\"\",Athletenliste!C121)","v":""},{"$f":"IF(Athletenliste!D121=\"\",\"\",Athletenliste!D121)","v":""},{"$f":"IF(Athletenliste!E121=\"\",\"\",Athletenliste!E121)","v":""},{"$f":"IF(Athletenliste!F121=\"\",\"\",Athletenliste!F121)","v":""},{"$f":"IF(Athletenliste!G121=\"\",\"\",Athletenliste!G121)","v":""},{"$f":"IF(Athletenliste!H121=\"\",\"\",Athletenliste!H121)","v":""},null,{"$f":"IF(B121=\"\",\"\",IF(D121=\"m\",INDIRECT(VLOOKUP(G121,Bezüge!$E$6:$F$16,2,FALSE)&ROW(G121)),INDIRECT(VLOOKUP(G121,Bezüge!$B$6:$C$16,2,FALSE)&ROW(G121))))","v":""},null,null,null,"","","","","","","","","","","","","","","","","","","","","","",null,"","","","","","","","","","","","","","","","","","","","","",""]
[null,{"$f":"IF(Athletenliste!B122=\"\",\"\",Athletenliste!B122)","v":""},{"$f":"IF(Athletenliste!C122=\"\",\"\",Athletenliste!C122)","v":""},{"$f":"IF(Athletenliste!D122=\"\",\"\",Athletenliste!D122)","v":""},{"$f":"IF(Athletenliste!E122=\"\",\"\",Athletenliste!E122)","v":""},{"$f":"IF(Athletenliste!F122=\"\",\"\",Athletenliste!F122)","v":""},{"$f":"IF(Athletenliste!G122=\"\",\"\",Athletenliste!G122)","v":""},{"$f":"IF(Athletenliste!H122=\"\",\"\",Athletenliste!H122)","v":""},null,{"$f":"IF(B122=\"\",\"\",IF(D122=\"m\",INDIRECT(VLOOKUP(G122,Bezüge!$E$6:$F$16,2,FALSE)&ROW(G122)),INDIRECT(VLOOKUP(G122,Bezüge!$B$6:$C$16,2,FALSE)&ROW(G122))))","v":""},null,null,null,"","","","","","","","","","","","","","","","","","","","","","",null,"","","","","","","","","","","","","","","","","","","","","",""]
[null,{"$f":"IF(Athletenliste!B123=\"\",\"\",Athletenliste!B123)","v":""},{"$f":"IF(Athletenliste!C123=\"\",\"\",Athletenliste!C123)","v":""},{"$f":"IF(Athletenliste!D123=\"\",\"\",Athletenliste!D123)","v":""},{"$f":"IF(Athletenliste!E123=\"\",\"\",Athletenliste!E123)","v":""},{"$f":"IF(Athletenliste!F123=\"\",\"\",Athletenliste!F123)","v":""},{"$f":"IF(Athletenliste!G123=\"\",\"\",Athletenliste!G123)","v":""},{"$f":"IF(Athletenliste!H123=\"\",\"\",Athletenliste!H123)","v":""},null,{"$f":"IF(B123=\"\",\"\",IF(D123=\"m\",INDIRECT(VLOOKUP(G123,Bezüge!$E$6:$F$16,2,FALSE)&ROW(G123)),INDIRECT(VLOOKUP(G123,Bezüge!$B$6:$C$16,2,FALSE)&ROW(G123))))","v":""},null,null,null,"","","","","","","","","","","","","","","","","","","","","","",null,"","","","","","","","","","","","","","","","","","","","","",""]
[null,{"$f":"IF(Athletenliste!B124=\"\",\"\",Athletenliste!B124)","v":""},{"$f":"IF(Athletenliste!C124=\"\",\"\",Athletenliste!C124)","v":""},{"$f":"IF(Athletenliste!D124=\"\",\"\",Athletenliste!D124)","v":""},{"$f":"IF(Athletenliste!E124=\"\",\"\",Athletenliste!E124)","v":""},{"$f":"IF(Athletenliste!F124=\"\",\"\",Athletenliste!F124)","v":""},{"$f":"IF(Athletenliste!G124=\"\",\"\",Athletenliste!G124)","v":""},{"$f":"IF(Athletenliste!H124=\"\",\"\",Athletenliste!H124)","v":""},null,{"$f":"IF(B124=\"\",\"\",IF(D124=\"m\",INDIRECT(VLOOKUP(G124,Bezüge!$E$6:$F$16,2,FALSE)&ROW(G124)),INDIRECT(VLOOKUP(G124,Bezüge!$B$6:$C$16,2,FALSE)&ROW(G124))))","v":""},null,null,null,"","","","","","","","","","","","","","","","","","","","","","",null,"","","","","","","","","","","","","","","","","","","","","",""]
[null,{"$f":"IF(Athletenliste!B125=\"\",\"\",Athletenliste!B125)","v":""},{"$f":"IF(Athletenliste!C125=\"\",\"\",Athletenliste!C125)","v":""},{"$f":"IF(Athletenliste!D125=\"\",\"\",Athletenliste!D125)","v":""},{"$f":"IF(Athletenliste!E125=\"\",\"\",Athletenliste!E125)","v":""},{"$f":"IF(Athletenliste!F125=\"\",\"\",Athletenliste!F125)","v":""},{"$f":"IF(Athletenliste!G125=\"\",\"\",Athletenliste!G125)","v":""},{"$f":"IF(Athletenliste!H125=\"\",\"\",Athletenliste!H125)","v":""},null,{"$f":"IF(B125=\"\",\"\",IF(D125=\"m\",INDIRECT(VLOOKUP(G125,Bezüge!$E$6:$F$16,2,FALSE)&ROW(G125)),INDIRECT(VLOOKUP(G125,Bezüge!$B$6:$C$16,2,FALSE)&ROW(G125))))","v":""},null,null,null,"","","","","","","","","","","","","","","","","","","","","","",null,"","","","","","","","","","","","","","","","","","","","","",""]
[null,{"$f":"IF(Athletenliste!B126=\"\",\"\",Athletenliste!B126)","v":""},{"$f":"IF(Athletenliste!C126=\"\",\"\",Athletenliste!C126)","v":""},{"$f":"IF(Athletenliste!D126=\"\",\"\",Athletenliste!D126)","v":""},{"$f":"IF(Athletenliste!E126=\"\",\"\",Athletenliste!E126)","v":""},{"$f":"IF(Athletenliste!F126=\"\",\"\",Athletenliste!F126)","v":""},{"$f":"IF(Athletenliste!G126=\"\",\"\",Athletenliste!G126)","v":""},{"$f":"IF(Athletenliste!H126=\"\",\"\",Athletenliste!H126)","v":""},null,{"$f":"IF(B126=\"\",\"\",IF(D126=\"m\",INDIRECT(VLOOKUP(G126,Bezüge!$E$6:$F$16,2,FALSE)&ROW(G126)),INDIRECT(VLOOKUP(G126,Bezüge!$B$6:$C$16,2,FALSE)&ROW(G126))))","v":""},null,null,null,"","","","","","","","","","","","","","","","","","","","","","",null,"","","","","","","","","","","","","","","","","","","","","",""]
[null,{"$f":"IF(Athletenliste!B127=\"\",\"\",Athletenliste!B127)","v":""},{"$f":"IF(Athletenliste!C127=\"\",\"\",Athletenliste!C127)","v":""},{"$f":"IF(Athletenliste!D127=\"\",\"\",Athletenliste!D127)","v":""},{"$f":"IF(Athletenliste!E127=\"\",\"\",Athletenliste!E127)","v":""},{"$f":"IF(Athletenliste!F127=\"\",\"\",Athletenliste!F127)","v":""},{"$f":"IF(Athletenliste!G127=\"\",\"\",Athletenliste!G127)","v":""},{"$f":"IF(Athletenliste!H127=\"\",\"\",Athletenliste!H127)","v":""},null,{"$f":"IF(B127=\"\",\"\",IF(D127=\"m\",INDIRECT(VLOOKUP(G127,Bezüge!$E$6:$F$16,2,FALSE)&ROW(G127)),INDIRECT(VLOOKUP(G127,Bezüge!$B$6:$C$16,2,FALSE)&ROW(G127))))","v":""},null,null,null,"","","","","","","","","","","","","","","","","","","","","","",null,"","","","","","","","","","","","","","","","","","","","","",""]
[null,{"$f":"IF(Athletenliste!B128=\"\",\"\",Athletenliste!B128)","v":""},{"$f":"IF(Athletenliste!C128=\"\",\"\",Athletenliste!C128)","v":""},{"$f":"IF(Athletenliste!D128=\"\",\"\",Athletenliste!D128)","v":""},{"$f":"IF(Athletenliste!E128=\"\",\"\",Athletenliste!E128)","v":""},{"$f":"IF(Athletenliste!F128=\"\",\"\",Athletenliste!F128)","v":""},{"$f":"IF(Athletenliste!G128=\"\",\"\",Athletenliste!G128)","v":""},{"$f":"IF(Athletenliste!H128=\"\",\"\",Athletenliste!H128)","v":""},null,{"$f":"IF(B128=\"\",\"\",IF(D128=\"m\",INDIRECT(VLOOKUP(G128,Bezüge!$E$6:$F$16,2,FALSE)&ROW(G128)),INDIRECT(VLOOKUP(G128,Bezüge!$B$6:$C$16,2,FALSE)&ROW(G128))))","v":""},null,null,null,"","","","","","","","","","","","","","","","","","","","","","",null,"","","","","","","","","","","","","","","","","","","","","",""]
[null,{"$f":"IF(Athletenliste!B129=\"\",\"\",Athletenliste!B129)","v":""},{"$f":"IF(Athletenliste!C129=\"\",\"\",Athletenliste!C129)","v":""},{"$f":"IF(Athletenliste!D129=\"\",\"\",Athletenliste!D129)","v":""},{"$f":"IF(Athletenliste!E129=\"\",\"\",Athletenliste!E129)","v":""},{"$f":"IF(Athletenliste!F129=\"\",\"\",Athletenliste!F129)","v":""},{"$f":"IF(Athletenliste!G129=\"\",\"\",Athletenliste!G129)","v":""},{"$f":"IF(Athletenliste!H129=\"\",\"\",Athletenliste!H129)","v":""},null,{"$f":"IF(B129=\"\",\"\",IF(D129=\"m\",INDIRECT(VLOOKUP(G129,Bezüge!$E$6:$F$16,2,FALSE)&ROW(G129)),INDIRECT(VLOOKUP(G129,Bezüge!$B$6:$C$16,2,FALSE)&ROW(G129))))","v":""},null,null,null,"","","","","","","","","","","","","","","","","","","","","","",null,"","","","","","","","","","","","","","","","","","","","","",""]
[null,{"$f":"IF(Athletenliste!B130=\"\",\"\",Athletenliste!B130)","v":""},{"$f":"IF(Athletenliste!C130=\"\",\"\",Athletenliste!C130)","v":""},{"$f":"IF(Athletenliste!D130=\"\",\"\",Athletenliste!D130)","v":""},{"$f":"IF(Athletenliste!E130=\"\",\"\",Athletenliste!E130)","v":""},{"$f":"IF(Athletenliste!F130=\"\",\"\",Athletenliste!F130)","v":""},{"$f":"IF(Athletenliste!G130=\"\",\"\",Athletenliste!G130)","v":""},{"$f":"IF(Athletenliste!H130=\"\",\"\",Athletenliste!H130)","v":""},null,{"$f":"IF(B130=\"\",\"\",IF(D130=\"m\",INDIRECT(VLOOKUP(G130,Bezüge!$E$6:$F$16,2,FALSE)&ROW(G130)),INDIRECT(VLOOKUP(G130,Bezüge!$B$6:$C$16,2,FALSE)&ROW(G130))))","v":""},null,null,null,"","","","","","","","","","","","","","","","","","","","","","",null,"","","","","","","","","","","","","","","","","","","","","",""]
[null,{"$f":"IF(Athletenliste!B131=\"\",\"\",Athletenliste!B131)","v":""},{"$f":"IF(Athletenliste!C131=\"\",\"\",Athletenliste!C131)","v":""},{"$f":"IF(Athletenliste!D131=\"\",\"\",Athletenliste!D131)","v":""},{"$f":"IF(Athletenliste!E131=\"\",\"\",Athletenliste!E131)","v":""},{"$f":"IF(Athletenliste!F131=\"\",\"\",Athletenliste!F131)","v":""},{"$f":"IF(Athletenliste!G131=\"\",\"\",Athletenliste!G131)","v":""},{"$f":"IF(Athletenliste!H131=\"\",\"\",Athletenliste!H131)","v":""},null,{"$f":"IF(B131=\"\",\"\",IF(D131=\"m\",INDIRECT(VLOOKUP(G131,Bezüge!$E$6:$F$16,2,FALSE)&ROW(G131)),INDIRECT(VLOOKUP(G131,Bezüge!$B$6:$C$16,2,FALSE)&ROW(G131))))","v":""},null,null,null,"","","","","","","","","","","","","","","","","","","","","","",null,"","","","","","","","","","","","","","","","","","","","","",""]
[null,{"$f":"IF(Athletenliste!B132=\"\",\"\",Athletenliste!B132)","v":""},{"$f":"IF(Athletenliste!C132=\"\",\"\",Athletenliste!C132)","v":""},{"$f":"IF(Athletenliste!D132=\"\",\"\",Athletenliste!D132)","v":""},{"$f":"IF(Athletenliste!E132=\"\",\"\",Athletenliste!E132)","v":""},{"$f":"IF(Athletenliste!F132=\"\",\"\",Athletenliste!F132)","v":""},{"$f":"IF(Athletenliste!G132=\"\",\"\",Athletenliste!G132)","v":""},{"$f":"IF(Athletenliste!H132=\"\",\"\",Athletenliste!H132)","v":""},null,{"$f":"IF(B132=\"\",\"\",IF(D132=\"m\",INDIRECT(VLOOKUP(G132,Bezüge!$E$6:$F$16,2,FALSE)&ROW(G132)),INDIRECT(VLOOKUP(G132,Bezüge!$B$6:$C$16,2,FALSE)&ROW(G132))))","v":""},null,null,null,"","","","","","","","","","","","","","","","","","","","","","",null,"","","","","","","","","","","","","","","","","","","","","",""]
[null,{"$f":"IF(Athletenliste!B133=\"\",\"\",Athletenliste!B133)","v":""},{"$f":"IF(Athletenliste!C133=\"\",\"\",Athletenliste!C133)","v":""},{"$f":"IF(Athletenliste!D133=\"\",\"\",Athletenliste!D133)","v":""},{"$f":"IF(Athletenliste!E133=\"\",\"\",Athletenliste!E133)","v":""},{"$f":"IF(Athletenliste!F133=\"\",\"\",Athletenliste!F133)","v":""},{"$f":"IF(Athletenliste!G133=\"\",\"\",Athletenliste!G133)","v":""},{"$f":"IF(Athletenliste!H133=\"\",\"\",Athletenliste!H133)","v":""},null,{"$f":"IF(B133=\"\",\"\",IF(D133=\"m\",INDIRECT(VLOOKUP(G133,Bezüge!$E$6:$F$16,2,FALSE)&ROW(G133)),INDIRECT(VLOOKUP(G133,Bezüge!$B$6:$C$16,2,FALSE)&ROW(G133))))","v":""},null,null,null,"","","","","","","","","","","","","","","","","","","","","","",null,"","","","","","","","","","","","","","","","","","","","","",""]
[null,{"$f":"IF(Athletenliste!B134=\"\",\"\",Athletenliste!B134)","v":""},{"$f":"IF(Athletenliste!C134=\"\",\"\",Athletenliste!C134)","v":""},{"$f":"IF(Athletenliste!D134=\"\",\"\",Athletenliste!D134)","v":""},{"$f":"IF(Athletenliste!E134=\"\",\"\",Athletenliste!E134)","v":""},{"$f":"IF(Athletenliste!F134=\"\",\"\",Athletenliste!F134)","v":""},{"$f":"IF(Athletenliste!G134=\"\",\"\",Athletenliste!G134)","v":""},{"$f":"IF(Athletenliste!H134=\"\",\"\",Athletenliste!H134)","v":""},null,{"$f":"IF(B134=\"\",\"\",IF(D134=\"m\",INDIRECT(VLOOKUP(G134,Bezüge!$E$6:$F$16,2,FALSE)&ROW(G134)),INDIRECT(VLOOKUP(G134,Bezüge!$B$6:$C$16,2,FALSE)&ROW(G134))))","v":""},null,null,null,"","","","","","","","","","","","","","","","","","","","","","",null,"","","","","","","","","","","","","","","","","","","","","",""]
[null,{"$f":"IF(Athletenliste!B135=\"\",\"\",Athletenliste!B135)","v":""},{"$f":"IF(Athletenliste!C135=\"\",\"\",Athletenliste!C135)","v":""},{"$f":"IF(Athletenliste!D135=\"\",\"\",Athletenliste!D135)","v":""},{"$f":"IF(Athletenliste!E135=\"\",\"\",Athletenliste!E135)","v":""},{"$f":"IF(Athletenliste!F135=\"\",\"\",Athletenliste!F135)","v":""},{"$f":"IF(Athletenliste!G135=\"\",\"\",Athletenliste!G135)","v":""},{"$f":"IF(Athletenliste!H135=\"\",\"\",Athletenliste!H135)","v":""},null,{"$f":"IF(B135=\"\",\"\",IF(D135=\"m\",INDIRECT(VLOOKUP(G135,Bezüge!$E$6:$F$16,2,FALSE)&ROW(G135)),INDIRECT(VLOOKUP(G135,Bezüge!$B$6:$C$16,2,FALSE)&ROW(G135))))","v":""},null,null,null,"","","","","","","","","","","","","","","","","","","","","","",null,"","","","","","","","","","","","","","","","","","","","","",""]
[null,{"$f":"IF(Athletenliste!B136=\"\",\"\",Athletenliste!B136)","v":""},{"$f":"IF(Athletenliste!C136=\"\",\"\",Athletenliste!C136)","v":""},{"$f":"IF(Athletenliste!D136=\"\",\"\",Athletenliste!D136)","v":""},{"$f":"IF(Athletenliste!E136=\"\",\"\",Athletenliste!E136)","v":""},{"$f":"IF(Athletenliste!F136=\"\",\"\",Athletenliste!F136)","v":""},{"$f":"IF(Athletenliste!G136=\"\",\"\",Athletenliste!G136)","v":""},{"$f":"IF(Athletenliste!H136=\"\",\"\",Athletenliste!H136)","v":""},null,{"$f":"IF(B136=\"\",\"\",IF(D136=\"m\",INDIRECT(VLOOKUP(G136,Bezüge!$E$6:$F$16,2,FALSE)&ROW(G136)),INDIRECT(VLOOKUP(G136,Bezüge!$B$6:$C$16,2,FALSE)&ROW(G136))))","v":""},null,null,null,"","","","","","","","","","","","","","","","","","","","","","",null,"","","","","","","","","","","","","","","","","","","","","",""]
[null,{"$f":"IF(Athletenliste!B137=\"\",\"\",Athletenliste!B137)","v":""},{"$f":"IF(Athletenliste!C137=\"\",\"\",Athletenliste!C137)","v":""},{"$f":"IF(Athletenliste!D137=\"\",\"\",Athletenliste!D137)","v":""},{"$f":"IF(Athletenliste!E137=\"\",\"\",Athletenliste!E137)","v":""},{"$f":"IF(Athletenliste!F137=\"\",\"\",Athletenliste!F137)","v":""},{"$f":"IF(Athletenliste!G137=\"\",\"\",Athletenliste!G137)","v":""},{"$f":"IF(Athletenliste!H137=\"\",\"\",Athletenliste!H137)","v":""},null,{"$f":"IF(B137=\"\",\"\",IF(D137=\"m\",INDIRECT(VLOOKUP(G137,Bezüge!$E$6:$F$16,2,FALSE)&ROW(G137)),INDIRECT(VLOOKUP(G137,Bezüge!$B$6:$C$16,2,FALSE)&ROW(G137))))","v":""},null,null,null,"","","","","","","","","","","","","","","","","","","","","","",null,"","","","","","","","","","","","","","","","","","","","","",""]
[null,{"$f":"IF(Athletenliste!B138=\"\",\"\",Athletenliste!B138)","v":""},{"$f":"IF(Athletenliste!C138=\"\",\"\",Athletenliste!C138)","v":""},{"$f":"IF(Athletenliste!D138=\"\",\"\",Athletenliste!D138)","v":""},{"$f":"IF(Athletenliste!E138=\"\",\"\",Athletenliste!E138)","v":""},{"$f":"IF(Athletenliste!F138=\"\",\"\",Athletenliste!F138)","v":""},{"$f":"IF(Athletenliste!G138=\"\",\"\",Athletenliste!G138)","v":""},{"$f":"IF(Athletenliste!H138=\"\",\"\",Athletenliste!H138)","v":""},null,{"$f":"IF(B138=\"\",\"\",IF(D138=\"m\",INDIRECT(VLOOKUP(G138,Bezüge!$E$6:$F$16,2,FALSE)&ROW(G138)),INDIRECT(VLOOKUP(G138,Bezüge!$B$6:$C$16,2,FALSE)&ROW(G138))))","v":""},null,null,null,"","","","","","","","","","","","","","","","","","","","","","",null,"","","","","","","","","","","","","","","","","","","","","",""]
[null,{"$f":"IF(Athletenliste!B139=\"\",\"\",Athletenliste!B139)","v":""},{"$f":"IF(Athletenliste!C139=\"\",\"\",Athletenliste!C139)","v":""},{"$f":"IF(Athletenliste!D139=\"\",\"\",Athletenliste!D139)","v":""},{"$f":"IF(Athletenliste!E139=\"\",\"\",Athletenliste!E139)","v":""},{"$f":"IF(Athletenliste!F139=\"\",\"\",Athletenliste!F139)","v":""},{"$f":"IF(Athletenliste!G139=\"\",\"\",Athletenliste!G139)","v":""},{"$f":"IF(Athletenliste!H139=\"\",\"\",Athletenliste!H139)","v":""},null,{"$f":"IF(B139=\"\",\"\",IF(D139=\"m\",INDIRECT(VLOOKUP(G139,Bezüge!$E$6:$F$16,2,FALSE)&ROW(G139)),INDIRECT(VLOOKUP(G139,Bezüge!$B$6:$C$16,2,FALSE)&ROW(G139))))","v":""},null,null,null,{"$f":"IF(AND(D139=\"m\",G139=\"U06\",I139<>\"\"),I139,\"\")","v":""},{"$f":"IF(OR(I139=\"\",N139=\"\"),\"\",_xlfn.RANK.EQ(N139,N$10:N$200,1))","v":""},{"$f":"IF(AND(D139=\"m\",G139=\"U07\",I139<>\"\"),I139,\"\")","v":""},{"$f":"IF(OR(I139=\"\",P139=\"\"),\"\",_xlfn.RANK.EQ(P139,P$10:P$200,1))","v":""},{"$f":"IF(AND(D139=\"m\",G139=\"U08\",I139<>\"\"),I139,\"\")","v":""},{"$f":"IF(OR(I139=\"\",R139=\"\"),\"\",_xlfn.RANK.EQ(R139,R$10:R$200,1))","v":""},{"$f":"IF(AND(D139=\"m\",G139=\"U09\",I139<>\"\"),I139,\"\")","v":""},{"$f":"IF(OR(I139=\"\",T139=\"\"),\"\",_xlfn.RANK.EQ(T139,T$10:T$200,1))","v":""},{"$f":"IF(AND(D139=\"m\",G139=\"U10\",I139<>\"\"),I139,\"\")","v":""},{"$f":"IF(OR(I139=\"\",V139=\"\"),\"\",_xlfn.RANK.EQ(V139,V$10:V$200,1))","v":""},{"$f":"IF(AND(D139=\"m\",G139=\"U11\",I139<>\"\"),I139,\"\")","v":""},{"$f":"IF(OR(I139=\"\",X139=\"\"),\"\",_xlfn.RANK.EQ(X139,X$10:X$200,1))","v":""},{"$f":"IF(AND(D139=\"m\",G139=\"U12\",I139<>\"\"),I139,\"\")","v":""},{"$f":"IF(OR(I139=\"\",Z139=\"\"),\"\",_xlfn.RANK.EQ(Z139,Z$10:Z$200,1))","v":""},{"$f":"IF(AND(D139=\"m\",G139=\"U13\",I139<>\"\"),I139,\"\")","v":""},{"$f":"IF(OR(I139=\"\",AB139=\"\"),\"\",_xlfn.RANK.EQ(AB139,AB$10:AB$200,1))","v":""},{"$f":"IF(AND(D139=\"m\",G139=\"U14\",I139<>\"\"),I139,\"\")","v":""},{"$f":"IF(OR(I139=\"\",AD139=\"\"),\"\",_xlfn.RANK.EQ(AD139,AD$10:AD$200,1))","v":""},{"$f":"IF(AND(D139=\"m\",G139=\"U15\",I139<>\"\"),I139,\"\")","v":""},{"$f":"IF(OR(I139=\"\",AF139=\"\"),\"\",_xlfn.RANK.EQ(AF139,AF$10:AF$200,1))","v":""},{"$f":"IF(AND(D139=\"m\",G139=\"U16\",I139<>\"\"),I139,\"\")","v":""},{"$f":"IF(OR(I139=\"\",AH139=\"\"),\"\",_xlfn.RANK.EQ(AH139,AH$10:AH$200,1))","v":""},null,{"$f":"IF(AND(D139=\"w\",G139=\"U06\",I139<>\"\"),I139,\"\")","v":""},{"$f":"IF(OR(I139=\"\",AI139=\"\"),\"\",_xlfn.RANK.EQ(AI139,AI$10:AI$200,1))","v":""},{"$f":"IF(AND(D139=\"w\",G139=\"U07\",I139<>\"\"),I139,\"\")","v":""},{"$f":"IF(OR(I139=\"\",AM139=\"\"),\"\",_xlfn.RANK.EQ(AM139,AM$10:AM$20,1))","v":""},{"$f":"IF(AND(D139=\"w\",G139=\"U08\",I139<>\"\"),I139,\"\")","v":""},{"$f":"IF(OR(I139=\"\",AO139=\"\"),\"\",_xlfn.RANK.EQ(AO139,AO$10:AO$200,0))","v":""},{"$f":"IF(AND(D139=\"w\",G139=\"U09\",I139<>\"\"),I139,\"\")","v":""},{"$f":"IF(OR(I139=\"\",AQ139=\"\"),\"\",_xlfn.RANK.EQ(AQ139,AQ$10:AQ$200,1))","v":""},{"$f":"IF(AND(D139=\"w\",G139=\"U10\",I139<>\"\"),I139,\"\")","v":""},{"$f":"IF(OR(I139=\"\",AS139=\"\"),\"\",_xlfn.RANK.EQ(AS139,AS$10:AS$200,1))","v":""},{"$f":"IF(AND(D139=\"w\",G139=\"U11\",I139<>\"\"),I139,\"\")","v":""},{"$f":"IF(OR(I139=\"\",AU139=\"\"),\"\",_xlfn.RANK.EQ(AU139,AU$10:AU$200,1))","v":""},{"$f":"IF(AND(D139=\"w\",G139=\"U12\",I139<>\"\"),I139,\"\")","v":""},{"$f":"IF(OR(I139=\"\",AW139=\"\"),\"\",_xlfn.RANK.EQ(AW139,AW$10:AW$200,1))","v":""},{"$f":"IF(AND(D139=\"w\",G139=\"U13\",I139<>\"\"),I139,\"\")","v":""},{"$f":"IF(OR(I139=\"\",AY139=\"\"),\"\",_xlfn.RANK.EQ(AY139,AY$10:AY$200,1))","v":""},{"$f":"IF(AND(D139=\"w\",G139=\"U14\",I139<>\"\"),I139,\"\")","v":""},{"$f":"IF(OR(I139=\"\",BA139=\"\"),\"\",_xlfn.RANK.EQ(BA139,BA$10:BA$200,1))","v":""},{"$f":"IF(AND(D139=\"w\",G139=\"U15\",I139<>\"\"),I139,\"\")","v":""},{"$f":"IF(OR(I139=\"\",BC139=\"\"),\"\",_xlfn.RANK.EQ(BC139,BC$10:BC$200,1))","v":""},{"$f":"IF(AND(D139=\"w\",G139=\"U16\",I139<>\"\"),I139,\"\")","v":""},{"$f":"IF(OR(I139=\"\",BE139=\"\"),\"\",_xlfn.RANK.EQ(BE139,BE$10:BE$200,1))","v":""}]
[null,{"$f":"IF(Athletenliste!B140=\"\",\"\",Athletenliste!B140)","v":""},{"$f":"IF(Athletenliste!C140=\"\",\"\",Athletenliste!C140)","v":""},{"$f":"IF(Athletenliste!D140=\"\",\"\",Athletenliste!D140)","v":""},{"$f":"IF(Athletenliste!E140=\"\",\"\",Athletenliste!E140)","v":""},{"$f":"IF(Athletenliste!F140=\"\",\"\",Athletenliste!F140)","v":""},{"$f":"IF(Athletenliste!G140=\"\",\"\",Athletenliste!G140)","v":""},{"$f":"IF(Athletenliste!H140=\"\",\"\",Athletenliste!H140)","v":""},null,{"$f":"IF(B140=\"\",\"\",IF(D140=\"m\",INDIRECT(VLOOKUP(G140,Bezüge!$E$6:$F$16,2,FALSE)&ROW(G140)),INDIRECT(VLOOKUP(G140,Bezüge!$B$6:$C$16,2,FALSE)&ROW(G140))))","v":""},null,null,null,"","","","","","","","","","","","","","","","","","","","","","",null,"","","","","","","","","","","","","","","","","","","","","",""]
[null,{"$f":"IF(Athletenliste!B141=\"\",\"\",Athletenliste!B141)","v":""},{"$f":"IF(Athletenliste!C141=\"\",\"\",Athletenliste!C141)","v":""},{"$f":"IF(Athletenliste!D141=\"\",\"\",Athletenliste!D141)","v":""},{"$f":"IF(Athletenliste!E141=\"\",\"\",Athletenliste!E141)","v":""},{"$f":"IF(Athletenliste!F141=\"\",\"\",Athletenliste!F141)","v":""},{"$f":"IF(Athletenliste!G141=\"\",\"\",Athletenliste!G141)","v":""},{"$f":"IF(Athletenliste!H141=\"\",\"\",Athletenliste!H141)","v":""},null,{"$f":"IF(B141=\"\",\"\",IF(D141=\"m\",INDIRECT(VLOOKUP(G141,Bezüge!$E$6:$F$16,2,FALSE)&ROW(G141)),INDIRECT(VLOOKUP(G141,Bezüge!$B$6:$C$16,2,FALSE)&ROW(G141))))","v":""},null,null,null,"","","","","","","","","","","","","","","","","","","","","","",null,"","","","","","","","","","","","","","","","","","","","","",""]
[null,{"$f":"IF(Athletenliste!B142=\"\",\"\",Athletenliste!B142)","v":""},{"$f":"IF(Athletenliste!C142=\"\",\"\",Athletenliste!C142)","v":""},{"$f":"IF(Athletenliste!D142=\"\",\"\",Athletenliste!D142)","v":""},{"$f":"IF(Athletenliste!E142=\"\",\"\",Athletenliste!E142)","v":""},{"$f":"IF(Athletenliste!F142=\"\",\"\",Athletenliste!F142)","v":""},{"$f":"IF(Athletenliste!G142=\"\",\"\",Athletenliste!G142)","v":""},{"$f":"IF(Athletenliste!H142=\"\",\"\",Athletenliste!H142)","v":""},null,{"$f":"IF(B142=\"\",\"\",IF(D142=\"m\",INDIRECT(VLOOKUP(G142,Bezüge!$E$6:$F$16,2,FALSE)&ROW(G142)),INDIRECT(VLOOKUP(G142,Bezüge!$B$6:$C$16,2,FALSE)&ROW(G142))))","v":""},null,null,null,"","","","","","","","","","","","","","","","","","","","","","",null,"","","","","","","","","","","","","","","","","","","","","",""]
[null,{"$f":"IF(Athletenliste!B143=\"\",\"\",Athletenliste!B143)","v":""},{"$f":"IF(Athletenliste!C143=\"\",\"\",Athletenliste!C143)","v":""},{"$f":"IF(Athletenliste!D143=\"\",\"\",Athletenliste!D143)","v":""},{"$f":"IF(Athletenliste!E143=\"\",\"\",Athletenliste!E143)","v":""},{"$f":"IF(Athletenliste!F143=\"\",\"\",Athletenliste!F143)","v":""},{"$f":"IF(Athletenliste!G143=\"\",\"\",Athletenliste!G143)","v":""},{"$f":"IF(Athletenliste!H143=\"\",\"\",Athletenliste!H143)","v":""},null,{"$f":"IF(B143=\"\",\"\",IF(D143=\"m\",INDIRECT(VLOOKUP(G143,Bezüge!$E$6:$F$16,2,FALSE)&ROW(G143)),INDIRECT(VLOOKUP(G143,Bezüge!$B$6:$C$16,2,FALSE)&ROW(G143))))","v":""},null,null,null,"","","","","","","","","","","","","","","","","","","","","","",null,"","","","","","","","","","","","","","","","","","","","","",""]
[null,{"$f":"IF(Athletenliste!B144=\"\",\"\",Athletenliste!B144)","v":""},{"$f":"IF(Athletenliste!C144=\"\",\"\",Athletenliste!C144)","v":""},{"$f":"IF(Athletenliste!D144=\"\",\"\",Athletenliste!D144)","v":""},{"$f":"IF(Athletenliste!E144=\"\",\"\",Athletenliste!E144)","v":""},{"$f":"IF(Athletenliste!F144=\"\",\"\",Athletenliste!F144)","v":""},{"$f":"IF(Athletenliste!G144=\"\",\"\",Athletenliste!G144)","v":""},{"$f":"IF(Athletenliste!H144=\"\",\"\",Athletenliste!H144)","v":""},null,{"$f":"IF(B144=\"\",\"\",IF(D144=\"m\",INDIRECT(VLOOKUP(G144,Bezüge!$E$6:$F$16,2,FALSE)&ROW(G144)),INDIRECT(VLOOKUP(G144,Bezüge!$B$6:$C$16,2,FALSE)&ROW(G144))))","v":""},null,null,null,"","","","","","","","","","","","","","","","","","","","","","",null,"","","","","","","","","","","","","","","","","","","","","",""]
[null,{"$f":"IF(Athletenliste!B145=\"\",\"\",Athletenliste!B145)","v":""},{"$f":"IF(Athletenliste!C145=\"\",\"\",Athletenliste!C145)","v":""},{"$f":"IF(Athletenliste!D145=\"\",\"\",Athletenliste!D145)","v":""},{"$f":"IF(Athletenliste!E145=\"\",\"\",Athletenliste!E145)","v":""},{"$f":"IF(Athletenliste!F145=\"\",\"\",Athletenliste!F145)","v":""},{"$f":"IF(Athletenliste!G145=\"\",\"\",Athletenliste!G145)","v":""},{"$f":"IF(Athletenliste!H145=\"\",\"\",Athletenliste!H145)","v":""},null,{"$f":"IF(B145=\"\",\"\",IF(D145=\"m\",INDIRECT(VLOOKUP(G145,Bezüge!$E$6:$F$16,2,FALSE)&ROW(G145)),INDIRECT(VLOOKUP(G145,Bezüge!$B$6:$C$16,2,FALSE)&ROW(G145))))","v":""},null,null,null,"","","","","","","","","","","","","","","","","","","","","","",null,"","","","","","","","","","","","","","","","","","","","","",""]
[null,{"$f":"IF(Athletenliste!B146=\"\",\"\",Athletenliste!B146)","v":""},{"$f":"IF(Athletenliste!C146=\"\",\"\",Athletenliste!C146)","v":""},{"$f":"IF(Athletenliste!D146=\"\",\"\",Athletenliste!D146)","v":""},{"$f":"IF(Athletenliste!E146=\"\",\"\",Athletenliste!E146)","v":""},{"$f":"IF(Athletenliste!F146=\"\",\"\",Athletenliste!F146)","v":""},{"$f":"IF(Athletenliste!G146=\"\",\"\",Athletenliste!G146)","v":""},{"$f":"IF(Athletenliste!H146=\"\",\"\",Athletenliste!H146)","v":""},null,{"$f":"IF(B146=\"\",\"\",IF(D146=\"m\",INDIRECT(VLOOKUP(G146,Bezüge!$E$6:$F$16,2,FALSE)&ROW(G146)),INDIRECT(VLOOKUP(G146,Bezüge!$B$6:$C$16,2,FALSE)&ROW(G146))))","v":""},null,null,null,"","","","","","","","","","","","","","","","","","","","","","",null,"","","","","","","","","","","","","","","","","","","","","",""]
[null,{"$f":"IF(Athletenliste!B147=\"\",\"\",Athletenliste!B147)","v":""},{"$f":"IF(Athletenliste!C147=\"\",\"\",Athletenliste!C147)","v":""},{"$f":"IF(Athletenliste!D147=\"\",\"\",Athletenliste!D147)","v":""},{"$f":"IF(Athletenliste!E147=\"\",\"\",Athletenliste!E147)","v":""},{"$f":"IF(Athletenliste!F147=\"\",\"\",Athletenliste!F147)","v":""},{"$f":"IF(Athletenliste!G147=\"\",\"\",Athletenliste!G147)","v":""},{"$f":"IF(Athletenliste!H147=\"\",\"\",Athletenliste!H147)","v":""},null,{"$f":"IF(B147=\"\",\"\",IF(D147=\"m\",INDIRECT(VLOOKUP(G147,Bezüge!$E$6:$F$16,2,FALSE)&ROW(G147)),INDIRECT(VLOOKUP(G147,Bezüge!$B$6:$C$16,2,FALSE)&ROW(G147))))","v":""},null,null,null,"","","","","","","","","","","","","","","","","","","","","","",null,"","","","","","","","","","","","","","","","","","","","","",""]
[null,{"$f":"IF(Athletenliste!B148=\"\",\"\",Athletenliste!B148)","v":""},{"$f":"IF(Athletenliste!C148=\"\",\"\",Athletenliste!C148)","v":""},{"$f":"IF(Athletenliste!D148=\"\",\"\",Athletenliste!D148)","v":""},{"$f":"IF(Athletenliste!E148=\"\",\"\",Athletenliste!E148)","v":""},{"$f":"IF(Athletenliste!F148=\"\",\"\",Athletenliste!F148)","v":""},{"$f":"IF(Athletenliste!G148=\"\",\"\",Athletenliste!G148)","v":""},{"$f":"IF(Athletenliste!H148=\"\",\"\",Athletenliste!H148)","v":""},null,{"$f":"IF(B148=\"\",\"\",IF(D148=\"m\",INDIRECT(VLOOKUP(G148,Bezüge!$E$6:$F$16,2,FALSE)&ROW(G148)),INDIRECT(VLOOKUP(G148,Bezüge!$B$6:$C$16,2,FALSE)&ROW(G148))))","v":""},null,null,null,"","","","","","","","","","","","","","","","","","","","","","",null,"","","","","","","","","","","","","","","","","","","","","",""]
[null,{"$f":"IF(Athletenliste!B149=\"\",\"\",Athletenliste!B149)","v":""},{"$f":"IF(Athletenliste!C149=\"\",\"\",Athletenliste!C149)","v":""},{"$f":"IF(Athletenliste!D149=\"\",\"\",Athletenliste!D149)","v":""},{"$f":"IF(Athletenliste!E149=\"\",\"\",Athletenliste!E149)","v":""},{"$f":"IF(Athletenliste!F149=\"\",\"\",Athletenliste!F149)","v":""},{"$f":"IF(Athletenliste!G149=\"\",\"\",Athletenliste!G149)","v":""},{"$f":"IF(Athletenliste!H149=\"\",\"\",Athletenliste!H149)","v":""},null,{"$f":"IF(B149=\"\",\"\",IF(D149=\"m\",INDIRECT(VLOOKUP(G149,Bezüge!$E$6:$F$16,2,FALSE)&ROW(G149)),INDIRECT(VLOOKUP(G149,Bezüge!$B$6:$C$16,2,FALSE)&ROW(G149))))","v":""},null,null,null,"","","","","","","","","","","","","","","","","","","","","","",null,"","","","","","","","","","","","","","","","","","","","","",""]
[null,{"$f":"IF(Athletenliste!B150=\"\",\"\",Athletenliste!B150)","v":""},{"$f":"IF(Athletenliste!C150=\"\",\"\",Athletenliste!C150)","v":""},{"$f":"IF(Athletenliste!D150=\"\",\"\",Athletenliste!D150)","v":""},{"$f":"IF(Athletenliste!E150=\"\",\"\",Athletenliste!E150)","v":""},{"$f":"IF(Athletenliste!F150=\"\",\"\",Athletenliste!F150)","v":""},{"$f":"IF(Athletenliste!G150=\"\",\"\",Athletenliste!G150)","v":""},{"$f":"IF(Athletenliste!H150=\"\",\"\",Athletenliste!H150)","v":""},null,{"$f":"IF(B150=\"\",\"\",IF(D150=\"m\",INDIRECT(VLOOKUP(G150,Bezüge!$E$6:$F$16,2,FALSE)&ROW(G150)),INDIRECT(VLOOKUP(G150,Bezüge!$B$6:$C$16,2,FALSE)&ROW(G150))))","v":""},null,null,null,"","","","","","","","","","","","","","","","","","","","","","",null,"","","","","","","","","","","","","","","","","","","","","",""]
[null,{"$f":"IF(Athletenliste!B151=\"\",\"\",Athletenliste!B151)","v":""},{"$f":"IF(Athletenliste!C151=\"\",\"\",Athletenliste!C151)","v":""},{"$f":"IF(Athletenliste!D151=\"\",\"\",Athletenliste!D151)","v":""},{"$f":"IF(Athletenliste!E151=\"\",\"\",Athletenliste!E151)","v":""},{"$f":"IF(Athletenliste!F151=\"\",\"\",Athletenliste!F151)","v":""},{"$f":"IF(Athletenliste!G151=\"\",\"\",Athletenliste!G151)","v":""},{"$f":"IF(Athletenliste!H151=\"\",\"\",Athletenliste!H151)","v":""},null,{"$f":"IF(B151=\"\",\"\",IF(D151=\"m\",INDIRECT(VLOOKUP(G151,Bezüge!$E$6:$F$16,2,FALSE)&ROW(G151)),INDIRECT(VLOOKUP(G151,Bezüge!$B$6:$C$16,2,FALSE)&ROW(G151))))","v":""},null,null,null,"","","","","","","","","","","","","","","","","","","","","","",null,"","","","","","","","","","","","","","","","","","","","","",""]
[null,{"$f":"IF(Athletenliste!B152=\"\",\"\",Athletenliste!B152)","v":""},{"$f":"IF(Athletenliste!C152=\"\",\"\",Athletenliste!C152)","v":""},{"$f":"IF(Athletenliste!D152=\"\",\"\",Athletenliste!D152)","v":""},{"$f":"IF(Athletenliste!E152=\"\",\"\",Athletenliste!E152)","v":""},{"$f":"IF(Athletenliste!F152=\"\",\"\",Athletenliste!F152)","v":""},{"$f":"IF(Athletenliste!G152=\"\",\"\",Athletenliste!G152)","v":""},{"$f":"IF(Athletenliste!H152=\"\",\"\",Athletenliste!H152)","v":""},null,{"$f":"IF(B152=\"\",\"\",IF(D152=\"m\",INDIRECT(VLOOKUP(G152,Bezüge!$E$6:$F$16,2,FALSE)&ROW(G152)),INDIRECT(VLOOKUP(G152,Bezüge!$B$6:$C$16,2,FALSE)&ROW(G152))))","v":""},null,null,null,"","","","","","","","","","","","","","","","","","","","","","",null,"","","","","","","","","","","","","","","","","","","","","",""]
[null,{"$f":"IF(Athletenliste!B153=\"\",\"\",Athletenliste!B153)","v":""},{"$f":"IF(Athletenliste!C153=\"\",\"\",Athletenliste!C153)","v":""},{"$f":"IF(Athletenliste!D153=\"\",\"\",Athletenliste!D153)","v":""},{"$f":"IF(Athletenliste!E153=\"\",\"\",Athletenliste!E153)","v":""},{"$f":"IF(Athletenliste!F153=\"\",\"\",Athletenliste!F153)","v":""},{"$f":"IF(Athletenliste!G153=\"\",\"\",Athletenliste!G153)","v":""},{"$f":"IF(Athletenliste!H153=\"\",\"\",Athletenliste!H153)","v":""},null,{"$f":"IF(B153=\"\",\"\",IF(D153=\"m\",INDIRECT(VLOOKUP(G153,Bezüge!$E$6:$F$16,2,FALSE)&ROW(G153)),INDIRECT(VLOOKUP(G153,Bezüge!$B$6:$C$16,2,FALSE)&ROW(G153))))","v":""},null,null,null,"","","","","","","","","","","","","","","","","","","","","","",null,"","","","","","","","","","","","","","","","","","","","","",""]
[null,{"$f":"IF(Athletenliste!B154=\"\",\"\",Athletenliste!B154)","v":""},{"$f":"IF(Athletenliste!C154=\"\",\"\",Athletenliste!C154)","v":""},{"$f":"IF(Athletenliste!D154=\"\",\"\",Athletenliste!D154)","v":""},{"$f":"IF(Athletenliste!E154=\"\",\"\",Athletenliste!E154)","v":""},{"$f":"IF(Athletenliste!F154=\"\",\"\",Athletenliste!F154)","v":""},{"$f":"IF(Athletenliste!G154=\"\",\"\",Athletenliste!G154)","v":""},{"$f":"IF(Athletenliste!H154=\"\",\"\",Athletenliste!H154)","v":""},null,{"$f":"IF(B154=\"\",\"\",IF(D154=\"m\",INDIRECT(VLOOKUP(G154,Bezüge!$E$6:$F$16,2,FALSE)&ROW(G154)),INDIRECT(VLOOKUP(G154,Bezüge!$B$6:$C$16,2,FALSE)&ROW(G154))))","v":""},null,null,null,"","","","","","","","","","","","","","","","","","","","","","",null,"","","","","","","","","","","","","","","","","","","","","",""]
[null,{"$f":"IF(Athletenliste!B155=\"\",\"\",Athletenliste!B155)","v":""},{"$f":"IF(Athletenliste!C155=\"\",\"\",Athletenliste!C155)","v":""},{"$f":"IF(Athletenliste!D155=\"\",\"\",Athletenliste!D155)","v":""},{"$f":"IF(Athletenliste!E155=\"\",\"\",Athletenliste!E155)","v":""},{"$f":"IF(Athletenliste!F155=\"\",\"\",Athletenliste!F155)","v":""},{"$f":"IF(Athletenliste!G155=\"\",\"\",Athletenliste!G155)","v":""},{"$f":"IF(Athletenliste!H155=\"\",\"\",Athletenliste!H155)","v":""},null,{"$f":"IF(B155=\"\",\"\",IF(D155=\"m\",INDIRECT(VLOOKUP(G155,Bezüge!$E$6:$F$16,2,FALSE)&ROW(G155)),INDIRECT(VLOOKUP(G155,Bezüge!$B$6:$C$16,2,FALSE)&ROW(G155))))","v":""},null,null,null,"","","","","","","","","","","","","","","","","","","","","","",null,"","","","","","","","","","","","","","","","","","","","","",""]
[null,{"$f":"IF(Athletenliste!B156=\"\",\"\",Athletenliste!B156)","v":""},{"$f":"IF(Athletenliste!C156=\"\",\"\",Athletenliste!C156)","v":""},{"$f":"IF(Athletenliste!D156=\"\",\"\",Athletenliste!D156)","v":""},{"$f":"IF(Athletenliste!E156=\"\",\"\",Athletenliste!E156)","v":""},{"$f":"IF(Athletenliste!F156=\"\",\"\",Athletenliste!F156)","v":""},{"$f":"IF(Athletenliste!G156=\"\",\"\",Athletenliste!G156)","v":""},{"$f":"IF(Athletenliste!H156=\"\",\"\",Athletenliste!H156)","v":""},null,{"$f":"IF(B156=\"\",\"\",IF(D156=\"m\",INDIRECT(VLOOKUP(G156,Bezüge!$E$6:$F$16,2,FALSE)&ROW(G156)),INDIRECT(VLOOKUP(G156,Bezüge!$B$6:$C$16,2,FALSE)&ROW(G156))))","v":""},null,null,null,"","","","","","","","","","","","","","","","","","","","","","",null,"","","","","","","","","","","","","","","","","","","","","",""]
[null,{"$f":"IF(Athletenliste!B157=\"\",\"\",Athletenliste!B157)","v":""},{"$f":"IF(Athletenliste!C157=\"\",\"\",Athletenliste!C157)","v":""},{"$f":"IF(Athletenliste!D157=\"\",\"\",Athletenliste!D157)","v":""},{"$f":"IF(Athletenliste!E157=\"\",\"\",Athletenliste!E157)","v":""},{"$f":"IF(Athletenliste!F157=\"\",\"\",Athletenliste!F157)","v":""},{"$f":"IF(Athletenliste!G157=\"\",\"\",Athletenliste!G157)","v":""},{"$f":"IF(Athletenliste!H157=\"\",\"\",Athletenliste!H157)","v":""},null,{"$f":"IF(B157=\"\",\"\",IF(D157=\"m\",INDIRECT(VLOOKUP(G157,Bezüge!$E$6:$F$16,2,FALSE)&ROW(G157)),INDIRECT(VLOOKUP(G157,Bezüge!$B$6:$C$16,2,FALSE)&ROW(G157))))","v":""},null,null,null,"","","","","","","","","","","","","","","","","","","","","","",null,"","","","","","","","","","","","","","","","","","","","","",""]
[null,{"$f":"IF(Athletenliste!B158=\"\",\"\",Athletenliste!B158)","v":""},{"$f":"IF(Athletenliste!C158=\"\",\"\",Athletenliste!C158)","v":""},{"$f":"IF(Athletenliste!D158=\"\",\"\",Athletenliste!D158)","v":""},{"$f":"IF(Athletenliste!E158=\"\",\"\",Athletenliste!E158)","v":""},{"$f":"IF(Athletenliste!F158=\"\",\"\",Athletenliste!F158)","v":""},{"$f":"IF(Athletenliste!G158=\"\",\"\",Athletenliste!G158)","v":""},{"$f":"IF(Athletenliste!H158=\"\",\"\",Athletenliste!H158)","v":""},null,{"$f":"IF(B158=\"\",\"\",IF(D158=\"m\",INDIRECT(VLOOKUP(G158,Bezüge!$E$6:$F$16,2,FALSE)&ROW(G158)),INDIRECT(VLOOKUP(G158,Bezüge!$B$6:$C$16,2,FALSE)&ROW(G158))))","v":""},null,null,null,"","","","","","","","","","","","","","","","","","","","","","",null,"","","","","","","","","","","","","","","","","","","","","",""]
[null,{"$f":"IF(Athletenliste!B159=\"\",\"\",Athletenliste!B159)","v":""},{"$f":"IF(Athletenliste!C159=\"\",\"\",Athletenliste!C159)","v":""},{"$f":"IF(Athletenliste!D159=\"\",\"\",Athletenliste!D159)","v":""},{"$f":"IF(Athletenliste!E159=\"\",\"\",Athletenliste!E159)","v":""},{"$f":"IF(Athletenliste!F159=\"\",\"\",Athletenliste!F159)","v":""},{"$f":"IF(Athletenliste!G159=\"\",\"\",Athletenliste!G159)","v":""},{"$f":"IF(Athletenliste!H159=\"\",\"\",Athletenliste!H159)","v":""},null,{"$f":"IF(B159=\"\",\"\",IF(D159=\"m\",INDIRECT(VLOOKUP(G159,Bezüge!$E$6:$F$16,2,FALSE)&ROW(G159)),INDIRECT(VLOOKUP(G159,Bezüge!$B$6:$C$16,2,FALSE)&ROW(G159))))","v":""},null,null,null,"","","","","","","","","","","","","","","","","","","","","","",null,"","","","","","","","","","","","","","","","","","","","","",""]
[null,{"$f":"IF(Athletenliste!B160=\"\",\"\",Athletenliste!B160)","v":""},{"$f":"IF(Athletenliste!C160=\"\",\"\",Athletenliste!C160)","v":""},{"$f":"IF(Athletenliste!D160=\"\",\"\",Athletenliste!D160)","v":""},{"$f":"IF(Athletenliste!E160=\"\",\"\",Athletenliste!E160)","v":""},{"$f":"IF(Athletenliste!F160=\"\",\"\",Athletenliste!F160)","v":""},{"$f":"IF(Athletenliste!G160=\"\",\"\",Athletenliste!G160)","v":""},{"$f":"IF(Athletenliste!H160=\"\",\"\",Athletenliste!H160)","v":""},null,{"$f":"IF(B160=\"\",\"\",IF(D160=\"m\",INDIRECT(VLOOKUP(G160,Bezüge!$E$6:$F$16,2,FALSE)&ROW(G160)),INDIRECT(VLOOKUP(G160,Bezüge!$B$6:$C$16,2,FALSE)&ROW(G160))))","v":""},null,null,null,"","","","","","","","","","","","","","","","","","","","","","",null,"","","","","","","","","","","","","","","","","","","","","",""]
[null,{"$f":"IF(Athletenliste!B161=\"\",\"\",Athletenliste!B161)","v":""},{"$f":"IF(Athletenliste!C161=\"\",\"\",Athletenliste!C161)","v":""},{"$f":"IF(Athletenliste!D161=\"\",\"\",Athletenliste!D161)","v":""},{"$f":"IF(Athletenliste!E161=\"\",\"\",Athletenliste!E161)","v":""},{"$f":"IF(Athletenliste!F161=\"\",\"\",Athletenliste!F161)","v":""},{"$f":"IF(Athletenliste!G161=\"\",\"\",Athletenliste!G161)","v":""},{"$f":"IF(Athletenliste!H161=\"\",\"\",Athletenliste!H161)","v":""},null,{"$f":"IF(B161=\"\",\"\",IF(D161=\"m\",INDIRECT(VLOOKUP(G161,Bezüge!$E$6:$F$16,2,FALSE)&ROW(G161)),INDIRECT(VLOOKUP(G161,Bezüge!$B$6:$C$16,2,FALSE)&ROW(G161))))","v":""},null,null,null,"","","","","","","","","","","","","","","","","","","","","","",null,"","","","","","","","","","","","","","","","","","","","","",""]
[null,{"$f":"IF(Athletenliste!B162=\"\",\"\",Athletenliste!B162)","v":""},{"$f":"IF(Athletenliste!C162=\"\",\"\",Athletenliste!C162)","v":""},{"$f":"IF(Athletenliste!D162=\"\",\"\",Athletenliste!D162)","v":""},{"$f":"IF(Athletenliste!E162=\"\",\"\",Athletenliste!E162)","v":""},{"$f":"IF(Athletenliste!F162=\"\",\"\",Athletenliste!F162)","v":""},{"$f":"IF(Athletenliste!G162=\"\",\"\",Athletenliste!G162)","v":""},{"$f":"IF(Athletenliste!H162=\"\",\"\",Athletenliste!H162)","v":""},null,{"$f":"IF(B162=\"\",\"\",IF(D162=\"m\",INDIRECT(VLOOKUP(G162,Bezüge!$E$6:$F$16,2,FALSE)&ROW(G162)),INDIRECT(VLOOKUP(G162,Bezüge!$B$6:$C$16,2,FALSE)&ROW(G162))))","v":""},null,null,null,"","","","","","","","","","","","","","","","","","","","","","",null,"","","","","","","","","","","","","","","","","","","","","",""]
[null,{"$f":"IF(Athletenliste!B163=\"\",\"\",Athletenliste!B163)","v":""},{"$f":"IF(Athletenliste!C163=\"\",\"\",Athletenliste!C163)","v":""},{"$f":"IF(Athletenliste!D163=\"\",\"\",Athletenliste!D163)","v":""},{"$f":"IF(Athletenliste!E163=\"\",\"\",Athletenliste!E163)","v":""},{"$f":"IF(Athletenliste!F163=\"\",\"\",Athletenliste!F163)","v":""},{"$f":"IF(Athletenliste!G163=\"\",\"\",Athletenliste!G163)","v":""},{"$f":"IF(Athletenliste!H163=\"\",\"\",Athletenliste!H163)","v":""},null,{"$f":"IF(B163=\"\",\"\",IF(D163=\"m\",INDIRECT(VLOOKUP(G163,Bezüge!$E$6:$F$16,2,FALSE)&ROW(G163)),INDIRECT(VLOOKUP(G163,Bezüge!$B$6:$C$16,2,FALSE)&ROW(G163))))","v":""},null,null,null,"","","","","","","","","","","","","","","","","","","","","","",null,"","","","","","","","","","","","","","","","","","","","","",""]
[null,{"$f":"IF(Athletenliste!B164=\"\",\"\",Athletenliste!B164)","v":""},{"$f":"IF(Athletenliste!C164=\"\",\"\",Athletenliste!C164)","v":""},{"$f":"IF(Athletenliste!D164=\"\",\"\",Athletenliste!D164)","v":""},{"$f":"IF(Athletenliste!E164=\"\",\"\",Athletenliste!E164)","v":""},{"$f":"IF(Athletenliste!F164=\"\",\"\",Athletenliste!F164)","v":""},{"$f":"IF(Athletenliste!G164=\"\",\"\",Athletenliste!G164)","v":""},{"$f":"IF(Athletenliste!H164=\"\",\"\",Athletenliste!H164)","v":""},null,{"$f":"IF(B164=\"\",\"\",IF(D164=\"m\",INDIRECT(VLOOKUP(G164,Bezüge!$E$6:$F$16,2,FALSE)&ROW(G164)),INDIRECT(VLOOKUP(G164,Bezüge!$B$6:$C$16,2,FALSE)&ROW(G164))))","v":""},null,null,null,"","","","","","","","","","","","","","","","","","","","","","",null,"","","","","","","","","","","","","","","","","","","","","",""]
[null,{"$f":"IF(Athletenliste!B165=\"\",\"\",Athletenliste!B165)","v":""},{"$f":"IF(Athletenliste!C165=\"\",\"\",Athletenliste!C165)","v":""},{"$f":"IF(Athletenliste!D165=\"\",\"\",Athletenliste!D165)","v":""},{"$f":"IF(Athletenliste!E165=\"\",\"\",Athletenliste!E165)","v":""},{"$f":"IF(Athletenliste!F165=\"\",\"\",Athletenliste!F165)","v":""},{"$f":"IF(Athletenliste!G165=\"\",\"\",Athletenliste!G165)","v":""},{"$f":"IF(Athletenliste!H165=\"\",\"\",Athletenliste!H165)","v":""},null,{"$f":"IF(B165=\"\",\"\",IF(D165=\"m\",INDIRECT(VLOOKUP(G165,Bezüge!$E$6:$F$16,2,FALSE)&ROW(G165)),INDIRECT(VLOOKUP(G165,Bezüge!$B$6:$C$16,2,FALSE)&ROW(G165))))","v":""},null,null,null,"","","","","","","","","","","","","","","","","","","","","","",null,"","","","","","","","","","","","","","","","","","","","","",""]
[null,{"$f":"IF(Athletenliste!B166=\"\",\"\",Athletenliste!B166)","v":""},{"$f":"IF(Athletenliste!C166=\"\",\"\",Athletenliste!C166)","v":""},{"$f":"IF(Athletenliste!D166=\"\",\"\",Athletenliste!D166)","v":""},{"$f":"IF(Athletenliste!E166=\"\",\"\",Athletenliste!E166)","v":""},{"$f":"IF(Athletenliste!F166=\"\",\"\",Athletenliste!F166)","v":""},{"$f":"IF(Athletenliste!G166=\"\",\"\",Athletenliste!G166)","v":""},{"$f":"IF(Athletenliste!H166=\"\",\"\",Athletenliste!H166)","v":""},null,{"$f":"IF(B166=\"\",\"\",IF(D166=\"m\",INDIRECT(VLOOKUP(G166,Bezüge!$E$6:$F$16,2,FALSE)&ROW(G166)),INDIRECT(VLOOKUP(G166,Bezüge!$B$6:$C$16,2,FALSE)&ROW(G166))))","v":""},null,null,null,"","","","","","","","","","","","","","","","","","","","","","",null,"","","","","","","","","","","","","","","","","","","","","",""]
[null,{"$f":"IF(Athletenliste!B167=\"\",\"\",Athletenliste!B167)","v":""},{"$f":"IF(Athletenliste!C167=\"\",\"\",Athletenliste!C167)","v":""},{"$f":"IF(Athletenliste!D167=\"\",\"\",Athletenliste!D167)","v":""},{"$f":"IF(Athletenliste!E167=\"\",\"\",Athletenliste!E167)","v":""},{"$f":"IF(Athletenliste!F167=\"\",\"\",Athletenliste!F167)","v":""},{"$f":"IF(Athletenliste!G167=\"\",\"\",Athletenliste!G167)","v":""},{"$f":"IF(Athletenliste!H167=\"\",\"\",Athletenliste!H167)","v":""},null,{"$f":"IF(B167=\"\",\"\",IF(D167=\"m\",INDIRECT(VLOOKUP(G167,Bezüge!$E$6:$F$16,2,FALSE)&ROW(G167)),INDIRECT(VLOOKUP(G167,Bezüge!$B$6:$C$16,2,FALSE)&ROW(G167))))","v":""},null,null,null,"","","","","","","","","","","","","","","","","","","","","","",null,"","","","","","","","","","","","","","","","","","","","","",""]
[null,{"$f":"IF(Athletenliste!B168=\"\",\"\",Athletenliste!B168)","v":""},{"$f":"IF(Athletenliste!C168=\"\",\"\",Athletenliste!C168)","v":""},{"$f":"IF(Athletenliste!D168=\"\",\"\",Athletenliste!D168)","v":""},{"$f":"IF(Athletenliste!E168=\"\",\"\",Athletenliste!E168)","v":""},{"$f":"IF(Athletenliste!F168=\"\",\"\",Athletenliste!F168)","v":""},{"$f":"IF(Athletenliste!G168=\"\",\"\",Athletenliste!G168)","v":""},{"$f":"IF(Athletenliste!H168=\"\",\"\",Athletenliste!H168)","v":""},null,{"$f":"IF(B168=\"\",\"\",IF(D168=\"m\",INDIRECT(VLOOKUP(G168,Bezüge!$E$6:$F$16,2,FALSE)&ROW(G168)),INDIRECT(VLOOKUP(G168,Bezüge!$B$6:$C$16,2,FALSE)&ROW(G168))))","v":""},null,null,null,"","","","","","","","","","","","","","","","","","","","","","",null,"","","","","","","","","","","","","","","","","","","","","",""]
[null,{"$f":"IF(Athletenliste!B169=\"\",\"\",Athletenliste!B169)","v":""},{"$f":"IF(Athletenliste!C169=\"\",\"\",Athletenliste!C169)","v":""},{"$f":"IF(Athletenliste!D169=\"\",\"\",Athletenliste!D169)","v":""},{"$f":"IF(Athletenliste!E169=\"\",\"\",Athletenliste!E169)","v":""},{"$f":"IF(Athletenliste!F169=\"\",\"\",Athletenliste!F169)","v":""},{"$f":"IF(Athletenliste!G169=\"\",\"\",Athletenliste!G169)","v":""},{"$f":"IF(Athletenliste!H169=\"\",\"\",Athletenliste!H169)","v":""},null,{"$f":"IF(B169=\"\",\"\",IF(D169=\"m\",INDIRECT(VLOOKUP(G169,Bezüge!$E$6:$F$16,2,FALSE)&ROW(G169)),INDIRECT(VLOOKUP(G169,Bezüge!$B$6:$C$16,2,FALSE)&ROW(G169))))","v":""},null,null,null,"","","","","","","","","","","","","","","","","","","","","","",null,"","","","","","","","","","","","","","","","","","","","","",""]
[null,{"$f":"IF(Athletenliste!B170=\"\",\"\",Athletenliste!B170)","v":""},{"$f":"IF(Athletenliste!C170=\"\",\"\",Athletenliste!C170)","v":""},{"$f":"IF(Athletenliste!D170=\"\",\"\",Athletenliste!D170)","v":""},{"$f":"IF(Athletenliste!E170=\"\",\"\",Athletenliste!E170)","v":""},{"$f":"IF(Athletenliste!F170=\"\",\"\",Athletenliste!F170)","v":""},{"$f":"IF(Athletenliste!G170=\"\",\"\",Athletenliste!G170)","v":""},{"$f":"IF(Athletenliste!H170=\"\",\"\",Athletenliste!H170)","v":""},null,{"$f":"IF(B170=\"\",\"\",IF(D170=\"m\",INDIRECT(VLOOKUP(G170,Bezüge!$E$6:$F$16,2,FALSE)&ROW(G170)),INDIRECT(VLOOKUP(G170,Bezüge!$B$6:$C$16,2,FALSE)&ROW(G170))))","v":""},null,null,null,"","","","","","","","","","","","","","","","","","","","","","",null,"","","","","","","","","","","","","","","","","","","","","",""]
[null,{"$f":"IF(Athletenliste!B171=\"\",\"\",Athletenliste!B171)","v":""},{"$f":"IF(Athletenliste!C171=\"\",\"\",Athletenliste!C171)","v":""},{"$f":"IF(Athletenliste!D171=\"\",\"\",Athletenliste!D171)","v":""},{"$f":"IF(Athletenliste!E171=\"\",\"\",Athletenliste!E171)","v":""},{"$f":"IF(Athletenliste!F171=\"\",\"\",Athletenliste!F171)","v":""},{"$f":"IF(Athletenliste!G171=\"\",\"\",Athletenliste!G171)","v":""},{"$f":"IF(Athletenliste!H171=\"\",\"\",Athletenliste!H171)","v":""},null,{"$f":"IF(B171=\"\",\"\",IF(D171=\"m\",INDIRECT(VLOOKUP(G171,Bezüge!$E$6:$F$16,2,FALSE)&ROW(G171)),INDIRECT(VLOOKUP(G171,Bezüge!$B$6:$C$16,2,FALSE)&ROW(G171))))","v":""},null,null,null,"","","","","","","","","","","","","","","","","","","","","","",null,"","","","","","","","","","","","","","","","","","","","","",""]
[null,{"$f":"IF(Athletenliste!B172=\"\",\"\",Athletenliste!B172)","v":""},{"$f":"IF(Athletenliste!C172=\"\",\"\",Athletenliste!C172)","v":""},{"$f":"IF(Athletenliste!D172=\"\",\"\",Athletenliste!D172)","v":""},{"$f":"IF(Athletenliste!E172=\"\",\"\",Athletenliste!E172)","v":""},{"$f":"IF(Athletenliste!F172=\"\",\"\",Athletenliste!F172)","v":""},{"$f":"IF(Athletenliste!G172=\"\",\"\",Athletenliste!G172)","v":""},{"$f":"IF(Athletenliste!H172=\"\",\"\",Athletenliste!H172)","v":""},null,{"$f":"IF(B172=\"\",\"\",IF(D172=\"m\",INDIRECT(VLOOKUP(G172,Bezüge!$E$6:$F$16,2,FALSE)&ROW(G172)),INDIRECT(VLOOKUP(G172,Bezüge!$B$6:$C$16,2,FALSE)&ROW(G172))))","v":""},null,null,null,"","","","","","","","","","","","","","","","","","","","","","",null,"","","","","","","","","","","","","","","","","","","","","",""]
[null,{"$f":"IF(Athletenliste!B173=\"\",\"\",Athletenliste!B173)","v":""},{"$f":"IF(Athletenliste!C173=\"\",\"\",Athletenliste!C173)","v":""},{"$f":"IF(Athletenliste!D173=\"\",\"\",Athletenliste!D173)","v":""},{"$f":"IF(Athletenliste!E173=\"\",\"\",Athletenliste!E173)","v":""},{"$f":"IF(Athletenliste!F173=\"\",\"\",Athletenliste!F173)","v":""},{"$f":"IF(Athletenliste!G173=\"\",\"\",Athletenliste!G173)","v":""},{"$f":"IF(Athletenliste!H173=\"\",\"\",Athletenliste!H173)","v":""},null,{"$f":"IF(B173=\"\",\"\",IF(D173=\"m\",INDIRECT(VLOOKUP(G173,Bezüge!$E$6:$F$16,2,FALSE)&ROW(G173)),INDIRECT(VLOOKUP(G173,Bezüge!$B$6:$C$16,2,FALSE)&ROW(G173))))","v":""},null,null,null,"","","","","","","","","","","","","","","","","","","","","","",null,"","","","","","","","","","","","","","","","","","","","","",""]
[null,{"$f":"IF(Athletenliste!B174=\"\",\"\",Athletenliste!B174)","v":""},{"$f":"IF(Athletenliste!C174=\"\",\"\",Athletenliste!C174)","v":""},{"$f":"IF(Athletenliste!D174=\"\",\"\",Athletenliste!D174)","v":""},{"$f":"IF(Athletenliste!E174=\"\",\"\",Athletenliste!E174)","v":""},{"$f":"IF(Athletenliste!F174=\"\",\"\",Athletenliste!F174)","v":""},{"$f":"IF(Athletenliste!G174=\"\",\"\",Athletenliste!G174)","v":""},{"$f":"IF(Athletenliste!H174=\"\",\"\",Athletenliste!H174)","v":""},null,{"$f":"IF(B174=\"\",\"\",IF(D174=\"m\",INDIRECT(VLOOKUP(G174,Bezüge!$E$6:$F$16,2,FALSE)&ROW(G174)),INDIRECT(VLOOKUP(G174,Bezüge!$B$6:$C$16,2,FALSE)&ROW(G174))))","v":""},null,null,null,"","","","","","","","","","","","","","","","","","","","","","",null,"","","","","","","","","","","","","","","","","","","","","",""]
[null,{"$f":"IF(Athletenliste!B175=\"\",\"\",Athletenliste!B175)","v":""},{"$f":"IF(Athletenliste!C175=\"\",\"\",Athletenliste!C175)","v":""},{"$f":"IF(Athletenliste!D175=\"\",\"\",Athletenliste!D175)","v":""},{"$f":"IF(Athletenliste!E175=\"\",\"\",Athletenliste!E175)","v":""},{"$f":"IF(Athletenliste!F175=\"\",\"\",Athletenliste!F175)","v":""},{"$f":"IF(Athletenliste!G175=\"\",\"\",Athletenliste!G175)","v":""},{"$f":"IF(Athletenliste!H175=\"\",\"\",Athletenliste!H175)","v":""},null,{"$f":"IF(B175=\"\",\"\",IF(D175=\"m\",INDIRECT(VLOOKUP(G175,Bezüge!$E$6:$F$16,2,FALSE)&ROW(G175)),INDIRECT(VLOOKUP(G175,Bezüge!$B$6:$C$16,2,FALSE)&ROW(G175))))","v":""},null,null,null,"","","","","","","","","","","","","","","","","","","","","","",null,"","","","","","","","","","","","","","","","","","","","","",""]
[null,{"$f":"IF(Athletenliste!B176=\"\",\"\",Athletenliste!B176)","v":""},{"$f":"IF(Athletenliste!C176=\"\",\"\",Athletenliste!C176)","v":""},{"$f":"IF(Athletenliste!D176=\"\",\"\",Athletenliste!D176)","v":""},{"$f":"IF(Athletenliste!E176=\"\",\"\",Athletenliste!E176)","v":""},{"$f":"IF(Athletenliste!F176=\"\",\"\",Athletenliste!F176)","v":""},{"$f":"IF(Athletenliste!G176=\"\",\"\",Athletenliste!G176)","v":""},{"$f":"IF(Athletenliste!H176=\"\",\"\",Athletenliste!H176)","v":""},null,{"$f":"IF(B176=\"\",\"\",IF(D176=\"m\",INDIRECT(VLOOKUP(G176,Bezüge!$E$6:$F$16,2,FALSE)&ROW(G176)),INDIRECT(VLOOKUP(G176,Bezüge!$B$6:$C$16,2,FALSE)&ROW(G176))))","v":""},null,null,null,"","","","","","","","","","","","","","","","","","","","","","",null,"","","","","","","","","","","","","","","","","","","","","",""]
[null,{"$f":"IF(Athletenliste!B177=\"\",\"\",Athletenliste!B177)","v":""},{"$f":"IF(Athletenliste!C177=\"\",\"\",Athletenliste!C177)","v":""},{"$f":"IF(Athletenliste!D177=\"\",\"\",Athletenliste!D177)","v":""},{"$f":"IF(Athletenliste!E177=\"\",\"\",Athletenliste!E177)","v":""},{"$f":"IF(Athletenliste!F177=\"\",\"\",Athletenliste!F177)","v":""},{"$f":"IF(Athletenliste!G177=\"\",\"\",Athletenliste!G177)","v":""},{"$f":"IF(Athletenliste!H177=\"\",\"\",Athletenliste!H177)","v":""},null,{"$f":"IF(B177=\"\",\"\",IF(D177=\"m\",INDIRECT(VLOOKUP(G177,Bezüge!$E$6:$F$16,2,FALSE)&ROW(G177)),INDIRECT(VLOOKUP(G177,Bezüge!$B$6:$C$16,2,FALSE)&ROW(G177))))","v":""},null,null,null,"","","","","","","","","","","","","","","","","","","","","","",null,"","","","","","","","","","","","","","","","","","","","","",""]
[null,{"$f":"IF(Athletenliste!B178=\"\",\"\",Athletenliste!B178)","v":""},{"$f":"IF(Athletenliste!C178=\"\",\"\",Athletenliste!C178)","v":""},{"$f":"IF(Athletenliste!D178=\"\",\"\",Athletenliste!D178)","v":""},{"$f":"IF(Athletenliste!E178=\"\",\"\",Athletenliste!E178)","v":""},{"$f":"IF(Athletenliste!F178=\"\",\"\",Athletenliste!F178)","v":""},{"$f":"IF(Athletenliste!G178=\"\",\"\",Athletenliste!G178)","v":""},{"$f":"IF(Athletenliste!H178=\"\",\"\",Athletenliste!H178)","v":""},null,{"$f":"IF(B178=\"\",\"\",IF(D178=\"m\",INDIRECT(VLOOKUP(G178,Bezüge!$E$6:$F$16,2,FALSE)&ROW(G178)),INDIRECT(VLOOKUP(G178,Bezüge!$B$6:$C$16,2,FALSE)&ROW(G178))))","v":""},null,null,null,"","","","","","","","","","","","","","","","","","","","","","",null,"","","","","","","","","","","","","","","","","","","","","",""]
[null,{"$f":"IF(Athletenliste!B179=\"\",\"\",Athletenliste!B179)","v":""},{"$f":"IF(Athletenliste!C179=\"\",\"\",Athletenliste!C179)","v":""},{"$f":"IF(Athletenliste!D179=\"\",\"\",Athletenliste!D179)","v":""},{"$f":"IF(Athletenliste!E179=\"\",\"\",Athletenliste!E179)","v":""},{"$f":"IF(Athletenliste!F179=\"\",\"\",Athletenliste!F179)","v":""},{"$f":"IF(Athletenliste!G179=\"\",\"\",Athletenliste!G179)","v":""},{"$f":"IF(Athletenliste!H179=\"\",\"\",Athletenliste!H179)","v":""},null,{"$f":"IF(B179=\"\",\"\",IF(D179=\"m\",INDIRECT(VLOOKUP(G179,Bezüge!$E$6:$F$16,2,FALSE)&ROW(G179)),INDIRECT(VLOOKUP(G179,Bezüge!$B$6:$C$16,2,FALSE)&ROW(G179))))","v":""},null,null,null,"","","","","","","","","","","","","","","","","","","","","","",null,"","","","","","","","","","","","","","","","","","","","","",""]
[null,{"$f":"IF(Athletenliste!B180=\"\",\"\",Athletenliste!B180)","v":""},{"$f":"IF(Athletenliste!C180=\"\",\"\",Athletenliste!C180)","v":""},{"$f":"IF(Athletenliste!D180=\"\",\"\",Athletenliste!D180)","v":""},{"$f":"IF(Athletenliste!E180=\"\",\"\",Athletenliste!E180)","v":""},{"$f":"IF(Athletenliste!F180=\"\",\"\",Athletenliste!F180)","v":""},{"$f":"IF(Athletenliste!G180=\"\",\"\",Athletenliste!G180)","v":""},{"$f":"IF(Athletenliste!H180=\"\",\"\",Athletenliste!H180)","v":""},null,{"$f":"IF(B180=\"\",\"\",IF(D180=\"m\",INDIRECT(VLOOKUP(G180,Bezüge!$E$6:$F$16,2,FALSE)&ROW(G180)),INDIRECT(VLOOKUP(G180,Bezüge!$B$6:$C$16,2,FALSE)&ROW(G180))))","v":""},null,null,null,"","","","","","","","","","","","","","","","","","","","","","",null,"","","","","","","","","","","","","","","","","","","","","",""]
[null,{"$f":"IF(Athletenliste!B181=\"\",\"\",Athletenliste!B181)","v":""},{"$f":"IF(Athletenliste!C181=\"\",\"\",Athletenliste!C181)","v":""},{"$f":"IF(Athletenliste!D181=\"\",\"\",Athletenliste!D181)","v":""},{"$f":"IF(Athletenliste!E181=\"\",\"\",Athletenliste!E181)","v":""},{"$f":"IF(Athletenliste!F181=\"\",\"\",Athletenliste!F181)","v":""},{"$f":"IF(Athletenliste!G181=\"\",\"\",Athletenliste!G181)","v":""},{"$f":"IF(Athletenliste!H181=\"\",\"\",Athletenliste!H181)","v":""},null,{"$f":"IF(B181=\"\",\"\",IF(D181=\"m\",INDIRECT(VLOOKUP(G181,Bezüge!$E$6:$F$16,2,FALSE)&ROW(G181)),INDIRECT(VLOOKUP(G181,Bezüge!$B$6:$C$16,2,FALSE)&ROW(G181))))","v":""},null,null,null,"","","","","","","","","","","","","","","","","","","","","","",null,"","","","","","","","","","","","","","","","","","","","","",""]
[null,{"$f":"IF(Athletenliste!B182=\"\",\"\",Athletenliste!B182)","v":""},{"$f":"IF(Athletenliste!C182=\"\",\"\",Athletenliste!C182)","v":""},{"$f":"IF(Athletenliste!D182=\"\",\"\",Athletenliste!D182)","v":""},{"$f":"IF(Athletenliste!E182=\"\",\"\",Athletenliste!E182)","v":""},{"$f":"IF(Athletenliste!F182=\"\",\"\",Athletenliste!F182)","v":""},{"$f":"IF(Athletenliste!G182=\"\",\"\",Athletenliste!G182)","v":""},{"$f":"IF(Athletenliste!H182=\"\",\"\",Athletenliste!H182)","v":""},null,{"$f":"IF(B182=\"\",\"\",IF(D182=\"m\",INDIRECT(VLOOKUP(G182,Bezüge!$E$6:$F$16,2,FALSE)&ROW(G182)),INDIRECT(VLOOKUP(G182,Bezüge!$B$6:$C$16,2,FALSE)&ROW(G182))))","v":""},null,null,null,"","","","","","","","","","","","","","","","","","","","","","",null,"","","","","","","","","","","","","","","","","","","","","",""]
[null,{"$f":"IF(Athletenliste!B183=\"\",\"\",Athletenliste!B183)","v":""},{"$f":"IF(Athletenliste!C183=\"\",\"\",Athletenliste!C183)","v":""},{"$f":"IF(Athletenliste!D183=\"\",\"\",Athletenliste!D183)","v":""},{"$f":"IF(Athletenliste!E183=\"\",\"\",Athletenliste!E183)","v":""},{"$f":"IF(Athletenliste!F183=\"\",\"\",Athletenliste!F183)","v":""},{"$f":"IF(Athletenliste!G183=\"\",\"\",Athletenliste!G183)","v":""},{"$f":"IF(Athletenliste!H183=\"\",\"\",Athletenliste!H183)","v":""},null,{"$f":"IF(B183=\"\",\"\",IF(D183=\"m\",INDIRECT(VLOOKUP(G183,Bezüge!$E$6:$F$16,2,FALSE)&ROW(G183)),INDIRECT(VLOOKUP(G183,Bezüge!$B$6:$C$16,2,FALSE)&ROW(G183))))","v":""},null,null,null,"","","","","","","","","","","","","","","","","","","","","","",null,"","","","","","","","","","","","","","","","","","","","","",""]
[null,{"$f":"IF(Athletenliste!B184=\"\",\"\",Athletenliste!B184)","v":""},{"$f":"IF(Athletenliste!C184=\"\",\"\",Athletenliste!C184)","v":""},{"$f":"IF(Athletenliste!D184=\"\",\"\",Athletenliste!D184)","v":""},{"$f":"IF(Athletenliste!E184=\"\",\"\",Athletenliste!E184)","v":""},{"$f":"IF(Athletenliste!F184=\"\",\"\",Athletenliste!F184)","v":""},{"$f":"IF(Athletenliste!G184=\"\",\"\",Athletenliste!G184)","v":""},{"$f":"IF(Athletenliste!H184=\"\",\"\",Athletenliste!H184)","v":""},null,{"$f":"IF(B184=\"\",\"\",IF(D184=\"m\",INDIRECT(VLOOKUP(G184,Bezüge!$E$6:$F$16,2,FALSE)&ROW(G184)),INDIRECT(VLOOKUP(G184,Bezüge!$B$6:$C$16,2,FALSE)&ROW(G184))))","v":""},null,null,null,"","","","","","","","","","","","","","","","","","","","","","",null,"","","","","","","","","","","","","","","","","","","","","",""]
[null,{"$f":"IF(Athletenliste!B185=\"\",\"\",Athletenliste!B185)","v":""},{"$f":"IF(Athletenliste!C185=\"\",\"\",Athletenliste!C185)","v":""},{"$f":"IF(Athletenliste!D185=\"\",\"\",Athletenliste!D185)","v":""},{"$f":"IF(Athletenliste!E185=\"\",\"\",Athletenliste!E185)","v":""},{"$f":"IF(Athletenliste!F185=\"\",\"\",Athletenliste!F185)","v":""},{"$f":"IF(Athletenliste!G185=\"\",\"\",Athletenliste!G185)","v":""},{"$f":"IF(Athletenliste!H185=\"\",\"\",Athletenliste!H185)","v":""},null,{"$f":"IF(B185=\"\",\"\",IF(D185=\"m\",INDIRECT(VLOOKUP(G185,Bezüge!$E$6:$F$16,2,FALSE)&ROW(G185)),INDIRECT(VLOOKUP(G185,Bezüge!$B$6:$C$16,2,FALSE)&ROW(G185))))","v":""},null,null,null,"","","","","","","","","","","","","","","","","","","","","","",null,"","","","","","","","","","","","","","","","","","","","","",""]
[null,{"$f":"IF(Athletenliste!B186=\"\",\"\",Athletenliste!B186)","v":""},{"$f":"IF(Athletenliste!C186=\"\",\"\",Athletenliste!C186)","v":""},{"$f":"IF(Athletenliste!D186=\"\",\"\",Athletenliste!D186)","v":""},{"$f":"IF(Athletenliste!E186=\"\",\"\",Athletenliste!E186)","v":""},{"$f":"IF(Athletenliste!F186=\"\",\"\",Athletenliste!F186)","v":""},{"$f":"IF(Athletenliste!G186=\"\",\"\",Athletenliste!G186)","v":""},{"$f":"IF(Athletenliste!H186=\"\",\"\",Athletenliste!H186)","v":""},null,{"$f":"IF(B186=\"\",\"\",IF(D186=\"m\",INDIRECT(VLOOKUP(G186,Bezüge!$E$6:$F$16,2,FALSE)&ROW(G186)),INDIRECT(VLOOKUP(G186,Bezüge!$B$6:$C$16,2,FALSE)&ROW(G186))))","v":""},null,null,null,"","","","","","","","","","","","","","","","","","","","","","",null,"","","","","","","","","","","","","","","","","","","","","",""]
[null,{"$f":"IF(Athletenliste!B187=\"\",\"\",Athletenliste!B187)","v":""},{"$f":"IF(Athletenliste!C187=\"\",\"\",Athletenliste!C187)","v":""},{"$f":"IF(Athletenliste!D187=\"\",\"\",Athletenliste!D187)","v":""},{"$f":"IF(Athletenliste!E187=\"\",\"\",Athletenliste!E187)","v":""},{"$f":"IF(Athletenliste!F187=\"\",\"\",Athletenliste!F187)","v":""},{"$f":"IF(Athletenliste!G187=\"\",\"\",Athletenliste!G187)","v":""},{"$f":"IF(Athletenliste!H187=\"\",\"\",Athletenliste!H187)","v":""},null,{"$f":"IF(B187=\"\",\"\",IF(D187=\"m\",INDIRECT(VLOOKUP(G187,Bezüge!$E$6:$F$16,2,FALSE)&ROW(G187)),INDIRECT(VLOOKUP(G187,Bezüge!$B$6:$C$16,2,FALSE)&ROW(G187))))","v":""},null,null,null,"","","","","","","","","","","","","","","","","","","","","","",null,"","","","","","","","","","","","","","","","","","","","","",""]
[null,{"$f":"IF(Athletenliste!B188=\"\",\"\",Athletenliste!B188)","v":""},{"$f":"IF(Athletenliste!C188=\"\",\"\",Athletenliste!C188)","v":""},{"$f":"IF(Athletenliste!D188=\"\",\"\",Athletenliste!D188)","v":""},{"$f":"IF(Athletenliste!E188=\"\",\"\",Athletenliste!E188)","v":""},{"$f":"IF(Athletenliste!F188=\"\",\"\",Athletenliste!F188)","v":""},{"$f":"IF(Athletenliste!G188=\"\",\"\",Athletenliste!G188)","v":""},{"$f":"IF(Athletenliste!H188=\"\",\"\",Athletenliste!H188)","v":""},null,{"$f":"IF(B188=\"\",\"\",IF(D188=\"m\",INDIRECT(VLOOKUP(G188,Bezüge!$E$6:$F$16,2,FALSE)&ROW(G188)),INDIRECT(VLOOKUP(G188,Bezüge!$B$6:$C$16,2,FALSE)&ROW(G188))))","v":""},null,null,null,"","","","","","","","","","","","","","","","","","","","","","",null,"","","","","","","","","","","","","","","","","","","","","",""]
[null,{"$f":"IF(Athletenliste!B189=\"\",\"\",Athletenliste!B189)","v":""},{"$f":"IF(Athletenliste!C189=\"\",\"\",Athletenliste!C189)","v":""},{"$f":"IF(Athletenliste!D189=\"\",\"\",Athletenliste!D189)","v":""},{"$f":"IF(Athletenliste!E189=\"\",\"\",Athletenliste!E189)","v":""},{"$f":"IF(Athletenliste!F189=\"\",\"\",Athletenliste!F189)","v":""},{"$f":"IF(Athletenliste!G189=\"\",\"\",Athletenliste!G189)","v":""},{"$f":"IF(Athletenliste!H189=\"\",\"\",Athletenliste!H189)","v":""},null,{"$f":"IF(B189=\"\",\"\",IF(D189=\"m\",INDIRECT(VLOOKUP(G189,Bezüge!$E$6:$F$16,2,FALSE)&ROW(G189)),INDIRECT(VLOOKUP(G189,Bezüge!$B$6:$C$16,2,FALSE)&ROW(G189))))","v":""},null,null,null,"","","","","","","","","","","","","","","","","","","","","","",null,"","","","","","","","","","","","","","","","","","","","","",""]
[null,{"$f":"IF(Athletenliste!B190=\"\",\"\",Athletenliste!B190)","v":""},{"$f":"IF(Athletenliste!C190=\"\",\"\",Athletenliste!C190)","v":""},{"$f":"IF(Athletenliste!D190=\"\",\"\",Athletenliste!D190)","v":""},{"$f":"IF(Athletenliste!E190=\"\",\"\",Athletenliste!E190)","v":""},{"$f":"IF(Athletenliste!F190=\"\",\"\",Athletenliste!F190)","v":""},{"$f":"IF(Athletenliste!G190=\"\",\"\",Athletenliste!G190)","v":""},{"$f":"IF(Athletenliste!H190=\"\",\"\",Athletenliste!H190)","v":""},null,{"$f":"IF(B190=\"\",\"\",IF(D190=\"m\",INDIRECT(VLOOKUP(G190,Bezüge!$E$6:$F$16,2,FALSE)&ROW(G190)),INDIRECT(VLOOKUP(G190,Bezüge!$B$6:$C$16,2,FALSE)&ROW(G190))))","v":""},null,null,null,"","","","","","","","","","","","","","","","","","","","","","",null,"","","","","","","","","","","","","","","","","","","","","",""]
[null,{"$f":"IF(Athletenliste!B191=\"\",\"\",Athletenliste!B191)","v":""},{"$f":"IF(Athletenliste!C191=\"\",\"\",Athletenliste!C191)","v":""},{"$f":"IF(Athletenliste!D191=\"\",\"\",Athletenliste!D191)","v":""},{"$f":"IF(Athletenliste!E191=\"\",\"\",Athletenliste!E191)","v":""},{"$f":"IF(Athletenliste!F191=\"\",\"\",Athletenliste!F191)","v":""},{"$f":"IF(Athletenliste!G191=\"\",\"\",Athletenliste!G191)","v":""},{"$f":"IF(Athletenliste!H191=\"\",\"\",Athletenliste!H191)","v":""},null,{"$f":"IF(B191=\"\",\"\",IF(D191=\"m\",INDIRECT(VLOOKUP(G191,Bezüge!$E$6:$F$16,2,FALSE)&ROW(G191)),INDIRECT(VLOOKUP(G191,Bezüge!$B$6:$C$16,2,FALSE)&ROW(G191))))","v":""},null,null,null,"","","","","","","","","","","","","","","","","","","","","","",null,"","","","","","","","","","","","","","","","","","","","","",""]
[null,{"$f":"IF(Athletenliste!B192=\"\",\"\",Athletenliste!B192)","v":""},{"$f":"IF(Athletenliste!C192=\"\",\"\",Athletenliste!C192)","v":""},{"$f":"IF(Athletenliste!D192=\"\",\"\",Athletenliste!D192)","v":""},{"$f":"IF(Athletenliste!E192=\"\",\"\",Athletenliste!E192)","v":""},{"$f":"IF(Athletenliste!F192=\"\",\"\",Athletenliste!F192)","v":""},{"$f":"IF(Athletenliste!G192=\"\",\"\",Athletenliste!G192)","v":""},{"$f":"IF(Athletenliste!H192=\"\",\"\",Athletenliste!H192)","v":""},null,{"$f":"IF(B192=\"\",\"\",IF(D192=\"m\",INDIRECT(VLOOKUP(G192,Bezüge!$E$6:$F$16,2,FALSE)&ROW(G192)),INDIRECT(VLOOKUP(G192,Bezüge!$B$6:$C$16,2,FALSE)&ROW(G192))))","v":""},null,null,null,"","","","","","","","","","","","","","","","","","","","","","",null,"","","","","","","","","","","","","","","","","","","","","",""]
[null,{"$f":"IF(Athletenliste!B193=\"\",\"\",Athletenliste!B193)","v":""},{"$f":"IF(Athletenliste!C193=\"\",\"\",Athletenliste!C193)","v":""},{"$f":"IF(Athletenliste!D193=\"\",\"\",Athletenliste!D193)","v":""},{"$f":"IF(Athletenliste!E193=\"\",\"\",Athletenliste!E193)","v":""},{"$f":"IF(Athletenliste!F193=\"\",\"\",Athletenliste!F193)","v":""},{"$f":"IF(Athletenliste!G193=\"\",\"\",Athletenliste!G193)","v":""},{"$f":"IF(Athletenliste!H193=\"\",\"\",Athletenliste!H193)","v":""},null,{"$f":"IF(B193=\"\",\"\",IF(D193=\"m\",INDIRECT(VLOOKUP(G193,Bezüge!$E$6:$F$16,2,FALSE)&ROW(G193)),INDIRECT(VLOOKUP(G193,Bezüge!$B$6:$C$16,2,FALSE)&ROW(G193))))","v":""},null,null,null,"","","","","","","","","","","","","","","","","","","","","","",null,"","","","","","","","","","","","","","","","","","","","","",""]
[null,{"$f":"IF(Athletenliste!B194=\"\",\"\",Athletenliste!B194)","v":""},{"$f":"IF(Athletenliste!C194=\"\",\"\",Athletenliste!C194)","v":""},{"$f":"IF(Athletenliste!D194=\"\",\"\",Athletenliste!D194)","v":""},{"$f":"IF(Athletenliste!E194=\"\",\"\",Athletenliste!E194)","v":""},{"$f":"IF(Athletenliste!F194=\"\",\"\",Athletenliste!F194)","v":""},{"$f":"IF(Athletenliste!G194=\"\",\"\",Athletenliste!G194)","v":""},{"$f":"IF(Athletenliste!H194=\"\",\"\",Athletenliste!H194)","v":""},null,{"$f":"IF(B194=\"\",\"\",IF(D194=\"m\",INDIRECT(VLOOKUP(G194,Bezüge!$E$6:$F$16,2,FALSE)&ROW(G194)),INDIRECT(VLOOKUP(G194,Bezüge!$B$6:$C$16,2,FALSE)&ROW(G194))))","v":""},null,null,null,"","","","","","","","","","","","","","","","","","","","","","",null,"","","","","","","","","","","","","","","","","","","","","",""]
[null,{"$f":"IF(Athletenliste!B195=\"\",\"\",Athletenliste!B195)","v":""},{"$f":"IF(Athletenliste!C195=\"\",\"\",Athletenliste!C195)","v":""},{"$f":"IF(Athletenliste!D195=\"\",\"\",Athletenliste!D195)","v":""},{"$f":"IF(Athletenliste!E195=\"\",\"\",Athletenliste!E195)","v":""},{"$f":"IF(Athletenliste!F195=\"\",\"\",Athletenliste!F195)","v":""},{"$f":"IF(Athletenliste!G195=\"\",\"\",Athletenliste!G195)","v":""},{"$f":"IF(Athletenliste!H195=\"\",\"\",Athletenliste!H195)","v":""},null,{"$f":"IF(B195=\"\",\"\",IF(D195=\"m\",INDIRECT(VLOOKUP(G195,Bezüge!$E$6:$F$16,2,FALSE)&ROW(G195)),INDIRECT(VLOOKUP(G195,Bezüge!$B$6:$C$16,2,FALSE)&ROW(G195))))","v":""},null,null,null,"","","","","","","","","","","","","","","","","","","","","","",null,"","","","","","","","","","","","","","","","","","","","","",""]
[null,{"$f":"IF(Athletenliste!B196=\"\",\"\",Athletenliste!B196)","v":""},{"$f":"IF(Athletenliste!C196=\"\",\"\",Athletenliste!C196)","v":""},{"$f":"IF(Athletenliste!D196=\"\",\"\",Athletenliste!D196)","v":""},{"$f":"IF(Athletenliste!E196=\"\",\"\",Athletenliste!E196)","v":""},{"$f":"IF(Athletenliste!F196=\"\",\"\",Athletenliste!F196)","v":""},{"$f":"IF(Athletenliste!G196=\"\",\"\",Athletenliste!G196)","v":""},{"$f":"IF(Athletenliste!H196=\"\",\"\",Athletenliste!H196)","v":""},null,{"$f":"IF(B196=\"\",\"\",IF(D196=\"m\",INDIRECT(VLOOKUP(G196,Bezüge!$E$6:$F$16,2,FALSE)&ROW(G196)),INDIRECT(VLOOKUP(G196,Bezüge!$B$6:$C$16,2,FALSE)&ROW(G196))))","v":""},null,null,null,"","","","","","","","","","","","","","","","","","","","","","",null,"","","","","","","","","","","","","","","","","","","","","",""]
[null,{"$f":"IF(Athletenliste!B197=\"\",\"\",Athletenliste!B197)","v":""},{"$f":"IF(Athletenliste!C197=\"\",\"\",Athletenliste!C197)","v":""},{"$f":"IF(Athletenliste!D197=\"\",\"\",Athletenliste!D197)","v":""},{"$f":"IF(Athletenliste!E197=\"\",\"\",Athletenliste!E197)","v":""},{"$f":"IF(Athletenliste!F197=\"\",\"\",Athletenliste!F197)","v":""},{"$f":"IF(Athletenliste!G197=\"\",\"\",Athletenliste!G197)","v":""},{"$f":"IF(Athletenliste!H197=\"\",\"\",Athletenliste!H197)","v":""},null,{"$f":"IF(B197=\"\",\"\",IF(D197=\"m\",INDIRECT(VLOOKUP(G197,Bezüge!$E$6:$F$16,2,FALSE)&ROW(G197)),INDIRECT(VLOOKUP(G197,Bezüge!$B$6:$C$16,2,FALSE)&ROW(G197))))","v":""},null,null,null,"","","","","","","","","","","","","","","","","","","","","","",null,"","","","","","","","","","","","","","","","","","","","","",""]
[null,{"$f":"IF(Athletenliste!B198=\"\",\"\",Athletenliste!B198)","v":""},{"$f":"IF(Athletenliste!C198=\"\",\"\",Athletenliste!C198)","v":""},{"$f":"IF(Athletenliste!D198=\"\",\"\",Athletenliste!D198)","v":""},{"$f":"IF(Athletenliste!E198=\"\",\"\",Athletenliste!E198)","v":""},{"$f":"IF(Athletenliste!F198=\"\",\"\",Athletenliste!F198)","v":""},{"$f":"IF(Athletenliste!G198=\"\",\"\",Athletenliste!G198)","v":""},{"$f":"IF(Athletenliste!H198=\"\",\"\",Athletenliste!H198)","v":""},null,{"$f":"IF(B198=\"\",\"\",IF(D198=\"m\",INDIRECT(VLOOKUP(G198,Bezüge!$E$6:$F$16,2,FALSE)&ROW(G198)),INDIRECT(VLOOKUP(G198,Bezüge!$B$6:$C$16,2,FALSE)&ROW(G198))))","v":""},null,null,null,"","","","","","","","","","","","","","","","","","","","","","",null,"","","","","","","","","","","","","","","","","","","","","",""]
[null,{"$f":"IF(Athletenliste!B199=\"\",\"\",Athletenliste!B199)","v":""},{"$f":"IF(Athletenliste!C199=\"\",\"\",Athletenliste!C199)","v":""},{"$f":"IF(Athletenliste!D199=\"\",\"\",Athletenliste!D199)","v":""},{"$f":"IF(Athletenliste!E199=\"\",\"\",Athletenliste!E199)","v":""},{"$f":"IF(Athletenliste!F199=\"\",\"\",Athletenliste!F199)","v":""},{"$f":"IF(Athletenliste!G199=\"\",\"\",Athletenliste!G199)","v":""},{"$f":"IF(Athletenliste!H199=\"\",\"\",Athletenliste!H199)","v":""},null,{"$f":"IF(B199=\"\",\"\",IF(D199=\"m\",INDIRECT(VLOOKUP(G199,Bezüge!$E$6:$F$16,2,FALSE)&ROW(G199)),INDIRECT(VLOOKUP(G199,Bezüge!$B$6:$C$16,2,FALSE)&ROW(G199))))","v":""},null,null,null,"","","","","","","","","","","","","","","","","","","","","","",null,"","","","","","","","","","","","","","","","","","","","","",""]
[null,{"$f":"IF(Athletenliste!B200=\"\",\"\",Athletenliste!B200)","v":""},{"$f":"IF(Athletenliste!C200=\"\",\"\",Athletenliste!C200)","v":""},{"$f":"IF(Athletenliste!D200=\"\",\"\",Athletenliste!D200)","v":""},{"$f":"IF(Athletenliste!E200=\"\",\"\",Athletenliste!E200)","v":""},{"$f":"IF(Athletenliste!F200=\"\",\"\",Athletenliste!F200)","v":""},{"$f":"IF(Athletenliste!G200=\"\",\"\",Athletenliste!G200)","v":""},{"$f":"IF(Athletenliste!H200=\"\",\"\",Athletenliste!H200)","v":""},null,{"$f":"IF(B200=\"\",\"\",IF(D200=\"m\",INDIRECT(VLOOKUP(G200,Bezüge!$E$6:$F$16,2,FALSE)&ROW(G200)),INDIRECT(VLOOKUP(G200,Bezüge!$B$6:$C$16,2,FALSE)&ROW(G200))))","v":""},null,null,null,"","","","","","","","","","","","","","","","","","","","","","",null,"","","","","","","","","","","","","","","","","","","","","",""]
[null,{"$f":"IF(Athletenliste!B201=\"\",\"\",Athletenliste!B201)","v":""},{"$f":"IF(Athletenliste!C201=\"\",\"\",Athletenliste!C201)","v":""},{"$f":"IF(Athletenliste!D201=\"\",\"\",Athletenliste!D201)","v":""},{"$f":"IF(Athletenliste!E201=\"\",\"\",Athletenliste!E201)","v":""},{"$f":"IF(Athletenliste!F201=\"\",\"\",Athletenliste!F201)","v":""},{"$f":"IF(Athletenliste!G201=\"\",\"\",Athletenliste!G201)","v":""},{"$f":"IF(Athletenliste!H201=\"\",\"\",Athletenliste!H201)","v":""},null,null,null,null,null,"","","","","","","","","","","","","","","","","","","","","","",null,"","","","","","","","","","","","","","","","","","","","","",""]
[null,{"$f":"IF(Athletenliste!B202=\"\",\"\",Athletenliste!B202)","v":""},{"$f":"IF(Athletenliste!C202=\"\",\"\",Athletenliste!C202)","v":""},{"$f":"IF(Athletenliste!D202=\"\",\"\",Athletenliste!D202)","v":""},{"$f":"IF(Athletenliste!E202=\"\",\"\",Athletenliste!E202)","v":""},{"$f":"IF(Athletenliste!F202=\"\",\"\",Athletenliste!F202)","v":""},{"$f":"IF(Athletenliste!G202=\"\",\"\",Athletenliste!G202)","v":""},{"$f":"IF(Athletenliste!H202=\"\",\"\",Athletenliste!H202)","v":""},null,null,null,null,null,"","","","","","","","","","","","","","","","","","","","","","",null,"","","","","","","","","","","","","","","","","","","","","",""]

{"sheet":"Seilspringen","index":6,"n_rows":202,"n_cols":58,"rows_kept":202,"cut":false,"hidden":false,"merged":[[3,2,3,3],[6,13,6,34],[6,36,6,57]]}
[]
[null,"SKILANGLAUF - DEUTSCHLAND - ATHLETIK - CHALLENGE"]
[]
[null,"Ort:",{"$f":"Athletenliste!C4","v":"Leipzig"},null,"Datum:",{"$f":"Athletenliste!F4","v":"2012-05-18"}]
[]
[null,"Seilspringen"]
[null,"Name","Vorname","Geschlecht","Jahrgang","Testdatum","AK","LV","Seilspringen","Rang in AK",null,null,null,"männlich",null,null,null,null,null,null,null,null,null,null,null,null,null,null,null,null,null,null,null,null,null,null,"Weiblich"]
[null,null,null,null,null,null,null,null,"[Anz/min]",null,null,null,null,"U06  ","Ra","U07 ","Ra","U08 ","Ra","U09 ","Ra","U10 ","Ra","U11 ","Ra","U12 ","Ra","U13 ","Ra","U14 ","Ra","U15 ","Ra","U16 ","Ra",null,"U06  ","Ra","U07 ","Ra","U08 ","Ra","U09 ","Ra","U10 ","Ra","U11 ","Ra","U12 ","Ra","U13 ","Ra","U14 ","Ra","U15 ","Ra","U16 ","Ra"]
[]
[null,{"$f":"IF(Athletenliste!B10=\"\",\"\",Athletenliste!B10)","v":""},{"$f":"IF(Athletenliste!C10=\"\",\"\",Athletenliste!C10)","v":""},{"$f":"IF(Athletenliste!D10=\"\",\"\",Athletenliste!D10)","v":""},{"$f":"IF(Athletenliste!E10=\"\",\"\",Athletenliste!E10)","v":""},{"$f":"IF(Athletenliste!F10=\"\",\"\",Athletenliste!F10)","v":""},{"$f":"IF(Athletenliste!G10=\"\",\"\",Athletenliste!G10)","v":""},{"$f":"IF(Athletenliste!H10=\"\",\"\",Athletenliste!H10)","v":""},null,{"$f":"IF(B10=\"\",\"\",IF(D10=\"m\",INDIRECT(VLOOKUP(G10,Bezüge!$E$6:$F$16,2,FALSE)&ROW(G10)),INDIRECT(VLOOKUP(G10,Bezüge!$B$6:$C$16,2,FALSE)&ROW(G10))))","v":""},null,null,null,{"$f":"IF(AND(D10=\"m\",G10=\"U06\",I10<>\"\"),I10,\"\")","v":""},{"$f":"IF(OR(I10=\"\",N10=\"\"),\"\",_xlfn.RANK.EQ(N10,N$10:N$200))","v":""},{"$f":"IF(AND(D10=\"m\",G10=\"U07\",I10<>\"\"),I10,\"\")","v":""},{"$f":"IF(OR(I10=\"\",P10=\"\"),\"\",_xlfn.RANK.EQ(P10,P$10:P$200))","v":""},{"$f":"IF(AND(D10=\"m\",G10=\"U08\",I10<>\"\"),I10,\"\")","v":""},{"$f":"IF(OR(I10=\"\",R10=\"\"),\"\",_xlfn.RANK.EQ(R10,R$10:R$200))","v":""},{"$f":"IF(AND(D10=\"m\",G10=\"U09\",I10<>\"\"),I10,\"\")","v":""},{"$f":"IF(OR(I10=\"\",T10=\"\"),\"\",_xlfn.RANK.EQ(T10,T$10:T$200))","v":""},{"$f":"IF(AND(D10=\"m\",G10=\"U10\",I10<>\"\"),I10,\"\")","v":""},{"$f":"IF(OR(I10=\"\",V10=\"\"),\"\",_xlfn.RANK.EQ(V10,V$10:V$200))","v":""},{"$f":"IF(AND(D10=\"m\",G10=\"U11\",I10<>\"\"),I10,\"\")","v":""},{"$f":"IF(OR(I10=\"\",X10=\"\"),\"\",_xlfn.RANK.EQ(X10,X$10:X$200))","v":""},{"$f":"IF(AND(D10=\"m\",G10=\"U12\",I10<>\"\"),I10,\"\")","v":""},{"$f":"IF(OR(I10=\"\",Z10=\"\"),\"\",_xlfn.RANK.EQ(Z10,Z$10:Z$200))","v":""},{"$f":"IF(AND(D10=\"m\",G10=\"U13\",I10<>\"\"),I10,\"\")","v":""},{"$f":"IF(OR(I10=\"\",AB10=\"\"),\"\",_xlfn.RANK.EQ(AB10,AB$10:AB$200))","v":""},{"$f":"IF(AND(D10=\"m\",G10=\"U14\",I10<>\"\"),I10,\"\")","v":""},{"$f":"IF(OR(I10=\"\",AD10=\"\"),\"\",_xlfn.RANK.EQ(AD10,AD$10:AD$200))","v":""},{"$f":"IF(AND(D10=\"m\",G10=\"U15\",I10<>\"\"),I10,\"\")","v":""},{"$f":"IF(OR(I10=\"\",AF10=\"\"),\"\",_xlfn.RANK.EQ(AF10,AF$10:AF$200))","v":""},{"$f":"IF(AND(D10=\"m\",G10=\"U16\",I10<>\"\"),I10,\"\")","v":""},{"$f":"IF(OR(I10=\"\",AH10=\"\"),\"\",_xlfn.RANK.EQ(AH10,AH$10:AH$200))","v":""},null,{"$f":"IF(AND(D10=\"w\",G10=\"U06\",I10<>\"\"),I10,\"\")","v":""},{"$f":"IF(OR(I10=\"\",AI10=\"\"),\"\",_xlfn.RANK.EQ(AI10,AI$10:AI$200))","v":""},{"$f":"IF(AND(D10=\"w\",G10=\"U07\",I10<>\"\"),I10,\"\")","v":""},{"$f":"IF(OR(I10=\"\",AM10=\"\"),\"\",_xlfn.RANK.EQ(AM10,AM$10:AM$20))","v":""},{"$f":"IF(AND(D10=\"w\",G10=\"U08\",I10<>\"\"),I10,\"\")","v":""},{"$f":"IF(OR(I10=\"\",AO10=\"\"),\"\",_xlfn.RANK.EQ(AO10,AO$10:AO$200,0))","v":""},{"$f":"IF(AND(D10=\"w\",G10=\"U09\",I10<>\"\"),I10,\"\")","v":""},{"$f":"IF(OR(I10=\"\",AQ10=\"\"),\"\",_xlfn.RANK.EQ(AQ10,AQ$10:AQ$200))","v":""},{"$f":"IF(AND(D10=\"w\",G10=\"U10\",I10<>\"\"),I10,\"\")","v":""},{"$f":"IF(OR(I10=\"\",AS10=\"\"),\"\",_xlfn.RANK.EQ(AS10,AS$10:AS$200))","v":""},{"$f":"IF(AND(D10=\"w\",G10=\"U11\",I10<>\"\"),I10,\"\")","v":""},{"$f":"IF(OR(I10=\"\",AU10=\"\"),\"\",_xlfn.RANK.EQ(AU10,AU$10:AU$200))","v":""},{"$f":"IF(AND(D10=\"w\",G10=\"U12\",I10<>\"\"),I10,\"\")","v":""},{"$f":"IF(OR(I10=\"\",AW10=\"\"),\"\",_xlfn.RANK.EQ(AW10,AW$10:AW$200))","v":""},{"$f":"IF(AND(D10=\"w\",G10=\"U13\",I10<>\"\"),I10,\"\")","v":""},{"$f":"IF(OR(I10=\"\",AY10=\"\"),\"\",_xlfn.RANK.EQ(AY10,AY$10:AY$200))","v":""},{"$f":"IF(AND(D10=\"w\",G10=\"U14\",I10<>\"\"),I10,\"\")","v":""},{"$f":"IF(OR(I10=\"\",BA10=\"\"),\"\",_xlfn.RANK.EQ(BA10,BA$10:BA$200))","v":""},{"$f":"IF(AND(D10=\"w\",G10=\"U15\",I10<>\"\"),I10,\"\")","v":""},{"$f":"IF(OR(I10=\"\",BC10=\"\"),\"\",_xlfn.RANK.EQ(BC10,BC$10:BC$200))","v":""},{"$f":"IF(AND(D10=\"w\",G10=\"U16\",I10<>\"\"),I10,\"\")","v":""},{"$f":"IF(OR(I10=\"\",BE10=\"\"),\"\",_xlfn.RANK.EQ(BE10,BE$10:BE$200))","v":""}]
[null,{"$f":"IF(Athletenliste!B11=\"\",\"\",Athletenliste!B11)","v":""},{"$f":"IF(Athletenliste!C11=\"\",\"\",Athletenliste!C11)","v":""},{"$f":"IF(Athletenliste!D11=\"\",\"\",Athletenliste!D11)","v":""},{"$f":"IF(Athletenliste!E11=\"\",\"\",Athletenliste!E11)","v":""},{"$f":"IF(Athletenliste!F11=\"\",\"\",Athletenliste!F11)","v":""},{"$f":"IF(Athletenliste!G11=\"\",\"\",Athletenliste!G11)","v":""},{"$f":"IF(Athletenliste!H11=\"\",\"\",Athletenliste!H11)","v":""},null,{"$f":"IF(B11=\"\",\"\",IF(D11=\"m\",INDIRECT(VLOOKUP(G11,Bezüge!$E$6:$F$16,2,FALSE)&ROW(G11)),INDIRECT(VLOOKUP(G11,Bezüge!$B$6:$C$16,2,FALSE)&ROW(G11))))","v":""},null,null,null,{"$f":"IF(AND(D11=\"m\",G11=\"U06\",I11<>\"\"),I11,\"\")","v":""},{"$f":"IF(OR(I11=\"\",N11=\"\"),\"\",_xlfn.RANK.EQ(N11,N$10:N$200))","v":""},{"$f":"IF(AND(D11=\"m\",G11=\"U07\",I11<>\"\"),I11,\"\")","v":""},{"$f":"IF(OR(I11=\"\",P11=\"\"),\"\",_xlfn.RANK.EQ(P11,P$10:P$200))","v":""},{"$f":"IF(AND(D11=\"m\",G11=\"U08\",I11<>\"\"),I11,\"\")","v":""},{"$f":"IF(OR(I11=\"\",R11=\"\"),\"\",_xlfn.RANK.EQ(R11,R$10:R$200))","v":""},{"$f":"IF(AND(D11=\"m\",G11=\"U09\",I11<>\"\"),I11,\"\")","v":""},{"$f":"IF(OR(I11=\"\",T11=\"\"),\"\",_xlfn.RANK.EQ(T11,T$10:T$200))","v":""},{"$f":"IF(AND(D11=\"m\",G11=\"U10\",I11<>\"\"),I11,\"\")","v":""},{"$f":"IF(OR(I11=\"\",V11=\"\"),\"\",_xlfn.RANK.EQ(V11,V$10:V$200))","v":""},{"$f":"IF(AND(D11=\"m\",G11=\"U11\",I11<>\"\"),I11,\"\")","v":""},{"$f":"IF(OR(I11=\"\",X11=\"\"),\"\",_xlfn.RANK.EQ(X11,X$10:X$200))","v":""},{"$f":"IF(AND(D11=\"m\",G11=\"U12\",I11<>\"\"),I11,\"\")","v":""},{"$f":"IF(OR(I11=\"\",Z11=\"\"),\"\",_xlfn.RANK.EQ(Z11,Z$10:Z$200))","v":""},{"$f":"IF(AND(D11=\"m\",G11=\"U13\",I11<>\"\"),I11,\"\")","v":""},{"$f":"IF(OR(I11=\"\",AB11=\"\"),\"\",_xlfn.RANK.EQ(AB11,AB$10:AB$200))","v":""},{"$f":"IF(AND(D11=\"m\",G11=\"U14\",I11<>\"\"),I11,\"\")","v":""},{"$f":"IF(OR(I11=\"\",AD11=\"\"),\"\",_xlfn.RANK.EQ(AD11,AD$10:AD$200))","v":""},{"$f":"IF(AND(D11=\"m\",G11=\"U15\",I11<>\"\"),I11,\"\")","v":""},{"$f":"IF(OR(I11=\"\",AF11=\"\"),\"\",_xlfn.RANK.EQ(AF11,AF$10:AF$200))","v":""},{"$f":"IF(AND(D11=\"m\",G11=\"U16\",I11<>\"\"),I11,\"\")","v":""},{"$f":"IF(OR(I11=\"\",AH11=\"\"),\"\",_xlfn.RANK.EQ(AH11,AH$10:AH$200))","v":""},null,{"$f":"IF(AND(D11=\"w\",G11=\"U06\",I11<>\"\"),I11,\"\")","v":""},{"$f":"IF(OR(I11=\"\",AI11=\"\"),\"\",_xlfn.RANK.EQ(AI11,AI$10:AI$200))","v":""},{"$f":"IF(AND(D11=\"w\",G11=\"U07\",I11<>\"\"),I11,\"\")","v":""},{"$f":"IF(OR(I11=\"\",AM11=\"\"),\"\",_xlfn.RANK.EQ(AM11,AM$10:AM$20))","v":""},{"$f":"IF(AND(D11=\"w\",G11=\"U08\",I11<>\"\"),I11,\"\")","v":""},{"$f":"IF(OR(I11=\"\",AO11=\"\"),\"\",_xlfn.RANK.EQ(AO11,AO$10:AO$200,0))","v":""},{"$f":"IF(AND(D11=\"w\",G11=\"U09\",I11<>\"\"),I11,\"\")","v":""},{"$f":"IF(OR(I11=\"\",AQ11=\"\"),\"\",_xlfn.RANK.EQ(AQ11,AQ$10:AQ$200))","v":""},{"$f":"IF(AND(D11=\"w\",G11=\"U10\",I11<>\"\"),I11,\"\")","v":""},{"$f":"IF(OR(I11=\"\",AS11=\"\"),\"\",_xlfn.RANK.EQ(AS11,AS$10:AS$200))","v":""},{"$f":"IF(AND(D11=\"w\",G11=\"U11\",I11<>\"\"),I11,\"\")","v":""},{"$f":"IF(OR(I11=\"\",AU11=\"\"),\"\",_xlfn.RANK.EQ(AU11,AU$10:AU$200))","v":""},{"$f":"IF(AND(D11=\"w\",G11=\"U12\",I11<>\"\"),I11,\"\")","v":""},{"$f":"IF(OR(I11=\"\",AW11=\"\"),\"\",_xlfn.RANK.EQ(AW11,AW$10:AW$200))","v":""},{"$f":"IF(AND(D11=\"w\",G11=\"U13\",I11<>\"\"),I11,\"\")","v":""},{"$f":"IF(OR(I11=\"\",AY11=\"\"),\"\",_xlfn.RANK.EQ(AY11,AY$10:AY$200))","v":""},{"$f":"IF(AND(D11=\"w\",G11=\"U14\",I11<>\"\"),I11,\"\")","v":""},{"$f":"IF(OR(I11=\"\",BA11=\"\"),\"\",_xlfn.RANK.EQ(BA11,BA$10:BA$200))","v":""},{"$f":"IF(AND(D11=\"w\",G11=\"U15\",I11<>\"\"),I11,\"\")","v":""},{"$f":"IF(OR(I11=\"\",BC11=\"\"),\"\",_xlfn.RANK.EQ(BC11,BC$10:BC$200))","v":""},{"$f":"IF(AND(D11=\"w\",G11=\"U16\",I11<>\"\"),I11,\"\")","v":""},{"$f":"IF(OR(I11=\"\",BE11=\"\"),\"\",_xlfn.RANK.EQ(BE11,BE$10:BE$200))","v":""}]
[null,{"$f":"IF(Athletenliste!B12=\"\",\"\",Athletenliste!B12)","v":""},{"$f":"IF(Athletenliste!C12=\"\",\"\",Athletenliste!C12)","v":""},{"$f":"IF(Athletenliste!D12=\"\",\"\",Athletenliste!D12)","v":""},{"$f":"IF(Athletenliste!E12=\"\",\"\",Athletenliste!E12)","v":""},{"$f":"IF(Athletenliste!F12=\"\",\"\",Athletenliste!F12)","v":""},{"$f":"IF(Athletenliste!G12=\"\",\"\",Athletenliste!G12)","v":""},{"$f":"IF(Athletenliste!H12=\"\",\"\",Athletenliste!H12)","v":""},null,{"$f":"IF(B12=\"\",\"\",IF(D12=\"m\",INDIRECT(VLOOKUP(G12,Bezüge!$E$6:$F$16,2,FALSE)&ROW(G12)),INDIRECT(VLOOKUP(G12,Bezüge!$B$6:$C$16,2,FALSE)&ROW(G12))))","v":""},null,null,null,"","","","","","","","","","","","","","","","","","","","","","",null,"","","","","","","","","","","","","","","","","","","","","",""]
[null,{"$f":"IF(Athletenliste!B13=\"\",\"\",Athletenliste!B13)","v":""},{"$f":"IF(Athletenliste!C13=\"\",\"\",Athletenliste!C13)","v":""},{"$f":"IF(Athletenliste!D13=\"\",\"\",Athletenliste!D13)","v":""},{"$f":"IF(Athletenliste!E13=\"\",\"\",Athletenliste!E13)","v":""},{"$f":"IF(Athletenliste!F13=\"\",\"\",Athletenliste!F13)","v":""},{"$f":"IF(Athletenliste!G13=\"\",\"\",Athletenliste!G13)","v":""},{"$f":"IF(Athletenliste!H13=\"\",\"\",Athletenliste!H13)","v":""},null,{"$f":"IF(B13=\"\",\"\",IF(D13=\"m\",INDIRECT(VLOOKUP(G13,Bezüge!$E$6:$F$16,2,FALSE)&ROW(G13)),INDIRECT(VLOOKUP(G13,Bezüge!$B$6:$C$16,2,FALSE)&ROW(G13))))","v":""},null,null,null,"","","","","","","","","","","","","","","","","","","","","","",null,"","","","","","","","","","","","","","","","","","","","","",""]
[null,{"$f":"IF(Athletenliste!B14=\"\",\"\",Athletenliste!B14)","v":""},{"$f":"IF(Athletenliste!C14=\"\",\"\",Athletenliste!C14)","v":""},{"$f":"IF(Athletenliste!D14=\"\",\"\",Athletenliste!D14)","v":""},{"$f":"IF(Athletenliste!E14=\"\",\"\",Athletenliste!E14)","v":""},{"$f":"IF(Athletenliste!F14=\"\",\"\",Athletenliste!F14)","v":""},{"$f":"IF(Athletenliste!G14=\"\",\"\",Athletenliste!G14)","v":""},{"$f":"IF(Athletenliste!H14=\"\",\"\",Athletenliste!H14)","v":""},null,{"$f":"IF(B14=\"\",\"\",IF(D14=\"m\",INDIRECT(VLOOKUP(G14,Bezüge!$E$6:$F$16,2,FALSE)&ROW(G14)),INDIRECT(VLOOKUP(G14,Bezüge!$B$6:$C$16,2,FALSE)&ROW(G14))))","v":""},null,null,null,"","","","","","","","","","","","","","","","","","","","","","",null,"","","","","","","","","","","","","","","","","","","","","",""]
[null,{"$f":"IF(Athletenliste!B15=\"\",\"\",Athletenliste!B15)","v":""},{"$f":"IF(Athletenliste!C15=\"\",\"\",Athletenliste!C15)","v":""},{"$f":"IF(Athletenliste!D15=\"\",\"\",Athletenliste!D15)","v":""},{"$f":"IF(Athletenliste!E15=\"\",\"\",Athletenliste!E15)","v":""},{"$f":"IF(Athletenliste!F15=\"\",\"\",Athletenliste!F15)","v":""},{"$f":"IF(Athletenliste!G15=\"\",\"\",Athletenliste!G15)","v":""},{"$f":"IF(Athletenliste!H15=\"\",\"\",Athletenliste!H15)","v":""},null,{"$f":"IF(B15=\"\",\"\",IF(D15=\"m\",INDIRECT(VLOOKUP(G15,Bezüge!$E$6:$F$16,2,FALSE)&ROW(G15)),INDIRECT(VLOOKUP(G15,Bezüge!$B$6:$C$16,2,FALSE)&ROW(G15))))","v":""},null,null,null,"","","","","","","","","","","","","","","","","","","","","","",null,"","","","","","","","","","","","","","","","","","","","","",""]
[null,{"$f":"IF(Athletenliste!B16=\"\",\"\",Athletenliste!B16)","v":""},{"$f":"IF(Athletenliste!C16=\"\",\"\",Athletenliste!C16)","v":""},{"$f":"IF(Athletenliste!D16=\"\",\"\",Athletenliste!D16)","v":""},{"$f":"IF(Athletenliste!E16=\"\",\"\",Athletenliste!E16)","v":""},{"$f":"IF(Athletenliste!F16=\"\",\"\",Athletenliste!F16)","v":""},{"$f":"IF(Athletenliste!G16=\"\",\"\",Athletenliste!G16)","v":""},{"$f":"IF(Athletenliste!H16=\"\",\"\",Athletenliste!H16)","v":""},null,{"$f":"IF(B16=\"\",\"\",IF(D16=\"m\",INDIRECT(VLOOKUP(G16,Bezüge!$E$6:$F$16,2,FALSE)&ROW(G16)),INDIRECT(VLOOKUP(G16,Bezüge!$B$6:$C$16,2,FALSE)&ROW(G16))))","v":""},null,null,null,"","","","","","","","","","","","","","","","","","","","","","",null,"","","","","","","","","","","","","","","","","","","","","",""]
[null,{"$f":"IF(Athletenliste!B17=\"\",\"\",Athletenliste!B17)","v":""},{"$f":"IF(Athletenliste!C17=\"\",\"\",Athletenliste!C17)","v":""},{"$f":"IF(Athletenliste!D17=\"\",\"\",Athletenliste!D17)","v":""},{"$f":"IF(Athletenliste!E17=\"\",\"\",Athletenliste!E17)","v":""},{"$f":"IF(Athletenliste!F17=\"\",\"\",Athletenliste!F17)","v":""},{"$f":"IF(Athletenliste!G17=\"\",\"\",Athletenliste!G17)","v":""},{"$f":"IF(Athletenliste!H17=\"\",\"\",Athletenliste!H17)","v":""},null,{"$f":"IF(B17=\"\",\"\",IF(D17=\"m\",INDIRECT(VLOOKUP(G17,Bezüge!$E$6:$F$16,2,FALSE)&ROW(G17)),INDIRECT(VLOOKUP(G17,Bezüge!$B$6:$C$16,2,FALSE)&ROW(G17))))","v":""},null,null,null,"","","","","","","","","","","","","","","","","","","","","","",null,"","","","","","","","","","","","","","","","","","","","","",""]
[null,{"$f":"IF(Athletenliste!B18=\"\",\"\",Athletenliste!B18)","v":""},{"$f":"IF(Athletenliste!C18=\"\",\"\",Athletenliste!C18)","v":""},{"$f":"IF(Athletenliste!D18=\"\",\"\",Athletenliste!D18)","v":""},{"$f":"IF(Athletenliste!E18=\"\",\"\",Athletenliste!E18)","v":""},{"$f":"IF(Athletenliste!F18=\"\",\"\",Athletenliste!F18)","v":""},{"$f":"IF(Athletenliste!G18=\"\",\"\",Athletenliste!G18)","v":""},{"$f":"IF(Athletenliste!H18=\"\",\"\",Athletenliste!H18)","v":""},null,{"$f":"IF(B18=\"\",\"\",IF(D18=\"m\",INDIRECT(VLOOKUP(G18,Bezüge!$E$6:$F$16,2,FALSE)&ROW(G18)),INDIRECT(VLOOKUP(G18,Bezüge!$B$6:$C$16,2,FALSE)&ROW(G18))))","v":""},null,null,null,"","","","","","","","","","","","","","","","","","","","","","",null,"","","","","","","","","","","","","","","","","","","","","",""]
[null,{"$f":"IF(Athletenliste!B19=\"\",\"\",Athletenliste!B19)","v":""},{"$f":"IF(Athletenliste!C19=\"\",\"\",Athletenliste!C19)","v":""},{"$f":"IF(Athletenliste!D19=\"\",\"\",Athletenliste!D19)","v":""},{"$f":"IF(Athletenliste!E19=\"\",\"\",Athletenliste!E19)","v":""},{"$f":"IF(Athletenliste!F19=\"\",\"\",Athletenliste!F19)","v":""},{"$f":"IF(Athletenliste!G19=\"\",\"\",Athletenliste!G19)","v":""},{"$f":"IF(Athletenliste!H19=\"\",\"\",Athletenliste!H19)","v":""},null,{"$f":"IF(B19=\"\",\"\",IF(D19=\"m\",INDIRECT(VLOOKUP(G19,Bezüge!$E$6:$F$16,2,FALSE)&ROW(G19)),INDIRECT(VLOOKUP(G19,Bezüge!$B$6:$C$16,2,FALSE)&ROW(G19))))","v":""},null,null,null,"","","","","","","","","","","","","","","","","","","","","","",null,"","","","","","","","","","","","","","","","","","","","","",""]
[null,{"$f":"IF(Athletenliste!B20=\"\",\"\",Athletenliste!B20)","v":""},{"$f":"IF(Athletenliste!C20=\"\",\"\",Athletenliste!C20)","v":""},{"$f":"IF(Athletenliste!D20=\"\",\"\",Athletenliste!D20)","v":""},{"$f":"IF(Athletenliste!E20=\"\",\"\",Athletenliste!E20)","v":""},{"$f":"IF(Athletenliste!F20=\"\",\"\",Athletenliste!F20)","v":""},{"$f":"IF(Athletenliste!G20=\"\",\"\",Athletenliste!G20)","v":""},{"$f":"IF(Athletenliste!H20=\"\",\"\",Athletenliste!H20)","v":""},null,{"$f":"IF(B20=\"\",\"\",IF(D20=\"m\",INDIRECT(VLOOKUP(G20,Bezüge!$E$6:$F$16,2,FALSE)&ROW(G20)),INDIRECT(VLOOKUP(G20,Bezüge!$B$6:$C$16,2,FALSE)&ROW(G20))))","v":""},null,null,null,"","","","","","","","","","","","","","","","","","","","","","",null,"","","","","","","","","","","","","","","","","","","","","",""]
[null,{"$f":"IF(Athletenliste!B21=\"\",\"\",Athletenliste!B21)","v":""},{"$f":"IF(Athletenliste!C21=\"\",\"\",Athletenliste!C21)","v":""},{"$f":"IF(Athletenliste!D21=\"\",\"\",Athletenliste!D21)","v":""},{"$f":"IF(Athletenliste!E21=\"\",\"\",Athletenliste!E21)","v":""},{"$f":"IF(Athletenliste!F21=\"\",\"\",Athletenliste!F21)","v":""},{"$f":"IF(Athletenliste!G21=\"\",\"\",Athletenliste!G21)","v":""},{"$f":"IF(Athletenliste!H21=\"\",\"\",Athletenliste!H21)","v":""},null,{"$f":"IF(B21=\"\",\"\",IF(D21=\"m\",INDIRECT(VLOOKUP(G21,Bezüge!$E$6:$F$16,2,FALSE)&ROW(G21)),INDIRECT(VLOOKUP(G21,Bezüge!$B$6:$C$16,2,FALSE)&ROW(G21))))","v":""},null,null,null,"","","","","","","","","","","","","","","","","","","","","","",null,"","","","","","","","","","","","","","","","","","","","","",""]
[null,{"$f":"IF(Athletenliste!B22=\"\",\"\",Athletenliste!B22)","v":""},{"$f":"IF(Athletenliste!C22=\"\",\"\",Athletenliste!C22)","v":""},{"$f":"IF(Athletenliste!D22=\"\",\"\",Athletenliste!D22)","v":""},{"$f":"IF(Athletenliste!E22=\"\",\"\",Athletenliste!E22)","v":""},{"$f":"IF(Athletenliste!F22=\"\",\"\",Athletenliste!F22)","v":""},{"$f":"IF(Athletenliste!G22=\"\",\"\",Athletenliste!G22)","v":""},{"$f":"IF(Athletenliste!H22=\"\",\"\",Athletenliste!H22)","v":""},null,{"$f":"IF(B22=\"\",\"\",IF(D22=\"m\",INDIRECT(VLOOKUP(G22,Bezüge!$E$6:$F$16,2,FALSE)&ROW(G22)),INDIRECT(VLOOKUP(G22,Bezüge!$B$6:$C$16,2,FALSE)&ROW(G22))))","v":""},null,null,null,"","","","","","","","","","","","","","","","","","","","","","",null,"","","","","","","","","","","","","","","","","","","","","",""]
[null,{"$f":"IF(Athletenliste!B23=\"\",\"\",Athletenliste!B23)","v":""},{"$f":"IF(Athletenliste!C23=\"\",\"\",Athletenliste!C23)","v":""},{"$f":"IF(Athletenliste!D23=\"\",\"\",Athletenliste!D23)","v":""},{"$f":"IF(Athletenliste!E23=\"\",\"\",Athletenliste!E23)","v":""},{"$f":"IF(Athletenliste!F23=\"\",\"\",Athletenliste!F23)","v":""},{"$f":"IF(Athletenliste!G23=\"\",\"\",Athletenliste!G23)","v":""},{"$f":"IF(Athletenliste!H23=\"\",\"\",Athletenliste!H23)","v":""},null,{"$f":"IF(B23=\"\",\"\",IF(D23=\"m\",INDIRECT(VLOOKUP(G23,Bezüge!$E$6:$F$16,2,FALSE)&ROW(G23)),INDIRECT(VLOOKUP(G23,Bezüge!$B$6:$C$16,2,FALSE)&ROW(G23))))","v":""},null,null,null,"","","","","","","","","","","","","","","","","","","","","","",null,"","","","","","","","","","","","","","","","","","","","","",""]
[null,{"$f":"IF(Athletenliste!B24=\"\",\"\",Athletenliste!B24)","v":""},{"$f":"IF(Athletenliste!C24=\"\",\"\",Athletenliste!C24)","v":""},{"$f":"IF(Athletenliste!D24=\"\",\"\",Athletenliste!D24)","v":""},{"$f":"IF(Athletenliste!E24=\"\",\"\",Athletenliste!E24)","v":""},{"$f":"IF(Athletenliste!F24=\"\",\"\",Athletenliste!F24)","v":""},{"$f":"IF(Athletenliste!G24=\"\",\"\",Athletenliste!G24)","v":""},{"$f":"IF(Athletenliste!H24=\"\",\"\",Athletenliste!H24)","v":""},null,{"$f":"IF(B24=\"\",\"\",IF(D24=\"m\",INDIRECT(VLOOKUP(G24,Bezüge!$E$6:$F$16,2,FALSE)&ROW(G24)),INDIRECT(VLOOKUP(G24,Bezüge!$B$6:$C$16,2,FALSE)&ROW(G24))))","v":""},null,null,null,"","","","","","","","","","","","","","","","","","","","","","",null,"","","","","","","","","","","","","","","","","","","","","",""]
[null,{"$f":"IF(Athletenliste!B25=\"\",\"\",Athletenliste!B25)","v":""},{"$f":"IF(Athletenliste!C25=\"\",\"\",Athletenliste!C25)","v":""},{"$f":"IF(Athletenliste!D25=\"\",\"\",Athletenliste!D25)","v":""},{"$f":"IF(Athletenliste!E25=\"\",\"\",Athletenliste!E25)","v":""},{"$f":"IF(Athletenliste!F25=\"\",\"\",Athletenliste!F25)","v":""},{"$f":"IF(Athletenliste!G25=\"\",\"\",Athletenliste!G25)","v":""},{"$f":"IF(Athletenliste!H25=\"\",\"\",Athletenliste!H25)","v":""},null,{"$f":"IF(B25=\"\",\"\",IF(D25=\"m\",INDIRECT(VLOOKUP(G25,Bezüge!$E$6:$F$16,2,FALSE)&ROW(G25)),INDIRECT(VLOOKUP(G25,Bezüge!$B$6:$C$16,2,FALSE)&ROW(G25))))","v":""},null,null,null,"","","","","","","","","","","","","","","","","","","","","","",null,"","","","","","","","","","","","","","","","","","","","","",""]
[null,{"$f":"IF(Athletenliste!B26=\"\",\"\",Athletenliste!B26)","v":""},{"$f":"IF(Athletenliste!C26=\"\",\"\",Athletenliste!C26)","v":""},{"$f":"IF(Athletenliste!D26=\"\",\"\",Athletenliste!D26)","v":""},{"$f":"IF(Athletenliste!E26=\"\",\"\",Athletenliste!E26)","v":""},{"$f":"IF(Athletenliste!F26=\"\",\"\",Athletenliste!F26)","v":""},{"$f":"IF(Athletenliste!G26=\"\",\"\",Athletenliste!G26)","v":""},{"$f":"IF(Athletenliste!H26=\"\",\"\",Athletenliste!H26)","v":""},null,{"$f":"IF(B26=\"\",\"\",IF(D26=\"m\",INDIRECT(VLOOKUP(G26,Bezüge!$E$6:$F$16,2,FALSE)&ROW(G26)),INDIRECT(VLOOKUP(G26,Bezüge!$B$6:$C$16,2,FALSE)&ROW(G26))))","v":""},null,null,null,"","","","","","","","","","","","","","","","","","","","","","",null,"","","","","","","","","","","","","","","","","","","","","",""]
[null,{"$f":"IF(Athletenliste!B27=\"\",\"\",Athletenliste!B27)","v":""},{"$f":"IF(Athletenliste!C27=\"\",\"\",Athletenliste!C27)","v":""},{"$f":"IF(Athletenliste!D27=\"\",\"\",Athletenliste!D27)","v":""},{"$f":"IF(Athletenliste!E27=\"\",\"\",Athletenliste!E27)","v":""},{"$f":"IF(Athletenliste!F27=\"\",\"\",Athletenliste!F27)","v":""},{"$f":"IF(Athletenliste!G27=\"\",\"\",Athletenliste!G27)","v":""},{"$f":"IF(Athletenliste!H27=\"\",\"\",Athletenliste!H27)","v":""},null,{"$f":"IF(B27=\"\",\"\",IF(D27=\"m\",INDIRECT(VLOOKUP(G27,Bezüge!$E$6:$F$16,2,FALSE)&ROW(G27)),INDIRECT(VLOOKUP(G27,Bezüge!$B$6:$C$16,2,FALSE)&ROW(G27))))","v":""},null,null,null,"","","","","","","","","","","","","","","","","","","","","","",null,"","","","","","","","","","","","","","","","","","","","","",""]
[null,{"$f":"IF(Athletenliste!B28=\"\",\"\",Athletenliste!B28)","v":""},{"$f":"IF(Athletenliste!C28=\"\",\"\",Athletenliste!C28)","v":""},{"$f":"IF(Athletenliste!D28=\"\",\"\",Athletenliste!D28)","v":""},{"$f":"IF(Athletenliste!E28=\"\",\"\",Athletenliste!E28)","v":""},{"$f":"IF(Athletenliste!F28=\"\",\"\",Athletenliste!F28)","v":""},{"$f":"IF(Athletenliste!G28=\"\",\"\",Athletenliste!G28)","v":""},{"$f":"IF(Athletenliste!H28=\"\",\"\",Athletenliste!H28)","v":""},null,{"$f":"IF(B28=\"\",\"\",IF(D28=\"m\",INDIRECT(VLOOKUP(G28,Bezüge!$E$6:$F$16,2,FALSE)&ROW(G28)),INDIRECT(VLOOKUP(G28,Bezüge!$B$6:$C$16,2,FALSE)&ROW(G28))))","v":""},null,null,null,"","","","","","","","","","","","","","","","","","","","","","",null,"","","","","","","","","","","","","","","","","","","","","",""]
[null,{"$f":"IF(Athletenliste!B29=\"\",\"\",Athletenliste!B29)","v":""},{"$f":"IF(Athletenliste!C29=\"\",\"\",Athletenliste!C29)","v":""},{"$f":"IF(Athletenliste!D29=\"\",\"\",Athletenliste!D29)","v":""},{"$f":"IF(Athletenliste!E29=\"\",\"\",Athletenliste!E29)","v":""},{"$f":"IF(Athletenliste!F29=\"\",\"\",Athletenliste!F29)","v":""},{"$f":"IF(Athletenliste!G29=\"\",\"\",Athletenliste!G29)","v":""},{"$f":"IF(Athletenliste!H29=\"\",\"\",Athletenliste!H29)","v":""},null,{"$f":"IF(B29=\"\",\"\",IF(D29=\"m\",INDIRECT(VLOOKUP(G29,Bezüge!$E$6:$F$16,2,FALSE)&ROW(G29)),INDIRECT(VLOOKUP(G29,Bezüge!$B$6:$C$16,2,FALSE)&ROW(G29))))","v":""},null,null,null,"","","","","","","","","","","","","","","","","","","","","","",null,"","","","","","","","","","","","","","","","","","","","","",""]
[null,{"$f":"IF(Athletenliste!B30=\"\",\"\",Athletenliste!B30)","v":""},{"$f":"IF(Athletenliste!C30=\"\",\"\",Athletenliste!C30)","v":""},{"$f":"IF(Athletenliste!D30=\"\",\"\",Athletenliste!D30)","v":""},{"$f":"IF(Athletenliste!E30=\"\",\"\",Athletenliste!E30)","v":""},{"$f":"IF(Athletenliste!F30=\"\",\"\",Athletenliste!F30)","v":""},{"$f":"IF(Athletenliste!G30=\"\",\"\",Athletenliste!G30)","v":""},{"$f":"IF(Athletenliste!H30=\"\",\"\",Athletenliste!H30)","v":""},null,{"$f":"IF(B30=\"\",\"\",IF(D30=\"m\",INDIRECT(VLOOKUP(G30,Bezüge!$E$6:$F$16,2,FALSE)&ROW(G30)),INDIRECT(VLOOKUP(G30,Bezüge!$B$6:$C$16,2,FALSE)&ROW(G30))))","v":""},null,null,null,"","","","","","","","","","","","","","","","","","","","","","",null,"","","","","","","","","","","","","","","","","","","","","",""]
[null,{"$f":"IF(Athletenliste!B31=\"\",\"\",Athletenliste!B31)","v":""},{"$f":"IF(Athletenliste!C31=\"\",\"\",Athletenliste!C31)","v":""},{"$f":"IF(Athletenliste!D31=\"\",\"\",Athletenliste!D31)","v":""},{"$f":"IF(Athletenliste!E31=\"\",\"\",Athletenliste!E31)","v":""},{"$f":"IF(Athletenliste!F31=\"\",\"\",Athletenliste!F31)","v":""},{"$f":"IF(Athletenliste!G31=\"\",\"\",Athletenliste!G31)","v":""},{"$f":"IF(Athletenliste!H31=\"\",\"\",Athletenliste!H31)","v":""},null,{"$f":"IF(B31=\"\",\"\",IF(D31=\"m\",INDIRECT(VLOOKUP(G31,Bezüge!$E$6:$F$16,2,FALSE)&ROW(G31)),INDIRECT(VLOOKUP(G31,Bezüge!$B$6:$C$16,2,FALSE)&ROW(G31))))","v":""},null,null,null,"","","","","","","","","","","","","","","","","","","","","","",null,"","","","","","","","","","","","","","","","","","","","","",""]
[null,{"$f":"IF(Athletenliste!B32=\"\",\"\",Athletenliste!B32)","v":""},{"$f":"IF(Athletenliste!C32=\"\",\"\",Athletenliste!C32)","v":""},{"$f":"IF(Athletenliste!D32=\"\",\"\",Athletenliste!D32)","v":""},{"$f":"IF(Athletenliste!E32=\"\",\"\",Athletenliste!E32)","v":""},{"$f":"IF(Athletenliste!F32=\"\",\"\",Athletenliste!F32)","v":""},{"$f":"IF(Athletenliste!G32=\"\",\"\",Athletenliste!G32)","v":""},{"$f":"IF(Athletenliste!H32=\"\",\"\",Athletenliste!H32)","v":""},null,{"$f":"IF(B32=\"\",\"\",IF(D32=\"m\",INDIRECT(VLOOKUP(G32,Bezüge!$E$6:$F$16,2,FALSE)&ROW(G32)),INDIRECT(VLOOKUP(G32,Bezüge!$B$6:$C$16,2,FALSE)&ROW(G32))))","v":""},null,null,null,"","","","","","","","","","","","","","","","","","","","","","",null,"","","","","","","","","","","","","","","","","","","","","",""]
[null,{"$f":"IF(Athletenliste!B33=\"\",\"\",Athletenliste!B33)","v":""},{"$f":"IF(Athletenliste!C33=\"\",\"\",Athletenliste!C33)","v":""},{"$f":"IF(Athletenliste!D33=\"\",\"\",Athletenliste!D33)","v":""},{"$f":"IF(Athletenliste!E33=\"\",\"\",Athletenliste!E33)","v":""},{"$f":"IF(Athletenliste!F33=\"\",\"\",Athletenliste!F33)","v":""},{"$f":"IF(Athletenliste!G33=\"\",\"\",Athletenliste!G33)","v":""},{"$f":"IF(Athletenliste!H33=\"\",\"\",Athletenliste!H33)","v":""},null,{"$f":"IF(B33=\"\",\"\",IF(D33=\"m\",INDIRECT(VLOOKUP(G33,Bezüge!$E$6:$F$16,2,FALSE)&ROW(G33)),INDIRECT(VLOOKUP(G33,Bezüge!$B$6:$C$16,2,FALSE)&ROW(G33))))","v":""},null,null,null,"","","","","","","","","","","","","","","","","","","","","","",null,"","","","","","","","","","","","","","","","","","","","","",""]
[null,{"$f":"IF(Athletenliste!B34=\"\",\"\",Athletenliste!B34)","v":""},{"$f":"IF(Athletenliste!C34=\"\",\"\",Athletenliste!C34)","v":""},{"$f":"IF(Athletenliste!D34=\"\",\"\",Athletenliste!D34)","v":""},{"$f":"IF(Athletenliste!E34=\"\",\"\",Athletenliste!E34)","v":""},{"$f":"IF(Athletenliste!F34=\"\",\"\",Athletenliste!F34)","v":""},{"$f":"IF(Athletenliste!G34=\"\",\"\",Athletenliste!G34)","v":""},{"$f":"IF(Athletenliste!H34=\"\",\"\",Athletenliste!H34)","v":""},null,{"$f":"IF(B34=\"\",\"\",IF(D34=\"m\",INDIRECT(VLOOKUP(G34,Bezüge!$E$6:$F$16,2,FALSE)&ROW(G34)),INDIRECT(VLOOKUP(G34,Bezüge!$B$6:$C$16,2,FALSE)&ROW(G34))))","v":""},null,null,null,"","","","","","","","","","","","","","","","","","","","","","",null,"","","","","","","","","","","","","","","","","","","","","",""]
[null,{"$f":"IF(Athletenliste!B35=\"\",\"\",Athletenliste!B35)","v":""},{"$f":"IF(Athletenliste!C35=\"\",\"\",Athletenliste!C35)","v":""},{"$f":"IF(Athletenliste!D35=\"\",\"\",Athletenliste!D35)","v":""},{"$f":"IF(Athletenliste!E35=\"\",\"\",Athletenliste!E35)","v":""},{"$f":"IF(Athletenliste!F35=\"\",\"\",Athletenliste!F35)","v":""},{"$f":"IF(Athletenliste!G35=\"\",\"\",Athletenliste!G35)","v":""},{"$f":"IF(Athletenliste!H35=\"\",\"\",Athletenliste!H35)","v":""},null,{"$f":"IF(B35=\"\",\"\",IF(D35=\"m\",INDIRECT(VLOOKUP(G35,Bezüge!$E$6:$F$16,2,FALSE)&ROW(G35)),INDIRECT(VLOOKUP(G35,Bezüge!$B$6:$C$16,2,FALSE)&ROW(G35))))","v":""},null,null,null,"","","","","","","","","","","","","","","","","","","","","","",null,"","","","","","","","","","","","","","","","","","","","","",""]
[null,{"$f":"IF(Athletenliste!B36=\"\",\"\",Athletenliste!B36)","v":""},{"$f":"IF(Athletenliste!C36=\"\",\"\",Athletenliste!C36)","v":""},{"$f":"IF(Athletenliste!D36=\"\",\"\",Athletenliste!D36)","v":""},{"$f":"IF(Athletenliste!E36=\"\",\"\",Athletenliste!E36)","v":""},{"$f":"IF(Athletenliste!F36=\"\",\"\",Athletenliste!F36)","v":""},{"$f":"IF(Athletenliste!G36=\"\",\"\",Athletenliste!G36)","v":""},{"$f":"IF(Athletenliste!H36=\"\",\"\",Athletenliste!H36)","v":""},null,{"$f":"IF(B36=\"\",\"\",IF(D36=\"m\",INDIRECT(VLOOKUP(G36,Bezüge!$E$6:$F$16,2,FALSE)&ROW(G36)),INDIRECT(VLOOKUP(G36,Bezüge!$B$6:$C$16,2,FALSE)&ROW(G36))))","v":""},null,null,null,"","","","","","","","","","","","","","","","","","","","","","",null,"","","","","","","","","","","","","","","","","","","","","",""]
[null,{"$f":"IF(Athletenliste!B37=\"\",\"\",Athletenliste!B37)","v":""},{"$f":"IF(Athletenliste!C37=\"\",\"\",Athletenliste!C37)","v":""},{"$f":"IF(Athletenliste!D37=\"\",\"\",Athletenliste!D37)","v":""},{"$f":"IF(Athletenliste!E37=\"\",\"\",Athletenliste!E37)","v":""},{"$f":"IF(Athletenliste!F37=\"\",\"\",Athletenliste!F37)","v":""},{"$f":"IF(Athletenliste!G37=\"\",\"\",Athletenliste!G37)","v":""},{"$f":"IF(Athletenliste!H37=\"\",\"\",Athletenliste!H37)","v":""},null,{"$f":"IF(B37=\"\",\"\",IF(D37=\"m\",INDIRECT(VLOOKUP(G37,Bezüge!$E$6:$F$16,2,FALSE)&ROW(G37)),INDIRECT(VLOOKUP(G37,Bezüge!$B$6:$C$16,2,FALSE)&ROW(G37))))","v":""},null,null,null,"","","","","","","","","","","","","","","","","","","","","","",null,"","","","","","","","","","","","","","","","","","","","","",""]
[null,{"$f":"IF(Athletenliste!B38=\"\",\"\",Athletenliste!B38)","v":""},{"$f":"IF(Athletenliste!C38=\"\",\"\",Athletenliste!C38)","v":""},{"$f":"IF(Athletenliste!D38=\"\",\"\",Athletenliste!D38)","v":""},{"$f":"IF(Athletenliste!E38=\"\",\"\",Athletenliste!E38)","v":""},{"$f":"IF(Athletenliste!F38=\"\",\"\",Athletenliste!F38)","v":""},{"$f":"IF(Athletenliste!G38=\"\",\"\",Athletenliste!G38)","v":""},{"$f":"IF(Athletenliste!H38=\"\",\"\",Athletenliste!H38)","v":""},null,{"$f":"IF(B38=\"\",\"\",IF(D38=\"m\",INDIRECT(VLOOKUP(G38,Bezüge!$E$6:$F$16,2,FALSE)&ROW(G38)),INDIRECT(VLOOKUP(G38,Bezüge!$B$6:$C$16,2,FALSE)&ROW(G38))))","v":""},null,null,null,"","","","","","","","","","","","","","","","","","","","","","",null,"","","","","","","","","","","","","","","","","","","","","",""]
[null,{"$f":"IF(Athletenliste!B39=\"\",\"\",Athletenliste!B39)","v":""},{"$f":"IF(Athletenliste!C39=\"\",\"\",Athletenliste!C39)","v":""},{"$f":"IF(Athletenliste!D39=\"\",\"\",Athletenliste!D39)","v":""},{"$f":"IF(Athletenliste!E39=\"\",\"\",Athletenliste!E39)","v":""},{"$f":"IF(Athletenliste!F39=\"\",\"\",Athletenliste!F39)","v":""},{"$f":"IF(Athletenliste!G39=\"\",\"\",Athletenliste!G39)","v":""},{"$f":"IF(Athletenliste!H39=\"\",\"\",Athletenliste!H39)","v":""},null,{"$f":"IF(B39=\"\",\"\",IF(D39=\"m\",INDIRECT(VLOOKUP(G39,Bezüge!$E$6:$F$16,2,FALSE)&ROW(G39)),INDIRECT(VLOOKUP(G39,Bezüge!$B$6:$C$16,2,FALSE)&ROW(G39))))","v":""},null,null,null,"","","","","","","","","","","","","","","","","","","","","","",null,"","","","","","","","","","","","","","","","","","","","","",""]
[null,{"$f":"IF(Athletenliste!B40=\"\",\"\",Athletenliste!B40)","v":""},{"$f":"IF(Athletenliste!C40=\"\",\"\",Athletenliste!C40)","v":""},{"$f":"IF(Athletenliste!D40=\"\",\"\",Athletenliste!D40)","v":""},{"$f":"IF(Athletenliste!E40=\"\",\"\",Athletenliste!E40)","v":""},{"$f":"IF(Athletenliste!F40=\"\",\"\",Athletenliste!F40)","v":""},{"$f":"IF(Athletenliste!G40=\"\",\"\",Athletenliste!G40)","v":""},{"$f":"IF(Athletenliste!H40=\"\",\"\",Athletenliste!H40)","v":""},null,{"$f":"IF(B40=\"\",\"\",IF(D40=\"m\",INDIRECT(VLOOKUP(G40,Bezüge!$E$6:$F$16,2,FALSE)&ROW(G40)),INDIRECT(VLOOKUP(G40,Bezüge!$B$6:$C$16,2,FALSE)&ROW(G40))))","v":""},null,null,null,"","","","","","","","","","","","","","","","","","","","","","",null,"","","","","","","","","","","","","","","","","","","","","",""]
[null,{"$f":"IF(Athletenliste!B41=\"\",\"\",Athletenliste!B41)","v":""},{"$f":"IF(Athletenliste!C41=\"\",\"\",Athletenliste!C41)","v":""},{"$f":"IF(Athletenliste!D41=\"\",\"\",Athletenliste!D41)","v":""},{"$f":"IF(Athletenliste!E41=\"\",\"\",Athletenliste!E41)","v":""},{"$f":"IF(Athletenliste!F41=\"\",\"\",Athletenliste!F41)","v":""},{"$f":"IF(Athletenliste!G41=\"\",\"\",Athletenliste!G41)","v":""},{"$f":"IF(Athletenliste!H41=\"\",\"\",Athletenliste!H41)","v":""},null,{"$f":"IF(B41=\"\",\"\",IF(D41=\"m\",INDIRECT(VLOOKUP(G41,Bezüge!$E$6:$F$16,2,FALSE)&ROW(G41)),INDIRECT(VLOOKUP(G41,Bezüge!$B$6:$C$16,2,FALSE)&ROW(G41))))","v":""},null,null,null,"","","","","","","","","","","","","","","","","","","","","","",null,"","","","","","","","","","","","","","","","","","","","","",""]
[null,{"$f":"IF(Athletenliste!B42=\"\",\"\",Athletenliste!B42)","v":""},{"$f":"IF(Athletenliste!C42=\"\",\"\",Athletenliste!C42)","v":""},{"$f":"IF(Athletenliste!D42=\"\",\"\",Athletenliste!D42)","v":""},{"$f":"IF(Athletenliste!E42=\"\",\"\",Athletenliste!E42)","v":""},{"$f":"IF(Athletenliste!F42=\"\",\"\",Athletenliste!F42)","v":""},{"$f":"IF(Athletenliste!G42=\"\",\"\",Athletenliste!G42)","v":""},{"$f":"IF(Athletenliste!H42=\"\",\"\",Athletenliste!H42)","v":""},null,{"$f":"IF(B42=\"\",\"\",IF(D42=\"m\",INDIRECT(VLOOKUP(G42,Bezüge!$E$6:$F$16,2,FALSE)&ROW(G42)),INDIRECT(VLOOKUP(G42,Bezüge!$B$6:$C$16,2,FALSE)&ROW(G42))))","v":""},null,null,null,"","","","","","","","","","","","","","","","","","","","","","",null,"","","","","","","","","","","","","","","","","","","","","",""]
[null,{"$f":"IF(Athletenliste!B43=\"\",\"\",Athletenliste!B43)","v":""},{"$f":"IF(Athletenliste!C43=\"\",\"\",Athletenliste!C43)","v":""},{"$f":"IF(Athletenliste!D43=\"\",\"\",Athletenliste!D43)","v":""},{"$f":"IF(Athletenliste!E43=\"\",\"\",Athletenliste!E43)","v":""},{"$f":"IF(Athletenliste!F43=\"\",\"\",Athletenliste!F43)","v":""},{"$f":"IF(Athletenliste!G43=\"\",\"\",Athletenliste!G43)","v":""},{"$f":"IF(Athletenliste!H43=\"\",\"\",Athletenliste!H43)","v":""},null,{"$f":"IF(B43=\"\",\"\",IF(D43=\"m\",INDIRECT(VLOOKUP(G43,Bezüge!$E$6:$F$16,2,FALSE)&ROW(G43)),INDIRECT(VLOOKUP(G43,Bezüge!$B$6:$C$16,2,FALSE)&ROW(G43))))","v":""},null,null,null,"","","","","","","","","","","","","","","","","","","","","","",null,"","","","","","","","","","","","","","","","","","","","","",""]
[null,{"$f":"IF(Athletenliste!B44=\"\",\"\",Athletenliste!B44)","v":""},{"$f":"IF(Athletenliste!C44=\"\",\"\",Athletenliste!C44)","v":""},{"$f":"IF(Athletenliste!D44=\"\",\"\",Athletenliste!D44)","v":""},{"$f":"IF(Athletenliste!E44=\"\",\"\",Athletenliste!E44)","v":""},{"$f":"IF(Athletenliste!F44=\"\",\"\",Athletenliste!F44)","v":""},{"$f":"IF(Athletenliste!G44=\"\",\"\",Athletenliste!G44)","v":""},{"$f":"IF(Athletenliste!H44=\"\",\"\",Athletenliste!H44)","v":""},null,{"$f":"IF(B44=\"\",\"\",IF(D44=\"m\",INDIRECT(VLOOKUP(G44,Bezüge!$E$6:$F$16,2,FALSE)&ROW(G44)),INDIRECT(VLOOKUP(G44,Bezüge!$B$6:$C$16,2,FALSE)&ROW(G44))))","v":""},null,null,null,"","","","","","","","","","","","","","","","","","","","","","",null,"","","","","","","","","","","","","","","","","","","","","",""]
[null,{"$f":"IF(Athletenliste!B45=\"\",\"\",Athletenliste!B45)","v":""},{"$f":"IF(Athletenliste!C45=\"\",\"\",Athletenliste!C45)","v":""},{"$f":"IF(Athletenliste!D45=\"\",\"\",Athletenliste!D45)","v":""},{"$f":"IF(Athletenliste!E45=\"\",\"\",Athletenliste!E45)","v":""},{"$f":"IF(Athletenliste!F45=\"\",\"\",Athletenliste!F45)","v":""},{"$f":"IF(Athletenliste!G45=\"\",\"\",Athletenliste!G45)","v":""},{"$f":"IF(Athletenliste!H45=\"\",\"\",Athletenliste!H45)","v":""},null,{"$f":"IF(B45=\"\",\"\",IF(D45=\"m\",INDIRECT(VLOOKUP(G45,Bezüge!$E$6:$F$16,2,FALSE)&ROW(G45)),INDIRECT(VLOOKUP(G45,Bezüge!$B$6:$C$16,2,FALSE)&ROW(G45))))","v":""},null,null,null,"","","","","","","","","","","","","","","","","","","","","","",null,"","","","","","","","","","","","","","","","","","","","","",""]
[null,{"$f":"IF(Athletenliste!B46=\"\",\"\",Athletenliste!B46)","v":""},{"$f":"IF(Athletenliste!C46=\"\",\"\",Athletenliste!C46)","v":""},{"$f":"IF(Athletenliste!D46=\"\",\"\",Athletenliste!D46)","v":""},{"$f":"IF(Athletenliste!E46=\"\",\"\",Athletenliste!E46)","v":""},{"$f":"IF(Athletenliste!F46=\"\",\"\",Athletenliste!F46)","v":""},{"$f":"IF(Athletenliste!G46=\"\",\"\",Athletenliste!G46)","v":""},{"$f":"IF(Athletenliste!H46=\"\",\"\",Athletenliste!H46)","v":""},null,{"$f":"IF(B46=\"\",\"\",IF(D46=\"m\",INDIRECT(VLOOKUP(G46,Bezüge!$E$6:$F$16,2,FALSE)&ROW(G46)),INDIRECT(VLOOKUP(G46,Bezüge!$B$6:$C$16,2,FALSE)&ROW(G46))))","v":""},null,null,null,"","","","","","","","","","","","","","","","","","","","","","",null,"","","","","","","","","","","","","","","","","","","","","",""]
[null,{"$f":"IF(Athletenliste!B47=\"\",\"\",Athletenliste!B47)","v":""},{"$f":"IF(Athletenliste!C47=\"\",\"\",Athletenliste!C47)","v":""},{"$f":"IF(Athletenliste!D47=\"\",\"\",Athletenliste!D47)","v":""},{"$f":"IF(Athletenliste!E47=\"\",\"\",Athletenliste!E47)","v":""},{"$f":"IF(Athletenliste!F47=\"\",\"\",Athletenliste!F47)","v":""},{"$f":"IF(Athletenliste!G47=\"\",\"\",Athletenliste!G47)","v":""},{"$f":"IF(Athletenliste!H47=\"\",\"\",Athletenliste!H47)","v":""},null,{"$f":"IF(B47=\"\",\"\",IF(D47=\"m\",INDIRECT(VLOOKUP(G47,Bezüge!$E$6:$F$16,2,FALSE)&ROW(G47)),INDIRECT(VLOOKUP(G47,Bezüge!$B$6:$C$16,2,FALSE)&ROW(G47))))","v":""},null,null,null,"","","","","","","","","","","","","","","","","","","","","","",null,"","","","","","","","","","","","","","","","","","","","","",""]
[null,{"$f":"IF(Athletenliste!B48=\"\",\"\",Athletenliste!B48)","v":""},{"$f":"IF(Athletenliste!C48=\"\",\"\",Athletenliste!C48)","v":""},{"$f":"IF(Athletenliste!D48=\"\",\"\",Athletenliste!D48)","v":""},{"$f":"IF(Athletenliste!E48=\"\",\"\",Athletenliste!E48)","v":""},{"$f":"IF(Athletenliste!F48=\"\",\"\",Athletenliste!F48)","v":""},{"$f":"IF(Athletenliste!G48=\"\",\"\",Athletenliste!G48)","v":""},{"$f":"IF(Athletenliste!H48=\"\",\"\",Athletenliste!H48)","v":""},null,{"$f":"IF(B48=\"\",\"\",IF(D48=\"m\",INDIRECT(VLOOKUP(G48,Bezüge!$E$6:$F$16,2,FALSE)&ROW(G48)),INDIRECT(VLOOKUP(G48,Bezüge!$B$6:$C$16,2,FALSE)&ROW(G48))))","v":""},null,null,null,"","","","","","","","","","","","","","","","","","","","","","",null,"","","","","","","","","","","","","","","","","","","","","",""]
[null,{"$f":"IF(Athletenliste!B49=\"\",\"\",Athletenliste!B49)","v":""},{"$f":"IF(Athletenliste!C49=\"\",\"\",Athletenliste!C49)","v":""},{"$f":"IF(Athletenliste!D49=\"\",\"\",Athletenliste!D49)","v":""},{"$f":"IF(Athletenliste!E49=\"\",\"\",Athletenliste!E49)","v":""},{"$f":"IF(Athletenliste!F49=\"\",\"\",Athletenliste!F49)","v":""},{"$f":"IF(Athletenliste!G49=\"\",\"\",Athletenliste!G49)","v":""},{"$f":"IF(Athletenliste!H49=\"\",\"\",Athletenliste!H49)","v":""},null,{"$f":"IF(B49=\"\",\"\",IF(D49=\"m\",INDIRECT(VLOOKUP(G49,Bezüge!$E$6:$F$16,2,FALSE)&ROW(G49)),INDIRECT(VLOOKUP(G49,Bezüge!$B$6:$C$16,2,FALSE)&ROW(G49))))","v":""},null,null,null,"","","","","","","","","","","","","","","","","","","","","","",null,"","","","","","","","","","","","","","","","","","","","","",""]
[null,{"$f":"IF(Athletenliste!B50=\"\",\"\",Athletenliste!B50)","v":""},{"$f":"IF(Athletenliste!C50=\"\",\"\",Athletenliste!C50)","v":""},{"$f":"IF(Athletenliste!D50=\"\",\"\",Athletenliste!D50)","v":""},{"$f":"IF(Athletenliste!E50=\"\",\"\",Athletenliste!E50)","v":""},{"$f":"IF(Athletenliste!F50=\"\",\"\",Athletenliste!F50)","v":""},{"$f":"IF(Athletenliste!G50=\"\",\"\",Athletenliste!G50)","v":""},{"$f":"IF(Athletenliste!H50=\"\",\"\",Athletenliste!H50)","v":""},null,{"$f":"IF(B50=\"\",\"\",IF(D50=\"m\",INDIRECT(VLOOKUP(G50,Bezüge!$E$6:$F$16,2,FALSE)&ROW(G50)),INDIRECT(VLOOKUP(G50,Bezüge!$B$6:$C$16,2,FALSE)&ROW(G50))))","v":""},null,null,null,"","","","","","","","","","","","","","","","","","","","","","",null,"","","","","","","","","","","","","","","","","","","","","",""]
[null,{"$f":"IF(Athletenliste!B51=\"\",\"\",Athletenliste!B51)","v":""},{"$f":"IF(Athletenliste!C51=\"\",\"\",Athletenliste!C51)","v":""},{"$f":"IF(Athletenliste!D51=\"\",\"\",Athletenliste!D51)","v":""},{"$f":"IF(Athletenliste!E51=\"\",\"\",Athletenliste!E51)","v":""},{"$f":"IF(Athletenliste!F51=\"\",\"\",Athletenliste!F51)","v":""},{"$f":"IF(Athletenliste!G51=\"\",\"\",Athletenliste!G51)","v":""},{"$f":"IF(Athletenliste!H51=\"\",\"\",Athletenliste!H51)","v":""},null,{"$f":"IF(B51=\"\",\"\",IF(D51=\"m\",INDIRECT(VLOOKUP(G51,Bezüge!$E$6:$F$16,2,FALSE)&ROW(G51)),INDIRECT(VLOOKUP(G51,Bezüge!$B$6:$C$16,2,FALSE)&ROW(G51))))","v":""},null,null,null,"","","","","","","","","","","","","","","","","","","","","","",null,"","","","","","","","","","","","","","","","","","","","","",""]
[null,{"$f":"IF(Athletenliste!B52=\"\",\"\",Athletenliste!B52)","v":""},{"$f":"IF(Athletenliste!C52=\"\",\"\",Athletenliste!C52)","v":""},{"$f":"IF(Athletenliste!D52=\"\",\"\",Athletenliste!D52)","v":""},{"$f":"IF(Athletenliste!E52=\"\",\"\",Athletenliste!E52)","v":""},{"$f":"IF(Athletenliste!F52=\"\",\"\",Athletenliste!F52)","v":""},{"$f":"IF(Athletenliste!G52=\"\",\"\",Athletenliste!G52)","v":""},{"$f":"IF(Athletenliste!H52=\"\",\"\",Athletenliste!H52)","v":""},null,{"$f":"IF(B52=\"\",\"\",IF(D52=\"m\",INDIRECT(VLOOKUP(G52,Bezüge!$E$6:$F$16,2,FALSE)&ROW(G52)),INDIRECT(VLOOKUP(G52,Bezüge!$B$6:$C$16,2,FALSE)&ROW(G52))))","v":""},null,null,null,"","","","","","","","","","","","","","","","","","","","","","",null,"","","","","","","","","","","","","","","","","","","","","",""]
[null,{"$f":"IF(Athletenliste!B53=\"\",\"\",Athletenliste!B53)","v":""},{"$f":"IF(Athletenliste!C53=\"\",\"\",Athletenliste!C53)","v":""},{"$f":"IF(Athletenliste!D53=\"\",\"\",Athletenliste!D53)","v":""},{"$f":"IF(Athletenliste!E53=\"\",\"\",Athletenliste!E53)","v":""},{"$f":"IF(Athletenliste!F53=\"\",\"\",Athletenliste!F53)","v":""},{"$f":"IF(Athletenliste!G53=\"\",\"\",Athletenliste!G53)","v":""},{"$f":"IF(Athletenliste!H53=\"\",\"\",Athletenliste!H53)","v":""},null,{"$f":"IF(B53=\"\",\"\",IF(D53=\"m\",INDIRECT(VLOOKUP(G53,Bezüge!$E$6:$F$16,2,FALSE)&ROW(G53)),INDIRECT(VLOOKUP(G53,Bezüge!$B$6:$C$16,2,FALSE)&ROW(G53))))","v":""},null,null,null,"","","","","","","","","","","","","","","","","","","","","","",null,"","","","","","","","","","","","","","","","","","","","","",""]
[null,{"$f":"IF(Athletenliste!B54=\"\",\"\",Athletenliste!B54)","v":""},{"$f":"IF(Athletenliste!C54=\"\",\"\",Athletenliste!C54)","v":""},{"$f":"IF(Athletenliste!D54=\"\",\"\",Athletenliste!D54)","v":""},{"$f":"IF(Athletenliste!E54=\"\",\"\",Athletenliste!E54)","v":""},{"$f":"IF(Athletenliste!F54=\"\",\"\",Athletenliste!F54)","v":""},{"$f":"IF(Athletenliste!G54=\"\",\"\",Athletenliste!G54)","v":""},{"$f":"IF(Athletenliste!H54=\"\",\"\",Athletenliste!H54)","v":""},null,{"$f":"IF(B54=\"\",\"\",IF(D54=\"m\",INDIRECT(VLOOKUP(G54,Bezüge!$E$6:$F$16,2,FALSE)&ROW(G54)),INDIRECT(VLOOKUP(G54,Bezüge!$B$6:$C$16,2,FALSE)&ROW(G54))))","v":""},null,null,null,"","","","","","","","","","","","","","","","","","","","","","",null,"","","","","","","","","","","","","","","","","","","","","",""]
[null,{"$f":"IF(Athletenliste!B55=\"\",\"\",Athletenliste!B55)","v":""},{"$f":"IF(Athletenliste!C55=\"\",\"\",Athletenliste!C55)","v":""},{"$f":"IF(Athletenliste!D55=\"\",\"\",Athletenliste!D55)","v":""},{"$f":"IF(Athletenliste!E55=\"\",\"\",Athletenliste!E55)","v":""},{"$f":"IF(Athletenliste!F55=\"\",\"\",Athletenliste!F55)","v":""},{"$f":"IF(Athletenliste!G55=\"\",\"\",Athletenliste!G55)","v":""},{"$f":"IF(Athletenliste!H55=\"\",\"\",Athletenliste!H55)","v":""},null,{"$f":"IF(B55=\"\",\"\",IF(D55=\"m\",INDIRECT(VLOOKUP(G55,Bezüge!$E$6:$F$16,2,FALSE)&ROW(G55)),INDIRECT(VLOOKUP(G55,Bezüge!$B$6:$C$16,2,FALSE)&ROW(G55))))","v":""},null,null,null,"","","","","","","","","","","","","","","","","","","","","","",null,"","","","","","","","","","","","","","","","","","","","","",""]
[null,{"$f":"IF(Athletenliste!B56=\"\",\"\",Athletenliste!B56)","v":""},{"$f":"IF(Athletenliste!C56=\"\",\"\",Athletenliste!C56)","v":""},{"$f":"IF(Athletenliste!D56=\"\",\"\",Athletenliste!D56)","v":""},{"$f":"IF(Athletenliste!E56=\"\",\"\",Athletenliste!E56)","v":""},{"$f":"IF(Athletenliste!F56=\"\",\"\",Athletenliste!F56)","v":""},{"$f":"IF(Athletenliste!G56=\"\",\"\",Athletenliste!G56)","v":""},{"$f":"IF(Athletenliste!H56=\"\",\"\",Athletenliste!H56)","v":""},null,{"$f":"IF(B56=\"\",\"\",IF(D56=\"m\",INDIRECT(VLOOKUP(G56,Bezüge!$E$6:$F$16,2,FALSE)&ROW(G56)),INDIRECT(VLOOKUP(G56,Bezüge!$B$6:$C$16,2,FALSE)&ROW(G56))))","v":""},null,null,null,"","","","","","","","","","","","","","","","","","","","","","",null,"","","","","","","","","","","","","","","","","","","","","",""]
[null,{"$f":"IF(Athletenliste!B57=\"\",\"\",Athletenliste!B57)","v":""},{"$f":"IF(Athletenliste!C57=\"\",\"\",Athletenliste!C57)","v":""},{"$f":"IF(Athletenliste!D57=\"\",\"\",Athletenliste!D57)","v":""},{"$f":"IF(Athletenliste!E57=\"\",\"\",Athletenliste!E57)","v":""},{"$f":"IF(Athletenliste!F57=\"\",\"\",Athletenliste!F57)","v":""},{"$f":"IF(Athletenliste!G57=\"\",\"\",Athletenliste!G57)","v":""},{"$f":"IF(Athletenliste!H57=\"\",\"\",Athletenliste!H57)","v":""},null,{"$f":"IF(B57=\"\",\"\",IF(D57=\"m\",INDIRECT(VLOOKUP(G57,Bezüge!$E$6:$F$16,2,FALSE)&ROW(G57)),INDIRECT(VLOOKUP(G57,Bezüge!$B$6:$C$16,2,FALSE)&ROW(G57))))","v":""},null,null,null,"","","","","","","","","","","","","","","","","","","","","","",null,"","","","","","","","","","","","","","","","","","","","","",""]
[null,{"$f":"IF(Athletenliste!B58=\"\",\"\",Athletenliste!B58)","v":""},{"$f":"IF(Athletenliste!C58=\"\",\"\",Athletenliste!C58)","v":""},{"$f":"IF(Athletenliste!D58=\"\",\"\",Athletenliste!D58)","v":""},{"$f":"IF(Athletenliste!E58=\"\",\"\",Athletenliste!E58)","v":""},{"$f":"IF(Athletenliste!F58=\"\",\"\",Athletenliste!F58)","v":""},{"$f":"IF(Athletenliste!G58=\"\",\"\",Athletenliste!G58)","v":""},{"$f":"IF(Athletenliste!H58=\"\",\"\",Athletenliste!H58)","v":""},null,{"$f":"IF(B58=\"\",\"\",IF(D58=\"m\",INDIRECT(VLOOKUP(G58,Bezüge!$E$6:$F$16,2,FALSE)&ROW(G58)),INDIRECT(VLOOKUP(G58,Bezüge!$B$6:$C$16,2,FALSE)&ROW(G58))))","v":""},null,null,null,"","","","","","","","","","","","","","","","","","","","","","",null,"","","","","","","","","","","","","","","","","","","","","",""]
[null,{"$f":"IF(Athletenliste!B59=\"\",\"\",Athletenliste!B59)","v":""},{"$f":"IF(Athletenliste!C59=\"\",\"\",Athletenliste!C59)","v":""},{"$f":"IF(Athletenliste!D59=\"\",\"\",Athletenliste!D59)","v":""},{"$f":"IF(Athletenliste!E59=\"\",\"\",Athletenliste!E59)","v":""},{"$f":"IF(Athletenliste!F59=\"\",\"\",Athletenliste!F59)","v":""},{"$f":"IF(Athletenliste!G59=\"\",\"\",Athletenliste!G59)","v":""},{"$f":"IF(Athletenliste!H59=\"\",\"\",Athletenliste!H59)","v":""},null,{"$f":"IF(B59=\"\",\"\",IF(D59=\"m\",INDIRECT(VLOOKUP(G59,Bezüge!$E$6:$F$16,2,FALSE)&ROW(G59)),INDIRECT(VLOOKUP(G59,Bezüge!$B$6:$C$16,2,FALSE)&ROW(G59))))","v":""},null,null,null,"","","","","","","","","","","","","","","","","","","","","","",null,"","","","","","","","","","","","","","","","","","","","","",""]
[null,{"$f":"IF(Athletenliste!B60=\"\",\"\",Athletenliste!B60)","v":""},{"$f":"IF(Athletenliste!C60=\"\",\"\",Athletenliste!C60)","v":""},{"$f":"IF(Athletenliste!D60=\"\",\"\",Athletenliste!D60)","v":""},{"$f":"IF(Athletenliste!E60=\"\",\"\",Athletenliste!E60)","v":""},{"$f":"IF(Athletenliste!F60=\"\",\"\",Athletenliste!F60)","v":""},{"$f":"IF(Athletenliste!G60=\"\",\"\",Athletenliste!G60)","v":""},{"$f":"IF(Athletenliste!H60=\"\",\"\",Athletenliste!H60)","v":""},null,{"$f":"IF(B60=\"\",\"\",IF(D60=\"m\",INDIRECT(VLOOKUP(G60,Bezüge!$E$6:$F$16,2,FALSE)&ROW(G60)),INDIRECT(VLOOKUP(G60,Bezüge!$B$6:$C$16,2,FALSE)&ROW(G60))))","v":""},null,null,null,"","","","","","","","","","","","","","","","","","","","","","",null,"","","","","","","","","","","","","","","","","","","","","",""]
[null,{"$f":"IF(Athletenliste!B61=\"\",\"\",Athletenliste!B61)","v":""},{"$f":"IF(Athletenliste!C61=\"\",\"\",Athletenliste!C61)","v":""},{"$f":"IF(Athletenliste!D61=\"\",\"\",Athletenliste!D61)","v":""},{"$f":"IF(Athletenliste!E61=\"\",\"\",Athletenliste!E61)","v":""},{"$f":"IF(Athletenliste!F61=\"\",\"\",Athletenliste!F61)","v":""},{"$f":"IF(Athletenliste!G61=\"\",\"\",Athletenliste!G61)","v":""},{"$f":"IF(Athletenliste!H61=\"\",\"\",Athletenliste!H61)","v":""},null,{"$f":"IF(B61=\"\",\"\",IF(D61=\"m\",INDIRECT(VLOOKUP(G61,Bezüge!$E$6:$F$16,2,FALSE)&ROW(G61)),INDIRECT(VLOOKUP(G61,Bezüge!$B$6:$C$16,2,FALSE)&ROW(G61))))","v":""},null,null,null,"","","","","","","","","","","","","","","","","","","","","","",null,"","","","","","","","","","","","","","","","","","","","","",""]
[null,{"$f":"IF(Athletenliste!B62=\"\",\"\",Athletenliste!B62)","v":""},{"$f":"IF(Athletenliste!C62=\"\",\"\",Athletenliste!C62)","v":""},{"$f":"IF(Athletenliste!D62=\"\",\"\",Athletenliste!D62)","v":""},{"$f":"IF(Athletenliste!E62=\"\",\"\",Athletenliste!E62)","v":""},{"$f":"IF(Athletenliste!F62=\"\",\"\",Athletenliste!F62)","v":""},{"$f":"IF(Athletenliste!G62=\"\",\"\",Athletenliste!G62)","v":""},{"$f":"IF(Athletenliste!H62=\"\",\"\",Athletenliste!H62)","v":""},null,{"$f":"IF(B62=\"\",\"\",IF(D62=\"m\",INDIRECT(VLOOKUP(G62,Bezüge!$E$6:$F$16,2,FALSE)&ROW(G62)),INDIRECT(VLOOKUP(G62,Bezüge!$B$6:$C$16,2,FALSE)&ROW(G62))))","v":""},null,null,null,"","","","","","","","","","","","","","","","","","","","","","",null,"","","","","","","","","","","","","","","","","","","","","",""]
[null,{"$f":"IF(Athletenliste!B63=\"\",\"\",Athletenliste!B63)","v":""},{"$f":"IF(Athletenliste!C63=\"\",\"\",Athletenliste!C63)","v":""},{"$f":"IF(Athletenliste!D63=\"\",\"\",Athletenliste!D63)","v":""},{"$f":"IF(Athletenliste!E63=\"\",\"\",Athletenliste!E63)","v":""},{"$f":"IF(Athletenliste!F63=\"\",\"\",Athletenliste!F63)","v":""},{"$f":"IF(Athletenliste!G63=\"\",\"\",Athletenliste!G63)","v":""},{"$f":"IF(Athletenliste!H63=\"\",\"\",Athletenliste!H63)","v":""},null,{"$f":"IF(B63=\"\",\"\",IF(D63=\"m\",INDIRECT(VLOOKUP(G63,Bezüge!$E$6:$F$16,2,FALSE)&ROW(G63)),INDIRECT(VLOOKUP(G63,Bezüge!$B$6:$C$16,2,FALSE)&ROW(G63))))","v":""},null,null,null,"","","","","","","","","","","","","","","","","","","","","","",null,"","","","","","","","","","","","","","","","","","","","","",""]
[null,{"$f":"IF(Athletenliste!B64=\"\",\"\",Athletenliste!B64)","v":""},{"$f":"IF(Athletenliste!C64=\"\",\"\",Athletenliste!C64)","v":""},{"$f":"IF(Athletenliste!D64=\"\",\"\",Athletenliste!D64)","v":""},{"$f":"IF(Athletenliste!E64=\"\",\"\",Athletenliste!E64)","v":""},{"$f":"IF(Athletenliste!F64=\"\",\"\",Athletenliste!F64)","v":""},{"$f":"IF(Athletenliste!G64=\"\",\"\",Athletenliste!G64)","v":""},{"$f":"IF(Athletenliste!H64=\"\",\"\",Athletenliste!H64)","v":""},null,{"$f":"IF(B64=\"\",\"\",IF(D64=\"m\",INDIRECT(VLOOKUP(G64,Bezüge!$E$6:$F$16,2,FALSE)&ROW(G64)),INDIRECT(VLOOKUP(G64,Bezüge!$B$6:$C$16,2,FALSE)&ROW(G64))))","v":""},null,null,null,"","","","","","","","","","","","","","","","","","","","","","",null,"","","","","","","","","","","","","","","","","","","","","",""]
[null,{"$f":"IF(Athletenliste!B65=\"\",\"\",Athletenliste!B65)","v":""},{"$f":"IF(Athletenliste!C65=\"\",\"\",Athletenliste!C65)","v":""},{"$f":"IF(Athletenliste!D65=\"\",\"\",Athletenliste!D65)","v":""},{"$f":"IF(Athletenliste!E65=\"\",\"\",Athletenliste!E65)","v":""},{"$f":"IF(Athletenliste!F65=\"\",\"\",Athletenliste!F65)","v":""},{"$f":"IF(Athletenliste!G65=\"\",\"\",Athletenliste!G65)","v":""},{"$f":"IF(Athletenliste!H65=\"\",\"\",Athletenliste!H65)","v":""},null,{"$f":"IF(B65=\"\",\"\",IF(D65=\"m\",INDIRECT(VLOOKUP(G65,Bezüge!$E$6:$F$16,2,FALSE)&ROW(G65)),INDIRECT(VLOOKUP(G65,Bezüge!$B$6:$C$16,2,FALSE)&ROW(G65))))","v":""},null,null,null,"","","","","","","","","","","","","","","","","","","","","","",null,"","","","","","","","","","","","","","","","","","","","","",""]
[null,{"$f":"IF(Athletenliste!B66=\"\",\"\",Athletenliste!B66)","v":""},{"$f":"IF(Athletenliste!C66=\"\",\"\",Athletenliste!C66)","v":""},{"$f":"IF(Athletenliste!D66=\"\",\"\",Athletenliste!D66)","v":""},{"$f":"IF(Athletenliste!E66=\"\",\"\",Athletenliste!E66)","v":""},{"$f":"IF(Athletenliste!F66=\"\",\"\",Athletenliste!F66)","v":""},{"$f":"IF(Athletenliste!G66=\"\",\"\",Athletenliste!G66)","v":""},{"$f":"IF(Athletenliste!H66=\"\",\"\",Athletenliste!H66)","v":""},null,{"$f":"IF(B66=\"\",\"\",IF(D66=\"m\",INDIRECT(VLOOKUP(G66,Bezüge!$E$6:$F$16,2,FALSE)&ROW(G66)),INDIRECT(VLOOKUP(G66,Bezüge!$B$6:$C$16,2,FALSE)&ROW(G66))))","v":""},null,null,null,"","","","","","","","","","","","","","","","","","","","","","",null,"","","","","","","","","","","","","","","","","","","","","",""]
[null,{"$f":"IF(Athletenliste!B67=\"\",\"\",Athletenliste!B67)","v":""},{"$f":"IF(Athletenliste!C67=\"\",\"\",Athletenliste!C67)","v":""},{"$f":"IF(Athletenliste!D67=\"\",\"\",Athletenliste!D67)","v":""},{"$f":"IF(Athletenliste!E67=\"\",\"\",Athletenliste!E67)","v":""},{"$f":"IF(Athletenliste!F67=\"\",\"\",Athletenliste!F67)","v":""},{"$f":"IF(Athletenliste!G67=\"\",\"\",Athletenliste!G67)","v":""},{"$f":"IF(Athletenliste!H67=\"\",\"\",Athletenliste!H67)","v":""},null,{"$f":"IF(B67=\"\",\"\",IF(D67=\"m\",INDIRECT(VLOOKUP(G67,Bezüge!$E$6:$F$16,2,FALSE)&ROW(G67)),INDIRECT(VLOOKUP(G67,Bezüge!$B$6:$C$16,2,FALSE)&ROW(G67))))","v":""},null,null,null,"","","","","","","","","","","","","","","","","","","","","","",null,"","","","","","","","","","","","","","","","","","","","","",""]
[null,{"$f":"IF(Athletenliste!B68=\"\",\"\",Athletenliste!B68)","v":""},{"$f":"IF(Athletenliste!C68=\"\",\"\",Athletenliste!C68)","v":""},{"$f":"IF(Athletenliste!D68=\"\",\"\",Athletenliste!D68)","v":""},{"$f":"IF(Athletenliste!E68=\"\",\"\",Athletenliste!E68)","v":""},{"$f":"IF(Athletenliste!F68=\"\",\"\",Athletenliste!F68)","v":""},{"$f":"IF(Athletenliste!G68=\"\",\"\",Athletenliste!G68)","v":""},{"$f":"IF(Athletenliste!H68=\"\",\"\",Athletenliste!H68)","v":""},null,{"$f":"IF(B68=\"\",\"\",IF(D68=\"m\",INDIRECT(VLOOKUP(G68,Bezüge!$E$6:$F$16,2,FALSE)&ROW(G68)),INDIRECT(VLOOKUP(G68,Bezüge!$B$6:$C$16,2,FALSE)&ROW(G68))))","v":""},null,null,null,"","","","","","","","","","","","","","","","","","","","","","",null,"","","","","","","","","","","","","","","","","","","","","",""]
[null,{"$f":"IF(Athletenliste!B69=\"\",\"\",Athletenliste!B69)","v":""},{"$f":"IF(Athletenliste!C69=\"\",\"\",Athletenliste!C69)","v":""},{"$f":"IF(Athletenliste!D69=\"\",\"\",Athletenliste!D69)","v":""},{"$f":"IF(Athletenliste!E69=\"\",\"\",Athletenliste!E69)","v":""},{"$f":"IF(Athletenliste!F69=\"\",\"\",Athletenliste!F69)","v":""},{"$f":"IF(Athletenliste!G69=\"\",\"\",Athletenliste!G69)","v":""},{"$f":"IF(Athletenliste!H69=\"\",\"\",Athletenliste!H69)","v":""},null,{"$f":"IF(B69=\"\",\"\",IF(D69=\"m\",INDIRECT(VLOOKUP(G69,Bezüge!$E$6:$F$16,2,FALSE)&ROW(G69)),INDIRECT(VLOOKUP(G69,Bezüge!$B$6:$C$16,2,FALSE)&ROW(G69))))","v":""},null,null,null,"","","","","","","","","","","","","","","","","","","","","","",null,"","","","","","","","","","","","","","","","","","","","","",""]
[null,{"$f":"IF(Athletenliste!B70=\"\",\"\",Athletenliste!B70)","v":""},{"$f":"IF(Athletenliste!C70=\"\",\"\",Athletenliste!C70)","v":""},{"$f":"IF(Athletenliste!D70=\"\",\"\",Athletenliste!D70)","v":""},{"$f":"IF(Athletenliste!E70=\"\",\"\",Athletenliste!E70)","v":""},{"$f":"IF(Athletenliste!F70=\"\",\"\",Athletenliste!F70)","v":""},{"$f":"IF(Athletenliste!G70=\"\",\"\",Athletenliste!G70)","v":""},{"$f":"IF(Athletenliste!H70=\"\",\"\",Athletenliste!H70)","v":""},null,{"$f":"IF(B70=\"\",\"\",IF(D70=\"m\",INDIRECT(VLOOKUP(G70,Bezüge!$E$6:$F$16,2,FALSE)&ROW(G70)),INDIRECT(VLOOKUP(G70,Bezüge!$B$6:$C$16,2,FALSE)&ROW(G70))))","v":""},null,null,null,"","","","","","","","","","","","","","","","","","","","","","",null,"","","","","","","","","","","","","","","","","","","","","",""]
[null,{"$f":"IF(Athletenliste!B71=\"\",\"\",Athletenliste!B71)","v":""},{"$f":"IF(Athletenliste!C71=\"\",\"\",Athletenliste!C71)","v":""},{"$f":"IF(Athletenliste!D71=\"\",\"\",Athletenliste!D71)","v":""},{"$f":"IF(Athletenliste!E71=\"\",\"\",Athletenliste!E71)","v":""},{"$f":"IF(Athletenliste!F71=\"\",\"\",Athletenliste!F71)","v":""},{"$f":"IF(Athletenliste!G71=\"\",\"\",Athletenliste!G71)","v":""},{"$f":"IF(Athletenliste!H71=\"\",\"\",Athletenliste!H71)","v":""},null,{"$f":"IF(B71=\"\",\"\",IF(D71=\"m\",INDIRECT(VLOOKUP(G71,Bezüge!$E$6:$F$16,2,FALSE)&ROW(G71)),INDIRECT(VLOOKUP(G71,Bezüge!$B$6:$C$16,2,FALSE)&ROW(G71))))","v":""},null,null,null,"","","","","","","","","","","","","","","","","","","","","","",null,"","","","","","","","","","","","","","","","","","","","","",""]
[null,{"$f":"IF(Athletenliste!B72=\"\",\"\",Athletenliste!B72)","v":""},{"$f":"IF(Athletenliste!C72=\"\",\"\",Athletenliste!C72)","v":""},{"$f":"IF(Athletenliste!D72=\"\",\"\",Athletenliste!D72)","v":""},{"$f":"IF(Athletenliste!E72=\"\",\"\",Athletenliste!E72)","v":""},{"$f":"IF(Athletenliste!F72=\"\",\"\",Athletenliste!F72)","v":""},{"$f":"IF(Athletenliste!G72=\"\",\"\",Athletenliste!G72)","v":""},{"$f":"IF(Athletenliste!H72=\"\",\"\",Athletenliste!H72)","v":""},null,{"$f":"IF(B72=\"\",\"\",IF(D72=\"m\",INDIRECT(VLOOKUP(G72,Bezüge!$E$6:$F$16,2,FALSE)&ROW(G72)),INDIRECT(VLOOKUP(G72,Bezüge!$B$6:$C$16,2,FALSE)&ROW(G72))))","v":""},null,null,null,"","","","","","","","","","","","","","","","","","","","","","",null,"","","","","","","","","","","","","","","","","","","","","",""]
[null,{"$f":"IF(Athletenliste!B73=\"\",\"\",Athletenliste!B73)","v":""},{"$f":"IF(Athletenliste!C73=\"\",\"\",Athletenliste!C73)","v":""},{"$f":"IF(Athletenliste!D73=\"\",\"\",Athletenliste!D73)","v":""},{"$f":"IF(Athletenliste!E73=\"\",\"\",Athletenliste!E73)","v":""},{"$f":"IF(Athletenliste!F73=\"\",\"\",Athletenliste!F73)","v":""},{"$f":"IF(Athletenliste!G73=\"\",\"\",Athletenliste!G73)","v":""},{"$f":"IF(Athletenliste!H73=\"\",\"\",Athletenliste!H73)","v":""},null,{"$f":"IF(B73=\"\",\"\",IF(D73=\"m\",INDIRECT(VLOOKUP(G73,Bezüge!$E$6:$F$16,2,FALSE)&ROW(G73)),INDIRECT(VLOOKUP(G73,Bezüge!$B$6:$C$16,2,FALSE)&ROW(G73))))","v":""},null,null,null,"","","","","","","","","","","","","","","","","","","","","","",null,"","","","","","","","","","","","","","","","","","","","","",""]
[null,{"$f":"IF(Athletenliste!B74=\"\",\"\",Athletenliste!B74)","v":""},{"$f":"IF(Athletenliste!C74=\"\",\"\",Athletenliste!C74)","v":""},{"$f":"IF(Athletenliste!D74=\"\",\"\",Athletenliste!D74)","v":""},{"$f":"IF(Athletenliste!E74=\"\",\"\",Athletenliste!E74)","v":""},{"$f":"IF(Athletenliste!F74=\"\",\"\",Athletenliste!F74)","v":""},{"$f":"IF(Athletenliste!G74=\"\",\"\",Athletenliste!G74)","v":""},{"$f":"IF(Athletenliste!H74=\"\",\"\",Athletenliste!H74)","v":""},null,{"$f":"IF(B74=\"\",\"\",IF(D74=\"m\",INDIRECT(VLOOKUP(G74,Bezüge!$E$6:$F$16,2,FALSE)&ROW(G74)),INDIRECT(VLOOKUP(G74,Bezüge!$B$6:$C$16,2,FALSE)&ROW(G74))))","v":""},null,null,null,"","","","","","","","","","","","","","","","","","","","","","",null,"","","","","","","","","","","","","","","","","","","","","",""]
[null,{"$f":"IF(Athletenliste!B75=\"\",\"\",Athletenliste!B75)","v":""},{"$f":"IF(Athletenliste!C75=\"\",\"\",Athletenliste!C75)","v":""},{"$f":"IF(Athletenliste!D75=\"\",\"\",Athletenliste!D75)","v":""},{"$f":"IF(Athletenliste!E75=\"\",\"\",Athletenliste!E75)","v":""},{"$f":"IF(Athletenliste!F75=\"\",\"\",Athletenliste!F75)","v":""},{"$f":"IF(Athletenliste!G75=\"\",\"\",Athletenliste!G75)","v":""},{"$f":"IF(Athletenliste!H75=\"\",\"\",Athletenliste!H75)","v":""},null,{"$f":"IF(B75=\"\",\"\",IF(D75=\"m\",INDIRECT(VLOOKUP(G75,Bezüge!$E$6:$F$16,2,FALSE)&ROW(G75)),INDIRECT(VLOOKUP(G75,Bezüge!$B$6:$C$16,2,FALSE)&ROW(G75))))","v":""},null,null,null,{"$f":"IF(AND(D75=\"m\",G75=\"U06\",I75<>\"\"),I75,\"\")","v":""},{"$f":"IF(OR(I75=\"\",N75=\"\"),\"\",_xlfn.RANK.EQ(N75,N$10:N$200))","v":""},{"$f":"IF(AND(D75=\"m\",G75=\"U07\",I75<>\"\"),I75,\"\")","v":""},{"$f":"IF(OR(I75=\"\",P75=\"\"),\"\",_xlfn.RANK.EQ(P75,P$10:P$200))","v":""},{"$f":"IF(AND(D75=\"m\",G75=\"U08\",I75<>\"\"),I75,\"\")","v":""},{"$f":"IF(OR(I75=\"\",R75=\"\"),\"\",_xlfn.RANK.EQ(R75,R$10:R$200))","v":""},{"$f":"IF(AND(D75=\"m\",G75=\"U09\",I75<>\"\"),I75,\"\")","v":""},{"$f":"IF(OR(I75=\"\",T75=\"\"),\"\",_xlfn.RANK.EQ(T75,T$10:T$200))","v":""},{"$f":"IF(AND(D75=\"m\",G75=\"U10\",I75<>\"\"),I75,\"\")","v":""},{"$f":"IF(OR(I75=\"\",V75=\"\"),\"\",_xlfn.RANK.EQ(V75,V$10:V$200))","v":""},{"$f":"IF(AND(D75=\"m\",G75=\"U11\",I75<>\"\"),I75,\"\")","v":""},{"$f":"IF(OR(I75=\"\",X75=\"\"),\"\",_xlfn.RANK.EQ(X75,X$10:X$200))","v":""},{"$f":"IF(AND(D75=\"m\",G75=\"U12\",I75<>\"\"),I75,\"\")","v":""},{"$f":"IF(OR(I75=\"\",Z75=\"\"),\"\",_xlfn.RANK.EQ(Z75,Z$10:Z$200))","v":""},{"$f":"IF(AND(D75=\"m\",G75=\"U13\",I75<>\"\"),I75,\"\")","v":""},{"$f":"IF(OR(I75=\"\",AB75=\"\"),\"\",_xlfn.RANK.EQ(AB75,AB$10:AB$200))","v":""},{"$f":"IF(AND(D75=\"m\",G75=\"U14\",I75<>\"\"),I75,\"\")","v":""},{"$f":"IF(OR(I75=\"\",AD75=\"\"),\"\",_xlfn.RANK.EQ(AD75,AD$10:AD$200))","v":""},{"$f":"IF(AND(D75=\"m\",G75=\"U15\",I75<>\"\"),I75,\"\")","v":""},{"$f":"IF(OR(I75=\"\",AF75=\"\"),\"\",_xlfn.RANK.EQ(AF75,AF$10:AF$200))","v":""},{"$f":"IF(AND(D75=\"m\",G75=\"U16\",I75<>\"\"),I75,\"\")","v":""},{"$f":"IF(OR(I75=\"\",AH75=\"\"),\"\",_xlfn.RANK.EQ(AH75,AH$10:AH$200))","v":""},null,{"$f":"IF(AND(D75=\"w\",G75=\"U06\",I75<>\"\"),I75,\"\")","v":""},{"$f":"IF(OR(I75=\"\",AI75=\"\"),\"\",_xlfn.RANK.EQ(AI75,AI$10:AI$200))","v":""},{"$f":"IF(AND(D75=\"w\",G75=\"U07\",I75<>\"\"),I75,\"\")","v":""},{"$f":"IF(OR(I75=\"\",AM75=\"\"),\"\",_xlfn.RANK.EQ(AM75,AM$10:AM$20))","v":""},{"$f":"IF(AND(D75=\"w\",G75=\"U08\",I75<>\"\"),I75,\"\")","v":""},{"$f":"IF(OR(I75=\"\",AO75=\"\"),\"\",_xlfn.RANK.EQ(AO75,AO$10:AO$200,0))","v":""},{"$f":"IF(AND(D75=\"w\",G75=\"U09\",I75<>\"\"),I75,\"\")","v":""},{"$f":"IF(OR(I75=\"\",AQ75=\"\"),\"\",_xlfn.RANK.EQ(AQ75,AQ$10:AQ$200))","v":""},{"$f":"IF(AND(D75=\"w\",G75=\"U10\",I75<>\"\"),I75,\"\")","v":""},{"$f":"IF(OR(I75=\"\",AS75=\"\"),\"\",_xlfn.RANK.EQ(AS75,AS$10:AS$200))","v":""},{"$f":"IF(AND(D75=\"w\",G75=\"U11\",I75<>\"\"),I75,\"\")","v":""},{"$f":"IF(OR(I75=\"\",AU75=\"\"),\"\",_xlfn.RANK.EQ(AU75,AU$10:AU$200))","v":""},{"$f":"IF(AND(D75=\"w\",G75=\"U12\",I75<>\"\"),I75,\"\")","v":""},{"$f":"IF(OR(I75=\"\",AW75=\"\"),\"\",_xlfn.RANK.EQ(AW75,AW$10:AW$200))","v":""},{"$f":"IF(AND(D75=\"w\",G75=\"U13\",I75<>\"\"),I75,\"\")","v":""},{"$f":"IF(OR(I75=\"\",AY75=\"\"),\"\",_xlfn.RANK.EQ(AY75,AY$10:AY$200))","v":""},{"$f":"IF(AND(D75=\"w\",G75=\"U14\",I75<>\"\"),I75,\"\")","v":""},{"$f":"IF(OR(I75=\"\",BA75=\"\"),\"\",_xlfn.RANK.EQ(BA75,BA$10:BA$200))","v":""},{"$f":"IF(AND(D75=\"w\",G75=\"U15\",I75<>\"\"),I75,\"\")","v":""},{"$f":"IF(OR(I75=\"\",BC75=\"\"),\"\",_xlfn.RANK.EQ(BC75,BC$10:BC$200))","v":""},{"$f":"IF(AND(D75=\"w\",G75=\"U16\",I75<>\"\"),I75,\"\")","v":""},{"$f":"IF(OR(I75=\"\",BE75=\"\"),\"\",_xlfn.RANK.EQ(BE75,BE$10:BE$200))","v":""}]
[null,{"$f":"IF(Athletenliste!B76=\"\",\"\",Athletenliste!B76)","v":""},{"$f":"IF(Athletenliste!C76=\"\",\"\",Athletenliste!C76)","v":""},{"$f":"IF(Athletenliste!D76=\"\",\"\",Athletenliste!D76)","v":""},{"$f":"IF(Athletenliste!E76=\"\",\"\",Athletenliste!E76)","v":""},{"$f":"IF(Athletenliste!F76=\"\",\"\",Athletenliste!F76)","v":""},{"$f":"IF(Athletenliste!G76=\"\",\"\",Athletenliste!G76)","v":""},{"$f":"IF(Athletenliste!H76=\"\",\"\",Athletenliste!H76)","v":""},null,{"$f":"IF(B76=\"\",\"\",IF(D76=\"m\",INDIRECT(VLOOKUP(G76,Bezüge!$E$6:$F$16,2,FALSE)&ROW(G76)),INDIRECT(VLOOKUP(G76,Bezüge!$B$6:$C$16,2,FALSE)&ROW(G76))))","v":""},null,null,null,"","","","","","","","","","","","","","","","","","","","","","",null,"","","","","","","","","","","","","","","","","","","","","",""]
[null,{"$f":"IF(Athletenliste!B77=\"\",\"\",Athletenliste!B77)","v":""},{"$f":"IF(Athletenliste!C77=\"\",\"\",Athletenliste!C77)","v":""},{"$f":"IF(Athletenliste!D77=\"\",\"\",Athletenliste!D77)","v":""},{"$f":"IF(Athletenliste!E77=\"\",\"\",Athletenliste!E77)","v":""},{"$f":"IF(Athletenliste!F77=\"\",\"\",Athletenliste!F77)","v":""},{"$f":"IF(Athletenliste!G77=\"\",\"\",Athletenliste!G77)","v":""},{"$f":"IF(Athletenliste!H77=\"\",\"\",Athletenliste!H77)","v":""},null,{"$f":"IF(B77=\"\",\"\",IF(D77=\"m\",INDIRECT(VLOOKUP(G77,Bezüge!$E$6:$F$16,2,FALSE)&ROW(G77)),INDIRECT(VLOOKUP(G77,Bezüge!$B$6:$C$16,2,FALSE)&ROW(G77))))","v":""},null,null,null,"","","","","","","","","","","","","","","","","","","","","","",null,"","","","","","","","","","","","","","","","","","","","","",""]
[null,{"$f":"IF(Athletenliste!B78=\"\",\"\",Athletenliste!B78)","v":""},{"$f":"IF(Athletenliste!C78=\"\",\"\",Athletenliste!C78)","v":""},{"$f":"IF(Athletenliste!D78=\"\",\"\",Athletenliste!D78)","v":""},{"$f":"IF(Athletenliste!E78=\"\",\"\",Athletenliste!E78)","v":""},{"$f":"IF(Athletenliste!F78=\"\",\"\",Athletenliste!F78)","v":""},{"$f":"IF(Athletenliste!G78=\"\",\"\",Athletenliste!G78)","v":""},{"$f":"IF(Athletenliste!H78=\"\",\"\",Athletenliste!H78)","v":""},null,{"$f":"IF(B78=\"\",\"\",IF(D78=\"m\",INDIRECT(VLOOKUP(G78,Bezüge!$E$6:$F$16,2,FALSE)&ROW(G78)),INDIRECT(VLOOKUP(G78,Bezüge!$B$6:$C$16,2,FALSE)&ROW(G78))))","v":""},null,null,null,"","","","","","","","","","","","","","","","","","","","","","",null,"","","","","","","","","","","","","","","","","","","","","",""]
[null,{"$f":"IF(Athletenliste!B79=\"\",\"\",Athletenliste!B79)","v":""},{"$f":"IF(Athletenliste!C79=\"\",\"\",Athletenliste!C79)","v":""},{"$f":"IF(Athletenliste!D79=\"\",\"\",Athletenliste!D79)","v":""},{"$f":"IF(Athletenliste!E79=\"\",\"\",Athletenliste!E79)","v":""},{"$f":"IF(Athletenliste!F79=\"\",\"\",Athletenliste!F79)","v":""},{"$f":"IF(Athletenliste!G79=\"\",\"\",Athletenliste!G79)","v":""},{"$f":"IF(Athletenliste!H79=\"\",\"\",Athletenliste!H79)","v":""},null,{"$f":"IF(B79=\"\",\"\",IF(D79=\"m\",INDIRECT(VLOOKUP(G79,Bezüge!$E$6:$F$16,2,FALSE)&ROW(G79)),INDIRECT(VLOOKUP(G79,Bezüge!$B$6:$C$16,2,FALSE)&ROW(G79))))","v":""},null,null,null,"","","","","","","","","","","","","","","","","","","","","","",null,"","","","","","","","","","","","","","","","","","","","","",""]
[null,{"$f":"IF(Athletenliste!B80=\"\",\"\",Athletenliste!B80)","v":""},{"$f":"IF(Athletenliste!C80=\"\",\"\",Athletenliste!C80)","v":""},{"$f":"IF(Athletenliste!D80=\"\",\"\",Athletenliste!D80)","v":""},{"$f":"IF(Athletenliste!E80=\"\",\"\",Athletenliste!E80)","v":""},{"$f":"IF(Athletenliste!F80=\"\",\"\",Athletenliste!F80)","v":""},{"$f":"IF(Athletenliste!G80=\"\",\"\",Athletenliste!G80)","v":""},{"$f":"IF(Athletenliste!H80=\"\",\"\",Athletenliste!H80)","v":""},null,{"$f":"IF(B80=\"\",\"\",IF(D80=\"m\",INDIRECT(VLOOKUP(G80,Bezüge!$E$6:$F$16,2,FALSE)&ROW(G80)),INDIRECT(VLOOKUP(G80,Bezüge!$B$6:$C$16,2,FALSE)&ROW(G80))))","v":""},null,null,null,"","","","","","","","","","","","","","","","","","","","","","",null,"","","","","","","","","","","","","","","","","","","","","",""]
[null,{"$f":"IF(Athletenliste!B81=\"\",\"\",Athletenliste!B81)","v":""},{"$f":"IF(Athletenliste!C81=\"\",\"\",Athletenliste!C81)","v":""},{"$f":"IF(Athletenliste!D81=\"\",\"\",Athletenliste!D81)","v":""},{"$f":"IF(Athletenliste!E81=\"\",\"\",Athletenliste!E81)","v":""},{"$f":"IF(Athletenliste!F81=\"\",\"\",Athletenliste!F81)","v":""},{"$f":"IF(Athletenliste!G81=\"\",\"\",Athletenliste!G81)","v":""},{"$f":"IF(Athletenliste!H81=\"\",\"\",Athletenliste!H81)","v":""},null,{"$f":"IF(B81=\"\",\"\",IF(D81=\"m\",INDIRECT(VLOOKUP(G81,Bezüge!$E$6:$F$16,2,FALSE)&ROW(G81)),INDIRECT(VLOOKUP(G81,Bezüge!$B$6:$C$16,2,FALSE)&ROW(G81))))","v":""},null,null,null,"","","","","","","","","","","","","","","","","","","","","","",null,"","","","","","","","","","","","","","","","","","","","","",""]
[null,{"$f":"IF(Athletenliste!B82=\"\",\"\",Athletenliste!B82)","v":""},{"$f":"IF(Athletenliste!C82=\"\",\"\",Athletenliste!C82)","v":""},{"$f":"IF(Athletenliste!D82=\"\",\"\",Athletenliste!D82)","v":""},{"$f":"IF(Athletenliste!E82=\"\",\"\",Athletenliste!E82)","v":""},{"$f":"IF(Athletenliste!F82=\"\",\"\",Athletenliste!F82)","v":""},{"$f":"IF(Athletenliste!G82=\"\",\"\",Athletenliste!G82)","v":""},{"$f":"IF(Athletenliste!H82=\"\",\"\",Athletenliste!H82)","v":""},null,{"$f":"IF(B82=\"\",\"\",IF(D82=\"m\",INDIRECT(VLOOKUP(G82,Bezüge!$E$6:$F$16,2,FALSE)&ROW(G82)),INDIRECT(VLOOKUP(G82,Bezüge!$B$6:$C$16,2,FALSE)&ROW(G82))))","v":""},null,null,null,"","","","","","","","","","","","","","","","","","","","","","",null,"","","","","","","","","","","","","","","","","","","","","",""]
[null,{"$f":"IF(Athletenliste!B83=\"\",\"\",Athletenliste!B83)","v":""},{"$f":"IF(Athletenliste!C83=\"\",\"\",Athletenliste!C83)","v":""},{"$f":"IF(Athletenliste!D83=\"\",\"\",Athletenliste!D83)","v":""},{"$f":"IF(Athletenliste!E83=\"\",\"\",Athletenliste!E83)","v":""},{"$f":"IF(Athletenliste!F83=\"\",\"\",Athletenliste!F83)","v":""},{"$f":"IF(Athletenliste!G83=\"\",\"\",Athletenliste!G83)","v":""},{"$f":"IF(Athletenliste!H83=\"\",\"\",Athletenliste!H83)","v":""},null,{"$f":"IF(B83=\"\",\"\",IF(D83=\"m\",INDIRECT(VLOOKUP(G83,Bezüge!$E$6:$F$16,2,FALSE)&ROW(G83)),INDIRECT(VLOOKUP(G83,Bezüge!$B$6:$C$16,2,FALSE)&ROW(G83))))","v":""},null,null,null,"","","","","","","","","","","","","","","","","","","","","","",null,"","","","","","","","","","","","","","","","","","","","","",""]
[null,{"$f":"IF(Athletenliste!B84=\"\",\"\",Athletenliste!B84)","v":""},{"$f":"IF(Athletenliste!C84=\"\",\"\",Athletenliste!C84)","v":""},{"$f":"IF(Athletenliste!D84=\"\",\"\",Athletenliste!D84)","v":""},{"$f":"IF(Athletenliste!E84=\"\",\"\",Athletenliste!E84)","v":""},{"$f":"IF(Athletenliste!F84=\"\",\"\",Athletenliste!F84)","v":""},{"$f":"IF(Athletenliste!G84=\"\",\"\",Athletenliste!G84)","v":""},{"$f":"IF(Athletenliste!H84=\"\",\"\",Athletenliste!H84)","v":""},null,{"$f":"IF(B84=\"\",\"\",IF(D84=\"m\",INDIRECT(VLOOKUP(G84,Bezüge!$E$6:$F$16,2,FALSE)&ROW(G84)),INDIRECT(VLOOKUP(G84,Bezüge!$B$6:$C$16,2,FALSE)&ROW(G84))))","v":""},null,null,null,"","","","","","","","","","","","","","","","","","","","","","",null,"","","","","","","","","","","","","","","","","","","","","",""]
[null,{"$f":"IF(Athletenliste!B85=\"\",\"\",Athletenliste!B85)","v":""},{"$f":"IF(Athletenliste!C85=\"\",\"\",Athletenliste!C85)","v":""},{"$f":"IF(Athletenliste!D85=\"\",\"\",Athletenliste!D85)","v":""},{"$f":"IF(Athletenliste!E85=\"\",\"\",Athletenliste!E85)","v":""},{"$f":"IF(Athletenliste!F85=\"\",\"\",Athletenliste!F85)","v":""},{"$f":"IF(Athletenliste!G85=\"\",\"\",Athletenliste!G85)","v":""},{"$f":"IF(Athletenliste!H85=\"\",\"\",Athletenliste!H85)","v":""},null,{"$f":"IF(B85=\"\",\"\",IF(D85=\"m\",INDIRECT(VLOOKUP(G85,Bezüge!$E$6:$F$16,2,FALSE)&ROW(G85)),INDIRECT(VLOOKUP(G85,Bezüge!$B$6:$C$16,2,FALSE)&ROW(G85))))","v":""},null,null,null,"","","","","","","","","","","","","","","","","","","","","","",null,"","","","","","","","","","","","","","","","","","","","","",""]
[null,{"$f":"IF(Athletenliste!B86=\"\",\"\",Athletenliste!B86)","v":""},{"$f":"IF(Athletenliste!C86=\"\",\"\",Athletenliste!C86)","v":""},{"$f":"IF(Athletenliste!D86=\"\",\"\",Athletenliste!D86)","v":""},{"$f":"IF(Athletenliste!E86=\"\",\"\",Athletenliste!E86)","v":""},{"$f":"IF(Athletenliste!F86=\"\",\"\",Athletenliste!F86)","v":""},{"$f":"IF(Athletenliste!G86=\"\",\"\",Athletenliste!G86)","v":""},{"$f":"IF(Athletenliste!H86=\"\",\"\",Athletenliste!H86)","v":""},null,{"$f":"IF(B86=\"\",\"\",IF(D86=\"m\",INDIRECT(VLOOKUP(G86,Bezüge!$E$6:$F$16,2,FALSE)&ROW(G86)),INDIRECT(VLOOKUP(G86,Bezüge!$B$6:$C$16,2,FALSE)&ROW(G86))))","v":""},null,null,null,"","","","","","","","","","","","","","","","","","","","","","",null,"","","","","","","","","","","","","","","","","","","","","",""]
[null,{"$f":"IF(Athletenliste!B87=\"\",\"\",Athletenliste!B87)","v":""},{"$f":"IF(Athletenliste!C87=\"\",\"\",Athletenliste!C87)","v":""},{"$f":"IF(Athletenliste!D87=\"\",\"\",Athletenliste!D87)","v":""},{"$f":"IF(Athletenliste!E87=\"\",\"\",Athletenliste!E87)","v":""},{"$f":"IF(Athletenliste!F87=\"\",\"\",Athletenliste!F87)","v":""},{"$f":"IF(Athletenliste!G87=\"\",\"\",Athletenliste!G87)","v":""},{"$f":"IF(Athletenliste!H87=\"\",\"\",Athletenliste!H87)","v":""},null,{"$f":"IF(B87=\"\",\"\",IF(D87=\"m\",INDIRECT(VLOOKUP(G87,Bezüge!$E$6:$F$16,2,FALSE)&ROW(G87)),INDIRECT(VLOOKUP(G87,Bezüge!$B$6:$C$16,2,FALSE)&ROW(G87))))","v":""},null,null,null,"","","","","","","","","","","","","","","","","","","","","","",null,"","","","","","","","","","","","","","","","","","","","","",""]
[null,{"$f":"IF(Athletenliste!B88=\"\",\"\",Athletenliste!B88)","v":""},{"$f":"IF(Athletenliste!C88=\"\",\"\",Athletenliste!C88)","v":""},{"$f":"IF(Athletenliste!D88=\"\",\"\",Athletenliste!D88)","v":""},{"$f":"IF(Athletenliste!E88=\"\",\"\",Athletenliste!E88)","v":""},{"$f":"IF(Athletenliste!F88=\"\",\"\",Athletenliste!F88)","v":""},{"$f":"IF(Athletenliste!G88=\"\",\"\",Athletenliste!G88)","v":""},{"$f":"IF(Athletenliste!H88=\"\",\"\",Athletenliste!H88)","v":""},null,{"$f":"IF(B88=\"\",\"\",IF(D88=\"m\",INDIRECT(VLOOKUP(G88,Bezüge!$E$6:$F$16,2,FALSE)&ROW(G88)),INDIRECT(VLOOKUP(G88,Bezüge!$B$6:$C$16,2,FALSE)&ROW(G88))))","v":""},null,null,null,"","","","","","","","","","","","","","","","","","","","","","",null,"","","","","","","","","","","","","","","","","","","","","",""]
[null,{"$f":"IF(Athletenliste!B89=\"\",\"\",Athletenliste!B89)","v":""},{"$f":"IF(Athletenliste!C89=\"\",\"\",Athletenliste!C89)","v":""},{"$f":"IF(Athletenliste!D89=\"\",\"\",Athletenliste!D89)","v":""},{"$f":"IF(Athletenliste!E89=\"\",\"\",Athletenliste!E89)","v":""},{"$f":"IF(Athletenliste!F89=\"\",\"\",Athletenliste!F89)","v":""},{"$f":"IF(Athletenliste!G89=\"\",\"\",Athletenliste!G89)","v":""},{"$f":"IF(Athletenliste!H89=\"\",\"\",Athletenliste!H89)","v":""},null,{"$f":"IF(B89=\"\",\"\",IF(D89=\"m\",INDIRECT(VLOOKUP(G89,Bezüge!$E$6:$F$16,2,FALSE)&ROW(G89)),INDIRECT(VLOOKUP(G89,Bezüge!$B$6:$C$16,2,FALSE)&ROW(G89))))","v":""},null,null,null,"","","","","","","","","","","","","","","","","","","","","","",null,"","","","","","","","","","","","","","","","","","","","","",""]
[null,{"$f":"IF(Athletenliste!B90=\"\",\"\",Athletenliste!B90)","v":""},{"$f":"IF(Athletenliste!C90=\"\",\"\",Athletenliste!C90)","v":""},{"$f":"IF(Athletenliste!D90=\"\",\"\",Athletenliste!D90)","v":""},{"$f":"IF(Athletenliste!E90=\"\",\"\",Athletenliste!E90)","v":""},{"$f":"IF(Athletenliste!F90=\"\",\"\",Athletenliste!F90)","v":""},{"$f":"IF(Athletenliste!G90=\"\",\"\",Athletenliste!G90)","v":""},{"$f":"IF(Athletenliste!H90=\"\",\"\",Athletenliste!H90)","v":""},null,{"$f":"IF(B90=\"\",\"\",IF(D90=\"m\",INDIRECT(VLOOKUP(G90,Bezüge!$E$6:$F$16,2,FALSE)&ROW(G90)),INDIRECT(VLOOKUP(G90,Bezüge!$B$6:$C$16,2,FALSE)&ROW(G90))))","v":""},null,null,null,"","","","","","","","","","","","","","","","","","","","","","",null,"","","","","","","","","","","","","","","","","","","","","",""]
[null,{"$f":"IF(Athletenliste!B91=\"\",\"\",Athletenliste!B91)","v":""},{"$f":"IF(Athletenliste!C91=\"\",\"\",Athletenliste!C91)","v":""},{"$f":"IF(Athletenliste!D91=\"\",\"\",Athletenliste!D91)","v":""},{"$f":"IF(Athletenliste!E91=\"\",\"\",Athletenliste!E91)","v":""},{"$f":"IF(Athletenliste!F91=\"\",\"\",Athletenliste!F91)","v":""},{"$f":"IF(Athletenliste!G91=\"\",\"\",Athletenliste!G91)","v":""},{"$f":"IF(Athletenliste!H91=\"\",\"\",Athletenliste!H91)","v":""},null,{"$f":"IF(B91=\"\",\"\",IF(D91=\"m\",INDIRECT(VLOOKUP(G91,Bezüge!$E$6:$F$16,2,FALSE)&ROW(G91)),INDIRECT(VLOOKUP(G91,Bezüge!$B$6:$C$16,2,FALSE)&ROW(G91))))","v":""},null,null,null,"","","","","","","","","","","","","","","","","","","","","","",null,"","","","","","","","","","","","","","","","","","","","","",""]
[null,{"$f":"IF(Athletenliste!B92=\"\",\"\",Athletenliste!B92)","v":""},{"$f":"IF(Athletenliste!C92=\"\",\"\",Athletenliste!C92)","v":""},{"$f":"IF(Athletenliste!D92=\"\",\"\",Athletenliste!D92)","v":""},{"$f":"IF(Athletenliste!E92=\"\",\"\",Athletenliste!E92)","v":""},{"$f":"IF(Athletenliste!F92=\"\",\"\",Athletenliste!F92)","v":""},{"$f":"IF(Athletenliste!G92=\"\",\"\",Athletenliste!G92)","v":""},{"$f":"IF(Athletenliste!H92=\"\",\"\",Athletenliste!H92)","v":""},null,{"$f":"IF(B92=\"\",\"\",IF(D92=\"m\",INDIRECT(VLOOKUP(G92,Bezüge!$E$6:$F$16,2,FALSE)&ROW(G92)),INDIRECT(VLOOKUP(G92,Bezüge!$B$6:$C$16,2,FALSE)&ROW(G92))))","v":""},null,null,null,"","","","","","","","","","","","","","","","","","","","","","",null,"","","","","","","","","","","","","","","","","","","","","",""]
[null,{"$f":"IF(Athletenliste!B93=\"\",\"\",Athletenliste!B93)","v":""},{"$f":"IF(Athletenliste!C93=\"\",\"\",Athletenliste!C93)","v":""},{"$f":"IF(Athletenliste!D93=\"\",\"\",Athletenliste!D93)","v":""},{"$f":"IF(Athletenliste!E93=\"\",\"\",Athletenliste!E93)","v":""},{"$f":"IF(Athletenliste!F93=\"\",\"\",Athletenliste!F93)","v":""},{"$f":"IF(Athletenliste!G93=\"\",\"\",Athletenliste!G93)","v":""},{"$f":"IF(Athletenliste!H93=\"\",\"\",Athletenliste!H93)","v":""},null,{"$f":"IF(B93=\"\",\"\",IF(D93=\"m\",INDIRECT(VLOOKUP(G93,Bezüge!$E$6:$F$16,2,FALSE)&ROW(G93)),INDIRECT(VLOOKUP(G93,Bezüge!$B$6:$C$16,2,FALSE)&ROW(G93))))","v":""},null,null,null,"","","","","","","","","","","","","","","","","","","","","","",null,"","","","","","","","","","","","","","","","","","","","","",""]
[null,{"$f":"IF(Athletenliste!B94=\"\",\"\",Athletenliste!B94)","v":""},{"$f":"IF(Athletenliste!C94=\"\",\"\",Athletenliste!C94)","v":""},{"$f":"IF(Athletenliste!D94=\"\",\"\",Athletenliste!D94)","v":""},{"$f":"IF(Athletenliste!E94=\"\",\"\",Athletenliste!E94)","v":""},{"$f":"IF(Athletenliste!F94=\"\",\"\",Athletenliste!F94)","v":""},{"$f":"IF(Athletenliste!G94=\"\",\"\",Athletenliste!G94)","v":""},{"$f":"IF(Athletenliste!H94=\"\",\"\",Athletenliste!H94)","v":""},null,{"$f":"IF(B94=\"\",\"\",IF(D94=\"m\",INDIRECT(VLOOKUP(G94,Bezüge!$E$6:$F$16,2,FALSE)&ROW(G94)),INDIRECT(VLOOKUP(G94,Bezüge!$B$6:$C$16,2,FALSE)&ROW(G94))))","v":""},null,null,null,"","","","","","","","","","","","","","","","","","","","","","",null,"","","","","","","","","","","","","","","","","","","","","",""]
[null,{"$f":"IF(Athletenliste!B95=\"\",\"\",Athletenliste!B95)","v":""},{"$f":"IF(Athletenliste!C95=\"\",\"\",Athletenliste!C95)","v":""},{"$f":"IF(Athletenliste!D95=\"\",\"\",Athletenliste!D95)","v":""},{"$f":"IF(Athletenliste!E95=\"\",\"\",Athletenliste!E95)","v":""},{"$f":"IF(Athletenliste!F95=\"\",\"\",Athletenliste!F95)","v":""},{"$f":"IF(Athletenliste!G95=\"\",\"\",Athletenliste!G95)","v":""},{"$f":"IF(Athletenliste!H95=\"\",\"\",Athletenliste!H95)","v":""},null,{"$f":"IF(B95=\"\",\"\",IF(D95=\"m\",INDIRECT(VLOOKUP(G95,Bezüge!$E$6:$F$16,2,FALSE)&ROW(G95)),INDIRECT(VLOOKUP(G95,Bezüge!$B$6:$C$16,2,FALSE)&ROW(G95))))","v":""},null,null,null,"","","","","","","","","","","","","","","","","","","","","","",null,"","","","","","","","","","","","","","","","","","","","","",""]
[null,{"$f":"IF(Athletenliste!B96=\"\",\"\",Athletenliste!B96)","v":""},{"$f":"IF(Athletenliste!C96=\"\",\"\",Athletenliste!C96)","v":""},{"$f":"IF(Athletenliste!D96=\"\",\"\",Athletenliste!D96)","v":""},{"$f":"IF(Athletenliste!E96=\"\",\"\",Athletenliste!E96)","v":""},{"$f":"IF(Athletenliste!F96=\"\",\"\",Athletenliste!F96)","v":""},{"$f":"IF(Athletenliste!G96=\"\",\"\",Athletenliste!G96)","v":""},{"$f":"IF(Athletenliste!H96=\"\",\"\",Athletenliste!H96)","v":""},null,{"$f":"IF(B96=\"\",\"\",IF(D96=\"m\",INDIRECT(VLOOKUP(G96,Bezüge!$E$6:$F$16,2,FALSE)&ROW(G96)),INDIRECT(VLOOKUP(G96,Bezüge!$B$6:$C$16,2,FALSE)&ROW(G96))))","v":""},null,null,null,"","","","","","","","","","","","","","","","","","","","","","",null,"","","","","","","","","","","","","","","","","","","","","",""]
[null,{"$f":"IF(Athletenliste!B97=\"\",\"\",Athletenliste!B97)","v":""},{"$f":"IF(Athletenliste!C97=\"\",\"\",Athletenliste!C97)","v":""},{"$f":"IF(Athletenliste!D97=\"\",\"\",Athletenliste!D97)","v":""},{"$f":"IF(Athletenliste!E97=\"\",\"\",Athletenliste!E97)","v":""},{"$f":"IF(Athletenliste!F97=\"\",\"\",Athletenliste!F97)","v":""},{"$f":"IF(Athletenliste!G97=\"\",\"\",Athletenliste!G97)","v":""},{"$f":"IF(Athletenliste!H97=\"\",\"\",Athletenliste!H97)","v":""},null,{"$f":"IF(B97=\"\",\"\",IF(D97=\"m\",INDIRECT(VLOOKUP(G97,Bezüge!$E$6:$F$16,2,FALSE)&ROW(G97)),INDIRECT(VLOOKUP(G97,Bezüge!$B$6:$C$16,2,FALSE)&ROW(G97))))","v":""},null,null,null,"","","","","","","","","","","","","","","","","","","","","","",null,"","","","","","","","","","","","","","","","","","","","","",""]
[null,{"$f":"IF(Athletenliste!B98=\"\",\"\",Athletenliste!B98)","v":""},{"$f":"IF(Athletenliste!C98=\"\",\"\",Athletenliste!C98)","v":""},{"$f":"IF(Athletenliste!D98=\"\",\"\",Athletenliste!D98)","v":""},{"$f":"IF(Athletenliste!E98=\"\",\"\",Athletenliste!E98)","v":""},{"$f":"IF(Athletenliste!F98=\"\",\"\",Athletenliste!F98)","v":""},{"$f":"IF(Athletenliste!G98=\"\",\"\",Athletenliste!G98)","v":""},{"$f":"IF(Athletenliste!H98=\"\",\"\",Athletenliste!H98)","v":""},null,{"$f":"IF(B98=\"\",\"\",IF(D98=\"m\",INDIRECT(VLOOKUP(G98,Bezüge!$E$6:$F$16,2,FALSE)&ROW(G98)),INDIRECT(VLOOKUP(G98,Bezüge!$B$6:$C$16,2,FALSE)&ROW(G98))))","v":""},null,null,null,"","","","","","","","","","","","","","","","","","","","","","",null,"","","","","","","","","","","","","","","","","","","","","",""]
[null,{"$f":"IF(Athletenliste!B99=\"\",\"\",Athletenliste!B99)","v":""},{"$f":"IF(Athletenliste!C99=\"\",\"\",Athletenliste!C99)","v":""},{"$f":"IF(Athletenliste!D99=\"\",\"\",Athletenliste!D99)","v":""},{"$f":"IF(Athletenliste!E99=\"\",\"\",Athletenliste!E99)","v":""},{"$f":"IF(Athletenliste!F99=\"\",\"\",Athletenliste!F99)","v":""},{"$f":"IF(Athletenliste!G99=\"\",\"\",Athletenliste!G99)","v":""},{"$f":"IF(Athletenliste!H99=\"\",\"\",Athletenliste!H99)","v":""},null,{"$f":"IF(B99=\"\",\"\",IF(D99=\"m\",INDIRECT(VLOOKUP(G99,Bezüge!$E$6:$F$16,2,FALSE)&ROW(G99)),INDIRECT(VLOOKUP(G99,Bezüge!$B$6:$C$16,2,FALSE)&ROW(G99))))","v":""},null,null,null,"","","","","","","","","","","","","","","","","","","","","","",null,"","","","","","","","","","","","","","","","","","","","","",""]
[null,{"$f":"IF(Athletenliste!B100=\"\",\"\",Athletenliste!B100)","v":""},{"$f":"IF(Athletenliste!C100=\"\",\"\",Athletenliste!C100)","v":""},{"$f":"IF(Athletenliste!D100=\"\",\"\",Athletenliste!D100)","v":""},{"$f":"IF(Athletenliste!E100=\"\",\"\",Athletenliste!E100)","v":""},{"$f":"IF(Athletenliste!F100=\"\",\"\",Athletenliste!F100)","v":""},{"$f":"IF(Athletenliste!G100=\"\",\"\",Athletenliste!G100)","v":""},{"$f":"IF(Athletenliste!H100=\"\",\"\",Athletenliste!H100)","v":""},null,{"$f":"IF(B100=\"\",\"\",IF(D100=\"m\",INDIRECT(VLOOKUP(G100,Bezüge!$E$6:$F$16,2,FALSE)&ROW(G100)),INDIRECT(VLOOKUP(G100,Bezüge!$B$6:$C$16,2,FALSE)&ROW(G100))))","v":""},null,null,null,"","","","","","","","","","","","","","","","","","","","","","",null,"","","","","","","","","","","","","","","","","","","","","",""]
[null,{"$f":"IF(Athletenliste!B101=\"\",\"\",Athletenliste!B101)","v":""},{"$f":"IF(Athletenliste!C101=\"\",\"\",Athletenliste!C101)","v":""},{"$f":"IF(Athletenliste!D101=\"\",\"\",Athletenliste!D101)","v":""},{"$f":"IF(Athletenliste!E101=\"\",\"\",Athletenliste!E101)","v":""},{"$f":"IF(Athletenliste!F101=\"\",\"\",Athletenliste!F101)","v":""},{"$f":"IF(Athletenliste!G101=\"\",\"\",Athletenliste!G101)","v":""},{"$f":"IF(Athletenliste!H101=\"\",\"\",Athletenliste!H101)","v":""},null,{"$f":"IF(B101=\"\",\"\",IF(D101=\"m\",INDIRECT(VLOOKUP(G101,Bezüge!$E$6:$F$16,2,FALSE)&ROW(G101)),INDIRECT(VLOOKUP(G101,Bezüge!$B$6:$C$16,2,FALSE)&ROW(G101))))","v":""},null,null,null,"","","","","","","","","","","","","","","","","","","","","","",null,"","","","","","","","","","","","","","","","","","","","","",""]
[null,{"$f":"IF(Athletenliste!B102=\"\",\"\",Athletenliste!B102)","v":""},{"$f":"IF(Athletenliste!C102=\"\",\"\",Athletenliste!C102)","v":""},{"$f":"IF(Athletenliste!D102=\"\",\"\",Athletenliste!D102)","v":""},{"$f":"IF(Athletenliste!E102=\"\",\"\",Athletenliste!E102)","v":""},{"$f":"IF(Athletenliste!F102=\"\",\"\",Athletenliste!F102)","v":""},{"$f":"IF(Athletenliste!G102=\"\",\"\",Athletenliste!G102)","v":""},{"$f":"IF(Athletenliste!H102=\"\",\"\",Athletenliste!H102)","v":""},null,{"$f":"IF(B102=\"\",\"\",IF(D102=\"m\",INDIRECT(VLOOKUP(G102,Bezüge!$E$6:$F$16,2,FALSE)&ROW(G102)),INDIRECT(VLOOKUP(G102,Bezüge!$B$6:$C$16,2,FALSE)&ROW(G102))))","v":""},null,null,null,"","","","","","","","","","","","","","","","","","","","","","",null,"","","","","","","","","","","","","","","","","","","","","",""]
[null,{"$f":"IF(Athletenliste!B103=\"\",\"\",Athletenliste!B103)","v":""},{"$f":"IF(Athletenliste!C103=\"\",\"\",Athletenliste!C103)","v":""},{"$f":"IF(Athletenliste!D103=\"\",\"\",Athletenliste!D103)","v":""},{"$f":"IF(Athletenliste!E103=\"\",\"\",Athletenliste!E103)","v":""},{"$f":"IF(Athletenliste!F103=\"\",\"\",Athletenliste!F103)","v":""},{"$f":"IF(Athletenliste!G103=\"\",\"\",Athletenliste!G103)","v":""},{"$f":"IF(Athletenliste!H103=\"\",\"\",Athletenliste!H103)","v":""},null,{"$f":"IF(B103=\"\",\"\",IF(D103=\"m\",INDIRECT(VLOOKUP(G103,Bezüge!$E$6:$F$16,2,FALSE)&ROW(G103)),INDIRECT(VLOOKUP(G103,Bezüge!$B$6:$C$16,2,FALSE)&ROW(G103))))","v":""},null,null,null,"","","","","","","","","","","","","","","","","","","","","","",null,"","","","","","","","","","","","","","","","","","","","","",""]
[null,{"$f":"IF(Athletenliste!B104=\"\",\"\",Athletenliste!B104)","v":""},{"$f":"IF(Athletenliste!C104=\"\",\"\",Athletenliste!C104)","v":""},{"$f":"IF(Athletenliste!D104=\"\",\"\",Athletenliste!D104)","v":""},{"$f":"IF(Athletenliste!E104=\"\",\"\",Athletenliste!E104)","v":""},{"$f":"IF(Athletenliste!F104=\"\",\"\",Athletenliste!F104)","v":""},{"$f":"IF(Athletenliste!G104=\"\",\"\",Athletenliste!G104)","v":""},{"$f":"IF(Athletenliste!H104=\"\",\"\",Athletenliste!H104)","v":""},null,{"$f":"IF(B104=\"\",\"\",IF(D104=\"m\",INDIRECT(VLOOKUP(G104,Bezüge!$E$6:$F$16,2,FALSE)&ROW(G104)),INDIRECT(VLOOKUP(G104,Bezüge!$B$6:$C$16,2,FALSE)&ROW(G104))))","v":""},null,null,null,"","","","","","","","","","","","","","","","","","","","","","",null,"","","","","","","","","","","","","","","","","","","","","",""]
[null,{"$f":"IF(Athletenliste!B105=\"\",\"\",Athletenliste!B105)","v":""},{"$f":"IF(Athletenliste!C105=\"\",\"\",Athletenliste!C105)","v":""},{"$f":"IF(Athletenliste!D105=\"\",\"\",Athletenliste!D105)","v":""},{"$f":"IF(Athletenliste!E105=\"\",\"\",Athletenliste!E105)","v":""},{"$f":"IF(Athletenliste!F105=\"\",\"\",Athletenliste!F105)","v":""},{"$f":"IF(Athletenliste!G105=\"\",\"\",Athletenliste!G105)","v":""},{"$f":"IF(Athletenliste!H105=\"\",\"\",Athletenliste!H105)","v":""},null,{"$f":"IF(B105=\"\",\"\",IF(D105=\"m\",INDIRECT(VLOOKUP(G105,Bezüge!$E$6:$F$16,2,FALSE)&ROW(G105)),INDIRECT(VLOOKUP(G105,Bezüge!$B$6:$C$16,2,FALSE)&ROW(G105))))","v":""},null,null,null,"","","","","","","","","","","","","","","","","","","","","","",null,"","","","","","","","","","","","","","","","","","","","","",""]
[null,{"$f":"IF(Athletenliste!B106=\"\",\"\",Athletenliste!B106)","v":""},{"$f":"IF(Athletenliste!C106=\"\",\"\",Athletenliste!C106)","v":""},{"$f":"IF(Athletenliste!D106=\"\",\"\",Athletenliste!D106)","v":""},{"$f":"IF(Athletenliste!E106=\"\",\"\",Athletenliste!E106)","v":""},{"$f":"IF(Athletenliste!F106=\"\",\"\",Athletenliste!F106)","v":""},{"$f":"IF(Athletenliste!G106=\"\",\"\",Athletenliste!G106)","v":""},{"$f":"IF(Athletenliste!H106=\"\",\"\",Athletenliste!H106)","v":""},null,{"$f":"IF(B106=\"\",\"\",IF(D106=\"m\",INDIRECT(VLOOKUP(G106,Bezüge!$E$6:$F$16,2,FALSE)&ROW(G106)),INDIRECT(VLOOKUP(G106,Bezüge!$B$6:$C$16,2,FALSE)&ROW(G106))))","v":""},null,null,null,"","","","","","","","","","","","","","","","","","","","","","",null,"","","","","","","","","","","","","","","","","","","","","",""]
[null,{"$f":"IF(Athletenliste!B107=\"\",\"\",Athletenliste!B107)","v":""},{"$f":"IF(Athletenliste!C107=\"\",\"\",Athletenliste!C107)","v":""},{"$f":"IF(Athletenliste!D107=\"\",\"\",Athletenliste!D107)","v":""},{"$f":"IF(Athletenliste!E107=\"\",\"\",Athletenliste!E107)","v":""},{"$f":"IF(Athletenliste!F107=\"\",\"\",Athletenliste!F107)","v":""},{"$f":"IF(Athletenliste!G107=\"\",\"\",Athletenliste!G107)","v":""},{"$f":"IF(Athletenliste!H107=\"\",\"\",Athletenliste!H107)","v":""},null,{"$f":"IF(B107=\"\",\"\",IF(D107=\"m\",INDIRECT(VLOOKUP(G107,Bezüge!$E$6:$F$16,2,FALSE)&ROW(G107)),INDIRECT(VLOOKUP(G107,Bezüge!$B$6:$C$16,2,FALSE)&ROW(G107))))","v":""},null,null,null,"","","","","","","","","","","","","","","","","","","","","","",null,"","","","","","","","","","","","","","","","","","","","","",""]
[null,{"$f":"IF(Athletenliste!B108=\"\",\"\",Athletenliste!B108)","v":""},{"$f":"IF(Athletenliste!C108=\"\",\"\",Athletenliste!C108)","v":""},{"$f":"IF(Athletenliste!D108=\"\",\"\",Athletenliste!D108)","v":""},{"$f":"IF(Athletenliste!E108=\"\",\"\",Athletenliste!E108)","v":""},{"$f":"IF(Athletenliste!F108=\"\",\"\",Athletenliste!F108)","v":""},{"$f":"IF(Athletenliste!G108=\"\",\"\",Athletenliste!G108)","v":""},{"$f":"IF(Athletenliste!H108=\"\",\"\",Athletenliste!H108)","v":""},null,{"$f":"IF(B108=\"\",\"\",IF(D108=\"m\",INDIRECT(VLOOKUP(G108,Bezüge!$E$6:$F$16,2,FALSE)&ROW(G108)),INDIRECT(VLOOKUP(G108,Bezüge!$B$6:$C$16,2,FALSE)&ROW(G108))))","v":""},null,null,null,"","","","","","","","","","","","","","","","","","","","","","",null,"","","","","","","","","","","","","","","","","","","","","",""]
[null,{"$f":"IF(Athletenliste!B109=\"\",\"\",Athletenliste!B109)","v":""},{"$f":"IF(Athletenliste!C109=\"\",\"\",Athletenliste!C109)","v":""},{"$f":"IF(Athletenliste!D109=\"\",\"\",Athletenliste!D109)","v":""},{"$f":"IF(Athletenliste!E109=\"\",\"\",Athletenliste!E109)","v":""},{"$f":"IF(Athletenliste!F109=\"\",\"\",Athletenliste!F109)","v":""},{"$f":"IF(Athletenliste!G109=\"\",\"\",Athletenliste!G109)","v":""},{"$f":"IF(Athletenliste!H109=\"\",\"\",Athletenliste!H109)","v":""},null,{"$f":"IF(B109=\"\",\"\",IF(D109=\"m\",INDIRECT(VLOOKUP(G109,Bezüge!$E$6:$F$16,2,FALSE)&ROW(G109)),INDIRECT(VLOOKUP(G109,Bezüge!$B$6:$C$16,2,FALSE)&ROW(G109))))","v":""},null,null,null,"","","","","","","","","","","","","","","","","","","","","","",null,"","","","","","","","","","","","","","","","","","","","","",""]
[null,{"$f":"IF(Athletenliste!B110=\"\",\"\",Athletenliste!B110)","v":""},{"$f":"IF(Athletenliste!C110=\"\",\"\",Athletenliste!C110)","v":""},{"$f":"IF(Athletenliste!D110=\"\",\"\",Athletenliste!D110)","v":""},{"$f":"IF(Athletenliste!E110=\"\",\"\",Athletenliste!E110)","v":""},{"$f":"IF(Athletenliste!F110=\"\",\"\",Athletenliste!F110)","v":""},{"$f":"IF(Athletenliste!G110=\"\",\"\",Athletenliste!G110)","v":""},{"$f":"IF(Athletenliste!H110=\"\",\"\",Athletenliste!H110)","v":""},null,{"$f":"IF(B110=\"\",\"\",IF(D110=\"m\",INDIRECT(VLOOKUP(G110,Bezüge!$E$6:$F$16,2,FALSE)&ROW(G110)),INDIRECT(VLOOKUP(G110,Bezüge!$B$6:$C$16,2,FALSE)&ROW(G110))))","v":""},null,null,null,"","","","","","","","","","","","","","","","","","","","","","",null,"","","","","","","","","","","","","","","","","","","","","",""]
[null,{"$f":"IF(Athletenliste!B111=\"\",\"\",Athletenliste!B111)","v":""},{"$f":"IF(Athletenliste!C111=\"\",\"\",Athletenliste!C111)","v":""},{"$f":"IF(Athletenliste!D111=\"\",\"\",Athletenliste!D111)","v":""},{"$f":"IF(Athletenliste!E111=\"\",\"\",Athletenliste!E111)","v":""},{"$f":"IF(Athletenliste!F111=\"\",\"\",Athletenliste!F111)","v":""},{"$f":"IF(Athletenliste!G111=\"\",\"\",Athletenliste!G111)","v":""},{"$f":"IF(Athletenliste!H111=\"\",\"\",Athletenliste!H111)","v":""},null,{"$f":"IF(B111=\"\",\"\",IF(D111=\"m\",INDIRECT(VLOOKUP(G111,Bezüge!$E$6:$F$16,2,FALSE)&ROW(G111)),INDIRECT(VLOOKUP(G111,Bezüge!$B$6:$C$16,2,FALSE)&ROW(G111))))","v":""},null,null,null,"","","","","","","","","","","","","","","","","","","","","","",null,"","","","","","","","","","","","","","","","","","","","","",""]
[null,{"$f":"IF(Athletenliste!B112=\"\",\"\",Athletenliste!B112)","v":""},{"$f":"IF(Athletenliste!C112=\"\",\"\",Athletenliste!C112)","v":""},{"$f":"IF(Athletenliste!D112=\"\",\"\",Athletenliste!D112)","v":""},{"$f":"IF(Athletenliste!E112=\"\",\"\",Athletenliste!E112)","v":""},{"$f":"IF(Athletenliste!F112=\"\",\"\",Athletenliste!F112)","v":""},{"$f":"IF(Athletenliste!G112=\"\",\"\",Athletenliste!G112)","v":""},{"$f":"IF(Athletenliste!H112=\"\",\"\",Athletenliste!H112)","v":""},null,{"$f":"IF(B112=\"\",\"\",IF(D112=\"m\",INDIRECT(VLOOKUP(G112,Bezüge!$E$6:$F$16,2,FALSE)&ROW(G112)),INDIRECT(VLOOKUP(G112,Bezüge!$B$6:$C$16,2,FALSE)&ROW(G112))))","v":""},null,null,null,"","","","","","","","","","","","","","","","","","","","","","",null,"","","","","","","","","","","","","","","","","","","","","",""]
[null,{"$f":"IF(Athletenliste!B113=\"\",\"\",Athletenliste!B113)","v":""},{"$f":"IF(Athletenliste!C113=\"\",\"\",Athletenliste!C113)","v":""},{"$f":"IF(Athletenliste!D113=\"\",\"\",Athletenliste!D113)","v":""},{"$f":"IF(Athletenliste!E113=\"\",\"\",Athletenliste!E113)","v":""},{"$f":"IF(Athletenliste!F113=\"\",\"\",Athletenliste!F113)","v":""},{"$f":"IF(Athletenliste!G113=\"\",\"\",Athletenliste!G113)","v":""},{"$f":"IF(Athletenliste!H113=\"\",\"\",Athletenliste!H113)","v":""},null,{"$f":"IF(B113=\"\",\"\",IF(D113=\"m\",INDIRECT(VLOOKUP(G113,Bezüge!$E$6:$F$16,2,FALSE)&ROW(G113)),INDIRECT(VLOOKUP(G113,Bezüge!$B$6:$C$16,2,FALSE)&ROW(G113))))","v":""},null,null,null,"","","","","","","","","","","","","","","","","","","","","","",null,"","","","","","","","","","","","","","","","","","","","","",""]
[null,{"$f":"IF(Athletenliste!B114=\"\",\"\",Athletenliste!B114)","v":""},{"$f":"IF(Athletenliste!C114=\"\",\"\",Athletenliste!C114)","v":""},{"$f":"IF(Athletenliste!D114=\"\",\"\",Athletenliste!D114)","v":""},{"$f":"IF(Athletenliste!E114=\"\",\"\",Athletenliste!E114)","v":""},{"$f":"IF(Athletenliste!F114=\"\",\"\",Athletenliste!F114)","v":""},{"$f":"IF(Athletenliste!G114=\"\",\"\",Athletenliste!G114)","v":""},{"$f":"IF(Athletenliste!H114=\"\",\"\",Athletenliste!H114)","v":""},null,{"$f":"IF(B114=\"\",\"\",IF(D114=\"m\",INDIRECT(VLOOKUP(G114,Bezüge!$E$6:$F$16,2,FALSE)&ROW(G114)),INDIRECT(VLOOKUP(G114,Bezüge!$B$6:$C$16,2,FALSE)&ROW(G114))))","v":""},null,null,null,"","","","","","","","","","","","","","","","","","","","","","",null,"","","","","","","","","","","","","","","","","","","","","",""]
[null,{"$f":"IF(Athletenliste!B115=\"\",\"\",Athletenliste!B115)","v":""},{"$f":"IF(Athletenliste!C115=\"\",\"\",Athletenliste!C115)","v":""},{"$f":"IF(Athletenliste!D115=\"\",\"\",Athletenliste!D115)","v":""},{"$f":"IF(Athletenliste!E115=\"\",\"\",Athletenliste!E115)","v":""},{"$f":"IF(Athletenliste!F115=\"\",\"\",Athletenliste!F115)","v":""},{"$f":"IF(Athletenliste!G115=\"\",\"\",Athletenliste!G115)","v":""},{"$f":"IF(Athletenliste!H115=\"\",\"\",Athletenliste!H115)","v":""},null,{"$f":"IF(B115=\"\",\"\",IF(D115=\"m\",INDIRECT(VLOOKUP(G115,Bezüge!$E$6:$F$16,2,FALSE)&ROW(G115)),INDIRECT(VLOOKUP(G115,Bezüge!$B$6:$C$16,2,FALSE)&ROW(G115))))","v":""},null,null,null,"","","","","","","","","","","","","","","","","","","","","","",null,"","","","","","","","","","","","","","","","","","","","","",""]
[null,{"$f":"IF(Athletenliste!B116=\"\",\"\",Athletenliste!B116)","v":""},{"$f":"IF(Athletenliste!C116=\"\",\"\",Athletenliste!C116)","v":""},{"$f":"IF(Athletenliste!D116=\"\",\"\",Athletenliste!D116)","v":""},{"$f":"IF(Athletenliste!E116=\"\",\"\",Athletenliste!E116)","v":""},{"$f":"IF(Athletenliste!F116=\"\",\"\",Athletenliste!F116)","v":""},{"$f":"IF(Athletenliste!G116=\"\",\"\",Athletenliste!G116)","v":""},{"$f":"IF(Athletenliste!H116=\"\",\"\",Athletenliste!H116)","v":""},null,{"$f":"IF(B116=\"\",\"\",IF(D116=\"m\",INDIRECT(VLOOKUP(G116,Bezüge!$E$6:$F$16,2,FALSE)&ROW(G116)),INDIRECT(VLOOKUP(G116,Bezüge!$B$6:$C$16,2,FALSE)&ROW(G116))))","v":""},null,null,null,"","","","","","","","","","","","","","","","","","","","","","",null,"","","","","","","","","","","","","","","","","","","","","",""]
[null,{"$f":"IF(Athletenliste!B117=\"\",\"\",Athletenliste!B117)","v":""},{"$f":"IF(Athletenliste!C117=\"\",\"\",Athletenliste!C117)","v":""},{"$f":"IF(Athletenliste!D117=\"\",\"\",Athletenliste!D117)","v":""},{"$f":"IF(Athletenliste!E117=\"\",\"\",Athletenliste!E117)","v":""},{"$f":"IF(Athletenliste!F117=\"\",\"\",Athletenliste!F117)","v":""},{"$f":"IF(Athletenliste!G117=\"\",\"\",Athletenliste!G117)","v":""},{"$f":"IF(Athletenliste!H117=\"\",\"\",Athletenliste!H117)","v":""},null,{"$f":"IF(B117=\"\",\"\",IF(D117=\"m\",INDIRECT(VLOOKUP(G117,Bezüge!$E$6:$F$16,2,FALSE)&ROW(G117)),INDIRECT(VLOOKUP(G117,Bezüge!$B$6:$C$16,2,FALSE)&ROW(G117))))","v":""},null,null,null,"","","","","","","","","","","","","","","","","","","","","","",null,"","","","","","","","","","","","","","","","","","","","","",""]
[null,{"$f":"IF(Athletenliste!B118=\"\",\"\",Athletenliste!B118)","v":""},{"$f":"IF(Athletenliste!C118=\"\",\"\",Athletenliste!C118)","v":""},{"$f":"IF(Athletenliste!D118=\"\",\"\",Athletenliste!D118)","v":""},{"$f":"IF(Athletenliste!E118=\"\",\"\",Athletenliste!E118)","v":""},{"$f":"IF(Athletenliste!F118=\"\",\"\",Athletenliste!F118)","v":""},{"$f":"IF(Athletenliste!G118=\"\",\"\",Athletenliste!G118)","v":""},{"$f":"IF(Athletenliste!H118=\"\",\"\",Athletenliste!H118)","v":""},null,{"$f":"IF(B118=\"\",\"\",IF(D118=\"m\",INDIRECT(VLOOKUP(G118,Bezüge!$E$6:$F$16,2,FALSE)&ROW(G118)),INDIRECT(VLOOKUP(G118,Bezüge!$B$6:$C$16,2,FALSE)&ROW(G118))))","v":""},null,null,null,"","","","","","","","","","","","","","","","","","","","","","",null,"","","","","","","","","","","","","","","","","","","","","",""]
[null,{"$f":"IF(Athletenliste!B119=\"\",\"\",Athletenliste!B119)","v":""},{"$f":"IF(Athletenliste!C119=\"\",\"\",Athletenliste!C119)","v":""},{"$f":"IF(Athletenliste!D119=\"\",\"\",Athletenliste!D119)","v":""},{"$f":"IF(Athletenliste!E119=\"\",\"\",Athletenliste!E119)","v":""},{"$f":"IF(Athletenliste!F119=\"\",\"\",Athletenliste!F119)","v":""},{"$f":"IF(Athletenliste!G119=\"\",\"\",Athletenliste!G119)","v":""},{"$f":"IF(Athletenliste!H119=\"\",\"\",Athletenliste!H119)","v":""},null,{"$f":"IF(B119=\"\",\"\",IF(D119=\"m\",INDIRECT(VLOOKUP(G119,Bezüge!$E$6:$F$16,2,FALSE)&ROW(G119)),INDIRECT(VLOOKUP(G119,Bezüge!$B$6:$C$16,2,FALSE)&ROW(G119))))","v":""},null,null,null,"","","","","","","","","","","","","","","","","","","","","","",null,"","","","","","","","","","","","","","","","","","","","","",""]
[null,{"$f":"IF(Athletenliste!B120=\"\",\"\",Athletenliste!B120)","v":""},{"$f":"IF(Athletenliste!C120=\"\",\"\",Athletenliste!C120)","v":""},{"$f":"IF(Athletenliste!D120=\"\",\"\",Athletenliste!D120)","v":""},{"$f":"IF(Athletenliste!E120=\"\",\"\",Athletenliste!E120)","v":""},{"$f":"IF(Athletenliste!F120=\"\",\"\",Athletenliste!F120)","v":""},{"$f":"IF(Athletenliste!G120=\"\",\"\",Athletenliste!G120)","v":""},{"$f":"IF(Athletenliste!H120=\"\",\"\",Athletenliste!H120)","v":""},null,{"$f":"IF(B120=\"\",\"\",IF(D120=\"m\",INDIRECT(VLOOKUP(G120,Bezüge!$E$6:$F$16,2,FALSE)&ROW(G120)),INDIRECT(VLOOKUP(G120,Bezüge!$B$6:$C$16,2,FALSE)&ROW(G120))))","v":""},null,null,null,"","","","","","","","","","","","","","","","","","","","","","",null,"","","","","","","","","","","","","","","","","","","","","",""]
[null,{"$f":"IF(Athletenliste!B121=\"\",\"\",Athletenliste!B121)","v":""},{"$f":"IF(Athletenliste!C121=\"\",\"\",Athletenliste!C121)","v":""},{"$f":"IF(Athletenliste!D121=\"\",\"\",Athletenliste!D121)","v":""},{"$f":"IF(Athletenliste!E121=\"\",\"\",Athletenliste!E121)","v":""},{"$f":"IF(Athletenliste!F121=\"\",\"\",Athletenliste!F121)","v":""},{"$f":"IF(Athletenliste!G121=\"\",\"\",Athletenliste!G121)","v":""},{"$f":"IF(Athletenliste!H121=\"\",\"\",Athletenliste!H121)","v":""},null,{"$f":"IF(B121=\"\",\"\",IF(D121=\"m\",INDIRECT(VLOOKUP(G121,Bezüge!$E$6:$F$16,2,FALSE)&ROW(G121)),INDIRECT(VLOOKUP(G121,Bezüge!$B$6:$C$16,2,FALSE)&ROW(G121))))","v":""},null,null,null,"","","","","","","","","","","","","","","","","","","","","","",null,"","","","","","","","","","","","","","","","","","","","","",""]
[null,{"$f":"IF(Athletenliste!B122=\"\",\"\",Athletenliste!B122)","v":""},{"$f":"IF(Athletenliste!C122=\"\",\"\",Athletenliste!C122)","v":""},{"$f":"IF(Athletenliste!D122=\"\",\"\",Athletenliste!D122)","v":""},{"$f":"IF(Athletenliste!E122=\"\",\"\",Athletenliste!E122)","v":""},{"$f":"IF(Athletenliste!F122=\"\",\"\",Athletenliste!F122)","v":""},{"$f":"IF(Athletenliste!G122=\"\",\"\",Athletenliste!G122)","v":""},{"$f":"IF(Athletenliste!H122=\"\",\"\",Athletenliste!H122)","v":""},null,{"$f":"IF(B122=\"\",\"\",IF(D122=\"m\",INDIRECT(VLOOKUP(G122,Bezüge!$E$6:$F$16,2,FALSE)&ROW(G122)),INDIRECT(VLOOKUP(G122,Bezüge!$B$6:$C$16,2,FALSE)&ROW(G122))))","v":""},null,null,null,"","","","","","","","","","","","","","","","","","","","","","",null,"","","","","","","","","","","","","","","","","","","","","",""]
[null,{"$f":"IF(Athletenliste!B123=\"\",\"\",Athletenliste!B123)","v":""},{"$f":"IF(Athletenliste!C123=\"\",\"\",Athletenliste!C123)","v":""},{"$f":"IF(Athletenliste!D123=\"\",\"\",Athletenliste!D123)","v":""},{"$f":"IF(Athletenliste!E123=\"\",\"\",Athletenliste!E123)","v":""},{"$f":"IF(Athletenliste!F123=\"\",\"\",Athletenliste!F123)","v":""},{"$f":"IF(Athletenliste!G123=\"\",\"\",Athletenliste!G123)","v":""},{"$f":"IF(Athletenliste!H123=\"\",\"\",Athletenliste!H123)","v":""},null,{"$f":"IF(B123=\"\",\"\",IF(D123=\"m\",INDIRECT(VLOOKUP(G123,Bezüge!$E$6:$F$16,2,FALSE)&ROW(G123)),INDIRECT(VLOOKUP(G123,Bezüge!$B$6:$C$16,2,FALSE)&ROW(G123))))","v":""},null,null,null,"","","","","","","","","","","","","","","","","","","","","","",null,"","","","","","","","","","","","","","","","","","","","","",""]
[null,{"$f":"IF(Athletenliste!B124=\"\",\"\",Athletenliste!B124)","v":""},{"$f":"IF(Athletenliste!C124=\"\",\"\",Athletenliste!C124)","v":""},{"$f":"IF(Athletenliste!D124=\"\",\"\",Athletenliste!D124)","v":""},{"$f":"IF(Athletenliste!E124=\"\",\"\",Athletenliste!E124)","v":""},{"$f":"IF(Athletenliste!F124=\"\",\"\",Athletenliste!F124)","v":""},{"$f":"IF(Athletenliste!G124=\"\",\"\",Athletenliste!G124)","v":""},{"$f":"IF(Athletenliste!H124=\"\",\"\",Athletenliste!H124)","v":""},null,{"$f":"IF(B124=\"\",\"\",IF(D124=\"m\",INDIRECT(VLOOKUP(G124,Bezüge!$E$6:$F$16,2,FALSE)&ROW(G124)),INDIRECT(VLOOKUP(G124,Bezüge!$B$6:$C$16,2,FALSE)&ROW(G124))))","v":""},null,null,null,"","","","","","","","","","","","","","","","","","","","","","",null,"","","","","","","","","","","","","","","","","","","","","",""]
[null,{"$f":"IF(Athletenliste!B125=\"\",\"\",Athletenliste!B125)","v":""},{"$f":"IF(Athletenliste!C125=\"\",\"\",Athletenliste!C125)","v":""},{"$f":"IF(Athletenliste!D125=\"\",\"\",Athletenliste!D125)","v":""},{"$f":"IF(Athletenliste!E125=\"\",\"\",Athletenliste!E125)","v":""},{"$f":"IF(Athletenliste!F125=\"\",\"\",Athletenliste!F125)","v":""},{"$f":"IF(Athletenliste!G125=\"\",\"\",Athletenliste!G125)","v":""},{"$f":"IF(Athletenliste!H125=\"\",\"\",Athletenliste!H125)","v":""},null,{"$f":"IF(B125=\"\",\"\",IF(D125=\"m\",INDIRECT(VLOOKUP(G125,Bezüge!$E$6:$F$16,2,FALSE)&ROW(G125)),INDIRECT(VLOOKUP(G125,Bezüge!$B$6:$C$16,2,FALSE)&ROW(G125))))","v":""},null,null,null,"","","","","","","","","","","","","","","","","","","","","","",null,"","","","","","","","","","","","","","","","","","","","","",""]
[null,{"$f":"IF(Athletenliste!B126=\"\",\"\",Athletenliste!B126)","v":""},{"$f":"IF(Athletenliste!C126=\"\",\"\",Athletenliste!C126)","v":""},{"$f":"IF(Athletenliste!D126=\"\",\"\",Athletenliste!D126)","v":""},{"$f":"IF(Athletenliste!E126=\"\",\"\",Athletenliste!E126)","v":""},{"$f":"IF(Athletenliste!F126=\"\",\"\",Athletenliste!F126)","v":""},{"$f":"IF(Athletenliste!G126=\"\",\"\",Athletenliste!G126)","v":""},{"$f":"IF(Athletenliste!H126=\"\",\"\",Athletenliste!H126)","v":""},null,{"$f":"IF(B126=\"\",\"\",IF(D126=\"m\",INDIRECT(VLOOKUP(G126,Bezüge!$E$6:$F$16,2,FALSE)&ROW(G126)),INDIRECT(VLOOKUP(G126,Bezüge!$B$6:$C$16,2,FALSE)&ROW(G126))))","v":""},null,null,null,"","","","","","","","","","","","","","","","","","","","","","",null,"","","","","","","","","","","","","","","","","","","","","",""]
[null,{"$f":"IF(Athletenliste!B127=\"\",\"\",Athletenliste!B127)","v":""},{"$f":"IF(Athletenliste!C127=\"\",\"\",Athletenliste!C127)","v":""},{"$f":"IF(Athletenliste!D127=\"\",\"\",Athletenliste!D127)","v":""},{"$f":"IF(Athletenliste!E127=\"\",\"\",Athletenliste!E127)","v":""},{"$f":"IF(Athletenliste!F127=\"\",\"\",Athletenliste!F127)","v":""},{"$f":"IF(Athletenliste!G127=\"\",\"\",Athletenliste!G127)","v":""},{"$f":"IF(Athletenliste!H127=\"\",\"\",Athletenliste!H127)","v":""},null,{"$f":"IF(B127=\"\",\"\",IF(D127=\"m\",INDIRECT(VLOOKUP(G127,Bezüge!$E$6:$F$16,2,FALSE)&ROW(G127)),INDIRECT(VLOOKUP(G127,Bezüge!$B$6:$C$16,2,FALSE)&ROW(G127))))","v":""},null,null,null,"","","","","","","","","","","","","","","","","","","","","","",null,"","","","","","","","","","","","","","","","","","","","","",""]
[null,{"$f":"IF(Athletenliste!B128=\"\",\"\",Athletenliste!B128)","v":""},{"$f":"IF(Athletenliste!C128=\"\",\"\",Athletenliste!C128)","v":""},{"$f":"IF(Athletenliste!D128=\"\",\"\",Athletenliste!D128)","v":""},{"$f":"IF(Athletenliste!E128=\"\",\"\",Athletenliste!E128)","v":""},{"$f":"IF(Athletenliste!F128=\"\",\"\",Athletenliste!F128)","v":""},{"$f":"IF(Athletenliste!G128=\"\",\"\",Athletenliste!G128)","v":""},{"$f":"IF(Athletenliste!H128=\"\",\"\",Athletenliste!H128)","v":""},null,{"$f":"IF(B128=\"\",\"\",IF(D128=\"m\",INDIRECT(VLOOKUP(G128,Bezüge!$E$6:$F$16,2,FALSE)&ROW(G128)),INDIRECT(VLOOKUP(G128,Bezüge!$B$6:$C$16,2,FALSE)&ROW(G128))))","v":""},null,null,null,"","","","","","","","","","","","","","","","","","","","","","",null,"","","","","","","","","","","","","","","","","","","","","",""]
[null,{"$f":"IF(Athletenliste!B129=\"\",\"\",Athletenliste!B129)","v":""},{"$f":"IF(Athletenliste!C129=\"\",\"\",Athletenliste!C129)","v":""},{"$f":"IF(Athletenliste!D129=\"\",\"\",Athletenliste!D129)","v":""},{"$f":"IF(Athletenliste!E129=\"\",\"\",Athletenliste!E129)","v":""},{"$f":"IF(Athletenliste!F129=\"\",\"\",Athletenliste!F129)","v":""},{"$f":"IF(Athletenliste!G129=\"\",\"\",Athletenliste!G129)","v":""},{"$f":"IF(Athletenliste!H129=\"\",\"\",Athletenliste!H129)","v":""},null,{"$f":"IF(B129=\"\",\"\",IF(D129=\"m\",INDIRECT(VLOOKUP(G129,Bezüge!$E$6:$F$16,2,FALSE)&ROW(G129)),INDIRECT(VLOOKUP(G129,Bezüge!$B$6:$C$16,2,FALSE)&ROW(G129))))","v":""},null,null,null,"","","","","","","","","","","","","","","","","","","","","","",null,"","","","","","","","","","","","","","","","","","","","","",""]
[null,{"$f":"IF(Athletenliste!B130=\"\",\"\",Athletenliste!B130)","v":""},{"$f":"IF(Athletenliste!C130=\"\",\"\",Athletenliste!C130)","v":""},{"$f":"IF(Athletenliste!D130=\"\",\"\",Athletenliste!D130)","v":""},{"$f":"IF(Athletenliste!E130=\"\",\"\",Athletenliste!E130)","v":""},{"$f":"IF(Athletenliste!F130=\"\",\"\",Athletenliste!F130)","v":""},{"$f":"IF(Athletenliste!G130=\"\",\"\",Athletenliste!G130)","v":""},{"$f":"IF(Athletenliste!H130=\"\",\"\",Athletenliste!H130)","v":""},null,{"$f":"IF(B130=\"\",\"\",IF(D130=\"m\",INDIRECT(VLOOKUP(G130,Bezüge!$E$6:$F$16,2,FALSE)&ROW(G130)),INDIRECT(VLOOKUP(G130,Bezüge!$B$6:$C$16,2,FALSE)&ROW(G130))))","v":""},null,null,null,"","","","","","","","","","","","","","","","","","","","","","",null,"","","","","","","","","","","","","","","","","","","","","",""]
[null,{"$f":"IF(Athletenliste!B131=\"\",\"\",Athletenliste!B131)","v":""},{"$f":"IF(Athletenliste!C131=\"\",\"\",Athletenliste!C131)","v":""},{"$f":"IF(Athletenliste!D131=\"\",\"\",Athletenliste!D131)","v":""},{"$f":"IF(Athletenliste!E131=\"\",\"\",Athletenliste!E131)","v":""},{"$f":"IF(Athletenliste!F131=\"\",\"\",Athletenliste!F131)","v":""},{"$f":"IF(Athletenliste!G131=\"\",\"\",Athletenliste!G131)","v":""},{"$f":"IF(Athletenliste!H131=\"\",\"\",Athletenliste!H131)","v":""},null,{"$f":"IF(B131=\"\",\"\",IF(D131=\"m\",INDIRECT(VLOOKUP(G131,Bezüge!$E$6:$F$16,2,FALSE)&ROW(G131)),INDIRECT(VLOOKUP(G131,Bezüge!$B$6:$C$16,2,FALSE)&ROW(G131))))","v":""},null,null,null,"","","","","","","","","","","","","","","","","","","","","","",null,"","","","","","","","","","","","","","","","","","","","","",""]
[null,{"$f":"IF(Athletenliste!B132=\"\",\"\",Athletenliste!B132)","v":""},{"$f":"IF(Athletenliste!C132=\"\",\"\",Athletenliste!C132)","v":""},{"$f":"IF(Athletenliste!D132=\"\",\"\",Athletenliste!D132)","v":""},{"$f":"IF(Athletenliste!E132=\"\",\"\",Athletenliste!E132)","v":""},{"$f":"IF(Athletenliste!F132=\"\",\"\",Athletenliste!F132)","v":""},{"$f":"IF(Athletenliste!G132=\"\",\"\",Athletenliste!G132)","v":""},{"$f":"IF(Athletenliste!H132=\"\",\"\",Athletenliste!H132)","v":""},null,{"$f":"IF(B132=\"\",\"\",IF(D132=\"m\",INDIRECT(VLOOKUP(G132,Bezüge!$E$6:$F$16,2,FALSE)&ROW(G132)),INDIRECT(VLOOKUP(G132,Bezüge!$B$6:$C$16,2,FALSE)&ROW(G132))))","v":""},null,null,null,"","","","","","","","","","","","","","","","","","","","","","",null,"","","","","","","","","","","","","","","","","","","","","",""]
[null,{"$f":"IF(Athletenliste!B133=\"\",\"\",Athletenliste!B133)","v":""},{"$f":"IF(Athletenliste!C133=\"\",\"\",Athletenliste!C133)","v":""},{"$f":"IF(Athletenliste!D133=\"\",\"\",Athletenliste!D133)","v":""},{"$f":"IF(Athletenliste!E133=\"\",\"\",Athletenliste!E133)","v":""},{"$f":"IF(Athletenliste!F133=\"\",\"\",Athletenliste!F133)","v":""},{"$f":"IF(Athletenliste!G133=\"\",\"\",Athletenliste!G133)","v":""},{"$f":"IF(Athletenliste!H133=\"\",\"\",Athletenliste!H133)","v":""},null,{"$f":"IF(B133=\"\",\"\",IF(D133=\"m\",INDIRECT(VLOOKUP(G133,Bezüge!$E$6:$F$16,2,FALSE)&ROW(G133)),INDIRECT(VLOOKUP(G133,Bezüge!$B$6:$C$16,2,FALSE)&ROW(G133))))","v":""},null,null,null,"","","","","","","","","","","","","","","","","","","","","","",null,"","","","","","","","","","","","","","","","","","","","","",""]
[null,{"$f":"IF(Athletenliste!B134=\"\",\"\",Athletenliste!B134)","v":""},{"$f":"IF(Athletenliste!C134=\"\",\"\",Athletenliste!C134)","v":""},{"$f":"IF(Athletenliste!D134=\"\",\"\",Athletenliste!D134)","v":""},{"$f":"IF(Athletenliste!E134=\"\",\"\",Athletenliste!E134)","v":""},{"$f":"IF(Athletenliste!F134=\"\",\"\",Athletenliste!F134)","v":""},{"$f":"IF(Athletenliste!G134=\"\",\"\",Athletenliste!G134)","v":""},{"$f":"IF(Athletenliste!H134=\"\",\"\",Athletenliste!H134)","v":""},null,{"$f":"IF(B134=\"\",\"\",IF(D134=\"m\",INDIRECT(VLOOKUP(G134,Bezüge!$E$6:$F$16,2,FALSE)&ROW(G134)),INDIRECT(VLOOKUP(G134,Bezüge!$B$6:$C$16,2,FALSE)&ROW(G134))))","v":""},null,null,null,"","","","","","","","","","","","","","","","","","","","","","",null,"","","","","","","","","","","","","","","","","","","","","",""]
[null,{"$f":"IF(Athletenliste!B135=\"\",\"\",Athletenliste!B135)","v":""},{"$f":"IF(Athletenliste!C135=\"\",\"\",Athletenliste!C135)","v":""},{"$f":"IF(Athletenliste!D135=\"\",\"\",Athletenliste!D135)","v":""},{"$f":"IF(Athletenliste!E135=\"\",\"\",Athletenliste!E135)","v":""},{"$f":"IF(Athletenliste!F135=\"\",\"\",Athletenliste!F135)","v":""},{"$f":"IF(Athletenliste!G135=\"\",\"\",Athletenliste!G135)","v":""},{"$f":"IF(Athletenliste!H135=\"\",\"\",Athletenliste!H135)","v":""},null,{"$f":"IF(B135=\"\",\"\",IF(D135=\"m\",INDIRECT(VLOOKUP(G135,Bezüge!$E$6:$F$16,2,FALSE)&ROW(G135)),INDIRECT(VLOOKUP(G135,Bezüge!$B$6:$C$16,2,FALSE)&ROW(G135))))","v":""},null,null,null,"","","","","","","","","","","","","","","","","","","","","","",null,"","","","","","","","","","","","","","","","","","","","","",""]
[null,{"$f":"IF(Athletenliste!B136=\"\",\"\",Athletenliste!B136)","v":""},{"$f":"IF(Athletenliste!C136=\"\",\"\",Athletenliste!C136)","v":""},{"$f":"IF(Athletenliste!D136=\"\",\"\",Athletenliste!D136)","v":""},{"$f":"IF(Athletenliste!E136=\"\",\"\",Athletenliste!E136)","v":""},{"$f":"IF(Athletenliste!F136=\"\",\"\",Athletenliste!F136)","v":""},{"$f":"IF(Athletenliste!G136=\"\",\"\",Athletenliste!G136)","v":""},{"$f":"IF(Athletenliste!H136=\"\",\"\",Athletenliste!H136)","v":""},null,{"$f":"IF(B136=\"\",\"\",IF(D136=\"m\",INDIRECT(VLOOKUP(G136,Bezüge!$E$6:$F$16,2,FALSE)&ROW(G136)),INDIRECT(VLOOKUP(G136,Bezüge!$B$6:$C$16,2,FALSE)&ROW(G136))))","v":""},null,null,null,"","","","","","","","","","","","","","","","","","","","","","",null,"","","","","","","","","","","","","","","","","","","","","",""]
[null,{"$f":"IF(Athletenliste!B137=\"\",\"\",Athletenliste!B137)","v":""},{"$f":"IF(Athletenliste!C137=\"\",\"\",Athletenliste!C137)","v":""},{"$f":"IF(Athletenliste!D137=\"\",\"\",Athletenliste!D137)","v":""},{"$f":"IF(Athletenliste!E137=\"\",\"\",Athletenliste!E137)","v":""},{"$f":"IF(Athletenliste!F137=\"\",\"\",Athletenliste!F137)","v":""},{"$f":"IF(Athletenliste!G137=\"\",\"\",Athletenliste!G137)","v":""},{"$f":"IF(Athletenliste!H137=\"\",\"\",Athletenliste!H137)","v":""},null,{"$f":"IF(B137=\"\",\"\",IF(D137=\"m\",INDIRECT(VLOOKUP(G137,Bezüge!$E$6:$F$16,2,FALSE)&ROW(G137)),INDIRECT(VLOOKUP(G137,Bezüge!$B$6:$C$16,2,FALSE)&ROW(G137))))","v":""},null,null,null,"","","","","","","","","","","","","","","","","","","","","","",null,"","","","","","","","","","","","","","","","","","","","","",""]
[null,{"$f":"IF(Athletenliste!B138=\"\",\"\",Athletenliste!B138)","v":""},{"$f":"IF(Athletenliste!C138=\"\",\"\",Athletenliste!C138)","v":""},{"$f":"IF(Athletenliste!D138=\"\",\"\",Athletenliste!D138)","v":""},{"$f":"IF(Athletenliste!E138=\"\",\"\",Athletenliste!E138)","v":""},{"$f":"IF(Athletenliste!F138=\"\",\"\",Athletenliste!F138)","v":""},{"$f":"IF(Athletenliste!G138=\"\",\"\",Athletenliste!G138)","v":""},{"$f":"IF(Athletenliste!H138=\"\",\"\",Athletenliste!H138)","v":""},null,{"$f":"IF(B138=\"\",\"\",IF(D138=\"m\",INDIRECT(VLOOKUP(G138,Bezüge!$E$6:$F$16,2,FALSE)&ROW(G138)),INDIRECT(VLOOKUP(G138,Bezüge!$B$6:$C$16,2,FALSE)&ROW(G138))))","v":""},null,null,null,"","","","","","","","","","","","","","","","","","","","","","",null,"","","","","","","","","","","","","","","","","","","","","",""]
[null,{"$f":"IF(Athletenliste!B139=\"\",\"\",Athletenliste!B139)","v":""},{"$f":"IF(Athletenliste!C139=\"\",\"\",Athletenliste!C139)","v":""},{"$f":"IF(Athletenliste!D139=\"\",\"\",Athletenliste!D139)","v":""},{"$f":"IF(Athletenliste!E139=\"\",\"\",Athletenliste!E139)","v":""},{"$f":"IF(Athletenliste!F139=\"\",\"\",Athletenliste!F139)","v":""},{"$f":"IF(Athletenliste!G139=\"\",\"\",Athletenliste!G139)","v":""},{"$f":"IF(Athletenliste!H139=\"\",\"\",Athletenliste!H139)","v":""},null,{"$f":"IF(B139=\"\",\"\",IF(D139=\"m\",INDIRECT(VLOOKUP(G139,Bezüge!$E$6:$F$16,2,FALSE)&ROW(G139)),INDIRECT(VLOOKUP(G139,Bezüge!$B$6:$C$16,2,FALSE)&ROW(G139))))","v":""},null,null,null,{"$f":"IF(AND(D139=\"m\",G139=\"U06\",I139<>\"\"),I139,\"\")","v":""},{"$f":"IF(OR(I139=\"\",N139=\"\"),\"\",_xlfn.RANK.EQ(N139,N$10:N$200))","v":""},{"$f":"IF(AND(D139=\"m\",G139=\"U07\",I139<>\"\"),I139,\"\")","v":""},{"$f":"IF(OR(I139=\"\",P139=\"\"),\"\",_xlfn.RANK.EQ(P139,P$10:P$200))","v":""},{"$f":"IF(AND(D139=\"m\",G139=\"U08\",I139<>\"\"),I139,\"\")","v":""},{"$f":"IF(OR(I139=\"\",R139=\"\"),\"\",_xlfn.RANK.EQ(R139,R$10:R$200))","v":""},{"$f":"IF(AND(D139=\"m\",G139=\"U09\",I139<>\"\"),I139,\"\")","v":""},{"$f":"IF(OR(I139=\"\",T139=\"\"),\"\",_xlfn.RANK.EQ(T139,T$10:T$200))","v":""},{"$f":"IF(AND(D139=\"m\",G139=\"U10\",I139<>\"\"),I139,\"\")","v":""},{"$f":"IF(OR(I139=\"\",V139=\"\"),\"\",_xlfn.RANK.EQ(V139,V$10:V$200))","v":""},{"$f":"IF(AND(D139=\"m\",G139=\"U11\",I139<>\"\"),I139,\"\")","v":""},{"$f":"IF(OR(I139=\"\",X139=\"\"),\"\",_xlfn.RANK.EQ(X139,X$10:X$200))","v":""},{"$f":"IF(AND(D139=\"m\",G139=\"U12\",I139<>\"\"),I139,\"\")","v":""},{"$f":"IF(OR(I139=\"\",Z139=\"\"),\"\",_xlfn.RANK.EQ(Z139,Z$10:Z$200))","v":""},{"$f":"IF(AND(D139=\"m\",G139=\"U13\",I139<>\"\"),I139,\"\")","v":""},{"$f":"IF(OR(I139=\"\",AB139=\"\"),\"\",_xlfn.RANK.EQ(AB139,AB$10:AB$200))","v":""},{"$f":"IF(AND(D139=\"m\",G139=\"U14\",I139<>\"\"),I139,\"\")","v":""},{"$f":"IF(OR(I139=\"\",AD139=\"\"),\"\",_xlfn.RANK.EQ(AD139,AD$10:AD$200))","v":""},{"$f":"IF(AND(D139=\"m\",G139=\"U15\",I139<>\"\"),I139,\"\")","v":""},{"$f":"IF(OR(I139=\"\",AF139=\"\"),\"\",_xlfn.RANK.EQ(AF139,AF$10:AF$200))","v":""},{"$f":"IF(AND(D139=\"m\",G139=\"U16\",I139<>\"\"),I139,\"\")","v":""},{"$f":"IF(OR(I139=\"\",AH139=\"\"),\"\",_xlfn.RANK.EQ(AH139,AH$10:AH$200))","v":""},null,{"$f":"IF(AND(D139=\"w\",G139=\"U06\",I139<>\"\"),I139,\"\")","v":""},{"$f":"IF(OR(I139=\"\",AI139=\"\"),\"\",_xlfn.RANK.EQ(AI139,AI$10:AI$200))","v":""},{"$f":"IF(AND(D139=\"w\",G139=\"U07\",I139<>\"\"),I139,\"\")","v":""},{"$f":"IF(OR(I139=\"\",AM139=\"\"),\"\",_xlfn.RANK.EQ(AM139,AM$10:AM$20))","v":""},{"$f":"IF(AND(D139=\"w\",G139=\"U08\",I139<>\"\"),I139,\"\")","v":""},{"$f":"IF(OR(I139=\"\",AO139=\"\"),\"\",_xlfn.RANK.EQ(AO139,AO$10:AO$200,0))","v":""},{"$f":"IF(AND(D139=\"w\",G139=\"U09\",I139<>\"\"),I139,\"\")","v":""},{"$f":"IF(OR(I139=\"\",AQ139=\"\"),\"\",_xlfn.RANK.EQ(AQ139,AQ$10:AQ$200))","v":""},{"$f":"IF(AND(D139=\"w\",G139=\"U10\",I139<>\"\"),I139,\"\")","v":""},{"$f":"IF(OR(I139=\"\",AS139=\"\"),\"\",_xlfn.RANK.EQ(AS139,AS$10:AS$200))","v":""},{"$f":"IF(AND(D139=\"w\",G139=\"U11\",I139<>\"\"),I139,\"\")","v":""},{"$f":"IF(OR(I139=\"\",AU139=\"\"),\"\",_xlfn.RANK.EQ(AU139,AU$10:AU$200))","v":""},{"$f":"IF(AND(D139=\"w\",G139=\"U12\",I139<>\"\"),I139,\"\")","v":""},{"$f":"IF(OR(I139=\"\",AW139=\"\"),\"\",_xlfn.RANK.EQ(AW139,AW$10:AW$200))","v":""},{"$f":"IF(AND(D139=\"w\",G139=\"U13\",I139<>\"\"),I139,\"\")","v":""},{"$f":"IF(OR(I139=\"\",AY139=\"\"),\"\",_xlfn.RANK.EQ(AY139,AY$10:AY$200))","v":""},{"$f":"IF(AND(D139=\"w\",G139=\"U14\",I139<>\"\"),I139,\"\")","v":""},{"$f":"IF(OR(I139=\"\",BA139=\"\"),\"\",_xlfn.RANK.EQ(BA139,BA$10:BA$200))","v":""},{"$f":"IF(AND(D139=\"w\",G139=\"U15\",I139<>\"\"),I139,\"\")","v":""},{"$f":"IF(OR(I139=\"\",BC139=\"\"),\"\",_xlfn.RANK.EQ(BC139,BC$10:BC$200))","v":""},{"$f":"IF(AND(D139=\"w\",G139=\"U16\",I139<>\"\"),I139,\"\")","v":""},{"$f":"IF(OR(I139=\"\",BE139=\"\"),\"\",_xlfn.RANK.EQ(BE139,BE$10:BE$200))","v":""}]
[null,{"$f":"IF(Athletenliste!B140=\"\",\"\",Athletenliste!B140)","v":""},{"$f":"IF(Athletenliste!C140=\"\",\"\",Athletenliste!C140)","v":""},{"$f":"IF(Athletenliste!D140=\"\",\"\",Athletenliste!D140)","v":""},{"$f":"IF(Athletenliste!E140=\"\",\"\",Athletenliste!E140)","v":""},{"$f":"IF(Athletenliste!F140=\"\",\"\",Athletenliste!F140)","v":""},{"$f":"IF(Athletenliste!G140=\"\",\"\",Athletenliste!G140)","v":""},{"$f":"IF(Athletenliste!H140=\"\",\"\",Athletenliste!H140)","v":""},null,{"$f":"IF(B140=\"\",\"\",IF(D140=\"m\",INDIRECT(VLOOKUP(G140,Bezüge!$E$6:$F$16,2,FALSE)&ROW(G140)),INDIRECT(VLOOKUP(G140,Bezüge!$B$6:$C$16,2,FALSE)&ROW(G140))))","v":""},null,null,null,"","","","","","","","","","","","","","","","","","","","","","",null,"","","","","","","","","","","","","","","","","","","","","",""]
[null,{"$f":"IF(Athletenliste!B141=\"\",\"\",Athletenliste!B141)","v":""},{"$f":"IF(Athletenliste!C141=\"\",\"\",Athletenliste!C141)","v":""},{"$f":"IF(Athletenliste!D141=\"\",\"\",Athletenliste!D141)","v":""},{"$f":"IF(Athletenliste!E141=\"\",\"\",Athletenliste!E141)","v":""},{"$f":"IF(Athletenliste!F141=\"\",\"\",Athletenliste!F141)","v":""},{"$f":"IF(Athletenliste!G141=\"\",\"\",Athletenliste!G141)","v":""},{"$f":"IF(Athletenliste!H141=\"\",\"\",Athletenliste!H141)","v":""},null,{"$f":"IF(B141=\"\",\"\",IF(D141=\"m\",INDIRECT(VLOOKUP(G141,Bezüge!$E$6:$F$16,2,FALSE)&ROW(G141)),INDIRECT(VLOOKUP(G141,Bezüge!$B$6:$C$16,2,FALSE)&ROW(G141))))","v":""},null,null,null,"","","","","","","","","","","","","","","","","","","","","","",null,"","","","","","","","","","","","","","","","","","","","","",""]
[null,{"$f":"IF(Athletenliste!B142=\"\",\"\",Athletenliste!B142)","v":""},{"$f":"IF(Athletenliste!C142=\"\",\"\",Athletenliste!C142)","v":""},{"$f":"IF(Athletenliste!D142=\"\",\"\",Athletenliste!D142)","v":""},{"$f":"IF(Athletenliste!E142=\"\",\"\",Athletenliste!E142)","v":""},{"$f":"IF(Athletenliste!F142=\"\",\"\",Athletenliste!F142)","v":""},{"$f":"IF(Athletenliste!G142=\"\",\"\",Athletenliste!G142)","v":""},{"$f":"IF(Athletenliste!H142=\"\",\"\",Athletenliste!H142)","v":""},null,{"$f":"IF(B142=\"\",\"\",IF(D142=\"m\",INDIRECT(VLOOKUP(G142,Bezüge!$E$6:$F$16,2,FALSE)&ROW(G142)),INDIRECT(VLOOKUP(G142,Bezüge!$B$6:$C$16,2,FALSE)&ROW(G142))))","v":""},null,null,null,"","","","","","","","","","","","","","","","","","","","","","",null,"","","","","","","","","","","","","","","","","","","","","",""]
[null,{"$f":"IF(Athletenliste!B143=\"\",\"\",Athletenliste!B143)","v":""},{"$f":"IF(Athletenliste!C143=\"\",\"\",Athletenliste!C143)","v":""},{"$f":"IF(Athletenliste!D143=\"\",\"\",Athletenliste!D143)","v":""},{"$f":"IF(Athletenliste!E143=\"\",\"\",Athletenliste!E143)","v":""},{"$f":"IF(Athletenliste!F143=\"\",\"\",Athletenliste!F143)","v":""},{"$f":"IF(Athletenliste!G143=\"\",\"\",Athletenliste!G143)","v":""},{"$f":"IF(Athletenliste!H143=\"\",\"\",Athletenliste!H143)","v":""},null,{"$f":"IF(B143=\"\",\"\",IF(D143=\"m\",INDIRECT(VLOOKUP(G143,Bezüge!$E$6:$F$16,2,FALSE)&ROW(G143)),INDIRECT(VLOOKUP(G143,Bezüge!$B$6:$C$16,2,FALSE)&ROW(G143))))","v":""},null,null,null,"","","","","","","","","","","","","","","","","","","","","","",null,"","","","","","","","","","","","","","","","","","","","","",""]
[null,{"$f":"IF(Athletenliste!B144=\"\",\"\",Athletenliste!B144)","v":""},{"$f":"IF(Athletenliste!C144=\"\",\"\",Athletenliste!C144)","v":""},{"$f":"IF(Athletenliste!D144=\"\",\"\",Athletenliste!D144)","v":""},{"$f":"IF(Athletenliste!E144=\"\",\"\",Athletenliste!E144)","v":""},{"$f":"IF(Athletenliste!F144=\"\",\"\",Athletenliste!F144)","v":""},{"$f":"IF(Athletenliste!G144=\"\",\"\",Athletenliste!G144)","v":""},{"$f":"IF(Athletenliste!H144=\"\",\"\",Athletenliste!H144)","v":""},null,{"$f":"IF(B144=\"\",\"\",IF(D144=\"m\",INDIRECT(VLOOKUP(G144,Bezüge!$E$6:$F$16,2,FALSE)&ROW(G144)),INDIRECT(VLOOKUP(G144,Bezüge!$B$6:$C$16,2,FALSE)&ROW(G144))))","v":""},null,null,null,"","","","","","","","","","","","","","","","","","","","","","",null,"","","","","","","","","","","","","","","","","","","","","",""]
[null,{"$f":"IF(Athletenliste!B145=\"\",\"\",Athletenliste!B145)","v":""},{"$f":"IF(Athletenliste!C145=\"\",\"\",Athletenliste!C145)","v":""},{"$f":"IF(Athletenliste!D145=\"\",\"\",Athletenliste!D145)","v":""},{"$f":"IF(Athletenliste!E145=\"\",\"\",Athletenliste!E145)","v":""},{"$f":"IF(Athletenliste!F145=\"\",\"\",Athletenliste!F145)","v":""},{"$f":"IF(Athletenliste!G145=\"\",\"\",Athletenliste!G145)","v":""},{"$f":"IF(Athletenliste!H145=\"\",\"\",Athletenliste!H145)","v":""},null,{"$f":"IF(B145=\"\",\"\",IF(D145=\"m\",INDIRECT(VLOOKUP(G145,Bezüge!$E$6:$F$16,2,FALSE)&ROW(G145)),INDIRECT(VLOOKUP(G145,Bezüge!$B$6:$C$16,2,FALSE)&ROW(G145))))","v":""},null,null,null,"","","","","","","","","","","","","","","","","","","","","","",null,"","","","","","","","","","","","","","","","","","","","","",""]
[null,{"$f":"IF(Athletenliste!B146=\"\",\"\",Athletenliste!B146)","v":""},{"$f":"IF(Athletenliste!C146=\"\",\"\",Athletenliste!C146)","v":""},{"$f":"IF(Athletenliste!D146=\"\",\"\",Athletenliste!D146)","v":""},{"$f":"IF(Athletenliste!E146=\"\",\"\",Athletenliste!E146)","v":""},{"$f":"IF(Athletenliste!F146=\"\",\"\",Athletenliste!F146)","v":""},{"$f":"IF(Athletenliste!G146=\"\",\"\",Athletenliste!G146)","v":""},{"$f":"IF(Athletenliste!H146=\"\",\"\",Athletenliste!H146)","v":""},null,{"$f":"IF(B146=\"\",\"\",IF(D146=\"m\",INDIRECT(VLOOKUP(G146,Bezüge!$E$6:$F$16,2,FALSE)&ROW(G146)),INDIRECT(VLOOKUP(G146,Bezüge!$B$6:$C$16,2,FALSE)&ROW(G146))))","v":""},null,null,null,"","","","","","","","","","","","","","","","","","","","","","",null,"","","","","","","","","","","","","","","","","","","","","",""]
[null,{"$f":"IF(Athletenliste!B147=\"\",\"\",Athletenliste!B147)","v":""},{"$f":"IF(Athletenliste!C147=\"\",\"\",Athletenliste!C147)","v":""},{"$f":"IF(Athletenliste!D147=\"\",\"\",Athletenliste!D147)","v":""},{"$f":"IF(Athletenliste!E147=\"\",\"\",Athletenliste!E147)","v":""},{"$f":"IF(Athletenliste!F147=\"\",\"\",Athletenliste!F147)","v":""},{"$f":"IF(Athletenliste!G147=\"\",\"\",Athletenliste!G147)","v":""},{"$f":"IF(Athletenliste!H147=\"\",\"\",Athletenliste!H147)","v":""},null,{"$f":"IF(B147=\"\",\"\",IF(D147=\"m\",INDIRECT(VLOOKUP(G147,Bezüge!$E$6:$F$16,2,FALSE)&ROW(G147)),INDIRECT(VLOOKUP(G147,Bezüge!$B$6:$C$16,2,FALSE)&ROW(G147))))","v":""},null,null,null,"","","","","","","","","","","","","","","","","","","","","","",null,"","","","","","","","","","","","","","","","","","","","","",""]
[null,{"$f":"IF(Athletenliste!B148=\"\",\"\",Athletenliste!B148)","v":""},{"$f":"IF(Athletenliste!C148=\"\",\"\",Athletenliste!C148)","v":""},{"$f":"IF(Athletenliste!D148=\"\",\"\",Athletenliste!D148)","v":""},{"$f":"IF(Athletenliste!E148=\"\",\"\",Athletenliste!E148)","v":""},{"$f":"IF(Athletenliste!F148=\"\",\"\",Athletenliste!F148)","v":""},{"$f":"IF(Athletenliste!G148=\"\",\"\",Athletenliste!G148)","v":""},{"$f":"IF(Athletenliste!H148=\"\",\"\",Athletenliste!H148)","v":""},null,{"$f":"IF(B148=\"\",\"\",IF(D148=\"m\",INDIRECT(VLOOKUP(G148,Bezüge!$E$6:$F$16,2,FALSE)&ROW(G148)),INDIRECT(VLOOKUP(G148,Bezüge!$B$6:$C$16,2,FALSE)&ROW(G148))))","v":""},null,null,null,"","","","","","","","","","","","","","","","","","","","","","",null,"","","","","","","","","","","","","","","","","","","","","",""]
[null,{"$f":"IF(Athletenliste!B149=\"\",\"\",Athletenliste!B149)","v":""},{"$f":"IF(Athletenliste!C149=\"\",\"\",Athletenliste!C149)","v":""},{"$f":"IF(Athletenliste!D149=\"\",\"\",Athletenliste!D149)","v":""},{"$f":"IF(Athletenliste!E149=\"\",\"\",Athletenliste!E149)","v":""},{"$f":"IF(Athletenliste!F149=\"\",\"\",Athletenliste!F149)","v":""},{"$f":"IF(Athletenliste!G149=\"\",\"\",Athletenliste!G149)","v":""},{"$f":"IF(Athletenliste!H149=\"\",\"\",Athletenliste!H149)","v":""},null,{"$f":"IF(B149=\"\",\"\",IF(D149=\"m\",INDIRECT(VLOOKUP(G149,Bezüge!$E$6:$F$16,2,FALSE)&ROW(G149)),INDIRECT(VLOOKUP(G149,Bezüge!$B$6:$C$16,2,FALSE)&ROW(G149))))","v":""},null,null,null,"","","","","","","","","","","","","","","","","","","","","","",null,"","","","","","","","","","","","","","","","","","","","","",""]
[null,{"$f":"IF(Athletenliste!B150=\"\",\"\",Athletenliste!B150)","v":""},{"$f":"IF(Athletenliste!C150=\"\",\"\",Athletenliste!C150)","v":""},{"$f":"IF(Athletenliste!D150=\"\",\"\",Athletenliste!D150)","v":""},{"$f":"IF(Athletenliste!E150=\"\",\"\",Athletenliste!E150)","v":""},{"$f":"IF(Athletenliste!F150=\"\",\"\",Athletenliste!F150)","v":""},{"$f":"IF(Athletenliste!G150=\"\",\"\",Athletenliste!G150)","v":""},{"$f":"IF(Athletenliste!H150=\"\",\"\",Athletenliste!H150)","v":""},null,{"$f":"IF(B150=\"\",\"\",IF(D150=\"m\",INDIRECT(VLOOKUP(G150,Bezüge!$E$6:$F$16,2,FALSE)&ROW(G150)),INDIRECT(VLOOKUP(G150,Bezüge!$B$6:$C$16,2,FALSE)&ROW(G150))))","v":""},null,null,null,"","","","","","","","","","","","","","","","","","","","","","",null,"","","","","","","","","","","","","","","","","","","","","",""]
[null,{"$f":"IF(Athletenliste!B151=\"\",\"\",Athletenliste!B151)","v":""},{"$f":"IF(Athletenliste!C151=\"\",\"\",Athletenliste!C151)","v":""},{"$f":"IF(Athletenliste!D151=\"\",\"\",Athletenliste!D151)","v":""},{"$f":"IF(Athletenliste!E151=\"\",\"\",Athletenliste!E151)","v":""},{"$f":"IF(Athletenliste!F151=\"\",\"\",Athletenliste!F151)","v":""},{"$f":"IF(Athletenliste!G151=\"\",\"\",Athletenliste!G151)","v":""},{"$f":"IF(Athletenliste!H151=\"\",\"\",Athletenliste!H151)","v":""},null,{"$f":"IF(B151=\"\",\"\",IF(D151=\"m\",INDIRECT(VLOOKUP(G151,Bezüge!$E$6:$F$16,2,FALSE)&ROW(G151)),INDIRECT(VLOOKUP(G151,Bezüge!$B$6:$C$16,2,FALSE)&ROW(G151))))","v":""},null,null,null,"","","","","","","","","","","","","","","","","","","","","","",null,"","","","","","","","","","","","","","","","","","","","","",""]
[null,{"$f":"IF(Athletenliste!B152=\"\",\"\",Athletenliste!B152)","v":""},{"$f":"IF(Athletenliste!C152=\"\",\"\",Athletenliste!C152)","v":""},{"$f":"IF(Athletenliste!D152=\"\",\"\",Athletenliste!D152)","v":""},{"$f":"IF(Athletenliste!E152=\"\",\"\",Athletenliste!E152)","v":""},{"$f":"IF(Athletenliste!F152=\"\",\"\",Athletenliste!F152)","v":""},{"$f":"IF(Athletenliste!G152=\"\",\"\",Athletenliste!G152)","v":""},{"$f":"IF(Athletenliste!H152=\"\",\"\",Athletenliste!H152)","v":""},null,{"$f":"IF(B152=\"\",\"\",IF(D152=\"m\",INDIRECT(VLOOKUP(G152,Bezüge!$E$6:$F$16,2,FALSE)&ROW(G152)),INDIRECT(VLOOKUP(G152,Bezüge!$B$6:$C$16,2,FALSE)&ROW(G152))))","v":""},null,null,null,"","","","","","","","","","","","","","","","","","","","","","",null,"","","","","","","","","","","","","","","","","","","","","",""]
[null,{"$f":"IF(Athletenliste!B153=\"\",\"\",Athletenliste!B153)","v":""},{"$f":"IF(Athletenliste!C153=\"\",\"\",Athletenliste!C153)","v":""},{"$f":"IF(Athletenliste!D153=\"\",\"\",Athletenliste!D153)","v":""},{"$f":"IF(Athletenliste!E153=\"\",\"\",Athletenliste!E153)","v":""},{"$f":"IF(Athletenliste!F153=\"\",\"\",Athletenliste!F153)","v":""},{"$f":"IF(Athletenliste!G153=\"\",\"\",Athletenliste!G153)","v":""},{"$f":"IF(Athletenliste!H153=\"\",\"\",Athletenliste!H153)","v":""},null,{"$f":"IF(B153=\"\",\"\",IF(D153=\"m\",INDIRECT(VLOOKUP(G153,Bezüge!$E$6:$F$16,2,FALSE)&ROW(G153)),INDIRECT(VLOOKUP(G153,Bezüge!$B$6:$C$16,2,FALSE)&ROW(G153))))","v":""},null,null,null,"","","","","","","","","","","","","","","","","","","","","","",null,"","","","","","","","","","","","","","","","","","","","","",""]
[null,{"$f":"IF(Athletenliste!B154=\"\",\"\",Athletenliste!B154)","v":""},{"$f":"IF(Athletenliste!C154=\"\",\"\",Athletenliste!C154)","v":""},{"$f":"IF(Athletenliste!D154=\"\",\"\",Athletenliste!D154)","v":""},{"$f":"IF(Athletenliste!E154=\"\",\"\",Athletenliste!E154)","v":""},{"$f":"IF(Athletenliste!F154=\"\",\"\",Athletenliste!F154)","v":""},{"$f":"IF(Athletenliste!G154=\"\",\"\",Athletenliste!G154)","v":""},{"$f":"IF(Athletenliste!H154=\"\",\"\",Athletenliste!H154)","v":""},null,{"$f":"IF(B154=\"\",\"\",IF(D154=\"m\",INDIRECT(VLOOKUP(G154,Bezüge!$E$6:$F$16,2,FALSE)&ROW(G154)),INDIRECT(VLOOKUP(G154,Bezüge!$B$6:$C$16,2,FALSE)&ROW(G154))))","v":""},null,null,null,"","","","","","","","","","","","","","","","","","","","","","",null,"","","","","","","","","","","","","","","","","","","","","",""]
[null,{"$f":"IF(Athletenliste!B155=\"\",\"\",Athletenliste!B155)","v":""},{"$f":"IF(Athletenliste!C155=\"\",\"\",Athletenliste!C155)","v":""},{"$f":"IF(Athletenliste!D155=\"\",\"\",Athletenliste!D155)","v":""},{"$f":"IF(Athletenliste!E155=\"\",\"\",Athletenliste!E155)","v":""},{"$f":"IF(Athletenliste!F155=\"\",\"\",Athletenliste!F155)","v":""},{"$f":"IF(Athletenliste!G155=\"\",\"\",Athletenliste!G155)","v":""},{"$f":"IF(Athletenliste!H155=\"\",\"\",Athletenliste!H155)","v":""},null,{"$f":"IF(B155=\"\",\"\",IF(D155=\"m\",INDIRECT(VLOOKUP(G155,Bezüge!$E$6:$F$16,2,FALSE)&ROW(G155)),INDIRECT(VLOOKUP(G155,Bezüge!$B$6:$C$16,2,FALSE)&ROW(G155))))","v":""},null,null,null,"","","","","","","","","","","","","","","","","","","","","","",null,"","","","","","","","","","","","","","","","","","","","","",""]
[null,{"$f":"IF(Athletenliste!B156=\"\",\"\",Athletenliste!B156)","v":""},{"$f":"IF(Athletenliste!C156=\"\",\"\",Athletenliste!C156)","v":""},{"$f":"IF(Athletenliste!D156=\"\",\"\",Athletenliste!D156)","v":""},{"$f":"IF(Athletenliste!E156=\"\",\"\",Athletenliste!E156)","v":""},{"$f":"IF(Athletenliste!F156=\"\",\"\",Athletenliste!F156)","v":""},{"$f":"IF(Athletenliste!G156=\"\",\"\",Athletenliste!G156)","v":""},{"$f":"IF(Athletenliste!H156=\"\",\"\",Athletenliste!H156)","v":""},null,{"$f":"IF(B156=\"\",\"\",IF(D156=\"m\",INDIRECT(VLOOKUP(G156,Bezüge!$E$6:$F$16,2,FALSE)&ROW(G156)),INDIRECT(VLOOKUP(G156,Bezüge!$B$6:$C$16,2,FALSE)&ROW(G156))))","v":""},null,null,null,"","","","","","","","","","","","","","","","","","","","","","",null,"","","","","","","","","","","","","","","","","","","","","",""]
[null,{"$f":"IF(Athletenliste!B157=\"\",\"\",Athletenliste!B157)","v":""},{"$f":"IF(Athletenliste!C157=\"\",\"\",Athletenliste!C157)","v":""},{"$f":"IF(Athletenliste!D157=\"\",\"\",Athletenliste!D157)","v":""},{"$f":"IF(Athletenliste!E157=\"\",\"\",Athletenliste!E157)","v":""},{"$f":"IF(Athletenliste!F157=\"\",\"\",Athletenliste!F157)","v":""},{"$f":"IF(Athletenliste!G157=\"\",\"\",Athletenliste!G157)","v":""},{"$f":"IF(Athletenliste!H157=\"\",\"\",Athletenliste!H157)","v":""},null,{"$f":"IF(B157=\"\",\"\",IF(D157=\"m\",INDIRECT(VLOOKUP(G157,Bezüge!$E$6:$F$16,2,FALSE)&ROW(G157)),INDIRECT(VLOOKUP(G157,Bezüge!$B$6:$C$16,2,FALSE)&ROW(G157))))","v":""},null,null,null,"","","","","","","","","","","","","","","","","","","","","","",null,"","","","","","","","","","","","","","","","","","","","","",""]
[null,{"$f":"IF(Athletenliste!B158=\"\",\"\",Athletenliste!B158)","v":""},{"$f":"IF(Athletenliste!C158=\"\",\"\",Athletenliste!C158)","v":""},{"$f":"IF(Athletenliste!D158=\"\",\"\",Athletenliste!D158)","v":""},{"$f":"IF(Athletenliste!E158=\"\",\"\",Athletenliste!E158)","v":""},{"$f":"IF(Athletenliste!F158=\"\",\"\",Athletenliste!F158)","v":""},{"$f":"IF(Athletenliste!G158=\"\",\"\",Athletenliste!G158)","v":""},{"$f":"IF(Athletenliste!H158=\"\",\"\",Athletenliste!H158)","v":""},null,{"$f":"IF(B158=\"\",\"\",IF(D158=\"m\",INDIRECT(VLOOKUP(G158,Bezüge!$E$6:$F$16,2,FALSE)&ROW(G158)),INDIRECT(VLOOKUP(G158,Bezüge!$B$6:$C$16,2,FALSE)&ROW(G158))))","v":""},null,null,null,"","","","","","","","","","","","","","","","","","","","","","",null,"","","","","","","","","","","","","","","","","","","","","",""]
[null,{"$f":"IF(Athletenliste!B159=\"\",\"\",Athletenliste!B159)","v":""},{"$f":"IF(Athletenliste!C159=\"\",\"\",Athletenliste!C159)","v":""},{"$f":"IF(Athletenliste!D159=\"\",\"\",Athletenliste!D159)","v":""},{"$f":"IF(Athletenliste!E159=\"\",\"\",Athletenliste!E159)","v":""},{"$f":"IF(Athletenliste!F159=\"\",\"\",Athletenliste!F159)","v":""},{"$f":"IF(Athletenliste!G159=\"\",\"\",Athletenliste!G159)","v":""},{"$f":"IF(Athletenliste!H159=\"\",\"\",Athletenliste!H159)","v":""},null,{"$f":"IF(B159=\"\",\"\",IF(D159=\"m\",INDIRECT(VLOOKUP(G159,Bezüge!$E$6:$F$16,2,FALSE)&ROW(G159)),INDIRECT(VLOOKUP(G159,Bezüge!$B$6:$C$16,2,FALSE)&ROW(G159))))","v":""},null,null,null,"","","","","","","","","","","","","","","","","","","","","","",null,"","","","","","","","","","","","","","","","","","","","","",""]
[null,{"$f":"IF(Athletenliste!B160=\"\",\"\",Athletenliste!B160)","v":""},{"$f":"IF(Athletenliste!C160=\"\",\"\",Athletenliste!C160)","v":""},{"$f":"IF(Athletenliste!D160=\"\",\"\",Athletenliste!D160)","v":""},{"$f":"IF(Athletenliste!E160=\"\",\"\",Athletenliste!E160)","v":""},{"$f":"IF(Athletenliste!F160=\"\",\"\",Athletenliste!F160)","v":""},{"$f":"IF(Athletenliste!G160=\"\",\"\",Athletenliste!G160)","v":""},{"$f":"IF(Athletenliste!H160=\"\",\"\",Athletenliste!H160)","v":""},null,{"$f":"IF(B160=\"\",\"\",IF(D160=\"m\",INDIRECT(VLOOKUP(G160,Bezüge!$E$6:$F$16,2,FALSE)&ROW(G160)),INDIRECT(VLOOKUP(G160,Bezüge!$B$6:$C$16,2,FALSE)&ROW(G160))))","v":""},null,null,null,"","","","","","","","","","","","","","","","","","","","","","",null,"","","","","","","","","","","","","","","","","","","","","",""]
[null,{"$f":"IF(Athletenliste!B161=\"\",\"\",Athletenliste!B161)","v":""},{"$f":"IF(Athletenliste!C161=\"\",\"\",Athletenliste!C161)","v":""},{"$f":"IF(Athletenliste!D161=\"\",\"\",Athletenliste!D161)","v":""},{"$f":"IF(Athletenliste!E161=\"\",\"\",Athletenliste!E161)","v":""},{"$f":"IF(Athletenliste!F161=\"\",\"\",Athletenliste!F161)","v":""},{"$f":"IF(Athletenliste!G161=\"\",\"\",Athletenliste!G161)","v":""},{"$f":"IF(Athletenliste!H161=\"\",\"\",Athletenliste!H161)","v":""},null,{"$f":"IF(B161=\"\",\"\",IF(D161=\"m\",INDIRECT(VLOOKUP(G161,Bezüge!$E$6:$F$16,2,FALSE)&ROW(G161)),INDIRECT(VLOOKUP(G161,Bezüge!$B$6:$C$16,2,FALSE)&ROW(G161))))","v":""},null,null,null,"","","","","","","","","","","","","","","","","","","","","","",null,"","","","","","","","","","","","","","","","","","","","","",""]
[null,{"$f":"IF(Athletenliste!B162=\"\",\"\",Athletenliste!B162)","v":""},{"$f":"IF(Athletenliste!C162=\"\",\"\",Athletenliste!C162)","v":""},{"$f":"IF(Athletenliste!D162=\"\",\"\",Athletenliste!D162)","v":""},{"$f":"IF(Athletenliste!E162=\"\",\"\",Athletenliste!E162)","v":""},{"$f":"IF(Athletenliste!F162=\"\",\"\",Athletenliste!F162)","v":""},{"$f":"IF(Athletenliste!G162=\"\",\"\",Athletenliste!G162)","v":""},{"$f":"IF(Athletenliste!H162=\"\",\"\",Athletenliste!H162)","v":""},null,{"$f":"IF(B162=\"\",\"\",IF(D162=\"m\",INDIRECT(VLOOKUP(G162,Bezüge!$E$6:$F$16,2,FALSE)&ROW(G162)),INDIRECT(VLOOKUP(G162,Bezüge!$B$6:$C$16,2,FALSE)&ROW(G162))))","v":""},null,null,null,"","","","","","","","","","","","","","","","","","","","","","",null,"","","","","","","","","","","","","","","","","","","","","",""]
[null,{"$f":"IF(Athletenliste!B163=\"\",\"\",Athletenliste!B163)","v":""},{"$f":"IF(Athletenliste!C163=\"\",\"\",Athletenliste!C163)","v":""},{"$f":"IF(Athletenliste!D163=\"\",\"\",Athletenliste!D163)","v":""},{"$f":"IF(Athletenliste!E163=\"\",\"\",Athletenliste!E163)","v":""},{"$f":"IF(Athletenliste!F163=\"\",\"\",Athletenliste!F163)","v":""},{"$f":"IF(Athletenliste!G163=\"\",\"\",Athletenliste!G163)","v":""},{"$f":"IF(Athletenliste!H163=\"\",\"\",Athletenliste!H163)","v":""},null,{"$f":"IF(B163=\"\",\"\",IF(D163=\"m\",INDIRECT(VLOOKUP(G163,Bezüge!$E$6:$F$16,2,FALSE)&ROW(G163)),INDIRECT(VLOOKUP(G163,Bezüge!$B$6:$C$16,2,FALSE)&ROW(G163))))","v":""},null,null,null,"","","","","","","","","","","","","","","","","","","","","","",null,"","","","","","","","","","","","","","","","","","","","","",""]
[null,{"$f":"IF(Athletenliste!B164=\"\",\"\",Athletenliste!B164)","v":""},{"$f":"IF(Athletenliste!C164=\"\",\"\",Athletenliste!C164)","v":""},{"$f":"IF(Athletenliste!D164=\"\",\"\",Athletenliste!D164)","v":""},{"$f":"IF(Athletenliste!E164=\"\",\"\",Athletenliste!E164)","v":""},{"$f":"IF(Athletenliste!F164=\"\",\"\",Athletenliste!F164)","v":""},{"$f":"IF(Athletenliste!G164=\"\",\"\",Athletenliste!G164)","v":""},{"$f":"IF(Athletenliste!H164=\"\",\"\",Athletenliste!H164)","v":""},null,{"$f":"IF(B164=\"\",\"\",IF(D164=\"m\",INDIRECT(VLOOKUP(G164,Bezüge!$E$6:$F$16,2,FALSE)&ROW(G164)),INDIRECT(VLOOKUP(G164,Bezüge!$B$6:$C$16,2,FALSE)&ROW(G164))))","v":""},null,null,null,"","","","","","","","","","","","","","","","","","","","","","",null,"","","","","","","","","","","","","","","","","","","","","",""]
[null,{"$f":"IF(Athletenliste!B165=\"\",\"\",Athletenliste!B165)","v":""},{"$f":"IF(Athletenliste!C165=\"\",\"\",Athletenliste!C165)","v":""},{"$f":"IF(Athletenliste!D165=\"\",\"\",Athletenliste!D165)","v":""},{"$f":"IF(Athletenliste!E165=\"\",\"\",Athletenliste!E165)","v":""},{"$f":"IF(Athletenliste!F165=\"\",\"\",Athletenliste!F165)","v":""},{"$f":"IF(Athletenliste!G165=\"\",\"\",Athletenliste!G165)","v":""},{"$f":"IF(Athletenliste!H165=\"\",\"\",Athletenliste!H165)","v":""},null,{"$f":"IF(B165=\"\",\"\",IF(D165=\"m\",INDIRECT(VLOOKUP(G165,Bezüge!$E$6:$F$16,2,FALSE)&ROW(G165)),INDIRECT(VLOOKUP(G165,Bezüge!$B$6:$C$16,2,FALSE)&ROW(G165))))","v":""},null,null,null,"","","","","","","","","","","","","","","","","","","","","","",null,"","","","","","","","","","","","","","","","","","","","","",""]
[null,{"$f":"IF(Athletenliste!B166=\"\",\"\",Athletenliste!B166)","v":""},{"$f":"IF(Athletenliste!C166=\"\",\"\",Athletenliste!C166)","v":""},{"$f":"IF(Athletenliste!D166=\"\",\"\",Athletenliste!D166)","v":""},{"$f":"IF(Athletenliste!E166=\"\",\"\",Athletenliste!E166)","v":""},{"$f":"IF(Athletenliste!F166=\"\",\"\",Athletenliste!F166)","v":""},{"$f":"IF(Athletenliste!G166=\"\",\"\",Athletenliste!G166)","v":""},{"$f":"IF(Athletenliste!H166=\"\",\"\",Athletenliste!H166)","v":""},null,{"$f":"IF(B166=\"\",\"\",IF(D166=\"m\",INDIRECT(VLOOKUP(G166,Bezüge!$E$6:$F$16,2,FALSE)&ROW(G166)),INDIRECT(VLOOKUP(G166,Bezüge!$B$6:$C$16,2,FALSE)&ROW(G166))))","v":""},null,null,null,"","","","","","","","","","","","","","","","","","","","","","",null,"","","","","","","","","","","","","","","","","","","","","",""]
[null,{"$f":"IF(Athletenliste!B167=\"\",\"\",Athletenliste!B167)","v":""},{"$f":"IF(Athletenliste!C167=\"\",\"\",Athletenliste!C167)","v":""},{"$f":"IF(Athletenliste!D167=\"\",\"\",Athletenliste!D167)","v":""},{"$f":"IF(Athletenliste!E167=\"\",\"\",Athletenliste!E167)","v":""},{"$f":"IF(Athletenliste!F167=\"\",\"\",Athletenliste!F167)","v":""},{"$f":"IF(Athletenliste!G167=\"\",\"\",Athletenliste!G167)","v":""},{"$f":"IF(Athletenliste!H167=\"\",\"\",Athletenliste!H167)","v":""},null,{"$f":"IF(B167=\"\",\"\",IF(D167=\"m\",INDIRECT(VLOOKUP(G167,Bezüge!$E$6:$F$16,2,FALSE)&ROW(G167)),INDIRECT(VLOOKUP(G167,Bezüge!$B$6:$C$16,2,FALSE)&ROW(G167))))","v":""},null,null,null,"","","","","","","","","","","","","","","","","","","","","","",null,"","","","","","","","","","","","","","","","","","","","","",""]
[null,{"$f":"IF(Athletenliste!B168=\"\",\"\",Athletenliste!B168)","v":""},{"$f":"IF(Athletenliste!C168=\"\",\"\",Athletenliste!C168)","v":""},{"$f":"IF(Athletenliste!D168=\"\",\"\",Athletenliste!D168)","v":""},{"$f":"IF(Athletenliste!E168=\"\",\"\",Athletenliste!E168)","v":""},{"$f":"IF(Athletenliste!F168=\"\",\"\",Athletenliste!F168)","v":""},{"$f":"IF(Athletenliste!G168=\"\",\"\",Athletenliste!G168)","v":""},{"$f":"IF(Athletenliste!H168=\"\",\"\",Athletenliste!H168)","v":""},null,{"$f":"IF(B168=\"\",\"\",IF(D168=\"m\",INDIRECT(VLOOKUP(G168,Bezüge!$E$6:$F$16,2,FALSE)&ROW(G168)),INDIRECT(VLOOKUP(G168,Bezüge!$B$6:$C$16,2,FALSE)&ROW(G168))))","v":""},null,null,null,"","","","","","","","","","","","","","","","","","","","","","",null,"","","","","","","","","","","","","","","","","","","","","",""]
[null,{"$f":"IF(Athletenliste!B169=\"\",\"\",Athletenliste!B169)","v":""},{"$f":"IF(Athletenliste!C169=\"\",\"\",Athletenliste!C169)","v":""},{"$f":"IF(Athletenliste!D169=\"\",\"\",Athletenliste!D169)","v":""},{"$f":"IF(Athletenliste!E169=\"\",\"\",Athletenliste!E169)","v":""},{"$f":"IF(Athletenliste!F169=\"\",\"\",Athletenliste!F169)","v":""},{"$f":"IF(Athletenliste!G169=\"\",\"\",Athletenliste!G169)","v":""},{"$f":"IF(Athletenliste!H169=\"\",\"\",Athletenliste!H169)","v":""},null,{"$f":"IF(B169=\"\",\"\",IF(D169=\"m\",INDIRECT(VLOOKUP(G169,Bezüge!$E$6:$F$16,2,FALSE)&ROW(G169)),INDIRECT(VLOOKUP(G169,Bezüge!$B$6:$C$16,2,FALSE)&ROW(G169))))","v":""},null,null,null,"","","","","","","","","","","","","","","","","","","","","","",null,"","","","","","","","","","","","","","","","","","","","","",""]
[null,{"$f":"IF(Athletenliste!B170=\"\",\"\",Athletenliste!B170)","v":""},{"$f":"IF(Athletenliste!C170=\"\",\"\",Athletenliste!C170)","v":""},{"$f":"IF(Athletenliste!D170=\"\",\"\",Athletenliste!D170)","v":""},{"$f":"IF(Athletenliste!E170=\"\",\"\",Athletenliste!E170)","v":""},{"$f":"IF(Athletenliste!F170=\"\",\"\",Athletenliste!F170)","v":""},{"$f":"IF(Athletenliste!G170=\"\",\"\",Athletenliste!G170)","v":""},{"$f":"IF(Athletenliste!H170=\"\",\"\",Athletenliste!H170)","v":""},null,{"$f":"IF(B170=\"\",\"\",IF(D170=\"m\",INDIRECT(VLOOKUP(G170,Bezüge!$E$6:$F$16,2,FALSE)&ROW(G170)),INDIRECT(VLOOKUP(G170,Bezüge!$B$6:$C$16,2,FALSE)&ROW(G170))))","v":""},null,null,null,"","","","","","","","","","","","","","","","","","","","","","",null,"","","","","","","","","","","","","","","","","","","","","",""]
[null,{"$f":"IF(Athletenliste!B171=\"\",\"\",Athletenliste!B171)","v":""},{"$f":"IF(Athletenliste!C171=\"\",\"\",Athletenliste!C171)","v":""},{"$f":"IF(Athletenliste!D171=\"\",\"\",Athletenliste!D171)","v":""},{"$f":"IF(Athletenliste!E171=\"\",\"\",Athletenliste!E171)","v":""},{"$f":"IF(Athletenliste!F171=\"\",\"\",Athletenliste!F171)","v":""},{"$f":"IF(Athletenliste!G171=\"\",\"\",Athletenliste!G171)","v":""},{"$f":"IF(Athletenliste!H171=\"\",\"\",Athletenliste!H171)","v":""},null,{"$f":"IF(B171=\"\",\"\",IF(D171=\"m\",INDIRECT(VLOOKUP(G171,Bezüge!$E$6:$F$16,2,FALSE)&ROW(G171)),INDIRECT(VLOOKUP(G171,Bezüge!$B$6:$C$16,2,FALSE)&ROW(G171))))","v":""},null,null,null,"","","","","","","","","","","","","","","","","","","","","","",null,"","","","","","","","","","","","","","","","","","","","","",""]
[null,{"$f":"IF(Athletenliste!B172=\"\",\"\",Athletenliste!B172)","v":""},{"$f":"IF(Athletenliste!C172=\"\",\"\",Athletenliste!C172)","v":""},{"$f":"IF(Athletenliste!D172=\"\",\"\",Athletenliste!D172)","v":""},{"$f":"IF(Athletenliste!E172=\"\",\"\",Athletenliste!E172)","v":""},{"$f":"IF(Athletenliste!F172=\"\",\"\",Athletenliste!F172)","v":""},{"$f":"IF(Athletenliste!G172=\"\",\"\",Athletenliste!G172)","v":""},{"$f":"IF(Athletenliste!H172=\"\",\"\",Athletenliste!H172)","v":""},null,{"$f":"IF(B172=\"\",\"\",IF(D172=\"m\",INDIRECT(VLOOKUP(G172,Bezüge!$E$6:$F$16,2,FALSE)&ROW(G172)),INDIRECT(VLOOKUP(G172,Bezüge!$B$6:$C$16,2,FALSE)&ROW(G172))))","v":""},null,null,null,"","","","","","","","","","","","","","","","","","","","","","",null,"","","","","","","","","","","","","","","","","","","","","",""]
[null,{"$f":"IF(Athletenliste!B173=\"\",\"\",Athletenliste!B173)","v":""},{"$f":"IF(Athletenliste!C173=\"\",\"\",Athletenliste!C173)","v":""},{"$f":"IF(Athletenliste!D173=\"\",\"\",Athletenliste!D173)","v":""},{"$f":"IF(Athletenliste!E173=\"\",\"\",Athletenliste!E173)","v":""},{"$f":"IF(Athletenliste!F173=\"\",\"\",Athletenliste!F173)","v":""},{"$f":"IF(Athletenliste!G173=\"\",\"\",Athletenliste!G173)","v":""},{"$f":"IF(Athletenliste!H173=\"\",\"\",Athletenliste!H173)","v":""},null,{"$f":"IF(B173=\"\",\"\",IF(D173=\"m\",INDIRECT(VLOOKUP(G173,Bezüge!$E$6:$F$16,2,FALSE)&ROW(G173)),INDIRECT(VLOOKUP(G173,Bezüge!$B$6:$C$16,2,FALSE)&ROW(G173))))","v":""},null,null,null,"","","","","","","","","","","","","","","","","","","","","","",null,"","","","","","","","","","","","","","","","","","","","","",""]
[null,{"$f":"IF(Athletenliste!B174=\"\",\"\",Athletenliste!B174)","v":""},{"$f":"IF(Athletenliste!C174=\"\",\"\",Athletenliste!C174)","v":""},{"$f":"IF(Athletenliste!D174=\"\",\"\",Athletenliste!D174)","v":""},{"$f":"IF(Athletenliste!E174=\"\",\"\",Athletenliste!E174)","v":""},{"$f":"IF(Athletenliste!F174=\"\",\"\",Athletenliste!F174)","v":""},{"$f":"IF(Athletenliste!G174=\"\",\"\",Athletenliste!G174)","v":""},{"$f":"IF(Athletenliste!H174=\"\",\"\",Athletenliste!H174)","v":""},null,{"$f":"IF(B174=\"\",\"\",IF(D174=\"m\",INDIRECT(VLOOKUP(G174,Bezüge!$E$6:$F$16,2,FALSE)&ROW(G174)),INDIRECT(VLOOKUP(G174,Bezüge!$B$6:$C$16,2,FALSE)&ROW(G174))))","v":""},null,null,null,"","","","","","","","","","","","","","","","","","","","","","",null,"","","","","","","","","","","","","","","","","","","","","",""]
[null,{"$f":"IF(Athletenliste!B175=\"\",\"\",Athletenliste!B175)","v":""},{"$f":"IF(Athletenliste!C175=\"\",\"\",Athletenliste!C175)","v":""},{"$f":"IF(Athletenliste!D175=\"\",\"\",Athletenliste!D175)","v":""},{"$f":"IF(Athletenliste!E175=\"\",\"\",Athletenliste!E175)","v":""},{"$f":"IF(Athletenliste!F175=\"\",\"\",Athletenliste!F175)","v":""},{"$f":"IF(Athletenliste!G175=\"\",\"\",Athletenliste!G175)","v":""},{"$f":"IF(Athletenliste!H175=\"\",\"\",Athletenliste!H175)","v":""},null,{"$f":"IF(B175=\"\",\"\",IF(D175=\"m\",INDIRECT(VLOOKUP(G175,Bezüge!$E$6:$F$16,2,FALSE)&ROW(G175)),INDIRECT(VLOOKUP(G175,Bezüge!$B$6:$C$16,2,FALSE)&ROW(G175))))","v":""},null,null,null,"","","","","","","","","","","","","","","","","","","","","","",null,"","","","","","","","","","","","","","","","","","","","","",""]
[null,{"$f":"IF(Athletenliste!B176=\"\",\"\",Athletenliste!B176)","v":""},{"$f":"IF(Athletenliste!C176=\"\",\"\",Athletenliste!C176)","v":""},{"$f":"IF(Athletenliste!D176=\"\",\"\",Athletenliste!D176)","v":""},{"$f":"IF(Athletenliste!E176=\"\",\"\",Athletenliste!E176)","v":""},{"$f":"IF(Athletenliste!F176=\"\",\"\",Athletenliste!F176)","v":""},{"$f":"IF(Athletenliste!G176=\"\",\"\",Athletenliste!G176)","v":""},{"$f":"IF(Athletenliste!H176=\"\",\"\",Athletenliste!H176)","v":""},null,{"$f":"IF(B176=\"\",\"\",IF(D176=\"m\",INDIRECT(VLOOKUP(G176,Bezüge!$E$6:$F$16,2,FALSE)&ROW(G176)),INDIRECT(VLOOKUP(G176,Bezüge!$B$6:$C$16,2,FALSE)&ROW(G176))))","v":""},null,null,null,"","","","","","","","","","","","","","","","","","","","","","",null,"","","","","","","","","","","","","","","","","","","","","",""]
[null,{"$f":"IF(Athletenliste!B177=\"\",\"\",Athletenliste!B177)","v":""},{"$f":"IF(Athletenliste!C177=\"\",\"\",Athletenliste!C177)","v":""},{"$f":"IF(Athletenliste!D177=\"\",\"\",Athletenliste!D177)","v":""},{"$f":"IF(Athletenliste!E177=\"\",\"\",Athletenliste!E177)","v":""},{"$f":"IF(Athletenliste!F177=\"\",\"\",Athletenliste!F177)","v":""},{"$f":"IF(Athletenliste!G177=\"\",\"\",Athletenliste!G177)","v":""},{"$f":"IF(Athletenliste!H177=\"\",\"\",Athletenliste!H177)","v":""},null,{"$f":"IF(B177=\"\",\"\",IF(D177=\"m\",INDIRECT(VLOOKUP(G177,Bezüge!$E$6:$F$16,2,FALSE)&ROW(G177)),INDIRECT(VLOOKUP(G177,Bezüge!$B$6:$C$16,2,FALSE)&ROW(G177))))","v":""},null,null,null,"","","","","","","","","","","","","","","","","","","","","","",null,"","","","","","","","","","","","","","","","","","","","","",""]
[null,{"$f":"IF(Athletenliste!B178=\"\",\"\",Athletenliste!B178)","v":""},{"$f":"IF(Athletenliste!C178=\"\",\"\",Athletenliste!C178)","v":""},{"$f":"IF(Athletenliste!D178=\"\",\"\",Athletenliste!D178)","v":""},{"$f":"IF(Athletenliste!E178=\"\",\"\",Athletenliste!E178)","v":""},{"$f":"IF(Athletenliste!F178=\"\",\"\",Athletenliste!F178)","v":""},{"$f":"IF(Athletenliste!G178=\"\",\"\",Athletenliste!G178)","v":""},{"$f":"IF(Athletenliste!H178=\"\",\"\",Athletenliste!H178)","v":""},null,{"$f":"IF(B178=\"\",\"\",IF(D178=\"m\",INDIRECT(VLOOKUP(G178,Bezüge!$E$6:$F$16,2,FALSE)&ROW(G178)),INDIRECT(VLOOKUP(G178,Bezüge!$B$6:$C$16,2,FALSE)&ROW(G178))))","v":""},null,null,null,"","","","","","","","","","","","","","","","","","","","","","",null,"","","","","","","","","","","","","","","","","","","","","",""]
[null,{"$f":"IF(Athletenliste!B179=\"\",\"\",Athletenliste!B179)","v":""},{"$f":"IF(Athletenliste!C179=\"\",\"\",Athletenliste!C179)","v":""},{"$f":"IF(Athletenliste!D179=\"\",\"\",Athletenliste!D179)","v":""},{"$f":"IF(Athletenliste!E179=\"\",\"\",Athletenliste!E179)","v":""},{"$f":"IF(Athletenliste!F179=\"\",\"\",Athletenliste!F179)","v":""},{"$f":"IF(Athletenliste!G179=\"\",\"\",Athletenliste!G179)","v":""},{"$f":"IF(Athletenliste!H179=\"\",\"\",Athletenliste!H179)","v":""},null,{"$f":"IF(B179=\"\",\"\",IF(D179=\"m\",INDIRECT(VLOOKUP(G179,Bezüge!$E$6:$F$16,2,FALSE)&ROW(G179)),INDIRECT(VLOOKUP(G179,Bezüge!$B$6:$C$16,2,FALSE)&ROW(G179))))","v":""},null,null,null,"","","","","","","","","","","","","","","","","","","","","","",null,"","","","","","","","","","","","","","","","","","","","","",""]
[null,{"$f":"IF(Athletenliste!B180=\"\",\"\",Athletenliste!B180)","v":""},{"$f":"IF(Athletenliste!C180=\"\",\"\",Athletenliste!C180)","v":""},{"$f":"IF(Athletenliste!D180=\"\",\"\",Athletenliste!D180)","v":""},{"$f":"IF(Athletenliste!E180=\"\",\"\",Athletenliste!E180)","v":""},{"$f":"IF(Athletenliste!F180=\"\",\"\",Athletenliste!F180)","v":""},{"$f":"IF(Athletenliste!G180=\"\",\"\",Athletenliste!G180)","v":""},{"$f":"IF(Athletenliste!H180=\"\",\"\",Athletenliste!H180)","v":""},null,{"$f":"IF(B180=\"\",\"\",IF(D180=\"m\",INDIRECT(VLOOKUP(G180,Bezüge!$E$6:$F$16,2,FALSE)&ROW(G180)),INDIRECT(VLOOKUP(G180,Bezüge!$B$6:$C$16,2,FALSE)&ROW(G180))))","v":""},null,null,null,"","","","","","","","","","","","","","","","","","","","","","",null,"","","","","","","","","","","","","","","","","","","","","",""]
[null,{"$f":"IF(Athletenliste!B181=\"\",\"\",Athletenliste!B181)","v":""},{"$f":"IF(Athletenliste!C181=\"\",\"\",Athletenliste!C181)","v":""},{"$f":"IF(Athletenliste!D181=\"\",\"\",Athletenliste!D181)","v":""},{"$f":"IF(Athletenliste!E181=\"\",\"\",Athletenliste!E181)","v":""},{"$f":"IF(Athletenliste!F181=\"\",\"\",Athletenliste!F181)","v":""},{"$f":"IF(Athletenliste!G181=\"\",\"\",Athletenliste!G181)","v":""},{"$f":"IF(Athletenliste!H181=\"\",\"\",Athletenliste!H181)","v":""},null,{"$f":"IF(B181=\"\",\"\",IF(D181=\"m\",INDIRECT(VLOOKUP(G181,Bezüge!$E$6:$F$16,2,FALSE)&ROW(G181)),INDIRECT(VLOOKUP(G181,Bezüge!$B$6:$C$16,2,FALSE)&ROW(G181))))","v":""},null,null,null,"","","","","","","","","","","","","","","","","","","","","","",null,"","","","","","","","","","","","","","","","","","","","","",""]
[null,{"$f":"IF(Athletenliste!B182=\"\",\"\",Athletenliste!B182)","v":""},{"$f":"IF(Athletenliste!C182=\"\",\"\",Athletenliste!C182)","v":""},{"$f":"IF(Athletenliste!D182=\"\",\"\",Athletenliste!D182)","v":""},{"$f":"IF(Athletenliste!E182=\"\",\"\",Athletenliste!E182)","v":""},{"$f":"IF(Athletenliste!F182=\"\",\"\",Athletenliste!F182)","v":""},{"$f":"IF(Athletenliste!G182=\"\",\"\",Athletenliste!G182)","v":""},{"$f":"IF(Athletenliste!H182=\"\",\"\",Athletenliste!H182)","v":""},null,{"$f":"IF(B182=\"\",\"\",IF(D182=\"m\",INDIRECT(VLOOKUP(G182,Bezüge!$E$6:$F$16,2,FALSE)&ROW(G182)),INDIRECT(VLOOKUP(G182,Bezüge!$B$6:$C$16,2,FALSE)&ROW(G182))))","v":""},null,null,null,"","","","","","","","","","","","","","","","","","","","","","",null,"","","","","","","","","","","","","","","","","","","","","",""]
[null,{"$f":"IF(Athletenliste!B183=\"\",\"\",Athletenliste!B183)","v":""},{"$f":"IF(Athletenliste!C183=\"\",\"\",Athletenliste!C183)","v":""},{"$f":"IF(Athletenliste!D183=\"\",\"\",Athletenliste!D183)","v":""},{"$f":"IF(Athletenliste!E183=\"\",\"\",Athletenliste!E183)","v":""},{"$f":"IF(Athletenliste!F183=\"\",\"\",Athletenliste!F183)","v":""},{"$f":"IF(Athletenliste!G183=\"\",\"\",Athletenliste!G183)","v":""},{"$f":"IF(Athletenliste!H183=\"\",\"\",Athletenliste!H183)","v":""},null,{"$f":"IF(B183=\"\",\"\",IF(D183=\"m\",INDIRECT(VLOOKUP(G183,Bezüge!$E$6:$F$16,2,FALSE)&ROW(G183)),INDIRECT(VLOOKUP(G183,Bezüge!$B$6:$C$16,2,FALSE)&ROW(G183))))","v":""},null,null,null,"","","","","","","","","","","","","","","","","","","","","","",null,"","","","","","","","","","","","","","","","","","","","","",""]
[null,{"$f":"IF(Athletenliste!B184=\"\",\"\",Athletenliste!B184)","v":""},{"$f":"IF(Athletenliste!C184=\"\",\"\",Athletenliste!C184)","v":""},{"$f":"IF(Athletenliste!D184=\"\",\"\",Athletenliste!D184)","v":""},{"$f":"IF(Athletenliste!E184=\"\",\"\",Athletenliste!E184)","v":""},{"$f":"IF(Athletenliste!F184=\"\",\"\",Athletenliste!F184)","v":""},{"$f":"IF(Athletenliste!G184=\"\",\"\",Athletenliste!G184)","v":""},{"$f":"IF(Athletenliste!H184=\"\",\"\",Athletenliste!H184)","v":""},null,{"$f":"IF(B184=\"\",\"\",IF(D184=\"m\",INDIRECT(VLOOKUP(G184,Bezüge!$E$6:$F$16,2,FALSE)&ROW(G184)),INDIRECT(VLOOKUP(G184,Bezüge!$B$6:$C$16,2,FALSE)&ROW(G184))))","v":""},null,null,null,"","","","","","","","","","","","","","","","","","","","","","",null,"","","","","","","","","","","","","","","","","","","","","",""]
[null,{"$f":"IF(Athletenliste!B185=\"\",\"\",Athletenliste!B185)","v":""},{"$f":"IF(Athletenliste!C185=\"\",\"\",Athletenliste!C185)","v":""},{"$f":"IF(Athletenliste!D185=\"\",\"\",Athletenliste!D185)","v":""},{"$f":"IF(Athletenliste!E185=\"\",\"\",Athletenliste!E185)","v":""},{"$f":"IF(Athletenliste!F185=\"\",\"\",Athletenliste!F185)","v":""},{"$f":"IF(Athletenliste!G185=\"\",\"\",Athletenliste!G185)","v":""},{"$f":"IF(Athletenliste!H185=\"\",\"\",Athletenliste!H185)","v":""},null,{"$f":"IF(B185=\"\",\"\",IF(D185=\"m\",INDIRECT(VLOOKUP(G185,Bezüge!$E$6:$F$16,2,FALSE)&ROW(G185)),INDIRECT(VLOOKUP(G185,Bezüge!$B$6:$C$16,2,FALSE)&ROW(G185))))","v":""},null,null,null,"","","","","","","","","","","","","","","","","","","","","","",null,"","","","","","","","","","","","","","","","","","","","","",""]
[null,{"$f":"IF(Athletenliste!B186=\"\",\"\",Athletenliste!B186)","v":""},{"$f":"IF(Athletenliste!C186=\"\",\"\",Athletenliste!C186)","v":""},{"$f":"IF(Athletenliste!D186=\"\",\"\",Athletenliste!D186)","v":""},{"$f":"IF(Athletenliste!E186=\"\",\"\",Athletenliste!E186)","v":""},{"$f":"IF(Athletenliste!F186=\"\",\"\",Athletenliste!F186)","v":""},{"$f":"IF(Athletenliste!G186=\"\",\"\",Athletenliste!G186)","v":""},{"$f":"IF(Athletenliste!H186=\"\",\"\",Athletenliste!H186)","v":""},null,{"$f":"IF(B186=\"\",\"\",IF(D186=\"m\",INDIRECT(VLOOKUP(G186,Bezüge!$E$6:$F$16,2,FALSE)&ROW(G186)),INDIRECT(VLOOKUP(G186,Bezüge!$B$6:$C$16,2,FALSE)&ROW(G186))))","v":""},null,null,null,"","","","","","","","","","","","","","","","","","","","","","",null,"","","","","","","","","","","","","","","","","","","","","",""]
[null,{"$f":"IF(Athletenliste!B187=\"\",\"\",Athletenliste!B187)","v":""},{"$f":"IF(Athletenliste!C187=\"\",\"\",Athletenliste!C187)","v":""},{"$f":"IF(Athletenliste!D187=\"\",\"\",Athletenliste!D187)","v":""},{"$f":"IF(Athletenliste!E187=\"\",\"\",Athletenliste!E187)","v":""},{"$f":"IF(Athletenliste!F187=\"\",\"\",Athletenliste!F187)","v":""},{"$f":"IF(Athletenliste!G187=\"\",\"\",Athletenliste!G187)","v":""},{"$f":"IF(Athletenliste!H187=\"\",\"\",Athletenliste!H187)","v":""},null,{"$f":"IF(B187=\"\",\"\",IF(D187=\"m\",INDIRECT(VLOOKUP(G187,Bezüge!$E$6:$F$16,2,FALSE)&ROW(G187)),INDIRECT(VLOOKUP(G187,Bezüge!$B$6:$C$16,2,FALSE)&ROW(G187))))","v":""},null,null,null,"","","","","","","","","","","","","","","","","","","","","","",null,"","","","","","","","","","","","","","","","","","","","","",""]
[null,{"$f":"IF(Athletenliste!B188=\"\",\"\",Athletenliste!B188)","v":""},{"$f":"IF(Athletenliste!C188=\"\",\"\",Athletenliste!C188)","v":""},{"$f":"IF(Athletenliste!D188=\"\",\"\",Athletenliste!D188)","v":""},{"$f":"IF(Athletenliste!E188=\"\",\"\",Athletenliste!E188)","v":""},{"$f":"IF(Athletenliste!F188=\"\",\"\",Athletenliste!F188)","v":""},{"$f":"IF(Athletenliste!G188=\"\",\"\",Athletenliste!G188)","v":""},{"$f":"IF(Athletenliste!H188=\"\",\"\",Athletenliste!H188)","v":""},null,{"$f":"IF(B188=\"\",\"\",IF(D188=\"m\",INDIRECT(VLOOKUP(G188,Bezüge!$E$6:$F$16,2,FALSE)&ROW(G188)),INDIRECT(VLOOKUP(G188,Bezüge!$B$6:$C$16,2,FALSE)&ROW(G188))))","v":""},null,null,null,"","","","","","","","","","","","","","","","","","","","","","",null,"","","","","","","","","","","","","","","","","","","","","",""]
[null,{"$f":"IF(Athletenliste!B189=\"\",\"\",Athletenliste!B189)","v":""},{"$f":"IF(Athletenliste!C189=\"\",\"\",Athletenliste!C189)","v":""},{"$f":"IF(Athletenliste!D189=\"\",\"\",Athletenliste!D189)","v":""},{"$f":"IF(Athletenliste!E189=\"\",\"\",Athletenliste!E189)","v":""},{"$f":"IF(Athletenliste!F189=\"\",\"\",Athletenliste!F189)","v":""},{"$f":"IF(Athletenliste!G189=\"\",\"\",Athletenliste!G189)","v":""},{"$f":"IF(Athletenliste!H189=\"\",\"\",Athletenliste!H189)","v":""},null,{"$f":"IF(B189=\"\",\"\",IF(D189=\"m\",INDIRECT(VLOOKUP(G189,Bezüge!$E$6:$F$16,2,FALSE)&ROW(G189)),INDIRECT(VLOOKUP(G189,Bezüge!$B$6:$C$16,2,FALSE)&ROW(G189))))","v":""},null,null,null,"","","","","","","","","","","","","","","","","","","","","","",null,"","","","","","","","","","","","","","","","","","","","","",""]
[null,{"$f":"IF(Athletenliste!B190=\"\",\"\",Athletenliste!B190)","v":""},{"$f":"IF(Athletenliste!C190=\"\",\"\",Athletenliste!C190)","v":""},{"$f":"IF(Athletenliste!D190=\"\",\"\",Athletenliste!D190)","v":""},{"$f":"IF(Athletenliste!E190=\"\",\"\",Athletenliste!E190)","v":""},{"$f":"IF(Athletenliste!F190=\"\",\"\",Athletenliste!F190)","v":""},{"$f":"IF(Athletenliste!G190=\"\",\"\",Athletenliste!G190)","v":""},{"$f":"IF(Athletenliste!H190=\"\",\"\",Athletenliste!H190)","v":""},null,{"$f":"IF(B190=\"\",\"\",IF(D190=\"m\",INDIRECT(VLOOKUP(G190,Bezüge!$E$6:$F$16,2,FALSE)&ROW(G190)),INDIRECT(VLOOKUP(G190,Bezüge!$B$6:$C$16,2,FALSE)&ROW(G190))))","v":""},null,null,null,"","","","","","","","","","","","","","","","","","","","","","",null,"","","","","","","","","","","","","","","","","","","","","",""]
[null,{"$f":"IF(Athletenliste!B191=\"\",\"\",Athletenliste!B191)","v":""},{"$f":"IF(Athletenliste!C191=\"\",\"\",Athletenliste!C191)","v":""},{"$f":"IF(Athletenliste!D191=\"\",\"\",Athletenliste!D191)","v":""},{"$f":"IF(Athletenliste!E191=\"\",\"\",Athletenliste!E191)","v":""},{"$f":"IF(Athletenliste!F191=\"\",\"\",Athletenliste!F191)","v":""},{"$f":"IF(Athletenliste!G191=\"\",\"\",Athletenliste!G191)","v":""},{"$f":"IF(Athletenliste!H191=\"\",\"\",Athletenliste!H191)","v":""},null,{"$f":"IF(B191=\"\",\"\",IF(D191=\"m\",INDIRECT(VLOOKUP(G191,Bezüge!$E$6:$F$16,2,FALSE)&ROW(G191)),INDIRECT(VLOOKUP(G191,Bezüge!$B$6:$C$16,2,FALSE)&ROW(G191))))","v":""},null,null,null,"","","","","","","","","","","","","","","","","","","","","","",null,"","","","","","","","","","","","","","","","","","","","","",""]
[null,{"$f":"IF(Athletenliste!B192=\"\",\"\",Athletenliste!B192)","v":""},{"$f":"IF(Athletenliste!C192=\"\",\"\",Athletenliste!C192)","v":""},{"$f":"IF(Athletenliste!D192=\"\",\"\",Athletenliste!D192)","v":""},{"$f":"IF(Athletenliste!E192=\"\",\"\",Athletenliste!E192)","v":""},{"$f":"IF(Athletenliste!F192=\"\",\"\",Athletenliste!F192)","v":""},{"$f":"IF(Athletenliste!G192=\"\",\"\",Athletenliste!G192)","v":""},{"$f":"IF(Athletenliste!H192=\"\",\"\",Athletenliste!H192)","v":""},null,{"$f":"IF(B192=\"\",\"\",IF(D192=\"m\",INDIRECT(VLOOKUP(G192,Bezüge!$E$6:$F$16,2,FALSE)&ROW(G192)),INDIRECT(VLOOKUP(G192,Bezüge!$B$6:$C$16,2,FALSE)&ROW(G192))))","v":""},null,null,null,"","","","","","","","","","","","","","","","","","","","","","",null,"","","","","","","","","","","","","","","","","","","","","",""]
[null,{"$f":"IF(Athletenliste!B193=\"\",\"\",Athletenliste!B193)","v":""},{"$f":"IF(Athletenliste!C193=\"\",\"\",Athletenliste!C193)","v":""},{"$f":"IF(Athletenliste!D193=\"\",\"\",Athletenliste!D193)","v":""},{"$f":"IF(Athletenliste!E193=\"\",\"\",Athletenliste!E193)","v":""},{"$f":"IF(Athletenliste!F193=\"\",\"\",Athletenliste!F193)","v":""},{"$f":"IF(Athletenliste!G193=\"\",\"\",Athletenliste!G193)","v":""},{"$f":"IF(Athletenliste!H193=\"\",\"\",Athletenliste!H193)","v":""},null,{"$f":"IF(B193=\"\",\"\",IF(D193=\"m\",INDIRECT(VLOOKUP(G193,Bezüge!$E$6:$F$16,2,FALSE)&ROW(G193)),INDIRECT(VLOOKUP(G193,Bezüge!$B$6:$C$16,2,FALSE)&ROW(G193))))","v":""},null,null,null,"","","","","","","","","","","","","","","","","","","","","","",null,"","","","","","","","","","","","","","","","","","","","","",""]
[null,{"$f":"IF(Athletenliste!B194=\"\",\"\",Athletenliste!B194)","v":""},{"$f":"IF(Athletenliste!C194=\"\",\"\",Athletenliste!C194)","v":""},{"$f":"IF(Athletenliste!D194=\"\",\"\",Athletenliste!D194)","v":""},{"$f":"IF(Athletenliste!E194=\"\",\"\",Athletenliste!E194)","v":""},{"$f":"IF(Athletenliste!F194=\"\",\"\",Athletenliste!F194)","v":""},{"$f":"IF(Athletenliste!G194=\"\",\"\",Athletenliste!G194)","v":""},{"$f":"IF(Athletenliste!H194=\"\",\"\",Athletenliste!H194)","v":""},null,{"$f":"IF(B194=\"\",\"\",IF(D194=\"m\",INDIRECT(VLOOKUP(G194,Bezüge!$E$6:$F$16,2,FALSE)&ROW(G194)),INDIRECT(VLOOKUP(G194,Bezüge!$B$6:$C$16,2,FALSE)&ROW(G194))))","v":""},null,null,null,"","","","","","","","","","","","","","","","","","","","","","",null,"","","","","","","","","","","","","","","","","","","","","",""]
[null,{"$f":"IF(Athletenliste!B195=\"\",\"\",Athletenliste!B195)","v":""},{"$f":"IF(Athletenliste!C195=\"\",\"\",Athletenliste!C195)","v":""},{"$f":"IF(Athletenliste!D195=\"\",\"\",Athletenliste!D195)","v":""},{"$f":"IF(Athletenliste!E195=\"\",\"\",Athletenliste!E195)","v":""},{"$f":"IF(Athletenliste!F195=\"\",\"\",Athletenliste!F195)","v":""},{"$f":"IF(Athletenliste!G195=\"\",\"\",Athletenliste!G195)","v":""},{"$f":"IF(Athletenliste!H195=\"\",\"\",Athletenliste!H195)","v":""},null,{"$f":"IF(B195=\"\",\"\",IF(D195=\"m\",INDIRECT(VLOOKUP(G195,Bezüge!$E$6:$F$16,2,FALSE)&ROW(G195)),INDIRECT(VLOOKUP(G195,Bezüge!$B$6:$C$16,2,FALSE)&ROW(G195))))","v":""},null,null,null,"","","","","","","","","","","","","","","","","","","","","","",null,"","","","","","","","","","","","","","","","","","","","","",""]
[null,{"$f":"IF(Athletenliste!B196=\"\",\"\",Athletenliste!B196)","v":""},{"$f":"IF(Athletenliste!C196=\"\",\"\",Athletenliste!C196)","v":""},{"$f":"IF(Athletenliste!D196=\"\",\"\",Athletenliste!D196)","v":""},{"$f":"IF(Athletenliste!E196=\"\",\"\",Athletenliste!E196)","v":""},{"$f":"IF(Athletenliste!F196=\"\",\"\",Athletenliste!F196)","v":""},{"$f":"IF(Athletenliste!G196=\"\",\"\",Athletenliste!G196)","v":""},{"$f":"IF(Athletenliste!H196=\"\",\"\",Athletenliste!H196)","v":""},null,{"$f":"IF(B196=\"\",\"\",IF(D196=\"m\",INDIRECT(VLOOKUP(G196,Bezüge!$E$6:$F$16,2,FALSE)&ROW(G196)),INDIRECT(VLOOKUP(G196,Bezüge!$B$6:$C$16,2,FALSE)&ROW(G196))))","v":""},null,null,null,"","","","","","","","","","","","","","","","","","","","","","",null,"","","","","","","","","","","","","","","","","","","","","",""]
[null,{"$f":"IF(Athletenliste!B197=\"\",\"\",Athletenliste!B197)","v":""},{"$f":"IF(Athletenliste!C197=\"\",\"\",Athletenliste!C197)","v":""},{"$f":"IF(Athletenliste!D197=\"\",\"\",Athletenliste!D197)","v":""},{"$f":"IF(Athletenliste!E197=\"\",\"\",Athletenliste!E197)","v":""},{"$f":"IF(Athletenliste!F197=\"\",\"\",Athletenliste!F197)","v":""},{"$f":"IF(Athletenliste!G197=\"\",\"\",Athletenliste!G197)","v":""},{"$f":"IF(Athletenliste!H197=\"\",\"\",Athletenliste!H197)","v":""},null,{"$f":"IF(B197=\"\",\"\",IF(D197=\"m\",INDIRECT(VLOOKUP(G197,Bezüge!$E$6:$F$16,2,FALSE)&ROW(G197)),INDIRECT(VLOOKUP(G197,Bezüge!$B$6:$C$16,2,FALSE)&ROW(G197))))","v":""},null,null,null,"","","","","","","","","","","","","","","","","","","","","","",null,"","","","","","","","","","","","","","","","","","","","","",""]
[null,{"$f":"IF(Athletenliste!B198=\"\",\"\",Athletenliste!B198)","v":""},{"$f":"IF(Athletenliste!C198=\"\",\"\",Athletenliste!C198)","v":""},{"$f":"IF(Athletenliste!D198=\"\",\"\",Athletenliste!D198)","v":""},{"$f":"IF(Athletenliste!E198=\"\",\"\",Athletenliste!E198)","v":""},{"$f":"IF(Athletenliste!F198=\"\",\"\",Athletenliste!F198)","v":""},{"$f":"IF(Athletenliste!G198=\"\",\"\",Athletenliste!G198)","v":""},{"$f":"IF(Athletenliste!H198=\"\",\"\",Athletenliste!H198)","v":""},null,{"$f":"IF(B198=\"\",\"\",IF(D198=\"m\",INDIRECT(VLOOKUP(G198,Bezüge!$E$6:$F$16,2,FALSE)&ROW(G198)),INDIRECT(VLOOKUP(G198,Bezüge!$B$6:$C$16,2,FALSE)&ROW(G198))))","v":""},null,null,null,"","","","","","","","","","","","","","","","","","","","","","",null,"","","","","","","","","","","","","","","","","","","","","",""]
[null,{"$f":"IF(Athletenliste!B199=\"\",\"\",Athletenliste!B199)","v":""},{"$f":"IF(Athletenliste!C199=\"\",\"\",Athletenliste!C199)","v":""},{"$f":"IF(Athletenliste!D199=\"\",\"\",Athletenliste!D199)","v":""},{"$f":"IF(Athletenliste!E199=\"\",\"\",Athletenliste!E199)","v":""},{"$f":"IF(Athletenliste!F199=\"\",\"\",Athletenliste!F199)","v":""},{"$f":"IF(Athletenliste!G199=\"\",\"\",Athletenliste!G199)","v":""},{"$f":"IF(Athletenliste!H199=\"\",\"\",Athletenliste!H199)","v":""},null,{"$f":"IF(B199=\"\",\"\",IF(D199=\"m\",INDIRECT(VLOOKUP(G199,Bezüge!$E$6:$F$16,2,FALSE)&ROW(G199)),INDIRECT(VLOOKUP(G199,Bezüge!$B$6:$C$16,2,FALSE)&ROW(G199))))","v":""},null,null,null,"","","","","","","","","","","","","","","","","","","","","","",null,"","","","","","","","","","","","","","","","","","","","","",""]
[null,{"$f":"IF(Athletenliste!B200=\"\",\"\",Athletenliste!B200)","v":""},{"$f":"IF(Athletenliste!C200=\"\",\"\",Athletenliste!C200)","v":""},{"$f":"IF(Athletenliste!D200=\"\",\"\",Athletenliste!D200)","v":""},{"$f":"IF(Athletenliste!E200=\"\",\"\",Athletenliste!E200)","v":""},{"$f":"IF(Athletenliste!F200=\"\",\"\",Athletenliste!F200)","v":""},{"$f":"IF(Athletenliste!G200=\"\",\"\",Athletenliste!G200)","v":""},{"$f":"IF(Athletenliste!H200=\"\",\"\",Athletenliste!H200)","v":""},null,{"$f":"IF(B200=\"\",\"\",IF(D200=\"m\",INDIRECT(VLOOKUP(G200,Bezüge!$E$6:$F$16,2,FALSE)&ROW(G200)),INDIRECT(VLOOKUP(G200,Bezüge!$B$6:$C$16,2,FALSE)&ROW(G200))))","v":""},null,null,null,"","","","","","","","","","","","","","","","","","","","","","",null,"","","","","","","","","","","","","","","","","","","","","",""]
[null,{"$f":"IF(Athletenliste!B201=\"\",\"\",Athletenliste!B201)","v":""},{"$f":"IF(Athletenliste!C201=\"\",\"\",Athletenliste!C201)","v":""},{"$f":"IF(Athletenliste!D201=\"\",\"\",Athletenliste!D201)","v":""},{"$f":"IF(Athletenliste!E201=\"\",\"\",Athletenliste!E201)","v":""},{"$f":"IF(Athletenliste!F201=\"\",\"\",Athletenliste!F201)","v":""},{"$f":"IF(Athletenliste!G201=\"\",\"\",Athletenliste!G201)","v":""},{"$f":"IF(Athletenliste!H201=\"\",\"\",Athletenliste!H201)","v":""},null,null,null,null,null,"","","","","","","","","","","","","","","","","","","","","","",null,"","","","","","","","","","","","","","","","","","","","","",""]
[null,{"$f":"IF(Athletenliste!B202=\"\",\"\",Athletenliste!B202)","v":""},{"$f":"IF(Athletenliste!C202=\"\",\"\",Athletenliste!C202)","v":""},{"$f":"IF(Athletenliste!D202=\"\",\"\",Athletenliste!D202)","v":""},{"$f":"IF(Athletenliste!E202=\"\",\"\",Athletenliste!E202)","v":""},{"$f":"IF(Athletenliste!F202=\"\",\"\",Athletenliste!F202)","v":""},{"$f":"IF(Athletenliste!G202=\"\",\"\",Athletenliste!G202)","v":""},{"$f":"IF(Athletenliste!H202=\"\",\"\",Athletenliste!H202)","v":""},null,null,null,null,null,"","","","","","","","","","","","","","","","","","","","","","",null,"","","","","","","","","","","","","","","","","","","","","",""]

{"sheet":"Liegestütz","index":7,"n_rows":202,"n_cols":58,"rows_kept":202,"cut":false,"hidden":false,"merged":[[3,2,3,3],[6,13,6,34],[6,36,6,57]]}
[]
[null,"SKILANGLAUF - DEUTSCHLAND - ATHLETIK - CHALLENGE"]
[]
[null,"Ort:",{"$f":"Athletenliste!C4","v":"Leipzig"},null,"Datum:",{"$f":"Athletenliste!F4","v":"2012-05-18"}]
[]
[null,"Liegestütz"]
[null,"Name","Vorname","Geschlecht","Jahrgang","Testdatum","AK","LV","Liegestütz","Rang in AK",null,null,null,"männlich",null,null,null,null,null,null,null,null,null,null,null,null,null,null,null,null,null,null,null,null,null,null,"Weiblich"]
[null,null,null,null,null,null,null,null,"[0:00,0 min]",null,null,null,null,"U06  ","Ra","U07 ","Ra","U08 ","Ra","U09 ","Ra","U10 ","Ra","U11 ","Ra","U12 ","Ra","U13 ","Ra","U14 ","Ra","U15 ","Ra","U16 ","Ra",null,"U06  ","Ra","U07 ","Ra","U08 ","Ra","U09 ","Ra","U10 ","Ra","U11 ","Ra","U12 ","Ra","U13 ","Ra","U14 ","Ra","U15 ","Ra","U16 ","Ra"]
[]
[null,{"$f":"IF(Athletenliste!B10=\"\",\"\",Athletenliste!B10)","v":""},{"$f":"IF(Athletenliste!C10=\"\",\"\",Athletenliste!C10)","v":""},{"$f":"IF(Athletenliste!D10=\"\",\"\",Athletenliste!D10)","v":""},{"$f":"IF(Athletenliste!E10=\"\",\"\",Athletenliste!E10)","v":""},{"$f":"IF(Athletenliste!F10=\"\",\"\",Athletenliste!F10)","v":""},{"$f":"IF(Athletenliste!G10=\"\",\"\",Athletenliste!G10)","v":""},{"$f":"IF(Athletenliste!H10=\"\",\"\",Athletenliste!H10)","v":""},null,{"$f":"IF(B10=\"\",\"\",IF(D10=\"m\",INDIRECT(VLOOKUP(G10,Bezüge!$E$6:$F$16,2,FALSE)&ROW(G10)),INDIRECT(VLOOKUP(G10,Bezüge!$B$6:$C$16,2,FALSE)&ROW(G10))))","v":""},null,null,null,{"$f":"IF(AND(D10=\"m\",G10=\"U06\",I10<>\"\"),I10,\"\")","v":""},{"$f":"IF(OR(I10=\"\",N10=\"\"),\"\",_xlfn.RANK.EQ(N10,N$10:N$200))","v":""},{"$f":"IF(AND(D10=\"m\",G10=\"U07\",I10<>\"\"),I10,\"\")","v":""},{"$f":"IF(OR(I10=\"\",P10=\"\"),\"\",_xlfn.RANK.EQ(P10,P$10:P$200))","v":""},{"$f":"IF(AND(D10=\"m\",G10=\"U08\",I10<>\"\"),I10,\"\")","v":""},{"$f":"IF(OR(I10=\"\",R10=\"\"),\"\",_xlfn.RANK.EQ(R10,R$10:R$200))","v":""},{"$f":"IF(AND(D10=\"m\",G10=\"U09\",I10<>\"\"),I10,\"\")","v":""},{"$f":"IF(OR(I10=\"\",T10=\"\"),\"\",_xlfn.RANK.EQ(T10,T$10:T$200))","v":""},{"$f":"IF(AND(D10=\"m\",G10=\"U10\",I10<>\"\"),I10,\"\")","v":""},{"$f":"IF(OR(I10=\"\",V10=\"\"),\"\",_xlfn.RANK.EQ(V10,V$10:V$200))","v":""},{"$f":"IF(AND(D10=\"m\",G10=\"U11\",I10<>\"\"),I10,\"\")","v":""},{"$f":"IF(OR(I10=\"\",X10=\"\"),\"\",_xlfn.RANK.EQ(X10,X$10:X$200))","v":""},{"$f":"IF(AND(D10=\"m\",G10=\"U12\",I10<>\"\"),I10,\"\")","v":""},{"$f":"IF(OR(I10=\"\",Z10=\"\"),\"\",_xlfn.RANK.EQ(Z10,Z$10:Z$200))","v":""},{"$f":"IF(AND(D10=\"m\",G10=\"U13\",I10<>\"\"),I10,\"\")","v":""},{"$f":"IF(OR(I10=\"\",AB10=\"\"),\"\",_xlfn.RANK.EQ(AB10,AB$10:AB$200))","v":""},{"$f":"IF(AND(D10=\"m\",G10=\"U14\",I10<>\"\"),I10,\"\")","v":""},{"$f":"IF(OR(I10=\"\",AD10=\"\"),\"\",_xlfn.RANK.EQ(AD10,AD$10:AD$200))","v":""},{"$f":"IF(AND(D10=\"m\",G10=\"U15\",I10<>\"\"),I10,\"\")","v":""},{"$f":"IF(OR(I10=\"\",AF10=\"\"),\"\",_xlfn.RANK.EQ(AF10,AF$10:AF$200))","v":""},{"$f":"IF(AND(D10=\"m\",G10=\"U16\",I10<>\"\"),I10,\"\")","v":""},{"$f":"IF(OR(I10=\"\",AH10=\"\"),\"\",_xlfn.RANK.EQ(AH10,AH$10:AH$200))","v":""},null,{"$f":"IF(AND(D10=\"w\",G10=\"U06\",I10<>\"\"),I10,\"\")","v":""},{"$f":"IF(OR(I10=\"\",AI10=\"\"),\"\",_xlfn.RANK.EQ(AI10,AI$10:AI$200))","v":""},{"$f":"IF(AND(D10=\"w\",G10=\"U07\",I10<>\"\"),I10,\"\")","v":""},{"$f":"IF(OR(I10=\"\",AM10=\"\"),\"\",_xlfn.RANK.EQ(AM10,AM$10:AM$20))","v":""},{"$f":"IF(AND(D10=\"w\",G10=\"U08\",I10<>\"\"),I10,\"\")","v":""},{"$f":"IF(OR(I10=\"\",AO10=\"\"),\"\",_xlfn.RANK.EQ(AO10,AO$10:AO$200,0))","v":""},{"$f":"IF(AND(D10=\"w\",G10=\"U09\",I10<>\"\"),I10,\"\")","v":""},{"$f":"IF(OR(I10=\"\",AQ10=\"\"),\"\",_xlfn.RANK.EQ(AQ10,AQ$10:AQ$200))","v":""},{"$f":"IF(AND(D10=\"w\",G10=\"U10\",I10<>\"\"),I10,\"\")","v":""},{"$f":"IF(OR(I10=\"\",AS10=\"\"),\"\",_xlfn.RANK.EQ(AS10,AS$10:AS$200))","v":""},{"$f":"IF(AND(D10=\"w\",G10=\"U11\",I10<>\"\"),I10,\"\")","v":""},{"$f":"IF(OR(I10=\"\",AU10=\"\"),\"\",_xlfn.RANK.EQ(AU10,AU$10:AU$200))","v":""},{"$f":"IF(AND(D10=\"w\",G10=\"U12\",I10<>\"\"),I10,\"\")","v":""},{"$f":"IF(OR(I10=\"\",AW10=\"\"),\"\",_xlfn.RANK.EQ(AW10,AW$10:AW$200))","v":""},{"$f":"IF(AND(D10=\"w\",G10=\"U13\",I10<>\"\"),I10,\"\")","v":""},{"$f":"IF(OR(I10=\"\",AY10=\"\"),\"\",_xlfn.RANK.EQ(AY10,AY$10:AY$200))","v":""},{"$f":"IF(AND(D10=\"w\",G10=\"U14\",I10<>\"\"),I10,\"\")","v":""},{"$f":"IF(OR(I10=\"\",BA10=\"\"),\"\",_xlfn.RANK.EQ(BA10,BA$10:BA$200))","v":""},{"$f":"IF(AND(D10=\"w\",G10=\"U15\",I10<>\"\"),I10,\"\")","v":""},{"$f":"IF(OR(I10=\"\",BC10=\"\"),\"\",_xlfn.RANK.EQ(BC10,BC$10:BC$200))","v":""},{"$f":"IF(AND(D10=\"w\",G10=\"U16\",I10<>\"\"),I10,\"\")","v":""},{"$f":"IF(OR(I10=\"\",BE10=\"\"),\"\",_xlfn.RANK.EQ(BE10,BE$10:BE$200))","v":""}]
[null,{"$f":"IF(Athletenliste!B11=\"\",\"\",Athletenliste!B11)","v":""},{"$f":"IF(Athletenliste!C11=\"\",\"\",Athletenliste!C11)","v":""},{"$f":"IF(Athletenliste!D11=\"\",\"\",Athletenliste!D11)","v":""},{"$f":"IF(Athletenliste!E11=\"\",\"\",Athletenliste!E11)","v":""},{"$f":"IF(Athletenliste!F11=\"\",\"\",Athletenliste!F11)","v":""},{"$f":"IF(Athletenliste!G11=\"\",\"\",Athletenliste!G11)","v":""},{"$f":"IF(Athletenliste!H11=\"\",\"\",Athletenliste!H11)","v":""},null,{"$f":"IF(B11=\"\",\"\",IF(D11=\"m\",INDIRECT(VLOOKUP(G11,Bezüge!$E$6:$F$16,2,FALSE)&ROW(G11)),INDIRECT(VLOOKUP(G11,Bezüge!$B$6:$C$16,2,FALSE)&ROW(G11))))","v":""},null,null,null,{"$f":"IF(AND(D11=\"m\",G11=\"U06\",I11<>\"\"),I11,\"\")","v":""},{"$f":"IF(OR(I11=\"\",N11=\"\"),\"\",_xlfn.RANK.EQ(N11,N$10:N$200))","v":""},{"$f":"IF(AND(D11=\"m\",G11=\"U07\",I11<>\"\"),I11,\"\")","v":""},{"$f":"IF(OR(I11=\"\",P11=\"\"),\"\",_xlfn.RANK.EQ(P11,P$10:P$200))","v":""},{"$f":"IF(AND(D11=\"m\",G11=\"U08\",I11<>\"\"),I11,\"\")","v":""},{"$f":"IF(OR(I11=\"\",R11=\"\"),\"\",_xlfn.RANK.EQ(R11,R$10:R$200))","v":""},{"$f":"IF(AND(D11=\"m\",G11=\"U09\",I11<>\"\"),I11,\"\")","v":""},{"$f":"IF(OR(I11=\"\",T11=\"\"),\"\",_xlfn.RANK.EQ(T11,T$10:T$200))","v":""},{"$f":"IF(AND(D11=\"m\",G11=\"U10\",I11<>\"\"),I11,\"\")","v":""},{"$f":"IF(OR(I11=\"\",V11=\"\"),\"\",_xlfn.RANK.EQ(V11,V$10:V$200))","v":""},{"$f":"IF(AND(D11=\"m\",G11=\"U11\",I11<>\"\"),I11,\"\")","v":""},{"$f":"IF(OR(I11=\"\",X11=\"\"),\"\",_xlfn.RANK.EQ(X11,X$10:X$200))","v":""},{"$f":"IF(AND(D11=\"m\",G11=\"U12\",I11<>\"\"),I11,\"\")","v":""},{"$f":"IF(OR(I11=\"\",Z11=\"\"),\"\",_xlfn.RANK.EQ(Z11,Z$10:Z$200))","v":""},{"$f":"IF(AND(D11=\"m\",G11=\"U13\",I11<>\"\"),I11,\"\")","v":""},{"$f":"IF(OR(I11=\"\",AB11=\"\"),\"\",_xlfn.RANK.EQ(AB11,AB$10:AB$200))","v":""},{"$f":"IF(AND(D11=\"m\",G11=\"U14\",I11<>\"\"),I11,\"\")","v":""},{"$f":"IF(OR(I11=\"\",AD11=\"\"),\"\",_xlfn.RANK.EQ(AD11,AD$10:AD$200))","v":""},{"$f":"IF(AND(D11=\"m\",G11=\"U15\",I11<>\"\"),I11,\"\")","v":""},{"$f":"IF(OR(I11=\"\",AF11=\"\"),\"\",_xlfn.RANK.EQ(AF11,AF$10:AF$200))","v":""},{"$f":"IF(AND(D11=\"m\",G11=\"U16\",I11<>\"\"),I11,\"\")","v":""},{"$f":"IF(OR(I11=\"\",AH11=\"\"),\"\",_xlfn.RANK.EQ(AH11,AH$10:AH$200))","v":""},null,{"$f":"IF(AND(D11=\"w\",G11=\"U06\",I11<>\"\"),I11,\"\")","v":""},{"$f":"IF(OR(I11=\"\",AI11=\"\"),\"\",_xlfn.RANK.EQ(AI11,AI$10:AI$200))","v":""},{"$f":"IF(AND(D11=\"w\",G11=\"U07\",I11<>\"\"),I11,\"\")","v":""},{"$f":"IF(OR(I11=\"\",AM11=\"\"),\"\",_xlfn.RANK.EQ(AM11,AM$10:AM$20))","v":""},{"$f":"IF(AND(D11=\"w\",G11=\"U08\",I11<>\"\"),I11,\"\")","v":""},{"$f":"IF(OR(I11=\"\",AO11=\"\"),\"\",_xlfn.RANK.EQ(AO11,AO$10:AO$200,0))","v":""},{"$f":"IF(AND(D11=\"w\",G11=\"U09\",I11<>\"\"),I11,\"\")","v":""},{"$f":"IF(OR(I11=\"\",AQ11=\"\"),\"\",_xlfn.RANK.EQ(AQ11,AQ$10:AQ$200))","v":""},{"$f":"IF(AND(D11=\"w\",G11=\"U10\",I11<>\"\"),I11,\"\")","v":""},{"$f":"IF(OR(I11=\"\",AS11=\"\"),\"\",_xlfn.RANK.EQ(AS11,AS$10:AS$200))","v":""},{"$f":"IF(AND(D11=\"w\",G11=\"U11\",I11<>\"\"),I11,\"\")","v":""},{"$f":"IF(OR(I11=\"\",AU11=\"\"),\"\",_xlfn.RANK.EQ(AU11,AU$10:AU$200))","v":""},{"$f":"IF(AND(D11=\"w\",G11=\"U12\",I11<>\"\"),I11,\"\")","v":""},{"$f":"IF(OR(I11=\"\",AW11=\"\"),\"\",_xlfn.RANK.EQ(AW11,AW$10:AW$200))","v":""},{"$f":"IF(AND(D11=\"w\",G11=\"U13\",I11<>\"\"),I11,\"\")","v":""},{"$f":"IF(OR(I11=\"\",AY11=\"\"),\"\",_xlfn.RANK.EQ(AY11,AY$10:AY$200))","v":""},{"$f":"IF(AND(D11=\"w\",G11=\"U14\",I11<>\"\"),I11,\"\")","v":""},{"$f":"IF(OR(I11=\"\",BA11=\"\"),\"\",_xlfn.RANK.EQ(BA11,BA$10:BA$200))","v":""},{"$f":"IF(AND(D11=\"w\",G11=\"U15\",I11<>\"\"),I11,\"\")","v":""},{"$f":"IF(OR(I11=\"\",BC11=\"\"),\"\",_xlfn.RANK.EQ(BC11,BC$10:BC$200))","v":""},{"$f":"IF(AND(D11=\"w\",G11=\"U16\",I11<>\"\"),I11,\"\")","v":""},{"$f":"IF(OR(I11=\"\",BE11=\"\"),\"\",_xlfn.RANK.EQ(BE11,BE$10:BE$200))","v":""}]
[null,{"$f":"IF(Athletenliste!B12=\"\",\"\",Athletenliste!B12)","v":""},{"$f":"IF(Athletenliste!C12=\"\",\"\",Athletenliste!C12)","v":""},{"$f":"IF(Athletenliste!D12=\"\",\"\",Athletenliste!D12)","v":""},{"$f":"IF(Athletenliste!E12=\"\",\"\",Athletenliste!E12)","v":""},{"$f":"IF(Athletenliste!F12=\"\",\"\",Athletenliste!F12)","v":""},{"$f":"IF(Athletenliste!G12=\"\",\"\",Athletenliste!G12)","v":""},{"$f":"IF(Athletenliste!H12=\"\",\"\",Athletenliste!H12)","v":""},null,{"$f":"IF(B12=\"\",\"\",IF(D12=\"m\",INDIRECT(VLOOKUP(G12,Bezüge!$E$6:$F$16,2,FALSE)&ROW(G12)),INDIRECT(VLOOKUP(G12,Bezüge!$B$6:$C$16,2,FALSE)&ROW(G12))))","v":""},null,null,null,"","","","","","","","","","","","","","","","","","","","","","",null,"","","","","","","","","","","","","","","","","","","","","",""]
[null,{"$f":"IF(Athletenliste!B13=\"\",\"\",Athletenliste!B13)","v":""},{"$f":"IF(Athletenliste!C13=\"\",\"\",Athletenliste!C13)","v":""},{"$f":"IF(Athletenliste!D13=\"\",\"\",Athletenliste!D13)","v":""},{"$f":"IF(Athletenliste!E13=\"\",\"\",Athletenliste!E13)","v":""},{"$f":"IF(Athletenliste!F13=\"\",\"\",Athletenliste!F13)","v":""},{"$f":"IF(Athletenliste!G13=\"\",\"\",Athletenliste!G13)","v":""},{"$f":"IF(Athletenliste!H13=\"\",\"\",Athletenliste!H13)","v":""},null,{"$f":"IF(B13=\"\",\"\",IF(D13=\"m\",INDIRECT(VLOOKUP(G13,Bezüge!$E$6:$F$16,2,FALSE)&ROW(G13)),INDIRECT(VLOOKUP(G13,Bezüge!$B$6:$C$16,2,FALSE)&ROW(G13))))","v":""},null,null,null,"","","","","","","","","","","","","","","","","","","","","","",null,"","","","","","","","","","","","","","","","","","","","","",""]
[null,{"$f":"IF(Athletenliste!B14=\"\",\"\",Athletenliste!B14)","v":""},{"$f":"IF(Athletenliste!C14=\"\",\"\",Athletenliste!C14)","v":""},{"$f":"IF(Athletenliste!D14=\"\",\"\",Athletenliste!D14)","v":""},{"$f":"IF(Athletenliste!E14=\"\",\"\",Athletenliste!E14)","v":""},{"$f":"IF(Athletenliste!F14=\"\",\"\",Athletenliste!F14)","v":""},{"$f":"IF(Athletenliste!G14=\"\",\"\",Athletenliste!G14)","v":""},{"$f":"IF(Athletenliste!H14=\"\",\"\",Athletenliste!H14)","v":""},null,{"$f":"IF(B14=\"\",\"\",IF(D14=\"m\",INDIRECT(VLOOKUP(G14,Bezüge!$E$6:$F$16,2,FALSE)&ROW(G14)),INDIRECT(VLOOKUP(G14,Bezüge!$B$6:$C$16,2,FALSE)&ROW(G14))))","v":""},null,null,null,"","","","","","","","","","","","","","","","","","","","","","",null,"","","","","","","","","","","","","","","","","","","","","",""]
[null,{"$f":"IF(Athletenliste!B15=\"\",\"\",Athletenliste!B15)","v":""},{"$f":"IF(Athletenliste!C15=\"\",\"\",Athletenliste!C15)","v":""},{"$f":"IF(Athletenliste!D15=\"\",\"\",Athletenliste!D15)","v":""},{"$f":"IF(Athletenliste!E15=\"\",\"\",Athletenliste!E15)","v":""},{"$f":"IF(Athletenliste!F15=\"\",\"\",Athletenliste!F15)","v":""},{"$f":"IF(Athletenliste!G15=\"\",\"\",Athletenliste!G15)","v":""},{"$f":"IF(Athletenliste!H15=\"\",\"\",Athletenliste!H15)","v":""},null,{"$f":"IF(B15=\"\",\"\",IF(D15=\"m\",INDIRECT(VLOOKUP(G15,Bezüge!$E$6:$F$16,2,FALSE)&ROW(G15)),INDIRECT(VLOOKUP(G15,Bezüge!$B$6:$C$16,2,FALSE)&ROW(G15))))","v":""},null,null,null,"","","","","","","","","","","","","","","","","","","","","","",null,"","","","","","","","","","","","","","","","","","","","","",""]
[null,{"$f":"IF(Athletenliste!B16=\"\",\"\",Athletenliste!B16)","v":""},{"$f":"IF(Athletenliste!C16=\"\",\"\",Athletenliste!C16)","v":""},{"$f":"IF(Athletenliste!D16=\"\",\"\",Athletenliste!D16)","v":""},{"$f":"IF(Athletenliste!E16=\"\",\"\",Athletenliste!E16)","v":""},{"$f":"IF(Athletenliste!F16=\"\",\"\",Athletenliste!F16)","v":""},{"$f":"IF(Athletenliste!G16=\"\",\"\",Athletenliste!G16)","v":""},{"$f":"IF(Athletenliste!H16=\"\",\"\",Athletenliste!H16)","v":""},null,{"$f":"IF(B16=\"\",\"\",IF(D16=\"m\",INDIRECT(VLOOKUP(G16,Bezüge!$E$6:$F$16,2,FALSE)&ROW(G16)),INDIRECT(VLOOKUP(G16,Bezüge!$B$6:$C$16,2,FALSE)&ROW(G16))))","v":""},null,null,null,"","","","","","","","","","","","","","","","","","","","","","",null,"","","","","","","","","","","","","","","","","","","","","",""]
[null,{"$f":"IF(Athletenliste!B17=\"\",\"\",Athletenliste!B17)","v":""},{"$f":"IF(Athletenliste!C17=\"\",\"\",Athletenliste!C17)","v":""},{"$f":"IF(Athletenliste!D17=\"\",\"\",Athletenliste!D17)","v":""},{"$f":"IF(Athletenliste!E17=\"\",\"\",Athletenliste!E17)","v":""},{"$f":"IF(Athletenliste!F17=\"\",\"\",Athletenliste!F17)","v":""},{"$f":"IF(Athletenliste!G17=\"\",\"\",Athletenliste!G17)","v":""},{"$f":"IF(Athletenliste!H17=\"\",\"\",Athletenliste!H17)","v":""},null,{"$f":"IF(B17=\"\",\"\",IF(D17=\"m\",INDIRECT(VLOOKUP(G17,Bezüge!$E$6:$F$16,2,FALSE)&ROW(G17)),INDIRECT(VLOOKUP(G17,Bezüge!$B$6:$C$16,2,FALSE)&ROW(G17))))","v":""},null,null,null,"","","","","","","","","","","","","","","","","","","","","","",null,"","","","","","","","","","","","","","","","","","","","","",""]
[null,{"$f":"IF(Athletenliste!B18=\"\",\"\",Athletenliste!B18)","v":""},{"$f":"IF(Athletenliste!C18=\"\",\"\",Athletenliste!C18)","v":""},{"$f":"IF(Athletenliste!D18=\"\",\"\",Athletenliste!D18)","v":""},{"$f":"IF(Athletenliste!E18=\"\",\"\",Athletenliste!E18)","v":""},{"$f":"IF(Athletenliste!F18=\"\",\"\",Athletenliste!F18)","v":""},{"$f":"IF(Athletenliste!G18=\"\",\"\",Athletenliste!G18)","v":""},{"$f":"IF(Athletenliste!H18=\"\",\"\",Athletenliste!H18)","v":""},null,{"$f":"IF(B18=\"\",\"\",IF(D18=\"m\",INDIRECT(VLOOKUP(G18,Bezüge!$E$6:$F$16,2,FALSE)&ROW(G18)),INDIRECT(VLOOKUP(G18,Bezüge!$B$6:$C$16,2,FALSE)&ROW(G18))))","v":""},null,null,null,"","","","","","","","","","","","","","","","","","","","","","",null,"","","","","","","","","","","","","","","","","","","","","",""]
[null,{"$f":"IF(Athletenliste!B19=\"\",\"\",Athletenliste!B19)","v":""},{"$f":"IF(Athletenliste!C19=\"\",\"\",Athletenliste!C19)","v":""},{"$f":"IF(Athletenliste!D19=\"\",\"\",Athletenliste!D19)","v":""},{"$f":"IF(Athletenliste!E19=\"\",\"\",Athletenliste!E19)","v":""},{"$f":"IF(Athletenliste!F19=\"\",\"\",Athletenliste!F19)","v":""},{"$f":"IF(Athletenliste!G19=\"\",\"\",Athletenliste!G19)","v":""},{"$f":"IF(Athletenliste!H19=\"\",\"\",Athletenliste!H19)","v":""},null,{"$f":"IF(B19=\"\",\"\",IF(D19=\"m\",INDIRECT(VLOOKUP(G19,Bezüge!$E$6:$F$16,2,FALSE)&ROW(G19)),INDIRECT(VLOOKUP(G19,Bezüge!$B$6:$C$16,2,FALSE)&ROW(G19))))","v":""},null,null,null,"","","","","","","","","","","","","","","","","","","","","","",null,"","","","","","","","","","","","","","","","","","","","","",""]
[null,{"$f":"IF(Athletenliste!B20=\"\",\"\",Athletenliste!B20)","v":""},{"$f":"IF(Athletenliste!C20=\"\",\"\",Athletenliste!C20)","v":""},{"$f":"IF(Athletenliste!D20=\"\",\"\",Athletenliste!D20)","v":""},{"$f":"IF(Athletenliste!E20=\"\",\"\",Athletenliste!E20)","v":""},{"$f":"IF(Athletenliste!F20=\"\",\"\",Athletenliste!F20)","v":""},{"$f":"IF(Athletenliste!G20=\"\",\"\",Athletenliste!G20)","v":""},{"$f":"IF(Athletenliste!H20=\"\",\"\",Athletenliste!H20)","v":""},null,{"$f":"IF(B20=\"\",\"\",IF(D20=\"m\",INDIRECT(VLOOKUP(G20,Bezüge!$E$6:$F$16,2,FALSE)&ROW(G20)),INDIRECT(VLOOKUP(G20,Bezüge!$B$6:$C$16,2,FALSE)&ROW(G20))))","v":""},null,null,null,"","","","","","","","","","","","","","","","","","","","","","",null,"","","","","","","","","","","","","","","","","","","","","",""]
[null,{"$f":"IF(Athletenliste!B21=\"\",\"\",Athletenliste!B21)","v":""},{"$f":"IF(Athletenliste!C21=\"\",\"\",Athletenliste!C21)","v":""},{"$f":"IF(Athletenliste!D21=\"\",\"\",Athletenliste!D21)","v":""},{"$f":"IF(Athletenliste!E21=\"\",\"\",Athletenliste!E21)","v":""},{"$f":"IF(Athletenliste!F21=\"\",\"\",Athletenliste!F21)","v":""},{"$f":"IF(Athletenliste!G21=\"\",\"\",Athletenliste!G21)","v":""},{"$f":"IF(Athletenliste!H21=\"\",\"\",Athletenliste!H21)","v":""},null,{"$f":"IF(B21=\"\",\"\",IF(D21=\"m\",INDIRECT(VLOOKUP(G21,Bezüge!$E$6:$F$16,2,FALSE)&ROW(G21)),INDIRECT(VLOOKUP(G21,Bezüge!$B$6:$C$16,2,FALSE)&ROW(G21))))","v":""},null,null,null,"","","","","","","","","","","","","","","","","","","","","","",null,"","","","","","","","","","","","","","","","","","","","","",""]
[null,{"$f":"IF(Athletenliste!B22=\"\",\"\",Athletenliste!B22)","v":""},{"$f":"IF(Athletenliste!C22=\"\",\"\",Athletenliste!C22)","v":""},{"$f":"IF(Athletenliste!D22=\"\",\"\",Athletenliste!D22)","v":""},{"$f":"IF(Athletenliste!E22=\"\",\"\",Athletenliste!E22)","v":""},{"$f":"IF(Athletenliste!F22=\"\",\"\",Athletenliste!F22)","v":""},{"$f":"IF(Athletenliste!G22=\"\",\"\",Athletenliste!G22)","v":""},{"$f":"IF(Athletenliste!H22=\"\",\"\",Athletenliste!H22)","v":""},null,{"$f":"IF(B22=\"\",\"\",IF(D22=\"m\",INDIRECT(VLOOKUP(G22,Bezüge!$E$6:$F$16,2,FALSE)&ROW(G22)),INDIRECT(VLOOKUP(G22,Bezüge!$B$6:$C$16,2,FALSE)&ROW(G22))))","v":""},null,null,null,"","","","","","","","","","","","","","","","","","","","","","",null,"","","","","","","","","","","","","","","","","","","","","",""]
[null,{"$f":"IF(Athletenliste!B23=\"\",\"\",Athletenliste!B23)","v":""},{"$f":"IF(Athletenliste!C23=\"\",\"\",Athletenliste!C23)","v":""},{"$f":"IF(Athletenliste!D23=\"\",\"\",Athletenliste!D23)","v":""},{"$f":"IF(Athletenliste!E23=\"\",\"\",Athletenliste!E23)","v":""},{"$f":"IF(Athletenliste!F23=\"\",\"\",Athletenliste!F23)","v":""},{"$f":"IF(Athletenliste!G23=\"\",\"\",Athletenliste!G23)","v":""},{"$f":"IF(Athletenliste!H23=\"\",\"\",Athletenliste!H23)","v":""},null,{"$f":"IF(B23=\"\",\"\",IF(D23=\"m\",INDIRECT(VLOOKUP(G23,Bezüge!$E$6:$F$16,2,FALSE)&ROW(G23)),INDIRECT(VLOOKUP(G23,Bezüge!$B$6:$C$16,2,FALSE)&ROW(G23))))","v":""},null,null,null,"","","","","","","","","","","","","","","","","","","","","","",null,"","","","","","","","","","","","","","","","","","","","","",""]
[null,{"$f":"IF(Athletenliste!B24=\"\",\"\",Athletenliste!B24)","v":""},{"$f":"IF(Athletenliste!C24=\"\",\"\",Athletenliste!C24)","v":""},{"$f":"IF(Athletenliste!D24=\"\",\"\",Athletenliste!D24)","v":""},{"$f":"IF(Athletenliste!E24=\"\",\"\",Athletenliste!E24)","v":""},{"$f":"IF(Athletenliste!F24=\"\",\"\",Athletenliste!F24)","v":""},{"$f":"IF(Athletenliste!G24=\"\",\"\",Athletenliste!G24)","v":""},{"$f":"IF(Athletenliste!H24=\"\",\"\",Athletenliste!H24)","v":""},null,{"$f":"IF(B24=\"\",\"\",IF(D24=\"m\",INDIRECT(VLOOKUP(G24,Bezüge!$E$6:$F$16,2,FALSE)&ROW(G24)),INDIRECT(VLOOKUP(G24,Bezüge!$B$6:$C$16,2,FALSE)&ROW(G24))))","v":""},null,null,null,"","","","","","","","","","","","","","","","","","","","","","",null,"","","","","","","","","","","","","","","","","","","","","",""]
[null,{"$f":"IF(Athletenliste!B25=\"\",\"\",Athletenliste!B25)","v":""},{"$f":"IF(Athletenliste!C25=\"\",\"\",Athletenliste!C25)","v":""},{"$f":"IF(Athletenliste!D25=\"\",\"\",Athletenliste!D25)","v":""},{"$f":"IF(Athletenliste!E25=\"\",\"\",Athletenliste!E25)","v":""},{"$f":"IF(Athletenliste!F25=\"\",\"\",Athletenliste!F25)","v":""},{"$f":"IF(Athletenliste!G25=\"\",\"\",Athletenliste!G25)","v":""},{"$f":"IF(Athletenliste!H25=\"\",\"\",Athletenliste!H25)","v":""},null,{"$f":"IF(B25=\"\",\"\",IF(D25=\"m\",INDIRECT(VLOOKUP(G25,Bezüge!$E$6:$F$16,2,FALSE)&ROW(G25)),INDIRECT(VLOOKUP(G25,Bezüge!$B$6:$C$16,2,FALSE)&ROW(G25))))","v":""},null,null,null,"","","","","","","","","","","","","","","","","","","","","","",null,"","","","","","","","","","","","","","","","","","","","","",""]
[null,{"$f":"IF(Athletenliste!B26=\"\",\"\",Athletenliste!B26)","v":""},{"$f":"IF(Athletenliste!C26=\"\",\"\",Athletenliste!C26)","v":""},{"$f":"IF(Athletenliste!D26=\"\",\"\",Athletenliste!D26)","v":""},{"$f":"IF(Athletenliste!E26=\"\",\"\",Athletenliste!E26)","v":""},{"$f":"IF(Athletenliste!F26=\"\",\"\",Athletenliste!F26)","v":""},{"$f":"IF(Athletenliste!G26=\"\",\"\",Athletenliste!G26)","v":""},{"$f":"IF(Athletenliste!H26=\"\",\"\",Athletenliste!H26)","v":""},null,{"$f":"IF(B26=\"\",\"\",IF(D26=\"m\",INDIRECT(VLOOKUP(G26,Bezüge!$E$6:$F$16,2,FALSE)&ROW(G26)),INDIRECT(VLOOKUP(G26,Bezüge!$B$6:$C$16,2,FALSE)&ROW(G26))))","v":""},null,null,null,"","","","","","","","","","","","","","","","","","","","","","",null,"","","","","","","","","","","","","","","","","","","","","",""]
[null,{"$f":"IF(Athletenliste!B27=\"\",\"\",Athletenliste!B27)","v":""},{"$f":"IF(Athletenliste!C27=\"\",\"\",Athletenliste!C27)","v":""},{"$f":"IF(Athletenliste!D27=\"\",\"\",Athletenliste!D27)","v":""},{"$f":"IF(Athletenliste!E27=\"\",\"\",Athletenliste!E27)","v":""},{"$f":"IF(Athletenliste!F27=\"\",\"\",Athletenliste!F27)","v":""},{"$f":"IF(Athletenliste!G27=\"\",\"\",Athletenliste!G27)","v":""},{"$f":"IF(Athletenliste!H27=\"\",\"\",Athletenliste!H27)","v":""},null,{"$f":"IF(B27=\"\",\"\",IF(D27=\"m\",INDIRECT(VLOOKUP(G27,Bezüge!$E$6:$F$16,2,FALSE)&ROW(G27)),INDIRECT(VLOOKUP(G27,Bezüge!$B$6:$C$16,2,FALSE)&ROW(G27))))","v":""},null,null,null,"","","","","","","","","","","","","","","","","","","","","","",null,"","","","","","","","","","","","","","","","","","","","","",""]
[null,{"$f":"IF(Athletenliste!B28=\"\",\"\",Athletenliste!B28)","v":""},{"$f":"IF(Athletenliste!C28=\"\",\"\",Athletenliste!C28)","v":""},{"$f":"IF(Athletenliste!D28=\"\",\"\",Athletenliste!D28)","v":""},{"$f":"IF(Athletenliste!E28=\"\",\"\",Athletenliste!E28)","v":""},{"$f":"IF(Athletenliste!F28=\"\",\"\",Athletenliste!F28)","v":""},{"$f":"IF(Athletenliste!G28=\"\",\"\",Athletenliste!G28)","v":""},{"$f":"IF(Athletenliste!H28=\"\",\"\",Athletenliste!H28)","v":""},null,{"$f":"IF(B28=\"\",\"\",IF(D28=\"m\",INDIRECT(VLOOKUP(G28,Bezüge!$E$6:$F$16,2,FALSE)&ROW(G28)),INDIRECT(VLOOKUP(G28,Bezüge!$B$6:$C$16,2,FALSE)&ROW(G28))))","v":""},null,null,null,"","","","","","","","","","","","","","","","","","","","","","",null,"","","","","","","","","","","","","","","","","","","","","",""]
[null,{"$f":"IF(Athletenliste!B29=\"\",\"\",Athletenliste!B29)","v":""},{"$f":"IF(Athletenliste!C29=\"\",\"\",Athletenliste!C29)","v":""},{"$f":"IF(Athletenliste!D29=\"\",\"\",Athletenliste!D29)","v":""},{"$f":"IF(Athletenliste!E29=\"\",\"\",Athletenliste!E29)","v":""},{"$f":"IF(Athletenliste!F29=\"\",\"\",Athletenliste!F29)","v":""},{"$f":"IF(Athletenliste!G29=\"\",\"\",Athletenliste!G29)","v":""},{"$f":"IF(Athletenliste!H29=\"\",\"\",Athletenliste!H29)","v":""},null,{"$f":"IF(B29=\"\",\"\",IF(D29=\"m\",INDIRECT(VLOOKUP(G29,Bezüge!$E$6:$F$16,2,FALSE)&ROW(G29)),INDIRECT(VLOOKUP(G29,Bezüge!$B$6:$C$16,2,FALSE)&ROW(G29))))","v":""},null,null,null,"","","","","","","","","","","","","","","","","","","","","","",null,"","","","","","","","","","","","","","","","","","","","","",""]
[null,{"$f":"IF(Athletenliste!B30=\"\",\"\",Athletenliste!B30)","v":""},{"$f":"IF(Athletenliste!C30=\"\",\"\",Athletenliste!C30)","v":""},{"$f":"IF(Athletenliste!D30=\"\",\"\",Athletenliste!D30)","v":""},{"$f":"IF(Athletenliste!E30=\"\",\"\",Athletenliste!E30)","v":""},{"$f":"IF(Athletenliste!F30=\"\",\"\",Athletenliste!F30)","v":""},{"$f":"IF(Athletenliste!G30=\"\",\"\",Athletenliste!G30)","v":""},{"$f":"IF(Athletenliste!H30=\"\",\"\",Athletenliste!H30)","v":""},null,{"$f":"IF(B30=\"\",\"\",IF(D30=\"m\",INDIRECT(VLOOKUP(G30,Bezüge!$E$6:$F$16,2,FALSE)&ROW(G30)),INDIRECT(VLOOKUP(G30,Bezüge!$B$6:$C$16,2,FALSE)&ROW(G30))))","v":""},null,null,null,"","","","","","","","","","","","","","","","","","","","","","",null,"","","","","","","","","","","","","","","","","","","","","",""]
[null,{"$f":"IF(Athletenliste!B31=\"\",\"\",Athletenliste!B31)","v":""},{"$f":"IF(Athletenliste!C31=\"\",\"\",Athletenliste!C31)","v":""},{"$f":"IF(Athletenliste!D31=\"\",\"\",Athletenliste!D31)","v":""},{"$f":"IF(Athletenliste!E31=\"\",\"\",Athletenliste!E31)","v":""},{"$f":"IF(Athletenliste!F31=\"\",\"\",Athletenliste!F31)","v":""},{"$f":"IF(Athletenliste!G31=\"\",\"\",Athletenliste!G31)","v":""},{"$f":"IF(Athletenliste!H31=\"\",\"\",Athletenliste!H31)","v":""},null,{"$f":"IF(B31=\"\",\"\",IF(D31=\"m\",INDIRECT(VLOOKUP(G31,Bezüge!$E$6:$F$16,2,FALSE)&ROW(G31)),INDIRECT(VLOOKUP(G31,Bezüge!$B$6:$C$16,2,FALSE)&ROW(G31))))","v":""},null,null,null,"","","","","","","","","","","","","","","","","","","","","","",null,"","","","","","","","","","","","","","","","","","","","","",""]
[null,{"$f":"IF(Athletenliste!B32=\"\",\"\",Athletenliste!B32)","v":""},{"$f":"IF(Athletenliste!C32=\"\",\"\",Athletenliste!C32)","v":""},{"$f":"IF(Athletenliste!D32=\"\",\"\",Athletenliste!D32)","v":""},{"$f":"IF(Athletenliste!E32=\"\",\"\",Athletenliste!E32)","v":""},{"$f":"IF(Athletenliste!F32=\"\",\"\",Athletenliste!F32)","v":""},{"$f":"IF(Athletenliste!G32=\"\",\"\",Athletenliste!G32)","v":""},{"$f":"IF(Athletenliste!H32=\"\",\"\",Athletenliste!H32)","v":""},null,{"$f":"IF(B32=\"\",\"\",IF(D32=\"m\",INDIRECT(VLOOKUP(G32,Bezüge!$E$6:$F$16,2,FALSE)&ROW(G32)),INDIRECT(VLOOKUP(G32,Bezüge!$B$6:$C$16,2,FALSE)&ROW(G32))))","v":""},null,null,null,"","","","","","","","","","","","","","","","","","","","","","",null,"","","","","","","","","","","","","","","","","","","","","",""]
[null,{"$f":"IF(Athletenliste!B33=\"\",\"\",Athletenliste!B33)","v":""},{"$f":"IF(Athletenliste!C33=\"\",\"\",Athletenliste!C33)","v":""},{"$f":"IF(Athletenliste!D33=\"\",\"\",Athletenliste!D33)","v":""},{"$f":"IF(Athletenliste!E33=\"\",\"\",Athletenliste!E33)","v":""},{"$f":"IF(Athletenliste!F33=\"\",\"\",Athletenliste!F33)","v":""},{"$f":"IF(Athletenliste!G33=\"\",\"\",Athletenliste!G33)","v":""},{"$f":"IF(Athletenliste!H33=\"\",\"\",Athletenliste!H33)","v":""},null,{"$f":"IF(B33=\"\",\"\",IF(D33=\"m\",INDIRECT(VLOOKUP(G33,Bezüge!$E$6:$F$16,2,FALSE)&ROW(G33)),INDIRECT(VLOOKUP(G33,Bezüge!$B$6:$C$16,2,FALSE)&ROW(G33))))","v":""},null,null,null,"","","","","","","","","","","","","","","","","","","","","","",null,"","","","","","","","","","","","","","","","","","","","","",""]
[null,{"$f":"IF(Athletenliste!B34=\"\",\"\",Athletenliste!B34)","v":""},{"$f":"IF(Athletenliste!C34=\"\",\"\",Athletenliste!C34)","v":""},{"$f":"IF(Athletenliste!D34=\"\",\"\",Athletenliste!D34)","v":""},{"$f":"IF(Athletenliste!E34=\"\",\"\",Athletenliste!E34)","v":""},{"$f":"IF(Athletenliste!F34=\"\",\"\",Athletenliste!F34)","v":""},{"$f":"IF(Athletenliste!G34=\"\",\"\",Athletenliste!G34)","v":""},{"$f":"IF(Athletenliste!H34=\"\",\"\",Athletenliste!H34)","v":""},null,{"$f":"IF(B34=\"\",\"\",IF(D34=\"m\",INDIRECT(VLOOKUP(G34,Bezüge!$E$6:$F$16,2,FALSE)&ROW(G34)),INDIRECT(VLOOKUP(G34,Bezüge!$B$6:$C$16,2,FALSE)&ROW(G34))))","v":""},null,null,null,"","","","","","","","","","","","","","","","","","","","","","",null,"","","","","","","","","","","","","","","","","","","","","",""]
[null,{"$f":"IF(Athletenliste!B35=\"\",\"\",Athletenliste!B35)","v":""},{"$f":"IF(Athletenliste!C35=\"\",\"\",Athletenliste!C35)","v":""},{"$f":"IF(Athletenliste!D35=\"\",\"\",Athletenliste!D35)","v":""},{"$f":"IF(Athletenliste!E35=\"\",\"\",Athletenliste!E35)","v":""},{"$f":"IF(Athletenliste!F35=\"\",\"\",Athletenliste!F35)","v":""},{"$f":"IF(Athletenliste!G35=\"\",\"\",Athletenliste!G35)","v":""},{"$f":"IF(Athletenliste!H35=\"\",\"\",Athletenliste!H35)","v":""},null,{"$f":"IF(B35=\"\",\"\",IF(D35=\"m\",INDIRECT(VLOOKUP(G35,Bezüge!$E$6:$F$16,2,FALSE)&ROW(G35)),INDIRECT(VLOOKUP(G35,Bezüge!$B$6:$C$16,2,FALSE)&ROW(G35))))","v":""},null,null,null,"","","","","","","","","","","","","","","","","","","","","","",null,"","","","","","","","","","","","","","","","","","","","","",""]
[null,{"$f":"IF(Athletenliste!B36=\"\",\"\",Athletenliste!B36)","v":""},{"$f":"IF(Athletenliste!C36=\"\",\"\",Athletenliste!C36)","v":""},{"$f":"IF(Athletenliste!D36=\"\",\"\",Athletenliste!D36)","v":""},{"$f":"IF(Athletenliste!E36=\"\",\"\",Athletenliste!E36)","v":""},{"$f":"IF(Athletenliste!F36=\"\",\"\",Athletenliste!F36)","v":""},{"$f":"IF(Athletenliste!G36=\"\",\"\",Athletenliste!G36)","v":""},{"$f":"IF(Athletenliste!H36=\"\",\"\",Athletenliste!H36)","v":""},null,{"$f":"IF(B36=\"\",\"\",IF(D36=\"m\",INDIRECT(VLOOKUP(G36,Bezüge!$E$6:$F$16,2,FALSE)&ROW(G36)),INDIRECT(VLOOKUP(G36,Bezüge!$B$6:$C$16,2,FALSE)&ROW(G36))))","v":""},null,null,null,"","","","","","","","","","","","","","","","","","","","","","",null,"","","","","","","","","","","","","","","","","","","","","",""]
[null,{"$f":"IF(Athletenliste!B37=\"\",\"\",Athletenliste!B37)","v":""},{"$f":"IF(Athletenliste!C37=\"\",\"\",Athletenliste!C37)","v":""},{"$f":"IF(Athletenliste!D37=\"\",\"\",Athletenliste!D37)","v":""},{"$f":"IF(Athletenliste!E37=\"\",\"\",Athletenliste!E37)","v":""},{"$f":"IF(Athletenliste!F37=\"\",\"\",Athletenliste!F37)","v":""},{"$f":"IF(Athletenliste!G37=\"\",\"\",Athletenliste!G37)","v":""},{"$f":"IF(Athletenliste!H37=\"\",\"\",Athletenliste!H37)","v":""},null,{"$f":"IF(B37=\"\",\"\",IF(D37=\"m\",INDIRECT(VLOOKUP(G37,Bezüge!$E$6:$F$16,2,FALSE)&ROW(G37)),INDIRECT(VLOOKUP(G37,Bezüge!$B$6:$C$16,2,FALSE)&ROW(G37))))","v":""},null,null,null,"","","","","","","","","","","","","","","","","","","","","","",null,"","","","","","","","","","","","","","","","","","","","","",""]
[null,{"$f":"IF(Athletenliste!B38=\"\",\"\",Athletenliste!B38)","v":""},{"$f":"IF(Athletenliste!C38=\"\",\"\",Athletenliste!C38)","v":""},{"$f":"IF(Athletenliste!D38=\"\",\"\",Athletenliste!D38)","v":""},{"$f":"IF(Athletenliste!E38=\"\",\"\",Athletenliste!E38)","v":""},{"$f":"IF(Athletenliste!F38=\"\",\"\",Athletenliste!F38)","v":""},{"$f":"IF(Athletenliste!G38=\"\",\"\",Athletenliste!G38)","v":""},{"$f":"IF(Athletenliste!H38=\"\",\"\",Athletenliste!H38)","v":""},null,{"$f":"IF(B38=\"\",\"\",IF(D38=\"m\",INDIRECT(VLOOKUP(G38,Bezüge!$E$6:$F$16,2,FALSE)&ROW(G38)),INDIRECT(VLOOKUP(G38,Bezüge!$B$6:$C$16,2,FALSE)&ROW(G38))))","v":""},null,null,null,"","","","","","","","","","","","","","","","","","","","","","",null,"","","","","","","","","","","","","","","","","","","","","",""]
[null,{"$f":"IF(Athletenliste!B39=\"\",\"\",Athletenliste!B39)","v":""},{"$f":"IF(Athletenliste!C39=\"\",\"\",Athletenliste!C39)","v":""},{"$f":"IF(Athletenliste!D39=\"\",\"\",Athletenliste!D39)","v":""},{"$f":"IF(Athletenliste!E39=\"\",\"\",Athletenliste!E39)","v":""},{"$f":"IF(Athletenliste!F39=\"\",\"\",Athletenliste!F39)","v":""},{"$f":"IF(Athletenliste!G39=\"\",\"\",Athletenliste!G39)","v":""},{"$f":"IF(Athletenliste!H39=\"\",\"\",Athletenliste!H39)","v":""},null,{"$f":"IF(B39=\"\",\"\",IF(D39=\"m\",INDIRECT(VLOOKUP(G39,Bezüge!$E$6:$F$16,2,FALSE)&ROW(G39)),INDIRECT(VLOOKUP(G39,Bezüge!$B$6:$C$16,2,FALSE)&ROW(G39))))","v":""},null,null,null,"","","","","","","","","","","","","","","","","","","","","","",null,"","","","","","","","","","","","","","","","","","","","","",""]
[null,{"$f":"IF(Athletenliste!B40=\"\",\"\",Athletenliste!B40)","v":""},{"$f":"IF(Athletenliste!C40=\"\",\"\",Athletenliste!C40)","v":""},{"$f":"IF(Athletenliste!D40=\"\",\"\",Athletenliste!D40)","v":""},{"$f":"IF(Athletenliste!E40=\"\",\"\",Athletenliste!E40)","v":""},{"$f":"IF(Athletenliste!F40=\"\",\"\",Athletenliste!F40)","v":""},{"$f":"IF(Athletenliste!G40=\"\",\"\",Athletenliste!G40)","v":""},{"$f":"IF(Athletenliste!H40=\"\",\"\",Athletenliste!H40)","v":""},null,{"$f":"IF(B40=\"\",\"\",IF(D40=\"m\",INDIRECT(VLOOKUP(G40,Bezüge!$E$6:$F$16,2,FALSE)&ROW(G40)),INDIRECT(VLOOKUP(G40,Bezüge!$B$6:$C$16,2,FALSE)&ROW(G40))))","v":""},null,null,null,"","","","","","","","","","","","","","","","","","","","","","",null,"","","","","","","","","","","","","","","","","","","","","",""]
[null,{"$f":"IF(Athletenliste!B41=\"\",\"\",Athletenliste!B41)","v":""},{"$f":"IF(Athletenliste!C41=\"\",\"\",Athletenliste!C41)","v":""},{"$f":"IF(Athletenliste!D41=\"\",\"\",Athletenliste!D41)","v":""},{"$f":"IF(Athletenliste!E41=\"\",\"\",Athletenliste!E41)","v":""},{"$f":"IF(Athletenliste!F41=\"\",\"\",Athletenliste!F41)","v":""},{"$f":"IF(Athletenliste!G41=\"\",\"\",Athletenliste!G41)","v":""},{"$f":"IF(Athletenliste!H41=\"\",\"\",Athletenliste!H41)","v":""},null,{"$f":"IF(B41=\"\",\"\",IF(D41=\"m\",INDIRECT(VLOOKUP(G41,Bezüge!$E$6:$F$16,2,FALSE)&ROW(G41)),INDIRECT(VLOOKUP(G41,Bezüge!$B$6:$C$16,2,FALSE)&ROW(G41))))","v":""},null,null,null,"","","","","","","","","","","","","","","","","","","","","","",null,"","","","","","","","","","","","","","","","","","","","","",""]
[null,{"$f":"IF(Athletenliste!B42=\"\",\"\",Athletenliste!B42)","v":""},{"$f":"IF(Athletenliste!C42=\"\",\"\",Athletenliste!C42)","v":""},{"$f":"IF(Athletenliste!D42=\"\",\"\",Athletenliste!D42)","v":""},{"$f":"IF(Athletenliste!E42=\"\",\"\",Athletenliste!E42)","v":""},{"$f":"IF(Athletenliste!F42=\"\",\"\",Athletenliste!F42)","v":""},{"$f":"IF(Athletenliste!G42=\"\",\"\",Athletenliste!G42)","v":""},{"$f":"IF(Athletenliste!H42=\"\",\"\",Athletenliste!H42)","v":""},null,{"$f":"IF(B42=\"\",\"\",IF(D42=\"m\",INDIRECT(VLOOKUP(G42,Bezüge!$E$6:$F$16,2,FALSE)&ROW(G42)),INDIRECT(VLOOKUP(G42,Bezüge!$B$6:$C$16,2,FALSE)&ROW(G42))))","v":""},null,null,null,"","","","","","","","","","","","","","","","","","","","","","",null,"","","","","","","","","","","","","","","","","","","","","",""]
[null,{"$f":"IF(Athletenliste!B43=\"\",\"\",Athletenliste!B43)","v":""},{"$f":"IF(Athletenliste!C43=\"\",\"\",Athletenliste!C43)","v":""},{"$f":"IF(Athletenliste!D43=\"\",\"\",Athletenliste!D43)","v":""},{"$f":"IF(Athletenliste!E43=\"\",\"\",Athletenliste!E43)","v":""},{"$f":"IF(Athletenliste!F43=\"\",\"\",Athletenliste!F43)","v":""},{"$f":"IF(Athletenliste!G43=\"\",\"\",Athletenliste!G43)","v":""},{"$f":"IF(Athletenliste!H43=\"\",\"\",Athletenliste!H43)","v":""},null,{"$f":"IF(B43=\"\",\"\",IF(D43=\"m\",INDIRECT(VLOOKUP(G43,Bezüge!$E$6:$F$16,2,FALSE)&ROW(G43)),INDIRECT(VLOOKUP(G43,Bezüge!$B$6:$C$16,2,FALSE)&ROW(G43))))","v":""},null,null,null,"","","","","","","","","","","","","","","","","","","","","","",null,"","","","","","","","","","","","","","","","","","","","","",""]
[null,{"$f":"IF(Athletenliste!B44=\"\",\"\",Athletenliste!B44)","v":""},{"$f":"IF(Athletenliste!C44=\"\",\"\",Athletenliste!C44)","v":""},{"$f":"IF(Athletenliste!D44=\"\",\"\",Athletenliste!D44)","v":""},{"$f":"IF(Athletenliste!E44=\"\",\"\",Athletenliste!E44)","v":""},{"$f":"IF(Athletenliste!F44=\"\",\"\",Athletenliste!F44)","v":""},{"$f":"IF(Athletenliste!G44=\"\",\"\",Athletenliste!G44)","v":""},{"$f":"IF(Athletenliste!H44=\"\",\"\",Athletenliste!H44)","v":""},null,{"$f":"IF(B44=\"\",\"\",IF(D44=\"m\",INDIRECT(VLOOKUP(G44,Bezüge!$E$6:$F$16,2,FALSE)&ROW(G44)),INDIRECT(VLOOKUP(G44,Bezüge!$B$6:$C$16,2,FALSE)&ROW(G44))))","v":""},null,null,null,"","","","","","","","","","","","","","","","","","","","","","",null,"","","","","","","","","","","","","","","","","","","","","",""]
[null,{"$f":"IF(Athletenliste!B45=\"\",\"\",Athletenliste!B45)","v":""},{"$f":"IF(Athletenliste!C45=\"\",\"\",Athletenliste!C45)","v":""},{"$f":"IF(Athletenliste!D45=\"\",\"\",Athletenliste!D45)","v":""},{"$f":"IF(Athletenliste!E45=\"\",\"\",Athletenliste!E45)","v":""},{"$f":"IF(Athletenliste!F45=\"\",\"\",Athletenliste!F45)","v":""},{"$f":"IF(Athletenliste!G45=\"\",\"\",Athletenliste!G45)","v":""},{"$f":"IF(Athletenliste!H45=\"\",\"\",Athletenliste!H45)","v":""},null,{"$f":"IF(B45=\"\",\"\",IF(D45=\"m\",INDIRECT(VLOOKUP(G45,Bezüge!$E$6:$F$16,2,FALSE)&ROW(G45)),INDIRECT(VLOOKUP(G45,Bezüge!$B$6:$C$16,2,FALSE)&ROW(G45))))","v":""},null,null,null,"","","","","","","","","","","","","","","","","","","","","","",null,"","","","","","","","","","","","","","","","","","","","","",""]
[null,{"$f":"IF(Athletenliste!B46=\"\",\"\",Athletenliste!B46)","v":""},{"$f":"IF(Athletenliste!C46=\"\",\"\",Athletenliste!C46)","v":""},{"$f":"IF(Athletenliste!D46=\"\",\"\",Athletenliste!D46)","v":""},{"$f":"IF(Athletenliste!E46=\"\",\"\",Athletenliste!E46)","v":""},{"$f":"IF(Athletenliste!F46=\"\",\"\",Athletenliste!F46)","v":""},{"$f":"IF(Athletenliste!G46=\"\",\"\",Athletenliste!G46)","v":""},{"$f":"IF(Athletenliste!H46=\"\",\"\",Athletenliste!H46)","v":""},null,{"$f":"IF(B46=\"\",\"\",IF(D46=\"m\",INDIRECT(VLOOKUP(G46,Bezüge!$E$6:$F$16,2,FALSE)&ROW(G46)),INDIRECT(VLOOKUP(G46,Bezüge!$B$6:$C$16,2,FALSE)&ROW(G46))))","v":""},null,null,null,"","","","","","","","","","","","","","","","","","","","","","",null,"","","","","","","","","","","","","","","","","","","","","",""]
[null,{"$f":"IF(Athletenliste!B47=\"\",\"\",Athletenliste!B47)","v":""},{"$f":"IF(Athletenliste!C47=\"\",\"\",Athletenliste!C47)","v":""},{"$f":"IF(Athletenliste!D47=\"\",\"\",Athletenliste!D47)","v":""},{"$f":"IF(Athletenliste!E47=\"\",\"\",Athletenliste!E47)","v":""},{"$f":"IF(Athletenliste!F47=\"\",\"\",Athletenliste!F47)","v":""},{"$f":"IF(Athletenliste!G47=\"\",\"\",Athletenliste!G47)","v":""},{"$f":"IF(Athletenliste!H47=\"\",\"\",Athletenliste!H47)","v":""},null,{"$f":"IF(B47=\"\",\"\",IF(D47=\"m\",INDIRECT(VLOOKUP(G47,Bezüge!$E$6:$F$16,2,FALSE)&ROW(G47)),INDIRECT(VLOOKUP(G47,Bezüge!$B$6:$C$16,2,FALSE)&ROW(G47))))","v":""},null,null,null,"","","","","","","","","","","","","","","","","","","","","","",null,"","","","","","","","","","","","","","","","","","","","","",""]
[null,{"$f":"IF(Athletenliste!B48=\"\",\"\",Athletenliste!B48)","v":""},{"$f":"IF(Athletenliste!C48=\"\",\"\",Athletenliste!C48)","v":""},{"$f":"IF(Athletenliste!D48=\"\",\"\",Athletenliste!D48)","v":""},{"$f":"IF(Athletenliste!E48=\"\",\"\",Athletenliste!E48)","v":""},{"$f":"IF(Athletenliste!F48=\"\",\"\",Athletenliste!F48)","v":""},{"$f":"IF(Athletenliste!G48=\"\",\"\",Athletenliste!G48)","v":""},{"$f":"IF(Athletenliste!H48=\"\",\"\",Athletenliste!H48)","v":""},null,{"$f":"IF(B48=\"\",\"\",IF(D48=\"m\",INDIRECT(VLOOKUP(G48,Bezüge!$E$6:$F$16,2,FALSE)&ROW(G48)),INDIRECT(VLOOKUP(G48,Bezüge!$B$6:$C$16,2,FALSE)&ROW(G48))))","v":""},null,null,null,"","","","","","","","","","","","","","","","","","","","","","",null,"","","","","","","","","","","","","","","","","","","","","",""]
[null,{"$f":"IF(Athletenliste!B49=\"\",\"\",Athletenliste!B49)","v":""},{"$f":"IF(Athletenliste!C49=\"\",\"\",Athletenliste!C49)","v":""},{"$f":"IF(Athletenliste!D49=\"\",\"\",Athletenliste!D49)","v":""},{"$f":"IF(Athletenliste!E49=\"\",\"\",Athletenliste!E49)","v":""},{"$f":"IF(Athletenliste!F49=\"\",\"\",Athletenliste!F49)","v":""},{"$f":"IF(Athletenliste!G49=\"\",\"\",Athletenliste!G49)","v":""},{"$f":"IF(Athletenliste!H49=\"\",\"\",Athletenliste!H49)","v":""},null,{"$f":"IF(B49=\"\",\"\",IF(D49=\"m\",INDIRECT(VLOOKUP(G49,Bezüge!$E$6:$F$16,2,FALSE)&ROW(G49)),INDIRECT(VLOOKUP(G49,Bezüge!$B$6:$C$16,2,FALSE)&ROW(G49))))","v":""},null,null,null,"","","","","","","","","","","","","","","","","","","","","","",null,"","","","","","","","","","","","","","","","","","","","","",""]
[null,{"$f":"IF(Athletenliste!B50=\"\",\"\",Athletenliste!B50)","v":""},{"$f":"IF(Athletenliste!C50=\"\",\"\",Athletenliste!C50)","v":""},{"$f":"IF(Athletenliste!D50=\"\",\"\",Athletenliste!D50)","v":""},{"$f":"IF(Athletenliste!E50=\"\",\"\",Athletenliste!E50)","v":""},{"$f":"IF(Athletenliste!F50=\"\",\"\",Athletenliste!F50)","v":""},{"$f":"IF(Athletenliste!G50=\"\",\"\",Athletenliste!G50)","v":""},{"$f":"IF(Athletenliste!H50=\"\",\"\",Athletenliste!H50)","v":""},null,{"$f":"IF(B50=\"\",\"\",IF(D50=\"m\",INDIRECT(VLOOKUP(G50,Bezüge!$E$6:$F$16,2,FALSE)&ROW(G50)),INDIRECT(VLOOKUP(G50,Bezüge!$B$6:$C$16,2,FALSE)&ROW(G50))))","v":""},null,null,null,"","","","","","","","","","","","","","","","","","","","","","",null,"","","","","","","","","","","","","","","","","","","","","",""]
[null,{"$f":"IF(Athletenliste!B51=\"\",\"\",Athletenliste!B51)","v":""},{"$f":"IF(Athletenliste!C51=\"\",\"\",Athletenliste!C51)","v":""},{"$f":"IF(Athletenliste!D51=\"\",\"\",Athletenliste!D51)","v":""},{"$f":"IF(Athletenliste!E51=\"\",\"\",Athletenliste!E51)","v":""},{"$f":"IF(Athletenliste!F51=\"\",\"\",Athletenliste!F51)","v":""},{"$f":"IF(Athletenliste!G51=\"\",\"\",Athletenliste!G51)","v":""},{"$f":"IF(Athletenliste!H51=\"\",\"\",Athletenliste!H51)","v":""},null,{"$f":"IF(B51=\"\",\"\",IF(D51=\"m\",INDIRECT(VLOOKUP(G51,Bezüge!$E$6:$F$16,2,FALSE)&ROW(G51)),INDIRECT(VLOOKUP(G51,Bezüge!$B$6:$C$16,2,FALSE)&ROW(G51))))","v":""},null,null,null,"","","","","","","","","","","","","","","","","","","","","","",null,"","","","","","","","","","","","","","","","","","","","","",""]
[null,{"$f":"IF(Athletenliste!B52=\"\",\"\",Athletenliste!B52)","v":""},{"$f":"IF(Athletenliste!C52=\"\",\"\",Athletenliste!C52)","v":""},{"$f":"IF(Athletenliste!D52=\"\",\"\",Athletenliste!D52)","v":""},{"$f":"IF(Athletenliste!E52=\"\",\"\",Athletenliste!E52)","v":""},{"$f":"IF(Athletenliste!F52=\"\",\"\",Athletenliste!F52)","v":""},{"$f":"IF(Athletenliste!G52=\"\",\"\",Athletenliste!G52)","v":""},{"$f":"IF(Athletenliste!H52=\"\",\"\",Athletenliste!H52)","v":""},null,{"$f":"IF(B52=\"\",\"\",IF(D52=\"m\",INDIRECT(VLOOKUP(G52,Bezüge!$E$6:$F$16,2,FALSE)&ROW(G52)),INDIRECT(VLOOKUP(G52,Bezüge!$B$6:$C$16,2,FALSE)&ROW(G52))))","v":""},null,null,null,"","","","","","","","","","","","","","","","","","","","","","",null,"","","","","","","","","","","","","","","","","","","","","",""]
[null,{"$f":"IF(Athletenliste!B53=\"\",\"\",Athletenliste!B53)","v":""},{"$f":"IF(Athletenliste!C53=\"\",\"\",Athletenliste!C53)","v":""},{"$f":"IF(Athletenliste!D53=\"\",\"\",Athletenliste!D53)","v":""},{"$f":"IF(Athletenliste!E53=\"\",\"\",Athletenliste!E53)","v":""},{"$f":"IF(Athletenliste!F53=\"\",\"\",Athletenliste!F53)","v":""},{"$f":"IF(Athletenliste!G53=\"\",\"\",Athletenliste!G53)","v":""},{"$f":"IF(Athletenliste!H53=\"\",\"\",Athletenliste!H53)","v":""},null,{"$f":"IF(B53=\"\",\"\",IF(D53=\"m\",INDIRECT(VLOOKUP(G53,Bezüge!$E$6:$F$16,2,FALSE)&ROW(G53)),INDIRECT(VLOOKUP(G53,Bezüge!$B$6:$C$16,2,FALSE)&ROW(G53))))","v":""},null,null,null,"","","","","","","","","","","","","","","","","","","","","","",null,"","","","","","","","","","","","","","","","","","","","","",""]
[null,{"$f":"IF(Athletenliste!B54=\"\",\"\",Athletenliste!B54)","v":""},{"$f":"IF(Athletenliste!C54=\"\",\"\",Athletenliste!C54)","v":""},{"$f":"IF(Athletenliste!D54=\"\",\"\",Athletenliste!D54)","v":""},{"$f":"IF(Athletenliste!E54=\"\",\"\",Athletenliste!E54)","v":""},{"$f":"IF(Athletenliste!F54=\"\",\"\",Athletenliste!F54)","v":""},{"$f":"IF(Athletenliste!G54=\"\",\"\",Athletenliste!G54)","v":""},{"$f":"IF(Athletenliste!H54=\"\",\"\",Athletenliste!H54)","v":""},null,{"$f":"IF(B54=\"\",\"\",IF(D54=\"m\",INDIRECT(VLOOKUP(G54,Bezüge!$E$6:$F$16,2,FALSE)&ROW(G54)),INDIRECT(VLOOKUP(G54,Bezüge!$B$6:$C$16,2,FALSE)&ROW(G54))))","v":""},null,null,null,"","","","","","","","","","","","","","","","","","","","","","",null,"","","","","","","","","","","","","","","","","","","","","",""]
[null,{"$f":"IF(Athletenliste!B55=\"\",\"\",Athletenliste!B55)","v":""},{"$f":"IF(Athletenliste!C55=\"\",\"\",Athletenliste!C55)","v":""},{"$f":"IF(Athletenliste!D55=\"\",\"\",Athletenliste!D55)","v":""},{"$f":"IF(Athletenliste!E55=\"\",\"\",Athletenliste!E55)","v":""},{"$f":"IF(Athletenliste!F55=\"\",\"\",Athletenliste!F55)","v":""},{"$f":"IF(Athletenliste!G55=\"\",\"\",Athletenliste!G55)","v":""},{"$f":"IF(Athletenliste!H55=\"\",\"\",Athletenliste!H55)","v":""},null,{"$f":"IF(B55=\"\",\"\",IF(D55=\"m\",INDIRECT(VLOOKUP(G55,Bezüge!$E$6:$F$16,2,FALSE)&ROW(G55)),INDIRECT(VLOOKUP(G55,Bezüge!$B$6:$C$16,2,FALSE)&ROW(G55))))","v":""},null,null,null,"","","","","","","","","","","","","","","","","","","","","","",null,"","","","","","","","","","","","","","","","","","","","","",""]
[null,{"$f":"IF(Athletenliste!B56=\"\",\"\",Athletenliste!B56)","v":""},{"$f":"IF(Athletenliste!C56=\"\",\"\",Athletenliste!C56)","v":""},{"$f":"IF(Athletenliste!D56=\"\",\"\",Athletenliste!D56)","v":""},{"$f":"IF(Athletenliste!E56=\"\",\"\",Athletenliste!E56)","v":""},{"$f":"IF(Athletenliste!F56=\"\",\"\",Athletenliste!F56)","v":""},{"$f":"IF(Athletenliste!G56=\"\",\"\",Athletenliste!G56)","v":""},{"$f":"IF(Athletenliste!H56=\"\",\"\",Athletenliste!H56)","v":""},null,{"$f":"IF(B56=\"\",\"\",IF(D56=\"m\",INDIRECT(VLOOKUP(G56,Bezüge!$E$6:$F$16,2,FALSE)&ROW(G56)),INDIRECT(VLOOKUP(G56,Bezüge!$B$6:$C$16,2,FALSE)&ROW(G56))))","v":""},null,null,null,"","","","","","","","","","","","","","","","","","","","","","",null,"","","","","","","","","","","","","","","","","","","","","",""]
[null,{"$f":"IF(Athletenliste!B57=\"\",\"\",Athletenliste!B57)","v":""},{"$f":"IF(Athletenliste!C57=\"\",\"\",Athletenliste!C57)","v":""},{"$f":"IF(Athletenliste!D57=\"\",\"\",Athletenliste!D57)","v":""},{"$f":"IF(Athletenliste!E57=\"\",\"\",Athletenliste!E57)","v":""},{"$f":"IF(Athletenliste!F57=\"\",\"\",Athletenliste!F57)","v":""},{"$f":"IF(Athletenliste!G57=\"\",\"\",Athletenliste!G57)","v":""},{"$f":"IF(Athletenliste!H57=\"\",\"\",Athletenliste!H57)","v":""},null,{"$f":"IF(B57=\"\",\"\",IF(D57=\"m\",INDIRECT(VLOOKUP(G57,Bezüge!$E$6:$F$16,2,FALSE)&ROW(G57)),INDIRECT(VLOOKUP(G57,Bezüge!$B$6:$C$16,2,FALSE)&ROW(G57))))","v":""},null,null,null,"","","","","","","","","","","","","","","","","","","","","","",null,"","","","","","","","","","","","","","","","","","","","","",""]
[null,{"$f":"IF(Athletenliste!B58=\"\",\"\",Athletenliste!B58)","v":""},{"$f":"IF(Athletenliste!C58=\"\",\"\",Athletenliste!C58)","v":""},{"$f":"IF(Athletenliste!D58=\"\",\"\",Athletenliste!D58)","v":""},{"$f":"IF(Athletenliste!E58=\"\",\"\",Athletenliste!E58)","v":""},{"$f":"IF(Athletenliste!F58=\"\",\"\",Athletenliste!F58)","v":""},{"$f":"IF(Athletenliste!G58=\"\",\"\",Athletenliste!G58)","v":""},{"$f":"IF(Athletenliste!H58=\"\",\"\",Athletenliste!H58)","v":""},null,{"$f":"IF(B58=\"\",\"\",IF(D58=\"m\",INDIRECT(VLOOKUP(G58,Bezüge!$E$6:$F$16,2,FALSE)&ROW(G58)),INDIRECT(VLOOKUP(G58,Bezüge!$B$6:$C$16,2,FALSE)&ROW(G58))))","v":""},null,null,null,"","","","","","","","","","","","","","","","","","","","","","",null,"","","","","","","","","","","","","","","","","","","","","",""]
[null,{"$f":"IF(Athletenliste!B59=\"\",\"\",Athletenliste!B59)","v":""},{"$f":"IF(Athletenliste!C59=\"\",\"\",Athletenliste!C59)","v":""},{"$f":"IF(Athletenliste!D59=\"\",\"\",Athletenliste!D59)","v":""},{"$f":"IF(Athletenliste!E59=\"\",\"\",Athletenliste!E59)","v":""},{"$f":"IF(Athletenliste!F59=\"\",\"\",Athletenliste!F59)","v":""},{"$f":"IF(Athletenliste!G59=\"\",\"\",Athletenliste!G59)","v":""},{"$f":"IF(Athletenliste!H59=\"\",\"\",Athletenliste!H59)","v":""},null,{"$f":"IF(B59=\"\",\"\",IF(D59=\"m\",INDIRECT(VLOOKUP(G59,Bezüge!$E$6:$F$16,2,FALSE)&ROW(G59)),INDIRECT(VLOOKUP(G59,Bezüge!$B$6:$C$16,2,FALSE)&ROW(G59))))","v":""},null,null,null,"","","","","","","","","","","","","","","","","","","","","","",null,"","","","","","","","","","","","","","","","","","","","","",""]
[null,{"$f":"IF(Athletenliste!B60=\"\",\"\",Athletenliste!B60)","v":""},{"$f":"IF(Athletenliste!C60=\"\",\"\",Athletenliste!C60)","v":""},{"$f":"IF(Athletenliste!D60=\"\",\"\",Athletenliste!D60)","v":""},{"$f":"IF(Athletenliste!E60=\"\",\"\",Athletenliste!E60)","v":""},{"$f":"IF(Athletenliste!F60=\"\",\"\",Athletenliste!F60)","v":""},{"$f":"IF(Athletenliste!G60=\"\",\"\",Athletenliste!G60)","v":""},{"$f":"IF(Athletenliste!H60=\"\",\"\",Athletenliste!H60)","v":""},null,{"$f":"IF(B60=\"\",\"\",IF(D60=\"m\",INDIRECT(VLOOKUP(G60,Bezüge!$E$6:$F$16,2,FALSE)&ROW(G60)),INDIRECT(VLOOKUP(G60,Bezüge!$B$6:$C$16,2,FALSE)&ROW(G60))))","v":""},null,null,null,"","","","","","","","","","","","","","","","","","","","","","",null,"","","","","","","","","","","","","","","","","","","","","",""]
[null,{"$f":"IF(Athletenliste!B61=\"\",\"\",Athletenliste!B61)","v":""},{"$f":"IF(Athletenliste!C61=\"\",\"\",Athletenliste!C61)","v":""},{"$f":"IF(Athletenliste!D61=\"\",\"\",Athletenliste!D61)","v":""},{"$f":"IF(Athletenliste!E61=\"\",\"\",Athletenliste!E61)","v":""},{"$f":"IF(Athletenliste!F61=\"\",\"\",Athletenliste!F61)","v":""},{"$f":"IF(Athletenliste!G61=\"\",\"\",Athletenliste!G61)","v":""},{"$f":"IF(Athletenliste!H61=\"\",\"\",Athletenliste!H61)","v":""},null,{"$f":"IF(B61=\"\",\"\",IF(D61=\"m\",INDIRECT(VLOOKUP(G61,Bezüge!$E$6:$F$16,2,FALSE)&ROW(G61)),INDIRECT(VLOOKUP(G61,Bezüge!$B$6:$C$16,2,FALSE)&ROW(G61))))","v":""},null,null,null,"","","","","","","","","","","","","","","","","","","","","","",null,"","","","","","","","","","","","","","","","","","","","","",""]
[null,{"$f":"IF(Athletenliste!B62=\"\",\"\",Athletenliste!B62)","v":""},{"$f":"IF(Athletenliste!C62=\"\",\"\",Athletenliste!C62)","v":""},{"$f":"IF(Athletenliste!D62=\"\",\"\",Athletenliste!D62)","v":""},{"$f":"IF(Athletenliste!E62=\"\",\"\",Athletenliste!E62)","v":""},{"$f":"IF(Athletenliste!F62=\"\",\"\",Athletenliste!F62)","v":""},{"$f":"IF(Athletenliste!G62=\"\",\"\",Athletenliste!G62)","v":""},{"$f":"IF(Athletenliste!H62=\"\",\"\",Athletenliste!H62)","v":""},null,{"$f":"IF(B62=\"\",\"\",IF(D62=\"m\",INDIRECT(VLOOKUP(G62,Bezüge!$E$6:$F$16,2,FALSE)&ROW(G62)),INDIRECT(VLOOKUP(G62,Bezüge!$B$6:$C$16,2,FALSE)&ROW(G62))))","v":""},null,null,null,"","","","","","","","","","","","","","","","","","","","","","",null,"","","","","","","","","","","","","","","","","","","","","",""]
[null,{"$f":"IF(Athletenliste!B63=\"\",\"\",Athletenliste!B63)","v":""},{"$f":"IF(Athletenliste!C63=\"\",\"\",Athletenliste!C63)","v":""},{"$f":"IF(Athletenliste!D63=\"\",\"\",Athletenliste!D63)","v":""},{"$f":"IF(Athletenliste!E63=\"\",\"\",Athletenliste!E63)","v":""},{"$f":"IF(Athletenliste!F63=\"\",\"\",Athletenliste!F63)","v":""},{"$f":"IF(Athletenliste!G63=\"\",\"\",Athletenliste!G63)","v":""},{"$f":"IF(Athletenliste!H63=\"\",\"\",Athletenliste!H63)","v":""},null,{"$f":"IF(B63=\"\",\"\",IF(D63=\"m\",INDIRECT(VLOOKUP(G63,Bezüge!$E$6:$F$16,2,FALSE)&ROW(G63)),INDIRECT(VLOOKUP(G63,Bezüge!$B$6:$C$16,2,FALSE)&ROW(G63))))","v":""},null,null,null,"","","","","","","","","","","","","","","","","","","","","","",null,"","","","","","","","","","","","","","","","","","","","","",""]
[null,{"$f":"IF(Athletenliste!B64=\"\",\"\",Athletenliste!B64)","v":""},{"$f":"IF(Athletenliste!C64=\"\",\"\",Athletenliste!C64)","v":""},{"$f":"IF(Athletenliste!D64=\"\",\"\",Athletenliste!D64)","v":""},{"$f":"IF(Athletenliste!E64=\"\",\"\",Athletenliste!E64)","v":""},{"$f":"IF(Athletenliste!F64=\"\",\"\",Athletenliste!F64)","v":""},{"$f":"IF(Athletenliste!G64=\"\",\"\",Athletenliste!G64)","v":""},{"$f":"IF(Athletenliste!H64=\"\",\"\",Athletenliste!H64)","v":""},null,{"$f":"IF(B64=\"\",\"\",IF(D64=\"m\",INDIRECT(VLOOKUP(G64,Bezüge!$E$6:$F$16,2,FALSE)&ROW(G64)),INDIRECT(VLOOKUP(G64,Bezüge!$B$6:$C$16,2,FALSE)&ROW(G64))))","v":""},null,null,null,"","","","","","","","","","","","","","","","","","","","","","",null,"","","","","","","","","","","","","","","","","","","","","",""]
[null,{"$f":"IF(Athletenliste!B65=\"\",\"\",Athletenliste!B65)","v":""},{"$f":"IF(Athletenliste!C65=\"\",\"\",Athletenliste!C65)","v":""},{"$f":"IF(Athletenliste!D65=\"\",\"\",Athletenliste!D65)","v":""},{"$f":"IF(Athletenliste!E65=\"\",\"\",Athletenliste!E65)","v":""},{"$f":"IF(Athletenliste!F65=\"\",\"\",Athletenliste!F65)","v":""},{"$f":"IF(Athletenliste!G65=\"\",\"\",Athletenliste!G65)","v":""},{"$f":"IF(Athletenliste!H65=\"\",\"\",Athletenliste!H65)","v":""},null,{"$f":"IF(B65=\"\",\"\",IF(D65=\"m\",INDIRECT(VLOOKUP(G65,Bezüge!$E$6:$F$16,2,FALSE)&ROW(G65)),INDIRECT(VLOOKUP(G65,Bezüge!$B$6:$C$16,2,FALSE)&ROW(G65))))","v":""},null,null,null,"","","","","","","","","","","","","","","","","","","","","","",null,"","","","","","","","","","","","","","","","","","","","","",""]
[null,{"$f":"IF(Athletenliste!B66=\"\",\"\",Athletenliste!B66)","v":""},{"$f":"IF(Athletenliste!C66=\"\",\"\",Athletenliste!C66)","v":""},{"$f":"IF(Athletenliste!D66=\"\",\"\",Athletenliste!D66)","v":""},{"$f":"IF(Athletenliste!E66=\"\",\"\",Athletenliste!E66)","v":""},{"$f":"IF(Athletenliste!F66=\"\",\"\",Athletenliste!F66)","v":""},{"$f":"IF(Athletenliste!G66=\"\",\"\",Athletenliste!G66)","v":""},{"$f":"IF(Athletenliste!H66=\"\",\"\",Athletenliste!H66)","v":""},null,{"$f":"IF(B66=\"\",\"\",IF(D66=\"m\",INDIRECT(VLOOKUP(G66,Bezüge!$E$6:$F$16,2,FALSE)&ROW(G66)),INDIRECT(VLOOKUP(G66,Bezüge!$B$6:$C$16,2,FALSE)&ROW(G66))))","v":""},null,null,null,"","","","","","","","","","","","","","","","","","","","","","",null,"","","","","","","","","","","","","","","","","","","","","",""]
[null,{"$f":"IF(Athletenliste!B67=\"\",\"\",Athletenliste!B67)","v":""},{"$f":"IF(Athletenliste!C67=\"\",\"\",Athletenliste!C67)","v":""},{"$f":"IF(Athletenliste!D67=\"\",\"\",Athletenliste!D67)","v":""},{"$f":"IF(Athletenliste!E67=\"\",\"\",Athletenliste!E67)","v":""},{"$f":"IF(Athletenliste!F67=\"\",\"\",Athletenliste!F67)","v":""},{"$f":"IF(Athletenliste!G67=\"\",\"\",Athletenliste!G67)","v":""},{"$f":"IF(Athletenliste!H67=\"\",\"\",Athletenliste!H67)","v":""},null,{"$f":"IF(B67=\"\",\"\",IF(D67=\"m\",INDIRECT(VLOOKUP(G67,Bezüge!$E$6:$F$16,2,FALSE)&ROW(G67)),INDIRECT(VLOOKUP(G67,Bezüge!$B$6:$C$16,2,FALSE)&ROW(G67))))","v":""},null,null,null,"","","","","","","","","","","","","","","","","","","","","","",null,"","","","","","","","","","","","","","","","","","","","","",""]
[null,{"$f":"IF(Athletenliste!B68=\"\",\"\",Athletenliste!B68)","v":""},{"$f":"IF(Athletenliste!C68=\"\",\"\",Athletenliste!C68)","v":""},{"$f":"IF(Athletenliste!D68=\"\",\"\",Athletenliste!D68)","v":""},{"$f":"IF(Athletenliste!E68=\"\",\"\",Athletenliste!E68)","v":""},{"$f":"IF(Athletenliste!F68=\"\",\"\",Athletenliste!F68)","v":""},{"$f":"IF(Athletenliste!G68=\"\",\"\",Athletenliste!G68)","v":""},{"$f":"IF(Athletenliste!H68=\"\",\"\",Athletenliste!H68)","v":""},null,{"$f":"IF(B68=\"\",\"\",IF(D68=\"m\",INDIRECT(VLOOKUP(G68,Bezüge!$E$6:$F$16,2,FALSE)&ROW(G68)),INDIRECT(VLOOKUP(G68,Bezüge!$B$6:$C$16,2,FALSE)&ROW(G68))))","v":""},null,null,null,"","","","","","","","","","","","","","","","","","","","","","",null,"","","","","","","","","","","","","","","","","","","","","",""]
[null,{"$f":"IF(Athletenliste!B69=\"\",\"\",Athletenliste!B69)","v":""},{"$f":"IF(Athletenliste!C69=\"\",\"\",Athletenliste!C69)","v":""},{"$f":"IF(Athletenliste!D69=\"\",\"\",Athletenliste!D69)","v":""},{"$f":"IF(Athletenliste!E69=\"\",\"\",Athletenliste!E69)","v":""},{"$f":"IF(Athletenliste!F69=\"\",\"\",Athletenliste!F69)","v":""},{"$f":"IF(Athletenliste!G69=\"\",\"\",Athletenliste!G69)","v":""},{"$f":"IF(Athletenliste!H69=\"\",\"\",Athletenliste!H69)","v":""},null,{"$f":"IF(B69=\"\",\"\",IF(D69=\"m\",INDIRECT(VLOOKUP(G69,Bezüge!$E$6:$F$16,2,FALSE)&ROW(G69)),INDIRECT(VLOOKUP(G69,Bezüge!$B$6:$C$16,2,FALSE)&ROW(G69))))","v":""},null,null,null,"","","","","","","","","","","","","","","","","","","","","","",null,"","","","","","","","","","","","","","","","","","","","","",""]
[null,{"$f":"IF(Athletenliste!B70=\"\",\"\",Athletenliste!B70)","v":""},{"$f":"IF(Athletenliste!C70=\"\",\"\",Athletenliste!C70)","v":""},{"$f":"IF(Athletenliste!D70=\"\",\"\",Athletenliste!D70)","v":""},{"$f":"IF(Athletenliste!E70=\"\",\"\",Athletenliste!E70)","v":""},{"$f":"IF(Athletenliste!F70=\"\",\"\",Athletenliste!F70)","v":""},{"$f":"IF(Athletenliste!G70=\"\",\"\",Athletenliste!G70)","v":""},{"$f":"IF(Athletenliste!H70=\"\",\"\",Athletenliste!H70)","v":""},null,{"$f":"IF(B70=\"\",\"\",IF(D70=\"m\",INDIRECT(VLOOKUP(G70,Bezüge!$E$6:$F$16,2,FALSE)&ROW(G70)),INDIRECT(VLOOKUP(G70,Bezüge!$B$6:$C$16,2,FALSE)&ROW(G70))))","v":""},null,null,null,"","","","","","","","","","","","","","","","","","","","","","",null,"","","","","","","","","","","","","","","","","","","","","",""]
[null,{"$f":"IF(Athletenliste!B71=\"\",\"\",Athletenliste!B71)","v":""},{"$f":"IF(Athletenliste!C71=\"\",\"\",Athletenliste!C71)","v":""},{"$f":"IF(Athletenliste!D71=\"\",\"\",Athletenliste!D71)","v":""},{"$f":"IF(Athletenliste!E71=\"\",\"\",Athletenliste!E71)","v":""},{"$f":"IF(Athletenliste!F71=\"\",\"\",Athletenliste!F71)","v":""},{"$f":"IF(Athletenliste!G71=\"\",\"\",Athletenliste!G71)","v":""},{"$f":"IF(Athletenliste!H71=\"\",\"\",Athletenliste!H71)","v":""},null,{"$f":"IF(B71=\"\",\"\",IF(D71=\"m\",INDIRECT(VLOOKUP(G71,Bezüge!$E$6:$F$16,2,FALSE)&ROW(G71)),INDIRECT(VLOOKUP(G71,Bezüge!$B$6:$C$16,2,FALSE)&ROW(G71))))","v":""},null,null,null,"","","","","","","","","","","","","","","","","","","","","","",null,"","","","","","","","","","","","","","","","","","","","","",""]
[null,{"$f":"IF(Athletenliste!B72=\"\",\"\",Athletenliste!B72)","v":""},{"$f":"IF(Athletenliste!C72=\"\",\"\",Athletenliste!C72)","v":""},{"$f":"IF(Athletenliste!D72=\"\",\"\",Athletenliste!D72)","v":""},{"$f":"IF(Athletenliste!E72=\"\",\"\",Athletenliste!E72)","v":""},{"$f":"IF(Athletenliste!F72=\"\",\"\",Athletenliste!F72)","v":""},{"$f":"IF(Athletenliste!G72=\"\",\"\",Athletenliste!G72)","v":""},{"$f":"IF(Athletenliste!H72=\"\",\"\",Athletenliste!H72)","v":""},null,{"$f":"IF(B72=\"\",\"\",IF(D72=\"m\",INDIRECT(VLOOKUP(G72,Bezüge!$E$6:$F$16,2,FALSE)&ROW(G72)),INDIRECT(VLOOKUP(G72,Bezüge!$B$6:$C$16,2,FALSE)&ROW(G72))))","v":""},null,null,null,"","","","","","","","","","","","","","","","","","","","","","",null,"","","","","","","","","","","","","","","","","","","","","",""]
[null,{"$f":"IF(Athletenliste!B73=\"\",\"\",Athletenliste!B73)","v":""},{"$f":"IF(Athletenliste!C73=\"\",\"\",Athletenliste!C73)","v":""},{"$f":"IF(Athletenliste!D73=\"\",\"\",Athletenliste!D73)","v":""},{"$f":"IF(Athletenliste!E73=\"\",\"\",Athletenliste!E73)","v":""},{"$f":"IF(Athletenliste!F73=\"\",\"\",Athletenliste!F73)","v":""},{"$f":"IF(Athletenliste!G73=\"\",\"\",Athletenliste!G73)","v":""},{"$f":"IF(Athletenliste!H73=\"\",\"\",Athletenliste!H73)","v":""},null,{"$f":"IF(B73=\"\",\"\",IF(D73=\"m\",INDIRECT(VLOOKUP(G73,Bezüge!$E$6:$F$16,2,FALSE)&ROW(G73)),INDIRECT(VLOOKUP(G73,Bezüge!$B$6:$C$16,2,FALSE)&ROW(G73))))","v":""},null,null,null,"","","","","","","","","","","","","","","","","","","","","","",null,"","","","","","","","","","","","","","","","","","","","","",""]
[null,{"$f":"IF(Athletenliste!B74=\"\",\"\",Athletenliste!B74)","v":""},{"$f":"IF(Athletenliste!C74=\"\",\"\",Athletenliste!C74)","v":""},{"$f":"IF(Athletenliste!D74=\"\",\"\",Athletenliste!D74)","v":""},{"$f":"IF(Athletenliste!E74=\"\",\"\",Athletenliste!E74)","v":""},{"$f":"IF(Athletenliste!F74=\"\",\"\",Athletenliste!F74)","v":""},{"$f":"IF(Athletenliste!G74=\"\",\"\",Athletenliste!G74)","v":""},{"$f":"IF(Athletenliste!H74=\"\",\"\",Athletenliste!H74)","v":""},null,{"$f":"IF(B74=\"\",\"\",IF(D74=\"m\",INDIRECT(VLOOKUP(G74,Bezüge!$E$6:$F$16,2,FALSE)&ROW(G74)),INDIRECT(VLOOKUP(G74,Bezüge!$B$6:$C$16,2,FALSE)&ROW(G74))))","v":""},null,null,null,"","","","","","","","","","","","","","","","","","","","","","",null,"","","","","","","","","","","","","","","","","","","","","",""]
[null,{"$f":"IF(Athletenliste!B75=\"\",\"\",Athletenliste!B75)","v":""},{"$f":"IF(Athletenliste!C75=\"\",\"\",Athletenliste!C75)","v":""},{"$f":"IF(Athletenliste!D75=\"\",\"\",Athletenliste!D75)","v":""},{"$f":"IF(Athletenliste!E75=\"\",\"\",Athletenliste!E75)","v":""},{"$f":"IF(Athletenliste!F75=\"\",\"\",Athletenliste!F75)","v":""},{"$f":"IF(Athletenliste!G75=\"\",\"\",Athletenliste!G75)","v":""},{"$f":"IF(Athletenliste!H75=\"\",\"\",Athletenliste!H75)","v":""},null,{"$f":"IF(B75=\"\",\"\",IF(D75=\"m\",INDIRECT(VLOOKUP(G75,Bezüge!$E$6:$F$16,2,FALSE)&ROW(G75)),INDIRECT(VLOOKUP(G75,Bezüge!$B$6:$C$16,2,FALSE)&ROW(G75))))","v":""},null,null,null,{"$f":"IF(AND(D75=\"m\",G75=\"U06\",I75<>\"\"),I75,\"\")","v":""},{"$f":"IF(OR(I75=\"\",N75=\"\"),\"\",_xlfn.RANK.EQ(N75,N$10:N$200))","v":""},{"$f":"IF(AND(D75=\"m\",G75=\"U07\",I75<>\"\"),I75,\"\")","v":""},{"$f":"IF(OR(I75=\"\",P75=\"\"),\"\",_xlfn.RANK.EQ(P75,P$10:P$200))","v":""},{"$f":"IF(AND(D75=\"m\",G75=\"U08\",I75<>\"\"),I75,\"\")","v":""},{"$f":"IF(OR(I75=\"\",R75=\"\"),\"\",_xlfn.RANK.EQ(R75,R$10:R$200))","v":""},{"$f":"IF(AND(D75=\"m\",G75=\"U09\",I75<>\"\"),I75,\"\")","v":""},{"$f":"IF(OR(I75=\"\",T75=\"\"),\"\",_xlfn.RANK.EQ(T75,T$10:T$200))","v":""},{"$f":"IF(AND(D75=\"m\",G75=\"U10\",I75<>\"\"),I75,\"\")","v":""},{"$f":"IF(OR(I75=\"\",V75=\"\"),\"\",_xlfn.RANK.EQ(V75,V$10:V$200))","v":""},{"$f":"IF(AND(D75=\"m\",G75=\"U11\",I75<>\"\"),I75,\"\")","v":""},{"$f":"IF(OR(I75=\"\",X75=\"\"),\"\",_xlfn.RANK.EQ(X75,X$10:X$200))","v":""},{"$f":"IF(AND(D75=\"m\",G75=\"U12\",I75<>\"\"),I75,\"\")","v":""},{"$f":"IF(OR(I75=\"\",Z75=\"\"),\"\",_xlfn.RANK.EQ(Z75,Z$10:Z$200))","v":""},{"$f":"IF(AND(D75=\"m\",G75=\"U13\",I75<>\"\"),I75,\"\")","v":""},{"$f":"IF(OR(I75=\"\",AB75=\"\"),\"\",_xlfn.RANK.EQ(AB75,AB$10:AB$200))","v":""},{"$f":"IF(AND(D75=\"m\",G75=\"U14\",I75<>\"\"),I75,\"\")","v":""},{"$f":"IF(OR(I75=\"\",AD75=\"\"),\"\",_xlfn.RANK.EQ(AD75,AD$10:AD$200))","v":""},{"$f":"IF(AND(D75=\"m\",G75=\"U15\",I75<>\"\"),I75,\"\")","v":""},{"$f":"IF(OR(I75=\"\",AF75=\"\"),\"\",_xlfn.RANK.EQ(AF75,AF$10:AF$200))","v":""},{"$f":"IF(AND(D75=\"m\",G75=\"U16\",I75<>\"\"),I75,\"\")","v":""},{"$f":"IF(OR(I75=\"\",AH75=\"\"),\"\",_xlfn.RANK.EQ(AH75,AH$10:AH$200))","v":""},null,{"$f":"IF(AND(D75=\"w\",G75=\"U06\",I75<>\"\"),I75,\"\")","v":""},{"$f":"IF(OR(I75=\"\",AI75=\"\"),\"\",_xlfn.RANK.EQ(AI75,AI$10:AI$200))","v":""},{"$f":"IF(AND(D75=\"w\",G75=\"U07\",I75<>\"\"),I75,\"\")","v":""},{"$f":"IF(OR(I75=\"\",AM75=\"\"),\"\",_xlfn.RANK.EQ(AM75,AM$10:AM$20))","v":""},{"$f":"IF(AND(D75=\"w\",G75=\"U08\",I75<>\"\"),I75,\"\")","v":""},{"$f":"IF(OR(I75=\"\",AO75=\"\"),\"\",_xlfn.RANK.EQ(AO75,AO$10:AO$200,0))","v":""},{"$f":"IF(AND(D75=\"w\",G75=\"U09\",I75<>\"\"),I75,\"\")","v":""},{"$f":"IF(OR(I75=\"\",AQ75=\"\"),\"\",_xlfn.RANK.EQ(AQ75,AQ$10:AQ$200))","v":""},{"$f":"IF(AND(D75=\"w\",G75=\"U10\",I75<>\"\"),I75,\"\")","v":""},{"$f":"IF(OR(I75=\"\",AS75=\"\"),\"\",_xlfn.RANK.EQ(AS75,AS$10:AS$200))","v":""},{"$f":"IF(AND(D75=\"w\",G75=\"U11\",I75<>\"\"),I75,\"\")","v":""},{"$f":"IF(OR(I75=\"\",AU75=\"\"),\"\",_xlfn.RANK.EQ(AU75,AU$10:AU$200))","v":""},{"$f":"IF(AND(D75=\"w\",G75=\"U12\",I75<>\"\"),I75,\"\")","v":""},{"$f":"IF(OR(I75=\"\",AW75=\"\"),\"\",_xlfn.RANK.EQ(AW75,AW$10:AW$200))","v":""},{"$f":"IF(AND(D75=\"w\",G75=\"U13\",I75<>\"\"),I75,\"\")","v":""},{"$f":"IF(OR(I75=\"\",AY75=\"\"),\"\",_xlfn.RANK.EQ(AY75,AY$10:AY$200))","v":""},{"$f":"IF(AND(D75=\"w\",G75=\"U14\",I75<>\"\"),I75,\"\")","v":""},{"$f":"IF(OR(I75=\"\",BA75=\"\"),\"\",_xlfn.RANK.EQ(BA75,BA$10:BA$200))","v":""},{"$f":"IF(AND(D75=\"w\",G75=\"U15\",I75<>\"\"),I75,\"\")","v":""},{"$f":"IF(OR(I75=\"\",BC75=\"\"),\"\",_xlfn.RANK.EQ(BC75,BC$10:BC$200))","v":""},{"$f":"IF(AND(D75=\"w\",G75=\"U16\",I75<>\"\"),I75,\"\")","v":""},{"$f":"IF(OR(I75=\"\",BE75=\"\"),\"\",_xlfn.RANK.EQ(BE75,BE$10:BE$200))","v":""}]
[null,{"$f":"IF(Athletenliste!B76=\"\",\"\",Athletenliste!B76)","v":""},{"$f":"IF(Athletenliste!C76=\"\",\"\",Athletenliste!C76)","v":""},{"$f":"IF(Athletenliste!D76=\"\",\"\",Athletenliste!D76)","v":""},{"$f":"IF(Athletenliste!E76=\"\",\"\",Athletenliste!E76)","v":""},{"$f":"IF(Athletenliste!F76=\"\",\"\",Athletenliste!F76)","v":""},{"$f":"IF(Athletenliste!G76=\"\",\"\",Athletenliste!G76)","v":""},{"$f":"IF(Athletenliste!H76=\"\",\"\",Athletenliste!H76)","v":""},null,{"$f":"IF(B76=\"\",\"\",IF(D76=\"m\",INDIRECT(VLOOKUP(G76,Bezüge!$E$6:$F$16,2,FALSE)&ROW(G76)),INDIRECT(VLOOKUP(G76,Bezüge!$B$6:$C$16,2,FALSE)&ROW(G76))))","v":""},null,null,null,"","","","","","","","","","","","","","","","","","","","","","",null,"","","","","","","","","","","","","","","","","","","","","",""]
[null,{"$f":"IF(Athletenliste!B77=\"\",\"\",Athletenliste!B77)","v":""},{"$f":"IF(Athletenliste!C77=\"\",\"\",Athletenliste!C77)","v":""},{"$f":"IF(Athletenliste!D77=\"\",\"\",Athletenliste!D77)","v":""},{"$f":"IF(Athletenliste!E77=\"\",\"\",Athletenliste!E77)","v":""},{"$f":"IF(Athletenliste!F77=\"\",\"\",Athletenliste!F77)","v":""},{"$f":"IF(Athletenliste!G77=\"\",\"\",Athletenliste!G77)","v":""},{"$f":"IF(Athletenliste!H77=\"\",\"\",Athletenliste!H77)","v":""},null,{"$f":"IF(B77=\"\",\"\",IF(D77=\"m\",INDIRECT(VLOOKUP(G77,Bezüge!$E$6:$F$16,2,FALSE)&ROW(G77)),INDIRECT(VLOOKUP(G77,Bezüge!$B$6:$C$16,2,FALSE)&ROW(G77))))","v":""},null,null,null,"","","","","","","","","","","","","","","","","","","","","","",null,"","","","","","","","","","","","","","","","","","","","","",""]
[null,{"$f":"IF(Athletenliste!B78=\"\",\"\",Athletenliste!B78)","v":""},{"$f":"IF(Athletenliste!C78=\"\",\"\",Athletenliste!C78)","v":""},{"$f":"IF(Athletenliste!D78=\"\",\"\",Athletenliste!D78)","v":""},{"$f":"IF(Athletenliste!E78=\"\",\"\",Athletenliste!E78)","v":""},{"$f":"IF(Athletenliste!F78=\"\",\"\",Athletenliste!F78)","v":""},{"$f":"IF(Athletenliste!G78=\"\",\"\",Athletenliste!G78)","v":""},{"$f":"IF(Athletenliste!H78=\"\",\"\",Athletenliste!H78)","v":""},null,{"$f":"IF(B78=\"\",\"\",IF(D78=\"m\",INDIRECT(VLOOKUP(G78,Bezüge!$E$6:$F$16,2,FALSE)&ROW(G78)),INDIRECT(VLOOKUP(G78,Bezüge!$B$6:$C$16,2,FALSE)&ROW(G78))))","v":""},null,null,null,"","","","","","","","","","","","","","","","","","","","","","",null,"","","","","","","","","","","","","","","","","","","","","",""]
[null,{"$f":"IF(Athletenliste!B79=\"\",\"\",Athletenliste!B79)","v":""},{"$f":"IF(Athletenliste!C79=\"\",\"\",Athletenliste!C79)","v":""},{"$f":"IF(Athletenliste!D79=\"\",\"\",Athletenliste!D79)","v":""},{"$f":"IF(Athletenliste!E79=\"\",\"\",Athletenliste!E79)","v":""},{"$f":"IF(Athletenliste!F79=\"\",\"\",Athletenliste!F79)","v":""},{"$f":"IF(Athletenliste!G79=\"\",\"\",Athletenliste!G79)","v":""},{"$f":"IF(Athletenliste!H79=\"\",\"\",Athletenliste!H79)","v":""},null,{"$f":"IF(B79=\"\",\"\",IF(D79=\"m\",INDIRECT(VLOOKUP(G79,Bezüge!$E$6:$F$16,2,FALSE)&ROW(G79)),INDIRECT(VLOOKUP(G79,Bezüge!$B$6:$C$16,2,FALSE)&ROW(G79))))","v":""},null,null,null,"","","","","","","","","","","","","","","","","","","","","","",null,"","","","","","","","","","","","","","","","","","","","","",""]
[null,{"$f":"IF(Athletenliste!B80=\"\",\"\",Athletenliste!B80)","v":""},{"$f":"IF(Athletenliste!C80=\"\",\"\",Athletenliste!C80)","v":""},{"$f":"IF(Athletenliste!D80=\"\",\"\",Athletenliste!D80)","v":""},{"$f":"IF(Athletenliste!E80=\"\",\"\",Athletenliste!E80)","v":""},{"$f":"IF(Athletenliste!F80=\"\",\"\",Athletenliste!F80)","v":""},{"$f":"IF(Athletenliste!G80=\"\",\"\",Athletenliste!G80)","v":""},{"$f":"IF(Athletenliste!H80=\"\",\"\",Athletenliste!H80)","v":""},null,{"$f":"IF(B80=\"\",\"\",IF(D80=\"m\",INDIRECT(VLOOKUP(G80,Bezüge!$E$6:$F$16,2,FALSE)&ROW(G80)),INDIRECT(VLOOKUP(G80,Bezüge!$B$6:$C$16,2,FALSE)&ROW(G80))))","v":""},null,null,null,"","","","","","","","","","","","","","","","","","","","","","",null,"","","","","","","","","","","","","","","","","","","","","",""]
[null,{"$f":"IF(Athletenliste!B81=\"\",\"\",Athletenliste!B81)","v":""},{"$f":"IF(Athletenliste!C81=\"\",\"\",Athletenliste!C81)","v":""},{"$f":"IF(Athletenliste!D81=\"\",\"\",Athletenliste!D81)","v":""},{"$f":"IF(Athletenliste!E81=\"\",\"\",Athletenliste!E81)","v":""},{"$f":"IF(Athletenliste!F81=\"\",\"\",Athletenliste!F81)","v":""},{"$f":"IF(Athletenliste!G81=\"\",\"\",Athletenliste!G81)","v":""},{"$f":"IF(Athletenliste!H81=\"\",\"\",Athletenliste!H81)","v":""},null,{"$f":"IF(B81=\"\",\"\",IF(D81=\"m\",INDIRECT(VLOOKUP(G81,Bezüge!$E$6:$F$16,2,FALSE)&ROW(G81)),INDIRECT(VLOOKUP(G81,Bezüge!$B$6:$C$16,2,FALSE)&ROW(G81))))","v":""},null,null,null,"","","","","","","","","","","","","","","","","","","","","","",null,"","","","","","","","","","","","","","","","","","","","","",""]
[null,{"$f":"IF(Athletenliste!B82=\"\",\"\",Athletenliste!B82)","v":""},{"$f":"IF(Athletenliste!C82=\"\",\"\",Athletenliste!C82)","v":""},{"$f":"IF(Athletenliste!D82=\"\",\"\",Athletenliste!D82)","v":""},{"$f":"IF(Athletenliste!E82=\"\",\"\",Athletenliste!E82)","v":""},{"$f":"IF(Athletenliste!F82=\"\",\"\",Athletenliste!F82)","v":""},{"$f":"IF(Athletenliste!G82=\"\",\"\",Athletenliste!G82)","v":""},{"$f":"IF(Athletenliste!H82=\"\",\"\",Athletenliste!H82)","v":""},null,{"$f":"IF(B82=\"\",\"\",IF(D82=\"m\",INDIRECT(VLOOKUP(G82,Bezüge!$E$6:$F$16,2,FALSE)&ROW(G82)),INDIRECT(VLOOKUP(G82,Bezüge!$B$6:$C$16,2,FALSE)&ROW(G82))))","v":""},null,null,null,"","","","","","","","","","","","","","","","","","","","","","",null,"","","","","","","","","","","","","","","","","","","","","",""]
[null,{"$f":"IF(Athletenliste!B83=\"\",\"\",Athletenliste!B83)","v":""},{"$f":"IF(Athletenliste!C83=\"\",\"\",Athletenliste!C83)","v":""},{"$f":"IF(Athletenliste!D83=\"\",\"\",Athletenliste!D83)","v":""},{"$f":"IF(Athletenliste!E83=\"\",\"\",Athletenliste!E83)","v":""},{"$f":"IF(Athletenliste!F83=\"\",\"\",Athletenliste!F83)","v":""},{"$f":"IF(Athletenliste!G83=\"\",\"\",Athletenliste!G83)","v":""},{"$f":"IF(Athletenliste!H83=\"\",\"\",Athletenliste!H83)","v":""},null,{"$f":"IF(B83=\"\",\"\",IF(D83=\"m\",INDIRECT(VLOOKUP(G83,Bezüge!$E$6:$F$16,2,FALSE)&ROW(G83)),INDIRECT(VLOOKUP(G83,Bezüge!$B$6:$C$16,2,FALSE)&ROW(G83))))","v":""},null,null,null,"","","","","","","","","","","","","","","","","","","","","","",null,"","","","","","","","","","","","","","","","","","","","","",""]
[null,{"$f":"IF(Athletenliste!B84=\"\",\"\",Athletenliste!B84)","v":""},{"$f":"IF(Athletenliste!C84=\"\",\"\",Athletenliste!C84)","v":""},{"$f":"IF(Athletenliste!D84=\"\",\"\",Athletenliste!D84)","v":""},{"$f":"IF(Athletenliste!E84=\"\",\"\",Athletenliste!E84)","v":""},{"$f":"IF(Athletenliste!F84=\"\",\"\",Athletenliste!F84)","v":""},{"$f":"IF(Athletenliste!G84=\"\",\"\",Athletenliste!G84)","v":""},{"$f":"IF(Athletenliste!H84=\"\",\"\",Athletenliste!H84)","v":""},null,{"$f":"IF(B84=\"\",\"\",IF(D84=\"m\",INDIRECT(VLOOKUP(G84,Bezüge!$E$6:$F$16,2,FALSE)&ROW(G84)),INDIRECT(VLOOKUP(G84,Bezüge!$B$6:$C$16,2,FALSE)&ROW(G84))))","v":""},null,null,null,"","","","","","","","","","","","","","","","","","","","","","",null,"","","","","","","","","","","","","","","","","","","","","",""]
[null,{"$f":"IF(Athletenliste!B85=\"\",\"\",Athletenliste!B85)","v":""},{"$f":"IF(Athletenliste!C85=\"\",\"\",Athletenliste!C85)","v":""},{"$f":"IF(Athletenliste!D85=\"\",\"\",Athletenliste!D85)","v":""},{"$f":"IF(Athletenliste!E85=\"\",\"\",Athletenliste!E85)","v":""},{"$f":"IF(Athletenliste!F85=\"\",\"\",Athletenliste!F85)","v":""},{"$f":"IF(Athletenliste!G85=\"\",\"\",Athletenliste!G85)","v":""},{"$f":"IF(Athletenliste!H85=\"\",\"\",Athletenliste!H85)","v":""},null,{"$f":"IF(B85=\"\",\"\",IF(D85=\"m\",INDIRECT(VLOOKUP(G85,Bezüge!$E$6:$F$16,2,FALSE)&ROW(G85)),INDIRECT(VLOOKUP(G85,Bezüge!$B$6:$C$16,2,FALSE)&ROW(G85))))","v":""},null,null,null,"","","","","","","","","","","","","","","","","","","","","","",null,"","","","","","","","","","","","","","","","","","","","","",""]
[null,{"$f":"IF(Athletenliste!B86=\"\",\"\",Athletenliste!B86)","v":""},{"$f":"IF(Athletenliste!C86=\"\",\"\",Athletenliste!C86)","v":""},{"$f":"IF(Athletenliste!D86=\"\",\"\",Athletenliste!D86)","v":""},{"$f":"IF(Athletenliste!E86=\"\",\"\",Athletenliste!E86)","v":""},{"$f":"IF(Athletenliste!F86=\"\",\"\",Athletenliste!F86)","v":""},{"$f":"IF(Athletenliste!G86=\"\",\"\",Athletenliste!G86)","v":""},{"$f":"IF(Athletenliste!H86=\"\",\"\",Athletenliste!H86)","v":""},null,{"$f":"IF(B86=\"\",\"\",IF(D86=\"m\",INDIRECT(VLOOKUP(G86,Bezüge!$E$6:$F$16,2,FALSE)&ROW(G86)),INDIRECT(VLOOKUP(G86,Bezüge!$B$6:$C$16,2,FALSE)&ROW(G86))))","v":""},null,null,null,"","","","","","","","","","","","","","","","","","","","","","",null,"","","","","","","","","","","","","","","","","","","","","",""]
[null,{"$f":"IF(Athletenliste!B87=\"\",\"\",Athletenliste!B87)","v":""},{"$f":"IF(Athletenliste!C87=\"\",\"\",Athletenliste!C87)","v":""},{"$f":"IF(Athletenliste!D87=\"\",\"\",Athletenliste!D87)","v":""},{"$f":"IF(Athletenliste!E87=\"\",\"\",Athletenliste!E87)","v":""},{"$f":"IF(Athletenliste!F87=\"\",\"\",Athletenliste!F87)","v":""},{"$f":"IF(Athletenliste!G87=\"\",\"\",Athletenliste!G87)","v":""},{"$f":"IF(Athletenliste!H87=\"\",\"\",Athletenliste!H87)","v":""},null,{"$f":"IF(B87=\"\",\"\",IF(D87=\"m\",INDIRECT(VLOOKUP(G87,Bezüge!$E$6:$F$16,2,FALSE)&ROW(G87)),INDIRECT(VLOOKUP(G87,Bezüge!$B$6:$C$16,2,FALSE)&ROW(G87))))","v":""},null,null,null,"","","","","","","","","","","","","","","","","","","","","","",null,"","","","","","","","","","","","","","","","","","","","","",""]
[null,{"$f":"IF(Athletenliste!B88=\"\",\"\",Athletenliste!B88)","v":""},{"$f":"IF(Athletenliste!C88=\"\",\"\",Athletenliste!C88)","v":""},{"$f":"IF(Athletenliste!D88=\"\",\"\",Athletenliste!D88)","v":""},{"$f":"IF(Athletenliste!E88=\"\",\"\",Athletenliste!E88)","v":""},{"$f":"IF(Athletenliste!F88=\"\",\"\",Athletenliste!F88)","v":""},{"$f":"IF(Athletenliste!G88=\"\",\"\",Athletenliste!G88)","v":""},{"$f":"IF(Athletenliste!H88=\"\",\"\",Athletenliste!H88)","v":""},null,{"$f":"IF(B88=\"\",\"\",IF(D88=\"m\",INDIRECT(VLOOKUP(G88,Bezüge!$E$6:$F$16,2,FALSE)&ROW(G88)),INDIRECT(VLOOKUP(G88,Bezüge!$B$6:$C$16,2,FALSE)&ROW(G88))))","v":""},null,null,null,"","","","","","","","","","","","","","","","","","","","","","",null,"","","","","","","","","","","","","","","","","","","","","",""]
[null,{"$f":"IF(Athletenliste!B89=\"\",\"\",Athletenliste!B89)","v":""},{"$f":"IF(Athletenliste!C89=\"\",\"\",Athletenliste!C89)","v":""},{"$f":"IF(Athletenliste!D89=\"\",\"\",Athletenliste!D89)","v":""},{"$f":"IF(Athletenliste!E89=\"\",\"\",Athletenliste!E89)","v":""},{"$f":"IF(Athletenliste!F89=\"\",\"\",Athletenliste!F89)","v":""},{"$f":"IF(Athletenliste!G89=\"\",\"\",Athletenliste!G89)","v":""},{"$f":"IF(Athletenliste!H89=\"\",\"\",Athletenliste!H89)","v":""},null,{"$f":"IF(B89=\"\",\"\",IF(D89=\"m\",INDIRECT(VLOOKUP(G89,Bezüge!$E$6:$F$16,2,FALSE)&ROW(G89)),INDIRECT(VLOOKUP(G89,Bezüge!$B$6:$C$16,2,FALSE)&ROW(G89))))","v":""},null,null,null,"","","","","","","","","","","","","","","","","","","","","","",null,"","","","","","","","","","","","","","","","","","","","","",""]
[null,{"$f":"IF(Athletenliste!B90=\"\",\"\",Athletenliste!B90)","v":""},{"$f":"IF(Athletenliste!C90=\"\",\"\",Athletenliste!C90)","v":""},{"$f":"IF(Athletenliste!D90=\"\",\"\",Athletenliste!D90)","v":""},{"$f":"IF(Athletenliste!E90=\"\",\"\",Athletenliste!E90)","v":""},{"$f":"IF(Athletenliste!F90=\"\",\"\",Athletenliste!F90)","v":""},{"$f":"IF(Athletenliste!G90=\"\",\"\",Athletenliste!G90)","v":""},{"$f":"IF(Athletenliste!H90=\"\",\"\",Athletenliste!H90)","v":""},null,{"$f":"IF(B90=\"\",\"\",IF(D90=\"m\",INDIRECT(VLOOKUP(G90,Bezüge!$E$6:$F$16,2,FALSE)&ROW(G90)),INDIRECT(VLOOKUP(G90,Bezüge!$B$6:$C$16,2,FALSE)&ROW(G90))))","v":""},null,null,null,"","","","","","","","","","","","","","","","","","","","","","",null,"","","","","","","","","","","","","","","","","","","","","",""]
[null,{"$f":"IF(Athletenliste!B91=\"\",\"\",Athletenliste!B91)","v":""},{"$f":"IF(Athletenliste!C91=\"\",\"\",Athletenliste!C91)","v":""},{"$f":"IF(Athletenliste!D91=\"\",\"\",Athletenliste!D91)","v":""},{"$f":"IF(Athletenliste!E91=\"\",\"\",Athletenliste!E91)","v":""},{"$f":"IF(Athletenliste!F91=\"\",\"\",Athletenliste!F91)","v":""},{"$f":"IF(Athletenliste!G91=\"\",\"\",Athletenliste!G91)","v":""},{"$f":"IF(Athletenliste!H91=\"\",\"\",Athletenliste!H91)","v":""},null,{"$f":"IF(B91=\"\",\"\",IF(D91=\"m\",INDIRECT(VLOOKUP(G91,Bezüge!$E$6:$F$16,2,FALSE)&ROW(G91)),INDIRECT(VLOOKUP(G91,Bezüge!$B$6:$C$16,2,FALSE)&ROW(G91))))","v":""},null,null,null,"","","","","","","","","","","","","","","","","","","","","","",null,"","","","","","","","","","","","","","","","","","","","","",""]
[null,{"$f":"IF(Athletenliste!B92=\"\",\"\",Athletenliste!B92)","v":""},{"$f":"IF(Athletenliste!C92=\"\",\"\",Athletenliste!C92)","v":""},{"$f":"IF(Athletenliste!D92=\"\",\"\",Athletenliste!D92)","v":""},{"$f":"IF(Athletenliste!E92=\"\",\"\",Athletenliste!E92)","v":""},{"$f":"IF(Athletenliste!F92=\"\",\"\",Athletenliste!F92)","v":""},{"$f":"IF(Athletenliste!G92=\"\",\"\",Athletenliste!G92)","v":""},{"$f":"IF(Athletenliste!H92=\"\",\"\",Athletenliste!H92)","v":""},null,{"$f":"IF(B92=\"\",\"\",IF(D92=\"m\",INDIRECT(VLOOKUP(G92,Bezüge!$E$6:$F$16,2,FALSE)&ROW(G92)),INDIRECT(VLOOKUP(G92,Bezüge!$B$6:$C$16,2,FALSE)&ROW(G92))))","v":""},null,null,null,"","","","","","","","","","","","","","","","","","","","","","",null,"","","","","","","","","","","","","","","","","","","","","",""]
[null,{"$f":"IF(Athletenliste!B93=\"\",\"\",Athletenliste!B93)","v":""},{"$f":"IF(Athletenliste!C93=\"\",\"\",Athletenliste!C93)","v":""},{"$f":"IF(Athletenliste!D93=\"\",\"\",Athletenliste!D93)","v":""},{"$f":"IF(Athletenliste!E93=\"\",\"\",Athletenliste!E93)","v":""},{"$f":"IF(Athletenliste!F93=\"\",\"\",Athletenliste!F93)","v":""},{"$f":"IF(Athletenliste!G93=\"\",\"\",Athletenliste!G93)","v":""},{"$f":"IF(Athletenliste!H93=\"\",\"\",Athletenliste!H93)","v":""},null,{"$f":"IF(B93=\"\",\"\",IF(D93=\"m\",INDIRECT(VLOOKUP(G93,Bezüge!$E$6:$F$16,2,FALSE)&ROW(G93)),INDIRECT(VLOOKUP(G93,Bezüge!$B$6:$C$16,2,FALSE)&ROW(G93))))","v":""},null,null,null,"","","","","","","","","","","","","","","","","","","","","","",null,"","","","","","","","","","","","","","","","","","","","","",""]
[null,{"$f":"IF(Athletenliste!B94=\"\",\"\",Athletenliste!B94)","v":""},{"$f":"IF(Athletenliste!C94=\"\",\"\",Athletenliste!C94)","v":""},{"$f":"IF(Athletenliste!D94=\"\",\"\",Athletenliste!D94)","v":""},{"$f":"IF(Athletenliste!E94=\"\",\"\",Athletenliste!E94)","v":""},{"$f":"IF(Athletenliste!F94=\"\",\"\",Athletenliste!F94)","v":""},{"$f":"IF(Athletenliste!G94=\"\",\"\",Athletenliste!G94)","v":""},{"$f":"IF(Athletenliste!H94=\"\",\"\",Athletenliste!H94)","v":""},null,{"$f":"IF(B94=\"\",\"\",IF(D94=\"m\",INDIRECT(VLOOKUP(G94,Bezüge!$E$6:$F$16,2,FALSE)&ROW(G94)),INDIRECT(VLOOKUP(G94,Bezüge!$B$6:$C$16,2,FALSE)&ROW(G94))))","v":""},null,null,null,"","","","","","","","","","","","","","","","","","","","","","",null,"","","","","","","","","","","","","","","","","","","","","",""]
[null,{"$f":"IF(Athletenliste!B95=\"\",\"\",Athletenliste!B95)","v":""},{"$f":"IF(Athletenliste!C95=\"\",\"\",Athletenliste!C95)","v":""},{"$f":"IF(Athletenliste!D95=\"\",\"\",Athletenliste!D95)","v":""},{"$f":"IF(Athletenliste!E95=\"\",\"\",Athletenliste!E95)","v":""},{"$f":"IF(Athletenliste!F95=\"\",\"\",Athletenliste!F95)","v":""},{"$f":"IF(Athletenliste!G95=\"\",\"\",Athletenliste!G95)","v":""},{"$f":"IF(Athletenliste!H95=\"\",\"\",Athletenliste!H95)","v":""},null,{"$f":"IF(B95=\"\",\"\",IF(D95=\"m\",INDIRECT(VLOOKUP(G95,Bezüge!$E$6:$F$16,2,FALSE)&ROW(G95)),INDIRECT(VLOOKUP(G95,Bezüge!$B$6:$C$16,2,FALSE)&ROW(G95))))","v":""},null,null,null,"","","","","","","","","","","","","","","","","","","","","","",null,"","","","","","","","","","","","","","","","","","","","","",""]
[null,{"$f":"IF(Athletenliste!B96=\"\",\"\",Athletenliste!B96)","v":""},{"$f":"IF(Athletenliste!C96=\"\",\"\",Athletenliste!C96)","v":""},{"$f":"IF(Athletenliste!D96=\"\",\"\",Athletenliste!D96)","v":""},{"$f":"IF(Athletenliste!E96=\"\",\"\",Athletenliste!E96)","v":""},{"$f":"IF(Athletenliste!F96=\"\",\"\",Athletenliste!F96)","v":""},{"$f":"IF(Athletenliste!G96=\"\",\"\",Athletenliste!G96)","v":""},{"$f":"IF(Athletenliste!H96=\"\",\"\",Athletenliste!H96)","v":""},null,{"$f":"IF(B96=\"\",\"\",IF(D96=\"m\",INDIRECT(VLOOKUP(G96,Bezüge!$E$6:$F$16,2,FALSE)&ROW(G96)),INDIRECT(VLOOKUP(G96,Bezüge!$B$6:$C$16,2,FALSE)&ROW(G96))))","v":""},null,null,null,"","","","","","","","","","","","","","","","","","","","","","",null,"","","","","","","","","","","","","","","","","","","","","",""]
[null,{"$f":"IF(Athletenliste!B97=\"\",\"\",Athletenliste!B97)","v":""},{"$f":"IF(Athletenliste!C97=\"\",\"\",Athletenliste!C97)","v":""},{"$f":"IF(Athletenliste!D97=\"\",\"\",Athletenliste!D97)","v":""},{"$f":"IF(Athletenliste!E97=\"\",\"\",Athletenliste!E97)","v":""},{"$f":"IF(Athletenliste!F97=\"\",\"\",Athletenliste!F97)","v":""},{"$f":"IF(Athletenliste!G97=\"\",\"\",Athletenliste!G97)","v":""},{"$f":"IF(Athletenliste!H97=\"\",\"\",Athletenliste!H97)","v":""},null,{"$f":"IF(B97=\"\",\"\",IF(D97=\"m\",INDIRECT(VLOOKUP(G97,Bezüge!$E$6:$F$16,2,FALSE)&ROW(G97)),INDIRECT(VLOOKUP(G97,Bezüge!$B$6:$C$16,2,FALSE)&ROW(G97))))","v":""},null,null,null,"","","","","","","","","","","","","","","","","","","","","","",null,"","","","","","","","","","","","","","","","","","","","","",""]
[null,{"$f":"IF(Athletenliste!B98=\"\",\"\",Athletenliste!B98)","v":""},{"$f":"IF(Athletenliste!C98=\"\",\"\",Athletenliste!C98)","v":""},{"$f":"IF(Athletenliste!D98=\"\",\"\",Athletenliste!D98)","v":""},{"$f":"IF(Athletenliste!E98=\"\",\"\",Athletenliste!E98)","v":""},{"$f":"IF(Athletenliste!F98=\"\",\"\",Athletenliste!F98)","v":""},{"$f":"IF(Athletenliste!G98=\"\",\"\",Athletenliste!G98)","v":""},{"$f":"IF(Athletenliste!H98=\"\",\"\",Athletenliste!H98)","v":""},null,{"$f":"IF(B98=\"\",\"\",IF(D98=\"m\",INDIRECT(VLOOKUP(G98,Bezüge!$E$6:$F$16,2,FALSE)&ROW(G98)),INDIRECT(VLOOKUP(G98,Bezüge!$B$6:$C$16,2,FALSE)&ROW(G98))))","v":""},null,null,null,"","","","","","","","","","","","","","","","","","","","","","",null,"","","","","","","","","","","","","","","","","","","","","",""]
[null,{"$f":"IF(Athletenliste!B99=\"\",\"\",Athletenliste!B99)","v":""},{"$f":"IF(Athletenliste!C99=\"\",\"\",Athletenliste!C99)","v":""},{"$f":"IF(Athletenliste!D99=\"\",\"\",Athletenliste!D99)","v":""},{"$f":"IF(Athletenliste!E99=\"\",\"\",Athletenliste!E99)","v":""},{"$f":"IF(Athletenliste!F99=\"\",\"\",Athletenliste!F99)","v":""},{"$f":"IF(Athletenliste!G99=\"\",\"\",Athletenliste!G99)","v":""},{"$f":"IF(Athletenliste!H99=\"\",\"\",Athletenliste!H99)","v":""},null,{"$f":"IF(B99=\"\",\"\",IF(D99=\"m\",INDIRECT(VLOOKUP(G99,Bezüge!$E$6:$F$16,2,FALSE)&ROW(G99)),INDIRECT(VLOOKUP(G99,Bezüge!$B$6:$C$16,2,FALSE)&ROW(G99))))","v":""},null,null,null,"","","","","","","","","","","","","","","","","","","","","","",null,"","","","","","","","","","","","","","","","","","","","","",""]
[null,{"$f":"IF(Athletenliste!B100=\"\",\"\",Athletenliste!B100)","v":""},{"$f":"IF(Athletenliste!C100=\"\",\"\",Athletenliste!C100)","v":""},{"$f":"IF(Athletenliste!D100=\"\",\"\",Athletenliste!D100)","v":""},{"$f":"IF(Athletenliste!E100=\"\",\"\",Athletenliste!E100)","v":""},{"$f":"IF(Athletenliste!F100=\"\",\"\",Athletenliste!F100)","v":""},{"$f":"IF(Athletenliste!G100=\"\",\"\",Athletenliste!G100)","v":""},{"$f":"IF(Athletenliste!H100=\"\",\"\",Athletenliste!H100)","v":""},null,{"$f":"IF(B100=\"\",\"\",IF(D100=\"m\",INDIRECT(VLOOKUP(G100,Bezüge!$E$6:$F$16,2,FALSE)&ROW(G100)),INDIRECT(VLOOKUP(G100,Bezüge!$B$6:$C$16,2,FALSE)&ROW(G100))))","v":""},null,null,null,"","","","","","","","","","","","","","","","","","","","","","",null,"","","","","","","","","","","","","","","","","","","","","",""]
[null,{"$f":"IF(Athletenliste!B101=\"\",\"\",Athletenliste!B101)","v":""},{"$f":"IF(Athletenliste!C101=\"\",\"\",Athletenliste!C101)","v":""},{"$f":"IF(Athletenliste!D101=\"\",\"\",Athletenliste!D101)","v":""},{"$f":"IF(Athletenliste!E101=\"\",\"\",Athletenliste!E101)","v":""},{"$f":"IF(Athletenliste!F101=\"\",\"\",Athletenliste!F101)","v":""},{"$f":"IF(Athletenliste!G101=\"\",\"\",Athletenliste!G101)","v":""},{"$f":"IF(Athletenliste!H101=\"\",\"\",Athletenliste!H101)","v":""},null,{"$f":"IF(B101=\"\",\"\",IF(D101=\"m\",INDIRECT(VLOOKUP(G101,Bezüge!$E$6:$F$16,2,FALSE)&ROW(G101)),INDIRECT(VLOOKUP(G101,Bezüge!$B$6:$C$16,2,FALSE)&ROW(G101))))","v":""},null,null,null,"","","","","","","","","","","","","","","","","","","","","","",null,"","","","","","","","","","","","","","","","","","","","","",""]
[null,{"$f":"IF(Athletenliste!B102=\"\",\"\",Athletenliste!B102)","v":""},{"$f":"IF(Athletenliste!C102=\"\",\"\",Athletenliste!C102)","v":""},{"$f":"IF(Athletenliste!D102=\"\",\"\",Athletenliste!D102)","v":""},{"$f":"IF(Athletenliste!E102=\"\",\"\",Athletenliste!E102)","v":""},{"$f":"IF(Athletenliste!F102=\"\",\"\",Athletenliste!F102)","v":""},{"$f":"IF(Athletenliste!G102=\"\",\"\",Athletenliste!G102)","v":""},{"$f":"IF(Athletenliste!H102=\"\",\"\",Athletenliste!H102)","v":""},null,{"$f":"IF(B102=\"\",\"\",IF(D102=\"m\",INDIRECT(VLOOKUP(G102,Bezüge!$E$6:$F$16,2,FALSE)&ROW(G102)),INDIRECT(VLOOKUP(G102,Bezüge!$B$6:$C$16,2,FALSE)&ROW(G102))))","v":""},null,null,null,"","","","","","","","","","","","","","","","","","","","","","",null,"","","","","","","","","","","","","","","","","","","","","",""]
[null,{"$f":"IF(Athletenliste!B103=\"\",\"\",Athletenliste!B103)","v":""},{"$f":"IF(Athletenliste!C103=\"\",\"\",Athletenliste!C103)","v":""},{"$f":"IF(Athletenliste!D103=\"\",\"\",Athletenliste!D103)","v":""},{"$f":"IF(Athletenliste!E103=\"\",\"\",Athletenliste!E103)","v":""},{"$f":"IF(Athletenliste!F103=\"\",\"\",Athletenliste!F103)","v":""},{"$f":"IF(Athletenliste!G103=\"\",\"\",Athletenliste!G103)","v":""},{"$f":"IF(Athletenliste!H103=\"\",\"\",Athletenliste!H103)","v":""},null,{"$f":"IF(B103=\"\",\"\",IF(D103=\"m\",INDIRECT(VLOOKUP(G103,Bezüge!$E$6:$F$16,2,FALSE)&ROW(G103)),INDIRECT(VLOOKUP(G103,Bezüge!$B$6:$C$16,2,FALSE)&ROW(G103))))","v":""},null,null,null,"","","","","","","","","","","","","","","","","","","","","","",null,"","","","","","","","","","","","","","","","","","","","","",""]
[null,{"$f":"IF(Athletenliste!B104=\"\",\"\",Athletenliste!B104)","v":""},{"$f":"IF(Athletenliste!C104=\"\",\"\",Athletenliste!C104)","v":""},{"$f":"IF(Athletenliste!D104=\"\",\"\",Athletenliste!D104)","v":""},{"$f":"IF(Athletenliste!E104=\"\",\"\",Athletenliste!E104)","v":""},{"$f":"IF(Athletenliste!F104=\"\",\"\",Athletenliste!F104)","v":""},{"$f":"IF(Athletenliste!G104=\"\",\"\",Athletenliste!G104)","v":""},{"$f":"IF(Athletenliste!H104=\"\",\"\",Athletenliste!H104)","v":""},null,{"$f":"IF(B104=\"\",\"\",IF(D104=\"m\",INDIRECT(VLOOKUP(G104,Bezüge!$E$6:$F$16,2,FALSE)&ROW(G104)),INDIRECT(VLOOKUP(G104,Bezüge!$B$6:$C$16,2,FALSE)&ROW(G104))))","v":""},null,null,null,"","","","","","","","","","","","","","","","","","","","","","",null,"","","","","","","","","","","","","","","","","","","","","",""]
[null,{"$f":"IF(Athletenliste!B105=\"\",\"\",Athletenliste!B105)","v":""},{"$f":"IF(Athletenliste!C105=\"\",\"\",Athletenliste!C105)","v":""},{"$f":"IF(Athletenliste!D105=\"\",\"\",Athletenliste!D105)","v":""},{"$f":"IF(Athletenliste!E105=\"\",\"\",Athletenliste!E105)","v":""},{"$f":"IF(Athletenliste!F105=\"\",\"\",Athletenliste!F105)","v":""},{"$f":"IF(Athletenliste!G105=\"\",\"\",Athletenliste!G105)","v":""},{"$f":"IF(Athletenliste!H105=\"\",\"\",Athletenliste!H105)","v":""},null,{"$f":"IF(B105=\"\",\"\",IF(D105=\"m\",INDIRECT(VLOOKUP(G105,Bezüge!$E$6:$F$16,2,FALSE)&ROW(G105)),INDIRECT(VLOOKUP(G105,Bezüge!$B$6:$C$16,2,FALSE)&ROW(G105))))","v":""},null,null,null,"","","","","","","","","","","","","","","","","","","","","","",null,"","","","","","","","","","","","","","","","","","","","","",""]
[null,{"$f":"IF(Athletenliste!B106=\"\",\"\",Athletenliste!B106)","v":""},{"$f":"IF(Athletenliste!C106=\"\",\"\",Athletenliste!C106)","v":""},{"$f":"IF(Athletenliste!D106=\"\",\"\",Athletenliste!D106)","v":""},{"$f":"IF(Athletenliste!E106=\"\",\"\",Athletenliste!E106)","v":""},{"$f":"IF(Athletenliste!F106=\"\",\"\",Athletenliste!F106)","v":""},{"$f":"IF(Athletenliste!G106=\"\",\"\",Athletenliste!G106)","v":""},{"$f":"IF(Athletenliste!H106=\"\",\"\",Athletenliste!H106)","v":""},null,{"$f":"IF(B106=\"\",\"\",IF(D106=\"m\",INDIRECT(VLOOKUP(G106,Bezüge!$E$6:$F$16,2,FALSE)&ROW(G106)),INDIRECT(VLOOKUP(G106,Bezüge!$B$6:$C$16,2,FALSE)&ROW(G106))))","v":""},null,null,null,"","","","","","","","","","","","","","","","","","","","","","",null,"","","","","","","","","","","","","","","","","","","","","",""]
[null,{"$f":"IF(Athletenliste!B107=\"\",\"\",Athletenliste!B107)","v":""},{"$f":"IF(Athletenliste!C107=\"\",\"\",Athletenliste!C107)","v":""},{"$f":"IF(Athletenliste!D107=\"\",\"\",Athletenliste!D107)","v":""},{"$f":"IF(Athletenliste!E107=\"\",\"\",Athletenliste!E107)","v":""},{"$f":"IF(Athletenliste!F107=\"\",\"\",Athletenliste!F107)","v":""},{"$f":"IF(Athletenliste!G107=\"\",\"\",Athletenliste!G107)","v":""},{"$f":"IF(Athletenliste!H107=\"\",\"\",Athletenliste!H107)","v":""},null,{"$f":"IF(B107=\"\",\"\",IF(D107=\"m\",INDIRECT(VLOOKUP(G107,Bezüge!$E$6:$F$16,2,FALSE)&ROW(G107)),INDIRECT(VLOOKUP(G107,Bezüge!$B$6:$C$16,2,FALSE)&ROW(G107))))","v":""},null,null,null,"","","","","","","","","","","","","","","","","","","","","","",null,"","","","","","","","","","","","","","","","","","","","","",""]
[null,{"$f":"IF(Athletenliste!B108=\"\",\"\",Athletenliste!B108)","v":""},{"$f":"IF(Athletenliste!C108=\"\",\"\",Athletenliste!C108)","v":""},{"$f":"IF(Athletenliste!D108=\"\",\"\",Athletenliste!D108)","v":""},{"$f":"IF(Athletenliste!E108=\"\",\"\",Athletenliste!E108)","v":""},{"$f":"IF(Athletenliste!F108=\"\",\"\",Athletenliste!F108)","v":""},{"$f":"IF(Athletenliste!G108=\"\",\"\",Athletenliste!G108)","v":""},{"$f":"IF(Athletenliste!H108=\"\",\"\",Athletenliste!H108)","v":""},null,{"$f":"IF(B108=\"\",\"\",IF(D108=\"m\",INDIRECT(VLOOKUP(G108,Bezüge!$E$6:$F$16,2,FALSE)&ROW(G108)),INDIRECT(VLOOKUP(G108,Bezüge!$B$6:$C$16,2,FALSE)&ROW(G108))))","v":""},null,null,null,"","","","","","","","","","","","","","","","","","","","","","",null,"","","","","","","","","","","","","","","","","","","","","",""]
[null,{"$f":"IF(Athletenliste!B109=\"\",\"\",Athletenliste!B109)","v":""},{"$f":"IF(Athletenliste!C109=\"\",\"\",Athletenliste!C109)","v":""},{"$f":"IF(Athletenliste!D109=\"\",\"\",Athletenliste!D109)","v":""},{"$f":"IF(Athletenliste!E109=\"\",\"\",Athletenliste!E109)","v":""},{"$f":"IF(Athletenliste!F109=\"\",\"\",Athletenliste!F109)","v":""},{"$f":"IF(Athletenliste!G109=\"\",\"\",Athletenliste!G109)","v":""},{"$f":"IF(Athletenliste!H109=\"\",\"\",Athletenliste!H109)","v":""},null,{"$f":"IF(B109=\"\",\"\",IF(D109=\"m\",INDIRECT(VLOOKUP(G109,Bezüge!$E$6:$F$16,2,FALSE)&ROW(G109)),INDIRECT(VLOOKUP(G109,Bezüge!$B$6:$C$16,2,FALSE)&ROW(G109))))","v":""},null,null,null,"","","","","","","","","","","","","","","","","","","","","","",null,"","","","","","","","","","","","","","","","","","","","","",""]
[null,{"$f":"IF(Athletenliste!B110=\"\",\"\",Athletenliste!B110)","v":""},{"$f":"IF(Athletenliste!C110=\"\",\"\",Athletenliste!C110)","v":""},{"$f":"IF(Athletenliste!D110=\"\",\"\",Athletenliste!D110)","v":""},{"$f":"IF(Athletenliste!E110=\"\",\"\",Athletenliste!E110)","v":""},{"$f":"IF(Athletenliste!F110=\"\",\"\",Athletenliste!F110)","v":""},{"$f":"IF(Athletenliste!G110=\"\",\"\",Athletenliste!G110)","v":""},{"$f":"IF(Athletenliste!H110=\"\",\"\",Athletenliste!H110)","v":""},null,{"$f":"IF(B110=\"\",\"\",IF(D110=\"m\",INDIRECT(VLOOKUP(G110,Bezüge!$E$6:$F$16,2,FALSE)&ROW(G110)),INDIRECT(VLOOKUP(G110,Bezüge!$B$6:$C$16,2,FALSE)&ROW(G110))))","v":""},null,null,null,"","","","","","","","","","","","","","","","","","","","","","",null,"","","","","","","","","","","","","","","","","","","","","",""]
[null,{"$f":"IF(Athletenliste!B111=\"\",\"\",Athletenliste!B111)","v":""},{"$f":"IF(Athletenliste!C111=\"\",\"\",Athletenliste!C111)","v":""},{"$f":"IF(Athletenliste!D111=\"\",\"\",Athletenliste!D111)","v":""},{"$f":"IF(Athletenliste!E111=\"\",\"\",Athletenliste!E111)","v":""},{"$f":"IF(Athletenliste!F111=\"\",\"\",Athletenliste!F111)","v":""},{"$f":"IF(Athletenliste!G111=\"\",\"\",Athletenliste!G111)","v":""},{"$f":"IF(Athletenliste!H111=\"\",\"\",Athletenliste!H111)","v":""},null,{"$f":"IF(B111=\"\",\"\",IF(D111=\"m\",INDIRECT(VLOOKUP(G111,Bezüge!$E$6:$F$16,2,FALSE)&ROW(G111)),INDIRECT(VLOOKUP(G111,Bezüge!$B$6:$C$16,2,FALSE)&ROW(G111))))","v":""},null,null,null,"","","","","","","","","","","","","","","","","","","","","","",null,"","","","","","","","","","","","","","","","","","","","","",""]
[null,{"$f":"IF(Athletenliste!B112=\"\",\"\",Athletenliste!B112)","v":""},{"$f":"IF(Athletenliste!C112=\"\",\"\",Athletenliste!C112)","v":""},{"$f":"IF(Athletenliste!D112=\"\",\"\",Athletenliste!D112)","v":""},{"$f":"IF(Athletenliste!E112=\"\",\"\",Athletenliste!E112)","v":""},{"$f":"IF(Athletenliste!F112=\"\",\"\",Athletenliste!F112)","v":""},{"$f":"IF(Athletenliste!G112=\"\",\"\",Athletenliste!G112)","v":""},{"$f":"IF(Athletenliste!H112=\"\",\"\",Athletenliste!H112)","v":""},null,{"$f":"IF(B112=\"\",\"\",IF(D112=\"m\",INDIRECT(VLOOKUP(G112,Bezüge!$E$6:$F$16,2,FALSE)&ROW(G112)),INDIRECT(VLOOKUP(G112,Bezüge!$B$6:$C$16,2,FALSE)&ROW(G112))))","v":""},null,null,null,"","","","","","","","","","","","","","","","","","","","","","",null,"","","","","","","","","","","","","","","","","","","","","",""]
[null,{"$f":"IF(Athletenliste!B113=\"\",\"\",Athletenliste!B113)","v":""},{"$f":"IF(Athletenliste!C113=\"\",\"\",Athletenliste!C113)","v":""},{"$f":"IF(Athletenliste!D113=\"\",\"\",Athletenliste!D113)","v":""},{"$f":"IF(Athletenliste!E113=\"\",\"\",Athletenliste!E113)","v":""},{"$f":"IF(Athletenliste!F113=\"\",\"\",Athletenliste!F113)","v":""},{"$f":"IF(Athletenliste!G113=\"\",\"\",Athletenliste!G113)","v":""},{"$f":"IF(Athletenliste!H113=\"\",\"\",Athletenliste!H113)","v":""},null,{"$f":"IF(B113=\"\",\"\",IF(D113=\"m\",INDIRECT(VLOOKUP(G113,Bezüge!$E$6:$F$16,2,FALSE)&ROW(G113)),INDIRECT(VLOOKUP(G113,Bezüge!$B$6:$C$16,2,FALSE)&ROW(G113))))","v":""},null,null,null,"","","","","","","","","","","","","","","","","","","","","","",null,"","","","","","","","","","","","","","","","","","","","","",""]
[null,{"$f":"IF(Athletenliste!B114=\"\",\"\",Athletenliste!B114)","v":""},{"$f":"IF(Athletenliste!C114=\"\",\"\",Athletenliste!C114)","v":""},{"$f":"IF(Athletenliste!D114=\"\",\"\",Athletenliste!D114)","v":""},{"$f":"IF(Athletenliste!E114=\"\",\"\",Athletenliste!E114)","v":""},{"$f":"IF(Athletenliste!F114=\"\",\"\",Athletenliste!F114)","v":""},{"$f":"IF(Athletenliste!G114=\"\",\"\",Athletenliste!G114)","v":""},{"$f":"IF(Athletenliste!H114=\"\",\"\",Athletenliste!H114)","v":""},null,{"$f":"IF(B114=\"\",\"\",IF(D114=\"m\",INDIRECT(VLOOKUP(G114,Bezüge!$E$6:$F$16,2,FALSE)&ROW(G114)),INDIRECT(VLOOKUP(G114,Bezüge!$B$6:$C$16,2,FALSE)&ROW(G114))))","v":""},null,null,null,"","","","","","","","","","","","","","","","","","","","","","",null,"","","","","","","","","","","","","","","","","","","","","",""]
[null,{"$f":"IF(Athletenliste!B115=\"\",\"\",Athletenliste!B115)","v":""},{"$f":"IF(Athletenliste!C115=\"\",\"\",Athletenliste!C115)","v":""},{"$f":"IF(Athletenliste!D115=\"\",\"\",Athletenliste!D115)","v":""},{"$f":"IF(Athletenliste!E115=\"\",\"\",Athletenliste!E115)","v":""},{"$f":"IF(Athletenliste!F115=\"\",\"\",Athletenliste!F115)","v":""},{"$f":"IF(Athletenliste!G115=\"\",\"\",Athletenliste!G115)","v":""},{"$f":"IF(Athletenliste!H115=\"\",\"\",Athletenliste!H115)","v":""},null,{"$f":"IF(B115=\"\",\"\",IF(D115=\"m\",INDIRECT(VLOOKUP(G115,Bezüge!$E$6:$F$16,2,FALSE)&ROW(G115)),INDIRECT(VLOOKUP(G115,Bezüge!$B$6:$C$16,2,FALSE)&ROW(G115))))","v":""},null,null,null,"","","","","","","","","","","","","","","","","","","","","","",null,"","","","","","","","","","","","","","","","","","","","","",""]
[null,{"$f":"IF(Athletenliste!B116=\"\",\"\",Athletenliste!B116)","v":""},{"$f":"IF(Athletenliste!C116=\"\",\"\",Athletenliste!C116)","v":""},{"$f":"IF(Athletenliste!D116=\"\",\"\",Athletenliste!D116)","v":""},{"$f":"IF(Athletenliste!E116=\"\",\"\",Athletenliste!E116)","v":""},{"$f":"IF(Athletenliste!F116=\"\",\"\",Athletenliste!F116)","v":""},{"$f":"IF(Athletenliste!G116=\"\",\"\",Athletenliste!G116)","v":""},{"$f":"IF(Athletenliste!H116=\"\",\"\",Athletenliste!H116)","v":""},null,{"$f":"IF(B116=\"\",\"\",IF(D116=\"m\",INDIRECT(VLOOKUP(G116,Bezüge!$E$6:$F$16,2,FALSE)&ROW(G116)),INDIRECT(VLOOKUP(G116,Bezüge!$B$6:$C$16,2,FALSE)&ROW(G116))))","v":""},null,null,null,"","","","","","","","","","","","","","","","","","","","","","",null,"","","","","","","","","","","","","","","","","","","","","",""]
[null,{"$f":"IF(Athletenliste!B117=\"\",\"\",Athletenliste!B117)","v":""},{"$f":"IF(Athletenliste!C117=\"\",\"\",Athletenliste!C117)","v":""},{"$f":"IF(Athletenliste!D117=\"\",\"\",Athletenliste!D117)","v":""},{"$f":"IF(Athletenliste!E117=\"\",\"\",Athletenliste!E117)","v":""},{"$f":"IF(Athletenliste!F117=\"\",\"\",Athletenliste!F117)","v":""},{"$f":"IF(Athletenliste!G117=\"\",\"\",Athletenliste!G117)","v":""},{"$f":"IF(Athletenliste!H117=\"\",\"\",Athletenliste!H117)","v":""},null,{"$f":"IF(B117=\"\",\"\",IF(D117=\"m\",INDIRECT(VLOOKUP(G117,Bezüge!$E$6:$F$16,2,FALSE)&ROW(G117)),INDIRECT(VLOOKUP(G117,Bezüge!$B$6:$C$16,2,FALSE)&ROW(G117))))","v":""},null,null,null,"","","","","","","","","","","","","","","","","","","","","","",null,"","","","","","","","","","","","","","","","","","","","","",""]
[null,{"$f":"IF(Athletenliste!B118=\"\",\"\",Athletenliste!B118)","v":""},{"$f":"IF(Athletenliste!C118=\"\",\"\",Athletenliste!C118)","v":""},{"$f":"IF(Athletenliste!D118=\"\",\"\",Athletenliste!D118)","v":""},{"$f":"IF(Athletenliste!E118=\"\",\"\",Athletenliste!E118)","v":""},{"$f":"IF(Athletenliste!F118=\"\",\"\",Athletenliste!F118)","v":""},{"$f":"IF(Athletenliste!G118=\"\",\"\",Athletenliste!G118)","v":""},{"$f":"IF(Athletenliste!H118=\"\",\"\",Athletenliste!H118)","v":""},null,{"$f":"IF(B118=\"\",\"\",IF(D118=\"m\",INDIRECT(VLOOKUP(G118,Bezüge!$E$6:$F$16,2,FALSE)&ROW(G118)),INDIRECT(VLOOKUP(G118,Bezüge!$B$6:$C$16,2,FALSE)&ROW(G118))))","v":""},null,null,null,"","","","","","","","","","","","","","","","","","","","","","",null,"","","","","","","","","","","","","","","","","","","","","",""]
[null,{"$f":"IF(Athletenliste!B119=\"\",\"\",Athletenliste!B119)","v":""},{"$f":"IF(Athletenliste!C119=\"\",\"\",Athletenliste!C119)","v":""},{"$f":"IF(Athletenliste!D119=\"\",\"\",Athletenliste!D119)","v":""},{"$f":"IF(Athletenliste!E119=\"\",\"\",Athletenliste!E119)","v":""},{"$f":"IF(Athletenliste!F119=\"\",\"\",Athletenliste!F119)","v":""},{"$f":"IF(Athletenliste!G119=\"\",\"\",Athletenliste!G119)","v":""},{"$f":"IF(Athletenliste!H119=\"\",\"\",Athletenliste!H119)","v":""},null,{"$f":"IF(B119=\"\",\"\",IF(D119=\"m\",INDIRECT(VLOOKUP(G119,Bezüge!$E$6:$F$16,2,FALSE)&ROW(G119)),INDIRECT(VLOOKUP(G119,Bezüge!$B$6:$C$16,2,FALSE)&ROW(G119))))","v":""},null,null,null,"","","","","","","","","","","","","","","","","","","","","","",null,"","","","","","","","","","","","","","","","","","","","","",""]
[null,{"$f":"IF(Athletenliste!B120=\"\",\"\",Athletenliste!B120)","v":""},{"$f":"IF(Athletenliste!C120=\"\",\"\",Athletenliste!C120)","v":""},{"$f":"IF(Athletenliste!D120=\"\",\"\",Athletenliste!D120)","v":""},{"$f":"IF(Athletenliste!E120=\"\",\"\",Athletenliste!E120)","v":""},{"$f":"IF(Athletenliste!F120=\"\",\"\",Athletenliste!F120)","v":""},{"$f":"IF(Athletenliste!G120=\"\",\"\",Athletenliste!G120)","v":""},{"$f":"IF(Athletenliste!H120=\"\",\"\",Athletenliste!H120)","v":""},null,{"$f":"IF(B120=\"\",\"\",IF(D120=\"m\",INDIRECT(VLOOKUP(G120,Bezüge!$E$6:$F$16,2,FALSE)&ROW(G120)),INDIRECT(VLOOKUP(G120,Bezüge!$B$6:$C$16,2,FALSE)&ROW(G120))))","v":""},null,null,null,"","","","","","","","","","","","","","","","","","","","","","",null,"","","","","","","","","","","","","","","","","","","","","",""]
[null,{"$f":"IF(Athletenliste!B121=\"\",\"\",Athletenliste!B121)","v":""},{"$f":"IF(Athletenliste!C121=\"\",\"\",Athletenliste!C121)","v":""},{"$f":"IF(Athletenliste!D121=\"\",\"\",Athletenliste!D121)","v":""},{"$f":"IF(Athletenliste!E121=\"\",\"\",Athletenliste!E121)","v":""},{"$f":"IF(Athletenliste!F121=\"\",\"\",Athletenliste!F121)","v":""},{"$f":"IF(Athletenliste!G121=\"\",\"\",Athletenliste!G121)","v":""},{"$f":"IF(Athletenliste!H121=\"\",\"\",Athletenliste!H121)","v":""},null,{"$f":"IF(B121=\"\",\"\",IF(D121=\"m\",INDIRECT(VLOOKUP(G121,Bezüge!$E$6:$F$16,2,FALSE)&ROW(G121)),INDIRECT(VLOOKUP(G121,Bezüge!$B$6:$C$16,2,FALSE)&ROW(G121))))","v":""},null,null,null,"","","","","","","","","","","","","","","","","","","","","","",null,"","","","","","","","","","","","","","","","","","","","","",""]
[null,{"$f":"IF(Athletenliste!B122=\"\",\"\",Athletenliste!B122)","v":""},{"$f":"IF(Athletenliste!C122=\"\",\"\",Athletenliste!C122)","v":""},{"$f":"IF(Athletenliste!D122=\"\",\"\",Athletenliste!D122)","v":""},{"$f":"IF(Athletenliste!E122=\"\",\"\",Athletenliste!E122)","v":""},{"$f":"IF(Athletenliste!F122=\"\",\"\",Athletenliste!F122)","v":""},{"$f":"IF(Athletenliste!G122=\"\",\"\",Athletenliste!G122)","v":""},{"$f":"IF(Athletenliste!H122=\"\",\"\",Athletenliste!H122)","v":""},null,{"$f":"IF(B122=\"\",\"\",IF(D122=\"m\",INDIRECT(VLOOKUP(G122,Bezüge!$E$6:$F$16,2,FALSE)&ROW(G122)),INDIRECT(VLOOKUP(G122,Bezüge!$B$6:$C$16,2,FALSE)&ROW(G122))))","v":""},null,null,null,"","","","","","","","","","","","","","","","","","","","","","",null,"","","","","","","","","","","","","","","","","","","","","",""]
[null,{"$f":"IF(Athletenliste!B123=\"\",\"\",Athletenliste!B123)","v":""},{"$f":"IF(Athletenliste!C123=\"\",\"\",Athletenliste!C123)","v":""},{"$f":"IF(Athletenliste!D123=\"\",\"\",Athletenliste!D123)","v":""},{"$f":"IF(Athletenliste!E123=\"\",\"\",Athletenliste!E123)","v":""},{"$f":"IF(Athletenliste!F123=\"\",\"\",Athletenliste!F123)","v":""},{"$f":"IF(Athletenliste!G123=\"\",\"\",Athletenliste!G123)","v":""},{"$f":"IF(Athletenliste!H123=\"\",\"\",Athletenliste!H123)","v":""},null,{"$f":"IF(B123=\"\",\"\",IF(D123=\"m\",INDIRECT(VLOOKUP(G123,Bezüge!$E$6:$F$16,2,FALSE)&ROW(G123)),INDIRECT(VLOOKUP(G123,Bezüge!$B$6:$C$16,2,FALSE)&ROW(G123))))","v":""},null,null,null,"","","","","","","","","","","","","","","","","","","","","","",null,"","","","","","","","","","","","","","","","","","","","","",""]
[null,{"$f":"IF(Athletenliste!B124=\"\",\"\",Athletenliste!B124)","v":""},{"$f":"IF(Athletenliste!C124=\"\",\"\",Athletenliste!C124)","v":""},{"$f":"IF(Athletenliste!D124=\"\",\"\",Athletenliste!D124)","v":""},{"$f":"IF(Athletenliste!E124=\"\",\"\",Athletenliste!E124)","v":""},{"$f":"IF(Athletenliste!F124=\"\",\"\",Athletenliste!F124)","v":""},{"$f":"IF(Athletenliste!G124=\"\",\"\",Athletenliste!G124)","v":""},{"$f":"IF(Athletenliste!H124=\"\",\"\",Athletenliste!H124)","v":""},null,{"$f":"IF(B124=\"\",\"\",IF(D124=\"m\",INDIRECT(VLOOKUP(G124,Bezüge!$E$6:$F$16,2,FALSE)&ROW(G124)),INDIRECT(VLOOKUP(G124,Bezüge!$B$6:$C$16,2,FALSE)&ROW(G124))))","v":""},null,null,null,"","","","","","","","","","","","","","","","","","","","","","",null,"","","","","","","","","","","","","","","","","","","","","",""]
[null,{"$f":"IF(Athletenliste!B125=\"\",\"\",Athletenliste!B125)","v":""},{"$f":"IF(Athletenliste!C125=\"\",\"\",Athletenliste!C125)","v":""},{"$f":"IF(Athletenliste!D125=\"\",\"\",Athletenliste!D125)","v":""},{"$f":"IF(Athletenliste!E125=\"\",\"\",Athletenliste!E125)","v":""},{"$f":"IF(Athletenliste!F125=\"\",\"\",Athletenliste!F125)","v":""},{"$f":"IF(Athletenliste!G125=\"\",\"\",Athletenliste!G125)","v":""},{"$f":"IF(Athletenliste!H125=\"\",\"\",Athletenliste!H125)","v":""},null,{"$f":"IF(B125=\"\",\"\",IF(D125=\"m\",INDIRECT(VLOOKUP(G125,Bezüge!$E$6:$F$16,2,FALSE)&ROW(G125)),INDIRECT(VLOOKUP(G125,Bezüge!$B$6:$C$16,2,FALSE)&ROW(G125))))","v":""},null,null,null,"","","","","","","","","","","","","","","","","","","","","","",null,"","","","","","","","","","","","","","","","","","","","","",""]
[null,{"$f":"IF(Athletenliste!B126=\"\",\"\",Athletenliste!B126)","v":""},{"$f":"IF(Athletenliste!C126=\"\",\"\",Athletenliste!C126)","v":""},{"$f":"IF(Athletenliste!D126=\"\",\"\",Athletenliste!D126)","v":""},{"$f":"IF(Athletenliste!E126=\"\",\"\",Athletenliste!E126)","v":""},{"$f":"IF(Athletenliste!F126=\"\",\"\",Athletenliste!F126)","v":""},{"$f":"IF(Athletenliste!G126=\"\",\"\",Athletenliste!G126)","v":""},{"$f":"IF(Athletenliste!H126=\"\",\"\",Athletenliste!H126)","v":""},null,{"$f":"IF(B126=\"\",\"\",IF(D126=\"m\",INDIRECT(VLOOKUP(G126,Bezüge!$E$6:$F$16,2,FALSE)&ROW(G126)),INDIRECT(VLOOKUP(G126,Bezüge!$B$6:$C$16,2,FALSE)&ROW(G126))))","v":""},null,null,null,"","","","","","","","","","","","","","","","","","","","","","",null,"","","","","","","","","","","","","","","","","","","","","",""]
[null,{"$f":"IF(Athletenliste!B127=\"\",\"\",Athletenliste!B127)","v":""},{"$f":"IF(Athletenliste!C127=\"\",\"\",Athletenliste!C127)","v":""},{"$f":"IF(Athletenliste!D127=\"\",\"\",Athletenliste!D127)","v":""},{"$f":"IF(Athletenliste!E127=\"\",\"\",Athletenliste!E127)","v":""},{"$f":"IF(Athletenliste!F127=\"\",\"\",Athletenliste!F127)","v":""},{"$f":"IF(Athletenliste!G127=\"\",\"\",Athletenliste!G127)","v":""},{"$f":"IF(Athletenliste!H127=\"\",\"\",Athletenliste!H127)","v":""},null,{"$f":"IF(B127=\"\",\"\",IF(D127=\"m\",INDIRECT(VLOOKUP(G127,Bezüge!$E$6:$F$16,2,FALSE)&ROW(G127)),INDIRECT(VLOOKUP(G127,Bezüge!$B$6:$C$16,2,FALSE)&ROW(G127))))","v":""},null,null,null,"","","","","","","","","","","","","","","","","","","","","","",null,"","","","","","","","","","","","","","","","","","","","","",""]
[null,{"$f":"IF(Athletenliste!B128=\"\",\"\",Athletenliste!B128)","v":""},{"$f":"IF(Athletenliste!C128=\"\",\"\",Athletenliste!C128)","v":""},{"$f":"IF(Athletenliste!D128=\"\",\"\",Athletenliste!D128)","v":""},{"$f":"IF(Athletenliste!E128=\"\",\"\",Athletenliste!E128)","v":""},{"$f":"IF(Athletenliste!F128=\"\",\"\",Athletenliste!F128)","v":""},{"$f":"IF(Athletenliste!G128=\"\",\"\",Athletenliste!G128)","v":""},{"$f":"IF(Athletenliste!H128=\"\",\"\",Athletenliste!H128)","v":""},null,{"$f":"IF(B128=\"\",\"\",IF(D128=\"m\",INDIRECT(VLOOKUP(G128,Bezüge!$E$6:$F$16,2,FALSE)&ROW(G128)),INDIRECT(VLOOKUP(G128,Bezüge!$B$6:$C$16,2,FALSE)&ROW(G128))))","v":""},null,null,null,"","","","","","","","","","","","","","","","","","","","","","",null,"","","","","","","","","","","","","","","","","","","","","",""]
[null,{"$f":"IF(Athletenliste!B129=\"\",\"\",Athletenliste!B129)","v":""},{"$f":"IF(Athletenliste!C129=\"\",\"\",Athletenliste!C129)","v":""},{"$f":"IF(Athletenliste!D129=\"\",\"\",Athletenliste!D129)","v":""},{"$f":"IF(Athletenliste!E129=\"\",\"\",Athletenliste!E129)","v":""},{"$f":"IF(Athletenliste!F129=\"\",\"\",Athletenliste!F129)","v":""},{"$f":"IF(Athletenliste!G129=\"\",\"\",Athletenliste!G129)","v":""},{"$f":"IF(Athletenliste!H129=\"\",\"\",Athletenliste!H129)","v":""},null,{"$f":"IF(B129=\"\",\"\",IF(D129=\"m\",INDIRECT(VLOOKUP(G129,Bezüge!$E$6:$F$16,2,FALSE)&ROW(G129)),INDIRECT(VLOOKUP(G129,Bezüge!$B$6:$C$16,2,FALSE)&ROW(G129))))","v":""},null,null,null,"","","","","","","","","","","","","","","","","","","","","","",null,"","","","","","","","","","","","","","","","","","","","","",""]
[null,{"$f":"IF(Athletenliste!B130=\"\",\"\",Athletenliste!B130)","v":""},{"$f":"IF(Athletenliste!C130=\"\",\"\",Athletenliste!C130)","v":""},{"$f":"IF(Athletenliste!D130=\"\",\"\",Athletenliste!D130)","v":""},{"$f":"IF(Athletenliste!E130=\"\",\"\",Athletenliste!E130)","v":""},{"$f":"IF(Athletenliste!F130=\"\",\"\",Athletenliste!F130)","v":""},{"$f":"IF(Athletenliste!G130=\"\",\"\",Athletenliste!G130)","v":""},{"$f":"IF(Athletenliste!H130=\"\",\"\",Athletenliste!H130)","v":""},null,{"$f":"IF(B130=\"\",\"\",IF(D130=\"m\",INDIRECT(VLOOKUP(G130,Bezüge!$E$6:$F$16,2,FALSE)&ROW(G130)),INDIRECT(VLOOKUP(G130,Bezüge!$B$6:$C$16,2,FALSE)&ROW(G130))))","v":""},null,null,null,"","","","","","","","","","","","","","","","","","","","","","",null,"","","","","","","","","","","","","","","","","","","","","",""]
[null,{"$f":"IF(Athletenliste!B131=\"\",\"\",Athletenliste!B131)","v":""},{"$f":"IF(Athletenliste!C131=\"\",\"\",Athletenliste!C131)","v":""},{"$f":"IF(Athletenliste!D131=\"\",\"\",Athletenliste!D131)","v":""},{"$f":"IF(Athletenliste!E131=\"\",\"\",Athletenliste!E131)","v":""},{"$f":"IF(Athletenliste!F131=\"\",\"\",Athletenliste!F131)","v":""},{"$f":"IF(Athletenliste!G131=\"\",\"\",Athletenliste!G131)","v":""},{"$f":"IF(Athletenliste!H131=\"\",\"\",Athletenliste!H131)","v":""},null,{"$f":"IF(B131=\"\",\"\",IF(D131=\"m\",INDIRECT(VLOOKUP(G131,Bezüge!$E$6:$F$16,2,FALSE)&ROW(G131)),INDIRECT(VLOOKUP(G131,Bezüge!$B$6:$C$16,2,FALSE)&ROW(G131))))","v":""},null,null,null,"","","","","","","","","","","","","","","","","","","","","","",null,"","","","","","","","","","","","","","","","","","","","","",""]
[null,{"$f":"IF(Athletenliste!B132=\"\",\"\",Athletenliste!B132)","v":""},{"$f":"IF(Athletenliste!C132=\"\",\"\",Athletenliste!C132)","v":""},{"$f":"IF(Athletenliste!D132=\"\",\"\",Athletenliste!D132)","v":""},{"$f":"IF(Athletenliste!E132=\"\",\"\",Athletenliste!E132)","v":""},{"$f":"IF(Athletenliste!F132=\"\",\"\",Athletenliste!F132)","v":""},{"$f":"IF(Athletenliste!G132=\"\",\"\",Athletenliste!G132)","v":""},{"$f":"IF(Athletenliste!H132=\"\",\"\",Athletenliste!H132)","v":""},null,{"$f":"IF(B132=\"\",\"\",IF(D132=\"m\",INDIRECT(VLOOKUP(G132,Bezüge!$E$6:$F$16,2,FALSE)&ROW(G132)),INDIRECT(VLOOKUP(G132,Bezüge!$B$6:$C$16,2,FALSE)&ROW(G132))))","v":""},null,null,null,"","","","","","","","","","","","","","","","","","","","","","",null,"","","","","","","","","","","","","","","","","","","","","",""]
[null,{"$f":"IF(Athletenliste!B133=\"\",\"\",Athletenliste!B133)","v":""},{"$f":"IF(Athletenliste!C133=\"\",\"\",Athletenliste!C133)","v":""},{"$f":"IF(Athletenliste!D133=\"\",\"\",Athletenliste!D133)","v":""},{"$f":"IF(Athletenliste!E133=\"\",\"\",Athletenliste!E133)","v":""},{"$f":"IF(Athletenliste!F133=\"\",\"\",Athletenliste!F133)","v":""},{"$f":"IF(Athletenliste!G133=\"\",\"\",Athletenliste!G133)","v":""},{"$f":"IF(Athletenliste!H133=\"\",\"\",Athletenliste!H133)","v":""},null,{"$f":"IF(B133=\"\",\"\",IF(D133=\"m\",INDIRECT(VLOOKUP(G133,Bezüge!$E$6:$F$16,2,FALSE)&ROW(G133)),INDIRECT(VLOOKUP(G133,Bezüge!$B$6:$C$16,2,FALSE)&ROW(G133))))","v":""},null,null,null,"","","","","","","","","","","","","","","","","","","","","","",null,"","","","","","","","","","","","","","","","","","","","","",""]
[null,{"$f":"IF(Athletenliste!B134=\"\",\"\",Athletenliste!B134)","v":""},{"$f":"IF(Athletenliste!C134=\"\",\"\",Athletenliste!C134)","v":""},{"$f":"IF(Athletenliste!D134=\"\",\"\",Athletenliste!D134)","v":""},{"$f":"IF(Athletenliste!E134=\"\",\"\",Athletenliste!E134)","v":""},{"$f":"IF(Athletenliste!F134=\"\",\"\",Athletenliste!F134)","v":""},{"$f":"IF(Athletenliste!G134=\"\",\"\",Athletenliste!G134)","v":""},{"$f":"IF(Athletenliste!H134=\"\",\"\",Athletenliste!H134)","v":""},null,{"$f":"IF(B134=\"\",\"\",IF(D134=\"m\",INDIRECT(VLOOKUP(G134,Bezüge!$E$6:$F$16,2,FALSE)&ROW(G134)),INDIRECT(VLOOKUP(G134,Bezüge!$B$6:$C$16,2,FALSE)&ROW(G134))))","v":""},null,null,null,"","","","","","","","","","","","","","","","","","","","","","",null,"","","","","","","","","","","","","","","","","","","","","",""]
[null,{"$f":"IF(Athletenliste!B135=\"\",\"\",Athletenliste!B135)","v":""},{"$f":"IF(Athletenliste!C135=\"\",\"\",Athletenliste!C135)","v":""},{"$f":"IF(Athletenliste!D135=\"\",\"\",Athletenliste!D135)","v":""},{"$f":"IF(Athletenliste!E135=\"\",\"\",Athletenliste!E135)","v":""},{"$f":"IF(Athletenliste!F135=\"\",\"\",Athletenliste!F135)","v":""},{"$f":"IF(Athletenliste!G135=\"\",\"\",Athletenliste!G135)","v":""},{"$f":"IF(Athletenliste!H135=\"\",\"\",Athletenliste!H135)","v":""},null,{"$f":"IF(B135=\"\",\"\",IF(D135=\"m\",INDIRECT(VLOOKUP(G135,Bezüge!$E$6:$F$16,2,FALSE)&ROW(G135)),INDIRECT(VLOOKUP(G135,Bezüge!$B$6:$C$16,2,FALSE)&ROW(G135))))","v":""},null,null,null,"","","","","","","","","","","","","","","","","","","","","","",null,"","","","","","","","","","","","","","","","","","","","","",""]
[null,{"$f":"IF(Athletenliste!B136=\"\",\"\",Athletenliste!B136)","v":""},{"$f":"IF(Athletenliste!C136=\"\",\"\",Athletenliste!C136)","v":""},{"$f":"IF(Athletenliste!D136=\"\",\"\",Athletenliste!D136)","v":""},{"$f":"IF(Athletenliste!E136=\"\",\"\",Athletenliste!E136)","v":""},{"$f":"IF(Athletenliste!F136=\"\",\"\",Athletenliste!F136)","v":""},{"$f":"IF(Athletenliste!G136=\"\",\"\",Athletenliste!G136)","v":""},{"$f":"IF(Athletenliste!H136=\"\",\"\",Athletenliste!H136)","v":""},null,{"$f":"IF(B136=\"\",\"\",IF(D136=\"m\",INDIRECT(VLOOKUP(G136,Bezüge!$E$6:$F$16,2,FALSE)&ROW(G136)),INDIRECT(VLOOKUP(G136,Bezüge!$B$6:$C$16,2,FALSE)&ROW(G136))))","v":""},null,null,null,"","","","","","","","","","","","","","","","","","","","","","",null,"","","","","","","","","","","","","","","","","","","","","",""]
[null,{"$f":"IF(Athletenliste!B137=\"\",\"\",Athletenliste!B137)","v":""},{"$f":"IF(Athletenliste!C137=\"\",\"\",Athletenliste!C137)","v":""},{"$f":"IF(Athletenliste!D137=\"\",\"\",Athletenliste!D137)","v":""},{"$f":"IF(Athletenliste!E137=\"\",\"\",Athletenliste!E137)","v":""},{"$f":"IF(Athletenliste!F137=\"\",\"\",Athletenliste!F137)","v":""},{"$f":"IF(Athletenliste!G137=\"\",\"\",Athletenliste!G137)","v":""},{"$f":"IF(Athletenliste!H137=\"\",\"\",Athletenliste!H137)","v":""},null,{"$f":"IF(B137=\"\",\"\",IF(D137=\"m\",INDIRECT(VLOOKUP(G137,Bezüge!$E$6:$F$16,2,FALSE)&ROW(G137)),INDIRECT(VLOOKUP(G137,Bezüge!$B$6:$C$16,2,FALSE)&ROW(G137))))","v":""},null,null,null,"","","","","","","","","","","","","","","","","","","","","","",null,"","","","","","","","","","","","","","","","","","","","","",""]
[null,{"$f":"IF(Athletenliste!B138=\"\",\"\",Athletenliste!B138)","v":""},{"$f":"IF(Athletenliste!C138=\"\",\"\",Athletenliste!C138)","v":""},{"$f":"IF(Athletenliste!D138=\"\",\"\",Athletenliste!D138)","v":""},{"$f":"IF(Athletenliste!E138=\"\",\"\",Athletenliste!E138)","v":""},{"$f":"IF(Athletenliste!F138=\"\",\"\",Athletenliste!F138)","v":""},{"$f":"IF(Athletenliste!G138=\"\",\"\",Athletenliste!G138)","v":""},{"$f":"IF(Athletenliste!H138=\"\",\"\",Athletenliste!H138)","v":""},null,{"$f":"IF(B138=\"\",\"\",IF(D138=\"m\",INDIRECT(VLOOKUP(G138,Bezüge!$E$6:$F$16,2,FALSE)&ROW(G138)),INDIRECT(VLOOKUP(G138,Bezüge!$B$6:$C$16,2,FALSE)&ROW(G138))))","v":""},null,null,null,"","","","","","","","","","","","","","","","","","","","","","",null,"","","","","","","","","","","","","","","","","","","","","",""]
[null,{"$f":"IF(Athletenliste!B139=\"\",\"\",Athletenliste!B139)","v":""},{"$f":"IF(Athletenliste!C139=\"\",\"\",Athletenliste!C139)","v":""},{"$f":"IF(Athletenliste!D139=\"\",\"\",Athletenliste!D139)","v":""},{"$f":"IF(Athletenliste!E139=\"\",\"\",Athletenliste!E139)","v":""},{"$f":"IF(Athletenliste!F139=\"\",\"\",Athletenliste!F139)","v":""},{"$f":"IF(Athletenliste!G139=\"\",\"\",Athletenliste!G139)","v":""},{"$f":"IF(Athletenliste!H139=\"\",\"\",Athletenliste!H139)","v":""},null,{"$f":"IF(B139=\"\",\"\",IF(D139=\"m\",INDIRECT(VLOOKUP(G139,Bezüge!$E$6:$F$16,2,FALSE)&ROW(G139)),INDIRECT(VLOOKUP(G139,Bezüge!$B$6:$C$16,2,FALSE)&ROW(G139))))","v":""},null,null,null,{"$f":"IF(AND(D139=\"m\",G139=\"U06\",I139<>\"\"),I139,\"\")","v":""},{"$f":"IF(OR(I139=\"\",N139=\"\"),\"\",_xlfn.RANK.EQ(N139,N$10:N$200))","v":""},{"$f":"IF(AND(D139=\"m\",G139=\"U07\",I139<>\"\"),I139,\"\")","v":""},{"$f":"IF(OR(I139=\"\",P139=\"\"),\"\",_xlfn.RANK.EQ(P139,P$10:P$200))","v":""},{"$f":"IF(AND(D139=\"m\",G139=\"U08\",I139<>\"\"),I139,\"\")","v":""},{"$f":"IF(OR(I139=\"\",R139=\"\"),\"\",_xlfn.RANK.EQ(R139,R$10:R$200))","v":""},{"$f":"IF(AND(D139=\"m\",G139=\"U09\",I139<>\"\"),I139,\"\")","v":""},{"$f":"IF(OR(I139=\"\",T139=\"\"),\"\",_xlfn.RANK.EQ(T139,T$10:T$200))","v":""},{"$f":"IF(AND(D139=\"m\",G139=\"U10\",I139<>\"\"),I139,\"\")","v":""},{"$f":"IF(OR(I139=\"\",V139=\"\"),\"\",_xlfn.RANK.EQ(V139,V$10:V$200))","v":""},{"$f":"IF(AND(D139=\"m\",G139=\"U11\",I139<>\"\"),I139,\"\")","v":""},{"$f":"IF(OR(I139=\"\",X139=\"\"),\"\",_xlfn.RANK.EQ(X139,X$10:X$200))","v":""},{"$f":"IF(AND(D139=\"m\",G139=\"U12\",I139<>\"\"),I139,\"\")","v":""},{"$f":"IF(OR(I139=\"\",Z139=\"\"),\"\",_xlfn.RANK.EQ(Z139,Z$10:Z$200))","v":""},{"$f":"IF(AND(D139=\"m\",G139=\"U13\",I139<>\"\"),I139,\"\")","v":""},{"$f":"IF(OR(I139=\"\",AB139=\"\"),\"\",_xlfn.RANK.EQ(AB139,AB$10:AB$200))","v":""},{"$f":"IF(AND(D139=\"m\",G139=\"U14\",I139<>\"\"),I139,\"\")","v":""},{"$f":"IF(OR(I139=\"\",AD139=\"\"),\"\",_xlfn.RANK.EQ(AD139,AD$10:AD$200))","v":""},{"$f":"IF(AND(D139=\"m\",G139=\"U15\",I139<>\"\"),I139,\"\")","v":""},{"$f":"IF(OR(I139=\"\",AF139=\"\"),\"\",_xlfn.RANK.EQ(AF139,AF$10:AF$200))","v":""},{"$f":"IF(AND(D139=\"m\",G139=\"U16\",I139<>\"\"),I139,\"\")","v":""},{"$f":"IF(OR(I139=\"\",AH139=\"\"),\"\",_xlfn.RANK.EQ(AH139,AH$10:AH$200))","v":""},null,{"$f":"IF(AND(D139=\"w\",G139=\"U06\",I139<>\"\"),I139,\"\")","v":""},{"$f":"IF(OR(I139=\"\",AI139=\"\"),\"\",_xlfn.RANK.EQ(AI139,AI$10:AI$200))","v":""},{"$f":"IF(AND(D139=\"w\",G139=\"U07\",I139<>\"\"),I139,\"\")","v":""},{"$f":"IF(OR(I139=\"\",AM139=\"\"),\"\",_xlfn.RANK.EQ(AM139,AM$10:AM$20))","v":""},{"$f":"IF(AND(D139=\"w\",G139=\"U08\",I139<>\"\"),I139,\"\")","v":""},{"$f":"IF(OR(I139=\"\",AO139=\"\"),\"\",_xlfn.RANK.EQ(AO139,AO$10:AO$200,0))","v":""},{"$f":"IF(AND(D139=\"w\",G139=\"U09\",I139<>\"\"),I139,\"\")","v":""},{"$f":"IF(OR(I139=\"\",AQ139=\"\"),\"\",_xlfn.RANK.EQ(AQ139,AQ$10:AQ$200))","v":""},{"$f":"IF(AND(D139=\"w\",G139=\"U10\",I139<>\"\"),I139,\"\")","v":""},{"$f":"IF(OR(I139=\"\",AS139=\"\"),\"\",_xlfn.RANK.EQ(AS139,AS$10:AS$200))","v":""},{"$f":"IF(AND(D139=\"w\",G139=\"U11\",I139<>\"\"),I139,\"\")","v":""},{"$f":"IF(OR(I139=\"\",AU139=\"\"),\"\",_xlfn.RANK.EQ(AU139,AU$10:AU$200))","v":""},{"$f":"IF(AND(D139=\"w\",G139=\"U12\",I139<>\"\"),I139,\"\")","v":""},{"$f":"IF(OR(I139=\"\",AW139=\"\"),\"\",_xlfn.RANK.EQ(AW139,AW$10:AW$200))","v":""},{"$f":"IF(AND(D139=\"w\",G139=\"U13\",I139<>\"\"),I139,\"\")","v":""},{"$f":"IF(OR(I139=\"\",AY139=\"\"),\"\",_xlfn.RANK.EQ(AY139,AY$10:AY$200))","v":""},{"$f":"IF(AND(D139=\"w\",G139=\"U14\",I139<>\"\"),I139,\"\")","v":""},{"$f":"IF(OR(I139=\"\",BA139=\"\"),\"\",_xlfn.RANK.EQ(BA139,BA$10:BA$200))","v":""},{"$f":"IF(AND(D139=\"w\",G139=\"U15\",I139<>\"\"),I139,\"\")","v":""},{"$f":"IF(OR(I139=\"\",BC139=\"\"),\"\",_xlfn.RANK.EQ(BC139,BC$10:BC$200))","v":""},{"$f":"IF(AND(D139=\"w\",G139=\"U16\",I139<>\"\"),I139,\"\")","v":""},{"$f":"IF(OR(I139=\"\",BE139=\"\"),\"\",_xlfn.RANK.EQ(BE139,BE$10:BE$200))","v":""}]
[null,{"$f":"IF(Athletenliste!B140=\"\",\"\",Athletenliste!B140)","v":""},{"$f":"IF(Athletenliste!C140=\"\",\"\",Athletenliste!C140)","v":""},{"$f":"IF(Athletenliste!D140=\"\",\"\",Athletenliste!D140)","v":""},{"$f":"IF(Athletenliste!E140=\"\",\"\",Athletenliste!E140)","v":""},{"$f":"IF(Athletenliste!F140=\"\",\"\",Athletenliste!F140)","v":""},{"$f":"IF(Athletenliste!G140=\"\",\"\",Athletenliste!G140)","v":""},{"$f":"IF(Athletenliste!H140=\"\",\"\",Athletenliste!H140)","v":""},null,{"$f":"IF(B140=\"\",\"\",IF(D140=\"m\",INDIRECT(VLOOKUP(G140,Bezüge!$E$6:$F$16,2,FALSE)&ROW(G140)),INDIRECT(VLOOKUP(G140,Bezüge!$B$6:$C$16,2,FALSE)&ROW(G140))))","v":""},null,null,null,"","","","","","","","","","","","","","","","","","","","","","",null,"","","","","","","","","","","","","","","","","","","","","",""]
[null,{"$f":"IF(Athletenliste!B141=\"\",\"\",Athletenliste!B141)","v":""},{"$f":"IF(Athletenliste!C141=\"\",\"\",Athletenliste!C141)","v":""},{"$f":"IF(Athletenliste!D141=\"\",\"\",Athletenliste!D141)","v":""},{"$f":"IF(Athletenliste!E141=\"\",\"\",Athletenliste!E141)","v":""},{"$f":"IF(Athletenliste!F141=\"\",\"\",Athletenliste!F141)","v":""},{"$f":"IF(Athletenliste!G141=\"\",\"\",Athletenliste!G141)","v":""},{"$f":"IF(Athletenliste!H141=\"\",\"\",Athletenliste!H141)","v":""},null,{"$f":"IF(B141=\"\",\"\",IF(D141=\"m\",INDIRECT(VLOOKUP(G141,Bezüge!$E$6:$F$16,2,FALSE)&ROW(G141)),INDIRECT(VLOOKUP(G141,Bezüge!$B$6:$C$16,2,FALSE)&ROW(G141))))","v":""},null,null,null,"","","","","","","","","","","","","","","","","","","","","","",null,"","","","","","","","","","","","","","","","","","","","","",""]
[null,{"$f":"IF(Athletenliste!B142=\"\",\"\",Athletenliste!B142)","v":""},{"$f":"IF(Athletenliste!C142=\"\",\"\",Athletenliste!C142)","v":""},{"$f":"IF(Athletenliste!D142=\"\",\"\",Athletenliste!D142)","v":""},{"$f":"IF(Athletenliste!E142=\"\",\"\",Athletenliste!E142)","v":""},{"$f":"IF(Athletenliste!F142=\"\",\"\",Athletenliste!F142)","v":""},{"$f":"IF(Athletenliste!G142=\"\",\"\",Athletenliste!G142)","v":""},{"$f":"IF(Athletenliste!H142=\"\",\"\",Athletenliste!H142)","v":""},null,{"$f":"IF(B142=\"\",\"\",IF(D142=\"m\",INDIRECT(VLOOKUP(G142,Bezüge!$E$6:$F$16,2,FALSE)&ROW(G142)),INDIRECT(VLOOKUP(G142,Bezüge!$B$6:$C$16,2,FALSE)&ROW(G142))))","v":""},null,null,null,"","","","","","","","","","","","","","","","","","","","","","",null,"","","","","","","","","","","","","","","","","","","","","",""]
[null,{"$f":"IF(Athletenliste!B143=\"\",\"\",Athletenliste!B143)","v":""},{"$f":"IF(Athletenliste!C143=\"\",\"\",Athletenliste!C143)","v":""},{"$f":"IF(Athletenliste!D143=\"\",\"\",Athletenliste!D143)","v":""},{"$f":"IF(Athletenliste!E143=\"\",\"\",Athletenliste!E143)","v":""},{"$f":"IF(Athletenliste!F143=\"\",\"\",Athletenliste!F143)","v":""},{"$f":"IF(Athletenliste!G143=\"\",\"\",Athletenliste!G143)","v":""},{"$f":"IF(Athletenliste!H143=\"\",\"\",Athletenliste!H143)","v":""},null,{"$f":"IF(B143=\"\",\"\",IF(D143=\"m\",INDIRECT(VLOOKUP(G143,Bezüge!$E$6:$F$16,2,FALSE)&ROW(G143)),INDIRECT(VLOOKUP(G143,Bezüge!$B$6:$C$16,2,FALSE)&ROW(G143))))","v":""},null,null,null,"","","","","","","","","","","","","","","","","","","","","","",null,"","","","","","","","","","","","","","","","","","","","","",""]
[null,{"$f":"IF(Athletenliste!B144=\"\",\"\",Athletenliste!B144)","v":""},{"$f":"IF(Athletenliste!C144=\"\",\"\",Athletenliste!C144)","v":""},{"$f":"IF(Athletenliste!D144=\"\",\"\",Athletenliste!D144)","v":""},{"$f":"IF(Athletenliste!E144=\"\",\"\",Athletenliste!E144)","v":""},{"$f":"IF(Athletenliste!F144=\"\",\"\",Athletenliste!F144)","v":""},{"$f":"IF(Athletenliste!G144=\"\",\"\",Athletenliste!G144)","v":""},{"$f":"IF(Athletenliste!H144=\"\",\"\",Athletenliste!H144)","v":""},null,{"$f":"IF(B144=\"\",\"\",IF(D144=\"m\",INDIRECT(VLOOKUP(G144,Bezüge!$E$6:$F$16,2,FALSE)&ROW(G144)),INDIRECT(VLOOKUP(G144,Bezüge!$B$6:$C$16,2,FALSE)&ROW(G144))))","v":""},null,null,null,"","","","","","","","","","","","","","","","","","","","","","",null,"","","","","","","","","","","","","","","","","","","","","",""]
[null,{"$f":"IF(Athletenliste!B145=\"\",\"\",Athletenliste!B145)","v":""},{"$f":"IF(Athletenliste!C145=\"\",\"\",Athletenliste!C145)","v":""},{"$f":"IF(Athletenliste!D145=\"\",\"\",Athletenliste!D145)","v":""},{"$f":"IF(Athletenliste!E145=\"\",\"\",Athletenliste!E145)","v":""},{"$f":"IF(Athletenliste!F145=\"\",\"\",Athletenliste!F145)","v":""},{"$f":"IF(Athletenliste!G145=\"\",\"\",Athletenliste!G145)","v":""},{"$f":"IF(Athletenliste!H145=\"\",\"\",Athletenliste!H145)","v":""},null,{"$f":"IF(B145=\"\",\"\",IF(D145=\"m\",INDIRECT(VLOOKUP(G145,Bezüge!$E$6:$F$16,2,FALSE)&ROW(G145)),INDIRECT(VLOOKUP(G145,Bezüge!$B$6:$C$16,2,FALSE)&ROW(G145))))","v":""},null,null,null,"","","","","","","","","","","","","","","","","","","","","","",null,"","","","","","","","","","","","","","","","","","","","","",""]
[null,{"$f":"IF(Athletenliste!B146=\"\",\"\",Athletenliste!B146)","v":""},{"$f":"IF(Athletenliste!C146=\"\",\"\",Athletenliste!C146)","v":""},{"$f":"IF(Athletenliste!D146=\"\",\"\",Athletenliste!D146)","v":""},{"$f":"IF(Athletenliste!E146=\"\",\"\",Athletenliste!E146)","v":""},{"$f":"IF(Athletenliste!F146=\"\",\"\",Athletenliste!F146)","v":""},{"$f":"IF(Athletenliste!G146=\"\",\"\",Athletenliste!G146)","v":""},{"$f":"IF(Athletenliste!H146=\"\",\"\",Athletenliste!H146)","v":""},null,{"$f":"IF(B146=\"\",\"\",IF(D146=\"m\",INDIRECT(VLOOKUP(G146,Bezüge!$E$6:$F$16,2,FALSE)&ROW(G146)),INDIRECT(VLOOKUP(G146,Bezüge!$B$6:$C$16,2,FALSE)&ROW(G146))))","v":""},null,null,null,"","","","","","","","","","","","","","","","","","","","","","",null,"","","","","","","","","","","","","","","","","","","","","",""]
[null,{"$f":"IF(Athletenliste!B147=\"\",\"\",Athletenliste!B147)","v":""},{"$f":"IF(Athletenliste!C147=\"\",\"\",Athletenliste!C147)","v":""},{"$f":"IF(Athletenliste!D147=\"\",\"\",Athletenliste!D147)","v":""},{"$f":"IF(Athletenliste!E147=\"\",\"\",Athletenliste!E147)","v":""},{"$f":"IF(Athletenliste!F147=\"\",\"\",Athletenliste!F147)","v":""},{"$f":"IF(Athletenliste!G147=\"\",\"\",Athletenliste!G147)","v":""},{"$f":"IF(Athletenliste!H147=\"\",\"\",Athletenliste!H147)","v":""},null,{"$f":"IF(B147=\"\",\"\",IF(D147=\"m\",INDIRECT(VLOOKUP(G147,Bezüge!$E$6:$F$16,2,FALSE)&ROW(G147)),INDIRECT(VLOOKUP(G147,Bezüge!$B$6:$C$16,2,FALSE)&ROW(G147))))","v":""},null,null,null,"","","","","","","","","","","","","","","","","","","","","","",null,"","","","","","","","","","","","","","","","","","","","","",""]
[null,{"$f":"IF(Athletenliste!B148=\"\",\"\",Athletenliste!B148)","v":""},{"$f":"IF(Athletenliste!C148=\"\",\"\",Athletenliste!C148)","v":""},{"$f":"IF(Athletenliste!D148=\"\",\"\",Athletenliste!D148)","v":""},{"$f":"IF(Athletenliste!E148=\"\",\"\",Athletenliste!E148)","v":""},{"$f":"IF(Athletenliste!F148=\"\",\"\",Athletenliste!F148)","v":""},{"$f":"IF(Athletenliste!G148=\"\",\"\",Athletenliste!G148)","v":""},{"$f":"IF(Athletenliste!H148=\"\",\"\",Athletenliste!H148)","v":""},null,{"$f":"IF(B148=\"\",\"\",IF(D148=\"m\",INDIRECT(VLOOKUP(G148,Bezüge!$E$6:$F$16,2,FALSE)&ROW(G148)),INDIRECT(VLOOKUP(G148,Bezüge!$B$6:$C$16,2,FALSE)&ROW(G148))))","v":""},null,null,null,"","","","","","","","","","","","","","","","","","","","","","",null,"","","","","","","","","","","","","","","","","","","","","",""]
[null,{"$f":"IF(Athletenliste!B149=\"\",\"\",Athletenliste!B149)","v":""},{"$f":"IF(Athletenliste!C149=\"\",\"\",Athletenliste!C149)","v":""},{"$f":"IF(Athletenliste!D149=\"\",\"\",Athletenliste!D149)","v":""},{"$f":"IF(Athletenliste!E149=\"\",\"\",Athletenliste!E149)","v":""},{"$f":"IF(Athletenliste!F149=\"\",\"\",Athletenliste!F149)","v":""},{"$f":"IF(Athletenliste!G149=\"\",\"\",Athletenliste!G149)","v":""},{"$f":"IF(Athletenliste!H149=\"\",\"\",Athletenliste!H149)","v":""},null,{"$f":"IF(B149=\"\",\"\",IF(D149=\"m\",INDIRECT(VLOOKUP(G149,Bezüge!$E$6:$F$16,2,FALSE)&ROW(G149)),INDIRECT(VLOOKUP(G149,Bezüge!$B$6:$C$16,2,FALSE)&ROW(G149))))","v":""},null,null,null,"","","","","","","","","","","","","","","","","","","","","","",null,"","","","","","","","","","","","","","","","","","","","","",""]
[null,{"$f":"IF(Athletenliste!B150=\"\",\"\",Athletenliste!B150)","v":""},{"$f":"IF(Athletenliste!C150=\"\",\"\",Athletenliste!C150)","v":""},{"$f":"IF(Athletenliste!D150=\"\",\"\",Athletenliste!D150)","v":""},{"$f":"IF(Athletenliste!E150=\"\",\"\",Athletenliste!E150)","v":""},{"$f":"IF(Athletenliste!F150=\"\",\"\",Athletenliste!F150)","v":""},{"$f":"IF(Athletenliste!G150=\"\",\"\",Athletenliste!G150)","v":""},{"$f":"IF(Athletenliste!H150=\"\",\"\",Athletenliste!H150)","v":""},null,{"$f":"IF(B150=\"\",\"\",IF(D150=\"m\",INDIRECT(VLOOKUP(G150,Bezüge!$E$6:$F$16,2,FALSE)&ROW(G150)),INDIRECT(VLOOKUP(G150,Bezüge!$B$6:$C$16,2,FALSE)&ROW(G150))))","v":""},null,null,null,"","","","","","","","","","","","","","","","","","","","","","",null,"","","","","","","","","","","","","","","","","","","","","",""]
[null,{"$f":"IF(Athletenliste!B151=\"\",\"\",Athletenliste!B151)","v":""},{"$f":"IF(Athletenliste!C151=\"\",\"\",Athletenliste!C151)","v":""},{"$f":"IF(Athletenliste!D151=\"\",\"\",Athletenliste!D151)","v":""},{"$f":"IF(Athletenliste!E151=\"\",\"\",Athletenliste!E151)","v":""},{"$f":"IF(Athletenliste!F151=\"\",\"\",Athletenliste!F151)","v":""},{"$f":"IF(Athletenliste!G151=\"\",\"\",Athletenliste!G151)","v":""},{"$f":"IF(Athletenliste!H151=\"\",\"\",Athletenliste!H151)","v":""},null,{"$f":"IF(B151=\"\",\"\",IF(D151=\"m\",INDIRECT(VLOOKUP(G151,Bezüge!$E$6:$F$16,2,FALSE)&ROW(G151)),INDIRECT(VLOOKUP(G151,Bezüge!$B$6:$C$16,2,FALSE)&ROW(G151))))","v":""},null,null,null,"","","","","","","","","","","","","","","","","","","","","","",null,"","","","","","","","","","","","","","","","","","","","","",""]
[null,{"$f":"IF(Athletenliste!B152=\"\",\"\",Athletenliste!B152)","v":""},{"$f":"IF(Athletenliste!C152=\"\",\"\",Athletenliste!C152)","v":""},{"$f":"IF(Athletenliste!D152=\"\",\"\",Athletenliste!D152)","v":""},{"$f":"IF(Athletenliste!E152=\"\",\"\",Athletenliste!E152)","v":""},{"$f":"IF(Athletenliste!F152=\"\",\"\",Athletenliste!F152)","v":""},{"$f":"IF(Athletenliste!G152=\"\",\"\",Athletenliste!G152)","v":""},{"$f":"IF(Athletenliste!H152=\"\",\"\",Athletenliste!H152)","v":""},null,{"$f":"IF(B152=\"\",\"\",IF(D152=\"m\",INDIRECT(VLOOKUP(G152,Bezüge!$E$6:$F$16,2,FALSE)&ROW(G152)),INDIRECT(VLOOKUP(G152,Bezüge!$B$6:$C$16,2,FALSE)&ROW(G152))))","v":""},null,null,null,"","","","","","","","","","","","","","","","","","","","","","",null,"","","","","","","","","","","","","","","","","","","","","",""]
[null,{"$f":"IF(Athletenliste!B153=\"\",\"\",Athletenliste!B153)","v":""},{"$f":"IF(Athletenliste!C153=\"\",\"\",Athletenliste!C153)","v":""},{"$f":"IF(Athletenliste!D153=\"\",\"\",Athletenliste!D153)","v":""},{"$f":"IF(Athletenliste!E153=\"\",\"\",Athletenliste!E153)","v":""},{"$f":"IF(Athletenliste!F153=\"\",\"\",Athletenliste!F153)","v":""},{"$f":"IF(Athletenliste!G153=\"\",\"\",Athletenliste!G153)","v":""},{"$f":"IF(Athletenliste!H153=\"\",\"\",Athletenliste!H153)","v":""},null,{"$f":"IF(B153=\"\",\"\",IF(D153=\"m\",INDIRECT(VLOOKUP(G153,Bezüge!$E$6:$F$16,2,FALSE)&ROW(G153)),INDIRECT(VLOOKUP(G153,Bezüge!$B$6:$C$16,2,FALSE)&ROW(G153))))","v":""},null,null,null,"","","","","","","","","","","","","","","","","","","","","","",null,"","","","","","","","","","","","","","","","","","","","","",""]
[null,{"$f":"IF(Athletenliste!B154=\"\",\"\",Athletenliste!B154)","v":""},{"$f":"IF(Athletenliste!C154=\"\",\"\",Athletenliste!C154)","v":""},{"$f":"IF(Athletenliste!D154=\"\",\"\",Athletenliste!D154)","v":""},{"$f":"IF(Athletenliste!E154=\"\",\"\",Athletenliste!E154)","v":""},{"$f":"IF(Athletenliste!F154=\"\",\"\",Athletenliste!F154)","v":""},{"$f":"IF(Athletenliste!G154=\"\",\"\",Athletenliste!G154)","v":""},{"$f":"IF(Athletenliste!H154=\"\",\"\",Athletenliste!H154)","v":""},null,{"$f":"IF(B154=\"\",\"\",IF(D154=\"m\",INDIRECT(VLOOKUP(G154,Bezüge!$E$6:$F$16,2,FALSE)&ROW(G154)),INDIRECT(VLOOKUP(G154,Bezüge!$B$6:$C$16,2,FALSE)&ROW(G154))))","v":""},null,null,null,"","","","","","","","","","","","","","","","","","","","","","",null,"","","","","","","","","","","","","","","","","","","","","",""]
[null,{"$f":"IF(Athletenliste!B155=\"\",\"\",Athletenliste!B155)","v":""},{"$f":"IF(Athletenliste!C155=\"\",\"\",Athletenliste!C155)","v":""},{"$f":"IF(Athletenliste!D155=\"\",\"\",Athletenliste!D155)","v":""},{"$f":"IF(Athletenliste!E155=\"\",\"\",Athletenliste!E155)","v":""},{"$f":"IF(Athletenliste!F155=\"\",\"\",Athletenliste!F155)","v":""},{"$f":"IF(Athletenliste!G155=\"\",\"\",Athletenliste!G155)","v":""},{"$f":"IF(Athletenliste!H155=\"\",\"\",Athletenliste!H155)","v":""},null,{"$f":"IF(B155=\"\",\"\",IF(D155=\"m\",INDIRECT(VLOOKUP(G155,Bezüge!$E$6:$F$16,2,FALSE)&ROW(G155)),INDIRECT(VLOOKUP(G155,Bezüge!$B$6:$C$16,2,FALSE)&ROW(G155))))","v":""},null,null,null,"","","","","","","","","","","","","","","","","","","","","","",null,"","","","","","","","","","","","","","","","","","","","","",""]
[null,{"$f":"IF(Athletenliste!B156=\"\",\"\",Athletenliste!B156)","v":""},{"$f":"IF(Athletenliste!C156=\"\",\"\",Athletenliste!C156)","v":""},{"$f":"IF(Athletenliste!D156=\"\",\"\",Athletenliste!D156)","v":""},{"$f":"IF(Athletenliste!E156=\"\",\"\",Athletenliste!E156)","v":""},{"$f":"IF(Athletenliste!F156=\"\",\"\",Athletenliste!F156)","v":""},{"$f":"IF(Athletenliste!G156=\"\",\"\",Athletenliste!G156)","v":""},{"$f":"IF(Athletenliste!H156=\"\",\"\",Athletenliste!H156)","v":""},null,{"$f":"IF(B156=\"\",\"\",IF(D156=\"m\",INDIRECT(VLOOKUP(G156,Bezüge!$E$6:$F$16,2,FALSE)&ROW(G156)),INDIRECT(VLOOKUP(G156,Bezüge!$B$6:$C$16,2,FALSE)&ROW(G156))))","v":""},null,null,null,"","","","","","","","","","","","","","","","","","","","","","",null,"","","","","","","","","","","","","","","","","","","","","",""]
[null,{"$f":"IF(Athletenliste!B157=\"\",\"\",Athletenliste!B157)","v":""},{"$f":"IF(Athletenliste!C157=\"\",\"\",Athletenliste!C157)","v":""},{"$f":"IF(Athletenliste!D157=\"\",\"\",Athletenliste!D157)","v":""},{"$f":"IF(Athletenliste!E157=\"\",\"\",Athletenliste!E157)","v":""},{"$f":"IF(Athletenliste!F157=\"\",\"\",Athletenliste!F157)","v":""},{"$f":"IF(Athletenliste!G157=\"\",\"\",Athletenliste!G157)","v":""},{"$f":"IF(Athletenliste!H157=\"\",\"\",Athletenliste!H157)","v":""},null,{"$f":"IF(B157=\"\",\"\",IF(D157=\"m\",INDIRECT(VLOOKUP(G157,Bezüge!$E$6:$F$16,2,FALSE)&ROW(G157)),INDIRECT(VLOOKUP(G157,Bezüge!$B$6:$C$16,2,FALSE)&ROW(G157))))","v":""},null,null,null,"","","","","","","","","","","","","","","","","","","","","","",null,"","","","","","","","","","","","","","","","","","","","","",""]
[null,{"$f":"IF(Athletenliste!B158=\"\",\"\",Athletenliste!B158)","v":""},{"$f":"IF(Athletenliste!C158=\"\",\"\",Athletenliste!C158)","v":""},{"$f":"IF(Athletenliste!D158=\"\",\"\",Athletenliste!D158)","v":""},{"$f":"IF(Athletenliste!E158=\"\",\"\",Athletenliste!E158)","v":""},{"$f":"IF(Athletenliste!F158=\"\",\"\",Athletenliste!F158)","v":""},{"$f":"IF(Athletenliste!G158=\"\",\"\",Athletenliste!G158)","v":""},{"$f":"IF(Athletenliste!H158=\"\",\"\",Athletenliste!H158)","v":""},null,{"$f":"IF(B158=\"\",\"\",IF(D158=\"m\",INDIRECT(VLOOKUP(G158,Bezüge!$E$6:$F$16,2,FALSE)&ROW(G158)),INDIRECT(VLOOKUP(G158,Bezüge!$B$6:$C$16,2,FALSE)&ROW(G158))))","v":""},null,null,null,"","","","","","","","","","","","","","","","","","","","","","",null,"","","","","","","","","","","","","","","","","","","","","",""]
[null,{"$f":"IF(Athletenliste!B159=\"\",\"\",Athletenliste!B159)","v":""},{"$f":"IF(Athletenliste!C159=\"\",\"\",Athletenliste!C159)","v":""},{"$f":"IF(Athletenliste!D159=\"\",\"\",Athletenliste!D159)","v":""},{"$f":"IF(Athletenliste!E159=\"\",\"\",Athletenliste!E159)","v":""},{"$f":"IF(Athletenliste!F159=\"\",\"\",Athletenliste!F159)","v":""},{"$f":"IF(Athletenliste!G159=\"\",\"\",Athletenliste!G159)","v":""},{"$f":"IF(Athletenliste!H159=\"\",\"\",Athletenliste!H159)","v":""},null,{"$f":"IF(B159=\"\",\"\",IF(D159=\"m\",INDIRECT(VLOOKUP(G159,Bezüge!$E$6:$F$16,2,FALSE)&ROW(G159)),INDIRECT(VLOOKUP(G159,Bezüge!$B$6:$C$16,2,FALSE)&ROW(G159))))","v":""},null,null,null,"","","","","","","","","","","","","","","","","","","","","","",null,"","","","","","","","","","","","","","","","","","","","","",""]
[null,{"$f":"IF(Athletenliste!B160=\"\",\"\",Athletenliste!B160)","v":""},{"$f":"IF(Athletenliste!C160=\"\",\"\",Athletenliste!C160)","v":""},{"$f":"IF(Athletenliste!D160=\"\",\"\",Athletenliste!D160)","v":""},{"$f":"IF(Athletenliste!E160=\"\",\"\",Athletenliste!E160)","v":""},{"$f":"IF(Athletenliste!F160=\"\",\"\",Athletenliste!F160)","v":""},{"$f":"IF(Athletenliste!G160=\"\",\"\",Athletenliste!G160)","v":""},{"$f":"IF(Athletenliste!H160=\"\",\"\",Athletenliste!H160)","v":""},null,{"$f":"IF(B160=\"\",\"\",IF(D160=\"m\",INDIRECT(VLOOKUP(G160,Bezüge!$E$6:$F$16,2,FALSE)&ROW(G160)),INDIRECT(VLOOKUP(G160,Bezüge!$B$6:$C$16,2,FALSE)&ROW(G160))))","v":""},null,null,null,"","","","","","","","","","","","","","","","","","","","","","",null,"","","","","","","","","","","","","","","","","","","","","",""]
[null,{"$f":"IF(Athletenliste!B161=\"\",\"\",Athletenliste!B161)","v":""},{"$f":"IF(Athletenliste!C161=\"\",\"\",Athletenliste!C161)","v":""},{"$f":"IF(Athletenliste!D161=\"\",\"\",Athletenliste!D161)","v":""},{"$f":"IF(Athletenliste!E161=\"\",\"\",Athletenliste!E161)","v":""},{"$f":"IF(Athletenliste!F161=\"\",\"\",Athletenliste!F161)","v":""},{"$f":"IF(Athletenliste!G161=\"\",\"\",Athletenliste!G161)","v":""},{"$f":"IF(Athletenliste!H161=\"\",\"\",Athletenliste!H161)","v":""},null,{"$f":"IF(B161=\"\",\"\",IF(D161=\"m\",INDIRECT(VLOOKUP(G161,Bezüge!$E$6:$F$16,2,FALSE)&ROW(G161)),INDIRECT(VLOOKUP(G161,Bezüge!$B$6:$C$16,2,FALSE)&ROW(G161))))","v":""},null,null,null,"","","","","","","","","","","","","","","","","","","","","","",null,"","","","","","","","","","","","","","","","","","","","","",""]
[null,{"$f":"IF(Athletenliste!B162=\"\",\"\",Athletenliste!B162)","v":""},{"$f":"IF(Athletenliste!C162=\"\",\"\",Athletenliste!C162)","v":""},{"$f":"IF(Athletenliste!D162=\"\",\"\",Athletenliste!D162)","v":""},{"$f":"IF(Athletenliste!E162=\"\",\"\",Athletenliste!E162)","v":""},{"$f":"IF(Athletenliste!F162=\"\",\"\",Athletenliste!F162)","v":""},{"$f":"IF(Athletenliste!G162=\"\",\"\",Athletenliste!G162)","v":""},{"$f":"IF(Athletenliste!H162=\"\",\"\",Athletenliste!H162)","v":""},null,{"$f":"IF(B162=\"\",\"\",IF(D162=\"m\",INDIRECT(VLOOKUP(G162,Bezüge!$E$6:$F$16,2,FALSE)&ROW(G162)),INDIRECT(VLOOKUP(G162,Bezüge!$B$6:$C$16,2,FALSE)&ROW(G162))))","v":""},null,null,null,"","","","","","","","","","","","","","","","","","","","","","",null,"","","","","","","","","","","","","","","","","","","","","",""]
[null,{"$f":"IF(Athletenliste!B163=\"\",\"\",Athletenliste!B163)","v":""},{"$f":"IF(Athletenliste!C163=\"\",\"\",Athletenliste!C163)","v":""},{"$f":"IF(Athletenliste!D163=\"\",\"\",Athletenliste!D163)","v":""},{"$f":"IF(Athletenliste!E163=\"\",\"\",Athletenliste!E163)","v":""},{"$f":"IF(Athletenliste!F163=\"\",\"\",Athletenliste!F163)","v":""},{"$f":"IF(Athletenliste!G163=\"\",\"\",Athletenliste!G163)","v":""},{"$f":"IF(Athletenliste!H163=\"\",\"\",Athletenliste!H163)","v":""},null,{"$f":"IF(B163=\"\",\"\",IF(D163=\"m\",INDIRECT(VLOOKUP(G163,Bezüge!$E$6:$F$16,2,FALSE)&ROW(G163)),INDIRECT(VLOOKUP(G163,Bezüge!$B$6:$C$16,2,FALSE)&ROW(G163))))","v":""},null,null,null,"","","","","","","","","","","","","","","","","","","","","","",null,"","","","","","","","","","","","","","","","","","","","","",""]
[null,{"$f":"IF(Athletenliste!B164=\"\",\"\",Athletenliste!B164)","v":""},{"$f":"IF(Athletenliste!C164=\"\",\"\",Athletenliste!C164)","v":""},{"$f":"IF(Athletenliste!D164=\"\",\"\",Athletenliste!D164)","v":""},{"$f":"IF(Athletenliste!E164=\"\",\"\",Athletenliste!E164)","v":""},{"$f":"IF(Athletenliste!F164=\"\",\"\",Athletenliste!F164)","v":""},{"$f":"IF(Athletenliste!G164=\"\",\"\",Athletenliste!G164)","v":""},{"$f":"IF(Athletenliste!H164=\"\",\"\",Athletenliste!H164)","v":""},null,{"$f":"IF(B164=\"\",\"\",IF(D164=\"m\",INDIRECT(VLOOKUP(G164,Bezüge!$E$6:$F$16,2,FALSE)&ROW(G164)),INDIRECT(VLOOKUP(G164,Bezüge!$B$6:$C$16,2,FALSE)&ROW(G164))))","v":""},null,null,null,"","","","","","","","","","","","","","","","","","","","","","",null,"","","","","","","","","","","","","","","","","","","","","",""]
[null,{"$f":"IF(Athletenliste!B165=\"\",\"\",Athletenliste!B165)","v":""},{"$f":"IF(Athletenliste!C165=\"\",\"\",Athletenliste!C165)","v":""},{"$f":"IF(Athletenliste!D165=\"\",\"\",Athletenliste!D165)","v":""},{"$f":"IF(Athletenliste!E165=\"\",\"\",Athletenliste!E165)","v":""},{"$f":"IF(Athletenliste!F165=\"\",\"\",Athletenliste!F165)","v":""},{"$f":"IF(Athletenliste!G165=\"\",\"\",Athletenliste!G165)","v":""},{"$f":"IF(Athletenliste!H165=\"\",\"\",Athletenliste!H165)","v":""},null,{"$f":"IF(B165=\"\",\"\",IF(D165=\"m\",INDIRECT(VLOOKUP(G165,Bezüge!$E$6:$F$16,2,FALSE)&ROW(G165)),INDIRECT(VLOOKUP(G165,Bezüge!$B$6:$C$16,2,FALSE)&ROW(G165))))","v":""},null,null,null,"","","","","","","","","","","","","","","","","","","","","","",null,"","","","","","","","","","","","","","","","","","","","","",""]
[null,{"$f":"IF(Athletenliste!B166=\"\",\"\",Athletenliste!B166)","v":""},{"$f":"IF(Athletenliste!C166=\"\",\"\",Athletenliste!C166)","v":""},{"$f":"IF(Athletenliste!D166=\"\",\"\",Athletenliste!D166)","v":""},{"$f":"IF(Athletenliste!E166=\"\",\"\",Athletenliste!E166)","v":""},{"$f":"IF(Athletenliste!F166=\"\",\"\",Athletenliste!F166)","v":""},{"$f":"IF(Athletenliste!G166=\"\",\"\",Athletenliste!G166)","v":""},{"$f":"IF(Athletenliste!H166=\"\",\"\",Athletenliste!H166)","v":""},null,{"$f":"IF(B166=\"\",\"\",IF(D166=\"m\",INDIRECT(VLOOKUP(G166,Bezüge!$E$6:$F$16,2,FALSE)&ROW(G166)),INDIRECT(VLOOKUP(G166,Bezüge!$B$6:$C$16,2,FALSE)&ROW(G166))))","v":""},null,null,null,"","","","","","","","","","","","","","","","","","","","","","",null,"","","","","","","","","","","","","","","","","","","","","",""]
[null,{"$f":"IF(Athletenliste!B167=\"\",\"\",Athletenliste!B167)","v":""},{"$f":"IF(Athletenliste!C167=\"\",\"\",Athletenliste!C167)","v":""},{"$f":"IF(Athletenliste!D167=\"\",\"\",Athletenliste!D167)","v":""},{"$f":"IF(Athletenliste!E167=\"\",\"\",Athletenliste!E167)","v":""},{"$f":"IF(Athletenliste!F167=\"\",\"\",Athletenliste!F167)","v":""},{"$f":"IF(Athletenliste!G167=\"\",\"\",Athletenliste!G167)","v":""},{"$f":"IF(Athletenliste!H167=\"\",\"\",Athletenliste!H167)","v":""},null,{"$f":"IF(B167=\"\",\"\",IF(D167=\"m\",INDIRECT(VLOOKUP(G167,Bezüge!$E$6:$F$16,2,FALSE)&ROW(G167)),INDIRECT(VLOOKUP(G167,Bezüge!$B$6:$C$16,2,FALSE)&ROW(G167))))","v":""},null,null,null,"","","","","","","","","","","","","","","","","","","","","","",null,"","","","","","","","","","","","","","","","","","","","","",""]
[null,{"$f":"IF(Athletenliste!B168=\"\",\"\",Athletenliste!B168)","v":""},{"$f":"IF(Athletenliste!C168=\"\",\"\",Athletenliste!C168)","v":""},{"$f":"IF(Athletenliste!D168=\"\",\"\",Athletenliste!D168)","v":""},{"$f":"IF(Athletenliste!E168=\"\",\"\",Athletenliste!E168)","v":""},{"$f":"IF(Athletenliste!F168=\"\",\"\",Athletenliste!F168)","v":""},{"$f":"IF(Athletenliste!G168=\"\",\"\",Athletenliste!G168)","v":""},{"$f":"IF(Athletenliste!H168=\"\",\"\",Athletenliste!H168)","v":""},null,{"$f":"IF(B168=\"\",\"\",IF(D168=\"m\",INDIRECT(VLOOKUP(G168,Bezüge!$E$6:$F$16,2,FALSE)&ROW(G168)),INDIRECT(VLOOKUP(G168,Bezüge!$B$6:$C$16,2,FALSE)&ROW(G168))))","v":""},null,null,null,"","","","","","","","","","","","","","","","","","","","","","",null,"","","","","","","","","","","","","","","","","","","","","",""]
[null,{"$f":"IF(Athletenliste!B169=\"\",\"\",Athletenliste!B169)","v":""},{"$f":"IF(Athletenliste!C169=\"\",\"\",Athletenliste!C169)","v":""},{"$f":"IF(Athletenliste!D169=\"\",\"\",Athletenliste!D169)","v":""},{"$f":"IF(Athletenliste!E169=\"\",\"\",Athletenliste!E169)","v":""},{"$f":"IF(Athletenliste!F169=\"\",\"\",Athletenliste!F169)","v":""},{"$f":"IF(Athletenliste!G169=\"\",\"\",Athletenliste!G169)","v":""},{"$f":"IF(Athletenliste!H169=\"\",\"\",Athletenliste!H169)","v":""},null,{"$f":"IF(B169=\"\",\"\",IF(D169=\"m\",INDIRECT(VLOOKUP(G169,Bezüge!$E$6:$F$16,2,FALSE)&ROW(G169)),INDIRECT(VLOOKUP(G169,Bezüge!$B$6:$C$16,2,FALSE)&ROW(G169))))","v":""},null,null,null,"","","","","","","","","","","","","","","","","","","","","","",null,"","","","","","","","","","","","","","","","","","","","","",""]
[null,{"$f":"IF(Athletenliste!B170=\"\",\"\",Athletenliste!B170)","v":""},{"$f":"IF(Athletenliste!C170=\"\",\"\",Athletenliste!C170)","v":""},{"$f":"IF(Athletenliste!D170=\"\",\"\",Athletenliste!D170)","v":""},{"$f":"IF(Athletenliste!E170=\"\",\"\",Athletenliste!E170)","v":""},{"$f":"IF(Athletenliste!F170=\"\",\"\",Athletenliste!F170)","v":""},{"$f":"IF(Athletenliste!G170=\"\",\"\",Athletenliste!G170)","v":""},{"$f":"IF(Athletenliste!H170=\"\",\"\",Athletenliste!H170)","v":""},null,{"$f":"IF(B170=\"\",\"\",IF(D170=\"m\",INDIRECT(VLOOKUP(G170,Bezüge!$E$6:$F$16,2,FALSE)&ROW(G170)),INDIRECT(VLOOKUP(G170,Bezüge!$B$6:$C$16,2,FALSE)&ROW(G170))))","v":""},null,null,null,"","","","","","","","","","","","","","","","","","","","","","",null,"","","","","","","","","","","","","","","","","","","","","",""]
[null,{"$f":"IF(Athletenliste!B171=\"\",\"\",Athletenliste!B171)","v":""},{"$f":"IF(Athletenliste!C171=\"\",\"\",Athletenliste!C171)","v":""},{"$f":"IF(Athletenliste!D171=\"\",\"\",Athletenliste!D171)","v":""},{"$f":"IF(Athletenliste!E171=\"\",\"\",Athletenliste!E171)","v":""},{"$f":"IF(Athletenliste!F171=\"\",\"\",Athletenliste!F171)","v":""},{"$f":"IF(Athletenliste!G171=\"\",\"\",Athletenliste!G171)","v":""},{"$f":"IF(Athletenliste!H171=\"\",\"\",Athletenliste!H171)","v":""},null,{"$f":"IF(B171=\"\",\"\",IF(D171=\"m\",INDIRECT(VLOOKUP(G171,Bezüge!$E$6:$F$16,2,FALSE)&ROW(G171)),INDIRECT(VLOOKUP(G171,Bezüge!$B$6:$C$16,2,FALSE)&ROW(G171))))","v":""},null,null,null,"","","","","","","","","","","","","","","","","","","","","","",null,"","","","","","","","","","","","","","","","","","","","","",""]
[null,{"$f":"IF(Athletenliste!B172=\"\",\"\",Athletenliste!B172)","v":""},{"$f":"IF(Athletenliste!C172=\"\",\"\",Athletenliste!C172)","v":""},{"$f":"IF(Athletenliste!D172=\"\",\"\",Athletenliste!D172)","v":""},{"$f":"IF(Athletenliste!E172=\"\",\"\",Athletenliste!E172)","v":""},{"$f":"IF(Athletenliste!F172=\"\",\"\",Athletenliste!F172)","v":""},{"$f":"IF(Athletenliste!G172=\"\",\"\",Athletenliste!G172)","v":""},{"$f":"IF(Athletenliste!H172=\"\",\"\",Athletenliste!H172)","v":""},null,{"$f":"IF(B172=\"\",\"\",IF(D172=\"m\",INDIRECT(VLOOKUP(G172,Bezüge!$E$6:$F$16,2,FALSE)&ROW(G172)),INDIRECT(VLOOKUP(G172,Bezüge!$B$6:$C$16,2,FALSE)&ROW(G172))))","v":""},null,null,null,"","","","","","","","","","","","","","","","","","","","","","",null,"","","","","","","","","","","","","","","","","","","","","",""]
[null,{"$f":"IF(Athletenliste!B173=\"\",\"\",Athletenliste!B173)","v":""},{"$f":"IF(Athletenliste!C173=\"\",\"\",Athletenliste!C173)","v":""},{"$f":"IF(Athletenliste!D173=\"\",\"\",Athletenliste!D173)","v":""},{"$f":"IF(Athletenliste!E173=\"\",\"\",Athletenliste!E173)","v":""},{"$f":"IF(Athletenliste!F173=\"\",\"\",Athletenliste!F173)","v":""},{"$f":"IF(Athletenliste!G173=\"\",\"\",Athletenliste!G173)","v":""},{"$f":"IF(Athletenliste!H173=\"\",\"\",Athletenliste!H173)","v":""},null,{"$f":"IF(B173=\"\",\"\",IF(D173=\"m\",INDIRECT(VLOOKUP(G173,Bezüge!$E$6:$F$16,2,FALSE)&ROW(G173)),INDIRECT(VLOOKUP(G173,Bezüge!$B$6:$C$16,2,FALSE)&ROW(G173))))","v":""},null,null,null,"","","","","","","","","","","","","","","","","","","","","","",null,"","","","","","","","","","","","","","","","","","","","","",""]
[null,{"$f":"IF(Athletenliste!B174=\"\",\"\",Athletenliste!B174)","v":""},{"$f":"IF(Athletenliste!C174=\"\",\"\",Athletenliste!C174)","v":""},{"$f":"IF(Athletenliste!D174=\"\",\"\",Athletenliste!D174)","v":""},{"$f":"IF(Athletenliste!E174=\"\",\"\",Athletenliste!E174)","v":""},{"$f":"IF(Athletenliste!F174=\"\",\"\",Athletenliste!F174)","v":""},{"$f":"IF(Athletenliste!G174=\"\",\"\",Athletenliste!G174)","v":""},{"$f":"IF(Athletenliste!H174=\"\",\"\",Athletenliste!H174)","v":""},null,{"$f":"IF(B174=\"\",\"\",IF(D174=\"m\",INDIRECT(VLOOKUP(G174,Bezüge!$E$6:$F$16,2,FALSE)&ROW(G174)),INDIRECT(VLOOKUP(G174,Bezüge!$B$6:$C$16,2,FALSE)&ROW(G174))))","v":""},null,null,null,"","","","","","","","","","","","","","","","","","","","","","",null,"","","","","","","","","","","","","","","","","","","","","",""]
[null,{"$f":"IF(Athletenliste!B175=\"\",\"\",Athletenliste!B175)","v":""},{"$f":"IF(Athletenliste!C175=\"\",\"\",Athletenliste!C175)","v":""},{"$f":"IF(Athletenliste!D175=\"\",\"\",Athletenliste!D175)","v":""},{"$f":"IF(Athletenliste!E175=\"\",\"\",Athletenliste!E175)","v":""},{"$f":"IF(Athletenliste!F175=\"\",\"\",Athletenliste!F175)","v":""},{"$f":"IF(Athletenliste!G175=\"\",\"\",Athletenliste!G175)","v":""},{"$f":"IF(Athletenliste!H175=\"\",\"\",Athletenliste!H175)","v":""},null,{"$f":"IF(B175=\"\",\"\",IF(D175=\"m\",INDIRECT(VLOOKUP(G175,Bezüge!$E$6:$F$16,2,FALSE)&ROW(G175)),INDIRECT(VLOOKUP(G175,Bezüge!$B$6:$C$16,2,FALSE)&ROW(G175))))","v":""},null,null,null,"","","","","","","","","","","","","","","","","","","","","","",null,"","","","","","","","","","","","","","","","","","","","","",""]
[null,{"$f":"IF(Athletenliste!B176=\"\",\"\",Athletenliste!B176)","v":""},{"$f":"IF(Athletenliste!C176=\"\",\"\",Athletenliste!C176)","v":""},{"$f":"IF(Athletenliste!D176=\"\",\"\",Athletenliste!D176)","v":""},{"$f":"IF(Athletenliste!E176=\"\",\"\",Athletenliste!E176)","v":""},{"$f":"IF(Athletenliste!F176=\"\",\"\",Athletenliste!F176)","v":""},{"$f":"IF(Athletenliste!G176=\"\",\"\",Athletenliste!G176)","v":""},{"$f":"IF(Athletenliste!H176=\"\",\"\",Athletenliste!H176)","v":""},null,{"$f":"IF(B176=\"\",\"\",IF(D176=\"m\",INDIRECT(VLOOKUP(G176,Bezüge!$E$6:$F$16,2,FALSE)&ROW(G176)),INDIRECT(VLOOKUP(G176,Bezüge!$B$6:$C$16,2,FALSE)&ROW(G176))))","v":""},null,null,null,"","","","","","","","","","","","","","","","","","","","","","",null,"","","","","","","","","","","","","","","","","","","","","",""]
[null,{"$f":"IF(Athletenliste!B177=\"\",\"\",Athletenliste!B177)","v":""},{"$f":"IF(Athletenliste!C177=\"\",\"\",Athletenliste!C177)","v":""},{"$f":"IF(Athletenliste!D177=\"\",\"\",Athletenliste!D177)","v":""},{"$f":"IF(Athletenliste!E177=\"\",\"\",Athletenliste!E177)","v":""},{"$f":"IF(Athletenliste!F177=\"\",\"\",Athletenliste!F177)","v":""},{"$f":"IF(Athletenliste!G177=\"\",\"\",Athletenliste!G177)","v":""},{"$f":"IF(Athletenliste!H177=\"\",\"\",Athletenliste!H177)","v":""},null,{"$f":"IF(B177=\"\",\"\",IF(D177=\"m\",INDIRECT(VLOOKUP(G177,Bezüge!$E$6:$F$16,2,FALSE)&ROW(G177)),INDIRECT(VLOOKUP(G177,Bezüge!$B$6:$C$16,2,FALSE)&ROW(G177))))","v":""},null,null,null,"","","","","","","","","","","","","","","","","","","","","","",null,"","","","","","","","","","","","","","","","","","","","","",""]
[null,{"$f":"IF(Athletenliste!B178=\"\",\"\",Athletenliste!B178)","v":""},{"$f":"IF(Athletenliste!C178=\"\",\"\",Athletenliste!C178)","v":""},{"$f":"IF(Athletenliste!D178=\"\",\"\",Athletenliste!D178)","v":""},{"$f":"IF(Athletenliste!E178=\"\",\"\",Athletenliste!E178)","v":""},{"$f":"IF(Athletenliste!F178=\"\",\"\",Athletenliste!F178)","v":""},{"$f":"IF(Athletenliste!G178=\"\",\"\",Athletenliste!G178)","v":""},{"$f":"IF(Athletenliste!H178=\"\",\"\",Athletenliste!H178)","v":""},null,{"$f":"IF(B178=\"\",\"\",IF(D178=\"m\",INDIRECT(VLOOKUP(G178,Bezüge!$E$6:$F$16,2,FALSE)&ROW(G178)),INDIRECT(VLOOKUP(G178,Bezüge!$B$6:$C$16,2,FALSE)&ROW(G178))))","v":""},null,null,null,"","","","","","","","","","","","","","","","","","","","","","",null,"","","","","","","","","","","","","","","","","","","","","",""]
[null,{"$f":"IF(Athletenliste!B179=\"\",\"\",Athletenliste!B179)","v":""},{"$f":"IF(Athletenliste!C179=\"\",\"\",Athletenliste!C179)","v":""},{"$f":"IF(Athletenliste!D179=\"\",\"\",Athletenliste!D179)","v":""},{"$f":"IF(Athletenliste!E179=\"\",\"\",Athletenliste!E179)","v":""},{"$f":"IF(Athletenliste!F179=\"\",\"\",Athletenliste!F179)","v":""},{"$f":"IF(Athletenliste!G179=\"\",\"\",Athletenliste!G179)","v":""},{"$f":"IF(Athletenliste!H179=\"\",\"\",Athletenliste!H179)","v":""},null,{"$f":"IF(B179=\"\",\"\",IF(D179=\"m\",INDIRECT(VLOOKUP(G179,Bezüge!$E$6:$F$16,2,FALSE)&ROW(G179)),INDIRECT(VLOOKUP(G179,Bezüge!$B$6:$C$16,2,FALSE)&ROW(G179))))","v":""},null,null,null,"","","","","","","","","","","","","","","","","","","","","","",null,"","","","","","","","","","","","","","","","","","","","","",""]
[null,{"$f":"IF(Athletenliste!B180=\"\",\"\",Athletenliste!B180)","v":""},{"$f":"IF(Athletenliste!C180=\"\",\"\",Athletenliste!C180)","v":""},{"$f":"IF(Athletenliste!D180=\"\",\"\",Athletenliste!D180)","v":""},{"$f":"IF(Athletenliste!E180=\"\",\"\",Athletenliste!E180)","v":""},{"$f":"IF(Athletenliste!F180=\"\",\"\",Athletenliste!F180)","v":""},{"$f":"IF(Athletenliste!G180=\"\",\"\",Athletenliste!G180)","v":""},{"$f":"IF(Athletenliste!H180=\"\",\"\",Athletenliste!H180)","v":""},null,{"$f":"IF(B180=\"\",\"\",IF(D180=\"m\",INDIRECT(VLOOKUP(G180,Bezüge!$E$6:$F$16,2,FALSE)&ROW(G180)),INDIRECT(VLOOKUP(G180,Bezüge!$B$6:$C$16,2,FALSE)&ROW(G180))))","v":""},null,null,null,"","","","","","","","","","","","","","","","","","","","","","",null,"","","","","","","","","","","","","","","","","","","","","",""]
[null,{"$f":"IF(Athletenliste!B181=\"\",\"\",Athletenliste!B181)","v":""},{"$f":"IF(Athletenliste!C181=\"\",\"\",Athletenliste!C181)","v":""},{"$f":"IF(Athletenliste!D181=\"\",\"\",Athletenliste!D181)","v":""},{"$f":"IF(Athletenliste!E181=\"\",\"\",Athletenliste!E181)","v":""},{"$f":"IF(Athletenliste!F181=\"\",\"\",Athletenliste!F181)","v":""},{"$f":"IF(Athletenliste!G181=\"\",\"\",Athletenliste!G181)","v":""},{"$f":"IF(Athletenliste!H181=\"\",\"\",Athletenliste!H181)","v":""},null,{"$f":"IF(B181=\"\",\"\",IF(D181=\"m\",INDIRECT(VLOOKUP(G181,Bezüge!$E$6:$F$16,2,FALSE)&ROW(G181)),INDIRECT(VLOOKUP(G181,Bezüge!$B$6:$C$16,2,FALSE)&ROW(G181))))","v":""},null,null,null,"","","","","","","","","","","","","","","","","","","","","","",null,"","","","","","","","","","","","","","","","","","","","","",""]
[null,{"$f":"IF(Athletenliste!B182=\"\",\"\",Athletenliste!B182)","v":""},{"$f":"IF(Athletenliste!C182=\"\",\"\",Athletenliste!C182)","v":""},{"$f":"IF(Athletenliste!D182=\"\",\"\",Athletenliste!D182)","v":""},{"$f":"IF(Athletenliste!E182=\"\",\"\",Athletenliste!E182)","v":""},{"$f":"IF(Athletenliste!F182=\"\",\"\",Athletenliste!F182)","v":""},{"$f":"IF(Athletenliste!G182=\"\",\"\",Athletenliste!G182)","v":""},{"$f":"IF(Athletenliste!H182=\"\",\"\",Athletenliste!H182)","v":""},null,{"$f":"IF(B182=\"\",\"\",IF(D182=\"m\",INDIRECT(VLOOKUP(G182,Bezüge!$E$6:$F$16,2,FALSE)&ROW(G182)),INDIRECT(VLOOKUP(G182,Bezüge!$B$6:$C$16,2,FALSE)&ROW(G182))))","v":""},null,null,null,"","","","","","","","","","","","","","","","","","","","","","",null,"","","","","","","","","","","","","","","","","","","","","",""]
[null,{"$f":"IF(Athletenliste!B183=\"\",\"\",Athletenliste!B183)","v":""},{"$f":"IF(Athletenliste!C183=\"\",\"\",Athletenliste!C183)","v":""},{"$f":"IF(Athletenliste!D183=\"\",\"\",Athletenliste!D183)","v":""},{"$f":"IF(Athletenliste!E183=\"\",\"\",Athletenliste!E183)","v":""},{"$f":"IF(Athletenliste!F183=\"\",\"\",Athletenliste!F183)","v":""},{"$f":"IF(Athletenliste!G183=\"\",\"\",Athletenliste!G183)","v":""},{"$f":"IF(Athletenliste!H183=\"\",\"\",Athletenliste!H183)","v":""},null,{"$f":"IF(B183=\"\",\"\",IF(D183=\"m\",INDIRECT(VLOOKUP(G183,Bezüge!$E$6:$F$16,2,FALSE)&ROW(G183)),INDIRECT(VLOOKUP(G183,Bezüge!$B$6:$C$16,2,FALSE)&ROW(G183))))","v":""},null,null,null,"","","","","","","","","","","","","","","","","","","","","","",null,"","","","","","","","","","","","","","","","","","","","","",""]
[null,{"$f":"IF(Athletenliste!B184=\"\",\"\",Athletenliste!B184)","v":""},{"$f":"IF(Athletenliste!C184=\"\",\"\",Athletenliste!C184)","v":""},{"$f":"IF(Athletenliste!D184=\"\",\"\",Athletenliste!D184)","v":""},{"$f":"IF(Athletenliste!E184=\"\",\"\",Athletenliste!E184)","v":""},{"$f":"IF(Athletenliste!F184=\"\",\"\",Athletenliste!F184)","v":""},{"$f":"IF(Athletenliste!G184=\"\",\"\",Athletenliste!G184)","v":""},{"$f":"IF(Athletenliste!H184=\"\",\"\",Athletenliste!H184)","v":""},null,{"$f":"IF(B184=\"\",\"\",IF(D184=\"m\",INDIRECT(VLOOKUP(G184,Bezüge!$E$6:$F$16,2,FALSE)&ROW(G184)),INDIRECT(VLOOKUP(G184,Bezüge!$B$6:$C$16,2,FALSE)&ROW(G184))))","v":""},null,null,null,"","","","","","","","","","","","","","","","","","","","","","",null,"","","","","","","","","","","","","","","","","","","","","",""]
[null,{"$f":"IF(Athletenliste!B185=\"\",\"\",Athletenliste!B185)","v":""},{"$f":"IF(Athletenliste!C185=\"\",\"\",Athletenliste!C185)","v":""},{"$f":"IF(Athletenliste!D185=\"\",\"\",Athletenliste!D185)","v":""},{"$f":"IF(Athletenliste!E185=\"\",\"\",Athletenliste!E185)","v":""},{"$f":"IF(Athletenliste!F185=\"\",\"\",Athletenliste!F185)","v":""},{"$f":"IF(Athletenliste!G185=\"\",\"\",Athletenliste!G185)","v":""},{"$f":"IF(Athletenliste!H185=\"\",\"\",Athletenliste!H185)","v":""},null,{"$f":"IF(B185=\"\",\"\",IF(D185=\"m\",INDIRECT(VLOOKUP(G185,Bezüge!$E$6:$F$16,2,FALSE)&ROW(G185)),INDIRECT(VLOOKUP(G185,Bezüge!$B$6:$C$16,2,FALSE)&ROW(G185))))","v":""},null,null,null,"","","","","","","","","","","","","","","","","","","","","","",null,"","","","","","","","","","","","","","","","","","","","","",""]
[null,{"$f":"IF(Athletenliste!B186=\"\",\"\",Athletenliste!B186)","v":""},{"$f":"IF(Athletenliste!C186=\"\",\"\",Athletenliste!C186)","v":""},{"$f":"IF(Athletenliste!D186=\"\",\"\",Athletenliste!D186)","v":""},{"$f":"IF(Athletenliste!E186=\"\",\"\",Athletenliste!E186)","v":""},{"$f":"IF(Athletenliste!F186=\"\",\"\",Athletenliste!F186)","v":""},{"$f":"IF(Athletenliste!G186=\"\",\"\",Athletenliste!G186)","v":""},{"$f":"IF(Athletenliste!H186=\"\",\"\",Athletenliste!H186)","v":""},null,{"$f":"IF(B186=\"\",\"\",IF(D186=\"m\",INDIRECT(VLOOKUP(G186,Bezüge!$E$6:$F$16,2,FALSE)&ROW(G186)),INDIRECT(VLOOKUP(G186,Bezüge!$B$6:$C$16,2,FALSE)&ROW(G186))))","v":""},null,null,null,"","","","","","","","","","","","","","","","","","","","","","",null,"","","","","","","","","","","","","","","","","","","","","",""]
[null,{"$f":"IF(Athletenliste!B187=\"\",\"\",Athletenliste!B187)","v":""},{"$f":"IF(Athletenliste!C187=\"\",\"\",Athletenliste!C187)","v":""},{"$f":"IF(Athletenliste!D187=\"\",\"\",Athletenliste!D187)","v":""},{"$f":"IF(Athletenliste!E187=\"\",\"\",Athletenliste!E187)","v":""},{"$f":"IF(Athletenliste!F187=\"\",\"\",Athletenliste!F187)","v":""},{"$f":"IF(Athletenliste!G187=\"\",\"\",Athletenliste!G187)","v":""},{"$f":"IF(Athletenliste!H187=\"\",\"\",Athletenliste!H187)","v":""},null,{"$f":"IF(B187=\"\",\"\",IF(D187=\"m\",INDIRECT(VLOOKUP(G187,Bezüge!$E$6:$F$16,2,FALSE)&ROW(G187)),INDIRECT(VLOOKUP(G187,Bezüge!$B$6:$C$16,2,FALSE)&ROW(G187))))","v":""},null,null,null,"","","","","","","","","","","","","","","","","","","","","","",null,"","","","","","","","","","","","","","","","","","","","","",""]
[null,{"$f":"IF(Athletenliste!B188=\"\",\"\",Athletenliste!B188)","v":""},{"$f":"IF(Athletenliste!C188=\"\",\"\",Athletenliste!C188)","v":""},{"$f":"IF(Athletenliste!D188=\"\",\"\",Athletenliste!D188)","v":""},{"$f":"IF(Athletenliste!E188=\"\",\"\",Athletenliste!E188)","v":""},{"$f":"IF(Athletenliste!F188=\"\",\"\",Athletenliste!F188)","v":""},{"$f":"IF(Athletenliste!G188=\"\",\"\",Athletenliste!G188)","v":""},{"$f":"IF(Athletenliste!H188=\"\",\"\",Athletenliste!H188)","v":""},null,{"$f":"IF(B188=\"\",\"\",IF(D188=\"m\",INDIRECT(VLOOKUP(G188,Bezüge!$E$6:$F$16,2,FALSE)&ROW(G188)),INDIRECT(VLOOKUP(G188,Bezüge!$B$6:$C$16,2,FALSE)&ROW(G188))))","v":""},null,null,null,"","","","","","","","","","","","","","","","","","","","","","",null,"","","","","","","","","","","","","","","","","","","","","",""]
[null,{"$f":"IF(Athletenliste!B189=\"\",\"\",Athletenliste!B189)","v":""},{"$f":"IF(Athletenliste!C189=\"\",\"\",Athletenliste!C189)","v":""},{"$f":"IF(Athletenliste!D189=\"\",\"\",Athletenliste!D189)","v":""},{"$f":"IF(Athletenliste!E189=\"\",\"\",Athletenliste!E189)","v":""},{"$f":"IF(Athletenliste!F189=\"\",\"\",Athletenliste!F189)","v":""},{"$f":"IF(Athletenliste!G189=\"\",\"\",Athletenliste!G189)","v":""},{"$f":"IF(Athletenliste!H189=\"\",\"\",Athletenliste!H189)","v":""},null,{"$f":"IF(B189=\"\",\"\",IF(D189=\"m\",INDIRECT(VLOOKUP(G189,Bezüge!$E$6:$F$16,2,FALSE)&ROW(G189)),INDIRECT(VLOOKUP(G189,Bezüge!$B$6:$C$16,2,FALSE)&ROW(G189))))","v":""},null,null,null,"","","","","","","","","","","","","","","","","","","","","","",null,"","","","","","","","","","","","","","","","","","","","","",""]
[null,{"$f":"IF(Athletenliste!B190=\"\",\"\",Athletenliste!B190)","v":""},{"$f":"IF(Athletenliste!C190=\"\",\"\",Athletenliste!C190)","v":""},{"$f":"IF(Athletenliste!D190=\"\",\"\",Athletenliste!D190)","v":""},{"$f":"IF(Athletenliste!E190=\"\",\"\",Athletenliste!E190)","v":""},{"$f":"IF(Athletenliste!F190=\"\",\"\",Athletenliste!F190)","v":""},{"$f":"IF(Athletenliste!G190=\"\",\"\",Athletenliste!G190)","v":""},{"$f":"IF(Athletenliste!H190=\"\",\"\",Athletenliste!H190)","v":""},null,{"$f":"IF(B190=\"\",\"\",IF(D190=\"m\",INDIRECT(VLOOKUP(G190,Bezüge!$E$6:$F$16,2,FALSE)&ROW(G190)),INDIRECT(VLOOKUP(G190,Bezüge!$B$6:$C$16,2,FALSE)&ROW(G190))))","v":""},null,null,null,"","","","","","","","","","","","","","","","","","","","","","",null,"","","","","","","","","","","","","","","","","","","","","",""]
[null,{"$f":"IF(Athletenliste!B191=\"\",\"\",Athletenliste!B191)","v":""},{"$f":"IF(Athletenliste!C191=\"\",\"\",Athletenliste!C191)","v":""},{"$f":"IF(Athletenliste!D191=\"\",\"\",Athletenliste!D191)","v":""},{"$f":"IF(Athletenliste!E191=\"\",\"\",Athletenliste!E191)","v":""},{"$f":"IF(Athletenliste!F191=\"\",\"\",Athletenliste!F191)","v":""},{"$f":"IF(Athletenliste!G191=\"\",\"\",Athletenliste!G191)","v":""},{"$f":"IF(Athletenliste!H191=\"\",\"\",Athletenliste!H191)","v":""},null,{"$f":"IF(B191=\"\",\"\",IF(D191=\"m\",INDIRECT(VLOOKUP(G191,Bezüge!$E$6:$F$16,2,FALSE)&ROW(G191)),INDIRECT(VLOOKUP(G191,Bezüge!$B$6:$C$16,2,FALSE)&ROW(G191))))","v":""},null,null,null,"","","","","","","","","","","","","","","","","","","","","","",null,"","","","","","","","","","","","","","","","","","","","","",""]
[null,{"$f":"IF(Athletenliste!B192=\"\",\"\",Athletenliste!B192)","v":""},{"$f":"IF(Athletenliste!C192=\"\",\"\",Athletenliste!C192)","v":""},{"$f":"IF(Athletenliste!D192=\"\",\"\",Athletenliste!D192)","v":""},{"$f":"IF(Athletenliste!E192=\"\",\"\",Athletenliste!E192)","v":""},{"$f":"IF(Athletenliste!F192=\"\",\"\",Athletenliste!F192)","v":""},{"$f":"IF(Athletenliste!G192=\"\",\"\",Athletenliste!G192)","v":""},{"$f":"IF(Athletenliste!H192=\"\",\"\",Athletenliste!H192)","v":""},null,{"$f":"IF(B192=\"\",\"\",IF(D192=\"m\",INDIRECT(VLOOKUP(G192,Bezüge!$E$6:$F$16,2,FALSE)&ROW(G192)),INDIRECT(VLOOKUP(G192,Bezüge!$B$6:$C$16,2,FALSE)&ROW(G192))))","v":""},null,null,null,"","","","","","","","","","","","","","","","","","","","","","",null,"","","","","","","","","","","","","","","","","","","","","",""]
[null,{"$f":"IF(Athletenliste!B193=\"\",\"\",Athletenliste!B193)","v":""},{"$f":"IF(Athletenliste!C193=\"\",\"\",Athletenliste!C193)","v":""},{"$f":"IF(Athletenliste!D193=\"\",\"\",Athletenliste!D193)","v":""},{"$f":"IF(Athletenliste!E193=\"\",\"\",Athletenliste!E193)","v":""},{"$f":"IF(Athletenliste!F193=\"\",\"\",Athletenliste!F193)","v":""},{"$f":"IF(Athletenliste!G193=\"\",\"\",Athletenliste!G193)","v":""},{"$f":"IF(Athletenliste!H193=\"\",\"\",Athletenliste!H193)","v":""},null,{"$f":"IF(B193=\"\",\"\",IF(D193=\"m\",INDIRECT(VLOOKUP(G193,Bezüge!$E$6:$F$16,2,FALSE)&ROW(G193)),INDIRECT(VLOOKUP(G193,Bezüge!$B$6:$C$16,2,FALSE)&ROW(G193))))","v":""},null,null,null,"","","","","","","","","","","","","","","","","","","","","","",null,"","","","","","","","","","","","","","","","","","","","","",""]
[null,{"$f":"IF(Athletenliste!B194=\"\",\"\",Athletenliste!B194)","v":""},{"$f":"IF(Athletenliste!C194=\"\",\"\",Athletenliste!C194)","v":""},{"$f":"IF(Athletenliste!D194=\"\",\"\",Athletenliste!D194)","v":""},{"$f":"IF(Athletenliste!E194=\"\",\"\",Athletenliste!E194)","v":""},{"$f":"IF(Athletenliste!F194=\"\",\"\",Athletenliste!F194)","v":""},{"$f":"IF(Athletenliste!G194=\"\",\"\",Athletenliste!G194)","v":""},{"$f":"IF(Athletenliste!H194=\"\",\"\",Athletenliste!H194)","v":""},null,{"$f":"IF(B194=\"\",\"\",IF(D194=\"m\",INDIRECT(VLOOKUP(G194,Bezüge!$E$6:$F$16,2,FALSE)&ROW(G194)),INDIRECT(VLOOKUP(G194,Bezüge!$B$6:$C$16,2,FALSE)&ROW(G194))))","v":""},null,null,null,"","","","","","","","","","","","","","","","","","","","","","",null,"","","","","","","","","","","","","","","","","","","","","",""]
[null,{"$f":"IF(Athletenliste!B195=\"\",\"\",Athletenliste!B195)","v":""},{"$f":"IF(Athletenliste!C195=\"\",\"\",Athletenliste!C195)","v":""},{"$f":"IF(Athletenliste!D195=\"\",\"\",Athletenliste!D195)","v":""},{"$f":"IF(Athletenliste!E195=\"\",\"\",Athletenliste!E195)","v":""},{"$f":"IF(Athletenliste!F195=\"\",\"\",Athletenliste!F195)","v":""},{"$f":"IF(Athletenliste!G195=\"\",\"\",Athletenliste!G195)","v":""},{"$f":"IF(Athletenliste!H195=\"\",\"\",Athletenliste!H195)","v":""},null,{"$f":"IF(B195=\"\",\"\",IF(D195=\"m\",INDIRECT(VLOOKUP(G195,Bezüge!$E$6:$F$16,2,FALSE)&ROW(G195)),INDIRECT(VLOOKUP(G195,Bezüge!$B$6:$C$16,2,FALSE)&ROW(G195))))","v":""},null,null,null,"","","","","","","","","","","","","","","","","","","","","","",null,"","","","","","","","","","","","","","","","","","","","","",""]
[null,{"$f":"IF(Athletenliste!B196=\"\",\"\",Athletenliste!B196)","v":""},{"$f":"IF(Athletenliste!C196=\"\",\"\",Athletenliste!C196)","v":""},{"$f":"IF(Athletenliste!D196=\"\",\"\",Athletenliste!D196)","v":""},{"$f":"IF(Athletenliste!E196=\"\",\"\",Athletenliste!E196)","v":""},{"$f":"IF(Athletenliste!F196=\"\",\"\",Athletenliste!F196)","v":""},{"$f":"IF(Athletenliste!G196=\"\",\"\",Athletenliste!G196)","v":""},{"$f":"IF(Athletenliste!H196=\"\",\"\",Athletenliste!H196)","v":""},null,{"$f":"IF(B196=\"\",\"\",IF(D196=\"m\",INDIRECT(VLOOKUP(G196,Bezüge!$E$6:$F$16,2,FALSE)&ROW(G196)),INDIRECT(VLOOKUP(G196,Bezüge!$B$6:$C$16,2,FALSE)&ROW(G196))))","v":""},null,null,null,"","","","","","","","","","","","","","","","","","","","","","",null,"","","","","","","","","","","","","","","","","","","","","",""]
[null,{"$f":"IF(Athletenliste!B197=\"\",\"\",Athletenliste!B197)","v":""},{"$f":"IF(Athletenliste!C197=\"\",\"\",Athletenliste!C197)","v":""},{"$f":"IF(Athletenliste!D197=\"\",\"\",Athletenliste!D197)","v":""},{"$f":"IF(Athletenliste!E197=\"\",\"\",Athletenliste!E197)","v":""},{"$f":"IF(Athletenliste!F197=\"\",\"\",Athletenliste!F197)","v":""},{"$f":"IF(Athletenliste!G197=\"\",\"\",Athletenliste!G197)","v":""},{"$f":"IF(Athletenliste!H197=\"\",\"\",Athletenliste!H197)","v":""},null,{"$f":"IF(B197=\"\",\"\",IF(D197=\"m\",INDIRECT(VLOOKUP(G197,Bezüge!$E$6:$F$16,2,FALSE)&ROW(G197)),INDIRECT(VLOOKUP(G197,Bezüge!$B$6:$C$16,2,FALSE)&ROW(G197))))","v":""},null,null,null,"","","","","","","","","","","","","","","","","","","","","","",null,"","","","","","","","","","","","","","","","","","","","","",""]
[null,{"$f":"IF(Athletenliste!B198=\"\",\"\",Athletenliste!B198)","v":""},{"$f":"IF(Athletenliste!C198=\"\",\"\",Athletenliste!C198)","v":""},{"$f":"IF(Athletenliste!D198=\"\",\"\",Athletenliste!D198)","v":""},{"$f":"IF(Athletenliste!E198=\"\",\"\",Athletenliste!E198)","v":""},{"$f":"IF(Athletenliste!F198=\"\",\"\",Athletenliste!F198)","v":""},{"$f":"IF(Athletenliste!G198=\"\",\"\",Athletenliste!G198)","v":""},{"$f":"IF(Athletenliste!H198=\"\",\"\",Athletenliste!H198)","v":""},null,{"$f":"IF(B198=\"\",\"\",IF(D198=\"m\",INDIRECT(VLOOKUP(G198,Bezüge!$E$6:$F$16,2,FALSE)&ROW(G198)),INDIRECT(VLOOKUP(G198,Bezüge!$B$6:$C$16,2,FALSE)&ROW(G198))))","v":""},null,null,null,"","","","","","","","","","","","","","","","","","","","","","",null,"","","","","","","","","","","","","","","","","","","","","",""]
[null,{"$f":"IF(Athletenliste!B199=\"\",\"\",Athletenliste!B199)","v":""},{"$f":"IF(Athletenliste!C199=\"\",\"\",Athletenliste!C199)","v":""},{"$f":"IF(Athletenliste!D199=\"\",\"\",Athletenliste!D199)","v":""},{"$f":"IF(Athletenliste!E199=\"\",\"\",Athletenliste!E199)","v":""},{"$f":"IF(Athletenliste!F199=\"\",\"\",Athletenliste!F199)","v":""},{"$f":"IF(Athletenliste!G199=\"\",\"\",Athletenliste!G199)","v":""},{"$f":"IF(Athletenliste!H199=\"\",\"\",Athletenliste!H199)","v":""},null,{"$f":"IF(B199=\"\",\"\",IF(D199=\"m\",INDIRECT(VLOOKUP(G199,Bezüge!$E$6:$F$16,2,FALSE)&ROW(G199)),INDIRECT(VLOOKUP(G199,Bezüge!$B$6:$C$16,2,FALSE)&ROW(G199))))","v":""},null,null,null,"","","","","","","","","","","","","","","","","","","","","","",null,"","","","","","","","","","","","","","","","","","","","","",""]
[null,{"$f":"IF(Athletenliste!B200=\"\",\"\",Athletenliste!B200)","v":""},{"$f":"IF(Athletenliste!C200=\"\",\"\",Athletenliste!C200)","v":""},{"$f":"IF(Athletenliste!D200=\"\",\"\",Athletenliste!D200)","v":""},{"$f":"IF(Athletenliste!E200=\"\",\"\",Athletenliste!E200)","v":""},{"$f":"IF(Athletenliste!F200=\"\",\"\",Athletenliste!F200)","v":""},{"$f":"IF(Athletenliste!G200=\"\",\"\",Athletenliste!G200)","v":""},{"$f":"IF(Athletenliste!H200=\"\",\"\",Athletenliste!H200)","v":""},null,{"$f":"IF(B200=\"\",\"\",IF(D200=\"m\",INDIRECT(VLOOKUP(G200,Bezüge!$E$6:$F$16,2,FALSE)&ROW(G200)),INDIRECT(VLOOKUP(G200,Bezüge!$B$6:$C$16,2,FALSE)&ROW(G200))))","v":""},null,null,null,"","","","","","","","","","","","","","","","","","","","","","",null,"","","","","","","","","","","","","","","","","","","","","",""]
[null,{"$f":"IF(Athletenliste!B201=\"\",\"\",Athletenliste!B201)","v":""},{"$f":"IF(Athletenliste!C201=\"\",\"\",Athletenliste!C201)","v":""},{"$f":"IF(Athletenliste!D201=\"\",\"\",Athletenliste!D201)","v":""},{"$f":"IF(Athletenliste!E201=\"\",\"\",Athletenliste!E201)","v":""},{"$f":"IF(Athletenliste!F201=\"\",\"\",Athletenliste!F201)","v":""},{"$f":"IF(Athletenliste!G201=\"\",\"\",Athletenliste!G201)","v":""},{"$f":"IF(Athletenliste!H201=\"\",\"\",Athletenliste!H201)","v":""},null,null,null,null,null,"","","","","","","","","","","","","","","","","","","","","","",null,"","","","","","","","","","","","","","","","","","","","","",""]
[null,{"$f":"IF(Athletenliste!B202=\"\",\"\",Athletenliste!B202)","v":""},{"$f":"IF(Athletenliste!C202=\"\",\"\",Athletenliste!C202)","v":""},{"$f":"IF(Athletenliste!D202=\"\",\"\",Athletenliste!D202)","v":""},{"$f":"IF(Athletenliste!E202=\"\",\"\",Athletenliste!E202)","v":""},{"$f":"IF(Athletenliste!F202=\"\",\"\",Athletenliste!F202)","v":""},{"$f":"IF(Athletenliste!G202=\"\",\"\",Athletenliste!G202)","v":""},{"$f":"IF(Athletenliste!H202=\"\",\"\",Athletenliste!H202)","v":""},null,null,null,null,null,"","","","","","","","","","","","","","","","","","","","","","",null,"","","","","","","","","","","","","","","","","","","","","",""]

{"sheet":"Balance","index":8,"n_rows":202,"n_cols":58,"rows_kept":202,"cut":false,"hidden":false,"merged":[[3,2,3,3],[6,13,6,34],[6,36,6,57]]}
[]
[null,"SKILANGLAUF - DEUTSCHLAND - ATHLETIK - CHALLENGE"]
[]
[null,"Ort:",{"$f":"Athletenliste!C4","v":"Leipzig"},null,"Datum:",{"$f":"Gesamtliste!F4","v":"2021-05-18"}]
[]
[null,"Balance"]
[null,"Name","Vorname","Geschlecht","Jahrgang","Testdatum","AK","LV","Balance","Rang in AK",null,null,null,"männlich",null,null,null,null,null,null,null,null,null,null,null,null,null,null,null,null,null,null,null,null,null,null,"Weiblich"]
[null,null,null,null,null,null,null,null,"[0,0 Pkt]",null,null,null,null,"U06  ","Ra","U07 ","Ra","U08 ","Ra","U09 ","Ra","U10 ","Ra","U11 ","Ra","U12 ","Ra","U13 ","Ra","U14 ","Ra","U15 ","Ra","U16 ","Ra",null,"U06  ","Ra","U07 ","Ra","U08 ","Ra","U09 ","Ra","U10 ","Ra","U11 ","Ra","U12 ","Ra","U13 ","Ra","U14 ","Ra","U15 ","Ra","U16 ","Ra"]
[]
[null,{"$f":"IF(Athletenliste!B10=\"\",\"\",Athletenliste!B10)","v":""},{"$f":"IF(Athletenliste!C10=\"\",\"\",Athletenliste!C10)","v":""},{"$f":"IF(Athletenliste!D10=\"\",\"\",Athletenliste!D10)","v":""},{"$f":"IF(Athletenliste!E10=\"\",\"\",Athletenliste!E10)","v":""},{"$f":"IF(Athletenliste!F10=\"\",\"\",Athletenliste!F10)","v":""},{"$f":"IF(Athletenliste!G10=\"\",\"\",Athletenliste!G10)","v":""},{"$f":"IF(Athletenliste!H10=\"\",\"\",Athletenliste!H10)","v":""},null,{"$f":"IF(B10=\"\",\"\",IF(D10=\"m\",INDIRECT(VLOOKUP(G10,Bezüge!$E$6:$F$16,2,FALSE)&ROW(G10)),INDIRECT(VLOOKUP(G10,Bezüge!$B$6:$C$16,2,FALSE)&ROW(G10))))","v":""},null,null,null,{"$f":"IF(AND(D10=\"m\",G10=\"U06\",I10<>\"\"),I10,\"\")","v":""},{"$f":"IF(OR(I10=\"\",N10=\"\"),\"\",_xlfn.RANK.EQ(N10,N$10:N$200,1))","v":""},{"$f":"IF(AND(D10=\"m\",G10=\"U07\",I10<>\"\"),I10,\"\")","v":""},{"$f":"IF(OR(I10=\"\",P10=\"\"),\"\",_xlfn.RANK.EQ(P10,P$10:P$200,1))","v":""},{"$f":"IF(AND(D10=\"m\",G10=\"U08\",I10<>\"\"),I10,\"\")","v":""},{"$f":"IF(OR(I10=\"\",R10=\"\"),\"\",_xlfn.RANK.EQ(R10,R$10:R$200,1))","v":""},{"$f":"IF(AND(D10=\"m\",G10=\"U09\",I10<>\"\"),I10,\"\")","v":""},{"$f":"IF(OR(I10=\"\",T10=\"\"),\"\",_xlfn.RANK.EQ(T10,T$10:T$200,1))","v":""},{"$f":"IF(AND(D10=\"m\",G10=\"U10\",I10<>\"\"),I10,\"\")","v":""},{"$f":"IF(OR(I10=\"\",V10=\"\"),\"\",_xlfn.RANK.EQ(V10,V$10:V$200,1))","v":""},{"$f":"IF(AND(D10=\"m\",G10=\"U11\",I10<>\"\"),I10,\"\")","v":""},{"$f":"IF(OR(I10=\"\",X10=\"\"),\"\",_xlfn.RANK.EQ(X10,X$10:X$200,1))","v":""},{"$f":"IF(AND(D10=\"m\",G10=\"U12\",I10<>\"\"),I10,\"\")","v":""},{"$f":"IF(OR(I10=\"\",Z10=\"\"),\"\",_xlfn.RANK.EQ(Z10,Z$10:Z$200,1))","v":""},{"$f":"IF(AND(D10=\"m\",G10=\"U13\",I10<>\"\"),I10,\"\")","v":""},{"$f":"IF(OR(I10=\"\",AB10=\"\"),\"\",_xlfn.RANK.EQ(AB10,AB$10:AB$200,1))","v":""},{"$f":"IF(AND(D10=\"m\",G10=\"U14\",I10<>\"\"),I10,\"\")","v":""},{"$f":"IF(OR(I10=\"\",AD10=\"\"),\"\",_xlfn.RANK.EQ(AD10,AD$10:AD$200,1))","v":""},{"$f":"IF(AND(D10=\"m\",G10=\"U15\",I10<>\"\"),I10,\"\")","v":""},{"$f":"IF(OR(I10=\"\",AF10=\"\"),\"\",_xlfn.RANK.EQ(AF10,AF$10:AF$200,1))","v":""},{"$f":"IF(AND(D10=\"m\",G10=\"U16\",I10<>\"\"),I10,\"\")","v":""},{"$f":"IF(OR(I10=\"\",AH10=\"\"),\"\",_xlfn.RANK.EQ(AH10,AH$10:AH$200,1))","v":""},null,{"$f":"IF(AND(D10=\"w\",G10=\"U06\",I10<>\"\"),I10,\"\")","v":""},{"$f":"IF(OR(I10=\"\",AI10=\"\"),\"\",_xlfn.RANK.EQ(AI10,AI$10:AI$200,1))","v":""},{"$f":"IF(AND(D10=\"w\",G10=\"U07\",I10<>\"\"),I10,\"\")","v":""},{"$f":"IF(OR(I10=\"\",AM10=\"\"),\"\",_xlfn.RANK.EQ(AM10,AM$10:AM$20,1))","v":""},{"$f":"IF(AND(D10=\"w\",G10=\"U08\",I10<>\"\"),I10,\"\")","v":""},{"$f":"IF(OR(I10=\"\",AO10=\"\"),\"\",_xlfn.RANK.EQ(AO10,AO$10:AO$200,0))","v":""},{"$f":"IF(AND(D10=\"w\",G10=\"U09\",I10<>\"\"),I10,\"\")","v":""},{"$f":"IF(OR(I10=\"\",AQ10=\"\"),\"\",_xlfn.RANK.EQ(AQ10,AQ$10:AQ$200,1))","v":""},{"$f":"IF(AND(D10=\"w\",G10=\"U10\",I10<>\"\"),I10,\"\")","v":""},{"$f":"IF(OR(I10=\"\",AS10=\"\"),\"\",_xlfn.RANK.EQ(AS10,AS$10:AS$200,1))","v":""},{"$f":"IF(AND(D10=\"w\",G10=\"U11\",I10<>\"\"),I10,\"\")","v":""},{"$f":"IF(OR(I10=\"\",AU10=\"\"),\"\",_xlfn.RANK.EQ(AU10,AU$10:AU$200,1))","v":""},{"$f":"IF(AND(D10=\"w\",G10=\"U12\",I10<>\"\"),I10,\"\")","v":""},{"$f":"IF(OR(I10=\"\",AW10=\"\"),\"\",_xlfn.RANK.EQ(AW10,AW$10:AW$200,1))","v":""},{"$f":"IF(AND(D10=\"w\",G10=\"U13\",I10<>\"\"),I10,\"\")","v":""},{"$f":"IF(OR(I10=\"\",AY10=\"\"),\"\",_xlfn.RANK.EQ(AY10,AY$10:AY$200,1))","v":""},{"$f":"IF(AND(D10=\"w\",G10=\"U14\",I10<>\"\"),I10,\"\")","v":""},{"$f":"IF(OR(I10=\"\",BA10=\"\"),\"\",_xlfn.RANK.EQ(BA10,BA$10:BA$200,1))","v":""},{"$f":"IF(AND(D10=\"w\",G10=\"U15\",I10<>\"\"),I10,\"\")","v":""},{"$f":"IF(OR(I10=\"\",BC10=\"\"),\"\",_xlfn.RANK.EQ(BC10,BC$10:BC$200,1))","v":""},{"$f":"IF(AND(D10=\"w\",G10=\"U16\",I10<>\"\"),I10,\"\")","v":""},{"$f":"IF(OR(I10=\"\",BE10=\"\"),\"\",_xlfn.RANK.EQ(BE10,BE$10:BE$200,1))","v":""}]
[null,{"$f":"IF(Athletenliste!B11=\"\",\"\",Athletenliste!B11)","v":""},{"$f":"IF(Athletenliste!C11=\"\",\"\",Athletenliste!C11)","v":""},{"$f":"IF(Athletenliste!D11=\"\",\"\",Athletenliste!D11)","v":""},{"$f":"IF(Athletenliste!E11=\"\",\"\",Athletenliste!E11)","v":""},{"$f":"IF(Athletenliste!F11=\"\",\"\",Athletenliste!F11)","v":""},{"$f":"IF(Athletenliste!G11=\"\",\"\",Athletenliste!G11)","v":""},{"$f":"IF(Athletenliste!H11=\"\",\"\",Athletenliste!H11)","v":""},null,{"$f":"IF(B11=\"\",\"\",IF(D11=\"m\",INDIRECT(VLOOKUP(G11,Bezüge!$E$6:$F$16,2,FALSE)&ROW(G11)),INDIRECT(VLOOKUP(G11,Bezüge!$B$6:$C$16,2,FALSE)&ROW(G11))))","v":""},null,null,null,{"$f":"IF(AND(D11=\"m\",G11=\"U06\",I11<>\"\"),I11,\"\")","v":""},{"$f":"IF(OR(I11=\"\",N11=\"\"),\"\",_xlfn.RANK.EQ(N11,N$10:N$200,1))","v":""},{"$f":"IF(AND(D11=\"m\",G11=\"U07\",I11<>\"\"),I11,\"\")","v":""},{"$f":"IF(OR(I11=\"\",P11=\"\"),\"\",_xlfn.RANK.EQ(P11,P$10:P$200,1))","v":""},{"$f":"IF(AND(D11=\"m\",G11=\"U08\",I11<>\"\"),I11,\"\")","v":""},{"$f":"IF(OR(I11=\"\",R11=\"\"),\"\",_xlfn.RANK.EQ(R11,R$10:R$200,1))","v":""},{"$f":"IF(AND(D11=\"m\",G11=\"U09\",I11<>\"\"),I11,\"\")","v":""},{"$f":"IF(OR(I11=\"\",T11=\"\"),\"\",_xlfn.RANK.EQ(T11,T$10:T$200,1))","v":""},{"$f":"IF(AND(D11=\"m\",G11=\"U10\",I11<>\"\"),I11,\"\")","v":""},{"$f":"IF(OR(I11=\"\",V11=\"\"),\"\",_xlfn.RANK.EQ(V11,V$10:V$200,1))","v":""},{"$f":"IF(AND(D11=\"m\",G11=\"U11\",I11<>\"\"),I11,\"\")","v":""},{"$f":"IF(OR(I11=\"\",X11=\"\"),\"\",_xlfn.RANK.EQ(X11,X$10:X$200,1))","v":""},{"$f":"IF(AND(D11=\"m\",G11=\"U12\",I11<>\"\"),I11,\"\")","v":""},{"$f":"IF(OR(I11=\"\",Z11=\"\"),\"\",_xlfn.RANK.EQ(Z11,Z$10:Z$200,1))","v":""},{"$f":"IF(AND(D11=\"m\",G11=\"U13\",I11<>\"\"),I11,\"\")","v":""},{"$f":"IF(OR(I11=\"\",AB11=\"\"),\"\",_xlfn.RANK.EQ(AB11,AB$10:AB$200,1))","v":""},{"$f":"IF(AND(D11=\"m\",G11=\"U14\",I11<>\"\"),I11,\"\")","v":""},{"$f":"IF(OR(I11=\"\",AD11=\"\"),\"\",_xlfn.RANK.EQ(AD11,AD$10:AD$200,1))","v":""},{"$f":"IF(AND(D11=\"m\",G11=\"U15\",I11<>\"\"),I11,\"\")","v":""},{"$f":"IF(OR(I11=\"\",AF11=\"\"),\"\",_xlfn.RANK.EQ(AF11,AF$10:AF$200,1))","v":""},{"$f":"IF(AND(D11=\"m\",G11=\"U16\",I11<>\"\"),I11,\"\")","v":""},{"$f":"IF(OR(I11=\"\",AH11=\"\"),\"\",_xlfn.RANK.EQ(AH11,AH$10:AH$200,1))","v":""},null,{"$f":"IF(AND(D11=\"w\",G11=\"U06\",I11<>\"\"),I11,\"\")","v":""},{"$f":"IF(OR(I11=\"\",AI11=\"\"),\"\",_xlfn.RANK.EQ(AI11,AI$10:AI$200,1))","v":""},{"$f":"IF(AND(D11=\"w\",G11=\"U07\",I11<>\"\"),I11,\"\")","v":""},{"$f":"IF(OR(I11=\"\",AM11=\"\"),\"\",_xlfn.RANK.EQ(AM11,AM$10:AM$20,1))","v":""},{"$f":"IF(AND(D11=\"w\",G11=\"U08\",I11<>\"\"),I11,\"\")","v":""},{"$f":"IF(OR(I11=\"\",AO11=\"\"),\"\",_xlfn.RANK.EQ(AO11,AO$10:AO$200,0))","v":""},{"$f":"IF(AND(D11=\"w\",G11=\"U09\",I11<>\"\"),I11,\"\")","v":""},{"$f":"IF(OR(I11=\"\",AQ11=\"\"),\"\",_xlfn.RANK.EQ(AQ11,AQ$10:AQ$200,1))","v":""},{"$f":"IF(AND(D11=\"w\",G11=\"U10\",I11<>\"\"),I11,\"\")","v":""},{"$f":"IF(OR(I11=\"\",AS11=\"\"),\"\",_xlfn.RANK.EQ(AS11,AS$10:AS$200,1))","v":""},{"$f":"IF(AND(D11=\"w\",G11=\"U11\",I11<>\"\"),I11,\"\")","v":""},{"$f":"IF(OR(I11=\"\",AU11=\"\"),\"\",_xlfn.RANK.EQ(AU11,AU$10:AU$200,1))","v":""},{"$f":"IF(AND(D11=\"w\",G11=\"U12\",I11<>\"\"),I11,\"\")","v":""},{"$f":"IF(OR(I11=\"\",AW11=\"\"),\"\",_xlfn.RANK.EQ(AW11,AW$10:AW$200,1))","v":""},{"$f":"IF(AND(D11=\"w\",G11=\"U13\",I11<>\"\"),I11,\"\")","v":""},{"$f":"IF(OR(I11=\"\",AY11=\"\"),\"\",_xlfn.RANK.EQ(AY11,AY$10:AY$200,1))","v":""},{"$f":"IF(AND(D11=\"w\",G11=\"U14\",I11<>\"\"),I11,\"\")","v":""},{"$f":"IF(OR(I11=\"\",BA11=\"\"),\"\",_xlfn.RANK.EQ(BA11,BA$10:BA$200,1))","v":""},{"$f":"IF(AND(D11=\"w\",G11=\"U15\",I11<>\"\"),I11,\"\")","v":""},{"$f":"IF(OR(I11=\"\",BC11=\"\"),\"\",_xlfn.RANK.EQ(BC11,BC$10:BC$200,1))","v":""},{"$f":"IF(AND(D11=\"w\",G11=\"U16\",I11<>\"\"),I11,\"\")","v":""},{"$f":"IF(OR(I11=\"\",BE11=\"\"),\"\",_xlfn.RANK.EQ(BE11,BE$10:BE$200,1))","v":""}]
[null,{"$f":"IF(Athletenliste!B12=\"\",\"\",Athletenliste!B12)","v":""},{"$f":"IF(Athletenliste!C12=\"\",\"\",Athletenliste!C12)","v":""},{"$f":"IF(Athletenliste!D12=\"\",\"\",Athletenliste!D12)","v":""},{"$f":"IF(Athletenliste!E12=\"\",\"\",Athletenliste!E12)","v":""},{"$f":"IF(Athletenliste!F12=\"\",\"\",Athletenliste!F12)","v":""},{"$f":"IF(Athletenliste!G12=\"\",\"\",Athletenliste!G12)","v":""},{"$f":"IF(Athletenliste!H12=\"\",\"\",Athletenliste!H12)","v":""},null,{"$f":"IF(B12=\"\",\"\",IF(D12=\"m\",INDIRECT(VLOOKUP(G12,Bezüge!$E$6:$F$16,2,FALSE)&ROW(G12)),INDIRECT(VLOOKUP(G12,Bezüge!$B$6:$C$16,2,FALSE)&ROW(G12))))","v":""},null,null,null,"","","","","","","","","","","","","","","","","","","","","","",null,"","","","","","","","","","","","","","","","","","","","","",""]
[null,{"$f":"IF(Athletenliste!B13=\"\",\"\",Athletenliste!B13)","v":""},{"$f":"IF(Athletenliste!C13=\"\",\"\",Athletenliste!C13)","v":""},{"$f":"IF(Athletenliste!D13=\"\",\"\",Athletenliste!D13)","v":""},{"$f":"IF(Athletenliste!E13=\"\",\"\",Athletenliste!E13)","v":""},{"$f":"IF(Athletenliste!F13=\"\",\"\",Athletenliste!F13)","v":""},{"$f":"IF(Athletenliste!G13=\"\",\"\",Athletenliste!G13)","v":""},{"$f":"IF(Athletenliste!H13=\"\",\"\",Athletenliste!H13)","v":""},null,{"$f":"IF(B13=\"\",\"\",IF(D13=\"m\",INDIRECT(VLOOKUP(G13,Bezüge!$E$6:$F$16,2,FALSE)&ROW(G13)),INDIRECT(VLOOKUP(G13,Bezüge!$B$6:$C$16,2,FALSE)&ROW(G13))))","v":""},null,null,null,"","","","","","","","","","","","","","","","","","","","","","",null,"","","","","","","","","","","","","","","","","","","","","",""]
[null,{"$f":"IF(Athletenliste!B14=\"\",\"\",Athletenliste!B14)","v":""},{"$f":"IF(Athletenliste!C14=\"\",\"\",Athletenliste!C14)","v":""},{"$f":"IF(Athletenliste!D14=\"\",\"\",Athletenliste!D14)","v":""},{"$f":"IF(Athletenliste!E14=\"\",\"\",Athletenliste!E14)","v":""},{"$f":"IF(Athletenliste!F14=\"\",\"\",Athletenliste!F14)","v":""},{"$f":"IF(Athletenliste!G14=\"\",\"\",Athletenliste!G14)","v":""},{"$f":"IF(Athletenliste!H14=\"\",\"\",Athletenliste!H14)","v":""},null,{"$f":"IF(B14=\"\",\"\",IF(D14=\"m\",INDIRECT(VLOOKUP(G14,Bezüge!$E$6:$F$16,2,FALSE)&ROW(G14)),INDIRECT(VLOOKUP(G14,Bezüge!$B$6:$C$16,2,FALSE)&ROW(G14))))","v":""},null,null,null,"","","","","","","","","","","","","","","","","","","","","","",null,"","","","","","","","","","","","","","","","","","","","","",""]
[null,{"$f":"IF(Athletenliste!B15=\"\",\"\",Athletenliste!B15)","v":""},{"$f":"IF(Athletenliste!C15=\"\",\"\",Athletenliste!C15)","v":""},{"$f":"IF(Athletenliste!D15=\"\",\"\",Athletenliste!D15)","v":""},{"$f":"IF(Athletenliste!E15=\"\",\"\",Athletenliste!E15)","v":""},{"$f":"IF(Athletenliste!F15=\"\",\"\",Athletenliste!F15)","v":""},{"$f":"IF(Athletenliste!G15=\"\",\"\",Athletenliste!G15)","v":""},{"$f":"IF(Athletenliste!H15=\"\",\"\",Athletenliste!H15)","v":""},null,{"$f":"IF(B15=\"\",\"\",IF(D15=\"m\",INDIRECT(VLOOKUP(G15,Bezüge!$E$6:$F$16,2,FALSE)&ROW(G15)),INDIRECT(VLOOKUP(G15,Bezüge!$B$6:$C$16,2,FALSE)&ROW(G15))))","v":""},null,null,null,"","","","","","","","","","","","","","","","","","","","","","",null,"","","","","","","","","","","","","","","","","","","","","",""]
[null,{"$f":"IF(Athletenliste!B16=\"\",\"\",Athletenliste!B16)","v":""},{"$f":"IF(Athletenliste!C16=\"\",\"\",Athletenliste!C16)","v":""},{"$f":"IF(Athletenliste!D16=\"\",\"\",Athletenliste!D16)","v":""},{"$f":"IF(Athletenliste!E16=\"\",\"\",Athletenliste!E16)","v":""},{"$f":"IF(Athletenliste!F16=\"\",\"\",Athletenliste!F16)","v":""},{"$f":"IF(Athletenliste!G16=\"\",\"\",Athletenliste!G16)","v":""},{"$f":"IF(Athletenliste!H16=\"\",\"\",Athletenliste!H16)","v":""},null,{"$f":"IF(B16=\"\",\"\",IF(D16=\"m\",INDIRECT(VLOOKUP(G16,Bezüge!$E$6:$F$16,2,FALSE)&ROW(G16)),INDIRECT(VLOOKUP(G16,Bezüge!$B$6:$C$16,2,FALSE)&ROW(G16))))","v":""},null,null,null,"","","","","","","","","","","","","","","","","","","","","","",null,"","","","","","","","","","","","","","","","","","","","","",""]
[null,{"$f":"IF(Athletenliste!B17=\"\",\"\",Athletenliste!B17)","v":""},{"$f":"IF(Athletenliste!C17=\"\",\"\",Athletenliste!C17)","v":""},{"$f":"IF(Athletenliste!D17=\"\",\"\",Athletenliste!D17)","v":""},{"$f":"IF(Athletenliste!E17=\"\",\"\",Athletenliste!E17)","v":""},{"$f":"IF(Athletenliste!F17=\"\",\"\",Athletenliste!F17)","v":""},{"$f":"IF(Athletenliste!G17=\"\",\"\",Athletenliste!G17)","v":""},{"$f":"IF(Athletenliste!H17=\"\",\"\",Athletenliste!H17)","v":""},null,{"$f":"IF(B17=\"\",\"\",IF(D17=\"m\",INDIRECT(VLOOKUP(G17,Bezüge!$E$6:$F$16,2,FALSE)&ROW(G17)),INDIRECT(VLOOKUP(G17,Bezüge!$B$6:$C$16,2,FALSE)&ROW(G17))))","v":""},null,null,null,"","","","","","","","","","","","","","","","","","","","","","",null,"","","","","","","","","","","","","","","","","","","","","",""]
[null,{"$f":"IF(Athletenliste!B18=\"\",\"\",Athletenliste!B18)","v":""},{"$f":"IF(Athletenliste!C18=\"\",\"\",Athletenliste!C18)","v":""},{"$f":"IF(Athletenliste!D18=\"\",\"\",Athletenliste!D18)","v":""},{"$f":"IF(Athletenliste!E18=\"\",\"\",Athletenliste!E18)","v":""},{"$f":"IF(Athletenliste!F18=\"\",\"\",Athletenliste!F18)","v":""},{"$f":"IF(Athletenliste!G18=\"\",\"\",Athletenliste!G18)","v":""},{"$f":"IF(Athletenliste!H18=\"\",\"\",Athletenliste!H18)","v":""},null,{"$f":"IF(B18=\"\",\"\",IF(D18=\"m\",INDIRECT(VLOOKUP(G18,Bezüge!$E$6:$F$16,2,FALSE)&ROW(G18)),INDIRECT(VLOOKUP(G18,Bezüge!$B$6:$C$16,2,FALSE)&ROW(G18))))","v":""},null,null,null,"","","","","","","","","","","","","","","","","","","","","","",null,"","","","","","","","","","","","","","","","","","","","","",""]
[null,{"$f":"IF(Athletenliste!B19=\"\",\"\",Athletenliste!B19)","v":""},{"$f":"IF(Athletenliste!C19=\"\",\"\",Athletenliste!C19)","v":""},{"$f":"IF(Athletenliste!D19=\"\",\"\",Athletenliste!D19)","v":""},{"$f":"IF(Athletenliste!E19=\"\",\"\",Athletenliste!E19)","v":""},{"$f":"IF(Athletenliste!F19=\"\",\"\",Athletenliste!F19)","v":""},{"$f":"IF(Athletenliste!G19=\"\",\"\",Athletenliste!G19)","v":""},{"$f":"IF(Athletenliste!H19=\"\",\"\",Athletenliste!H19)","v":""},null,{"$f":"IF(B19=\"\",\"\",IF(D19=\"m\",INDIRECT(VLOOKUP(G19,Bezüge!$E$6:$F$16,2,FALSE)&ROW(G19)),INDIRECT(VLOOKUP(G19,Bezüge!$B$6:$C$16,2,FALSE)&ROW(G19))))","v":""},null,null,null,"","","","","","","","","","","","","","","","","","","","","","",null,"","","","","","","","","","","","","","","","","","","","","",""]
[null,{"$f":"IF(Athletenliste!B20=\"\",\"\",Athletenliste!B20)","v":""},{"$f":"IF(Athletenliste!C20=\"\",\"\",Athletenliste!C20)","v":""},{"$f":"IF(Athletenliste!D20=\"\",\"\",Athletenliste!D20)","v":""},{"$f":"IF(Athletenliste!E20=\"\",\"\",Athletenliste!E20)","v":""},{"$f":"IF(Athletenliste!F20=\"\",\"\",Athletenliste!F20)","v":""},{"$f":"IF(Athletenliste!G20=\"\",\"\",Athletenliste!G20)","v":""},{"$f":"IF(Athletenliste!H20=\"\",\"\",Athletenliste!H20)","v":""},null,{"$f":"IF(B20=\"\",\"\",IF(D20=\"m\",INDIRECT(VLOOKUP(G20,Bezüge!$E$6:$F$16,2,FALSE)&ROW(G20)),INDIRECT(VLOOKUP(G20,Bezüge!$B$6:$C$16,2,FALSE)&ROW(G20))))","v":""},null,null,null,"","","","","","","","","","","","","","","","","","","","","","",null,"","","","","","","","","","","","","","","","","","","","","",""]
[null,{"$f":"IF(Athletenliste!B21=\"\",\"\",Athletenliste!B21)","v":""},{"$f":"IF(Athletenliste!C21=\"\",\"\",Athletenliste!C21)","v":""},{"$f":"IF(Athletenliste!D21=\"\",\"\",Athletenliste!D21)","v":""},{"$f":"IF(Athletenliste!E21=\"\",\"\",Athletenliste!E21)","v":""},{"$f":"IF(Athletenliste!F21=\"\",\"\",Athletenliste!F21)","v":""},{"$f":"IF(Athletenliste!G21=\"\",\"\",Athletenliste!G21)","v":""},{"$f":"IF(Athletenliste!H21=\"\",\"\",Athletenliste!H21)","v":""},null,{"$f":"IF(B21=\"\",\"\",IF(D21=\"m\",INDIRECT(VLOOKUP(G21,Bezüge!$E$6:$F$16,2,FALSE)&ROW(G21)),INDIRECT(VLOOKUP(G21,Bezüge!$B$6:$C$16,2,FALSE)&ROW(G21))))","v":""},null,null,null,"","","","","","","","","","","","","","","","","","","","","","",null,"","","","","","","","","","","","","","","","","","","","","",""]
[null,{"$f":"IF(Athletenliste!B22=\"\",\"\",Athletenliste!B22)","v":""},{"$f":"IF(Athletenliste!C22=\"\",\"\",Athletenliste!C22)","v":""},{"$f":"IF(Athletenliste!D22=\"\",\"\",Athletenliste!D22)","v":""},{"$f":"IF(Athletenliste!E22=\"\",\"\",Athletenliste!E22)","v":""},{"$f":"IF(Athletenliste!F22=\"\",\"\",Athletenliste!F22)","v":""},{"$f":"IF(Athletenliste!G22=\"\",\"\",Athletenliste!G22)","v":""},{"$f":"IF(Athletenliste!H22=\"\",\"\",Athletenliste!H22)","v":""},null,{"$f":"IF(B22=\"\",\"\",IF(D22=\"m\",INDIRECT(VLOOKUP(G22,Bezüge!$E$6:$F$16,2,FALSE)&ROW(G22)),INDIRECT(VLOOKUP(G22,Bezüge!$B$6:$C$16,2,FALSE)&ROW(G22))))","v":""},null,null,null,"","","","","","","","","","","","","","","","","","","","","","",null,"","","","","","","","","","","","","","","","","","","","","",""]
[null,{"$f":"IF(Athletenliste!B23=\"\",\"\",Athletenliste!B23)","v":""},{"$f":"IF(Athletenliste!C23=\"\",\"\",Athletenliste!C23)","v":""},{"$f":"IF(Athletenliste!D23=\"\",\"\",Athletenliste!D23)","v":""},{"$f":"IF(Athletenliste!E23=\"\",\"\",Athletenliste!E23)","v":""},{"$f":"IF(Athletenliste!F23=\"\",\"\",Athletenliste!F23)","v":""},{"$f":"IF(Athletenliste!G23=\"\",\"\",Athletenliste!G23)","v":""},{"$f":"IF(Athletenliste!H23=\"\",\"\",Athletenliste!H23)","v":""},null,{"$f":"IF(B23=\"\",\"\",IF(D23=\"m\",INDIRECT(VLOOKUP(G23,Bezüge!$E$6:$F$16,2,FALSE)&ROW(G23)),INDIRECT(VLOOKUP(G23,Bezüge!$B$6:$C$16,2,FALSE)&ROW(G23))))","v":""},null,null,null,"","","","","","","","","","","","","","","","","","","","","","",null,"","","","","","","","","","","","","","","","","","","","","",""]
[null,{"$f":"IF(Athletenliste!B24=\"\",\"\",Athletenliste!B24)","v":""},{"$f":"IF(Athletenliste!C24=\"\",\"\",Athletenliste!C24)","v":""},{"$f":"IF(Athletenliste!D24=\"\",\"\",Athletenliste!D24)","v":""},{"$f":"IF(Athletenliste!E24=\"\",\"\",Athletenliste!E24)","v":""},{"$f":"IF(Athletenliste!F24=\"\",\"\",Athletenliste!F24)","v":""},{"$f":"IF(Athletenliste!G24=\"\",\"\",Athletenliste!G24)","v":""},{"$f":"IF(Athletenliste!H24=\"\",\"\",Athletenliste!H24)","v":""},null,{"$f":"IF(B24=\"\",\"\",IF(D24=\"m\",INDIRECT(VLOOKUP(G24,Bezüge!$E$6:$F$16,2,FALSE)&ROW(G24)),INDIRECT(VLOOKUP(G24,Bezüge!$B$6:$C$16,2,FALSE)&ROW(G24))))","v":""},null,null,null,"","","","","","","","","","","","","","","","","","","","","","",null,"","","","","","","","","","","","","","","","","","","","","",""]
[null,{"$f":"IF(Athletenliste!B25=\"\",\"\",Athletenliste!B25)","v":""},{"$f":"IF(Athletenliste!C25=\"\",\"\",Athletenliste!C25)","v":""},{"$f":"IF(Athletenliste!D25=\"\",\"\",Athletenliste!D25)","v":""},{"$f":"IF(Athletenliste!E25=\"\",\"\",Athletenliste!E25)","v":""},{"$f":"IF(Athletenliste!F25=\"\",\"\",Athletenliste!F25)","v":""},{"$f":"IF(Athletenliste!G25=\"\",\"\",Athletenliste!G25)","v":""},{"$f":"IF(Athletenliste!H25=\"\",\"\",Athletenliste!H25)","v":""},null,{"$f":"IF(B25=\"\",\"\",IF(D25=\"m\",INDIRECT(VLOOKUP(G25,Bezüge!$E$6:$F$16,2,FALSE)&ROW(G25)),INDIRECT(VLOOKUP(G25,Bezüge!$B$6:$C$16,2,FALSE)&ROW(G25))))","v":""},null,null,null,"","","","","","","","","","","","","","","","","","","","","","",null,"","","","","","","","","","","","","","","","","","","","","",""]
[null,{"$f":"IF(Athletenliste!B26=\"\",\"\",Athletenliste!B26)","v":""},{"$f":"IF(Athletenliste!C26=\"\",\"\",Athletenliste!C26)","v":""},{"$f":"IF(Athletenliste!D26=\"\",\"\",Athletenliste!D26)","v":""},{"$f":"IF(Athletenliste!E26=\"\",\"\",Athletenliste!E26)","v":""},{"$f":"IF(Athletenliste!F26=\"\",\"\",Athletenliste!F26)","v":""},{"$f":"IF(Athletenliste!G26=\"\",\"\",Athletenliste!G26)","v":""},{"$f":"IF(Athletenliste!H26=\"\",\"\",Athletenliste!H26)","v":""},null,{"$f":"IF(B26=\"\",\"\",IF(D26=\"m\",INDIRECT(VLOOKUP(G26,Bezüge!$E$6:$F$16,2,FALSE)&ROW(G26)),INDIRECT(VLOOKUP(G26,Bezüge!$B$6:$C$16,2,FALSE)&ROW(G26))))","v":""},null,null,null,"","","","","","","","","","","","","","","","","","","","","","",null,"","","","","","","","","","","","","","","","","","","","","",""]
[null,{"$f":"IF(Athletenliste!B27=\"\",\"\",Athletenliste!B27)","v":""},{"$f":"IF(Athletenliste!C27=\"\",\"\",Athletenliste!C27)","v":""},{"$f":"IF(Athletenliste!D27=\"\",\"\",Athletenliste!D27)","v":""},{"$f":"IF(Athletenliste!E27=\"\",\"\",Athletenliste!E27)","v":""},{"$f":"IF(Athletenliste!F27=\"\",\"\",Athletenliste!F27)","v":""},{"$f":"IF(Athletenliste!G27=\"\",\"\",Athletenliste!G27)","v":""},{"$f":"IF(Athletenliste!H27=\"\",\"\",Athletenliste!H27)","v":""},null,{"$f":"IF(B27=\"\",\"\",IF(D27=\"m\",INDIRECT(VLOOKUP(G27,Bezüge!$E$6:$F$16,2,FALSE)&ROW(G27)),INDIRECT(VLOOKUP(G27,Bezüge!$B$6:$C$16,2,FALSE)&ROW(G27))))","v":""},null,null,null,"","","","","","","","","","","","","","","","","","","","","","",null,"","","","","","","","","","","","","","","","","","","","","",""]
[null,{"$f":"IF(Athletenliste!B28=\"\",\"\",Athletenliste!B28)","v":""},{"$f":"IF(Athletenliste!C28=\"\",\"\",Athletenliste!C28)","v":""},{"$f":"IF(Athletenliste!D28=\"\",\"\",Athletenliste!D28)","v":""},{"$f":"IF(Athletenliste!E28=\"\",\"\",Athletenliste!E28)","v":""},{"$f":"IF(Athletenliste!F28=\"\",\"\",Athletenliste!F28)","v":""},{"$f":"IF(Athletenliste!G28=\"\",\"\",Athletenliste!G28)","v":""},{"$f":"IF(Athletenliste!H28=\"\",\"\",Athletenliste!H28)","v":""},null,{"$f":"IF(B28=\"\",\"\",IF(D28=\"m\",INDIRECT(VLOOKUP(G28,Bezüge!$E$6:$F$16,2,FALSE)&ROW(G28)),INDIRECT(VLOOKUP(G28,Bezüge!$B$6:$C$16,2,FALSE)&ROW(G28))))","v":""},null,null,null,"","","","","","","","","","","","","","","","","","","","","","",null,"","","","","","","","","","","","","","","","","","","","","",""]
[null,{"$f":"IF(Athletenliste!B29=\"\",\"\",Athletenliste!B29)","v":""},{"$f":"IF(Athletenliste!C29=\"\",\"\",Athletenliste!C29)","v":""},{"$f":"IF(Athletenliste!D29=\"\",\"\",Athletenliste!D29)","v":""},{"$f":"IF(Athletenliste!E29=\"\",\"\",Athletenliste!E29)","v":""},{"$f":"IF(Athletenliste!F29=\"\",\"\",Athletenliste!F29)","v":""},{"$f":"IF(Athletenliste!G29=\"\",\"\",Athletenliste!G29)","v":""},{"$f":"IF(Athletenliste!H29=\"\",\"\",Athletenliste!H29)","v":""},null,{"$f":"IF(B29=\"\",\"\",IF(D29=\"m\",INDIRECT(VLOOKUP(G29,Bezüge!$E$6:$F$16,2,FALSE)&ROW(G29)),INDIRECT(VLOOKUP(G29,Bezüge!$B$6:$C$16,2,FALSE)&ROW(G29))))","v":""},null,null,null,"","","","","","","","","","","","","","","","","","","","","","",null,"","","","","","","","","","","","","","","","","","","","","",""]
[null,{"$f":"IF(Athletenliste!B30=\"\",\"\",Athletenliste!B30)","v":""},{"$f":"IF(Athletenliste!C30=\"\",\"\",Athletenliste!C30)","v":""},{"$f":"IF(Athletenliste!D30=\"\",\"\",Athletenliste!D30)","v":""},{"$f":"IF(Athletenliste!E30=\"\",\"\",Athletenliste!E30)","v":""},{"$f":"IF(Athletenliste!F30=\"\",\"\",Athletenliste!F30)","v":""},{"$f":"IF(Athletenliste!G30=\"\",\"\",Athletenliste!G30)","v":""},{"$f":"IF(Athletenliste!H30=\"\",\"\",Athletenliste!H30)","v":""},null,{"$f":"IF(B30=\"\",\"\",IF(D30=\"m\",INDIRECT(VLOOKUP(G30,Bezüge!$E$6:$F$16,2,FALSE)&ROW(G30)),INDIRECT(VLOOKUP(G30,Bezüge!$B$6:$C$16,2,FALSE)&ROW(G30))))","v":""},null,null,null,"","","","","","","","","","","","","","","","","","","","","","",null,"","","","","","","","","","","","","","","","","","","","","",""]
[null,{"$f":"IF(Athletenliste!B31=\"\",\"\",Athletenliste!B31)","v":""},{"$f":"IF(Athletenliste!C31=\"\",\"\",Athletenliste!C31)","v":""},{"$f":"IF(Athletenliste!D31=\"\",\"\",Athletenliste!D31)","v":""},{"$f":"IF(Athletenliste!E31=\"\",\"\",Athletenliste!E31)","v":""},{"$f":"IF(Athletenliste!F31=\"\",\"\",Athletenliste!F31)","v":""},{"$f":"IF(Athletenliste!G31=\"\",\"\",Athletenliste!G31)","v":""},{"$f":"IF(Athletenliste!H31=\"\",\"\",Athletenliste!H31)","v":""},null,{"$f":"IF(B31=\"\",\"\",IF(D31=\"m\",INDIRECT(VLOOKUP(G31,Bezüge!$E$6:$F$16,2,FALSE)&ROW(G31)),INDIRECT(VLOOKUP(G31,Bezüge!$B$6:$C$16,2,FALSE)&ROW(G31))))","v":""},null,null,null,"","","","","","","","","","","","","","","","","","","","","","",null,"","","","","","","","","","","","","","","","","","","","","",""]
[null,{"$f":"IF(Athletenliste!B32=\"\",\"\",Athletenliste!B32)","v":""},{"$f":"IF(Athletenliste!C32=\"\",\"\",Athletenliste!C32)","v":""},{"$f":"IF(Athletenliste!D32=\"\",\"\",Athletenliste!D32)","v":""},{"$f":"IF(Athletenliste!E32=\"\",\"\",Athletenliste!E32)","v":""},{"$f":"IF(Athletenliste!F32=\"\",\"\",Athletenliste!F32)","v":""},{"$f":"IF(Athletenliste!G32=\"\",\"\",Athletenliste!G32)","v":""},{"$f":"IF(Athletenliste!H32=\"\",\"\",Athletenliste!H32)","v":""},null,{"$f":"IF(B32=\"\",\"\",IF(D32=\"m\",INDIRECT(VLOOKUP(G32,Bezüge!$E$6:$F$16,2,FALSE)&ROW(G32)),INDIRECT(VLOOKUP(G32,Bezüge!$B$6:$C$16,2,FALSE)&ROW(G32))))","v":""},null,null,null,"","","","","","","","","","","","","","","","","","","","","","",null,"","","","","","","","","","","","","","","","","","","","","",""]
[null,{"$f":"IF(Athletenliste!B33=\"\",\"\",Athletenliste!B33)","v":""},{"$f":"IF(Athletenliste!C33=\"\",\"\",Athletenliste!C33)","v":""},{"$f":"IF(Athletenliste!D33=\"\",\"\",Athletenliste!D33)","v":""},{"$f":"IF(Athletenliste!E33=\"\",\"\",Athletenliste!E33)","v":""},{"$f":"IF(Athletenliste!F33=\"\",\"\",Athletenliste!F33)","v":""},{"$f":"IF(Athletenliste!G33=\"\",\"\",Athletenliste!G33)","v":""},{"$f":"IF(Athletenliste!H33=\"\",\"\",Athletenliste!H33)","v":""},null,{"$f":"IF(B33=\"\",\"\",IF(D33=\"m\",INDIRECT(VLOOKUP(G33,Bezüge!$E$6:$F$16,2,FALSE)&ROW(G33)),INDIRECT(VLOOKUP(G33,Bezüge!$B$6:$C$16,2,FALSE)&ROW(G33))))","v":""},null,null,null,"","","","","","","","","","","","","","","","","","","","","","",null,"","","","","","","","","","","","","","","","","","","","","",""]
[null,{"$f":"IF(Athletenliste!B34=\"\",\"\",Athletenliste!B34)","v":""},{"$f":"IF(Athletenliste!C34=\"\",\"\",Athletenliste!C34)","v":""},{"$f":"IF(Athletenliste!D34=\"\",\"\",Athletenliste!D34)","v":""},{"$f":"IF(Athletenliste!E34=\"\",\"\",Athletenliste!E34)","v":""},{"$f":"IF(Athletenliste!F34=\"\",\"\",Athletenliste!F34)","v":""},{"$f":"IF(Athletenliste!G34=\"\",\"\",Athletenliste!G34)","v":""},{"$f":"IF(Athletenliste!H34=\"\",\"\",Athletenliste!H34)","v":""},null,{"$f":"IF(B34=\"\",\"\",IF(D34=\"m\",INDIRECT(VLOOKUP(G34,Bezüge!$E$6:$F$16,2,FALSE)&ROW(G34)),INDIRECT(VLOOKUP(G34,Bezüge!$B$6:$C$16,2,FALSE)&ROW(G34))))","v":""},null,null,null,"","","","","","","","","","","","","","","","","","","","","","",null,"","","","","","","","","","","","","","","","","","","","","",""]
[null,{"$f":"IF(Athletenliste!B35=\"\",\"\",Athletenliste!B35)","v":""},{"$f":"IF(Athletenliste!C35=\"\",\"\",Athletenliste!C35)","v":""},{"$f":"IF(Athletenliste!D35=\"\",\"\",Athletenliste!D35)","v":""},{"$f":"IF(Athletenliste!E35=\"\",\"\",Athletenliste!E35)","v":""},{"$f":"IF(Athletenliste!F35=\"\",\"\",Athletenliste!F35)","v":""},{"$f":"IF(Athletenliste!G35=\"\",\"\",Athletenliste!G35)","v":""},{"$f":"IF(Athletenliste!H35=\"\",\"\",Athletenliste!H35)","v":""},null,{"$f":"IF(B35=\"\",\"\",IF(D35=\"m\",INDIRECT(VLOOKUP(G35,Bezüge!$E$6:$F$16,2,FALSE)&ROW(G35)),INDIRECT(VLOOKUP(G35,Bezüge!$B$6:$C$16,2,FALSE)&ROW(G35))))","v":""},null,null,null,"","","","","","","","","","","","","","","","","","","","","","",null,"","","","","","","","","","","","","","","","","","","","","",""]
[null,{"$f":"IF(Athletenliste!B36=\"\",\"\",Athletenliste!B36)","v":""},{"$f":"IF(Athletenliste!C36=\"\",\"\",Athletenliste!C36)","v":""},{"$f":"IF(Athletenliste!D36=\"\",\"\",Athletenliste!D36)","v":""},{"$f":"IF(Athletenliste!E36=\"\",\"\",Athletenliste!E36)","v":""},{"$f":"IF(Athletenliste!F36=\"\",\"\",Athletenliste!F36)","v":""},{"$f":"IF(Athletenliste!G36=\"\",\"\",Athletenliste!G36)","v":""},{"$f":"IF(Athletenliste!H36=\"\",\"\",Athletenliste!H36)","v":""},null,{"$f":"IF(B36=\"\",\"\",IF(D36=\"m\",INDIRECT(VLOOKUP(G36,Bezüge!$E$6:$F$16,2,FALSE)&ROW(G36)),INDIRECT(VLOOKUP(G36,Bezüge!$B$6:$C$16,2,FALSE)&ROW(G36))))","v":""},null,null,null,"","","","","","","","","","","","","","","","","","","","","","",null,"","","","","","","","","","","","","","","","","","","","","",""]
[null,{"$f":"IF(Athletenliste!B37=\"\",\"\",Athletenliste!B37)","v":""},{"$f":"IF(Athletenliste!C37=\"\",\"\",Athletenliste!C37)","v":""},{"$f":"IF(Athletenliste!D37=\"\",\"\",Athletenliste!D37)","v":""},{"$f":"IF(Athletenliste!E37=\"\",\"\",Athletenliste!E37)","v":""},{"$f":"IF(Athletenliste!F37=\"\",\"\",Athletenliste!F37)","v":""},{"$f":"IF(Athletenliste!G37=\"\",\"\",Athletenliste!G37)","v":""},{"$f":"IF(Athletenliste!H37=\"\",\"\",Athletenliste!H37)","v":""},null,{"$f":"IF(B37=\"\",\"\",IF(D37=\"m\",INDIRECT(VLOOKUP(G37,Bezüge!$E$6:$F$16,2,FALSE)&ROW(G37)),INDIRECT(VLOOKUP(G37,Bezüge!$B$6:$C$16,2,FALSE)&ROW(G37))))","v":""},null,null,null,"","","","","","","","","","","","","","","","","","","","","","",null,"","","","","","","","","","","","","","","","","","","","","",""]
[null,{"$f":"IF(Athletenliste!B38=\"\",\"\",Athletenliste!B38)","v":""},{"$f":"IF(Athletenliste!C38=\"\",\"\",Athletenliste!C38)","v":""},{"$f":"IF(Athletenliste!D38=\"\",\"\",Athletenliste!D38)","v":""},{"$f":"IF(Athletenliste!E38=\"\",\"\",Athletenliste!E38)","v":""},{"$f":"IF(Athletenliste!F38=\"\",\"\",Athletenliste!F38)","v":""},{"$f":"IF(Athletenliste!G38=\"\",\"\",Athletenliste!G38)","v":""},{"$f":"IF(Athletenliste!H38=\"\",\"\",Athletenliste!H38)","v":""},null,{"$f":"IF(B38=\"\",\"\",IF(D38=\"m\",INDIRECT(VLOOKUP(G38,Bezüge!$E$6:$F$16,2,FALSE)&ROW(G38)),INDIRECT(VLOOKUP(G38,Bezüge!$B$6:$C$16,2,FALSE)&ROW(G38))))","v":""},null,null,null,"","","","","","","","","","","","","","","","","","","","","","",null,"","","","","","","","","","","","","","","","","","","","","",""]
[null,{"$f":"IF(Athletenliste!B39=\"\",\"\",Athletenliste!B39)","v":""},{"$f":"IF(Athletenliste!C39=\"\",\"\",Athletenliste!C39)","v":""},{"$f":"IF(Athletenliste!D39=\"\",\"\",Athletenliste!D39)","v":""},{"$f":"IF(Athletenliste!E39=\"\",\"\",Athletenliste!E39)","v":""},{"$f":"IF(Athletenliste!F39=\"\",\"\",Athletenliste!F39)","v":""},{"$f":"IF(Athletenliste!G39=\"\",\"\",Athletenliste!G39)","v":""},{"$f":"IF(Athletenliste!H39=\"\",\"\",Athletenliste!H39)","v":""},null,{"$f":"IF(B39=\"\",\"\",IF(D39=\"m\",INDIRECT(VLOOKUP(G39,Bezüge!$E$6:$F$16,2,FALSE)&ROW(G39)),INDIRECT(VLOOKUP(G39,Bezüge!$B$6:$C$16,2,FALSE)&ROW(G39))))","v":""},null,null,null,"","","","","","","","","","","","","","","","","","","","","","",null,"","","","","","","","","","","","","","","","","","","","","",""]
[null,{"$f":"IF(Athletenliste!B40=\"\",\"\",Athletenliste!B40)","v":""},{"$f":"IF(Athletenliste!C40=\"\",\"\",Athletenliste!C40)","v":""},{"$f":"IF(Athletenliste!D40=\"\",\"\",Athletenliste!D40)","v":""},{"$f":"IF(Athletenliste!E40=\"\",\"\",Athletenliste!E40)","v":""},{"$f":"IF(Athletenliste!F40=\"\",\"\",Athletenliste!F40)","v":""},{"$f":"IF(Athletenliste!G40=\"\",\"\",Athletenliste!G40)","v":""},{"$f":"IF(Athletenliste!H40=\"\",\"\",Athletenliste!H40)","v":""},null,{"$f":"IF(B40=\"\",\"\",IF(D40=\"m\",INDIRECT(VLOOKUP(G40,Bezüge!$E$6:$F$16,2,FALSE)&ROW(G40)),INDIRECT(VLOOKUP(G40,Bezüge!$B$6:$C$16,2,FALSE)&ROW(G40))))","v":""},null,null,null,"","","","","","","","","","","","","","","","","","","","","","",null,"","","","","","","","","","","","","","","","","","","","","",""]
[null,{"$f":"IF(Athletenliste!B41=\"\",\"\",Athletenliste!B41)","v":""},{"$f":"IF(Athletenliste!C41=\"\",\"\",Athletenliste!C41)","v":""},{"$f":"IF(Athletenliste!D41=\"\",\"\",Athletenliste!D41)","v":""},{"$f":"IF(Athletenliste!E41=\"\",\"\",Athletenliste!E41)","v":""},{"$f":"IF(Athletenliste!F41=\"\",\"\",Athletenliste!F41)","v":""},{"$f":"IF(Athletenliste!G41=\"\",\"\",Athletenliste!G41)","v":""},{"$f":"IF(Athletenliste!H41=\"\",\"\",Athletenliste!H41)","v":""},null,{"$f":"IF(B41=\"\",\"\",IF(D41=\"m\",INDIRECT(VLOOKUP(G41,Bezüge!$E$6:$F$16,2,FALSE)&ROW(G41)),INDIRECT(VLOOKUP(G41,Bezüge!$B$6:$C$16,2,FALSE)&ROW(G41))))","v":""},null,null,null,"","","","","","","","","","","","","","","","","","","","","","",null,"","","","","","","","","","","","","","","","","","","","","",""]
[null,{"$f":"IF(Athletenliste!B42=\"\",\"\",Athletenliste!B42)","v":""},{"$f":"IF(Athletenliste!C42=\"\",\"\",Athletenliste!C42)","v":""},{"$f":"IF(Athletenliste!D42=\"\",\"\",Athletenliste!D42)","v":""},{"$f":"IF(Athletenliste!E42=\"\",\"\",Athletenliste!E42)","v":""},{"$f":"IF(Athletenliste!F42=\"\",\"\",Athletenliste!F42)","v":""},{"$f":"IF(Athletenliste!G42=\"\",\"\",Athletenliste!G42)","v":""},{"$f":"IF(Athletenliste!H42=\"\",\"\",Athletenliste!H42)","v":""},null,{"$f":"IF(B42=\"\",\"\",IF(D42=\"m\",INDIRECT(VLOOKUP(G42,Bezüge!$E$6:$F$16,2,FALSE)&ROW(G42)),INDIRECT(VLOOKUP(G42,Bezüge!$B$6:$C$16,2,FALSE)&ROW(G42))))","v":""},null,null,null,"","","","","","","","","","","","","","","","","","","","","","",null,"","","","","","","","","","","","","","","","","","","","","",""]
[null,{"$f":"IF(Athletenliste!B43=\"\",\"\",Athletenliste!B43)","v":""},{"$f":"IF(Athletenliste!C43=\"\",\"\",Athletenliste!C43)","v":""},{"$f":"IF(Athletenliste!D43=\"\",\"\",Athletenliste!D43)","v":""},{"$f":"IF(Athletenliste!E43=\"\",\"\",Athletenliste!E43)","v":""},{"$f":"IF(Athletenliste!F43=\"\",\"\",Athletenliste!F43)","v":""},{"$f":"IF(Athletenliste!G43=\"\",\"\",Athletenliste!G43)","v":""},{"$f":"IF(Athletenliste!H43=\"\",\"\",Athletenliste!H43)","v":""},null,{"$f":"IF(B43=\"\",\"\",IF(D43=\"m\",INDIRECT(VLOOKUP(G43,Bezüge!$E$6:$F$16,2,FALSE)&ROW(G43)),INDIRECT(VLOOKUP(G43,Bezüge!$B$6:$C$16,2,FALSE)&ROW(G43))))","v":""},null,null,null,"","","","","","","","","","","","","","","","","","","","","","",null,"","","","","","","","","","","","","","","","","","","","","",""]
[null,{"$f":"IF(Athletenliste!B44=\"\",\"\",Athletenliste!B44)","v":""},{"$f":"IF(Athletenliste!C44=\"\",\"\",Athletenliste!C44)","v":""},{"$f":"IF(Athletenliste!D44=\"\",\"\",Athletenliste!D44)","v":""},{"$f":"IF(Athletenliste!E44=\"\",\"\",Athletenliste!E44)","v":""},{"$f":"IF(Athletenliste!F44=\"\",\"\",Athletenliste!F44)","v":""},{"$f":"IF(Athletenliste!G44=\"\",\"\",Athletenliste!G44)","v":""},{"$f":"IF(Athletenliste!H44=\"\",\"\",Athletenliste!H44)","v":""},null,{"$f":"IF(B44=\"\",\"\",IF(D44=\"m\",INDIRECT(VLOOKUP(G44,Bezüge!$E$6:$F$16,2,FALSE)&ROW(G44)),INDIRECT(VLOOKUP(G44,Bezüge!$B$6:$C$16,2,FALSE)&ROW(G44))))","v":""},null,null,null,"","","","","","","","","","","","","","","","","","","","","","",null,"","","","","","","","","","","","","","","","","","","","","",""]
[null,{"$f":"IF(Athletenliste!B45=\"\",\"\",Athletenliste!B45)","v":""},{"$f":"IF(Athletenliste!C45=\"\",\"\",Athletenliste!C45)","v":""},{"$f":"IF(Athletenliste!D45=\"\",\"\",Athletenliste!D45)","v":""},{"$f":"IF(Athletenliste!E45=\"\",\"\",Athletenliste!E45)","v":""},{"$f":"IF(Athletenliste!F45=\"\",\"\",Athletenliste!F45)","v":""},{"$f":"IF(Athletenliste!G45=\"\",\"\",Athletenliste!G45)","v":""},{"$f":"IF(Athletenliste!H45=\"\",\"\",Athletenliste!H45)","v":""},null,{"$f":"IF(B45=\"\",\"\",IF(D45=\"m\",INDIRECT(VLOOKUP(G45,Bezüge!$E$6:$F$16,2,FALSE)&ROW(G45)),INDIRECT(VLOOKUP(G45,Bezüge!$B$6:$C$16,2,FALSE)&ROW(G45))))","v":""},null,null,null,"","","","","","","","","","","","","","","","","","","","","","",null,"","","","","","","","","","","","","","","","","","","","","",""]
[null,{"$f":"IF(Athletenliste!B46=\"\",\"\",Athletenliste!B46)","v":""},{"$f":"IF(Athletenliste!C46=\"\",\"\",Athletenliste!C46)","v":""},{"$f":"IF(Athletenliste!D46=\"\",\"\",Athletenliste!D46)","v":""},{"$f":"IF(Athletenliste!E46=\"\",\"\",Athletenliste!E46)","v":""},{"$f":"IF(Athletenliste!F46=\"\",\"\",Athletenliste!F46)","v":""},{"$f":"IF(Athletenliste!G46=\"\",\"\",Athletenliste!G46)","v":""},{"$f":"IF(Athletenliste!H46=\"\",\"\",Athletenliste!H46)","v":""},null,{"$f":"IF(B46=\"\",\"\",IF(D46=\"m\",INDIRECT(VLOOKUP(G46,Bezüge!$E$6:$F$16,2,FALSE)&ROW(G46)),INDIRECT(VLOOKUP(G46,Bezüge!$B$6:$C$16,2,FALSE)&ROW(G46))))","v":""},null,null,null,"","","","","","","","","","","","","","","","","","","","","","",null,"","","","","","","","","","","","","","","","","","","","","",""]
[null,{"$f":"IF(Athletenliste!B47=\"\",\"\",Athletenliste!B47)","v":""},{"$f":"IF(Athletenliste!C47=\"\",\"\",Athletenliste!C47)","v":""},{"$f":"IF(Athletenliste!D47=\"\",\"\",Athletenliste!D47)","v":""},{"$f":"IF(Athletenliste!E47=\"\",\"\",Athletenliste!E47)","v":""},{"$f":"IF(Athletenliste!F47=\"\",\"\",Athletenliste!F47)","v":""},{"$f":"IF(Athletenliste!G47=\"\",\"\",Athletenliste!G47)","v":""},{"$f":"IF(Athletenliste!H47=\"\",\"\",Athletenliste!H47)","v":""},null,{"$f":"IF(B47=\"\",\"\",IF(D47=\"m\",INDIRECT(VLOOKUP(G47,Bezüge!$E$6:$F$16,2,FALSE)&ROW(G47)),INDIRECT(VLOOKUP(G47,Bezüge!$B$6:$C$16,2,FALSE)&ROW(G47))))","v":""},null,null,null,"","","","","","","","","","","","","","","","","","","","","","",null,"","","","","","","","","","","","","","","","","","","","","",""]
[null,{"$f":"IF(Athletenliste!B48=\"\",\"\",Athletenliste!B48)","v":""},{"$f":"IF(Athletenliste!C48=\"\",\"\",Athletenliste!C48)","v":""},{"$f":"IF(Athletenliste!D48=\"\",\"\",Athletenliste!D48)","v":""},{"$f":"IF(Athletenliste!E48=\"\",\"\",Athletenliste!E48)","v":""},{"$f":"IF(Athletenliste!F48=\"\",\"\",Athletenliste!F48)","v":""},{"$f":"IF(Athletenliste!G48=\"\",\"\",Athletenliste!G48)","v":""},{"$f":"IF(Athletenliste!H48=\"\",\"\",Athletenliste!H48)","v":""},null,{"$f":"IF(B48=\"\",\"\",IF(D48=\"m\",INDIRECT(VLOOKUP(G48,Bezüge!$E$6:$F$16,2,FALSE)&ROW(G48)),INDIRECT(VLOOKUP(G48,Bezüge!$B$6:$C$16,2,FALSE)&ROW(G48))))","v":""},null,null,null,"","","","","","","","","","","","","","","","","","","","","","",null,"","","","","","","","","","","","","","","","","","","","","",""]
[null,{"$f":"IF(Athletenliste!B49=\"\",\"\",Athletenliste!B49)","v":""},{"$f":"IF(Athletenliste!C49=\"\",\"\",Athletenliste!C49)","v":""},{"$f":"IF(Athletenliste!D49=\"\",\"\",Athletenliste!D49)","v":""},{"$f":"IF(Athletenliste!E49=\"\",\"\",Athletenliste!E49)","v":""},{"$f":"IF(Athletenliste!F49=\"\",\"\",Athletenliste!F49)","v":""},{"$f":"IF(Athletenliste!G49=\"\",\"\",Athletenliste!G49)","v":""},{"$f":"IF(Athletenliste!H49=\"\",\"\",Athletenliste!H49)","v":""},null,{"$f":"IF(B49=\"\",\"\",IF(D49=\"m\",INDIRECT(VLOOKUP(G49,Bezüge!$E$6:$F$16,2,FALSE)&ROW(G49)),INDIRECT(VLOOKUP(G49,Bezüge!$B$6:$C$16,2,FALSE)&ROW(G49))))","v":""},null,null,null,"","","","","","","","","","","","","","","","","","","","","","",null,"","","","","","","","","","","","","","","","","","","","","",""]
[null,{"$f":"IF(Athletenliste!B50=\"\",\"\",Athletenliste!B50)","v":""},{"$f":"IF(Athletenliste!C50=\"\",\"\",Athletenliste!C50)","v":""},{"$f":"IF(Athletenliste!D50=\"\",\"\",Athletenliste!D50)","v":""},{"$f":"IF(Athletenliste!E50=\"\",\"\",Athletenliste!E50)","v":""},{"$f":"IF(Athletenliste!F50=\"\",\"\",Athletenliste!F50)","v":""},{"$f":"IF(Athletenliste!G50=\"\",\"\",Athletenliste!G50)","v":""},{"$f":"IF(Athletenliste!H50=\"\",\"\",Athletenliste!H50)","v":""},null,{"$f":"IF(B50=\"\",\"\",IF(D50=\"m\",INDIRECT(VLOOKUP(G50,Bezüge!$E$6:$F$16,2,FALSE)&ROW(G50)),INDIRECT(VLOOKUP(G50,Bezüge!$B$6:$C$16,2,FALSE)&ROW(G50))))","v":""},null,null,null,"","","","","","","","","","","","","","","","","","","","","","",null,"","","","","","","","","","","","","","","","","","","","","",""]
[null,{"$f":"IF(Athletenliste!B51=\"\",\"\",Athletenliste!B51)","v":""},{"$f":"IF(Athletenliste!C51=\"\",\"\",Athletenliste!C51)","v":""},{"$f":"IF(Athletenliste!D51=\"\",\"\",Athletenliste!D51)","v":""},{"$f":"IF(Athletenliste!E51=\"\",\"\",Athletenliste!E51)","v":""},{"$f":"IF(Athletenliste!F51=\"\",\"\",Athletenliste!F51)","v":""},{"$f":"IF(Athletenliste!G51=\"\",\"\",Athletenliste!G51)","v":""},{"$f":"IF(Athletenliste!H51=\"\",\"\",Athletenliste!H51)","v":""},null,{"$f":"IF(B51=\"\",\"\",IF(D51=\"m\",INDIRECT(VLOOKUP(G51,Bezüge!$E$6:$F$16,2,FALSE)&ROW(G51)),INDIRECT(VLOOKUP(G51,Bezüge!$B$6:$C$16,2,FALSE)&ROW(G51))))","v":""},null,null,null,"","","","","","","","","","","","","","","","","","","","","","",null,"","","","","","","","","","","","","","","","","","","","","",""]
[null,{"$f":"IF(Athletenliste!B52=\"\",\"\",Athletenliste!B52)","v":""},{"$f":"IF(Athletenliste!C52=\"\",\"\",Athletenliste!C52)","v":""},{"$f":"IF(Athletenliste!D52=\"\",\"\",Athletenliste!D52)","v":""},{"$f":"IF(Athletenliste!E52=\"\",\"\",Athletenliste!E52)","v":""},{"$f":"IF(Athletenliste!F52=\"\",\"\",Athletenliste!F52)","v":""},{"$f":"IF(Athletenliste!G52=\"\",\"\",Athletenliste!G52)","v":""},{"$f":"IF(Athletenliste!H52=\"\",\"\",Athletenliste!H52)","v":""},null,{"$f":"IF(B52=\"\",\"\",IF(D52=\"m\",INDIRECT(VLOOKUP(G52,Bezüge!$E$6:$F$16,2,FALSE)&ROW(G52)),INDIRECT(VLOOKUP(G52,Bezüge!$B$6:$C$16,2,FALSE)&ROW(G52))))","v":""},null,null,null,"","","","","","","","","","","","","","","","","","","","","","",null,"","","","","","","","","","","","","","","","","","","","","",""]
[null,{"$f":"IF(Athletenliste!B53=\"\",\"\",Athletenliste!B53)","v":""},{"$f":"IF(Athletenliste!C53=\"\",\"\",Athletenliste!C53)","v":""},{"$f":"IF(Athletenliste!D53=\"\",\"\",Athletenliste!D53)","v":""},{"$f":"IF(Athletenliste!E53=\"\",\"\",Athletenliste!E53)","v":""},{"$f":"IF(Athletenliste!F53=\"\",\"\",Athletenliste!F53)","v":""},{"$f":"IF(Athletenliste!G53=\"\",\"\",Athletenliste!G53)","v":""},{"$f":"IF(Athletenliste!H53=\"\",\"\",Athletenliste!H53)","v":""},null,{"$f":"IF(B53=\"\",\"\",IF(D53=\"m\",INDIRECT(VLOOKUP(G53,Bezüge!$E$6:$F$16,2,FALSE)&ROW(G53)),INDIRECT(VLOOKUP(G53,Bezüge!$B$6:$C$16,2,FALSE)&ROW(G53))))","v":""},null,null,null,"","","","","","","","","","","","","","","","","","","","","","",null,"","","","","","","","","","","","","","","","","","","","","",""]
[null,{"$f":"IF(Athletenliste!B54=\"\",\"\",Athletenliste!B54)","v":""},{"$f":"IF(Athletenliste!C54=\"\",\"\",Athletenliste!C54)","v":""},{"$f":"IF(Athletenliste!D54=\"\",\"\",Athletenliste!D54)","v":""},{"$f":"IF(Athletenliste!E54=\"\",\"\",Athletenliste!E54)","v":""},{"$f":"IF(Athletenliste!F54=\"\",\"\",Athletenliste!F54)","v":""},{"$f":"IF(Athletenliste!G54=\"\",\"\",Athletenliste!G54)","v":""},{"$f":"IF(Athletenliste!H54=\"\",\"\",Athletenliste!H54)","v":""},null,{"$f":"IF(B54=\"\",\"\",IF(D54=\"m\",INDIRECT(VLOOKUP(G54,Bezüge!$E$6:$F$16,2,FALSE)&ROW(G54)),INDIRECT(VLOOKUP(G54,Bezüge!$B$6:$C$16,2,FALSE)&ROW(G54))))","v":""},null,null,null,"","","","","","","","","","","","","","","","","","","","","","",null,"","","","","","","","","","","","","","","","","","","","","",""]
[null,{"$f":"IF(Athletenliste!B55=\"\",\"\",Athletenliste!B55)","v":""},{"$f":"IF(Athletenliste!C55=\"\",\"\",Athletenliste!C55)","v":""},{"$f":"IF(Athletenliste!D55=\"\",\"\",Athletenliste!D55)","v":""},{"$f":"IF(Athletenliste!E55=\"\",\"\",Athletenliste!E55)","v":""},{"$f":"IF(Athletenliste!F55=\"\",\"\",Athletenliste!F55)","v":""},{"$f":"IF(Athletenliste!G55=\"\",\"\",Athletenliste!G55)","v":""},{"$f":"IF(Athletenliste!H55=\"\",\"\",Athletenliste!H55)","v":""},null,{"$f":"IF(B55=\"\",\"\",IF(D55=\"m\",INDIRECT(VLOOKUP(G55,Bezüge!$E$6:$F$16,2,FALSE)&ROW(G55)),INDIRECT(VLOOKUP(G55,Bezüge!$B$6:$C$16,2,FALSE)&ROW(G55))))","v":""},null,null,null,"","","","","","","","","","","","","","","","","","","","","","",null,"","","","","","","","","","","","","","","","","","","","","",""]
[null,{"$f":"IF(Athletenliste!B56=\"\",\"\",Athletenliste!B56)","v":""},{"$f":"IF(Athletenliste!C56=\"\",\"\",Athletenliste!C56)","v":""},{"$f":"IF(Athletenliste!D56=\"\",\"\",Athletenliste!D56)","v":""},{"$f":"IF(Athletenliste!E56=\"\",\"\",Athletenliste!E56)","v":""},{"$f":"IF(Athletenliste!F56=\"\",\"\",Athletenliste!F56)","v":""},{"$f":"IF(Athletenliste!G56=\"\",\"\",Athletenliste!G56)","v":""},{"$f":"IF(Athletenliste!H56=\"\",\"\",Athletenliste!H56)","v":""},null,{"$f":"IF(B56=\"\",\"\",IF(D56=\"m\",INDIRECT(VLOOKUP(G56,Bezüge!$E$6:$F$16,2,FALSE)&ROW(G56)),INDIRECT(VLOOKUP(G56,Bezüge!$B$6:$C$16,2,FALSE)&ROW(G56))))","v":""},null,null,null,"","","","","","","","","","","","","","","","","","","","","","",null,"","","","","","","","","","","","","","","","","","","","","",""]
[null,{"$f":"IF(Athletenliste!B57=\"\",\"\",Athletenliste!B57)","v":""},{"$f":"IF(Athletenliste!C57=\"\",\"\",Athletenliste!C57)","v":""},{"$f":"IF(Athletenliste!D57=\"\",\"\",Athletenliste!D57)","v":""},{"$f":"IF(Athletenliste!E57=\"\",\"\",Athletenliste!E57)","v":""},{"$f":"IF(Athletenliste!F57=\"\",\"\",Athletenliste!F57)","v":""},{"$f":"IF(Athletenliste!G57=\"\",\"\",Athletenliste!G57)","v":""},{"$f":"IF(Athletenliste!H57=\"\",\"\",Athletenliste!H57)","v":""},null,{"$f":"IF(B57=\"\",\"\",IF(D57=\"m\",INDIRECT(VLOOKUP(G57,Bezüge!$E$6:$F$16,2,FALSE)&ROW(G57)),INDIRECT(VLOOKUP(G57,Bezüge!$B$6:$C$16,2,FALSE)&ROW(G57))))","v":""},null,null,null,"","","","","","","","","","","","","","","","","","","","","","",null,"","","","","","","","","","","","","","","","","","","","","",""]
[null,{"$f":"IF(Athletenliste!B58=\"\",\"\",Athletenliste!B58)","v":""},{"$f":"IF(Athletenliste!C58=\"\",\"\",Athletenliste!C58)","v":""},{"$f":"IF(Athletenliste!D58=\"\",\"\",Athletenliste!D58)","v":""},{"$f":"IF(Athletenliste!E58=\"\",\"\",Athletenliste!E58)","v":""},{"$f":"IF(Athletenliste!F58=\"\",\"\",Athletenliste!F58)","v":""},{"$f":"IF(Athletenliste!G58=\"\",\"\",Athletenliste!G58)","v":""},{"$f":"IF(Athletenliste!H58=\"\",\"\",Athletenliste!H58)","v":""},null,{"$f":"IF(B58=\"\",\"\",IF(D58=\"m\",INDIRECT(VLOOKUP(G58,Bezüge!$E$6:$F$16,2,FALSE)&ROW(G58)),INDIRECT(VLOOKUP(G58,Bezüge!$B$6:$C$16,2,FALSE)&ROW(G58))))","v":""},null,null,null,"","","","","","","","","","","","","","","","","","","","","","",null,"","","","","","","","","","","","","","","","","","","","","",""]
[null,{"$f":"IF(Athletenliste!B59=\"\",\"\",Athletenliste!B59)","v":""},{"$f":"IF(Athletenliste!C59=\"\",\"\",Athletenliste!C59)","v":""},{"$f":"IF(Athletenliste!D59=\"\",\"\",Athletenliste!D59)","v":""},{"$f":"IF(Athletenliste!E59=\"\",\"\",Athletenliste!E59)","v":""},{"$f":"IF(Athletenliste!F59=\"\",\"\",Athletenliste!F59)","v":""},{"$f":"IF(Athletenliste!G59=\"\",\"\",Athletenliste!G59)","v":""},{"$f":"IF(Athletenliste!H59=\"\",\"\",Athletenliste!H59)","v":""},null,{"$f":"IF(B59=\"\",\"\",IF(D59=\"m\",INDIRECT(VLOOKUP(G59,Bezüge!$E$6:$F$16,2,FALSE)&ROW(G59)),INDIRECT(VLOOKUP(G59,Bezüge!$B$6:$C$16,2,FALSE)&ROW(G59))))","v":""},null,null,null,"","","","","","","","","","","","","","","","","","","","","","",null,"","","","","","","","","","","","","","","","","","","","","",""]
[null,{"$f":"IF(Athletenliste!B60=\"\",\"\",Athletenliste!B60)","v":""},{"$f":"IF(Athletenliste!C60=\"\",\"\",Athletenliste!C60)","v":""},{"$f":"IF(Athletenliste!D60=\"\",\"\",Athletenliste!D60)","v":""},{"$f":"IF(Athletenliste!E60=\"\",\"\",Athletenliste!E60)","v":""},{"$f":"IF(Athletenliste!F60=\"\",\"\",Athletenliste!F60)","v":""},{"$f":"IF(Athletenliste!G60=\"\",\"\",Athletenliste!G60)","v":""},{"$f":"IF(Athletenliste!H60=\"\",\"\",Athletenliste!H60)","v":""},null,{"$f":"IF(B60=\"\",\"\",IF(D60=\"m\",INDIRECT(VLOOKUP(G60,Bezüge!$E$6:$F$16,2,FALSE)&ROW(G60)),INDIRECT(VLOOKUP(G60,Bezüge!$B$6:$C$16,2,FALSE)&ROW(G60))))","v":""},null,null,null,"","","","","","","","","","","","","","","","","","","","","","",null,"","","","","","","","","","","","","","","","","","","","","",""]
[null,{"$f":"IF(Athletenliste!B61=\"\",\"\",Athletenliste!B61)","v":""},{"$f":"IF(Athletenliste!C61=\"\",\"\",Athletenliste!C61)","v":""},{"$f":"IF(Athletenliste!D61=\"\",\"\",Athletenliste!D61)","v":""},{"$f":"IF(Athletenliste!E61=\"\",\"\",Athletenliste!E61)","v":""},{"$f":"IF(Athletenliste!F61=\"\",\"\",Athletenliste!F61)","v":""},{"$f":"IF(Athletenliste!G61=\"\",\"\",Athletenliste!G61)","v":""},{"$f":"IF(Athletenliste!H61=\"\",\"\",Athletenliste!H61)","v":""},null,{"$f":"IF(B61=\"\",\"\",IF(D61=\"m\",INDIRECT(VLOOKUP(G61,Bezüge!$E$6:$F$16,2,FALSE)&ROW(G61)),INDIRECT(VLOOKUP(G61,Bezüge!$B$6:$C$16,2,FALSE)&ROW(G61))))","v":""},null,null,null,"","","","","","","","","","","","","","","","","","","","","","",null,"","","","","","","","","","","","","","","","","","","","","",""]
[null,{"$f":"IF(Athletenliste!B62=\"\",\"\",Athletenliste!B62)","v":""},{"$f":"IF(Athletenliste!C62=\"\",\"\",Athletenliste!C62)","v":""},{"$f":"IF(Athletenliste!D62=\"\",\"\",Athletenliste!D62)","v":""},{"$f":"IF(Athletenliste!E62=\"\",\"\",Athletenliste!E62)","v":""},{"$f":"IF(Athletenliste!F62=\"\",\"\",Athletenliste!F62)","v":""},{"$f":"IF(Athletenliste!G62=\"\",\"\",Athletenliste!G62)","v":""},{"$f":"IF(Athletenliste!H62=\"\",\"\",Athletenliste!H62)","v":""},null,{"$f":"IF(B62=\"\",\"\",IF(D62=\"m\",INDIRECT(VLOOKUP(G62,Bezüge!$E$6:$F$16,2,FALSE)&ROW(G62)),INDIRECT(VLOOKUP(G62,Bezüge!$B$6:$C$16,2,FALSE)&ROW(G62))))","v":""},null,null,null,"","","","","","","","","","","","","","","","","","","","","","",null,"","","","","","","","","","","","","","","","","","","","","",""]
[null,{"$f":"IF(Athletenliste!B63=\"\",\"\",Athletenliste!B63)","v":""},{"$f":"IF(Athletenliste!C63=\"\",\"\",Athletenliste!C63)","v":""},{"$f":"IF(Athletenliste!D63=\"\",\"\",Athletenliste!D63)","v":""},{"$f":"IF(Athletenliste!E63=\"\",\"\",Athletenliste!E63)","v":""},{"$f":"IF(Athletenliste!F63=\"\",\"\",Athletenliste!F63)","v":""},{"$f":"IF(Athletenliste!G63=\"\",\"\",Athletenliste!G63)","v":""},{"$f":"IF(Athletenliste!H63=\"\",\"\",Athletenliste!H63)","v":""},null,{"$f":"IF(B63=\"\",\"\",IF(D63=\"m\",INDIRECT(VLOOKUP(G63,Bezüge!$E$6:$F$16,2,FALSE)&ROW(G63)),INDIRECT(VLOOKUP(G63,Bezüge!$B$6:$C$16,2,FALSE)&ROW(G63))))","v":""},null,null,null,"","","","","","","","","","","","","","","","","","","","","","",null,"","","","","","","","","","","","","","","","","","","","","",""]
[null,{"$f":"IF(Athletenliste!B64=\"\",\"\",Athletenliste!B64)","v":""},{"$f":"IF(Athletenliste!C64=\"\",\"\",Athletenliste!C64)","v":""},{"$f":"IF(Athletenliste!D64=\"\",\"\",Athletenliste!D64)","v":""},{"$f":"IF(Athletenliste!E64=\"\",\"\",Athletenliste!E64)","v":""},{"$f":"IF(Athletenliste!F64=\"\",\"\",Athletenliste!F64)","v":""},{"$f":"IF(Athletenliste!G64=\"\",\"\",Athletenliste!G64)","v":""},{"$f":"IF(Athletenliste!H64=\"\",\"\",Athletenliste!H64)","v":""},null,{"$f":"IF(B64=\"\",\"\",IF(D64=\"m\",INDIRECT(VLOOKUP(G64,Bezüge!$E$6:$F$16,2,FALSE)&ROW(G64)),INDIRECT(VLOOKUP(G64,Bezüge!$B$6:$C$16,2,FALSE)&ROW(G64))))","v":""},null,null,null,"","","","","","","","","","","","","","","","","","","","","","",null,"","","","","","","","","","","","","","","","","","","","","",""]
[null,{"$f":"IF(Athletenliste!B65=\"\",\"\",Athletenliste!B65)","v":""},{"$f":"IF(Athletenliste!C65=\"\",\"\",Athletenliste!C65)","v":""},{"$f":"IF(Athletenliste!D65=\"\",\"\",Athletenliste!D65)","v":""},{"$f":"IF(Athletenliste!E65=\"\",\"\",Athletenliste!E65)","v":""},{"$f":"IF(Athletenliste!F65=\"\",\"\",Athletenliste!F65)","v":""},{"$f":"IF(Athletenliste!G65=\"\",\"\",Athletenliste!G65)","v":""},{"$f":"IF(Athletenliste!H65=\"\",\"\",Athletenliste!H65)","v":""},null,{"$f":"IF(B65=\"\",\"\",IF(D65=\"m\",INDIRECT(VLOOKUP(G65,Bezüge!$E$6:$F$16,2,FALSE)&ROW(G65)),INDIRECT(VLOOKUP(G65,Bezüge!$B$6:$C$16,2,FALSE)&ROW(G65))))","v":""},null,null,null,"","","","","","","","","","","","","","","","","","","","","","",null,"","","","","","","","","","","","","","","","","","","","","",""]
[null,{"$f":"IF(Athletenliste!B66=\"\",\"\",Athletenliste!B66)","v":""},{"$f":"IF(Athletenliste!C66=\"\",\"\",Athletenliste!C66)","v":""},{"$f":"IF(Athletenliste!D66=\"\",\"\",Athletenliste!D66)","v":""},{"$f":"IF(Athletenliste!E66=\"\",\"\",Athletenliste!E66)","v":""},{"$f":"IF(Athletenliste!F66=\"\",\"\",Athletenliste!F66)","v":""},{"$f":"IF(Athletenliste!G66=\"\",\"\",Athletenliste!G66)","v":""},{"$f":"IF(Athletenliste!H66=\"\",\"\",Athletenliste!H66)","v":""},null,{"$f":"IF(B66=\"\",\"\",IF(D66=\"m\",INDIRECT(VLOOKUP(G66,Bezüge!$E$6:$F$16,2,FALSE)&ROW(G66)),INDIRECT(VLOOKUP(G66,Bezüge!$B$6:$C$16,2,FALSE)&ROW(G66))))","v":""},null,null,null,"","","","","","","","","","","","","","","","","","","","","","",null,"","","","","","","","","","","","","","","","","","","","","",""]
[null,{"$f":"IF(Athletenliste!B67=\"\",\"\",Athletenliste!B67)","v":""},{"$f":"IF(Athletenliste!C67=\"\",\"\",Athletenliste!C67)","v":""},{"$f":"IF(Athletenliste!D67=\"\",\"\",Athletenliste!D67)","v":""},{"$f":"IF(Athletenliste!E67=\"\",\"\",Athletenliste!E67)","v":""},{"$f":"IF(Athletenliste!F67=\"\",\"\",Athletenliste!F67)","v":""},{"$f":"IF(Athletenliste!G67=\"\",\"\",Athletenliste!G67)","v":""},{"$f":"IF(Athletenliste!H67=\"\",\"\",Athletenliste!H67)","v":""},null,{"$f":"IF(B67=\"\",\"\",IF(D67=\"m\",INDIRECT(VLOOKUP(G67,Bezüge!$E$6:$F$16,2,FALSE)&ROW(G67)),INDIRECT(VLOOKUP(G67,Bezüge!$B$6:$C$16,2,FALSE)&ROW(G67))))","v":""},null,null,null,"","","","","","","","","","","","","","","","","","","","","","",null,"","","","","","","","","","","","","","","","","","","","","",""]
[null,{"$f":"IF(Athletenliste!B68=\"\",\"\",Athletenliste!B68)","v":""},{"$f":"IF(Athletenliste!C68=\"\",\"\",Athletenliste!C68)","v":""},{"$f":"IF(Athletenliste!D68=\"\",\"\",Athletenliste!D68)","v":""},{"$f":"IF(Athletenliste!E68=\"\",\"\",Athletenliste!E68)","v":""},{"$f":"IF(Athletenliste!F68=\"\",\"\",Athletenliste!F68)","v":""},{"$f":"IF(Athletenliste!G68=\"\",\"\",Athletenliste!G68)","v":""},{"$f":"IF(Athletenliste!H68=\"\",\"\",Athletenliste!H68)","v":""},null,{"$f":"IF(B68=\"\",\"\",IF(D68=\"m\",INDIRECT(VLOOKUP(G68,Bezüge!$E$6:$F$16,2,FALSE)&ROW(G68)),INDIRECT(VLOOKUP(G68,Bezüge!$B$6:$C$16,2,FALSE)&ROW(G68))))","v":""},null,null,null,"","","","","","","","","","","","","","","","","","","","","","",null,"","","","","","","","","","","","","","","","","","","","","",""]
[null,{"$f":"IF(Athletenliste!B69=\"\",\"\",Athletenliste!B69)","v":""},{"$f":"IF(Athletenliste!C69=\"\",\"\",Athletenliste!C69)","v":""},{"$f":"IF(Athletenliste!D69=\"\",\"\",Athletenliste!D69)","v":""},{"$f":"IF(Athletenliste!E69=\"\",\"\",Athletenliste!E69)","v":""},{"$f":"IF(Athletenliste!F69=\"\",\"\",Athletenliste!F69)","v":""},{"$f":"IF(Athletenliste!G69=\"\",\"\",Athletenliste!G69)","v":""},{"$f":"IF(Athletenliste!H69=\"\",\"\",Athletenliste!H69)","v":""},null,{"$f":"IF(B69=\"\",\"\",IF(D69=\"m\",INDIRECT(VLOOKUP(G69,Bezüge!$E$6:$F$16,2,FALSE)&ROW(G69)),INDIRECT(VLOOKUP(G69,Bezüge!$B$6:$C$16,2,FALSE)&ROW(G69))))","v":""},null,null,null,"","","","","","","","","","","","","","","","","","","","","","",null,"","","","","","","","","","","","","","","","","","","","","",""]
[null,{"$f":"IF(Athletenliste!B70=\"\",\"\",Athletenliste!B70)","v":""},{"$f":"IF(Athletenliste!C70=\"\",\"\",Athletenliste!C70)","v":""},{"$f":"IF(Athletenliste!D70=\"\",\"\",Athletenliste!D70)","v":""},{"$f":"IF(Athletenliste!E70=\"\",\"\",Athletenliste!E70)","v":""},{"$f":"IF(Athletenliste!F70=\"\",\"\",Athletenliste!F70)","v":""},{"$f":"IF(Athletenliste!G70=\"\",\"\",Athletenliste!G70)","v":""},{"$f":"IF(Athletenliste!H70=\"\",\"\",Athletenliste!H70)","v":""},null,{"$f":"IF(B70=\"\",\"\",IF(D70=\"m\",INDIRECT(VLOOKUP(G70,Bezüge!$E$6:$F$16,2,FALSE)&ROW(G70)),INDIRECT(VLOOKUP(G70,Bezüge!$B$6:$C$16,2,FALSE)&ROW(G70))))","v":""},null,null,null,"","","","","","","","","","","","","","","","","","","","","","",null,"","","","","","","","","","","","","","","","","","","","","",""]
[null,{"$f":"IF(Athletenliste!B71=\"\",\"\",Athletenliste!B71)","v":""},{"$f":"IF(Athletenliste!C71=\"\",\"\",Athletenliste!C71)","v":""},{"$f":"IF(Athletenliste!D71=\"\",\"\",Athletenliste!D71)","v":""},{"$f":"IF(Athletenliste!E71=\"\",\"\",Athletenliste!E71)","v":""},{"$f":"IF(Athletenliste!F71=\"\",\"\",Athletenliste!F71)","v":""},{"$f":"IF(Athletenliste!G71=\"\",\"\",Athletenliste!G71)","v":""},{"$f":"IF(Athletenliste!H71=\"\",\"\",Athletenliste!H71)","v":""},null,{"$f":"IF(B71=\"\",\"\",IF(D71=\"m\",INDIRECT(VLOOKUP(G71,Bezüge!$E$6:$F$16,2,FALSE)&ROW(G71)),INDIRECT(VLOOKUP(G71,Bezüge!$B$6:$C$16,2,FALSE)&ROW(G71))))","v":""},null,null,null,"","","","","","","","","","","","","","","","","","","","","","",null,"","","","","","","","","","","","","","","","","","","","","",""]
[null,{"$f":"IF(Athletenliste!B72=\"\",\"\",Athletenliste!B72)","v":""},{"$f":"IF(Athletenliste!C72=\"\",\"\",Athletenliste!C72)","v":""},{"$f":"IF(Athletenliste!D72=\"\",\"\",Athletenliste!D72)","v":""},{"$f":"IF(Athletenliste!E72=\"\",\"\",Athletenliste!E72)","v":""},{"$f":"IF(Athletenliste!F72=\"\",\"\",Athletenliste!F72)","v":""},{"$f":"IF(Athletenliste!G72=\"\",\"\",Athletenliste!G72)","v":""},{"$f":"IF(Athletenliste!H72=\"\",\"\",Athletenliste!H72)","v":""},null,{"$f":"IF(B72=\"\",\"\",IF(D72=\"m\",INDIRECT(VLOOKUP(G72,Bezüge!$E$6:$F$16,2,FALSE)&ROW(G72)),INDIRECT(VLOOKUP(G72,Bezüge!$B$6:$C$16,2,FALSE)&ROW(G72))))","v":""},null,null,null,"","","","","","","","","","","","","","","","","","","","","","",null,"","","","","","","","","","","","","","","","","","","","","",""]
[null,{"$f":"IF(Athletenliste!B73=\"\",\"\",Athletenliste!B73)","v":""},{"$f":"IF(Athletenliste!C73=\"\",\"\",Athletenliste!C73)","v":""},{"$f":"IF(Athletenliste!D73=\"\",\"\",Athletenliste!D73)","v":""},{"$f":"IF(Athletenliste!E73=\"\",\"\",Athletenliste!E73)","v":""},{"$f":"IF(Athletenliste!F73=\"\",\"\",Athletenliste!F73)","v":""},{"$f":"IF(Athletenliste!G73=\"\",\"\",Athletenliste!G73)","v":""},{"$f":"IF(Athletenliste!H73=\"\",\"\",Athletenliste!H73)","v":""},null,{"$f":"IF(B73=\"\",\"\",IF(D73=\"m\",INDIRECT(VLOOKUP(G73,Bezüge!$E$6:$F$16,2,FALSE)&ROW(G73)),INDIRECT(VLOOKUP(G73,Bezüge!$B$6:$C$16,2,FALSE)&ROW(G73))))","v":""},null,null,null,"","","","","","","","","","","","","","","","","","","","","","",null,"","","","","","","","","","","","","","","","","","","","","",""]
[null,{"$f":"IF(Athletenliste!B74=\"\",\"\",Athletenliste!B74)","v":""},{"$f":"IF(Athletenliste!C74=\"\",\"\",Athletenliste!C74)","v":""},{"$f":"IF(Athletenliste!D74=\"\",\"\",Athletenliste!D74)","v":""},{"$f":"IF(Athletenliste!E74=\"\",\"\",Athletenliste!E74)","v":""},{"$f":"IF(Athletenliste!F74=\"\",\"\",Athletenliste!F74)","v":""},{"$f":"IF(Athletenliste!G74=\"\",\"\",Athletenliste!G74)","v":""},{"$f":"IF(Athletenliste!H74=\"\",\"\",Athletenliste!H74)","v":""},null,{"$f":"IF(B74=\"\",\"\",IF(D74=\"m\",INDIRECT(VLOOKUP(G74,Bezüge!$E$6:$F$16,2,FALSE)&ROW(G74)),INDIRECT(VLOOKUP(G74,Bezüge!$B$6:$C$16,2,FALSE)&ROW(G74))))","v":""},null,null,null,"","","","","","","","","","","","","","","","","","","","","","",null,"","","","","","","","","","","","","","","","","","","","","",""]
[null,{"$f":"IF(Athletenliste!B75=\"\",\"\",Athletenliste!B75)","v":""},{"$f":"IF(Athletenliste!C75=\"\",\"\",Athletenliste!C75)","v":""},{"$f":"IF(Athletenliste!D75=\"\",\"\",Athletenliste!D75)","v":""},{"$f":"IF(Athletenliste!E75=\"\",\"\",Athletenliste!E75)","v":""},{"$f":"IF(Athletenliste!F75=\"\",\"\",Athletenliste!F75)","v":""},{"$f":"IF(Athletenliste!G75=\"\",\"\",Athletenliste!G75)","v":""},{"$f":"IF(Athletenliste!H75=\"\",\"\",Athletenliste!H75)","v":""},null,{"$f":"IF(B75=\"\",\"\",IF(D75=\"m\",INDIRECT(VLOOKUP(G75,Bezüge!$E$6:$F$16,2,FALSE)&ROW(G75)),INDIRECT(VLOOKUP(G75,Bezüge!$B$6:$C$16,2,FALSE)&ROW(G75))))","v":""},null,null,null,{"$f":"IF(AND(D75=\"m\",G75=\"U06\",I75<>\"\"),I75,\"\")","v":""},{"$f":"IF(OR(I75=\"\",N75=\"\"),\"\",_xlfn.RANK.EQ(N75,N$10:N$200,1))","v":""},{"$f":"IF(AND(D75=\"m\",G75=\"U07\",I75<>\"\"),I75,\"\")","v":""},{"$f":"IF(OR(I75=\"\",P75=\"\"),\"\",_xlfn.RANK.EQ(P75,P$10:P$200,1))","v":""},{"$f":"IF(AND(D75=\"m\",G75=\"U08\",I75<>\"\"),I75,\"\")","v":""},{"$f":"IF(OR(I75=\"\",R75=\"\"),\"\",_xlfn.RANK.EQ(R75,R$10:R$200,1))","v":""},{"$f":"IF(AND(D75=\"m\",G75=\"U09\",I75<>\"\"),I75,\"\")","v":""},{"$f":"IF(OR(I75=\"\",T75=\"\"),\"\",_xlfn.RANK.EQ(T75,T$10:T$200,1))","v":""},{"$f":"IF(AND(D75=\"m\",G75=\"U10\",I75<>\"\"),I75,\"\")","v":""},{"$f":"IF(OR(I75=\"\",V75=\"\"),\"\",_xlfn.RANK.EQ(V75,V$10:V$200,1))","v":""},{"$f":"IF(AND(D75=\"m\",G75=\"U11\",I75<>\"\"),I75,\"\")","v":""},{"$f":"IF(OR(I75=\"\",X75=\"\"),\"\",_xlfn.RANK.EQ(X75,X$10:X$200,1))","v":""},{"$f":"IF(AND(D75=\"m\",G75=\"U12\",I75<>\"\"),I75,\"\")","v":""},{"$f":"IF(OR(I75=\"\",Z75=\"\"),\"\",_xlfn.RANK.EQ(Z75,Z$10:Z$200,1))","v":""},{"$f":"IF(AND(D75=\"m\",G75=\"U13\",I75<>\"\"),I75,\"\")","v":""},{"$f":"IF(OR(I75=\"\",AB75=\"\"),\"\",_xlfn.RANK.EQ(AB75,AB$10:AB$200,1))","v":""},{"$f":"IF(AND(D75=\"m\",G75=\"U14\",I75<>\"\"),I75,\"\")","v":""},{"$f":"IF(OR(I75=\"\",AD75=\"\"),\"\",_xlfn.RANK.EQ(AD75,AD$10:AD$200,1))","v":""},{"$f":"IF(AND(D75=\"m\",G75=\"U15\",I75<>\"\"),I75,\"\")","v":""},{"$f":"IF(OR(I75=\"\",AF75=\"\"),\"\",_xlfn.RANK.EQ(AF75,AF$10:AF$200,1))","v":""},{"$f":"IF(AND(D75=\"m\",G75=\"U16\",I75<>\"\"),I75,\"\")","v":""},{"$f":"IF(OR(I75=\"\",AH75=\"\"),\"\",_xlfn.RANK.EQ(AH75,AH$10:AH$200,1))","v":""},null,{"$f":"IF(AND(D75=\"w\",G75=\"U06\",I75<>\"\"),I75,\"\")","v":""},{"$f":"IF(OR(I75=\"\",AI75=\"\"),\"\",_xlfn.RANK.EQ(AI75,AI$10:AI$200,1))","v":""},{"$f":"IF(AND(D75=\"w\",G75=\"U07\",I75<>\"\"),I75,\"\")","v":""},{"$f":"IF(OR(I75=\"\",AM75=\"\"),\"\",_xlfn.RANK.EQ(AM75,AM$10:AM$20,1))","v":""},{"$f":"IF(AND(D75=\"w\",G75=\"U08\",I75<>\"\"),I75,\"\")","v":""},{"$f":"IF(OR(I75=\"\",AO75=\"\"),\"\",_xlfn.RANK.EQ(AO75,AO$10:AO$200,0))","v":""},{"$f":"IF(AND(D75=\"w\",G75=\"U09\",I75<>\"\"),I75,\"\")","v":""},{"$f":"IF(OR(I75=\"\",AQ75=\"\"),\"\",_xlfn.RANK.EQ(AQ75,AQ$10:AQ$200,1))","v":""},{"$f":"IF(AND(D75=\"w\",G75=\"U10\",I75<>\"\"),I75,\"\")","v":""},{"$f":"IF(OR(I75=\"\",AS75=\"\"),\"\",_xlfn.RANK.EQ(AS75,AS$10:AS$200,1))","v":""},{"$f":"IF(AND(D75=\"w\",G75=\"U11\",I75<>\"\"),I75,\"\")","v":""},{"$f":"IF(OR(I75=\"\",AU75=\"\"),\"\",_xlfn.RANK.EQ(AU75,AU$10:AU$200,1))","v":""},{"$f":"IF(AND(D75=\"w\",G75=\"U12\",I75<>\"\"),I75,\"\")","v":""},{"$f":"IF(OR(I75=\"\",AW75=\"\"),\"\",_xlfn.RANK.EQ(AW75,AW$10:AW$200,1))","v":""},{"$f":"IF(AND(D75=\"w\",G75=\"U13\",I75<>\"\"),I75,\"\")","v":""},{"$f":"IF(OR(I75=\"\",AY75=\"\"),\"\",_xlfn.RANK.EQ(AY75,AY$10:AY$200,1))","v":""},{"$f":"IF(AND(D75=\"w\",G75=\"U14\",I75<>\"\"),I75,\"\")","v":""},{"$f":"IF(OR(I75=\"\",BA75=\"\"),\"\",_xlfn.RANK.EQ(BA75,BA$10:BA$200,1))","v":""},{"$f":"IF(AND(D75=\"w\",G75=\"U15\",I75<>\"\"),I75,\"\")","v":""},{"$f":"IF(OR(I75=\"\",BC75=\"\"),\"\",_xlfn.RANK.EQ(BC75,BC$10:BC$200,1))","v":""},{"$f":"IF(AND(D75=\"w\",G75=\"U16\",I75<>\"\"),I75,\"\")","v":""},{"$f":"IF(OR(I75=\"\",BE75=\"\"),\"\",_xlfn.RANK.EQ(BE75,BE$10:BE$200,1))","v":""}]
[null,{"$f":"IF(Athletenliste!B76=\"\",\"\",Athletenliste!B76)","v":""},{"$f":"IF(Athletenliste!C76=\"\",\"\",Athletenliste!C76)","v":""},{"$f":"IF(Athletenliste!D76=\"\",\"\",Athletenliste!D76)","v":""},{"$f":"IF(Athletenliste!E76=\"\",\"\",Athletenliste!E76)","v":""},{"$f":"IF(Athletenliste!F76=\"\",\"\",Athletenliste!F76)","v":""},{"$f":"IF(Athletenliste!G76=\"\",\"\",Athletenliste!G76)","v":""},{"$f":"IF(Athletenliste!H76=\"\",\"\",Athletenliste!H76)","v":""},null,{"$f":"IF(B76=\"\",\"\",IF(D76=\"m\",INDIRECT(VLOOKUP(G76,Bezüge!$E$6:$F$16,2,FALSE)&ROW(G76)),INDIRECT(VLOOKUP(G76,Bezüge!$B$6:$C$16,2,FALSE)&ROW(G76))))","v":""},null,null,null,"","","","","","","","","","","","","","","","","","","","","","",null,"","","","","","","","","","","","","","","","","","","","","",""]
[null,{"$f":"IF(Athletenliste!B77=\"\",\"\",Athletenliste!B77)","v":""},{"$f":"IF(Athletenliste!C77=\"\",\"\",Athletenliste!C77)","v":""},{"$f":"IF(Athletenliste!D77=\"\",\"\",Athletenliste!D77)","v":""},{"$f":"IF(Athletenliste!E77=\"\",\"\",Athletenliste!E77)","v":""},{"$f":"IF(Athletenliste!F77=\"\",\"\",Athletenliste!F77)","v":""},{"$f":"IF(Athletenliste!G77=\"\",\"\",Athletenliste!G77)","v":""},{"$f":"IF(Athletenliste!H77=\"\",\"\",Athletenliste!H77)","v":""},null,{"$f":"IF(B77=\"\",\"\",IF(D77=\"m\",INDIRECT(VLOOKUP(G77,Bezüge!$E$6:$F$16,2,FALSE)&ROW(G77)),INDIRECT(VLOOKUP(G77,Bezüge!$B$6:$C$16,2,FALSE)&ROW(G77))))","v":""},null,null,null,"","","","","","","","","","","","","","","","","","","","","","",null,"","","","","","","","","","","","","","","","","","","","","",""]
[null,{"$f":"IF(Athletenliste!B78=\"\",\"\",Athletenliste!B78)","v":""},{"$f":"IF(Athletenliste!C78=\"\",\"\",Athletenliste!C78)","v":""},{"$f":"IF(Athletenliste!D78=\"\",\"\",Athletenliste!D78)","v":""},{"$f":"IF(Athletenliste!E78=\"\",\"\",Athletenliste!E78)","v":""},{"$f":"IF(Athletenliste!F78=\"\",\"\",Athletenliste!F78)","v":""},{"$f":"IF(Athletenliste!G78=\"\",\"\",Athletenliste!G78)","v":""},{"$f":"IF(Athletenliste!H78=\"\",\"\",Athletenliste!H78)","v":""},null,{"$f":"IF(B78=\"\",\"\",IF(D78=\"m\",INDIRECT(VLOOKUP(G78,Bezüge!$E$6:$F$16,2,FALSE)&ROW(G78)),INDIRECT(VLOOKUP(G78,Bezüge!$B$6:$C$16,2,FALSE)&ROW(G78))))","v":""},null,null,null,"","","","","","","","","","","","","","","","","","","","","","",null,"","","","","","","","","","","","","","","","","","","","","",""]
[null,{"$f":"IF(Athletenliste!B79=\"\",\"\",Athletenliste!B79)","v":""},{"$f":"IF(Athletenliste!C79=\"\",\"\",Athletenliste!C79)","v":""},{"$f":"IF(Athletenliste!D79=\"\",\"\",Athletenliste!D79)","v":""},{"$f":"IF(Athletenliste!E79=\"\",\"\",Athletenliste!E79)","v":""},{"$f":"IF(Athletenliste!F79=\"\",\"\",Athletenliste!F79)","v":""},{"$f":"IF(Athletenliste!G79=\"\",\"\",Athletenliste!G79)","v":""},{"$f":"IF(Athletenliste!H79=\"\",\"\",Athletenliste!H79)","v":""},null,{"$f":"IF(B79=\"\",\"\",IF(D79=\"m\",INDIRECT(VLOOKUP(G79,Bezüge!$E$6:$F$16,2,FALSE)&ROW(G79)),INDIRECT(VLOOKUP(G79,Bezüge!$B$6:$C$16,2,FALSE)&ROW(G79))))","v":""},null,null,null,"","","","","","","","","","","","","","","","","","","","","","",null,"","","","","","","","","","","","","","","","","","","","","",""]
[null,{"$f":"IF(Athletenliste!B80=\"\",\"\",Athletenliste!B80)","v":""},{"$f":"IF(Athletenliste!C80=\"\",\"\",Athletenliste!C80)","v":""},{"$f":"IF(Athletenliste!D80=\"\",\"\",Athletenliste!D80)","v":""},{"$f":"IF(Athletenliste!E80=\"\",\"\",Athletenliste!E80)","v":""},{"$f":"IF(Athletenliste!F80=\"\",\"\",Athletenliste!F80)","v":""},{"$f":"IF(Athletenliste!G80=\"\",\"\",Athletenliste!G80)","v":""},{"$f":"IF(Athletenliste!H80=\"\",\"\",Athletenliste!H80)","v":""},null,{"$f":"IF(B80=\"\",\"\",IF(D80=\"m\",INDIRECT(VLOOKUP(G80,Bezüge!$E$6:$F$16,2,FALSE)&ROW(G80)),INDIRECT(VLOOKUP(G80,Bezüge!$B$6:$C$16,2,FALSE)&ROW(G80))))","v":""},null,null,null,"","","","","","","","","","","","","","","","","","","","","","",null,"","","","","","","","","","","","","","","","","","","","","",""]
[null,{"$f":"IF(Athletenliste!B81=\"\",\"\",Athletenliste!B81)","v":""},{"$f":"IF(Athletenliste!C81=\"\",\"\",Athletenliste!C81)","v":""},{"$f":"IF(Athletenliste!D81=\"\",\"\",Athletenliste!D81)","v":""},{"$f":"IF(Athletenliste!E81=\"\",\"\",Athletenliste!E81)","v":""},{"$f":"IF(Athletenliste!F81=\"\",\"\",Athletenliste!F81)","v":""},{"$f":"IF(Athletenliste!G81=\"\",\"\",Athletenliste!G81)","v":""},{"$f":"IF(Athletenliste!H81=\"\",\"\",Athletenliste!H81)","v":""},null,{"$f":"IF(B81=\"\",\"\",IF(D81=\"m\",INDIRECT(VLOOKUP(G81,Bezüge!$E$6:$F$16,2,FALSE)&ROW(G81)),INDIRECT(VLOOKUP(G81,Bezüge!$B$6:$C$16,2,FALSE)&ROW(G81))))","v":""},null,null,null,"","","","","","","","","","","","","","","","","","","","","","",null,"","","","","","","","","","","","","","","","","","","","","",""]
[null,{"$f":"IF(Athletenliste!B82=\"\",\"\",Athletenliste!B82)","v":""},{"$f":"IF(Athletenliste!C82=\"\",\"\",Athletenliste!C82)","v":""},{"$f":"IF(Athletenliste!D82=\"\",\"\",Athletenliste!D82)","v":""},{"$f":"IF(Athletenliste!E82=\"\",\"\",Athletenliste!E82)","v":""},{"$f":"IF(Athletenliste!F82=\"\",\"\",Athletenliste!F82)","v":""},{"$f":"IF(Athletenliste!G82=\"\",\"\",Athletenliste!G82)","v":""},{"$f":"IF(Athletenliste!H82=\"\",\"\",Athletenliste!H82)","v":""},null,{"$f":"IF(B82=\"\",\"\",IF(D82=\"m\",INDIRECT(VLOOKUP(G82,Bezüge!$E$6:$F$16,2,FALSE)&ROW(G82)),INDIRECT(VLOOKUP(G82,Bezüge!$B$6:$C$16,2,FALSE)&ROW(G82))))","v":""},null,null,null,"","","","","","","","","","","","","","","","","","","","","","",null,"","","","","","","","","","","","","","","","","","","","","",""]
[null,{"$f":"IF(Athletenliste!B83=\"\",\"\",Athletenliste!B83)","v":""},{"$f":"IF(Athletenliste!C83=\"\",\"\",Athletenliste!C83)","v":""},{"$f":"IF(Athletenliste!D83=\"\",\"\",Athletenliste!D83)","v":""},{"$f":"IF(Athletenliste!E83=\"\",\"\",Athletenliste!E83)","v":""},{"$f":"IF(Athletenliste!F83=\"\",\"\",Athletenliste!F83)","v":""},{"$f":"IF(Athletenliste!G83=\"\",\"\",Athletenliste!G83)","v":""},{"$f":"IF(Athletenliste!H83=\"\",\"\",Athletenliste!H83)","v":""},null,{"$f":"IF(B83=\"\",\"\",IF(D83=\"m\",INDIRECT(VLOOKUP(G83,Bezüge!$E$6:$F$16,2,FALSE)&ROW(G83)),INDIRECT(VLOOKUP(G83,Bezüge!$B$6:$C$16,2,FALSE)&ROW(G83))))","v":""},null,null,null,"","","","","","","","","","","","","","","","","","","","","","",null,"","","","","","","","","","","","","","","","","","","","","",""]
[null,{"$f":"IF(Athletenliste!B84=\"\",\"\",Athletenliste!B84)","v":""},{"$f":"IF(Athletenliste!C84=\"\",\"\",Athletenliste!C84)","v":""},{"$f":"IF(Athletenliste!D84=\"\",\"\",Athletenliste!D84)","v":""},{"$f":"IF(Athletenliste!E84=\"\",\"\",Athletenliste!E84)","v":""},{"$f":"IF(Athletenliste!F84=\"\",\"\",Athletenliste!F84)","v":""},{"$f":"IF(Athletenliste!G84=\"\",\"\",Athletenliste!G84)","v":""},{"$f":"IF(Athletenliste!H84=\"\",\"\",Athletenliste!H84)","v":""},null,{"$f":"IF(B84=\"\",\"\",IF(D84=\"m\",INDIRECT(VLOOKUP(G84,Bezüge!$E$6:$F$16,2,FALSE)&ROW(G84)),INDIRECT(VLOOKUP(G84,Bezüge!$B$6:$C$16,2,FALSE)&ROW(G84))))","v":""},null,null,null,"","","","","","","","","","","","","","","","","","","","","","",null,"","","","","","","","","","","","","","","","","","","","","",""]
[null,{"$f":"IF(Athletenliste!B85=\"\",\"\",Athletenliste!B85)","v":""},{"$f":"IF(Athletenliste!C85=\"\",\"\",Athletenliste!C85)","v":""},{"$f":"IF(Athletenliste!D85=\"\",\"\",Athletenliste!D85)","v":""},{"$f":"IF(Athletenliste!E85=\"\",\"\",Athletenliste!E85)","v":""},{"$f":"IF(Athletenliste!F85=\"\",\"\",Athletenliste!F85)","v":""},{"$f":"IF(Athletenliste!G85=\"\",\"\",Athletenliste!G85)","v":""},{"$f":"IF(Athletenliste!H85=\"\",\"\",Athletenliste!H85)","v":""},null,{"$f":"IF(B85=\"\",\"\",IF(D85=\"m\",INDIRECT(VLOOKUP(G85,Bezüge!$E$6:$F$16,2,FALSE)&ROW(G85)),INDIRECT(VLOOKUP(G85,Bezüge!$B$6:$C$16,2,FALSE)&ROW(G85))))","v":""},null,null,null,"","","","","","","","","","","","","","","","","","","","","","",null,"","","","","","","","","","","","","","","","","","","","","",""]
[null,{"$f":"IF(Athletenliste!B86=\"\",\"\",Athletenliste!B86)","v":""},{"$f":"IF(Athletenliste!C86=\"\",\"\",Athletenliste!C86)","v":""},{"$f":"IF(Athletenliste!D86=\"\",\"\",Athletenliste!D86)","v":""},{"$f":"IF(Athletenliste!E86=\"\",\"\",Athletenliste!E86)","v":""},{"$f":"IF(Athletenliste!F86=\"\",\"\",Athletenliste!F86)","v":""},{"$f":"IF(Athletenliste!G86=\"\",\"\",Athletenliste!G86)","v":""},{"$f":"IF(Athletenliste!H86=\"\",\"\",Athletenliste!H86)","v":""},null,{"$f":"IF(B86=\"\",\"\",IF(D86=\"m\",INDIRECT(VLOOKUP(G86,Bezüge!$E$6:$F$16,2,FALSE)&ROW(G86)),INDIRECT(VLOOKUP(G86,Bezüge!$B$6:$C$16,2,FALSE)&ROW(G86))))","v":""},null,null,null,"","","","","","","","","","","","","","","","","","","","","","",null,"","","","","","","","","","","","","","","","","","","","","",""]
[null,{"$f":"IF(Athletenliste!B87=\"\",\"\",Athletenliste!B87)","v":""},{"$f":"IF(Athletenliste!C87=\"\",\"\",Athletenliste!C87)","v":""},{"$f":"IF(Athletenliste!D87=\"\",\"\",Athletenliste!D87)","v":""},{"$f":"IF(Athletenliste!E87=\"\",\"\",Athletenliste!E87)","v":""},{"$f":"IF(Athletenliste!F87=\"\",\"\",Athletenliste!F87)","v":""},{"$f":"IF(Athletenliste!G87=\"\",\"\",Athletenliste!G87)","v":""},{"$f":"IF(Athletenliste!H87=\"\",\"\",Athletenliste!H87)","v":""},null,{"$f":"IF(B87=\"\",\"\",IF(D87=\"m\",INDIRECT(VLOOKUP(G87,Bezüge!$E$6:$F$16,2,FALSE)&ROW(G87)),INDIRECT(VLOOKUP(G87,Bezüge!$B$6:$C$16,2,FALSE)&ROW(G87))))","v":""},null,null,null,"","","","","","","","","","","","","","","","","","","","","","",null,"","","","","","","","","","","","","","","","","","","","","",""]
[null,{"$f":"IF(Athletenliste!B88=\"\",\"\",Athletenliste!B88)","v":""},{"$f":"IF(Athletenliste!C88=\"\",\"\",Athletenliste!C88)","v":""},{"$f":"IF(Athletenliste!D88=\"\",\"\",Athletenliste!D88)","v":""},{"$f":"IF(Athletenliste!E88=\"\",\"\",Athletenliste!E88)","v":""},{"$f":"IF(Athletenliste!F88=\"\",\"\",Athletenliste!F88)","v":""},{"$f":"IF(Athletenliste!G88=\"\",\"\",Athletenliste!G88)","v":""},{"$f":"IF(Athletenliste!H88=\"\",\"\",Athletenliste!H88)","v":""},null,{"$f":"IF(B88=\"\",\"\",IF(D88=\"m\",INDIRECT(VLOOKUP(G88,Bezüge!$E$6:$F$16,2,FALSE)&ROW(G88)),INDIRECT(VLOOKUP(G88,Bezüge!$B$6:$C$16,2,FALSE)&ROW(G88))))","v":""},null,null,null,"","","","","","","","","","","","","","","","","","","","","","",null,"","","","","","","","","","","","","","","","","","","","","",""]
[null,{"$f":"IF(Athletenliste!B89=\"\",\"\",Athletenliste!B89)","v":""},{"$f":"IF(Athletenliste!C89=\"\",\"\",Athletenliste!C89)","v":""},{"$f":"IF(Athletenliste!D89=\"\",\"\",Athletenliste!D89)","v":""},{"$f":"IF(Athletenliste!E89=\"\",\"\",Athletenliste!E89)","v":""},{"$f":"IF(Athletenliste!F89=\"\",\"\",Athletenliste!F89)","v":""},{"$f":"IF(Athletenliste!G89=\"\",\"\",Athletenliste!G89)","v":""},{"$f":"IF(Athletenliste!H89=\"\",\"\",Athletenliste!H89)","v":""},null,{"$f":"IF(B89=\"\",\"\",IF(D89=\"m\",INDIRECT(VLOOKUP(G89,Bezüge!$E$6:$F$16,2,FALSE)&ROW(G89)),INDIRECT(VLOOKUP(G89,Bezüge!$B$6:$C$16,2,FALSE)&ROW(G89))))","v":""},null,null,null,"","","","","","","","","","","","","","","","","","","","","","",null,"","","","","","","","","","","","","","","","","","","","","",""]
[null,{"$f":"IF(Athletenliste!B90=\"\",\"\",Athletenliste!B90)","v":""},{"$f":"IF(Athletenliste!C90=\"\",\"\",Athletenliste!C90)","v":""},{"$f":"IF(Athletenliste!D90=\"\",\"\",Athletenliste!D90)","v":""},{"$f":"IF(Athletenliste!E90=\"\",\"\",Athletenliste!E90)","v":""},{"$f":"IF(Athletenliste!F90=\"\",\"\",Athletenliste!F90)","v":""},{"$f":"IF(Athletenliste!G90=\"\",\"\",Athletenliste!G90)","v":""},{"$f":"IF(Athletenliste!H90=\"\",\"\",Athletenliste!H90)","v":""},null,{"$f":"IF(B90=\"\",\"\",IF(D90=\"m\",INDIRECT(VLOOKUP(G90,Bezüge!$E$6:$F$16,2,FALSE)&ROW(G90)),INDIRECT(VLOOKUP(G90,Bezüge!$B$6:$C$16,2,FALSE)&ROW(G90))))","v":""},null,null,null,"","","","","","","","","","","","","","","","","","","","","","",null,"","","","","","","","","","","","","","","","","","","","","",""]
[null,{"$f":"IF(Athletenliste!B91=\"\",\"\",Athletenliste!B91)","v":""},{"$f":"IF(Athletenliste!C91=\"\",\"\",Athletenliste!C91)","v":""},{"$f":"IF(Athletenliste!D91=\"\",\"\",Athletenliste!D91)","v":""},{"$f":"IF(Athletenliste!E91=\"\",\"\",Athletenliste!E91)","v":""},{"$f":"IF(Athletenliste!F91=\"\",\"\",Athletenliste!F91)","v":""},{"$f":"IF(Athletenliste!G91=\"\",\"\",Athletenliste!G91)","v":""},{"$f":"IF(Athletenliste!H91=\"\",\"\",Athletenliste!H91)","v":""},null,{"$f":"IF(B91=\"\",\"\",IF(D91=\"m\",INDIRECT(VLOOKUP(G91,Bezüge!$E$6:$F$16,2,FALSE)&ROW(G91)),INDIRECT(VLOOKUP(G91,Bezüge!$B$6:$C$16,2,FALSE)&ROW(G91))))","v":""},null,null,null,"","","","","","","","","","","","","","","","","","","","","","",null,"","","","","","","","","","","","","","","","","","","","","",""]
[null,{"$f":"IF(Athletenliste!B92=\"\",\"\",Athletenliste!B92)","v":""},{"$f":"IF(Athletenliste!C92=\"\",\"\",Athletenliste!C92)","v":""},{"$f":"IF(Athletenliste!D92=\"\",\"\",Athletenliste!D92)","v":""},{"$f":"IF(Athletenliste!E92=\"\",\"\",Athletenliste!E92)","v":""},{"$f":"IF(Athletenliste!F92=\"\",\"\",Athletenliste!F92)","v":""},{"$f":"IF(Athletenliste!G92=\"\",\"\",Athletenliste!G92)","v":""},{"$f":"IF(Athletenliste!H92=\"\",\"\",Athletenliste!H92)","v":""},null,{"$f":"IF(B92=\"\",\"\",IF(D92=\"m\",INDIRECT(VLOOKUP(G92,Bezüge!$E$6:$F$16,2,FALSE)&ROW(G92)),INDIRECT(VLOOKUP(G92,Bezüge!$B$6:$C$16,2,FALSE)&ROW(G92))))","v":""},null,null,null,"","","","","","","","","","","","","","","","","","","","","","",null,"","","","","","","","","","","","","","","","","","","","","",""]
[null,{"$f":"IF(Athletenliste!B93=\"\",\"\",Athletenliste!B93)","v":""},{"$f":"IF(Athletenliste!C93=\"\",\"\",Athletenliste!C93)","v":""},{"$f":"IF(Athletenliste!D93=\"\",\"\",Athletenliste!D93)","v":""},{"$f":"IF(Athletenliste!E93=\"\",\"\",Athletenliste!E93)","v":""},{"$f":"IF(Athletenliste!F93=\"\",\"\",Athletenliste!F93)","v":""},{"$f":"IF(Athletenliste!G93=\"\",\"\",Athletenliste!G93)","v":""},{"$f":"IF(Athletenliste!H93=\"\",\"\",Athletenliste!H93)","v":""},null,{"$f":"IF(B93=\"\",\"\",IF(D93=\"m\",INDIRECT(VLOOKUP(G93,Bezüge!$E$6:$F$16,2,FALSE)&ROW(G93)),INDIRECT(VLOOKUP(G93,Bezüge!$B$6:$C$16,2,FALSE)&ROW(G93))))","v":""},null,null,null,"","","","","","","","","","","","","","","","","","","","","","",null,"","","","","","","","","","","","","","","","","","","","","",""]
[null,{"$f":"IF(Athletenliste!B94=\"\",\"\",Athletenliste!B94)","v":""},{"$f":"IF(Athletenliste!C94=\"\",\"\",Athletenliste!C94)","v":""},{"$f":"IF(Athletenliste!D94=\"\",\"\",Athletenliste!D94)","v":""},{"$f":"IF(Athletenliste!E94=\"\",\"\",Athletenliste!E94)","v":""},{"$f":"IF(Athletenliste!F94=\"\",\"\",Athletenliste!F94)","v":""},{"$f":"IF(Athletenliste!G94=\"\",\"\",Athletenliste!G94)","v":""},{"$f":"IF(Athletenliste!H94=\"\",\"\",Athletenliste!H94)","v":""},null,{"$f":"IF(B94=\"\",\"\",IF(D94=\"m\",INDIRECT(VLOOKUP(G94,Bezüge!$E$6:$F$16,2,FALSE)&ROW(G94)),INDIRECT(VLOOKUP(G94,Bezüge!$B$6:$C$16,2,FALSE)&ROW(G94))))","v":""},null,null,null,"","","","","","","","","","","","","","","","","","","","","","",null,"","","","","","","","","","","","","","","","","","","","","",""]
[null,{"$f":"IF(Athletenliste!B95=\"\",\"\",Athletenliste!B95)","v":""},{"$f":"IF(Athletenliste!C95=\"\",\"\",Athletenliste!C95)","v":""},{"$f":"IF(Athletenliste!D95=\"\",\"\",Athletenliste!D95)","v":""},{"$f":"IF(Athletenliste!E95=\"\",\"\",Athletenliste!E95)","v":""},{"$f":"IF(Athletenliste!F95=\"\",\"\",Athletenliste!F95)","v":""},{"$f":"IF(Athletenliste!G95=\"\",\"\",Athletenliste!G95)","v":""},{"$f":"IF(Athletenliste!H95=\"\",\"\",Athletenliste!H95)","v":""},null,{"$f":"IF(B95=\"\",\"\",IF(D95=\"m\",INDIRECT(VLOOKUP(G95,Bezüge!$E$6:$F$16,2,FALSE)&ROW(G95)),INDIRECT(VLOOKUP(G95,Bezüge!$B$6:$C$16,2,FALSE)&ROW(G95))))","v":""},null,null,null,"","","","","","","","","","","","","","","","","","","","","","",null,"","","","","","","","","","","","","","","","","","","","","",""]
[null,{"$f":"IF(Athletenliste!B96=\"\",\"\",Athletenliste!B96)","v":""},{"$f":"IF(Athletenliste!C96=\"\",\"\",Athletenliste!C96)","v":""},{"$f":"IF(Athletenliste!D96=\"\",\"\",Athletenliste!D96)","v":""},{"$f":"IF(Athletenliste!E96=\"\",\"\",Athletenliste!E96)","v":""},{"$f":"IF(Athletenliste!F96=\"\",\"\",Athletenliste!F96)","v":""},{"$f":"IF(Athletenliste!G96=\"\",\"\",Athletenliste!G96)","v":""},{"$f":"IF(Athletenliste!H96=\"\",\"\",Athletenliste!H96)","v":""},null,{"$f":"IF(B96=\"\",\"\",IF(D96=\"m\",INDIRECT(VLOOKUP(G96,Bezüge!$E$6:$F$16,2,FALSE)&ROW(G96)),INDIRECT(VLOOKUP(G96,Bezüge!$B$6:$C$16,2,FALSE)&ROW(G96))))","v":""},null,null,null,"","","","","","","","","","","","","","","","","","","","","","",null,"","","","","","","","","","","","","","","","","","","","","",""]
[null,{"$f":"IF(Athletenliste!B97=\"\",\"\",Athletenliste!B97)","v":""},{"$f":"IF(Athletenliste!C97=\"\",\"\",Athletenliste!C97)","v":""},{"$f":"IF(Athletenliste!D97=\"\",\"\",Athletenliste!D97)","v":""},{"$f":"IF(Athletenliste!E97=\"\",\"\",Athletenliste!E97)","v":""},{"$f":"IF(Athletenliste!F97=\"\",\"\",Athletenliste!F97)","v":""},{"$f":"IF(Athletenliste!G97=\"\",\"\",Athletenliste!G97)","v":""},{"$f":"IF(Athletenliste!H97=\"\",\"\",Athletenliste!H97)","v":""},null,{"$f":"IF(B97=\"\",\"\",IF(D97=\"m\",INDIRECT(VLOOKUP(G97,Bezüge!$E$6:$F$16,2,FALSE)&ROW(G97)),INDIRECT(VLOOKUP(G97,Bezüge!$B$6:$C$16,2,FALSE)&ROW(G97))))","v":""},null,null,null,"","","","","","","","","","","","","","","","","","","","","","",null,"","","","","","","","","","","","","","","","","","","","","",""]
[null,{"$f":"IF(Athletenliste!B98=\"\",\"\",Athletenliste!B98)","v":""},{"$f":"IF(Athletenliste!C98=\"\",\"\",Athletenliste!C98)","v":""},{"$f":"IF(Athletenliste!D98=\"\",\"\",Athletenliste!D98)","v":""},{"$f":"IF(Athletenliste!E98=\"\",\"\",Athletenliste!E98)","v":""},{"$f":"IF(Athletenliste!F98=\"\",\"\",Athletenliste!F98)","v":""},{"$f":"IF(Athletenliste!G98=\"\",\"\",Athletenliste!G98)","v":""},{"$f":"IF(Athletenliste!H98=\"\",\"\",Athletenliste!H98)","v":""},null,{"$f":"IF(B98=\"\",\"\",IF(D98=\"m\",INDIRECT(VLOOKUP(G98,Bezüge!$E$6:$F$16,2,FALSE)&ROW(G98)),INDIRECT(VLOOKUP(G98,Bezüge!$B$6:$C$16,2,FALSE)&ROW(G98))))","v":""},null,null,null,"","","","","","","","","","","","","","","","","","","","","","",null,"","","","","","","","","","","","","","","","","","","","","",""]
[null,{"$f":"IF(Athletenliste!B99=\"\",\"\",Athletenliste!B99)","v":""},{"$f":"IF(Athletenliste!C99=\"\",\"\",Athletenliste!C99)","v":""},{"$f":"IF(Athletenliste!D99=\"\",\"\",Athletenliste!D99)","v":""},{"$f":"IF(Athletenliste!E99=\"\",\"\",Athletenliste!E99)","v":""},{"$f":"IF(Athletenliste!F99=\"\",\"\",Athletenliste!F99)","v":""},{"$f":"IF(Athletenliste!G99=\"\",\"\",Athletenliste!G99)","v":""},{"$f":"IF(Athletenliste!H99=\"\",\"\",Athletenliste!H99)","v":""},null,{"$f":"IF(B99=\"\",\"\",IF(D99=\"m\",INDIRECT(VLOOKUP(G99,Bezüge!$E$6:$F$16,2,FALSE)&ROW(G99)),INDIRECT(VLOOKUP(G99,Bezüge!$B$6:$C$16,2,FALSE)&ROW(G99))))","v":""},null,null,null,"","","","","","","","","","","","","","","","","","","","","","",null,"","","","","","","","","","","","","","","","","","","","","",""]
[null,{"$f":"IF(Athletenliste!B100=\"\",\"\",Athletenliste!B100)","v":""},{"$f":"IF(Athletenliste!C100=\"\",\"\",Athletenliste!C100)","v":""},{"$f":"IF(Athletenliste!D100=\"\",\"\",Athletenliste!D100)","v":""},{"$f":"IF(Athletenliste!E100=\"\",\"\",Athletenliste!E100)","v":""},{"$f":"IF(Athletenliste!F100=\"\",\"\",Athletenliste!F100)","v":""},{"$f":"IF(Athletenliste!G100=\"\",\"\",Athletenliste!G100)","v":""},{"$f":"IF(Athletenliste!H100=\"\",\"\",Athletenliste!H100)","v":""},null,{"$f":"IF(B100=\"\",\"\",IF(D100=\"m\",INDIRECT(VLOOKUP(G100,Bezüge!$E$6:$F$16,2,FALSE)&ROW(G100)),INDIRECT(VLOOKUP(G100,Bezüge!$B$6:$C$16,2,FALSE)&ROW(G100))))","v":""},null,null,null,"","","","","","","","","","","","","","","","","","","","","","",null,"","","","","","","","","","","","","","","","","","","","","",""]
[null,{"$f":"IF(Athletenliste!B101=\"\",\"\",Athletenliste!B101)","v":""},{"$f":"IF(Athletenliste!C101=\"\",\"\",Athletenliste!C101)","v":""},{"$f":"IF(Athletenliste!D101=\"\",\"\",Athletenliste!D101)","v":""},{"$f":"IF(Athletenliste!E101=\"\",\"\",Athletenliste!E101)","v":""},{"$f":"IF(Athletenliste!F101=\"\",\"\",Athletenliste!F101)","v":""},{"$f":"IF(Athletenliste!G101=\"\",\"\",Athletenliste!G101)","v":""},{"$f":"IF(Athletenliste!H101=\"\",\"\",Athletenliste!H101)","v":""},null,{"$f":"IF(B101=\"\",\"\",IF(D101=\"m\",INDIRECT(VLOOKUP(G101,Bezüge!$E$6:$F$16,2,FALSE)&ROW(G101)),INDIRECT(VLOOKUP(G101,Bezüge!$B$6:$C$16,2,FALSE)&ROW(G101))))","v":""},null,null,null,"","","","","","","","","","","","","","","","","","","","","","",null,"","","","","","","","","","","","","","","","","","","","","",""]
[null,{"$f":"IF(Athletenliste!B102=\"\",\"\",Athletenliste!B102)","v":""},{"$f":"IF(Athletenliste!C102=\"\",\"\",Athletenliste!C102)","v":""},{"$f":"IF(Athletenliste!D102=\"\",\"\",Athletenliste!D102)","v":""},{"$f":"IF(Athletenliste!E102=\"\",\"\",Athletenliste!E102)","v":""},{"$f":"IF(Athletenliste!F102=\"\",\"\",Athletenliste!F102)","v":""},{"$f":"IF(Athletenliste!G102=\"\",\"\",Athletenliste!G102)","v":""},{"$f":"IF(Athletenliste!H102=\"\",\"\",Athletenliste!H102)","v":""},null,{"$f":"IF(B102=\"\",\"\",IF(D102=\"m\",INDIRECT(VLOOKUP(G102,Bezüge!$E$6:$F$16,2,FALSE)&ROW(G102)),INDIRECT(VLOOKUP(G102,Bezüge!$B$6:$C$16,2,FALSE)&ROW(G102))))","v":""},null,null,null,"","","","","","","","","","","","","","","","","","","","","","",null,"","","","","","","","","","","","","","","","","","","","","",""]
[null,{"$f":"IF(Athletenliste!B103=\"\",\"\",Athletenliste!B103)","v":""},{"$f":"IF(Athletenliste!C103=\"\",\"\",Athletenliste!C103)","v":""},{"$f":"IF(Athletenliste!D103=\"\",\"\",Athletenliste!D103)","v":""},{"$f":"IF(Athletenliste!E103=\"\",\"\",Athletenliste!E103)","v":""},{"$f":"IF(Athletenliste!F103=\"\",\"\",Athletenliste!F103)","v":""},{"$f":"IF(Athletenliste!G103=\"\",\"\",Athletenliste!G103)","v":""},{"$f":"IF(Athletenliste!H103=\"\",\"\",Athletenliste!H103)","v":""},null,{"$f":"IF(B103=\"\",\"\",IF(D103=\"m\",INDIRECT(VLOOKUP(G103,Bezüge!$E$6:$F$16,2,FALSE)&ROW(G103)),INDIRECT(VLOOKUP(G103,Bezüge!$B$6:$C$16,2,FALSE)&ROW(G103))))","v":""},null,null,null,"","","","","","","","","","","","","","","","","","","","","","",null,"","","","","","","","","","","","","","","","","","","","","",""]
[null,{"$f":"IF(Athletenliste!B104=\"\",\"\",Athletenliste!B104)","v":""},{"$f":"IF(Athletenliste!C104=\"\",\"\",Athletenliste!C104)","v":""},{"$f":"IF(Athletenliste!D104=\"\",\"\",Athletenliste!D104)","v":""},{"$f":"IF(Athletenliste!E104=\"\",\"\",Athletenliste!E104)","v":""},{"$f":"IF(Athletenliste!F104=\"\",\"\",Athletenliste!F104)","v":""},{"$f":"IF(Athletenliste!G104=\"\",\"\",Athletenliste!G104)","v":""},{"$f":"IF(Athletenliste!H104=\"\",\"\",Athletenliste!H104)","v":""},null,{"$f":"IF(B104=\"\",\"\",IF(D104=\"m\",INDIRECT(VLOOKUP(G104,Bezüge!$E$6:$F$16,2,FALSE)&ROW(G104)),INDIRECT(VLOOKUP(G104,Bezüge!$B$6:$C$16,2,FALSE)&ROW(G104))))","v":""},null,null,null,"","","","","","","","","","","","","","","","","","","","","","",null,"","","","","","","","","","","","","","","","","","","","","",""]
[null,{"$f":"IF(Athletenliste!B105=\"\",\"\",Athletenliste!B105)","v":""},{"$f":"IF(Athletenliste!C105=\"\",\"\",Athletenliste!C105)","v":""},{"$f":"IF(Athletenliste!D105=\"\",\"\",Athletenliste!D105)","v":""},{"$f":"IF(Athletenliste!E105=\"\",\"\",Athletenliste!E105)","v":""},{"$f":"IF(Athletenliste!F105=\"\",\"\",Athletenliste!F105)","v":""},{"$f":"IF(Athletenliste!G105=\"\",\"\",Athletenliste!G105)","v":""},{"$f":"IF(Athletenliste!H105=\"\",\"\",Athletenliste!H105)","v":""},null,{"$f":"IF(B105=\"\",\"\",IF(D105=\"m\",INDIRECT(VLOOKUP(G105,Bezüge!$E$6:$F$16,2,FALSE)&ROW(G105)),INDIRECT(VLOOKUP(G105,Bezüge!$B$6:$C$16,2,FALSE)&ROW(G105))))","v":""},null,null,null,"","","","","","","","","","","","","","","","","","","","","","",null,"","","","","","","","","","","","","","","","","","","","","",""]
[null,{"$f":"IF(Athletenliste!B106=\"\",\"\",Athletenliste!B106)","v":""},{"$f":"IF(Athletenliste!C106=\"\",\"\",Athletenliste!C106)","v":""},{"$f":"IF(Athletenliste!D106=\"\",\"\",Athletenliste!D106)","v":""},{"$f":"IF(Athletenliste!E106=\"\",\"\",Athletenliste!E106)","v":""},{"$f":"IF(Athletenliste!F106=\"\",\"\",Athletenliste!F106)","v":""},{"$f":"IF(Athletenliste!G106=\"\",\"\",Athletenliste!G106)","v":""},{"$f":"IF(Athletenliste!H106=\"\",\"\",Athletenliste!H106)","v":""},null,{"$f":"IF(B106=\"\",\"\",IF(D106=\"m\",INDIRECT(VLOOKUP(G106,Bezüge!$E$6:$F$16,2,FALSE)&ROW(G106)),INDIRECT(VLOOKUP(G106,Bezüge!$B$6:$C$16,2,FALSE)&ROW(G106))))","v":""},null,null,null,"","","","","","","","","","","","","","","","","","","","","","",null,"","","","","","","","","","","","","","","","","","","","","",""]
[null,{"$f":"IF(Athletenliste!B107=\"\",\"\",Athletenliste!B107)","v":""},{"$f":"IF(Athletenliste!C107=\"\",\"\",Athletenliste!C107)","v":""},{"$f":"IF(Athletenliste!D107=\"\",\"\",Athletenliste!D107)","v":""},{"$f":"IF(Athletenliste!E107=\"\",\"\",Athletenliste!E107)","v":""},{"$f":"IF(Athletenliste!F107=\"\",\"\",Athletenliste!F107)","v":""},{"$f":"IF(Athletenliste!G107=\"\",\"\",Athletenliste!G107)","v":""},{"$f":"IF(Athletenliste!H107=\"\",\"\",Athletenliste!H107)","v":""},null,{"$f":"IF(B107=\"\",\"\",IF(D107=\"m\",INDIRECT(VLOOKUP(G107,Bezüge!$E$6:$F$16,2,FALSE)&ROW(G107)),INDIRECT(VLOOKUP(G107,Bezüge!$B$6:$C$16,2,FALSE)&ROW(G107))))","v":""},null,null,null,"","","","","","","","","","","","","","","","","","","","","","",null,"","","","","","","","","","","","","","","","","","","","","",""]
[null,{"$f":"IF(Athletenliste!B108=\"\",\"\",Athletenliste!B108)","v":""},{"$f":"IF(Athletenliste!C108=\"\",\"\",Athletenliste!C108)","v":""},{"$f":"IF(Athletenliste!D108=\"\",\"\",Athletenliste!D108)","v":""},{"$f":"IF(Athletenliste!E108=\"\",\"\",Athletenliste!E108)","v":""},{"$f":"IF(Athletenliste!F108=\"\",\"\",Athletenliste!F108)","v":""},{"$f":"IF(Athletenliste!G108=\"\",\"\",Athletenliste!G108)","v":""},{"$f":"IF(Athletenliste!H108=\"\",\"\",Athletenliste!H108)","v":""},null,{"$f":"IF(B108=\"\",\"\",IF(D108=\"m\",INDIRECT(VLOOKUP(G108,Bezüge!$E$6:$F$16,2,FALSE)&ROW(G108)),INDIRECT(VLOOKUP(G108,Bezüge!$B$6:$C$16,2,FALSE)&ROW(G108))))","v":""},null,null,null,"","","","","","","","","","","","","","","","","","","","","","",null,"","","","","","","","","","","","","","","","","","","","","",""]
[null,{"$f":"IF(Athletenliste!B109=\"\",\"\",Athletenliste!B109)","v":""},{"$f":"IF(Athletenliste!C109=\"\",\"\",Athletenliste!C109)","v":""},{"$f":"IF(Athletenliste!D109=\"\",\"\",Athletenliste!D109)","v":""},{"$f":"IF(Athletenliste!E109=\"\",\"\",Athletenliste!E109)","v":""},{"$f":"IF(Athletenliste!F109=\"\",\"\",Athletenliste!F109)","v":""},{"$f":"IF(Athletenliste!G109=\"\",\"\",Athletenliste!G109)","v":""},{"$f":"IF(Athletenliste!H109=\"\",\"\",Athletenliste!H109)","v":""},null,{"$f":"IF(B109=\"\",\"\",IF(D109=\"m\",INDIRECT(VLOOKUP(G109,Bezüge!$E$6:$F$16,2,FALSE)&ROW(G109)),INDIRECT(VLOOKUP(G109,Bezüge!$B$6:$C$16,2,FALSE)&ROW(G109))))","v":""},null,null,null,"","","","","","","","","","","","","","","","","","","","","","",null,"","","","","","","","","","","","","","","","","","","","","",""]
[null,{"$f":"IF(Athletenliste!B110=\"\",\"\",Athletenliste!B110)","v":""},{"$f":"IF(Athletenliste!C110=\"\",\"\",Athletenliste!C110)","v":""},{"$f":"IF(Athletenliste!D110=\"\",\"\",Athletenliste!D110)","v":""},{"$f":"IF(Athletenliste!E110=\"\",\"\",Athletenliste!E110)","v":""},{"$f":"IF(Athletenliste!F110=\"\",\"\",Athletenliste!F110)","v":""},{"$f":"IF(Athletenliste!G110=\"\",\"\",Athletenliste!G110)","v":""},{"$f":"IF(Athletenliste!H110=\"\",\"\",Athletenliste!H110)","v":""},null,{"$f":"IF(B110=\"\",\"\",IF(D110=\"m\",INDIRECT(VLOOKUP(G110,Bezüge!$E$6:$F$16,2,FALSE)&ROW(G110)),INDIRECT(VLOOKUP(G110,Bezüge!$B$6:$C$16,2,FALSE)&ROW(G110))))","v":""},null,null,null,"","","","","","","","","","","","","","","","","","","","","","",null,"","","","","","","","","","","","","","","","","","","","","",""]
[null,{"$f":"IF(Athletenliste!B111=\"\",\"\",Athletenliste!B111)","v":""},{"$f":"IF(Athletenliste!C111=\"\",\"\",Athletenliste!C111)","v":""},{"$f":"IF(Athletenliste!D111=\"\",\"\",Athletenliste!D111)","v":""},{"$f":"IF(Athletenliste!E111=\"\",\"\",Athletenliste!E111)","v":""},{"$f":"IF(Athletenliste!F111=\"\",\"\",Athletenliste!F111)","v":""},{"$f":"IF(Athletenliste!G111=\"\",\"\",Athletenliste!G111)","v":""},{"$f":"IF(Athletenliste!H111=\"\",\"\",Athletenliste!H111)","v":""},null,{"$f":"IF(B111=\"\",\"\",IF(D111=\"m\",INDIRECT(VLOOKUP(G111,Bezüge!$E$6:$F$16,2,FALSE)&ROW(G111)),INDIRECT(VLOOKUP(G111,Bezüge!$B$6:$C$16,2,FALSE)&ROW(G111))))","v":""},null,null,null,"","","","","","","","","","","","","","","","","","","","","","",null,"","","","","","","","","","","","","","","","","","","","","",""]
[null,{"$f":"IF(Athletenliste!B112=\"\",\"\",Athletenliste!B112)","v":""},{"$f":"IF(Athletenliste!C112=\"\",\"\",Athletenliste!C112)","v":""},{"$f":"IF(Athletenliste!D112=\"\",\"\",Athletenliste!D112)","v":""},{"$f":"IF(Athletenliste!E112=\"\",\"\",Athletenliste!E112)","v":""},{"$f":"IF(Athletenliste!F112=\"\",\"\",Athletenliste!F112)","v":""},{"$f":"IF(Athletenliste!G112=\"\",\"\",Athletenliste!G112)","v":""},{"$f":"IF(Athletenliste!H112=\"\",\"\",Athletenliste!H112)","v":""},null,{"$f":"IF(B112=\"\",\"\",IF(D112=\"m\",INDIRECT(VLOOKUP(G112,Bezüge!$E$6:$F$16,2,FALSE)&ROW(G112)),INDIRECT(VLOOKUP(G112,Bezüge!$B$6:$C$16,2,FALSE)&ROW(G112))))","v":""},null,null,null,"","","","","","","","","","","","","","","","","","","","","","",null,"","","","","","","","","","","","","","","","","","","","","",""]
[null,{"$f":"IF(Athletenliste!B113=\"\",\"\",Athletenliste!B113)","v":""},{"$f":"IF(Athletenliste!C113=\"\",\"\",Athletenliste!C113)","v":""},{"$f":"IF(Athletenliste!D113=\"\",\"\",Athletenliste!D113)","v":""},{"$f":"IF(Athletenliste!E113=\"\",\"\",Athletenliste!E113)","v":""},{"$f":"IF(Athletenliste!F113=\"\",\"\",Athletenliste!F113)","v":""},{"$f":"IF(Athletenliste!G113=\"\",\"\",Athletenliste!G113)","v":""},{"$f":"IF(Athletenliste!H113=\"\",\"\",Athletenliste!H113)","v":""},null,{"$f":"IF(B113=\"\",\"\",IF(D113=\"m\",INDIRECT(VLOOKUP(G113,Bezüge!$E$6:$F$16,2,FALSE)&ROW(G113)),INDIRECT(VLOOKUP(G113,Bezüge!$B$6:$C$16,2,FALSE)&ROW(G113))))","v":""},null,null,null,"","","","","","","","","","","","","","","","","","","","","","",null,"","","","","","","","","","","","","","","","","","","","","",""]
[null,{"$f":"IF(Athletenliste!B114=\"\",\"\",Athletenliste!B114)","v":""},{"$f":"IF(Athletenliste!C114=\"\",\"\",Athletenliste!C114)","v":""},{"$f":"IF(Athletenliste!D114=\"\",\"\",Athletenliste!D114)","v":""},{"$f":"IF(Athletenliste!E114=\"\",\"\",Athletenliste!E114)","v":""},{"$f":"IF(Athletenliste!F114=\"\",\"\",Athletenliste!F114)","v":""},{"$f":"IF(Athletenliste!G114=\"\",\"\",Athletenliste!G114)","v":""},{"$f":"IF(Athletenliste!H114=\"\",\"\",Athletenliste!H114)","v":""},null,{"$f":"IF(B114=\"\",\"\",IF(D114=\"m\",INDIRECT(VLOOKUP(G114,Bezüge!$E$6:$F$16,2,FALSE)&ROW(G114)),INDIRECT(VLOOKUP(G114,Bezüge!$B$6:$C$16,2,FALSE)&ROW(G114))))","v":""},null,null,null,"","","","","","","","","","","","","","","","","","","","","","",null,"","","","","","","","","","","","","","","","","","","","","",""]
[null,{"$f":"IF(Athletenliste!B115=\"\",\"\",Athletenliste!B115)","v":""},{"$f":"IF(Athletenliste!C115=\"\",\"\",Athletenliste!C115)","v":""},{"$f":"IF(Athletenliste!D115=\"\",\"\",Athletenliste!D115)","v":""},{"$f":"IF(Athletenliste!E115=\"\",\"\",Athletenliste!E115)","v":""},{"$f":"IF(Athletenliste!F115=\"\",\"\",Athletenliste!F115)","v":""},{"$f":"IF(Athletenliste!G115=\"\",\"\",Athletenliste!G115)","v":""},{"$f":"IF(Athletenliste!H115=\"\",\"\",Athletenliste!H115)","v":""},null,{"$f":"IF(B115=\"\",\"\",IF(D115=\"m\",INDIRECT(VLOOKUP(G115,Bezüge!$E$6:$F$16,2,FALSE)&ROW(G115)),INDIRECT(VLOOKUP(G115,Bezüge!$B$6:$C$16,2,FALSE)&ROW(G115))))","v":""},null,null,null,"","","","","","","","","","","","","","","","","","","","","","",null,"","","","","","","","","","","","","","","","","","","","","",""]
[null,{"$f":"IF(Athletenliste!B116=\"\",\"\",Athletenliste!B116)","v":""},{"$f":"IF(Athletenliste!C116=\"\",\"\",Athletenliste!C116)","v":""},{"$f":"IF(Athletenliste!D116=\"\",\"\",Athletenliste!D116)","v":""},{"$f":"IF(Athletenliste!E116=\"\",\"\",Athletenliste!E116)","v":""},{"$f":"IF(Athletenliste!F116=\"\",\"\",Athletenliste!F116)","v":""},{"$f":"IF(Athletenliste!G116=\"\",\"\",Athletenliste!G116)","v":""},{"$f":"IF(Athletenliste!H116=\"\",\"\",Athletenliste!H116)","v":""},null,{"$f":"IF(B116=\"\",\"\",IF(D116=\"m\",INDIRECT(VLOOKUP(G116,Bezüge!$E$6:$F$16,2,FALSE)&ROW(G116)),INDIRECT(VLOOKUP(G116,Bezüge!$B$6:$C$16,2,FALSE)&ROW(G116))))","v":""},null,null,null,"","","","","","","","","","","","","","","","","","","","","","",null,"","","","","","","","","","","","","","","","","","","","","",""]
[null,{"$f":"IF(Athletenliste!B117=\"\",\"\",Athletenliste!B117)","v":""},{"$f":"IF(Athletenliste!C117=\"\",\"\",Athletenliste!C117)","v":""},{"$f":"IF(Athletenliste!D117=\"\",\"\",Athletenliste!D117)","v":""},{"$f":"IF(Athletenliste!E117=\"\",\"\",Athletenliste!E117)","v":""},{"$f":"IF(Athletenliste!F117=\"\",\"\",Athletenliste!F117)","v":""},{"$f":"IF(Athletenliste!G117=\"\",\"\",Athletenliste!G117)","v":""},{"$f":"IF(Athletenliste!H117=\"\",\"\",Athletenliste!H117)","v":""},null,{"$f":"IF(B117=\"\",\"\",IF(D117=\"m\",INDIRECT(VLOOKUP(G117,Bezüge!$E$6:$F$16,2,FALSE)&ROW(G117)),INDIRECT(VLOOKUP(G117,Bezüge!$B$6:$C$16,2,FALSE)&ROW(G117))))","v":""},null,null,null,"","","","","","","","","","","","","","","","","","","","","","",null,"","","","","","","","","","","","","","","","","","","","","",""]
[null,{"$f":"IF(Athletenliste!B118=\"\",\"\",Athletenliste!B118)","v":""},{"$f":"IF(Athletenliste!C118=\"\",\"\",Athletenliste!C118)","v":""},{"$f":"IF(Athletenliste!D118=\"\",\"\",Athletenliste!D118)","v":""},{"$f":"IF(Athletenliste!E118=\"\",\"\",Athletenliste!E118)","v":""},{"$f":"IF(Athletenliste!F118=\"\",\"\",Athletenliste!F118)","v":""},{"$f":"IF(Athletenliste!G118=\"\",\"\",Athletenliste!G118)","v":""},{"$f":"IF(Athletenliste!H118=\"\",\"\",Athletenliste!H118)","v":""},null,{"$f":"IF(B118=\"\",\"\",IF(D118=\"m\",INDIRECT(VLOOKUP(G118,Bezüge!$E$6:$F$16,2,FALSE)&ROW(G118)),INDIRECT(VLOOKUP(G118,Bezüge!$B$6:$C$16,2,FALSE)&ROW(G118))))","v":""},null,null,null,"","","","","","","","","","","","","","","","","","","","","","",null,"","","","","","","","","","","","","","","","","","","","","",""]
[null,{"$f":"IF(Athletenliste!B119=\"\",\"\",Athletenliste!B119)","v":""},{"$f":"IF(Athletenliste!C119=\"\",\"\",Athletenliste!C119)","v":""},{"$f":"IF(Athletenliste!D119=\"\",\"\",Athletenliste!D119)","v":""},{"$f":"IF(Athletenliste!E119=\"\",\"\",Athletenliste!E119)","v":""},{"$f":"IF(Athletenliste!F119=\"\",\"\",Athletenliste!F119)","v":""},{"$f":"IF(Athletenliste!G119=\"\",\"\",Athletenliste!G119)","v":""},{"$f":"IF(Athletenliste!H119=\"\",\"\",Athletenliste!H119)","v":""},null,{"$f":"IF(B119=\"\",\"\",IF(D119=\"m\",INDIRECT(VLOOKUP(G119,Bezüge!$E$6:$F$16,2,FALSE)&ROW(G119)),INDIRECT(VLOOKUP(G119,Bezüge!$B$6:$C$16,2,FALSE)&ROW(G119))))","v":""},null,null,null,"","","","","","","","","","","","","","","","","","","","","","",null,"","","","","","","","","","","","","","","","","","","","","",""]
[null,{"$f":"IF(Athletenliste!B120=\"\",\"\",Athletenliste!B120)","v":""},{"$f":"IF(Athletenliste!C120=\"\",\"\",Athletenliste!C120)","v":""},{"$f":"IF(Athletenliste!D120=\"\",\"\",Athletenliste!D120)","v":""},{"$f":"IF(Athletenliste!E120=\"\",\"\",Athletenliste!E120)","v":""},{"$f":"IF(Athletenliste!F120=\"\",\"\",Athletenliste!F120)","v":""},{"$f":"IF(Athletenliste!G120=\"\",\"\",Athletenliste!G120)","v":""},{"$f":"IF(Athletenliste!H120=\"\",\"\",Athletenliste!H120)","v":""},null,{"$f":"IF(B120=\"\",\"\",IF(D120=\"m\",INDIRECT(VLOOKUP(G120,Bezüge!$E$6:$F$16,2,FALSE)&ROW(G120)),INDIRECT(VLOOKUP(G120,Bezüge!$B$6:$C$16,2,FALSE)&ROW(G120))))","v":""},null,null,null,"","","","","","","","","","","","","","","","","","","","","","",null,"","","","","","","","","","","","","","","","","","","","","",""]
[null,{"$f":"IF(Athletenliste!B121=\"\",\"\",Athletenliste!B121)","v":""},{"$f":"IF(Athletenliste!C121=\"\",\"\",Athletenliste!C121)","v":""},{"$f":"IF(Athletenliste!D121=\"\",\"\",Athletenliste!D121)","v":""},{"$f":"IF(Athletenliste!E121=\"\",\"\",Athletenliste!E121)","v":""},{"$f":"IF(Athletenliste!F121=\"\",\"\",Athletenliste!F121)","v":""},{"$f":"IF(Athletenliste!G121=\"\",\"\",Athletenliste!G121)","v":""},{"$f":"IF(Athletenliste!H121=\"\",\"\",Athletenliste!H121)","v":""},null,{"$f":"IF(B121=\"\",\"\",IF(D121=\"m\",INDIRECT(VLOOKUP(G121,Bezüge!$E$6:$F$16,2,FALSE)&ROW(G121)),INDIRECT(VLOOKUP(G121,Bezüge!$B$6:$C$16,2,FALSE)&ROW(G121))))","v":""},null,null,null,"","","","","","","","","","","","","","","","","","","","","","",null,"","","","","","","","","","","","","","","","","","","","","",""]
[null,{"$f":"IF(Athletenliste!B122=\"\",\"\",Athletenliste!B122)","v":""},{"$f":"IF(Athletenliste!C122=\"\",\"\",Athletenliste!C122)","v":""},{"$f":"IF(Athletenliste!D122=\"\",\"\",Athletenliste!D122)","v":""},{"$f":"IF(Athletenliste!E122=\"\",\"\",Athletenliste!E122)","v":""},{"$f":"IF(Athletenliste!F122=\"\",\"\",Athletenliste!F122)","v":""},{"$f":"IF(Athletenliste!G122=\"\",\"\",Athletenliste!G122)","v":""},{"$f":"IF(Athletenliste!H122=\"\",\"\",Athletenliste!H122)","v":""},null,{"$f":"IF(B122=\"\",\"\",IF(D122=\"m\",INDIRECT(VLOOKUP(G122,Bezüge!$E$6:$F$16,2,FALSE)&ROW(G122)),INDIRECT(VLOOKUP(G122,Bezüge!$B$6:$C$16,2,FALSE)&ROW(G122))))","v":""},null,null,null,"","","","","","","","","","","","","","","","","","","","","","",null,"","","","","","","","","","","","","","","","","","","","","",""]
[null,{"$f":"IF(Athletenliste!B123=\"\",\"\",Athletenliste!B123)","v":""},{"$f":"IF(Athletenliste!C123=\"\",\"\",Athletenliste!C123)","v":""},{"$f":"IF(Athletenliste!D123=\"\",\"\",Athletenliste!D123)","v":""},{"$f":"IF(Athletenliste!E123=\"\",\"\",Athletenliste!E123)","v":""},{"$f":"IF(Athletenliste!F123=\"\",\"\",Athletenliste!F123)","v":""},{"$f":"IF(Athletenliste!G123=\"\",\"\",Athletenliste!G123)","v":""},{"$f":"IF(Athletenliste!H123=\"\",\"\",Athletenliste!H123)","v":""},null,{"$f":"IF(B123=\"\",\"\",IF(D123=\"m\",INDIRECT(VLOOKUP(G123,Bezüge!$E$6:$F$16,2,FALSE)&ROW(G123)),INDIRECT(VLOOKUP(G123,Bezüge!$B$6:$C$16,2,FALSE)&ROW(G123))))","v":""},null,null,null,"","","","","","","","","","","","","","","","","","","","","","",null,"","","","","","","","","","","","","","","","","","","","","",""]
[null,{"$f":"IF(Athletenliste!B124=\"\",\"\",Athletenliste!B124)","v":""},{"$f":"IF(Athletenliste!C124=\"\",\"\",Athletenliste!C124)","v":""},{"$f":"IF(Athletenliste!D124=\"\",\"\",Athletenliste!D124)","v":""},{"$f":"IF(Athletenliste!E124=\"\",\"\",Athletenliste!E124)","v":""},{"$f":"IF(Athletenliste!F124=\"\",\"\",Athletenliste!F124)","v":""},{"$f":"IF(Athletenliste!G124=\"\",\"\",Athletenliste!G124)","v":""},{"$f":"IF(Athletenliste!H124=\"\",\"\",Athletenliste!H124)","v":""},null,{"$f":"IF(B124=\"\",\"\",IF(D124=\"m\",INDIRECT(VLOOKUP(G124,Bezüge!$E$6:$F$16,2,FALSE)&ROW(G124)),INDIRECT(VLOOKUP(G124,Bezüge!$B$6:$C$16,2,FALSE)&ROW(G124))))","v":""},null,null,null,"","","","","","","","","","","","","","","","","","","","","","",null,"","","","","","","","","","","","","","","","","","","","","",""]
[null,{"$f":"IF(Athletenliste!B125=\"\",\"\",Athletenliste!B125)","v":""},{"$f":"IF(Athletenliste!C125=\"\",\"\",Athletenliste!C125)","v":""},{"$f":"IF(Athletenliste!D125=\"\",\"\",Athletenliste!D125)","v":""},{"$f":"IF(Athletenliste!E125=\"\",\"\",Athletenliste!E125)","v":""},{"$f":"IF(Athletenliste!F125=\"\",\"\",Athletenliste!F125)","v":""},{"$f":"IF(Athletenliste!G125=\"\",\"\",Athletenliste!G125)","v":""},{"$f":"IF(Athletenliste!H125=\"\",\"\",Athletenliste!H125)","v":""},null,{"$f":"IF(B125=\"\",\"\",IF(D125=\"m\",INDIRECT(VLOOKUP(G125,Bezüge!$E$6:$F$16,2,FALSE)&ROW(G125)),INDIRECT(VLOOKUP(G125,Bezüge!$B$6:$C$16,2,FALSE)&ROW(G125))))","v":""},null,null,null,"","","","","","","","","","","","","","","","","","","","","","",null,"","","","","","","","","","","","","","","","","","","","","",""]
[null,{"$f":"IF(Athletenliste!B126=\"\",\"\",Athletenliste!B126)","v":""},{"$f":"IF(Athletenliste!C126=\"\",\"\",Athletenliste!C126)","v":""},{"$f":"IF(Athletenliste!D126=\"\",\"\",Athletenliste!D126)","v":""},{"$f":"IF(Athletenliste!E126=\"\",\"\",Athletenliste!E126)","v":""},{"$f":"IF(Athletenliste!F126=\"\",\"\",Athletenliste!F126)","v":""},{"$f":"IF(Athletenliste!G126=\"\",\"\",Athletenliste!G126)","v":""},{"$f":"IF(Athletenliste!H126=\"\",\"\",Athletenliste!H126)","v":""},null,{"$f":"IF(B126=\"\",\"\",IF(D126=\"m\",INDIRECT(VLOOKUP(G126,Bezüge!$E$6:$F$16,2,FALSE)&ROW(G126)),INDIRECT(VLOOKUP(G126,Bezüge!$B$6:$C$16,2,FALSE)&ROW(G126))))","v":""},null,null,null,"","","","","","","","","","","","","","","","","","","","","","",null,"","","","","","","","","","","","","","","","","","","","","",""]
[null,{"$f":"IF(Athletenliste!B127=\"\",\"\",Athletenliste!B127)","v":""},{"$f":"IF(Athletenliste!C127=\"\",\"\",Athletenliste!C127)","v":""},{"$f":"IF(Athletenliste!D127=\"\",\"\",Athletenliste!D127)","v":""},{"$f":"IF(Athletenliste!E127=\"\",\"\",Athletenliste!E127)","v":""},{"$f":"IF(Athletenliste!F127=\"\",\"\",Athletenliste!F127)","v":""},{"$f":"IF(Athletenliste!G127=\"\",\"\",Athletenliste!G127)","v":""},{"$f":"IF(Athletenliste!H127=\"\",\"\",Athletenliste!H127)","v":""},null,{"$f":"IF(B127=\"\",\"\",IF(D127=\"m\",INDIRECT(VLOOKUP(G127,Bezüge!$E$6:$F$16,2,FALSE)&ROW(G127)),INDIRECT(VLOOKUP(G127,Bezüge!$B$6:$C$16,2,FALSE)&ROW(G127))))","v":""},null,null,null,"","","","","","","","","","","","","","","","","","","","","","",null,"","","","","","","","","","","","","","","","","","","","","",""]
[null,{"$f":"IF(Athletenliste!B128=\"\",\"\",Athletenliste!B128)","v":""},{"$f":"IF(Athletenliste!C128=\"\",\"\",Athletenliste!C128)","v":""},{"$f":"IF(Athletenliste!D128=\"\",\"\",Athletenliste!D128)","v":""},{"$f":"IF(Athletenliste!E128=\"\",\"\",Athletenliste!E128)","v":""},{"$f":"IF(Athletenliste!F128=\"\",\"\",Athletenliste!F128)","v":""},{"$f":"IF(Athletenliste!G128=\"\",\"\",Athletenliste!G128)","v":""},{"$f":"IF(Athletenliste!H128=\"\",\"\",Athletenliste!H128)","v":""},null,{"$f":"IF(B128=\"\",\"\",IF(D128=\"m\",INDIRECT(VLOOKUP(G128,Bezüge!$E$6:$F$16,2,FALSE)&ROW(G128)),INDIRECT(VLOOKUP(G128,Bezüge!$B$6:$C$16,2,FALSE)&ROW(G128))))","v":""},null,null,null,"","","","","","","","","","","","","","","","","","","","","","",null,"","","","","","","","","","","","","","","","","","","","","",""]
[null,{"$f":"IF(Athletenliste!B129=\"\",\"\",Athletenliste!B129)","v":""},{"$f":"IF(Athletenliste!C129=\"\",\"\",Athletenliste!C129)","v":""},{"$f":"IF(Athletenliste!D129=\"\",\"\",Athletenliste!D129)","v":""},{"$f":"IF(Athletenliste!E129=\"\",\"\",Athletenliste!E129)","v":""},{"$f":"IF(Athletenliste!F129=\"\",\"\",Athletenliste!F129)","v":""},{"$f":"IF(Athletenliste!G129=\"\",\"\",Athletenliste!G129)","v":""},{"$f":"IF(Athletenliste!H129=\"\",\"\",Athletenliste!H129)","v":""},null,{"$f":"IF(B129=\"\",\"\",IF(D129=\"m\",INDIRECT(VLOOKUP(G129,Bezüge!$E$6:$F$16,2,FALSE)&ROW(G129)),INDIRECT(VLOOKUP(G129,Bezüge!$B$6:$C$16,2,FALSE)&ROW(G129))))","v":""},null,null,null,"","","","","","","","","","","","","","","","","","","","","","",null,"","","","","","","","","","","","","","","","","","","","","",""]
[null,{"$f":"IF(Athletenliste!B130=\"\",\"\",Athletenliste!B130)","v":""},{"$f":"IF(Athletenliste!C130=\"\",\"\",Athletenliste!C130)","v":""},{"$f":"IF(Athletenliste!D130=\"\",\"\",Athletenliste!D130)","v":""},{"$f":"IF(Athletenliste!E130=\"\",\"\",Athletenliste!E130)","v":""},{"$f":"IF(Athletenliste!F130=\"\",\"\",Athletenliste!F130)","v":""},{"$f":"IF(Athletenliste!G130=\"\",\"\",Athletenliste!G130)","v":""},{"$f":"IF(Athletenliste!H130=\"\",\"\",Athletenliste!H130)","v":""},null,{"$f":"IF(B130=\"\",\"\",IF(D130=\"m\",INDIRECT(VLOOKUP(G130,Bezüge!$E$6:$F$16,2,FALSE)&ROW(G130)),INDIRECT(VLOOKUP(G130,Bezüge!$B$6:$C$16,2,FALSE)&ROW(G130))))","v":""},null,null,null,"","","","","","","","","","","","","","","","","","","","","","",null,"","","","","","","","","","","","","","","","","","","","","",""]
[null,{"$f":"IF(Athletenliste!B131=\"\",\"\",Athletenliste!B131)","v":""},{"$f":"IF(Athletenliste!C131=\"\",\"\",Athletenliste!C131)","v":""},{"$f":"IF(Athletenliste!D131=\"\",\"\",Athletenliste!D131)","v":""},{"$f":"IF(Athletenliste!E131=\"\",\"\",Athletenliste!E131)","v":""},{"$f":"IF(Athletenliste!F131=\"\",\"\",Athletenliste!F131)","v":""},{"$f":"IF(Athletenliste!G131=\"\",\"\",Athletenliste!G131)","v":""},{"$f":"IF(Athletenliste!H131=\"\",\"\",Athletenliste!H131)","v":""},null,{"$f":"IF(B131=\"\",\"\",IF(D131=\"m\",INDIRECT(VLOOKUP(G131,Bezüge!$E$6:$F$16,2,FALSE)&ROW(G131)),INDIRECT(VLOOKUP(G131,Bezüge!$B$6:$C$16,2,FALSE)&ROW(G131))))","v":""},null,null,null,"","","","","","","","","","","","","","","","","","","","","","",null,"","","","","","","","","","","","","","","","","","","","","",""]
[null,{"$f":"IF(Athletenliste!B132=\"\",\"\",Athletenliste!B132)","v":""},{"$f":"IF(Athletenliste!C132=\"\",\"\",Athletenliste!C132)","v":""},{"$f":"IF(Athletenliste!D132=\"\",\"\",Athletenliste!D132)","v":""},{"$f":"IF(Athletenliste!E132=\"\",\"\",Athletenliste!E132)","v":""},{"$f":"IF(Athletenliste!F132=\"\",\"\",Athletenliste!F132)","v":""},{"$f":"IF(Athletenliste!G132=\"\",\"\",Athletenliste!G132)","v":""},{"$f":"IF(Athletenliste!H132=\"\",\"\",Athletenliste!H132)","v":""},null,{"$f":"IF(B132=\"\",\"\",IF(D132=\"m\",INDIRECT(VLOOKUP(G132,Bezüge!$E$6:$F$16,2,FALSE)&ROW(G132)),INDIRECT(VLOOKUP(G132,Bezüge!$B$6:$C$16,2,FALSE)&ROW(G132))))","v":""},null,null,null,"","","","","","","","","","","","","","","","","","","","","","",null,"","","","","","","","","","","","","","","","","","","","","",""]
[null,{"$f":"IF(Athletenliste!B133=\"\",\"\",Athletenliste!B133)","v":""},{"$f":"IF(Athletenliste!C133=\"\",\"\",Athletenliste!C133)","v":""},{"$f":"IF(Athletenliste!D133=\"\",\"\",Athletenliste!D133)","v":""},{"$f":"IF(Athletenliste!E133=\"\",\"\",Athletenliste!E133)","v":""},{"$f":"IF(Athletenliste!F133=\"\",\"\",Athletenliste!F133)","v":""},{"$f":"IF(Athletenliste!G133=\"\",\"\",Athletenliste!G133)","v":""},{"$f":"IF(Athletenliste!H133=\"\",\"\",Athletenliste!H133)","v":""},null,{"$f":"IF(B133=\"\",\"\",IF(D133=\"m\",INDIRECT(VLOOKUP(G133,Bezüge!$E$6:$F$16,2,FALSE)&ROW(G133)),INDIRECT(VLOOKUP(G133,Bezüge!$B$6:$C$16,2,FALSE)&ROW(G133))))","v":""},null,null,null,"","","","","","","","","","","","","","","","","","","","","","",null,"","","","","","","","","","","","","","","","","","","","","",""]
[null,{"$f":"IF(Athletenliste!B134=\"\",\"\",Athletenliste!B134)","v":""},{"$f":"IF(Athletenliste!C134=\"\",\"\",Athletenliste!C134)","v":""},{"$f":"IF(Athletenliste!D134=\"\",\"\",Athletenliste!D134)","v":""},{"$f":"IF(Athletenliste!E134=\"\",\"\",Athletenliste!E134)","v":""},{"$f":"IF(Athletenliste!F134=\"\",\"\",Athletenliste!F134)","v":""},{"$f":"IF(Athletenliste!G134=\"\",\"\",Athletenliste!G134)","v":""},{"$f":"IF(Athletenliste!H134=\"\",\"\",Athletenliste!H134)","v":""},null,{"$f":"IF(B134=\"\",\"\",IF(D134=\"m\",INDIRECT(VLOOKUP(G134,Bezüge!$E$6:$F$16,2,FALSE)&ROW(G134)),INDIRECT(VLOOKUP(G134,Bezüge!$B$6:$C$16,2,FALSE)&ROW(G134))))","v":""},null,null,null,"","","","","","","","","","","","","","","","","","","","","","",null,"","","","","","","","","","","","","","","","","","","","","",""]
[null,{"$f":"IF(Athletenliste!B135=\"\",\"\",Athletenliste!B135)","v":""},{"$f":"IF(Athletenliste!C135=\"\",\"\",Athletenliste!C135)","v":""},{"$f":"IF(Athletenliste!D135=\"\",\"\",Athletenliste!D135)","v":""},{"$f":"IF(Athletenliste!E135=\"\",\"\",Athletenliste!E135)","v":""},{"$f":"IF(Athletenliste!F135=\"\",\"\",Athletenliste!F135)","v":""},{"$f":"IF(Athletenliste!G135=\"\",\"\",Athletenliste!G135)","v":""},{"$f":"IF(Athletenliste!H135=\"\",\"\",Athletenliste!H135)","v":""},null,{"$f":"IF(B135=\"\",\"\",IF(D135=\"m\",INDIRECT(VLOOKUP(G135,Bezüge!$E$6:$F$16,2,FALSE)&ROW(G135)),INDIRECT(VLOOKUP(G135,Bezüge!$B$6:$C$16,2,FALSE)&ROW(G135))))","v":""},null,null,null,"","","","","","","","","","","","","","","","","","","","","","",null,"","","","","","","","","","","","","","","","","","","","","",""]
[null,{"$f":"IF(Athletenliste!B136=\"\",\"\",Athletenliste!B136)","v":""},{"$f":"IF(Athletenliste!C136=\"\",\"\",Athletenliste!C136)","v":""},{"$f":"IF(Athletenliste!D136=\"\",\"\",Athletenliste!D136)","v":""},{"$f":"IF(Athletenliste!E136=\"\",\"\",Athletenliste!E136)","v":""},{"$f":"IF(Athletenliste!F136=\"\",\"\",Athletenliste!F136)","v":""},{"$f":"IF(Athletenliste!G136=\"\",\"\",Athletenliste!G136)","v":""},{"$f":"IF(Athletenliste!H136=\"\",\"\",Athletenliste!H136)","v":""},null,{"$f":"IF(B136=\"\",\"\",IF(D136=\"m\",INDIRECT(VLOOKUP(G136,Bezüge!$E$6:$F$16,2,FALSE)&ROW(G136)),INDIRECT(VLOOKUP(G136,Bezüge!$B$6:$C$16,2,FALSE)&ROW(G136))))","v":""},null,null,null,"","","","","","","","","","","","","","","","","","","","","","",null,"","","","","","","","","","","","","","","","","","","","","",""]
[null,{"$f":"IF(Athletenliste!B137=\"\",\"\",Athletenliste!B137)","v":""},{"$f":"IF(Athletenliste!C137=\"\",\"\",Athletenliste!C137)","v":""},{"$f":"IF(Athletenliste!D137=\"\",\"\",Athletenliste!D137)","v":""},{"$f":"IF(Athletenliste!E137=\"\",\"\",Athletenliste!E137)","v":""},{"$f":"IF(Athletenliste!F137=\"\",\"\",Athletenliste!F137)","v":""},{"$f":"IF(Athletenliste!G137=\"\",\"\",Athletenliste!G137)","v":""},{"$f":"IF(Athletenliste!H137=\"\",\"\",Athletenliste!H137)","v":""},null,{"$f":"IF(B137=\"\",\"\",IF(D137=\"m\",INDIRECT(VLOOKUP(G137,Bezüge!$E$6:$F$16,2,FALSE)&ROW(G137)),INDIRECT(VLOOKUP(G137,Bezüge!$B$6:$C$16,2,FALSE)&ROW(G137))))","v":""},null,null,null,"","","","","","","","","","","","","","","","","","","","","","",null,"","","","","","","","","","","","","","","","","","","","","",""]
[null,{"$f":"IF(Athletenliste!B138=\"\",\"\",Athletenliste!B138)","v":""},{"$f":"IF(Athletenliste!C138=\"\",\"\",Athletenliste!C138)","v":""},{"$f":"IF(Athletenliste!D138=\"\",\"\",Athletenliste!D138)","v":""},{"$f":"IF(Athletenliste!E138=\"\",\"\",Athletenliste!E138)","v":""},{"$f":"IF(Athletenliste!F138=\"\",\"\",Athletenliste!F138)","v":""},{"$f":"IF(Athletenliste!G138=\"\",\"\",Athletenliste!G138)","v":""},{"$f":"IF(Athletenliste!H138=\"\",\"\",Athletenliste!H138)","v":""},null,{"$f":"IF(B138=\"\",\"\",IF(D138=\"m\",INDIRECT(VLOOKUP(G138,Bezüge!$E$6:$F$16,2,FALSE)&ROW(G138)),INDIRECT(VLOOKUP(G138,Bezüge!$B$6:$C$16,2,FALSE)&ROW(G138))))","v":""},null,null,null,"","","","","","","","","","","","","","","","","","","","","","",null,"","","","","","","","","","","","","","","","","","","","","",""]
[null,{"$f":"IF(Athletenliste!B139=\"\",\"\",Athletenliste!B139)","v":""},{"$f":"IF(Athletenliste!C139=\"\",\"\",Athletenliste!C139)","v":""},{"$f":"IF(Athletenliste!D139=\"\",\"\",Athletenliste!D139)","v":""},{"$f":"IF(Athletenliste!E139=\"\",\"\",Athletenliste!E139)","v":""},{"$f":"IF(Athletenliste!F139=\"\",\"\",Athletenliste!F139)","v":""},{"$f":"IF(Athletenliste!G139=\"\",\"\",Athletenliste!G139)","v":""},{"$f":"IF(Athletenliste!H139=\"\",\"\",Athletenliste!H139)","v":""},null,{"$f":"IF(B139=\"\",\"\",IF(D139=\"m\",INDIRECT(VLOOKUP(G139,Bezüge!$E$6:$F$16,2,FALSE)&ROW(G139)),INDIRECT(VLOOKUP(G139,Bezüge!$B$6:$C$16,2,FALSE)&ROW(G139))))","v":""},null,null,null,{"$f":"IF(AND(D139=\"m\",G139=\"U06\",I139<>\"\"),I139,\"\")","v":""},{"$f":"IF(OR(I139=\"\",N139=\"\"),\"\",_xlfn.RANK.EQ(N139,N$10:N$200,1))","v":""},{"$f":"IF(AND(D139=\"m\",G139=\"U07\",I139<>\"\"),I139,\"\")","v":""},{"$f":"IF(OR(I139=\"\",P139=\"\"),\"\",_xlfn.RANK.EQ(P139,P$10:P$200,1))","v":""},{"$f":"IF(AND(D139=\"m\",G139=\"U08\",I139<>\"\"),I139,\"\")","v":""},{"$f":"IF(OR(I139=\"\",R139=\"\"),\"\",_xlfn.RANK.EQ(R139,R$10:R$200,1))","v":""},{"$f":"IF(AND(D139=\"m\",G139=\"U09\",I139<>\"\"),I139,\"\")","v":""},{"$f":"IF(OR(I139=\"\",T139=\"\"),\"\",_xlfn.RANK.EQ(T139,T$10:T$200,1))","v":""},{"$f":"IF(AND(D139=\"m\",G139=\"U10\",I139<>\"\"),I139,\"\")","v":""},{"$f":"IF(OR(I139=\"\",V139=\"\"),\"\",_xlfn.RANK.EQ(V139,V$10:V$200,1))","v":""},{"$f":"IF(AND(D139=\"m\",G139=\"U11\",I139<>\"\"),I139,\"\")","v":""},{"$f":"IF(OR(I139=\"\",X139=\"\"),\"\",_xlfn.RANK.EQ(X139,X$10:X$200,1))","v":""},{"$f":"IF(AND(D139=\"m\",G139=\"U12\",I139<>\"\"),I139,\"\")","v":""},{"$f":"IF(OR(I139=\"\",Z139=\"\"),\"\",_xlfn.RANK.EQ(Z139,Z$10:Z$200,1))","v":""},{"$f":"IF(AND(D139=\"m\",G139=\"U13\",I139<>\"\"),I139,\"\")","v":""},{"$f":"IF(OR(I139=\"\",AB139=\"\"),\"\",_xlfn.RANK.EQ(AB139,AB$10:AB$200,1))","v":""},{"$f":"IF(AND(D139=\"m\",G139=\"U14\",I139<>\"\"),I139,\"\")","v":""},{"$f":"IF(OR(I139=\"\",AD139=\"\"),\"\",_xlfn.RANK.EQ(AD139,AD$10:AD$200,1))","v":""},{"$f":"IF(AND(D139=\"m\",G139=\"U15\",I139<>\"\"),I139,\"\")","v":""},{"$f":"IF(OR(I139=\"\",AF139=\"\"),\"\",_xlfn.RANK.EQ(AF139,AF$10:AF$200,1))","v":""},{"$f":"IF(AND(D139=\"m\",G139=\"U16\",I139<>\"\"),I139,\"\")","v":""},{"$f":"IF(OR(I139=\"\",AH139=\"\"),\"\",_xlfn.RANK.EQ(AH139,AH$10:AH$200,1))","v":""},null,{"$f":"IF(AND(D139=\"w\",G139=\"U06\",I139<>\"\"),I139,\"\")","v":""},{"$f":"IF(OR(I139=\"\",AI139=\"\"),\"\",_xlfn.RANK.EQ(AI139,AI$10:AI$200,1))","v":""},{"$f":"IF(AND(D139=\"w\",G139=\"U07\",I139<>\"\"),I139,\"\")","v":""},{"$f":"IF(OR(I139=\"\",AM139=\"\"),\"\",_xlfn.RANK.EQ(AM139,AM$10:AM$20,1))","v":""},{"$f":"IF(AND(D139=\"w\",G139=\"U08\",I139<>\"\"),I139,\"\")","v":""},{"$f":"IF(OR(I139=\"\",AO139=\"\"),\"\",_xlfn.RANK.EQ(AO139,AO$10:AO$200,0))","v":""},{"$f":"IF(AND(D139=\"w\",G139=\"U09\",I139<>\"\"),I139,\"\")","v":""},{"$f":"IF(OR(I139=\"\",AQ139=\"\"),\"\",_xlfn.RANK.EQ(AQ139,AQ$10:AQ$200,1))","v":""},{"$f":"IF(AND(D139=\"w\",G139=\"U10\",I139<>\"\"),I139,\"\")","v":""},{"$f":"IF(OR(I139=\"\",AS139=\"\"),\"\",_xlfn.RANK.EQ(AS139,AS$10:AS$200,1))","v":""},{"$f":"IF(AND(D139=\"w\",G139=\"U11\",I139<>\"\"),I139,\"\")","v":""},{"$f":"IF(OR(I139=\"\",AU139=\"\"),\"\",_xlfn.RANK.EQ(AU139,AU$10:AU$200,1))","v":""},{"$f":"IF(AND(D139=\"w\",G139=\"U12\",I139<>\"\"),I139,\"\")","v":""},{"$f":"IF(OR(I139=\"\",AW139=\"\"),\"\",_xlfn.RANK.EQ(AW139,AW$10:AW$200,1))","v":""},{"$f":"IF(AND(D139=\"w\",G139=\"U13\",I139<>\"\"),I139,\"\")","v":""},{"$f":"IF(OR(I139=\"\",AY139=\"\"),\"\",_xlfn.RANK.EQ(AY139,AY$10:AY$200,1))","v":""},{"$f":"IF(AND(D139=\"w\",G139=\"U14\",I139<>\"\"),I139,\"\")","v":""},{"$f":"IF(OR(I139=\"\",BA139=\"\"),\"\",_xlfn.RANK.EQ(BA139,BA$10:BA$200,1))","v":""},{"$f":"IF(AND(D139=\"w\",G139=\"U15\",I139<>\"\"),I139,\"\")","v":""},{"$f":"IF(OR(I139=\"\",BC139=\"\"),\"\",_xlfn.RANK.EQ(BC139,BC$10:BC$200,1))","v":""},{"$f":"IF(AND(D139=\"w\",G139=\"U16\",I139<>\"\"),I139,\"\")","v":""},{"$f":"IF(OR(I139=\"\",BE139=\"\"),\"\",_xlfn.RANK.EQ(BE139,BE$10:BE$200,1))","v":""}]
[null,{"$f":"IF(Athletenliste!B140=\"\",\"\",Athletenliste!B140)","v":""},{"$f":"IF(Athletenliste!C140=\"\",\"\",Athletenliste!C140)","v":""},{"$f":"IF(Athletenliste!D140=\"\",\"\",Athletenliste!D140)","v":""},{"$f":"IF(Athletenliste!E140=\"\",\"\",Athletenliste!E140)","v":""},{"$f":"IF(Athletenliste!F140=\"\",\"\",Athletenliste!F140)","v":""},{"$f":"IF(Athletenliste!G140=\"\",\"\",Athletenliste!G140)","v":""},{"$f":"IF(Athletenliste!H140=\"\",\"\",Athletenliste!H140)","v":""},null,{"$f":"IF(B140=\"\",\"\",IF(D140=\"m\",INDIRECT(VLOOKUP(G140,Bezüge!$E$6:$F$16,2,FALSE)&ROW(G140)),INDIRECT(VLOOKUP(G140,Bezüge!$B$6:$C$16,2,FALSE)&ROW(G140))))","v":""},null,null,null,"","","","","","","","","","","","","","","","","","","","","","",null,"","","","","","","","","","","","","","","","","","","","","",""]
[null,{"$f":"IF(Athletenliste!B141=\"\",\"\",Athletenliste!B141)","v":""},{"$f":"IF(Athletenliste!C141=\"\",\"\",Athletenliste!C141)","v":""},{"$f":"IF(Athletenliste!D141=\"\",\"\",Athletenliste!D141)","v":""},{"$f":"IF(Athletenliste!E141=\"\",\"\",Athletenliste!E141)","v":""},{"$f":"IF(Athletenliste!F141=\"\",\"\",Athletenliste!F141)","v":""},{"$f":"IF(Athletenliste!G141=\"\",\"\",Athletenliste!G141)","v":""},{"$f":"IF(Athletenliste!H141=\"\",\"\",Athletenliste!H141)","v":""},null,{"$f":"IF(B141=\"\",\"\",IF(D141=\"m\",INDIRECT(VLOOKUP(G141,Bezüge!$E$6:$F$16,2,FALSE)&ROW(G141)),INDIRECT(VLOOKUP(G141,Bezüge!$B$6:$C$16,2,FALSE)&ROW(G141))))","v":""},null,null,null,"","","","","","","","","","","","","","","","","","","","","","",null,"","","","","","","","","","","","","","","","","","","","","",""]
[null,{"$f":"IF(Athletenliste!B142=\"\",\"\",Athletenliste!B142)","v":""},{"$f":"IF(Athletenliste!C142=\"\",\"\",Athletenliste!C142)","v":""},{"$f":"IF(Athletenliste!D142=\"\",\"\",Athletenliste!D142)","v":""},{"$f":"IF(Athletenliste!E142=\"\",\"\",Athletenliste!E142)","v":""},{"$f":"IF(Athletenliste!F142=\"\",\"\",Athletenliste!F142)","v":""},{"$f":"IF(Athletenliste!G142=\"\",\"\",Athletenliste!G142)","v":""},{"$f":"IF(Athletenliste!H142=\"\",\"\",Athletenliste!H142)","v":""},null,{"$f":"IF(B142=\"\",\"\",IF(D142=\"m\",INDIRECT(VLOOKUP(G142,Bezüge!$E$6:$F$16,2,FALSE)&ROW(G142)),INDIRECT(VLOOKUP(G142,Bezüge!$B$6:$C$16,2,FALSE)&ROW(G142))))","v":""},null,null,null,"","","","","","","","","","","","","","","","","","","","","","",null,"","","","","","","","","","","","","","","","","","","","","",""]
[null,{"$f":"IF(Athletenliste!B143=\"\",\"\",Athletenliste!B143)","v":""},{"$f":"IF(Athletenliste!C143=\"\",\"\",Athletenliste!C143)","v":""},{"$f":"IF(Athletenliste!D143=\"\",\"\",Athletenliste!D143)","v":""},{"$f":"IF(Athletenliste!E143=\"\",\"\",Athletenliste!E143)","v":""},{"$f":"IF(Athletenliste!F143=\"\",\"\",Athletenliste!F143)","v":""},{"$f":"IF(Athletenliste!G143=\"\",\"\",Athletenliste!G143)","v":""},{"$f":"IF(Athletenliste!H143=\"\",\"\",Athletenliste!H143)","v":""},null,{"$f":"IF(B143=\"\",\"\",IF(D143=\"m\",INDIRECT(VLOOKUP(G143,Bezüge!$E$6:$F$16,2,FALSE)&ROW(G143)),INDIRECT(VLOOKUP(G143,Bezüge!$B$6:$C$16,2,FALSE)&ROW(G143))))","v":""},null,null,null,"","","","","","","","","","","","","","","","","","","","","","",null,"","","","","","","","","","","","","","","","","","","","","",""]
[null,{"$f":"IF(Athletenliste!B144=\"\",\"\",Athletenliste!B144)","v":""},{"$f":"IF(Athletenliste!C144=\"\",\"\",Athletenliste!C144)","v":""},{"$f":"IF(Athletenliste!D144=\"\",\"\",Athletenliste!D144)","v":""},{"$f":"IF(Athletenliste!E144=\"\",\"\",Athletenliste!E144)","v":""},{"$f":"IF(Athletenliste!F144=\"\",\"\",Athletenliste!F144)","v":""},{"$f":"IF(Athletenliste!G144=\"\",\"\",Athletenliste!G144)","v":""},{"$f":"IF(Athletenliste!H144=\"\",\"\",Athletenliste!H144)","v":""},null,{"$f":"IF(B144=\"\",\"\",IF(D144=\"m\",INDIRECT(VLOOKUP(G144,Bezüge!$E$6:$F$16,2,FALSE)&ROW(G144)),INDIRECT(VLOOKUP(G144,Bezüge!$B$6:$C$16,2,FALSE)&ROW(G144))))","v":""},null,null,null,"","","","","","","","","","","","","","","","","","","","","","",null,"","","","","","","","","","","","","","","","","","","","","",""]
[null,{"$f":"IF(Athletenliste!B145=\"\",\"\",Athletenliste!B145)","v":""},{"$f":"IF(Athletenliste!C145=\"\",\"\",Athletenliste!C145)","v":""},{"$f":"IF(Athletenliste!D145=\"\",\"\",Athletenliste!D145)","v":""},{"$f":"IF(Athletenliste!E145=\"\",\"\",Athletenliste!E145)","v":""},{"$f":"IF(Athletenliste!F145=\"\",\"\",Athletenliste!F145)","v":""},{"$f":"IF(Athletenliste!G145=\"\",\"\",Athletenliste!G145)","v":""},{"$f":"IF(Athletenliste!H145=\"\",\"\",Athletenliste!H145)","v":""},null,{"$f":"IF(B145=\"\",\"\",IF(D145=\"m\",INDIRECT(VLOOKUP(G145,Bezüge!$E$6:$F$16,2,FALSE)&ROW(G145)),INDIRECT(VLOOKUP(G145,Bezüge!$B$6:$C$16,2,FALSE)&ROW(G145))))","v":""},null,null,null,"","","","","","","","","","","","","","","","","","","","","","",null,"","","","","","","","","","","","","","","","","","","","","",""]
[null,{"$f":"IF(Athletenliste!B146=\"\",\"\",Athletenliste!B146)","v":""},{"$f":"IF(Athletenliste!C146=\"\",\"\",Athletenliste!C146)","v":""},{"$f":"IF(Athletenliste!D146=\"\",\"\",Athletenliste!D146)","v":""},{"$f":"IF(Athletenliste!E146=\"\",\"\",Athletenliste!E146)","v":""},{"$f":"IF(Athletenliste!F146=\"\",\"\",Athletenliste!F146)","v":""},{"$f":"IF(Athletenliste!G146=\"\",\"\",Athletenliste!G146)","v":""},{"$f":"IF(Athletenliste!H146=\"\",\"\",Athletenliste!H146)","v":""},null,{"$f":"IF(B146=\"\",\"\",IF(D146=\"m\",INDIRECT(VLOOKUP(G146,Bezüge!$E$6:$F$16,2,FALSE)&ROW(G146)),INDIRECT(VLOOKUP(G146,Bezüge!$B$6:$C$16,2,FALSE)&ROW(G146))))","v":""},null,null,null,"","","","","","","","","","","","","","","","","","","","","","",null,"","","","","","","","","","","","","","","","","","","","","",""]
[null,{"$f":"IF(Athletenliste!B147=\"\",\"\",Athletenliste!B147)","v":""},{"$f":"IF(Athletenliste!C147=\"\",\"\",Athletenliste!C147)","v":""},{"$f":"IF(Athletenliste!D147=\"\",\"\",Athletenliste!D147)","v":""},{"$f":"IF(Athletenliste!E147=\"\",\"\",Athletenliste!E147)","v":""},{"$f":"IF(Athletenliste!F147=\"\",\"\",Athletenliste!F147)","v":""},{"$f":"IF(Athletenliste!G147=\"\",\"\",Athletenliste!G147)","v":""},{"$f":"IF(Athletenliste!H147=\"\",\"\",Athletenliste!H147)","v":""},null,{"$f":"IF(B147=\"\",\"\",IF(D147=\"m\",INDIRECT(VLOOKUP(G147,Bezüge!$E$6:$F$16,2,FALSE)&ROW(G147)),INDIRECT(VLOOKUP(G147,Bezüge!$B$6:$C$16,2,FALSE)&ROW(G147))))","v":""},null,null,null,"","","","","","","","","","","","","","","","","","","","","","",null,"","","","","","","","","","","","","","","","","","","","","",""]
[null,{"$f":"IF(Athletenliste!B148=\"\",\"\",Athletenliste!B148)","v":""},{"$f":"IF(Athletenliste!C148=\"\",\"\",Athletenliste!C148)","v":""},{"$f":"IF(Athletenliste!D148=\"\",\"\",Athletenliste!D148)","v":""},{"$f":"IF(Athletenliste!E148=\"\",\"\",Athletenliste!E148)","v":""},{"$f":"IF(Athletenliste!F148=\"\",\"\",Athletenliste!F148)","v":""},{"$f":"IF(Athletenliste!G148=\"\",\"\",Athletenliste!G148)","v":""},{"$f":"IF(Athletenliste!H148=\"\",\"\",Athletenliste!H148)","v":""},null,{"$f":"IF(B148=\"\",\"\",IF(D148=\"m\",INDIRECT(VLOOKUP(G148,Bezüge!$E$6:$F$16,2,FALSE)&ROW(G148)),INDIRECT(VLOOKUP(G148,Bezüge!$B$6:$C$16,2,FALSE)&ROW(G148))))","v":""},null,null,null,"","","","","","","","","","","","","","","","","","","","","","",null,"","","","","","","","","","","","","","","","","","","","","",""]
[null,{"$f":"IF(Athletenliste!B149=\"\",\"\",Athletenliste!B149)","v":""},{"$f":"IF(Athletenliste!C149=\"\",\"\",Athletenliste!C149)","v":""},{"$f":"IF(Athletenliste!D149=\"\",\"\",Athletenliste!D149)","v":""},{"$f":"IF(Athletenliste!E149=\"\",\"\",Athletenliste!E149)","v":""},{"$f":"IF(Athletenliste!F149=\"\",\"\",Athletenliste!F149)","v":""},{"$f":"IF(Athletenliste!G149=\"\",\"\",Athletenliste!G149)","v":""},{"$f":"IF(Athletenliste!H149=\"\",\"\",Athletenliste!H149)","v":""},null,{"$f":"IF(B149=\"\",\"\",IF(D149=\"m\",INDIRECT(VLOOKUP(G149,Bezüge!$E$6:$F$16,2,FALSE)&ROW(G149)),INDIRECT(VLOOKUP(G149,Bezüge!$B$6:$C$16,2,FALSE)&ROW(G149))))","v":""},null,null,null,"","","","","","","","","","","","","","","","","","","","","","",null,"","","","","","","","","","","","","","","","","","","","","",""]
[null,{"$f":"IF(Athletenliste!B150=\"\",\"\",Athletenliste!B150)","v":""},{"$f":"IF(Athletenliste!C150=\"\",\"\",Athletenliste!C150)","v":""},{"$f":"IF(Athletenliste!D150=\"\",\"\",Athletenliste!D150)","v":""},{"$f":"IF(Athletenliste!E150=\"\",\"\",Athletenliste!E150)","v":""},{"$f":"IF(Athletenliste!F150=\"\",\"\",Athletenliste!F150)","v":""},{"$f":"IF(Athletenliste!G150=\"\",\"\",Athletenliste!G150)","v":""},{"$f":"IF(Athletenliste!H150=\"\",\"\",Athletenliste!H150)","v":""},null,{"$f":"IF(B150=\"\",\"\",IF(D150=\"m\",INDIRECT(VLOOKUP(G150,Bezüge!$E$6:$F$16,2,FALSE)&ROW(G150)),INDIRECT(VLOOKUP(G150,Bezüge!$B$6:$C$16,2,FALSE)&ROW(G150))))","v":""},null,null,null,"","","","","","","","","","","","","","","","","","","","","","",null,"","","","","","","","","","","","","","","","","","","","","",""]
[null,{"$f":"IF(Athletenliste!B151=\"\",\"\",Athletenliste!B151)","v":""},{"$f":"IF(Athletenliste!C151=\"\",\"\",Athletenliste!C151)","v":""},{"$f":"IF(Athletenliste!D151=\"\",\"\",Athletenliste!D151)","v":""},{"$f":"IF(Athletenliste!E151=\"\",\"\",Athletenliste!E151)","v":""},{"$f":"IF(Athletenliste!F151=\"\",\"\",Athletenliste!F151)","v":""},{"$f":"IF(Athletenliste!G151=\"\",\"\",Athletenliste!G151)","v":""},{"$f":"IF(Athletenliste!H151=\"\",\"\",Athletenliste!H151)","v":""},null,{"$f":"IF(B151=\"\",\"\",IF(D151=\"m\",INDIRECT(VLOOKUP(G151,Bezüge!$E$6:$F$16,2,FALSE)&ROW(G151)),INDIRECT(VLOOKUP(G151,Bezüge!$B$6:$C$16,2,FALSE)&ROW(G151))))","v":""},null,null,null,"","","","","","","","","","","","","","","","","","","","","","",null,"","","","","","","","","","","","","","","","","","","","","",""]
[null,{"$f":"IF(Athletenliste!B152=\"\",\"\",Athletenliste!B152)","v":""},{"$f":"IF(Athletenliste!C152=\"\",\"\",Athletenliste!C152)","v":""},{"$f":"IF(Athletenliste!D152=\"\",\"\",Athletenliste!D152)","v":""},{"$f":"IF(Athletenliste!E152=\"\",\"\",Athletenliste!E152)","v":""},{"$f":"IF(Athletenliste!F152=\"\",\"\",Athletenliste!F152)","v":""},{"$f":"IF(Athletenliste!G152=\"\",\"\",Athletenliste!G152)","v":""},{"$f":"IF(Athletenliste!H152=\"\",\"\",Athletenliste!H152)","v":""},null,{"$f":"IF(B152=\"\",\"\",IF(D152=\"m\",INDIRECT(VLOOKUP(G152,Bezüge!$E$6:$F$16,2,FALSE)&ROW(G152)),INDIRECT(VLOOKUP(G152,Bezüge!$B$6:$C$16,2,FALSE)&ROW(G152))))","v":""},null,null,null,"","","","","","","","","","","","","","","","","","","","","","",null,"","","","","","","","","","","","","","","","","","","","","",""]
[null,{"$f":"IF(Athletenliste!B153=\"\",\"\",Athletenliste!B153)","v":""},{"$f":"IF(Athletenliste!C153=\"\",\"\",Athletenliste!C153)","v":""},{"$f":"IF(Athletenliste!D153=\"\",\"\",Athletenliste!D153)","v":""},{"$f":"IF(Athletenliste!E153=\"\",\"\",Athletenliste!E153)","v":""},{"$f":"IF(Athletenliste!F153=\"\",\"\",Athletenliste!F153)","v":""},{"$f":"IF(Athletenliste!G153=\"\",\"\",Athletenliste!G153)","v":""},{"$f":"IF(Athletenliste!H153=\"\",\"\",Athletenliste!H153)","v":""},null,{"$f":"IF(B153=\"\",\"\",IF(D153=\"m\",INDIRECT(VLOOKUP(G153,Bezüge!$E$6:$F$16,2,FALSE)&ROW(G153)),INDIRECT(VLOOKUP(G153,Bezüge!$B$6:$C$16,2,FALSE)&ROW(G153))))","v":""},null,null,null,"","","","","","","","","","","","","","","","","","","","","","",null,"","","","","","","","","","","","","","","","","","","","","",""]
[null,{"$f":"IF(Athletenliste!B154=\"\",\"\",Athletenliste!B154)","v":""},{"$f":"IF(Athletenliste!C154=\"\",\"\",Athletenliste!C154)","v":""},{"$f":"IF(Athletenliste!D154=\"\",\"\",Athletenliste!D154)","v":""},{"$f":"IF(Athletenliste!E154=\"\",\"\",Athletenliste!E154)","v":""},{"$f":"IF(Athletenliste!F154=\"\",\"\",Athletenliste!F154)","v":""},{"$f":"IF(Athletenliste!G154=\"\",\"\",Athletenliste!G154)","v":""},{"$f":"IF(Athletenliste!H154=\"\",\"\",Athletenliste!H154)","v":""},null,{"$f":"IF(B154=\"\",\"\",IF(D154=\"m\",INDIRECT(VLOOKUP(G154,Bezüge!$E$6:$F$16,2,FALSE)&ROW(G154)),INDIRECT(VLOOKUP(G154,Bezüge!$B$6:$C$16,2,FALSE)&ROW(G154))))","v":""},null,null,null,"","","","","","","","","","","","","","","","","","","","","","",null,"","","","","","","","","","","","","","","","","","","","","",""]
[null,{"$f":"IF(Athletenliste!B155=\"\",\"\",Athletenliste!B155)","v":""},{"$f":"IF(Athletenliste!C155=\"\",\"\",Athletenliste!C155)","v":""},{"$f":"IF(Athletenliste!D155=\"\",\"\",Athletenliste!D155)","v":""},{"$f":"IF(Athletenliste!E155=\"\",\"\",Athletenliste!E155)","v":""},{"$f":"IF(Athletenliste!F155=\"\",\"\",Athletenliste!F155)","v":""},{"$f":"IF(Athletenliste!G155=\"\",\"\",Athletenliste!G155)","v":""},{"$f":"IF(Athletenliste!H155=\"\",\"\",Athletenliste!H155)","v":""},null,{"$f":"IF(B155=\"\",\"\",IF(D155=\"m\",INDIRECT(VLOOKUP(G155,Bezüge!$E$6:$F$16,2,FALSE)&ROW(G155)),INDIRECT(VLOOKUP(G155,Bezüge!$B$6:$C$16,2,FALSE)&ROW(G155))))","v":""},null,null,null,"","","","","","","","","","","","","","","","","","","","","","",null,"","","","","","","","","","","","","","","","","","","","","",""]
[null,{"$f":"IF(Athletenliste!B156=\"\",\"\",Athletenliste!B156)","v":""},{"$f":"IF(Athletenliste!C156=\"\",\"\",Athletenliste!C156)","v":""},{"$f":"IF(Athletenliste!D156=\"\",\"\",Athletenliste!D156)","v":""},{"$f":"IF(Athletenliste!E156=\"\",\"\",Athletenliste!E156)","v":""},{"$f":"IF(Athletenliste!F156=\"\",\"\",Athletenliste!F156)","v":""},{"$f":"IF(Athletenliste!G156=\"\",\"\",Athletenliste!G156)","v":""},{"$f":"IF(Athletenliste!H156=\"\",\"\",Athletenliste!H156)","v":""},null,{"$f":"IF(B156=\"\",\"\",IF(D156=\"m\",INDIRECT(VLOOKUP(G156,Bezüge!$E$6:$F$16,2,FALSE)&ROW(G156)),INDIRECT(VLOOKUP(G156,Bezüge!$B$6:$C$16,2,FALSE)&ROW(G156))))","v":""},null,null,null,"","","","","","","","","","","","","","","","","","","","","","",null,"","","","","","","","","","","","","","","","","","","","","",""]
[null,{"$f":"IF(Athletenliste!B157=\"\",\"\",Athletenliste!B157)","v":""},{"$f":"IF(Athletenliste!C157=\"\",\"\",Athletenliste!C157)","v":""},{"$f":"IF(Athletenliste!D157=\"\",\"\",Athletenliste!D157)","v":""},{"$f":"IF(Athletenliste!E157=\"\",\"\",Athletenliste!E157)","v":""},{"$f":"IF(Athletenliste!F157=\"\",\"\",Athletenliste!F157)","v":""},{"$f":"IF(Athletenliste!G157=\"\",\"\",Athletenliste!G157)","v":""},{"$f":"IF(Athletenliste!H157=\"\",\"\",Athletenliste!H157)","v":""},null,{"$f":"IF(B157=\"\",\"\",IF(D157=\"m\",INDIRECT(VLOOKUP(G157,Bezüge!$E$6:$F$16,2,FALSE)&ROW(G157)),INDIRECT(VLOOKUP(G157,Bezüge!$B$6:$C$16,2,FALSE)&ROW(G157))))","v":""},null,null,null,"","","","","","","","","","","","","","","","","","","","","","",null,"","","","","","","","","","","","","","","","","","","","","",""]
[null,{"$f":"IF(Athletenliste!B158=\"\",\"\",Athletenliste!B158)","v":""},{"$f":"IF(Athletenliste!C158=\"\",\"\",Athletenliste!C158)","v":""},{"$f":"IF(Athletenliste!D158=\"\",\"\",Athletenliste!D158)","v":""},{"$f":"IF(Athletenliste!E158=\"\",\"\",Athletenliste!E158)","v":""},{"$f":"IF(Athletenliste!F158=\"\",\"\",Athletenliste!F158)","v":""},{"$f":"IF(Athletenliste!G158=\"\",\"\",Athletenliste!G158)","v":""},{"$f":"IF(Athletenliste!H158=\"\",\"\",Athletenliste!H158)","v":""},null,{"$f":"IF(B158=\"\",\"\",IF(D158=\"m\",INDIRECT(VLOOKUP(G158,Bezüge!$E$6:$F$16,2,FALSE)&ROW(G158)),INDIRECT(VLOOKUP(G158,Bezüge!$B$6:$C$16,2,FALSE)&ROW(G158))))","v":""},null,null,null,"","","","","","","","","","","","","","","","","","","","","","",null,"","","","","","","","","","","","","","","","","","","","","",""]
[null,{"$f":"IF(Athletenliste!B159=\"\",\"\",Athletenliste!B159)","v":""},{"$f":"IF(Athletenliste!C159=\"\",\"\",Athletenliste!C159)","v":""},{"$f":"IF(Athletenliste!D159=\"\",\"\",Athletenliste!D159)","v":""},{"$f":"IF(Athletenliste!E159=\"\",\"\",Athletenliste!E159)","v":""},{"$f":"IF(Athletenliste!F159=\"\",\"\",Athletenliste!F159)","v":""},{"$f":"IF(Athletenliste!G159=\"\",\"\",Athletenliste!G159)","v":""},{"$f":"IF(Athletenliste!H159=\"\",\"\",Athletenliste!H159)","v":""},null,{"$f":"IF(B159=\"\",\"\",IF(D159=\"m\",INDIRECT(VLOOKUP(G159,Bezüge!$E$6:$F$16,2,FALSE)&ROW(G159)),INDIRECT(VLOOKUP(G159,Bezüge!$B$6:$C$16,2,FALSE)&ROW(G159))))","v":""},null,null,null,"","","","","","","","","","","","","","","","","","","","","","",null,"","","","","","","","","","","","","","","","","","","","","",""]
[null,{"$f":"IF(Athletenliste!B160=\"\",\"\",Athletenliste!B160)","v":""},{"$f":"IF(Athletenliste!C160=\"\",\"\",Athletenliste!C160)","v":""},{"$f":"IF(Athletenliste!D160=\"\",\"\",Athletenliste!D160)","v":""},{"$f":"IF(Athletenliste!E160=\"\",\"\",Athletenliste!E160)","v":""},{"$f":"IF(Athletenliste!F160=\"\",\"\",Athletenliste!F160)","v":""},{"$f":"IF(Athletenliste!G160=\"\",\"\",Athletenliste!G160)","v":""},{"$f":"IF(Athletenliste!H160=\"\",\"\",Athletenliste!H160)","v":""},null,{"$f":"IF(B160=\"\",\"\",IF(D160=\"m\",INDIRECT(VLOOKUP(G160,Bezüge!$E$6:$F$16,2,FALSE)&ROW(G160)),INDIRECT(VLOOKUP(G160,Bezüge!$B$6:$C$16,2,FALSE)&ROW(G160))))","v":""},null,null,null,"","","","","","","","","","","","","","","","","","","","","","",null,"","","","","","","","","","","","","","","","","","","","","",""]
[null,{"$f":"IF(Athletenliste!B161=\"\",\"\",Athletenliste!B161)","v":""},{"$f":"IF(Athletenliste!C161=\"\",\"\",Athletenliste!C161)","v":""},{"$f":"IF(Athletenliste!D161=\"\",\"\",Athletenliste!D161)","v":""},{"$f":"IF(Athletenliste!E161=\"\",\"\",Athletenliste!E161)","v":""},{"$f":"IF(Athletenliste!F161=\"\",\"\",Athletenliste!F161)","v":""},{"$f":"IF(Athletenliste!G161=\"\",\"\",Athletenliste!G161)","v":""},{"$f":"IF(Athletenliste!H161=\"\",\"\",Athletenliste!H161)","v":""},null,{"$f":"IF(B161=\"\",\"\",IF(D161=\"m\",INDIRECT(VLOOKUP(G161,Bezüge!$E$6:$F$16,2,FALSE)&ROW(G161)),INDIRECT(VLOOKUP(G161,Bezüge!$B$6:$C$16,2,FALSE)&ROW(G161))))","v":""},null,null,null,"","","","","","","","","","","","","","","","","","","","","","",null,"","","","","","","","","","","","","","","","","","","","","",""]
[null,{"$f":"IF(Athletenliste!B162=\"\",\"\",Athletenliste!B162)","v":""},{"$f":"IF(Athletenliste!C162=\"\",\"\",Athletenliste!C162)","v":""},{"$f":"IF(Athletenliste!D162=\"\",\"\",Athletenliste!D162)","v":""},{"$f":"IF(Athletenliste!E162=\"\",\"\",Athletenliste!E162)","v":""},{"$f":"IF(Athletenliste!F162=\"\",\"\",Athletenliste!F162)","v":""},{"$f":"IF(Athletenliste!G162=\"\",\"\",Athletenliste!G162)","v":""},{"$f":"IF(Athletenliste!H162=\"\",\"\",Athletenliste!H162)","v":""},null,{"$f":"IF(B162=\"\",\"\",IF(D162=\"m\",INDIRECT(VLOOKUP(G162,Bezüge!$E$6:$F$16,2,FALSE)&ROW(G162)),INDIRECT(VLOOKUP(G162,Bezüge!$B$6:$C$16,2,FALSE)&ROW(G162))))","v":""},null,null,null,"","","","","","","","","","","","","","","","","","","","","","",null,"","","","","","","","","","","","","","","","","","","","","",""]
[null,{"$f":"IF(Athletenliste!B163=\"\",\"\",Athletenliste!B163)","v":""},{"$f":"IF(Athletenliste!C163=\"\",\"\",Athletenliste!C163)","v":""},{"$f":"IF(Athletenliste!D163=\"\",\"\",Athletenliste!D163)","v":""},{"$f":"IF(Athletenliste!E163=\"\",\"\",Athletenliste!E163)","v":""},{"$f":"IF(Athletenliste!F163=\"\",\"\",Athletenliste!F163)","v":""},{"$f":"IF(Athletenliste!G163=\"\",\"\",Athletenliste!G163)","v":""},{"$f":"IF(Athletenliste!H163=\"\",\"\",Athletenliste!H163)","v":""},null,{"$f":"IF(B163=\"\",\"\",IF(D163=\"m\",INDIRECT(VLOOKUP(G163,Bezüge!$E$6:$F$16,2,FALSE)&ROW(G163)),INDIRECT(VLOOKUP(G163,Bezüge!$B$6:$C$16,2,FALSE)&ROW(G163))))","v":""},null,null,null,"","","","","","","","","","","","","","","","","","","","","","",null,"","","","","","","","","","","","","","","","","","","","","",""]
[null,{"$f":"IF(Athletenliste!B164=\"\",\"\",Athletenliste!B164)","v":""},{"$f":"IF(Athletenliste!C164=\"\",\"\",Athletenliste!C164)","v":""},{"$f":"IF(Athletenliste!D164=\"\",\"\",Athletenliste!D164)","v":""},{"$f":"IF(Athletenliste!E164=\"\",\"\",Athletenliste!E164)","v":""},{"$f":"IF(Athletenliste!F164=\"\",\"\",Athletenliste!F164)","v":""},{"$f":"IF(Athletenliste!G164=\"\",\"\",Athletenliste!G164)","v":""},{"$f":"IF(Athletenliste!H164=\"\",\"\",Athletenliste!H164)","v":""},null,{"$f":"IF(B164=\"\",\"\",IF(D164=\"m\",INDIRECT(VLOOKUP(G164,Bezüge!$E$6:$F$16,2,FALSE)&ROW(G164)),INDIRECT(VLOOKUP(G164,Bezüge!$B$6:$C$16,2,FALSE)&ROW(G164))))","v":""},null,null,null,"","","","","","","","","","","","","","","","","","","","","","",null,"","","","","","","","","","","","","","","","","","","","","",""]
[null,{"$f":"IF(Athletenliste!B165=\"\",\"\",Athletenliste!B165)","v":""},{"$f":"IF(Athletenliste!C165=\"\",\"\",Athletenliste!C165)","v":""},{"$f":"IF(Athletenliste!D165=\"\",\"\",Athletenliste!D165)","v":""},{"$f":"IF(Athletenliste!E165=\"\",\"\",Athletenliste!E165)","v":""},{"$f":"IF(Athletenliste!F165=\"\",\"\",Athletenliste!F165)","v":""},{"$f":"IF(Athletenliste!G165=\"\",\"\",Athletenliste!G165)","v":""},{"$f":"IF(Athletenliste!H165=\"\",\"\",Athletenliste!H165)","v":""},null,{"$f":"IF(B165=\"\",\"\",IF(D165=\"m\",INDIRECT(VLOOKUP(G165,Bezüge!$E$6:$F$16,2,FALSE)&ROW(G165)),INDIRECT(VLOOKUP(G165,Bezüge!$B$6:$C$16,2,FALSE)&ROW(G165))))","v":""},null,null,null,"","","","","","","","","","","","","","","","","","","","","","",null,"","","","","","","","","","","","","","","","","","","","","",""]
[null,{"$f":"IF(Athletenliste!B166=\"\",\"\",Athletenliste!B166)","v":""},{"$f":"IF(Athletenliste!C166=\"\",\"\",Athletenliste!C166)","v":""},{"$f":"IF(Athletenliste!D166=\"\",\"\",Athletenliste!D166)","v":""},{"$f":"IF(Athletenliste!E166=\"\",\"\",Athletenliste!E166)","v":""},{"$f":"IF(Athletenliste!F166=\"\",\"\",Athletenliste!F166)","v":""},{"$f":"IF(Athletenliste!G166=\"\",\"\",Athletenliste!G166)","v":""},{"$f":"IF(Athletenliste!H166=\"\",\"\",Athletenliste!H166)","v":""},null,{"$f":"IF(B166=\"\",\"\",IF(D166=\"m\",INDIRECT(VLOOKUP(G166,Bezüge!$E$6:$F$16,2,FALSE)&ROW(G166)),INDIRECT(VLOOKUP(G166,Bezüge!$B$6:$C$16,2,FALSE)&ROW(G166))))","v":""},null,null,null,"","","","","","","","","","","","","","","","","","","","","","",null,"","","","","","","","","","","","","","","","","","","","","",""]
[null,{"$f":"IF(Athletenliste!B167=\"\",\"\",Athletenliste!B167)","v":""},{"$f":"IF(Athletenliste!C167=\"\",\"\",Athletenliste!C167)","v":""},{"$f":"IF(Athletenliste!D167=\"\",\"\",Athletenliste!D167)","v":""},{"$f":"IF(Athletenliste!E167=\"\",\"\",Athletenliste!E167)","v":""},{"$f":"IF(Athletenliste!F167=\"\",\"\",Athletenliste!F167)","v":""},{"$f":"IF(Athletenliste!G167=\"\",\"\",Athletenliste!G167)","v":""},{"$f":"IF(Athletenliste!H167=\"\",\"\",Athletenliste!H167)","v":""},null,{"$f":"IF(B167=\"\",\"\",IF(D167=\"m\",INDIRECT(VLOOKUP(G167,Bezüge!$E$6:$F$16,2,FALSE)&ROW(G167)),INDIRECT(VLOOKUP(G167,Bezüge!$B$6:$C$16,2,FALSE)&ROW(G167))))","v":""},null,null,null,"","","","","","","","","","","","","","","","","","","","","","",null,"","","","","","","","","","","","","","","","","","","","","",""]
[null,{"$f":"IF(Athletenliste!B168=\"\",\"\",Athletenliste!B168)","v":""},{"$f":"IF(Athletenliste!C168=\"\",\"\",Athletenliste!C168)","v":""},{"$f":"IF(Athletenliste!D168=\"\",\"\",Athletenliste!D168)","v":""},{"$f":"IF(Athletenliste!E168=\"\",\"\",Athletenliste!E168)","v":""},{"$f":"IF(Athletenliste!F168=\"\",\"\",Athletenliste!F168)","v":""},{"$f":"IF(Athletenliste!G168=\"\",\"\",Athletenliste!G168)","v":""},{"$f":"IF(Athletenliste!H168=\"\",\"\",Athletenliste!H168)","v":""},null,{"$f":"IF(B168=\"\",\"\",IF(D168=\"m\",INDIRECT(VLOOKUP(G168,Bezüge!$E$6:$F$16,2,FALSE)&ROW(G168)),INDIRECT(VLOOKUP(G168,Bezüge!$B$6:$C$16,2,FALSE)&ROW(G168))))","v":""},null,null,null,"","","","","","","","","","","","","","","","","","","","","","",null,"","","","","","","","","","","","","","","","","","","","","",""]
[null,{"$f":"IF(Athletenliste!B169=\"\",\"\",Athletenliste!B169)","v":""},{"$f":"IF(Athletenliste!C169=\"\",\"\",Athletenliste!C169)","v":""},{"$f":"IF(Athletenliste!D169=\"\",\"\",Athletenliste!D169)","v":""},{"$f":"IF(Athletenliste!E169=\"\",\"\",Athletenliste!E169)","v":""},{"$f":"IF(Athletenliste!F169=\"\",\"\",Athletenliste!F169)","v":""},{"$f":"IF(Athletenliste!G169=\"\",\"\",Athletenliste!G169)","v":""},{"$f":"IF(Athletenliste!H169=\"\",\"\",Athletenliste!H169)","v":""},null,{"$f":"IF(B169=\"\",\"\",IF(D169=\"m\",INDIRECT(VLOOKUP(G169,Bezüge!$E$6:$F$16,2,FALSE)&ROW(G169)),INDIRECT(VLOOKUP(G169,Bezüge!$B$6:$C$16,2,FALSE)&ROW(G169))))","v":""},null,null,null,"","","","","","","","","","","","","","","","","","","","","","",null,"","","","","","","","","","","","","","","","","","","","","",""]
[null,{"$f":"IF(Athletenliste!B170=\"\",\"\",Athletenliste!B170)","v":""},{"$f":"IF(Athletenliste!C170=\"\",\"\",Athletenliste!C170)","v":""},{"$f":"IF(Athletenliste!D170=\"\",\"\",Athletenliste!D170)","v":""},{"$f":"IF(Athletenliste!E170=\"\",\"\",Athletenliste!E170)","v":""},{"$f":"IF(Athletenliste!F170=\"\",\"\",Athletenliste!F170)","v":""},{"$f":"IF(Athletenliste!G170=\"\",\"\",Athletenliste!G170)","v":""},{"$f":"IF(Athletenliste!H170=\"\",\"\",Athletenliste!H170)","v":""},null,{"$f":"IF(B170=\"\",\"\",IF(D170=\"m\",INDIRECT(VLOOKUP(G170,Bezüge!$E$6:$F$16,2,FALSE)&ROW(G170)),INDIRECT(VLOOKUP(G170,Bezüge!$B$6:$C$16,2,FALSE)&ROW(G170))))","v":""},null,null,null,"","","","","","","","","","","","","","","","","","","","","","",null,"","","","","","","","","","","","","","","","","","","","","",""]
[null,{"$f":"IF(Athletenliste!B171=\"\",\"\",Athletenliste!B171)","v":""},{"$f":"IF(Athletenliste!C171=\"\",\"\",Athletenliste!C171)","v":""},{"$f":"IF(Athletenliste!D171=\"\",\"\",Athletenliste!D171)","v":""},{"$f":"IF(Athletenliste!E171=\"\",\"\",Athletenliste!E171)","v":""},{"$f":"IF(Athletenliste!F171=\"\",\"\",Athletenliste!F171)","v":""},{"$f":"IF(Athletenliste!G171=\"\",\"\",Athletenliste!G171)","v":""},{"$f":"IF(Athletenliste!H171=\"\",\"\",Athletenliste!H171)","v":""},null,{"$f":"IF(B171=\"\",\"\",IF(D171=\"m\",INDIRECT(VLOOKUP(G171,Bezüge!$E$6:$F$16,2,FALSE)&ROW(G171)),INDIRECT(VLOOKUP(G171,Bezüge!$B$6:$C$16,2,FALSE)&ROW(G171))))","v":""},null,null,null,"","","","","","","","","","","","","","","","","","","","","","",null,"","","","","","","","","","","","","","","","","","","","","",""]
[null,{"$f":"IF(Athletenliste!B172=\"\",\"\",Athletenliste!B172)","v":""},{"$f":"IF(Athletenliste!C172=\"\",\"\",Athletenliste!C172)","v":""},{"$f":"IF(Athletenliste!D172=\"\",\"\",Athletenliste!D172)","v":""},{"$f":"IF(Athletenliste!E172=\"\",\"\",Athletenliste!E172)","v":""},{"$f":"IF(Athletenliste!F172=\"\",\"\",Athletenliste!F172)","v":""},{"$f":"IF(Athletenliste!G172=\"\",\"\",Athletenliste!G172)","v":""},{"$f":"IF(Athletenliste!H172=\"\",\"\",Athletenliste!H172)","v":""},null,{"$f":"IF(B172=\"\",\"\",IF(D172=\"m\",INDIRECT(VLOOKUP(G172,Bezüge!$E$6:$F$16,2,FALSE)&ROW(G172)),INDIRECT(VLOOKUP(G172,Bezüge!$B$6:$C$16,2,FALSE)&ROW(G172))))","v":""},null,null,null,"","","","","","","","","","","","","","","","","","","","","","",null,"","","","","","","","","","","","","","","","","","","","","",""]
[null,{"$f":"IF(Athletenliste!B173=\"\",\"\",Athletenliste!B173)","v":""},{"$f":"IF(Athletenliste!C173=\"\",\"\",Athletenliste!C173)","v":""},{"$f":"IF(Athletenliste!D173=\"\",\"\",Athletenliste!D173)","v":""},{"$f":"IF(Athletenliste!E173=\"\",\"\",Athletenliste!E173)","v":""},{"$f":"IF(Athletenliste!F173=\"\",\"\",Athletenliste!F173)","v":""},{"$f":"IF(Athletenliste!G173=\"\",\"\",Athletenliste!G173)","v":""},{"$f":"IF(Athletenliste!H173=\"\",\"\",Athletenliste!H173)","v":""},null,{"$f":"IF(B173=\"\",\"\",IF(D173=\"m\",INDIRECT(VLOOKUP(G173,Bezüge!$E$6:$F$16,2,FALSE)&ROW(G173)),INDIRECT(VLOOKUP(G173,Bezüge!$B$6:$C$16,2,FALSE)&ROW(G173))))","v":""},null,null,null,"","","","","","","","","","","","","","","","","","","","","","",null,"","","","","","","","","","","","","","","","","","","","","",""]
[null,{"$f":"IF(Athletenliste!B174=\"\",\"\",Athletenliste!B174)","v":""},{"$f":"IF(Athletenliste!C174=\"\",\"\",Athletenliste!C174)","v":""},{"$f":"IF(Athletenliste!D174=\"\",\"\",Athletenliste!D174)","v":""},{"$f":"IF(Athletenliste!E174=\"\",\"\",Athletenliste!E174)","v":""},{"$f":"IF(Athletenliste!F174=\"\",\"\",Athletenliste!F174)","v":""},{"$f":"IF(Athletenliste!G174=\"\",\"\",Athletenliste!G174)","v":""},{"$f":"IF(Athletenliste!H174=\"\",\"\",Athletenliste!H174)","v":""},null,{"$f":"IF(B174=\"\",\"\",IF(D174=\"m\",INDIRECT(VLOOKUP(G174,Bezüge!$E$6:$F$16,2,FALSE)&ROW(G174)),INDIRECT(VLOOKUP(G174,Bezüge!$B$6:$C$16,2,FALSE)&ROW(G174))))","v":""},null,null,null,"","","","","","","","","","","","","","","","","","","","","","",null,"","","","","","","","","","","","","","","","","","","","","",""]
[null,{"$f":"IF(Athletenliste!B175=\"\",\"\",Athletenliste!B175)","v":""},{"$f":"IF(Athletenliste!C175=\"\",\"\",Athletenliste!C175)","v":""},{"$f":"IF(Athletenliste!D175=\"\",\"\",Athletenliste!D175)","v":""},{"$f":"IF(Athletenliste!E175=\"\",\"\",Athletenliste!E175)","v":""},{"$f":"IF(Athletenliste!F175=\"\",\"\",Athletenliste!F175)","v":""},{"$f":"IF(Athletenliste!G175=\"\",\"\",Athletenliste!G175)","v":""},{"$f":"IF(Athletenliste!H175=\"\",\"\",Athletenliste!H175)","v":""},null,{"$f":"IF(B175=\"\",\"\",IF(D175=\"m\",INDIRECT(VLOOKUP(G175,Bezüge!$E$6:$F$16,2,FALSE)&ROW(G175)),INDIRECT(VLOOKUP(G175,Bezüge!$B$6:$C$16,2,FALSE)&ROW(G175))))","v":""},null,null,null,"","","","","","","","","","","","","","","","","","","","","","",null,"","","","","","","","","","","","","","","","","","","","","",""]
[null,{"$f":"IF(Athletenliste!B176=\"\",\"\",Athletenliste!B176)","v":""},{"$f":"IF(Athletenliste!C176=\"\",\"\",Athletenliste!C176)","v":""},{"$f":"IF(Athletenliste!D176=\"\",\"\",Athletenliste!D176)","v":""},{"$f":"IF(Athletenliste!E176=\"\",\"\",Athletenliste!E176)","v":""},{"$f":"IF(Athletenliste!F176=\"\",\"\",Athletenliste!F176)","v":""},{"$f":"IF(Athletenliste!G176=\"\",\"\",Athletenliste!G176)","v":""},{"$f":"IF(Athletenliste!H176=\"\",\"\",Athletenliste!H176)","v":""},null,{"$f":"IF(B176=\"\",\"\",IF(D176=\"m\",INDIRECT(VLOOKUP(G176,Bezüge!$E$6:$F$16,2,FALSE)&ROW(G176)),INDIRECT(VLOOKUP(G176,Bezüge!$B$6:$C$16,2,FALSE)&ROW(G176))))","v":""},null,null,null,"","","","","","","","","","","","","","","","","","","","","","",null,"","","","","","","","","","","","","","","","","","","","","",""]
[null,{"$f":"IF(Athletenliste!B177=\"\",\"\",Athletenliste!B177)","v":""},{"$f":"IF(Athletenliste!C177=\"\",\"\",Athletenliste!C177)","v":""},{"$f":"IF(Athletenliste!D177=\"\",\"\",Athletenliste!D177)","v":""},{"$f":"IF(Athletenliste!E177=\"\",\"\",Athletenliste!E177)","v":""},{"$f":"IF(Athletenliste!F177=\"\",\"\",Athletenliste!F177)","v":""},{"$f":"IF(Athletenliste!G177=\"\",\"\",Athletenliste!G177)","v":""},{"$f":"IF(Athletenliste!H177=\"\",\"\",Athletenliste!H177)","v":""},null,{"$f":"IF(B177=\"\",\"\",IF(D177=\"m\",INDIRECT(VLOOKUP(G177,Bezüge!$E$6:$F$16,2,FALSE)&ROW(G177)),INDIRECT(VLOOKUP(G177,Bezüge!$B$6:$C$16,2,FALSE)&ROW(G177))))","v":""},null,null,null,"","","","","","","","","","","","","","","","","","","","","","",null,"","","","","","","","","","","","","","","","","","","","","",""]
[null,{"$f":"IF(Athletenliste!B178=\"\",\"\",Athletenliste!B178)","v":""},{"$f":"IF(Athletenliste!C178=\"\",\"\",Athletenliste!C178)","v":""},{"$f":"IF(Athletenliste!D178=\"\",\"\",Athletenliste!D178)","v":""},{"$f":"IF(Athletenliste!E178=\"\",\"\",Athletenliste!E178)","v":""},{"$f":"IF(Athletenliste!F178=\"\",\"\",Athletenliste!F178)","v":""},{"$f":"IF(Athletenliste!G178=\"\",\"\",Athletenliste!G178)","v":""},{"$f":"IF(Athletenliste!H178=\"\",\"\",Athletenliste!H178)","v":""},null,{"$f":"IF(B178=\"\",\"\",IF(D178=\"m\",INDIRECT(VLOOKUP(G178,Bezüge!$E$6:$F$16,2,FALSE)&ROW(G178)),INDIRECT(VLOOKUP(G178,Bezüge!$B$6:$C$16,2,FALSE)&ROW(G178))))","v":""},null,null,null,"","","","","","","","","","","","","","","","","","","","","","",null,"","","","","","","","","","","","","","","","","","","","","",""]
[null,{"$f":"IF(Athletenliste!B179=\"\",\"\",Athletenliste!B179)","v":""},{"$f":"IF(Athletenliste!C179=\"\",\"\",Athletenliste!C179)","v":""},{"$f":"IF(Athletenliste!D179=\"\",\"\",Athletenliste!D179)","v":""},{"$f":"IF(Athletenliste!E179=\"\",\"\",Athletenliste!E179)","v":""},{"$f":"IF(Athletenliste!F179=\"\",\"\",Athletenliste!F179)","v":""},{"$f":"IF(Athletenliste!G179=\"\",\"\",Athletenliste!G179)","v":""},{"$f":"IF(Athletenliste!H179=\"\",\"\",Athletenliste!H179)","v":""},null,{"$f":"IF(B179=\"\",\"\",IF(D179=\"m\",INDIRECT(VLOOKUP(G179,Bezüge!$E$6:$F$16,2,FALSE)&ROW(G179)),INDIRECT(VLOOKUP(G179,Bezüge!$B$6:$C$16,2,FALSE)&ROW(G179))))","v":""},null,null,null,"","","","","","","","","","","","","","","","","","","","","","",null,"","","","","","","","","","","","","","","","","","","","","",""]
[null,{"$f":"IF(Athletenliste!B180=\"\",\"\",Athletenliste!B180)","v":""},{"$f":"IF(Athletenliste!C180=\"\",\"\",Athletenliste!C180)","v":""},{"$f":"IF(Athletenliste!D180=\"\",\"\",Athletenliste!D180)","v":""},{"$f":"IF(Athletenliste!E180=\"\",\"\",Athletenliste!E180)","v":""},{"$f":"IF(Athletenliste!F180=\"\",\"\",Athletenliste!F180)","v":""},{"$f":"IF(Athletenliste!G180=\"\",\"\",Athletenliste!G180)","v":""},{"$f":"IF(Athletenliste!H180=\"\",\"\",Athletenliste!H180)","v":""},null,{"$f":"IF(B180=\"\",\"\",IF(D180=\"m\",INDIRECT(VLOOKUP(G180,Bezüge!$E$6:$F$16,2,FALSE)&ROW(G180)),INDIRECT(VLOOKUP(G180,Bezüge!$B$6:$C$16,2,FALSE)&ROW(G180))))","v":""},null,null,null,"","","","","","","","","","","","","","","","","","","","","","",null,"","","","","","","","","","","","","","","","","","","","","",""]
[null,{"$f":"IF(Athletenliste!B181=\"\",\"\",Athletenliste!B181)","v":""},{"$f":"IF(Athletenliste!C181=\"\",\"\",Athletenliste!C181)","v":""},{"$f":"IF(Athletenliste!D181=\"\",\"\",Athletenliste!D181)","v":""},{"$f":"IF(Athletenliste!E181=\"\",\"\",Athletenliste!E181)","v":""},{"$f":"IF(Athletenliste!F181=\"\",\"\",Athletenliste!F181)","v":""},{"$f":"IF(Athletenliste!G181=\"\",\"\",Athletenliste!G181)","v":""},{"$f":"IF(Athletenliste!H181=\"\",\"\",Athletenliste!H181)","v":""},null,{"$f":"IF(B181=\"\",\"\",IF(D181=\"m\",INDIRECT(VLOOKUP(G181,Bezüge!$E$6:$F$16,2,FALSE)&ROW(G181)),INDIRECT(VLOOKUP(G181,Bezüge!$B$6:$C$16,2,FALSE)&ROW(G181))))","v":""},null,null,null,"","","","","","","","","","","","","","","","","","","","","","",null,"","","","","","","","","","","","","","","","","","","","","",""]
[null,{"$f":"IF(Athletenliste!B182=\"\",\"\",Athletenliste!B182)","v":""},{"$f":"IF(Athletenliste!C182=\"\",\"\",Athletenliste!C182)","v":""},{"$f":"IF(Athletenliste!D182=\"\",\"\",Athletenliste!D182)","v":""},{"$f":"IF(Athletenliste!E182=\"\",\"\",Athletenliste!E182)","v":""},{"$f":"IF(Athletenliste!F182=\"\",\"\",Athletenliste!F182)","v":""},{"$f":"IF(Athletenliste!G182=\"\",\"\",Athletenliste!G182)","v":""},{"$f":"IF(Athletenliste!H182=\"\",\"\",Athletenliste!H182)","v":""},null,{"$f":"IF(B182=\"\",\"\",IF(D182=\"m\",INDIRECT(VLOOKUP(G182,Bezüge!$E$6:$F$16,2,FALSE)&ROW(G182)),INDIRECT(VLOOKUP(G182,Bezüge!$B$6:$C$16,2,FALSE)&ROW(G182))))","v":""},null,null,null,"","","","","","","","","","","","","","","","","","","","","","",null,"","","","","","","","","","","","","","","","","","","","","",""]
[null,{"$f":"IF(Athletenliste!B183=\"\",\"\",Athletenliste!B183)","v":""},{"$f":"IF(Athletenliste!C183=\"\",\"\",Athletenliste!C183)","v":""},{"$f":"IF(Athletenliste!D183=\"\",\"\",Athletenliste!D183)","v":""},{"$f":"IF(Athletenliste!E183=\"\",\"\",Athletenliste!E183)","v":""},{"$f":"IF(Athletenliste!F183=\"\",\"\",Athletenliste!F183)","v":""},{"$f":"IF(Athletenliste!G183=\"\",\"\",Athletenliste!G183)","v":""},{"$f":"IF(Athletenliste!H183=\"\",\"\",Athletenliste!H183)","v":""},null,{"$f":"IF(B183=\"\",\"\",IF(D183=\"m\",INDIRECT(VLOOKUP(G183,Bezüge!$E$6:$F$16,2,FALSE)&ROW(G183)),INDIRECT(VLOOKUP(G183,Bezüge!$B$6:$C$16,2,FALSE)&ROW(G183))))","v":""},null,null,null,"","","","","","","","","","","","","","","","","","","","","","",null,"","","","","","","","","","","","","","","","","","","","","",""]
[null,{"$f":"IF(Athletenliste!B184=\"\",\"\",Athletenliste!B184)","v":""},{"$f":"IF(Athletenliste!C184=\"\",\"\",Athletenliste!C184)","v":""},{"$f":"IF(Athletenliste!D184=\"\",\"\",Athletenliste!D184)","v":""},{"$f":"IF(Athletenliste!E184=\"\",\"\",Athletenliste!E184)","v":""},{"$f":"IF(Athletenliste!F184=\"\",\"\",Athletenliste!F184)","v":""},{"$f":"IF(Athletenliste!G184=\"\",\"\",Athletenliste!G184)","v":""},{"$f":"IF(Athletenliste!H184=\"\",\"\",Athletenliste!H184)","v":""},null,{"$f":"IF(B184=\"\",\"\",IF(D184=\"m\",INDIRECT(VLOOKUP(G184,Bezüge!$E$6:$F$16,2,FALSE)&ROW(G184)),INDIRECT(VLOOKUP(G184,Bezüge!$B$6:$C$16,2,FALSE)&ROW(G184))))","v":""},null,null,null,"","","","","","","","","","","","","","","","","","","","","","",null,"","","","","","","","","","","","","","","","","","","","","",""]
[null,{"$f":"IF(Athletenliste!B185=\"\",\"\",Athletenliste!B185)","v":""},{"$f":"IF(Athletenliste!C185=\"\",\"\",Athletenliste!C185)","v":""},{"$f":"IF(Athletenliste!D185=\"\",\"\",Athletenliste!D185)","v":""},{"$f":"IF(Athletenliste!E185=\"\",\"\",Athletenliste!E185)","v":""},{"$f":"IF(Athletenliste!F185=\"\",\"\",Athletenliste!F185)","v":""},{"$f":"IF(Athletenliste!G185=\"\",\"\",Athletenliste!G185)","v":""},{"$f":"IF(Athletenliste!H185=\"\",\"\",Athletenliste!H185)","v":""},null,{"$f":"IF(B185=\"\",\"\",IF(D185=\"m\",INDIRECT(VLOOKUP(G185,Bezüge!$E$6:$F$16,2,FALSE)&ROW(G185)),INDIRECT(VLOOKUP(G185,Bezüge!$B$6:$C$16,2,FALSE)&ROW(G185))))","v":""},null,null,null,"","","","","","","","","","","","","","","","","","","","","","",null,"","","","","","","","","","","","","","","","","","","","","",""]
[null,{"$f":"IF(Athletenliste!B186=\"\",\"\",Athletenliste!B186)","v":""},{"$f":"IF(Athletenliste!C186=\"\",\"\",Athletenliste!C186)","v":""},{"$f":"IF(Athletenliste!D186=\"\",\"\",Athletenliste!D186)","v":""},{"$f":"IF(Athletenliste!E186=\"\",\"\",Athletenliste!E186)","v":""},{"$f":"IF(Athletenliste!F186=\"\",\"\",Athletenliste!F186)","v":""},{"$f":"IF(Athletenliste!G186=\"\",\"\",Athletenliste!G186)","v":""},{"$f":"IF(Athletenliste!H186=\"\",\"\",Athletenliste!H186)","v":""},null,{"$f":"IF(B186=\"\",\"\",IF(D186=\"m\",INDIRECT(VLOOKUP(G186,Bezüge!$E$6:$F$16,2,FALSE)&ROW(G186)),INDIRECT(VLOOKUP(G186,Bezüge!$B$6:$C$16,2,FALSE)&ROW(G186))))","v":""},null,null,null,"","","","","","","","","","","","","","","","","","","","","","",null,"","","","","","","","","","","","","","","","","","","","","",""]
[null,{"$f":"IF(Athletenliste!B187=\"\",\"\",Athletenliste!B187)","v":""},{"$f":"IF(Athletenliste!C187=\"\",\"\",Athletenliste!C187)","v":""},{"$f":"IF(Athletenliste!D187=\"\",\"\",Athletenliste!D187)","v":""},{"$f":"IF(Athletenliste!E187=\"\",\"\",Athletenliste!E187)","v":""},{"$f":"IF(Athletenliste!F187=\"\",\"\",Athletenliste!F187)","v":""},{"$f":"IF(Athletenliste!G187=\"\",\"\",Athletenliste!G187)","v":""},{"$f":"IF(Athletenliste!H187=\"\",\"\",Athletenliste!H187)","v":""},null,{"$f":"IF(B187=\"\",\"\",IF(D187=\"m\",INDIRECT(VLOOKUP(G187,Bezüge!$E$6:$F$16,2,FALSE)&ROW(G187)),INDIRECT(VLOOKUP(G187,Bezüge!$B$6:$C$16,2,FALSE)&ROW(G187))))","v":""},null,null,null,"","","","","","","","","","","","","","","","","","","","","","",null,"","","","","","","","","","","","","","","","","","","","","",""]
[null,{"$f":"IF(Athletenliste!B188=\"\",\"\",Athletenliste!B188)","v":""},{"$f":"IF(Athletenliste!C188=\"\",\"\",Athletenliste!C188)","v":""},{"$f":"IF(Athletenliste!D188=\"\",\"\",Athletenliste!D188)","v":""},{"$f":"IF(Athletenliste!E188=\"\",\"\",Athletenliste!E188)","v":""},{"$f":"IF(Athletenliste!F188=\"\",\"\",Athletenliste!F188)","v":""},{"$f":"IF(Athletenliste!G188=\"\",\"\",Athletenliste!G188)","v":""},{"$f":"IF(Athletenliste!H188=\"\",\"\",Athletenliste!H188)","v":""},null,{"$f":"IF(B188=\"\",\"\",IF(D188=\"m\",INDIRECT(VLOOKUP(G188,Bezüge!$E$6:$F$16,2,FALSE)&ROW(G188)),INDIRECT(VLOOKUP(G188,Bezüge!$B$6:$C$16,2,FALSE)&ROW(G188))))","v":""},null,null,null,"","","","","","","","","","","","","","","","","","","","","","",null,"","","","","","","","","","","","","","","","","","","","","",""]
[null,{"$f":"IF(Athletenliste!B189=\"\",\"\",Athletenliste!B189)","v":""},{"$f":"IF(Athletenliste!C189=\"\",\"\",Athletenliste!C189)","v":""},{"$f":"IF(Athletenliste!D189=\"\",\"\",Athletenliste!D189)","v":""},{"$f":"IF(Athletenliste!E189=\"\",\"\",Athletenliste!E189)","v":""},{"$f":"IF(Athletenliste!F189=\"\",\"\",Athletenliste!F189)","v":""},{"$f":"IF(Athletenliste!G189=\"\",\"\",Athletenliste!G189)","v":""},{"$f":"IF(Athletenliste!H189=\"\",\"\",Athletenliste!H189)","v":""},null,{"$f":"IF(B189=\"\",\"\",IF(D189=\"m\",INDIRECT(VLOOKUP(G189,Bezüge!$E$6:$F$16,2,FALSE)&ROW(G189)),INDIRECT(VLOOKUP(G189,Bezüge!$B$6:$C$16,2,FALSE)&ROW(G189))))","v":""},null,null,null,"","","","","","","","","","","","","","","","","","","","","","",null,"","","","","","","","","","","","","","","","","","","","","",""]
[null,{"$f":"IF(Athletenliste!B190=\"\",\"\",Athletenliste!B190)","v":""},{"$f":"IF(Athletenliste!C190=\"\",\"\",Athletenliste!C190)","v":""},{"$f":"IF(Athletenliste!D190=\"\",\"\",Athletenliste!D190)","v":""},{"$f":"IF(Athletenliste!E190=\"\",\"\",Athletenliste!E190)","v":""},{"$f":"IF(Athletenliste!F190=\"\",\"\",Athletenliste!F190)","v":""},{"$f":"IF(Athletenliste!G190=\"\",\"\",Athletenliste!G190)","v":""},{"$f":"IF(Athletenliste!H190=\"\",\"\",Athletenliste!H190)","v":""},null,{"$f":"IF(B190=\"\",\"\",IF(D190=\"m\",INDIRECT(VLOOKUP(G190,Bezüge!$E$6:$F$16,2,FALSE)&ROW(G190)),INDIRECT(VLOOKUP(G190,Bezüge!$B$6:$C$16,2,FALSE)&ROW(G190))))","v":""},null,null,null,"","","","","","","","","","","","","","","","","","","","","","",null,"","","","","","","","","","","","","","","","","","","","","",""]
[null,{"$f":"IF(Athletenliste!B191=\"\",\"\",Athletenliste!B191)","v":""},{"$f":"IF(Athletenliste!C191=\"\",\"\",Athletenliste!C191)","v":""},{"$f":"IF(Athletenliste!D191=\"\",\"\",Athletenliste!D191)","v":""},{"$f":"IF(Athletenliste!E191=\"\",\"\",Athletenliste!E191)","v":""},{"$f":"IF(Athletenliste!F191=\"\",\"\",Athletenliste!F191)","v":""},{"$f":"IF(Athletenliste!G191=\"\",\"\",Athletenliste!G191)","v":""},{"$f":"IF(Athletenliste!H191=\"\",\"\",Athletenliste!H191)","v":""},null,{"$f":"IF(B191=\"\",\"\",IF(D191=\"m\",INDIRECT(VLOOKUP(G191,Bezüge!$E$6:$F$16,2,FALSE)&ROW(G191)),INDIRECT(VLOOKUP(G191,Bezüge!$B$6:$C$16,2,FALSE)&ROW(G191))))","v":""},null,null,null,"","","","","","","","","","","","","","","","","","","","","","",null,"","","","","","","","","","","","","","","","","","","","","",""]
[null,{"$f":"IF(Athletenliste!B192=\"\",\"\",Athletenliste!B192)","v":""},{"$f":"IF(Athletenliste!C192=\"\",\"\",Athletenliste!C192)","v":""},{"$f":"IF(Athletenliste!D192=\"\",\"\",Athletenliste!D192)","v":""},{"$f":"IF(Athletenliste!E192=\"\",\"\",Athletenliste!E192)","v":""},{"$f":"IF(Athletenliste!F192=\"\",\"\",Athletenliste!F192)","v":""},{"$f":"IF(Athletenliste!G192=\"\",\"\",Athletenliste!G192)","v":""},{"$f":"IF(Athletenliste!H192=\"\",\"\",Athletenliste!H192)","v":""},null,{"$f":"IF(B192=\"\",\"\",IF(D192=\"m\",INDIRECT(VLOOKUP(G192,Bezüge!$E$6:$F$16,2,FALSE)&ROW(G192)),INDIRECT(VLOOKUP(G192,Bezüge!$B$6:$C$16,2,FALSE)&ROW(G192))))","v":""},null,null,null,"","","","","","","","","","","","","","","","","","","","","","",null,"","","","","","","","","","","","","","","","","","","","","",""]
[null,{"$f":"IF(Athletenliste!B193=\"\",\"\",Athletenliste!B193)","v":""},{"$f":"IF(Athletenliste!C193=\"\",\"\",Athletenliste!C193)","v":""},{"$f":"IF(Athletenliste!D193=\"\",\"\",Athletenliste!D193)","v":""},{"$f":"IF(Athletenliste!E193=\"\",\"\",Athletenliste!E193)","v":""},{"$f":"IF(Athletenliste!F193=\"\",\"\",Athletenliste!F193)","v":""},{"$f":"IF(Athletenliste!G193=\"\",\"\",Athletenliste!G193)","v":""},{"$f":"IF(Athletenliste!H193=\"\",\"\",Athletenliste!H193)","v":""},null,{"$f":"IF(B193=\"\",\"\",IF(D193=\"m\",INDIRECT(VLOOKUP(G193,Bezüge!$E$6:$F$16,2,FALSE)&ROW(G193)),INDIRECT(VLOOKUP(G193,Bezüge!$B$6:$C$16,2,FALSE)&ROW(G193))))","v":""},null,null,null,"","","","","","","","","","","","","","","","","","","","","","",null,"","","","","","","","","","","","","","","","","","","","","",""]
[null,{"$f":"IF(Athletenliste!B194=\"\",\"\",Athletenliste!B194)","v":""},{"$f":"IF(Athletenliste!C194=\"\",\"\",Athletenliste!C194)","v":""},{"$f":"IF(Athletenliste!D194=\"\",\"\",Athletenliste!D194)","v":""},{"$f":"IF(Athletenliste!E194=\"\",\"\",Athletenliste!E194)","v":""},{"$f":"IF(Athletenliste!F194=\"\",\"\",Athletenliste!F194)","v":""},{"$f":"IF(Athletenliste!G194=\"\",\"\",Athletenliste!G194)","v":""},{"$f":"IF(Athletenliste!H194=\"\",\"\",Athletenliste!H194)","v":""},null,{"$f":"IF(B194=\"\",\"\",IF(D194=\"m\",INDIRECT(VLOOKUP(G194,Bezüge!$E$6:$F$16,2,FALSE)&ROW(G194)),INDIRECT(VLOOKUP(G194,Bezüge!$B$6:$C$16,2,FALSE)&ROW(G194))))","v":""},null,null,null,"","","","","","","","","","","","","","","","","","","","","","",null,"","","","","","","","","","","","","","","","","","","","","",""]
[null,{"$f":"IF(Athletenliste!B195=\"\",\"\",Athletenliste!B195)","v":""},{"$f":"IF(Athletenliste!C195=\"\",\"\",Athletenliste!C195)","v":""},{"$f":"IF(Athletenliste!D195=\"\",\"\",Athletenliste!D195)","v":""},{"$f":"IF(Athletenliste!E195=\"\",\"\",Athletenliste!E195)","v":""},{"$f":"IF(Athletenliste!F195=\"\",\"\",Athletenliste!F195)","v":""},{"$f":"IF(Athletenliste!G195=\"\",\"\",Athletenliste!G195)","v":""},{"$f":"IF(Athletenliste!H195=\"\",\"\",Athletenliste!H195)","v":""},null,{"$f":"IF(B195=\"\",\"\",IF(D195=\"m\",INDIRECT(VLOOKUP(G195,Bezüge!$E$6:$F$16,2,FALSE)&ROW(G195)),INDIRECT(VLOOKUP(G195,Bezüge!$B$6:$C$16,2,FALSE)&ROW(G195))))","v":""},null,null,null,"","","","","","","","","","","","","","","","","","","","","","",null,"","","","","","","","","","","","","","","","","","","","","",""]
[null,{"$f":"IF(Athletenliste!B196=\"\",\"\",Athletenliste!B196)","v":""},{"$f":"IF(Athletenliste!C196=\"\",\"\",Athletenliste!C196)","v":""},{"$f":"IF(Athletenliste!D196=\"\",\"\",Athletenliste!D196)","v":""},{"$f":"IF(Athletenliste!E196=\"\",\"\",Athletenliste!E196)","v":""},{"$f":"IF(Athletenliste!F196=\"\",\"\",Athletenliste!F196)","v":""},{"$f":"IF(Athletenliste!G196=\"\",\"\",Athletenliste!G196)","v":""},{"$f":"IF(Athletenliste!H196=\"\",\"\",Athletenliste!H196)","v":""},null,{"$f":"IF(B196=\"\",\"\",IF(D196=\"m\",INDIRECT(VLOOKUP(G196,Bezüge!$E$6:$F$16,2,FALSE)&ROW(G196)),INDIRECT(VLOOKUP(G196,Bezüge!$B$6:$C$16,2,FALSE)&ROW(G196))))","v":""},null,null,null,"","","","","","","","","","","","","","","","","","","","","","",null,"","","","","","","","","","","","","","","","","","","","","",""]
[null,{"$f":"IF(Athletenliste!B197=\"\",\"\",Athletenliste!B197)","v":""},{"$f":"IF(Athletenliste!C197=\"\",\"\",Athletenliste!C197)","v":""},{"$f":"IF(Athletenliste!D197=\"\",\"\",Athletenliste!D197)","v":""},{"$f":"IF(Athletenliste!E197=\"\",\"\",Athletenliste!E197)","v":""},{"$f":"IF(Athletenliste!F197=\"\",\"\",Athletenliste!F197)","v":""},{"$f":"IF(Athletenliste!G197=\"\",\"\",Athletenliste!G197)","v":""},{"$f":"IF(Athletenliste!H197=\"\",\"\",Athletenliste!H197)","v":""},null,{"$f":"IF(B197=\"\",\"\",IF(D197=\"m\",INDIRECT(VLOOKUP(G197,Bezüge!$E$6:$F$16,2,FALSE)&ROW(G197)),INDIRECT(VLOOKUP(G197,Bezüge!$B$6:$C$16,2,FALSE)&ROW(G197))))","v":""},null,null,null,"","","","","","","","","","","","","","","","","","","","","","",null,"","","","","","","","","","","","","","","","","","","","","",""]
[null,{"$f":"IF(Athletenliste!B198=\"\",\"\",Athletenliste!B198)","v":""},{"$f":"IF(Athletenliste!C198=\"\",\"\",Athletenliste!C198)","v":""},{"$f":"IF(Athletenliste!D198=\"\",\"\",Athletenliste!D198)","v":""},{"$f":"IF(Athletenliste!E198=\"\",\"\",Athletenliste!E198)","v":""},{"$f":"IF(Athletenliste!F198=\"\",\"\",Athletenliste!F198)","v":""},{"$f":"IF(Athletenliste!G198=\"\",\"\",Athletenliste!G198)","v":""},{"$f":"IF(Athletenliste!H198=\"\",\"\",Athletenliste!H198)","v":""},null,{"$f":"IF(B198=\"\",\"\",IF(D198=\"m\",INDIRECT(VLOOKUP(G198,Bezüge!$E$6:$F$16,2,FALSE)&ROW(G198)),INDIRECT(VLOOKUP(G198,Bezüge!$B$6:$C$16,2,FALSE)&ROW(G198))))","v":""},null,null,null,"","","","","","","","","","","","","","","","","","","","","","",null,"","","","","","","","","","","","","","","","","","","","","",""]
[null,{"$f":"IF(Athletenliste!B199=\"\",\"\",Athletenliste!B199)","v":""},{"$f":"IF(Athletenliste!C199=\"\",\"\",Athletenliste!C199)","v":""},{"$f":"IF(Athletenliste!D199=\"\",\"\",Athletenliste!D199)","v":""},{"$f":"IF(Athletenliste!E199=\"\",\"\",Athletenliste!E199)","v":""},{"$f":"IF(Athletenliste!F199=\"\",\"\",Athletenliste!F199)","v":""},{"$f":"IF(Athletenliste!G199=\"\",\"\",Athletenliste!G199)","v":""},{"$f":"IF(Athletenliste!H199=\"\",\"\",Athletenliste!H199)","v":""},null,{"$f":"IF(B199=\"\",\"\",IF(D199=\"m\",INDIRECT(VLOOKUP(G199,Bezüge!$E$6:$F$16,2,FALSE)&ROW(G199)),INDIRECT(VLOOKUP(G199,Bezüge!$B$6:$C$16,2,FALSE)&ROW(G199))))","v":""},null,null,null,"","","","","","","","","","","","","","","","","","","","","","",null,"","","","","","","","","","","","","","","","","","","","","",""]
[null,{"$f":"IF(Athletenliste!B200=\"\",\"\",Athletenliste!B200)","v":""},{"$f":"IF(Athletenliste!C200=\"\",\"\",Athletenliste!C200)","v":""},{"$f":"IF(Athletenliste!D200=\"\",\"\",Athletenliste!D200)","v":""},{"$f":"IF(Athletenliste!E200=\"\",\"\",Athletenliste!E200)","v":""},{"$f":"IF(Athletenliste!F200=\"\",\"\",Athletenliste!F200)","v":""},{"$f":"IF(Athletenliste!G200=\"\",\"\",Athletenliste!G200)","v":""},{"$f":"IF(Athletenliste!H200=\"\",\"\",Athletenliste!H200)","v":""},null,{"$f":"IF(B200=\"\",\"\",IF(D200=\"m\",INDIRECT(VLOOKUP(G200,Bezüge!$E$6:$F$16,2,FALSE)&ROW(G200)),INDIRECT(VLOOKUP(G200,Bezüge!$B$6:$C$16,2,FALSE)&ROW(G200))))","v":""},null,null,null,"","","","","","","","","","","","","","","","","","","","","","",null,"","","","","","","","","","","","","","","","","","","","","",""]
[null,{"$f":"IF(Athletenliste!B201=\"\",\"\",Athletenliste!B201)","v":""},{"$f":"IF(Athletenliste!C201=\"\",\"\",Athletenliste!C201)","v":""},{"$f":"IF(Athletenliste!D201=\"\",\"\",Athletenliste!D201)","v":""},{"$f":"IF(Athletenliste!E201=\"\",\"\",Athletenliste!E201)","v":""},{"$f":"IF(Athletenliste!F201=\"\",\"\",Athletenliste!F201)","v":""},{"$f":"IF(Athletenliste!G201=\"\",\"\",Athletenliste!G201)","v":""},{"$f":"IF(Athletenliste!H201=\"\",\"\",Athletenliste!H201)","v":""},null,null,null,null,null,"","","","","","","","","","","","","","","","","","","","","","",null,"","","","","","","","","","","","","","","","","","","","","",""]
[null,{"$f":"IF(Athletenliste!B202=\"\",\"\",Athletenliste!B202)","v":""},{"$f":"IF(Athletenliste!C202=\"\",\"\",Athletenliste!C202)","v":""},{"$f":"IF(Athletenliste!D202=\"\",\"\",Athletenliste!D202)","v":""},{"$f":"IF(Athletenliste!E202=\"\",\"\",Athletenliste!E202)","v":""},{"$f":"IF(Athletenliste!F202=\"\",\"\",Athletenliste!F202)","v":""},{"$f":"IF(Athletenliste!G202=\"\",\"\",Athletenliste!G202)","v":""},{"$f":"IF(Athletenliste!H202=\"\",\"\",Athletenliste!H202)","v":""},null,null,null,null,null,"","","","","","","","","","","","","","","","","","","","","","",null,"","","","","","","","","","","","","","","","","","","","","",""]

{"sheet":"1000m","index":9,"n_rows":202,"n_cols":58,"rows_kept":202,"cut":false,"hidden":false,"merged":[[3,2,3,3],[6,13,6,34],[6,36,6,57]]}
[]
[null,"SKILANGLAUF - DEUTSCHLAND - ATHLETIK - CHALLENGE"]
[]
[null,"Ort:",{"$f":"Athletenliste!C4","v":"Leipzig"},null,"Datum:",{"$f":"Gesamtliste!F4","v":"2021-05-18"}]
[]
[null,"1000m"]
[null,"Name","Vorname","Geschlecht","Jahrgang","Testdatum","AK","LV","1000 m","Rang in AK",null,null,null,"männlich",null,null,null,null,null,null,null,null,null,null,null,null,null,null,null,null,null,null,null,null,null,null,"Weiblich"]
[null,null,null,null,null,null,null,null,"[0:00,0 min]",null,null,null,null,"U06  ","Ra","U07 ","Ra","U08 ","Ra","U09 ","Ra","U10 ","Ra","U11 ","Ra","U12 ","Ra","U13 ","Ra","U14 ","Ra","U15 ","Ra","U16 ","Ra",null,"U06  ","Ra","U07 ","Ra","U08 ","Ra","U09 ","Ra","U10 ","Ra","U11 ","Ra","U12 ","Ra","U13 ","Ra","U14 ","Ra","U15 ","Ra","U16 ","Ra"]
[]
[null,{"$f":"IF(Athletenliste!B10=\"\",\"\",Athletenliste!B10)","v":""},{"$f":"IF(Athletenliste!C10=\"\",\"\",Athletenliste!C10)","v":""},{"$f":"IF(Athletenliste!D10=\"\",\"\",Athletenliste!D10)","v":""},{"$f":"IF(Athletenliste!E10=\"\",\"\",Athletenliste!E10)","v":""},{"$f":"IF(Athletenliste!F10=\"\",\"\",Athletenliste!F10)","v":""},{"$f":"IF(Athletenliste!G10=\"\",\"\",Athletenliste!G10)","v":""},{"$f":"IF(Athletenliste!H10=\"\",\"\",Athletenliste!H10)","v":""},null,{"$f":"IF(B10=\"\",\"\",IF(D10=\"m\",INDIRECT(VLOOKUP(G10,Bezüge!$E$6:$F$16,2,FALSE)&ROW(G10)),INDIRECT(VLOOKUP(G10,Bezüge!$B$6:$C$16,2,FALSE)&ROW(G10))))","v":""},null,null,null,{"$f":"IF(AND(D10=\"m\",G10=\"U06\",I10<>\"\"),I10,\"\")","v":""},{"$f":"IF(OR(I10=\"\",N10=\"\"),\"\",_xlfn.RANK.EQ(N10,N$10:N$200,1))","v":""},{"$f":"IF(AND(D10=\"m\",G10=\"U07\",I10<>\"\"),I10,\"\")","v":""},{"$f":"IF(OR(I10=\"\",P10=\"\"),\"\",_xlfn.RANK.EQ(P10,P$10:P$200,1))","v":""},{"$f":"IF(AND(D10=\"m\",G10=\"U08\",I10<>\"\"),I10,\"\")","v":""},{"$f":"IF(OR(I10=\"\",R10=\"\"),\"\",_xlfn.RANK.EQ(R10,R$10:R$200,1))","v":""},{"$f":"IF(AND(D10=\"m\",G10=\"U09\",I10<>\"\"),I10,\"\")","v":""},{"$f":"IF(OR(I10=\"\",T10=\"\"),\"\",_xlfn.RANK.EQ(T10,T$10:T$200,1))","v":""},{"$f":"IF(AND(D10=\"m\",G10=\"U10\",I10<>\"\"),I10,\"\")","v":""},{"$f":"IF(OR(I10=\"\",V10=\"\"),\"\",_xlfn.RANK.EQ(V10,V$10:V$200,1))","v":""},{"$f":"IF(AND(D10=\"m\",G10=\"U11\",I10<>\"\"),I10,\"\")","v":""},{"$f":"IF(OR(I10=\"\",X10=\"\"),\"\",_xlfn.RANK.EQ(X10,X$10:X$200,1))","v":""},{"$f":"IF(AND(D10=\"m\",G10=\"U12\",I10<>\"\"),I10,\"\")","v":""},{"$f":"IF(OR(I10=\"\",Z10=\"\"),\"\",_xlfn.RANK.EQ(Z10,Z$10:Z$200,1))","v":""},{"$f":"IF(AND(D10=\"m\",G10=\"U13\",I10<>\"\"),I10,\"\")","v":""},{"$f":"IF(OR(I10=\"\",AB10=\"\"),\"\",_xlfn.RANK.EQ(AB10,AB$10:AB$200,1))","v":""},{"$f":"IF(AND(D10=\"m\",G10=\"U14\",I10<>\"\"),I10,\"\")","v":""},{"$f":"IF(OR(I10=\"\",AD10=\"\"),\"\",_xlfn.RANK.EQ(AD10,AD$10:AD$200,1))","v":""},{"$f":"IF(AND(D10=\"m\",G10=\"U15\",I10<>\"\"),I10,\"\")","v":""},{"$f":"IF(OR(I10=\"\",AF10=\"\"),\"\",_xlfn.RANK.EQ(AF10,AF$10:AF$200,1))","v":""},{"$f":"IF(AND(D10=\"m\",G10=\"U16\",I10<>\"\"),I10,\"\")","v":""},{"$f":"IF(OR(I10=\"\",AH10=\"\"),\"\",_xlfn.RANK.EQ(AH10,AH$10:AH$200,1))","v":""},null,{"$f":"IF(AND(D10=\"w\",G10=\"U06\",I10<>\"\"),I10,\"\")","v":""},{"$f":"IF(OR(I10=\"\",AI10=\"\"),\"\",_xlfn.RANK.EQ(AI10,AI$10:AI$200,1))","v":""},{"$f":"IF(AND(D10=\"w\",G10=\"U07\",I10<>\"\"),I10,\"\")","v":""},{"$f":"IF(OR(I10=\"\",AM10=\"\"),\"\",_xlfn.RANK.EQ(AM10,AM$10:AM$20,1))","v":""},{"$f":"IF(AND(D10=\"w\",G10=\"U08\",I10<>\"\"),I10,\"\")","v":""},{"$f":"IF(OR(I10=\"\",AO10=\"\"),\"\",_xlfn.RANK.EQ(AO10,AO$10:AO$200,0))","v":""},{"$f":"IF(AND(D10=\"w\",G10=\"U09\",I10<>\"\"),I10,\"\")","v":""},{"$f":"IF(OR(I10=\"\",AQ10=\"\"),\"\",_xlfn.RANK.EQ(AQ10,AQ$10:AQ$200,1))","v":""},{"$f":"IF(AND(D10=\"w\",G10=\"U10\",I10<>\"\"),I10,\"\")","v":""},{"$f":"IF(OR(I10=\"\",AS10=\"\"),\"\",_xlfn.RANK.EQ(AS10,AS$10:AS$200,1))","v":""},{"$f":"IF(AND(D10=\"w\",G10=\"U11\",I10<>\"\"),I10,\"\")","v":""},{"$f":"IF(OR(I10=\"\",AU10=\"\"),\"\",_xlfn.RANK.EQ(AU10,AU$10:AU$200,1))","v":""},{"$f":"IF(AND(D10=\"w\",G10=\"U12\",I10<>\"\"),I10,\"\")","v":""},{"$f":"IF(OR(I10=\"\",AW10=\"\"),\"\",_xlfn.RANK.EQ(AW10,AW$10:AW$200,1))","v":""},{"$f":"IF(AND(D10=\"w\",G10=\"U13\",I10<>\"\"),I10,\"\")","v":""},{"$f":"IF(OR(I10=\"\",AY10=\"\"),\"\",_xlfn.RANK.EQ(AY10,AY$10:AY$200,1))","v":""},{"$f":"IF(AND(D10=\"w\",G10=\"U14\",I10<>\"\"),I10,\"\")","v":""},{"$f":"IF(OR(I10=\"\",BA10=\"\"),\"\",_xlfn.RANK.EQ(BA10,BA$10:BA$200,1))","v":""},{"$f":"IF(AND(D10=\"w\",G10=\"U15\",I10<>\"\"),I10,\"\")","v":""},{"$f":"IF(OR(I10=\"\",BC10=\"\"),\"\",_xlfn.RANK.EQ(BC10,BC$10:BC$200,1))","v":""},{"$f":"IF(AND(D10=\"w\",G10=\"U16\",I10<>\"\"),I10,\"\")","v":""},{"$f":"IF(OR(I10=\"\",BE10=\"\"),\"\",_xlfn.RANK.EQ(BE10,BE$10:BE$200,1))","v":""}]
[null,{"$f":"IF(Athletenliste!B11=\"\",\"\",Athletenliste!B11)","v":""},{"$f":"IF(Athletenliste!C11=\"\",\"\",Athletenliste!C11)","v":""},{"$f":"IF(Athletenliste!D11=\"\",\"\",Athletenliste!D11)","v":""},{"$f":"IF(Athletenliste!E11=\"\",\"\",Athletenliste!E11)","v":""},{"$f":"IF(Athletenliste!F11=\"\",\"\",Athletenliste!F11)","v":""},{"$f":"IF(Athletenliste!G11=\"\",\"\",Athletenliste!G11)","v":""},{"$f":"IF(Athletenliste!H11=\"\",\"\",Athletenliste!H11)","v":""},null,{"$f":"IF(B11=\"\",\"\",IF(D11=\"m\",INDIRECT(VLOOKUP(G11,Bezüge!$E$6:$F$16,2,FALSE)&ROW(G11)),INDIRECT(VLOOKUP(G11,Bezüge!$B$6:$C$16,2,FALSE)&ROW(G11))))","v":""},null,null,null,{"$f":"IF(AND(D11=\"m\",G11=\"U06\",I11<>\"\"),I11,\"\")","v":""},{"$f":"IF(OR(I11=\"\",N11=\"\"),\"\",_xlfn.RANK.EQ(N11,N$10:N$200,1))","v":""},{"$f":"IF(AND(D11=\"m\",G11=\"U07\",I11<>\"\"),I11,\"\")","v":""},{"$f":"IF(OR(I11=\"\",P11=\"\"),\"\",_xlfn.RANK.EQ(P11,P$10:P$200,1))","v":""},{"$f":"IF(AND(D11=\"m\",G11=\"U08\",I11<>\"\"),I11,\"\")","v":""},{"$f":"IF(OR(I11=\"\",R11=\"\"),\"\",_xlfn.RANK.EQ(R11,R$10:R$200,1))","v":""},{"$f":"IF(AND(D11=\"m\",G11=\"U09\",I11<>\"\"),I11,\"\")","v":""},{"$f":"IF(OR(I11=\"\",T11=\"\"),\"\",_xlfn.RANK.EQ(T11,T$10:T$200,1))","v":""},{"$f":"IF(AND(D11=\"m\",G11=\"U10\",I11<>\"\"),I11,\"\")","v":""},{"$f":"IF(OR(I11=\"\",V11=\"\"),\"\",_xlfn.RANK.EQ(V11,V$10:V$200,1))","v":""},{"$f":"IF(AND(D11=\"m\",G11=\"U11\",I11<>\"\"),I11,\"\")","v":""},{"$f":"IF(OR(I11=\"\",X11=\"\"),\"\",_xlfn.RANK.EQ(X11,X$10:X$200,1))","v":""},{"$f":"IF(AND(D11=\"m\",G11=\"U12\",I11<>\"\"),I11,\"\")","v":""},{"$f":"IF(OR(I11=\"\",Z11=\"\"),\"\",_xlfn.RANK.EQ(Z11,Z$10:Z$200,1))","v":""},{"$f":"IF(AND(D11=\"m\",G11=\"U13\",I11<>\"\"),I11,\"\")","v":""},{"$f":"IF(OR(I11=\"\",AB11=\"\"),\"\",_xlfn.RANK.EQ(AB11,AB$10:AB$200,1))","v":""},{"$f":"IF(AND(D11=\"m\",G11=\"U14\",I11<>\"\"),I11,\"\")","v":""},{"$f":"IF(OR(I11=\"\",AD11=\"\"),\"\",_xlfn.RANK.EQ(AD11,AD$10:AD$200,1))","v":""},{"$f":"IF(AND(D11=\"m\",G11=\"U15\",I11<>\"\"),I11,\"\")","v":""},{"$f":"IF(OR(I11=\"\",AF11=\"\"),\"\",_xlfn.RANK.EQ(AF11,AF$10:AF$200,1))","v":""},{"$f":"IF(AND(D11=\"m\",G11=\"U16\",I11<>\"\"),I11,\"\")","v":""},{"$f":"IF(OR(I11=\"\",AH11=\"\"),\"\",_xlfn.RANK.EQ(AH11,AH$10:AH$200,1))","v":""},null,{"$f":"IF(AND(D11=\"w\",G11=\"U06\",I11<>\"\"),I11,\"\")","v":""},{"$f":"IF(OR(I11=\"\",AI11=\"\"),\"\",_xlfn.RANK.EQ(AI11,AI$10:AI$200,1))","v":""},{"$f":"IF(AND(D11=\"w\",G11=\"U07\",I11<>\"\"),I11,\"\")","v":""},{"$f":"IF(OR(I11=\"\",AM11=\"\"),\"\",_xlfn.RANK.EQ(AM11,AM$10:AM$20,1))","v":""},{"$f":"IF(AND(D11=\"w\",G11=\"U08\",I11<>\"\"),I11,\"\")","v":""},{"$f":"IF(OR(I11=\"\",AO11=\"\"),\"\",_xlfn.RANK.EQ(AO11,AO$10:AO$200,0))","v":""},{"$f":"IF(AND(D11=\"w\",G11=\"U09\",I11<>\"\"),I11,\"\")","v":""},{"$f":"IF(OR(I11=\"\",AQ11=\"\"),\"\",_xlfn.RANK.EQ(AQ11,AQ$10:AQ$200,1))","v":""},{"$f":"IF(AND(D11=\"w\",G11=\"U10\",I11<>\"\"),I11,\"\")","v":""},{"$f":"IF(OR(I11=\"\",AS11=\"\"),\"\",_xlfn.RANK.EQ(AS11,AS$10:AS$200,1))","v":""},{"$f":"IF(AND(D11=\"w\",G11=\"U11\",I11<>\"\"),I11,\"\")","v":""},{"$f":"IF(OR(I11=\"\",AU11=\"\"),\"\",_xlfn.RANK.EQ(AU11,AU$10:AU$200,1))","v":""},{"$f":"IF(AND(D11=\"w\",G11=\"U12\",I11<>\"\"),I11,\"\")","v":""},{"$f":"IF(OR(I11=\"\",AW11=\"\"),\"\",_xlfn.RANK.EQ(AW11,AW$10:AW$200,1))","v":""},{"$f":"IF(AND(D11=\"w\",G11=\"U13\",I11<>\"\"),I11,\"\")","v":""},{"$f":"IF(OR(I11=\"\",AY11=\"\"),\"\",_xlfn.RANK.EQ(AY11,AY$10:AY$200,1))","v":""},{"$f":"IF(AND(D11=\"w\",G11=\"U14\",I11<>\"\"),I11,\"\")","v":""},{"$f":"IF(OR(I11=\"\",BA11=\"\"),\"\",_xlfn.RANK.EQ(BA11,BA$10:BA$200,1))","v":""},{"$f":"IF(AND(D11=\"w\",G11=\"U15\",I11<>\"\"),I11,\"\")","v":""},{"$f":"IF(OR(I11=\"\",BC11=\"\"),\"\",_xlfn.RANK.EQ(BC11,BC$10:BC$200,1))","v":""},{"$f":"IF(AND(D11=\"w\",G11=\"U16\",I11<>\"\"),I11,\"\")","v":""},{"$f":"IF(OR(I11=\"\",BE11=\"\"),\"\",_xlfn.RANK.EQ(BE11,BE$10:BE$200,1))","v":""}]
[null,{"$f":"IF(Athletenliste!B12=\"\",\"\",Athletenliste!B12)","v":""},{"$f":"IF(Athletenliste!C12=\"\",\"\",Athletenliste!C12)","v":""},{"$f":"IF(Athletenliste!D12=\"\",\"\",Athletenliste!D12)","v":""},{"$f":"IF(Athletenliste!E12=\"\",\"\",Athletenliste!E12)","v":""},{"$f":"IF(Athletenliste!F12=\"\",\"\",Athletenliste!F12)","v":""},{"$f":"IF(Athletenliste!G12=\"\",\"\",Athletenliste!G12)","v":""},{"$f":"IF(Athletenliste!H12=\"\",\"\",Athletenliste!H12)","v":""},null,{"$f":"IF(B12=\"\",\"\",IF(D12=\"m\",INDIRECT(VLOOKUP(G12,Bezüge!$E$6:$F$16,2,FALSE)&ROW(G12)),INDIRECT(VLOOKUP(G12,Bezüge!$B$6:$C$16,2,FALSE)&ROW(G12))))","v":""},null,null,null,"","","","","","","","","","","","","","","","","","","","","","",null,"","","","","","","","","","","","","","","","","","","","","",""]
[null,{"$f":"IF(Athletenliste!B13=\"\",\"\",Athletenliste!B13)","v":""},{"$f":"IF(Athletenliste!C13=\"\",\"\",Athletenliste!C13)","v":""},{"$f":"IF(Athletenliste!D13=\"\",\"\",Athletenliste!D13)","v":""},{"$f":"IF(Athletenliste!E13=\"\",\"\",Athletenliste!E13)","v":""},{"$f":"IF(Athletenliste!F13=\"\",\"\",Athletenliste!F13)","v":""},{"$f":"IF(Athletenliste!G13=\"\",\"\",Athletenliste!G13)","v":""},{"$f":"IF(Athletenliste!H13=\"\",\"\",Athletenliste!H13)","v":""},null,{"$f":"IF(B13=\"\",\"\",IF(D13=\"m\",INDIRECT(VLOOKUP(G13,Bezüge!$E$6:$F$16,2,FALSE)&ROW(G13)),INDIRECT(VLOOKUP(G13,Bezüge!$B$6:$C$16,2,FALSE)&ROW(G13))))","v":""},null,null,null,"","","","","","","","","","","","","","","","","","","","","","",null,"","","","","","","","","","","","","","","","","","","","","",""]
[null,{"$f":"IF(Athletenliste!B14=\"\",\"\",Athletenliste!B14)","v":""},{"$f":"IF(Athletenliste!C14=\"\",\"\",Athletenliste!C14)","v":""},{"$f":"IF(Athletenliste!D14=\"\",\"\",Athletenliste!D14)","v":""},{"$f":"IF(Athletenliste!E14=\"\",\"\",Athletenliste!E14)","v":""},{"$f":"IF(Athletenliste!F14=\"\",\"\",Athletenliste!F14)","v":""},{"$f":"IF(Athletenliste!G14=\"\",\"\",Athletenliste!G14)","v":""},{"$f":"IF(Athletenliste!H14=\"\",\"\",Athletenliste!H14)","v":""},null,{"$f":"IF(B14=\"\",\"\",IF(D14=\"m\",INDIRECT(VLOOKUP(G14,Bezüge!$E$6:$F$16,2,FALSE)&ROW(G14)),INDIRECT(VLOOKUP(G14,Bezüge!$B$6:$C$16,2,FALSE)&ROW(G14))))","v":""},null,null,null,"","","","","","","","","","","","","","","","","","","","","","",null,"","","","","","","","","","","","","","","","","","","","","",""]
[null,{"$f":"IF(Athletenliste!B15=\"\",\"\",Athletenliste!B15)","v":""},{"$f":"IF(Athletenliste!C15=\"\",\"\",Athletenliste!C15)","v":""},{"$f":"IF(Athletenliste!D15=\"\",\"\",Athletenliste!D15)","v":""},{"$f":"IF(Athletenliste!E15=\"\",\"\",Athletenliste!E15)","v":""},{"$f":"IF(Athletenliste!F15=\"\",\"\",Athletenliste!F15)","v":""},{"$f":"IF(Athletenliste!G15=\"\",\"\",Athletenliste!G15)","v":""},{"$f":"IF(Athletenliste!H15=\"\",\"\",Athletenliste!H15)","v":""},null,{"$f":"IF(B15=\"\",\"\",IF(D15=\"m\",INDIRECT(VLOOKUP(G15,Bezüge!$E$6:$F$16,2,FALSE)&ROW(G15)),INDIRECT(VLOOKUP(G15,Bezüge!$B$6:$C$16,2,FALSE)&ROW(G15))))","v":""},null,null,null,"","","","","","","","","","","","","","","","","","","","","","",null,"","","","","","","","","","","","","","","","","","","","","",""]
[null,{"$f":"IF(Athletenliste!B16=\"\",\"\",Athletenliste!B16)","v":""},{"$f":"IF(Athletenliste!C16=\"\",\"\",Athletenliste!C16)","v":""},{"$f":"IF(Athletenliste!D16=\"\",\"\",Athletenliste!D16)","v":""},{"$f":"IF(Athletenliste!E16=\"\",\"\",Athletenliste!E16)","v":""},{"$f":"IF(Athletenliste!F16=\"\",\"\",Athletenliste!F16)","v":""},{"$f":"IF(Athletenliste!G16=\"\",\"\",Athletenliste!G16)","v":""},{"$f":"IF(Athletenliste!H16=\"\",\"\",Athletenliste!H16)","v":""},null,{"$f":"IF(B16=\"\",\"\",IF(D16=\"m\",INDIRECT(VLOOKUP(G16,Bezüge!$E$6:$F$16,2,FALSE)&ROW(G16)),INDIRECT(VLOOKUP(G16,Bezüge!$B$6:$C$16,2,FALSE)&ROW(G16))))","v":""},null,null,null,"","","","","","","","","","","","","","","","","","","","","","",null,"","","","","","","","","","","","","","","","","","","","","",""]
[null,{"$f":"IF(Athletenliste!B17=\"\",\"\",Athletenliste!B17)","v":""},{"$f":"IF(Athletenliste!C17=\"\",\"\",Athletenliste!C17)","v":""},{"$f":"IF(Athletenliste!D17=\"\",\"\",Athletenliste!D17)","v":""},{"$f":"IF(Athletenliste!E17=\"\",\"\",Athletenliste!E17)","v":""},{"$f":"IF(Athletenliste!F17=\"\",\"\",Athletenliste!F17)","v":""},{"$f":"IF(Athletenliste!G17=\"\",\"\",Athletenliste!G17)","v":""},{"$f":"IF(Athletenliste!H17=\"\",\"\",Athletenliste!H17)","v":""},null,{"$f":"IF(B17=\"\",\"\",IF(D17=\"m\",INDIRECT(VLOOKUP(G17,Bezüge!$E$6:$F$16,2,FALSE)&ROW(G17)),INDIRECT(VLOOKUP(G17,Bezüge!$B$6:$C$16,2,FALSE)&ROW(G17))))","v":""},null,null,null,"","","","","","","","","","","","","","","","","","","","","","",null,"","","","","","","","","","","","","","","","","","","","","",""]
[null,{"$f":"IF(Athletenliste!B18=\"\",\"\",Athletenliste!B18)","v":""},{"$f":"IF(Athletenliste!C18=\"\",\"\",Athletenliste!C18)","v":""},{"$f":"IF(Athletenliste!D18=\"\",\"\",Athletenliste!D18)","v":""},{"$f":"IF(Athletenliste!E18=\"\",\"\",Athletenliste!E18)","v":""},{"$f":"IF(Athletenliste!F18=\"\",\"\",Athletenliste!F18)","v":""},{"$f":"IF(Athletenliste!G18=\"\",\"\",Athletenliste!G18)","v":""},{"$f":"IF(Athletenliste!H18=\"\",\"\",Athletenliste!H18)","v":""},null,{"$f":"IF(B18=\"\",\"\",IF(D18=\"m\",INDIRECT(VLOOKUP(G18,Bezüge!$E$6:$F$16,2,FALSE)&ROW(G18)),INDIRECT(VLOOKUP(G18,Bezüge!$B$6:$C$16,2,FALSE)&ROW(G18))))","v":""},null,null,null,"","","","","","","","","","","","","","","","","","","","","","",null,"","","","","","","","","","","","","","","","","","","","","",""]
[null,{"$f":"IF(Athletenliste!B19=\"\",\"\",Athletenliste!B19)","v":""},{"$f":"IF(Athletenliste!C19=\"\",\"\",Athletenliste!C19)","v":""},{"$f":"IF(Athletenliste!D19=\"\",\"\",Athletenliste!D19)","v":""},{"$f":"IF(Athletenliste!E19=\"\",\"\",Athletenliste!E19)","v":""},{"$f":"IF(Athletenliste!F19=\"\",\"\",Athletenliste!F19)","v":""},{"$f":"IF(Athletenliste!G19=\"\",\"\",Athletenliste!G19)","v":""},{"$f":"IF(Athletenliste!H19=\"\",\"\",Athletenliste!H19)","v":""},null,{"$f":"IF(B19=\"\",\"\",IF(D19=\"m\",INDIRECT(VLOOKUP(G19,Bezüge!$E$6:$F$16,2,FALSE)&ROW(G19)),INDIRECT(VLOOKUP(G19,Bezüge!$B$6:$C$16,2,FALSE)&ROW(G19))))","v":""},null,null,null,"","","","","","","","","","","","","","","","","","","","","","",null,"","","","","","","","","","","","","","","","","","","","","",""]
[null,{"$f":"IF(Athletenliste!B20=\"\",\"\",Athletenliste!B20)","v":""},{"$f":"IF(Athletenliste!C20=\"\",\"\",Athletenliste!C20)","v":""},{"$f":"IF(Athletenliste!D20=\"\",\"\",Athletenliste!D20)","v":""},{"$f":"IF(Athletenliste!E20=\"\",\"\",Athletenliste!E20)","v":""},{"$f":"IF(Athletenliste!F20=\"\",\"\",Athletenliste!F20)","v":""},{"$f":"IF(Athletenliste!G20=\"\",\"\",Athletenliste!G20)","v":""},{"$f":"IF(Athletenliste!H20=\"\",\"\",Athletenliste!H20)","v":""},null,{"$f":"IF(B20=\"\",\"\",IF(D20=\"m\",INDIRECT(VLOOKUP(G20,Bezüge!$E$6:$F$16,2,FALSE)&ROW(G20)),INDIRECT(VLOOKUP(G20,Bezüge!$B$6:$C$16,2,FALSE)&ROW(G20))))","v":""},null,null,null,"","","","","","","","","","","","","","","","","","","","","","",null,"","","","","","","","","","","","","","","","","","","","","",""]
[null,{"$f":"IF(Athletenliste!B21=\"\",\"\",Athletenliste!B21)","v":""},{"$f":"IF(Athletenliste!C21=\"\",\"\",Athletenliste!C21)","v":""},{"$f":"IF(Athletenliste!D21=\"\",\"\",Athletenliste!D21)","v":""},{"$f":"IF(Athletenliste!E21=\"\",\"\",Athletenliste!E21)","v":""},{"$f":"IF(Athletenliste!F21=\"\",\"\",Athletenliste!F21)","v":""},{"$f":"IF(Athletenliste!G21=\"\",\"\",Athletenliste!G21)","v":""},{"$f":"IF(Athletenliste!H21=\"\",\"\",Athletenliste!H21)","v":""},null,{"$f":"IF(B21=\"\",\"\",IF(D21=\"m\",INDIRECT(VLOOKUP(G21,Bezüge!$E$6:$F$16,2,FALSE)&ROW(G21)),INDIRECT(VLOOKUP(G21,Bezüge!$B$6:$C$16,2,FALSE)&ROW(G21))))","v":""},null,null,null,"","","","","","","","","","","","","","","","","","","","","","",null,"","","","","","","","","","","","","","","","","","","","","",""]
[null,{"$f":"IF(Athletenliste!B22=\"\",\"\",Athletenliste!B22)","v":""},{"$f":"IF(Athletenliste!C22=\"\",\"\",Athletenliste!C22)","v":""},{"$f":"IF(Athletenliste!D22=\"\",\"\",Athletenliste!D22)","v":""},{"$f":"IF(Athletenliste!E22=\"\",\"\",Athletenliste!E22)","v":""},{"$f":"IF(Athletenliste!F22=\"\",\"\",Athletenliste!F22)","v":""},{"$f":"IF(Athletenliste!G22=\"\",\"\",Athletenliste!G22)","v":""},{"$f":"IF(Athletenliste!H22=\"\",\"\",Athletenliste!H22)","v":""},null,{"$f":"IF(B22=\"\",\"\",IF(D22=\"m\",INDIRECT(VLOOKUP(G22,Bezüge!$E$6:$F$16,2,FALSE)&ROW(G22)),INDIRECT(VLOOKUP(G22,Bezüge!$B$6:$C$16,2,FALSE)&ROW(G22))))","v":""},null,null,null,"","","","","","","","","","","","","","","","","","","","","","",null,"","","","","","","","","","","","","","","","","","","","","",""]
[null,{"$f":"IF(Athletenliste!B23=\"\",\"\",Athletenliste!B23)","v":""},{"$f":"IF(Athletenliste!C23=\"\",\"\",Athletenliste!C23)","v":""},{"$f":"IF(Athletenliste!D23=\"\",\"\",Athletenliste!D23)","v":""},{"$f":"IF(Athletenliste!E23=\"\",\"\",Athletenliste!E23)","v":""},{"$f":"IF(Athletenliste!F23=\"\",\"\",Athletenliste!F23)","v":""},{"$f":"IF(Athletenliste!G23=\"\",\"\",Athletenliste!G23)","v":""},{"$f":"IF(Athletenliste!H23=\"\",\"\",Athletenliste!H23)","v":""},null,{"$f":"IF(B23=\"\",\"\",IF(D23=\"m\",INDIRECT(VLOOKUP(G23,Bezüge!$E$6:$F$16,2,FALSE)&ROW(G23)),INDIRECT(VLOOKUP(G23,Bezüge!$B$6:$C$16,2,FALSE)&ROW(G23))))","v":""},null,null,null,"","","","","","","","","","","","","","","","","","","","","","",null,"","","","","","","","","","","","","","","","","","","","","",""]
[null,{"$f":"IF(Athletenliste!B24=\"\",\"\",Athletenliste!B24)","v":""},{"$f":"IF(Athletenliste!C24=\"\",\"\",Athletenliste!C24)","v":""},{"$f":"IF(Athletenliste!D24=\"\",\"\",Athletenliste!D24)","v":""},{"$f":"IF(Athletenliste!E24=\"\",\"\",Athletenliste!E24)","v":""},{"$f":"IF(Athletenliste!F24=\"\",\"\",Athletenliste!F24)","v":""},{"$f":"IF(Athletenliste!G24=\"\",\"\",Athletenliste!G24)","v":""},{"$f":"IF(Athletenliste!H24=\"\",\"\",Athletenliste!H24)","v":""},null,{"$f":"IF(B24=\"\",\"\",IF(D24=\"m\",INDIRECT(VLOOKUP(G24,Bezüge!$E$6:$F$16,2,FALSE)&ROW(G24)),INDIRECT(VLOOKUP(G24,Bezüge!$B$6:$C$16,2,FALSE)&ROW(G24))))","v":""},null,null,null,"","","","","","","","","","","","","","","","","","","","","","",null,"","","","","","","","","","","","","","","","","","","","","",""]
[null,{"$f":"IF(Athletenliste!B25=\"\",\"\",Athletenliste!B25)","v":""},{"$f":"IF(Athletenliste!C25=\"\",\"\",Athletenliste!C25)","v":""},{"$f":"IF(Athletenliste!D25=\"\",\"\",Athletenliste!D25)","v":""},{"$f":"IF(Athletenliste!E25=\"\",\"\",Athletenliste!E25)","v":""},{"$f":"IF(Athletenliste!F25=\"\",\"\",Athletenliste!F25)","v":""},{"$f":"IF(Athletenliste!G25=\"\",\"\",Athletenliste!G25)","v":""},{"$f":"IF(Athletenliste!H25=\"\",\"\",Athletenliste!H25)","v":""},null,{"$f":"IF(B25=\"\",\"\",IF(D25=\"m\",INDIRECT(VLOOKUP(G25,Bezüge!$E$6:$F$16,2,FALSE)&ROW(G25)),INDIRECT(VLOOKUP(G25,Bezüge!$B$6:$C$16,2,FALSE)&ROW(G25))))","v":""},null,null,null,"","","","","","","","","","","","","","","","","","","","","","",null,"","","","","","","","","","","","","","","","","","","","","",""]
[null,{"$f":"IF(Athletenliste!B26=\"\",\"\",Athletenliste!B26)","v":""},{"$f":"IF(Athletenliste!C26=\"\",\"\",Athletenliste!C26)","v":""},{"$f":"IF(Athletenliste!D26=\"\",\"\",Athletenliste!D26)","v":""},{"$f":"IF(Athletenliste!E26=\"\",\"\",Athletenliste!E26)","v":""},{"$f":"IF(Athletenliste!F26=\"\",\"\",Athletenliste!F26)","v":""},{"$f":"IF(Athletenliste!G26=\"\",\"\",Athletenliste!G26)","v":""},{"$f":"IF(Athletenliste!H26=\"\",\"\",Athletenliste!H26)","v":""},null,{"$f":"IF(B26=\"\",\"\",IF(D26=\"m\",INDIRECT(VLOOKUP(G26,Bezüge!$E$6:$F$16,2,FALSE)&ROW(G26)),INDIRECT(VLOOKUP(G26,Bezüge!$B$6:$C$16,2,FALSE)&ROW(G26))))","v":""},null,null,null,"","","","","","","","","","","","","","","","","","","","","","",null,"","","","","","","","","","","","","","","","","","","","","",""]
[null,{"$f":"IF(Athletenliste!B27=\"\",\"\",Athletenliste!B27)","v":""},{"$f":"IF(Athletenliste!C27=\"\",\"\",Athletenliste!C27)","v":""},{"$f":"IF(Athletenliste!D27=\"\",\"\",Athletenliste!D27)","v":""},{"$f":"IF(Athletenliste!E27=\"\",\"\",Athletenliste!E27)","v":""},{"$f":"IF(Athletenliste!F27=\"\",\"\",Athletenliste!F27)","v":""},{"$f":"IF(Athletenliste!G27=\"\",\"\",Athletenliste!G27)","v":""},{"$f":"IF(Athletenliste!H27=\"\",\"\",Athletenliste!H27)","v":""},null,{"$f":"IF(B27=\"\",\"\",IF(D27=\"m\",INDIRECT(VLOOKUP(G27,Bezüge!$E$6:$F$16,2,FALSE)&ROW(G27)),INDIRECT(VLOOKUP(G27,Bezüge!$B$6:$C$16,2,FALSE)&ROW(G27))))","v":""},null,null,null,"","","","","","","","","","","","","","","","","","","","","","",null,"","","","","","","","","","","","","","","","","","","","","",""]
[null,{"$f":"IF(Athletenliste!B28=\"\",\"\",Athletenliste!B28)","v":""},{"$f":"IF(Athletenliste!C28=\"\",\"\",Athletenliste!C28)","v":""},{"$f":"IF(Athletenliste!D28=\"\",\"\",Athletenliste!D28)","v":""},{"$f":"IF(Athletenliste!E28=\"\",\"\",Athletenliste!E28)","v":""},{"$f":"IF(Athletenliste!F28=\"\",\"\",Athletenliste!F28)","v":""},{"$f":"IF(Athletenliste!G28=\"\",\"\",Athletenliste!G28)","v":""},{"$f":"IF(Athletenliste!H28=\"\",\"\",Athletenliste!H28)","v":""},null,{"$f":"IF(B28=\"\",\"\",IF(D28=\"m\",INDIRECT(VLOOKUP(G28,Bezüge!$E$6:$F$16,2,FALSE)&ROW(G28)),INDIRECT(VLOOKUP(G28,Bezüge!$B$6:$C$16,2,FALSE)&ROW(G28))))","v":""},null,null,null,"","","","","","","","","","","","","","","","","","","","","","",null,"","","","","","","","","","","","","","","","","","","","","",""]
[null,{"$f":"IF(Athletenliste!B29=\"\",\"\",Athletenliste!B29)","v":""},{"$f":"IF(Athletenliste!C29=\"\",\"\",Athletenliste!C29)","v":""},{"$f":"IF(Athletenliste!D29=\"\",\"\",Athletenliste!D29)","v":""},{"$f":"IF(Athletenliste!E29=\"\",\"\",Athletenliste!E29)","v":""},{"$f":"IF(Athletenliste!F29=\"\",\"\",Athletenliste!F29)","v":""},{"$f":"IF(Athletenliste!G29=\"\",\"\",Athletenliste!G29)","v":""},{"$f":"IF(Athletenliste!H29=\"\",\"\",Athletenliste!H29)","v":""},null,{"$f":"IF(B29=\"\",\"\",IF(D29=\"m\",INDIRECT(VLOOKUP(G29,Bezüge!$E$6:$F$16,2,FALSE)&ROW(G29)),INDIRECT(VLOOKUP(G29,Bezüge!$B$6:$C$16,2,FALSE)&ROW(G29))))","v":""},null,null,null,"","","","","","","","","","","","","","","","","","","","","","",null,"","","","","","","","","","","","","","","","","","","","","",""]
[null,{"$f":"IF(Athletenliste!B30=\"\",\"\",Athletenliste!B30)","v":""},{"$f":"IF(Athletenliste!C30=\"\",\"\",Athletenliste!C30)","v":""},{"$f":"IF(Athletenliste!D30=\"\",\"\",Athletenliste!D30)","v":""},{"$f":"IF(Athletenliste!E30=\"\",\"\",Athletenliste!E30)","v":""},{"$f":"IF(Athletenliste!F30=\"\",\"\",Athletenliste!F30)","v":""},{"$f":"IF(Athletenliste!G30=\"\",\"\",Athletenliste!G30)","v":""},{"$f":"IF(Athletenliste!H30=\"\",\"\",Athletenliste!H30)","v":""},null,{"$f":"IF(B30=\"\",\"\",IF(D30=\"m\",INDIRECT(VLOOKUP(G30,Bezüge!$E$6:$F$16,2,FALSE)&ROW(G30)),INDIRECT(VLOOKUP(G30,Bezüge!$B$6:$C$16,2,FALSE)&ROW(G30))))","v":""},null,null,null,"","","","","","","","","","","","","","","","","","","","","","",null,"","","","","","","","","","","","","","","","","","","","","",""]
[null,{"$f":"IF(Athletenliste!B31=\"\",\"\",Athletenliste!B31)","v":""},{"$f":"IF(Athletenliste!C31=\"\",\"\",Athletenliste!C31)","v":""},{"$f":"IF(Athletenliste!D31=\"\",\"\",Athletenliste!D31)","v":""},{"$f":"IF(Athletenliste!E31=\"\",\"\",Athletenliste!E31)","v":""},{"$f":"IF(Athletenliste!F31=\"\",\"\",Athletenliste!F31)","v":""},{"$f":"IF(Athletenliste!G31=\"\",\"\",Athletenliste!G31)","v":""},{"$f":"IF(Athletenliste!H31=\"\",\"\",Athletenliste!H31)","v":""},null,{"$f":"IF(B31=\"\",\"\",IF(D31=\"m\",INDIRECT(VLOOKUP(G31,Bezüge!$E$6:$F$16,2,FALSE)&ROW(G31)),INDIRECT(VLOOKUP(G31,Bezüge!$B$6:$C$16,2,FALSE)&ROW(G31))))","v":""},null,null,null,"","","","","","","","","","","","","","","","","","","","","","",null,"","","","","","","","","","","","","","","","","","","","","",""]
[null,{"$f":"IF(Athletenliste!B32=\"\",\"\",Athletenliste!B32)","v":""},{"$f":"IF(Athletenliste!C32=\"\",\"\",Athletenliste!C32)","v":""},{"$f":"IF(Athletenliste!D32=\"\",\"\",Athletenliste!D32)","v":""},{"$f":"IF(Athletenliste!E32=\"\",\"\",Athletenliste!E32)","v":""},{"$f":"IF(Athletenliste!F32=\"\",\"\",Athletenliste!F32)","v":""},{"$f":"IF(Athletenliste!G32=\"\",\"\",Athletenliste!G32)","v":""},{"$f":"IF(Athletenliste!H32=\"\",\"\",Athletenliste!H32)","v":""},null,{"$f":"IF(B32=\"\",\"\",IF(D32=\"m\",INDIRECT(VLOOKUP(G32,Bezüge!$E$6:$F$16,2,FALSE)&ROW(G32)),INDIRECT(VLOOKUP(G32,Bezüge!$B$6:$C$16,2,FALSE)&ROW(G32))))","v":""},null,null,null,"","","","","","","","","","","","","","","","","","","","","","",null,"","","","","","","","","","","","","","","","","","","","","",""]
[null,{"$f":"IF(Athletenliste!B33=\"\",\"\",Athletenliste!B33)","v":""},{"$f":"IF(Athletenliste!C33=\"\",\"\",Athletenliste!C33)","v":""},{"$f":"IF(Athletenliste!D33=\"\",\"\",Athletenliste!D33)","v":""},{"$f":"IF(Athletenliste!E33=\"\",\"\",Athletenliste!E33)","v":""},{"$f":"IF(Athletenliste!F33=\"\",\"\",Athletenliste!F33)","v":""},{"$f":"IF(Athletenliste!G33=\"\",\"\",Athletenliste!G33)","v":""},{"$f":"IF(Athletenliste!H33=\"\",\"\",Athletenliste!H33)","v":""},null,{"$f":"IF(B33=\"\",\"\",IF(D33=\"m\",INDIRECT(VLOOKUP(G33,Bezüge!$E$6:$F$16,2,FALSE)&ROW(G33)),INDIRECT(VLOOKUP(G33,Bezüge!$B$6:$C$16,2,FALSE)&ROW(G33))))","v":""},null,null,null,"","","","","","","","","","","","","","","","","","","","","","",null,"","","","","","","","","","","","","","","","","","","","","",""]
[null,{"$f":"IF(Athletenliste!B34=\"\",\"\",Athletenliste!B34)","v":""},{"$f":"IF(Athletenliste!C34=\"\",\"\",Athletenliste!C34)","v":""},{"$f":"IF(Athletenliste!D34=\"\",\"\",Athletenliste!D34)","v":""},{"$f":"IF(Athletenliste!E34=\"\",\"\",Athletenliste!E34)","v":""},{"$f":"IF(Athletenliste!F34=\"\",\"\",Athletenliste!F34)","v":""},{"$f":"IF(Athletenliste!G34=\"\",\"\",Athletenliste!G34)","v":""},{"$f":"IF(Athletenliste!H34=\"\",\"\",Athletenliste!H34)","v":""},null,{"$f":"IF(B34=\"\",\"\",IF(D34=\"m\",INDIRECT(VLOOKUP(G34,Bezüge!$E$6:$F$16,2,FALSE)&ROW(G34)),INDIRECT(VLOOKUP(G34,Bezüge!$B$6:$C$16,2,FALSE)&ROW(G34))))","v":""},null,null,null,"","","","","","","","","","","","","","","","","","","","","","",null,"","","","","","","","","","","","","","","","","","","","","",""]
[null,{"$f":"IF(Athletenliste!B35=\"\",\"\",Athletenliste!B35)","v":""},{"$f":"IF(Athletenliste!C35=\"\",\"\",Athletenliste!C35)","v":""},{"$f":"IF(Athletenliste!D35=\"\",\"\",Athletenliste!D35)","v":""},{"$f":"IF(Athletenliste!E35=\"\",\"\",Athletenliste!E35)","v":""},{"$f":"IF(Athletenliste!F35=\"\",\"\",Athletenliste!F35)","v":""},{"$f":"IF(Athletenliste!G35=\"\",\"\",Athletenliste!G35)","v":""},{"$f":"IF(Athletenliste!H35=\"\",\"\",Athletenliste!H35)","v":""},null,{"$f":"IF(B35=\"\",\"\",IF(D35=\"m\",INDIRECT(VLOOKUP(G35,Bezüge!$E$6:$F$16,2,FALSE)&ROW(G35)),INDIRECT(VLOOKUP(G35,Bezüge!$B$6:$C$16,2,FALSE)&ROW(G35))))","v":""},null,null,null,"","","","","","","","","","","","","","","","","","","","","","",null,"","","","","","","","","","","","","","","","","","","","","",""]
[null,{"$f":"IF(Athletenliste!B36=\"\",\"\",Athletenliste!B36)","v":""},{"$f":"IF(Athletenliste!C36=\"\",\"\",Athletenliste!C36)","v":""},{"$f":"IF(Athletenliste!D36=\"\",\"\",Athletenliste!D36)","v":""},{"$f":"IF(Athletenliste!E36=\"\",\"\",Athletenliste!E36)","v":""},{"$f":"IF(Athletenliste!F36=\"\",\"\",Athletenliste!F36)","v":""},{"$f":"IF(Athletenliste!G36=\"\",\"\",Athletenliste!G36)","v":""},{"$f":"IF(Athletenliste!H36=\"\",\"\",Athletenliste!H36)","v":""},null,{"$f":"IF(B36=\"\",\"\",IF(D36=\"m\",INDIRECT(VLOOKUP(G36,Bezüge!$E$6:$F$16,2,FALSE)&ROW(G36)),INDIRECT(VLOOKUP(G36,Bezüge!$B$6:$C$16,2,FALSE)&ROW(G36))))","v":""},null,null,null,"","","","","","","","","","","","","","","","","","","","","","",null,"","","","","","","","","","","","","","","","","","","","","",""]
[null,{"$f":"IF(Athletenliste!B37=\"\",\"\",Athletenliste!B37)","v":""},{"$f":"IF(Athletenliste!C37=\"\",\"\",Athletenliste!C37)","v":""},{"$f":"IF(Athletenliste!D37=\"\",\"\",Athletenliste!D37)","v":""},{"$f":"IF(Athletenliste!E37=\"\",\"\",Athletenliste!E37)","v":""},{"$f":"IF(Athletenliste!F37=\"\",\"\",Athletenliste!F37)","v":""},{"$f":"IF(Athletenliste!G37=\"\",\"\",Athletenliste!G37)","v":""},{"$f":"IF(Athletenliste!H37=\"\",\"\",Athletenliste!H37)","v":""},null,{"$f":"IF(B37=\"\",\"\",IF(D37=\"m\",INDIRECT(VLOOKUP(G37,Bezüge!$E$6:$F$16,2,FALSE)&ROW(G37)),INDIRECT(VLOOKUP(G37,Bezüge!$B$6:$C$16,2,FALSE)&ROW(G37))))","v":""},null,null,null,"","","","","","","","","","","","","","","","","","","","","","",null,"","","","","","","","","","","","","","","","","","","","","",""]
[null,{"$f":"IF(Athletenliste!B38=\"\",\"\",Athletenliste!B38)","v":""},{"$f":"IF(Athletenliste!C38=\"\",\"\",Athletenliste!C38)","v":""},{"$f":"IF(Athletenliste!D38=\"\",\"\",Athletenliste!D38)","v":""},{"$f":"IF(Athletenliste!E38=\"\",\"\",Athletenliste!E38)","v":""},{"$f":"IF(Athletenliste!F38=\"\",\"\",Athletenliste!F38)","v":""},{"$f":"IF(Athletenliste!G38=\"\",\"\",Athletenliste!G38)","v":""},{"$f":"IF(Athletenliste!H38=\"\",\"\",Athletenliste!H38)","v":""},null,{"$f":"IF(B38=\"\",\"\",IF(D38=\"m\",INDIRECT(VLOOKUP(G38,Bezüge!$E$6:$F$16,2,FALSE)&ROW(G38)),INDIRECT(VLOOKUP(G38,Bezüge!$B$6:$C$16,2,FALSE)&ROW(G38))))","v":""},null,null,null,"","","","","","","","","","","","","","","","","","","","","","",null,"","","","","","","","","","","","","","","","","","","","","",""]
[null,{"$f":"IF(Athletenliste!B39=\"\",\"\",Athletenliste!B39)","v":""},{"$f":"IF(Athletenliste!C39=\"\",\"\",Athletenliste!C39)","v":""},{"$f":"IF(Athletenliste!D39=\"\",\"\",Athletenliste!D39)","v":""},{"$f":"IF(Athletenliste!E39=\"\",\"\",Athletenliste!E39)","v":""},{"$f":"IF(Athletenliste!F39=\"\",\"\",Athletenliste!F39)","v":""},{"$f":"IF(Athletenliste!G39=\"\",\"\",Athletenliste!G39)","v":""},{"$f":"IF(Athletenliste!H39=\"\",\"\",Athletenliste!H39)","v":""},null,{"$f":"IF(B39=\"\",\"\",IF(D39=\"m\",INDIRECT(VLOOKUP(G39,Bezüge!$E$6:$F$16,2,FALSE)&ROW(G39)),INDIRECT(VLOOKUP(G39,Bezüge!$B$6:$C$16,2,FALSE)&ROW(G39))))","v":""},null,null,null,"","","","","","","","","","","","","","","","","","","","","","",null,"","","","","","","","","","","","","","","","","","","","","",""]
[null,{"$f":"IF(Athletenliste!B40=\"\",\"\",Athletenliste!B40)","v":""},{"$f":"IF(Athletenliste!C40=\"\",\"\",Athletenliste!C40)","v":""},{"$f":"IF(Athletenliste!D40=\"\",\"\",Athletenliste!D40)","v":""},{"$f":"IF(Athletenliste!E40=\"\",\"\",Athletenliste!E40)","v":""},{"$f":"IF(Athletenliste!F40=\"\",\"\",Athletenliste!F40)","v":""},{"$f":"IF(Athletenliste!G40=\"\",\"\",Athletenliste!G40)","v":""},{"$f":"IF(Athletenliste!H40=\"\",\"\",Athletenliste!H40)","v":""},null,{"$f":"IF(B40=\"\",\"\",IF(D40=\"m\",INDIRECT(VLOOKUP(G40,Bezüge!$E$6:$F$16,2,FALSE)&ROW(G40)),INDIRECT(VLOOKUP(G40,Bezüge!$B$6:$C$16,2,FALSE)&ROW(G40))))","v":""},null,null,null,"","","","","","","","","","","","","","","","","","","","","","",null,"","","","","","","","","","","","","","","","","","","","","",""]
[null,{"$f":"IF(Athletenliste!B41=\"\",\"\",Athletenliste!B41)","v":""},{"$f":"IF(Athletenliste!C41=\"\",\"\",Athletenliste!C41)","v":""},{"$f":"IF(Athletenliste!D41=\"\",\"\",Athletenliste!D41)","v":""},{"$f":"IF(Athletenliste!E41=\"\",\"\",Athletenliste!E41)","v":""},{"$f":"IF(Athletenliste!F41=\"\",\"\",Athletenliste!F41)","v":""},{"$f":"IF(Athletenliste!G41=\"\",\"\",Athletenliste!G41)","v":""},{"$f":"IF(Athletenliste!H41=\"\",\"\",Athletenliste!H41)","v":""},null,{"$f":"IF(B41=\"\",\"\",IF(D41=\"m\",INDIRECT(VLOOKUP(G41,Bezüge!$E$6:$F$16,2,FALSE)&ROW(G41)),INDIRECT(VLOOKUP(G41,Bezüge!$B$6:$C$16,2,FALSE)&ROW(G41))))","v":""},null,null,null,"","","","","","","","","","","","","","","","","","","","","","",null,"","","","","","","","","","","","","","","","","","","","","",""]
[null,{"$f":"IF(Athletenliste!B42=\"\",\"\",Athletenliste!B42)","v":""},{"$f":"IF(Athletenliste!C42=\"\",\"\",Athletenliste!C42)","v":""},{"$f":"IF(Athletenliste!D42=\"\",\"\",Athletenliste!D42)","v":""},{"$f":"IF(Athletenliste!E42=\"\",\"\",Athletenliste!E42)","v":""},{"$f":"IF(Athletenliste!F42=\"\",\"\",Athletenliste!F42)","v":""},{"$f":"IF(Athletenliste!G42=\"\",\"\",Athletenliste!G42)","v":""},{"$f":"IF(Athletenliste!H42=\"\",\"\",Athletenliste!H42)","v":""},null,{"$f":"IF(B42=\"\",\"\",IF(D42=\"m\",INDIRECT(VLOOKUP(G42,Bezüge!$E$6:$F$16,2,FALSE)&ROW(G42)),INDIRECT(VLOOKUP(G42,Bezüge!$B$6:$C$16,2,FALSE)&ROW(G42))))","v":""},null,null,null,"","","","","","","","","","","","","","","","","","","","","","",null,"","","","","","","","","","","","","","","","","","","","","",""]
[null,{"$f":"IF(Athletenliste!B43=\"\",\"\",Athletenliste!B43)","v":""},{"$f":"IF(Athletenliste!C43=\"\",\"\",Athletenliste!C43)","v":""},{"$f":"IF(Athletenliste!D43=\"\",\"\",Athletenliste!D43)","v":""},{"$f":"IF(Athletenliste!E43=\"\",\"\",Athletenliste!E43)","v":""},{"$f":"IF(Athletenliste!F43=\"\",\"\",Athletenliste!F43)","v":""},{"$f":"IF(Athletenliste!G43=\"\",\"\",Athletenliste!G43)","v":""},{"$f":"IF(Athletenliste!H43=\"\",\"\",Athletenliste!H43)","v":""},null,{"$f":"IF(B43=\"\",\"\",IF(D43=\"m\",INDIRECT(VLOOKUP(G43,Bezüge!$E$6:$F$16,2,FALSE)&ROW(G43)),INDIRECT(VLOOKUP(G43,Bezüge!$B$6:$C$16,2,FALSE)&ROW(G43))))","v":""},null,null,null,"","","","","","","","","","","","","","","","","","","","","","",null,"","","","","","","","","","","","","","","","","","","","","",""]
[null,{"$f":"IF(Athletenliste!B44=\"\",\"\",Athletenliste!B44)","v":""},{"$f":"IF(Athletenliste!C44=\"\",\"\",Athletenliste!C44)","v":""},{"$f":"IF(Athletenliste!D44=\"\",\"\",Athletenliste!D44)","v":""},{"$f":"IF(Athletenliste!E44=\"\",\"\",Athletenliste!E44)","v":""},{"$f":"IF(Athletenliste!F44=\"\",\"\",Athletenliste!F44)","v":""},{"$f":"IF(Athletenliste!G44=\"\",\"\",Athletenliste!G44)","v":""},{"$f":"IF(Athletenliste!H44=\"\",\"\",Athletenliste!H44)","v":""},null,{"$f":"IF(B44=\"\",\"\",IF(D44=\"m\",INDIRECT(VLOOKUP(G44,Bezüge!$E$6:$F$16,2,FALSE)&ROW(G44)),INDIRECT(VLOOKUP(G44,Bezüge!$B$6:$C$16,2,FALSE)&ROW(G44))))","v":""},null,null,null,"","","","","","","","","","","","","","","","","","","","","","",null,"","","","","","","","","","","","","","","","","","","","","",""]
[null,{"$f":"IF(Athletenliste!B45=\"\",\"\",Athletenliste!B45)","v":""},{"$f":"IF(Athletenliste!C45=\"\",\"\",Athletenliste!C45)","v":""},{"$f":"IF(Athletenliste!D45=\"\",\"\",Athletenliste!D45)","v":""},{"$f":"IF(Athletenliste!E45=\"\",\"\",Athletenliste!E45)","v":""},{"$f":"IF(Athletenliste!F45=\"\",\"\",Athletenliste!F45)","v":""},{"$f":"IF(Athletenliste!G45=\"\",\"\",Athletenliste!G45)","v":""},{"$f":"IF(Athletenliste!H45=\"\",\"\",Athletenliste!H45)","v":""},null,{"$f":"IF(B45=\"\",\"\",IF(D45=\"m\",INDIRECT(VLOOKUP(G45,Bezüge!$E$6:$F$16,2,FALSE)&ROW(G45)),INDIRECT(VLOOKUP(G45,Bezüge!$B$6:$C$16,2,FALSE)&ROW(G45))))","v":""},null,null,null,"","","","","","","","","","","","","","","","","","","","","","",null,"","","","","","","","","","","","","","","","","","","","","",""]
[null,{"$f":"IF(Athletenliste!B46=\"\",\"\",Athletenliste!B46)","v":""},{"$f":"IF(Athletenliste!C46=\"\",\"\",Athletenliste!C46)","v":""},{"$f":"IF(Athletenliste!D46=\"\",\"\",Athletenliste!D46)","v":""},{"$f":"IF(Athletenliste!E46=\"\",\"\",Athletenliste!E46)","v":""},{"$f":"IF(Athletenliste!F46=\"\",\"\",Athletenliste!F46)","v":""},{"$f":"IF(Athletenliste!G46=\"\",\"\",Athletenliste!G46)","v":""},{"$f":"IF(Athletenliste!H46=\"\",\"\",Athletenliste!H46)","v":""},null,{"$f":"IF(B46=\"\",\"\",IF(D46=\"m\",INDIRECT(VLOOKUP(G46,Bezüge!$E$6:$F$16,2,FALSE)&ROW(G46)),INDIRECT(VLOOKUP(G46,Bezüge!$B$6:$C$16,2,FALSE)&ROW(G46))))","v":""},null,null,null,"","","","","","","","","","","","","","","","","","","","","","",null,"","","","","","","","","","","","","","","","","","","","","",""]
[null,{"$f":"IF(Athletenliste!B47=\"\",\"\",Athletenliste!B47)","v":""},{"$f":"IF(Athletenliste!C47=\"\",\"\",Athletenliste!C47)","v":""},{"$f":"IF(Athletenliste!D47=\"\",\"\",Athletenliste!D47)","v":""},{"$f":"IF(Athletenliste!E47=\"\",\"\",Athletenliste!E47)","v":""},{"$f":"IF(Athletenliste!F47=\"\",\"\",Athletenliste!F47)","v":""},{"$f":"IF(Athletenliste!G47=\"\",\"\",Athletenliste!G47)","v":""},{"$f":"IF(Athletenliste!H47=\"\",\"\",Athletenliste!H47)","v":""},null,{"$f":"IF(B47=\"\",\"\",IF(D47=\"m\",INDIRECT(VLOOKUP(G47,Bezüge!$E$6:$F$16,2,FALSE)&ROW(G47)),INDIRECT(VLOOKUP(G47,Bezüge!$B$6:$C$16,2,FALSE)&ROW(G47))))","v":""},null,null,null,"","","","","","","","","","","","","","","","","","","","","","",null,"","","","","","","","","","","","","","","","","","","","","",""]
[null,{"$f":"IF(Athletenliste!B48=\"\",\"\",Athletenliste!B48)","v":""},{"$f":"IF(Athletenliste!C48=\"\",\"\",Athletenliste!C48)","v":""},{"$f":"IF(Athletenliste!D48=\"\",\"\",Athletenliste!D48)","v":""},{"$f":"IF(Athletenliste!E48=\"\",\"\",Athletenliste!E48)","v":""},{"$f":"IF(Athletenliste!F48=\"\",\"\",Athletenliste!F48)","v":""},{"$f":"IF(Athletenliste!G48=\"\",\"\",Athletenliste!G48)","v":""},{"$f":"IF(Athletenliste!H48=\"\",\"\",Athletenliste!H48)","v":""},null,{"$f":"IF(B48=\"\",\"\",IF(D48=\"m\",INDIRECT(VLOOKUP(G48,Bezüge!$E$6:$F$16,2,FALSE)&ROW(G48)),INDIRECT(VLOOKUP(G48,Bezüge!$B$6:$C$16,2,FALSE)&ROW(G48))))","v":""},null,null,null,"","","","","","","","","","","","","","","","","","","","","","",null,"","","","","","","","","","","","","","","","","","","","","",""]
[null,{"$f":"IF(Athletenliste!B49=\"\",\"\",Athletenliste!B49)","v":""},{"$f":"IF(Athletenliste!C49=\"\",\"\",Athletenliste!C49)","v":""},{"$f":"IF(Athletenliste!D49=\"\",\"\",Athletenliste!D49)","v":""},{"$f":"IF(Athletenliste!E49=\"\",\"\",Athletenliste!E49)","v":""},{"$f":"IF(Athletenliste!F49=\"\",\"\",Athletenliste!F49)","v":""},{"$f":"IF(Athletenliste!G49=\"\",\"\",Athletenliste!G49)","v":""},{"$f":"IF(Athletenliste!H49=\"\",\"\",Athletenliste!H49)","v":""},null,{"$f":"IF(B49=\"\",\"\",IF(D49=\"m\",INDIRECT(VLOOKUP(G49,Bezüge!$E$6:$F$16,2,FALSE)&ROW(G49)),INDIRECT(VLOOKUP(G49,Bezüge!$B$6:$C$16,2,FALSE)&ROW(G49))))","v":""},null,null,null,"","","","","","","","","","","","","","","","","","","","","","",null,"","","","","","","","","","","","","","","","","","","","","",""]
[null,{"$f":"IF(Athletenliste!B50=\"\",\"\",Athletenliste!B50)","v":""},{"$f":"IF(Athletenliste!C50=\"\",\"\",Athletenliste!C50)","v":""},{"$f":"IF(Athletenliste!D50=\"\",\"\",Athletenliste!D50)","v":""},{"$f":"IF(Athletenliste!E50=\"\",\"\",Athletenliste!E50)","v":""},{"$f":"IF(Athletenliste!F50=\"\",\"\",Athletenliste!F50)","v":""},{"$f":"IF(Athletenliste!G50=\"\",\"\",Athletenliste!G50)","v":""},{"$f":"IF(Athletenliste!H50=\"\",\"\",Athletenliste!H50)","v":""},null,{"$f":"IF(B50=\"\",\"\",IF(D50=\"m\",INDIRECT(VLOOKUP(G50,Bezüge!$E$6:$F$16,2,FALSE)&ROW(G50)),INDIRECT(VLOOKUP(G50,Bezüge!$B$6:$C$16,2,FALSE)&ROW(G50))))","v":""},null,null,null,"","","","","","","","","","","","","","","","","","","","","","",null,"","","","","","","","","","","","","","","","","","","","","",""]
[null,{"$f":"IF(Athletenliste!B51=\"\",\"\",Athletenliste!B51)","v":""},{"$f":"IF(Athletenliste!C51=\"\",\"\",Athletenliste!C51)","v":""},{"$f":"IF(Athletenliste!D51=\"\",\"\",Athletenliste!D51)","v":""},{"$f":"IF(Athletenliste!E51=\"\",\"\",Athletenliste!E51)","v":""},{"$f":"IF(Athletenliste!F51=\"\",\"\",Athletenliste!F51)","v":""},{"$f":"IF(Athletenliste!G51=\"\",\"\",Athletenliste!G51)","v":""},{"$f":"IF(Athletenliste!H51=\"\",\"\",Athletenliste!H51)","v":""},null,{"$f":"IF(B51=\"\",\"\",IF(D51=\"m\",INDIRECT(VLOOKUP(G51,Bezüge!$E$6:$F$16,2,FALSE)&ROW(G51)),INDIRECT(VLOOKUP(G51,Bezüge!$B$6:$C$16,2,FALSE)&ROW(G51))))","v":""},null,null,null,"","","","","","","","","","","","","","","","","","","","","","",null,"","","","","","","","","","","","","","","","","","","","","",""]
[null,{"$f":"IF(Athletenliste!B52=\"\",\"\",Athletenliste!B52)","v":""},{"$f":"IF(Athletenliste!C52=\"\",\"\",Athletenliste!C52)","v":""},{"$f":"IF(Athletenliste!D52=\"\",\"\",Athletenliste!D52)","v":""},{"$f":"IF(Athletenliste!E52=\"\",\"\",Athletenliste!E52)","v":""},{"$f":"IF(Athletenliste!F52=\"\",\"\",Athletenliste!F52)","v":""},{"$f":"IF(Athletenliste!G52=\"\",\"\",Athletenliste!G52)","v":""},{"$f":"IF(Athletenliste!H52=\"\",\"\",Athletenliste!H52)","v":""},null,{"$f":"IF(B52=\"\",\"\",IF(D52=\"m\",INDIRECT(VLOOKUP(G52,Bezüge!$E$6:$F$16,2,FALSE)&ROW(G52)),INDIRECT(VLOOKUP(G52,Bezüge!$B$6:$C$16,2,FALSE)&ROW(G52))))","v":""},null,null,null,"","","","","","","","","","","","","","","","","","","","","","",null,"","","","","","","","","","","","","","","","","","","","","",""]
[null,{"$f":"IF(Athletenliste!B53=\"\",\"\",Athletenliste!B53)","v":""},{"$f":"IF(Athletenliste!C53=\"\",\"\",Athletenliste!C53)","v":""},{"$f":"IF(Athletenliste!D53=\"\",\"\",Athletenliste!D53)","v":""},{"$f":"IF(Athletenliste!E53=\"\",\"\",Athletenliste!E53)","v":""},{"$f":"IF(Athletenliste!F53=\"\",\"\",Athletenliste!F53)","v":""},{"$f":"IF(Athletenliste!G53=\"\",\"\",Athletenliste!G53)","v":""},{"$f":"IF(Athletenliste!H53=\"\",\"\",Athletenliste!H53)","v":""},null,{"$f":"IF(B53=\"\",\"\",IF(D53=\"m\",INDIRECT(VLOOKUP(G53,Bezüge!$E$6:$F$16,2,FALSE)&ROW(G53)),INDIRECT(VLOOKUP(G53,Bezüge!$B$6:$C$16,2,FALSE)&ROW(G53))))","v":""},null,null,null,"","","","","","","","","","","","","","","","","","","","","","",null,"","","","","","","","","","","","","","","","","","","","","",""]
[null,{"$f":"IF(Athletenliste!B54=\"\",\"\",Athletenliste!B54)","v":""},{"$f":"IF(Athletenliste!C54=\"\",\"\",Athletenliste!C54)","v":""},{"$f":"IF(Athletenliste!D54=\"\",\"\",Athletenliste!D54)","v":""},{"$f":"IF(Athletenliste!E54=\"\",\"\",Athletenliste!E54)","v":""},{"$f":"IF(Athletenliste!F54=\"\",\"\",Athletenliste!F54)","v":""},{"$f":"IF(Athletenliste!G54=\"\",\"\",Athletenliste!G54)","v":""},{"$f":"IF(Athletenliste!H54=\"\",\"\",Athletenliste!H54)","v":""},null,{"$f":"IF(B54=\"\",\"\",IF(D54=\"m\",INDIRECT(VLOOKUP(G54,Bezüge!$E$6:$F$16,2,FALSE)&ROW(G54)),INDIRECT(VLOOKUP(G54,Bezüge!$B$6:$C$16,2,FALSE)&ROW(G54))))","v":""},null,null,null,"","","","","","","","","","","","","","","","","","","","","","",null,"","","","","","","","","","","","","","","","","","","","","",""]
[null,{"$f":"IF(Athletenliste!B55=\"\",\"\",Athletenliste!B55)","v":""},{"$f":"IF(Athletenliste!C55=\"\",\"\",Athletenliste!C55)","v":""},{"$f":"IF(Athletenliste!D55=\"\",\"\",Athletenliste!D55)","v":""},{"$f":"IF(Athletenliste!E55=\"\",\"\",Athletenliste!E55)","v":""},{"$f":"IF(Athletenliste!F55=\"\",\"\",Athletenliste!F55)","v":""},{"$f":"IF(Athletenliste!G55=\"\",\"\",Athletenliste!G55)","v":""},{"$f":"IF(Athletenliste!H55=\"\",\"\",Athletenliste!H55)","v":""},null,{"$f":"IF(B55=\"\",\"\",IF(D55=\"m\",INDIRECT(VLOOKUP(G55,Bezüge!$E$6:$F$16,2,FALSE)&ROW(G55)),INDIRECT(VLOOKUP(G55,Bezüge!$B$6:$C$16,2,FALSE)&ROW(G55))))","v":""},null,null,null,"","","","","","","","","","","","","","","","","","","","","","",null,"","","","","","","","","","","","","","","","","","","","","",""]
[null,{"$f":"IF(Athletenliste!B56=\"\",\"\",Athletenliste!B56)","v":""},{"$f":"IF(Athletenliste!C56=\"\",\"\",Athletenliste!C56)","v":""},{"$f":"IF(Athletenliste!D56=\"\",\"\",Athletenliste!D56)","v":""},{"$f":"IF(Athletenliste!E56=\"\",\"\",Athletenliste!E56)","v":""},{"$f":"IF(Athletenliste!F56=\"\",\"\",Athletenliste!F56)","v":""},{"$f":"IF(Athletenliste!G56=\"\",\"\",Athletenliste!G56)","v":""},{"$f":"IF(Athletenliste!H56=\"\",\"\",Athletenliste!H56)","v":""},null,{"$f":"IF(B56=\"\",\"\",IF(D56=\"m\",INDIRECT(VLOOKUP(G56,Bezüge!$E$6:$F$16,2,FALSE)&ROW(G56)),INDIRECT(VLOOKUP(G56,Bezüge!$B$6:$C$16,2,FALSE)&ROW(G56))))","v":""},null,null,null,"","","","","","","","","","","","","","","","","","","","","","",null,"","","","","","","","","","","","","","","","","","","","","",""]
[null,{"$f":"IF(Athletenliste!B57=\"\",\"\",Athletenliste!B57)","v":""},{"$f":"IF(Athletenliste!C57=\"\",\"\",Athletenliste!C57)","v":""},{"$f":"IF(Athletenliste!D57=\"\",\"\",Athletenliste!D57)","v":""},{"$f":"IF(Athletenliste!E57=\"\",\"\",Athletenliste!E57)","v":""},{"$f":"IF(Athletenliste!F57=\"\",\"\",Athletenliste!F57)","v":""},{"$f":"IF(Athletenliste!G57=\"\",\"\",Athletenliste!G57)","v":""},{"$f":"IF(Athletenliste!H57=\"\",\"\",Athletenliste!H57)","v":""},null,{"$f":"IF(B57=\"\",\"\",IF(D57=\"m\",INDIRECT(VLOOKUP(G57,Bezüge!$E$6:$F$16,2,FALSE)&ROW(G57)),INDIRECT(VLOOKUP(G57,Bezüge!$B$6:$C$16,2,FALSE)&ROW(G57))))","v":""},null,null,null,"","","","","","","","","","","","","","","","","","","","","","",null,"","","","","","","","","","","","","","","","","","","","","",""]
[null,{"$f":"IF(Athletenliste!B58=\"\",\"\",Athletenliste!B58)","v":""},{"$f":"IF(Athletenliste!C58=\"\",\"\",Athletenliste!C58)","v":""},{"$f":"IF(Athletenliste!D58=\"\",\"\",Athletenliste!D58)","v":""},{"$f":"IF(Athletenliste!E58=\"\",\"\",Athletenliste!E58)","v":""},{"$f":"IF(Athletenliste!F58=\"\",\"\",Athletenliste!F58)","v":""},{"$f":"IF(Athletenliste!G58=\"\",\"\",Athletenliste!G58)","v":""},{"$f":"IF(Athletenliste!H58=\"\",\"\",Athletenliste!H58)","v":""},null,{"$f":"IF(B58=\"\",\"\",IF(D58=\"m\",INDIRECT(VLOOKUP(G58,Bezüge!$E$6:$F$16,2,FALSE)&ROW(G58)),INDIRECT(VLOOKUP(G58,Bezüge!$B$6:$C$16,2,FALSE)&ROW(G58))))","v":""},null,null,null,"","","","","","","","","","","","","","","","","","","","","","",null,"","","","","","","","","","","","","","","","","","","","","",""]
[null,{"$f":"IF(Athletenliste!B59=\"\",\"\",Athletenliste!B59)","v":""},{"$f":"IF(Athletenliste!C59=\"\",\"\",Athletenliste!C59)","v":""},{"$f":"IF(Athletenliste!D59=\"\",\"\",Athletenliste!D59)","v":""},{"$f":"IF(Athletenliste!E59=\"\",\"\",Athletenliste!E59)","v":""},{"$f":"IF(Athletenliste!F59=\"\",\"\",Athletenliste!F59)","v":""},{"$f":"IF(Athletenliste!G59=\"\",\"\",Athletenliste!G59)","v":""},{"$f":"IF(Athletenliste!H59=\"\",\"\",Athletenliste!H59)","v":""},null,{"$f":"IF(B59=\"\",\"\",IF(D59=\"m\",INDIRECT(VLOOKUP(G59,Bezüge!$E$6:$F$16,2,FALSE)&ROW(G59)),INDIRECT(VLOOKUP(G59,Bezüge!$B$6:$C$16,2,FALSE)&ROW(G59))))","v":""},null,null,null,"","","","","","","","","","","","","","","","","","","","","","",null,"","","","","","","","","","","","","","","","","","","","","",""]
[null,{"$f":"IF(Athletenliste!B60=\"\",\"\",Athletenliste!B60)","v":""},{"$f":"IF(Athletenliste!C60=\"\",\"\",Athletenliste!C60)","v":""},{"$f":"IF(Athletenliste!D60=\"\",\"\",Athletenliste!D60)","v":""},{"$f":"IF(Athletenliste!E60=\"\",\"\",Athletenliste!E60)","v":""},{"$f":"IF(Athletenliste!F60=\"\",\"\",Athletenliste!F60)","v":""},{"$f":"IF(Athletenliste!G60=\"\",\"\",Athletenliste!G60)","v":""},{"$f":"IF(Athletenliste!H60=\"\",\"\",Athletenliste!H60)","v":""},null,{"$f":"IF(B60=\"\",\"\",IF(D60=\"m\",INDIRECT(VLOOKUP(G60,Bezüge!$E$6:$F$16,2,FALSE)&ROW(G60)),INDIRECT(VLOOKUP(G60,Bezüge!$B$6:$C$16,2,FALSE)&ROW(G60))))","v":""},null,null,null,"","","","","","","","","","","","","","","","","","","","","","",null,"","","","","","","","","","","","","","","","","","","","","",""]
[null,{"$f":"IF(Athletenliste!B61=\"\",\"\",Athletenliste!B61)","v":""},{"$f":"IF(Athletenliste!C61=\"\",\"\",Athletenliste!C61)","v":""},{"$f":"IF(Athletenliste!D61=\"\",\"\",Athletenliste!D61)","v":""},{"$f":"IF(Athletenliste!E61=\"\",\"\",Athletenliste!E61)","v":""},{"$f":"IF(Athletenliste!F61=\"\",\"\",Athletenliste!F61)","v":""},{"$f":"IF(Athletenliste!G61=\"\",\"\",Athletenliste!G61)","v":""},{"$f":"IF(Athletenliste!H61=\"\",\"\",Athletenliste!H61)","v":""},null,{"$f":"IF(B61=\"\",\"\",IF(D61=\"m\",INDIRECT(VLOOKUP(G61,Bezüge!$E$6:$F$16,2,FALSE)&ROW(G61)),INDIRECT(VLOOKUP(G61,Bezüge!$B$6:$C$16,2,FALSE)&ROW(G61))))","v":""},null,null,null,"","","","","","","","","","","","","","","","","","","","","","",null,"","","","","","","","","","","","","","","","","","","","","",""]
[null,{"$f":"IF(Athletenliste!B62=\"\",\"\",Athletenliste!B62)","v":""},{"$f":"IF(Athletenliste!C62=\"\",\"\",Athletenliste!C62)","v":""},{"$f":"IF(Athletenliste!D62=\"\",\"\",Athletenliste!D62)","v":""},{"$f":"IF(Athletenliste!E62=\"\",\"\",Athletenliste!E62)","v":""},{"$f":"IF(Athletenliste!F62=\"\",\"\",Athletenliste!F62)","v":""},{"$f":"IF(Athletenliste!G62=\"\",\"\",Athletenliste!G62)","v":""},{"$f":"IF(Athletenliste!H62=\"\",\"\",Athletenliste!H62)","v":""},null,{"$f":"IF(B62=\"\",\"\",IF(D62=\"m\",INDIRECT(VLOOKUP(G62,Bezüge!$E$6:$F$16,2,FALSE)&ROW(G62)),INDIRECT(VLOOKUP(G62,Bezüge!$B$6:$C$16,2,FALSE)&ROW(G62))))","v":""},null,null,null,"","","","","","","","","","","","","","","","","","","","","","",null,"","","","","","","","","","","","","","","","","","","","","",""]
[null,{"$f":"IF(Athletenliste!B63=\"\",\"\",Athletenliste!B63)","v":""},{"$f":"IF(Athletenliste!C63=\"\",\"\",Athletenliste!C63)","v":""},{"$f":"IF(Athletenliste!D63=\"\",\"\",Athletenliste!D63)","v":""},{"$f":"IF(Athletenliste!E63=\"\",\"\",Athletenliste!E63)","v":""},{"$f":"IF(Athletenliste!F63=\"\",\"\",Athletenliste!F63)","v":""},{"$f":"IF(Athletenliste!G63=\"\",\"\",Athletenliste!G63)","v":""},{"$f":"IF(Athletenliste!H63=\"\",\"\",Athletenliste!H63)","v":""},null,{"$f":"IF(B63=\"\",\"\",IF(D63=\"m\",INDIRECT(VLOOKUP(G63,Bezüge!$E$6:$F$16,2,FALSE)&ROW(G63)),INDIRECT(VLOOKUP(G63,Bezüge!$B$6:$C$16,2,FALSE)&ROW(G63))))","v":""},null,null,null,"","","","","","","","","","","","","","","","","","","","","","",null,"","","","","","","","","","","","","","","","","","","","","",""]
[null,{"$f":"IF(Athletenliste!B64=\"\",\"\",Athletenliste!B64)","v":""},{"$f":"IF(Athletenliste!C64=\"\",\"\",Athletenliste!C64)","v":""},{"$f":"IF(Athletenliste!D64=\"\",\"\",Athletenliste!D64)","v":""},{"$f":"IF(Athletenliste!E64=\"\",\"\",Athletenliste!E64)","v":""},{"$f":"IF(Athletenliste!F64=\"\",\"\",Athletenliste!F64)","v":""},{"$f":"IF(Athletenliste!G64=\"\",\"\",Athletenliste!G64)","v":""},{"$f":"IF(Athletenliste!H64=\"\",\"\",Athletenliste!H64)","v":""},null,{"$f":"IF(B64=\"\",\"\",IF(D64=\"m\",INDIRECT(VLOOKUP(G64,Bezüge!$E$6:$F$16,2,FALSE)&ROW(G64)),INDIRECT(VLOOKUP(G64,Bezüge!$B$6:$C$16,2,FALSE)&ROW(G64))))","v":""},null,null,null,"","","","","","","","","","","","","","","","","","","","","","",null,"","","","","","","","","","","","","","","","","","","","","",""]
[null,{"$f":"IF(Athletenliste!B65=\"\",\"\",Athletenliste!B65)","v":""},{"$f":"IF(Athletenliste!C65=\"\",\"\",Athletenliste!C65)","v":""},{"$f":"IF(Athletenliste!D65=\"\",\"\",Athletenliste!D65)","v":""},{"$f":"IF(Athletenliste!E65=\"\",\"\",Athletenliste!E65)","v":""},{"$f":"IF(Athletenliste!F65=\"\",\"\",Athletenliste!F65)","v":""},{"$f":"IF(Athletenliste!G65=\"\",\"\",Athletenliste!G65)","v":""},{"$f":"IF(Athletenliste!H65=\"\",\"\",Athletenliste!H65)","v":""},null,{"$f":"IF(B65=\"\",\"\",IF(D65=\"m\",INDIRECT(VLOOKUP(G65,Bezüge!$E$6:$F$16,2,FALSE)&ROW(G65)),INDIRECT(VLOOKUP(G65,Bezüge!$B$6:$C$16,2,FALSE)&ROW(G65))))","v":""},null,null,null,"","","","","","","","","","","","","","","","","","","","","","",null,"","","","","","","","","","","","","","","","","","","","","",""]
[null,{"$f":"IF(Athletenliste!B66=\"\",\"\",Athletenliste!B66)","v":""},{"$f":"IF(Athletenliste!C66=\"\",\"\",Athletenliste!C66)","v":""},{"$f":"IF(Athletenliste!D66=\"\",\"\",Athletenliste!D66)","v":""},{"$f":"IF(Athletenliste!E66=\"\",\"\",Athletenliste!E66)","v":""},{"$f":"IF(Athletenliste!F66=\"\",\"\",Athletenliste!F66)","v":""},{"$f":"IF(Athletenliste!G66=\"\",\"\",Athletenliste!G66)","v":""},{"$f":"IF(Athletenliste!H66=\"\",\"\",Athletenliste!H66)","v":""},null,{"$f":"IF(B66=\"\",\"\",IF(D66=\"m\",INDIRECT(VLOOKUP(G66,Bezüge!$E$6:$F$16,2,FALSE)&ROW(G66)),INDIRECT(VLOOKUP(G66,Bezüge!$B$6:$C$16,2,FALSE)&ROW(G66))))","v":""},null,null,null,"","","","","","","","","","","","","","","","","","","","","","",null,"","","","","","","","","","","","","","","","","","","","","",""]
[null,{"$f":"IF(Athletenliste!B67=\"\",\"\",Athletenliste!B67)","v":""},{"$f":"IF(Athletenliste!C67=\"\",\"\",Athletenliste!C67)","v":""},{"$f":"IF(Athletenliste!D67=\"\",\"\",Athletenliste!D67)","v":""},{"$f":"IF(Athletenliste!E67=\"\",\"\",Athletenliste!E67)","v":""},{"$f":"IF(Athletenliste!F67=\"\",\"\",Athletenliste!F67)","v":""},{"$f":"IF(Athletenliste!G67=\"\",\"\",Athletenliste!G67)","v":""},{"$f":"IF(Athletenliste!H67=\"\",\"\",Athletenliste!H67)","v":""},null,{"$f":"IF(B67=\"\",\"\",IF(D67=\"m\",INDIRECT(VLOOKUP(G67,Bezüge!$E$6:$F$16,2,FALSE)&ROW(G67)),INDIRECT(VLOOKUP(G67,Bezüge!$B$6:$C$16,2,FALSE)&ROW(G67))))","v":""},null,null,null,"","","","","","","","","","","","","","","","","","","","","","",null,"","","","","","","","","","","","","","","","","","","","","",""]
[null,{"$f":"IF(Athletenliste!B68=\"\",\"\",Athletenliste!B68)","v":""},{"$f":"IF(Athletenliste!C68=\"\",\"\",Athletenliste!C68)","v":""},{"$f":"IF(Athletenliste!D68=\"\",\"\",Athletenliste!D68)","v":""},{"$f":"IF(Athletenliste!E68=\"\",\"\",Athletenliste!E68)","v":""},{"$f":"IF(Athletenliste!F68=\"\",\"\",Athletenliste!F68)","v":""},{"$f":"IF(Athletenliste!G68=\"\",\"\",Athletenliste!G68)","v":""},{"$f":"IF(Athletenliste!H68=\"\",\"\",Athletenliste!H68)","v":""},null,{"$f":"IF(B68=\"\",\"\",IF(D68=\"m\",INDIRECT(VLOOKUP(G68,Bezüge!$E$6:$F$16,2,FALSE)&ROW(G68)),INDIRECT(VLOOKUP(G68,Bezüge!$B$6:$C$16,2,FALSE)&ROW(G68))))","v":""},null,null,null,"","","","","","","","","","","","","","","","","","","","","","",null,"","","","","","","","","","","","","","","","","","","","","",""]
[null,{"$f":"IF(Athletenliste!B69=\"\",\"\",Athletenliste!B69)","v":""},{"$f":"IF(Athletenliste!C69=\"\",\"\",Athletenliste!C69)","v":""},{"$f":"IF(Athletenliste!D69=\"\",\"\",Athletenliste!D69)","v":""},{"$f":"IF(Athletenliste!E69=\"\",\"\",Athletenliste!E69)","v":""},{"$f":"IF(Athletenliste!F69=\"\",\"\",Athletenliste!F69)","v":""},{"$f":"IF(Athletenliste!G69=\"\",\"\",Athletenliste!G69)","v":""},{"$f":"IF(Athletenliste!H69=\"\",\"\",Athletenliste!H69)","v":""},null,{"$f":"IF(B69=\"\",\"\",IF(D69=\"m\",INDIRECT(VLOOKUP(G69,Bezüge!$E$6:$F$16,2,FALSE)&ROW(G69)),INDIRECT(VLOOKUP(G69,Bezüge!$B$6:$C$16,2,FALSE)&ROW(G69))))","v":""},null,null,null,"","","","","","","","","","","","","","","","","","","","","","",null,"","","","","","","","","","","","","","","","","","","","","",""]
[null,{"$f":"IF(Athletenliste!B70=\"\",\"\",Athletenliste!B70)","v":""},{"$f":"IF(Athletenliste!C70=\"\",\"\",Athletenliste!C70)","v":""},{"$f":"IF(Athletenliste!D70=\"\",\"\",Athletenliste!D70)","v":""},{"$f":"IF(Athletenliste!E70=\"\",\"\",Athletenliste!E70)","v":""},{"$f":"IF(Athletenliste!F70=\"\",\"\",Athletenliste!F70)","v":""},{"$f":"IF(Athletenliste!G70=\"\",\"\",Athletenliste!G70)","v":""},{"$f":"IF(Athletenliste!H70=\"\",\"\",Athletenliste!H70)","v":""},null,{"$f":"IF(B70=\"\",\"\",IF(D70=\"m\",INDIRECT(VLOOKUP(G70,Bezüge!$E$6:$F$16,2,FALSE)&ROW(G70)),INDIRECT(VLOOKUP(G70,Bezüge!$B$6:$C$16,2,FALSE)&ROW(G70))))","v":""},null,null,null,"","","","","","","","","","","","","","","","","","","","","","",null,"","","","","","","","","","","","","","","","","","","","","",""]
[null,{"$f":"IF(Athletenliste!B71=\"\",\"\",Athletenliste!B71)","v":""},{"$f":"IF(Athletenliste!C71=\"\",\"\",Athletenliste!C71)","v":""},{"$f":"IF(Athletenliste!D71=\"\",\"\",Athletenliste!D71)","v":""},{"$f":"IF(Athletenliste!E71=\"\",\"\",Athletenliste!E71)","v":""},{"$f":"IF(Athletenliste!F71=\"\",\"\",Athletenliste!F71)","v":""},{"$f":"IF(Athletenliste!G71=\"\",\"\",Athletenliste!G71)","v":""},{"$f":"IF(Athletenliste!H71=\"\",\"\",Athletenliste!H71)","v":""},null,{"$f":"IF(B71=\"\",\"\",IF(D71=\"m\",INDIRECT(VLOOKUP(G71,Bezüge!$E$6:$F$16,2,FALSE)&ROW(G71)),INDIRECT(VLOOKUP(G71,Bezüge!$B$6:$C$16,2,FALSE)&ROW(G71))))","v":""},null,null,null,"","","","","","","","","","","","","","","","","","","","","","",null,"","","","","","","","","","","","","","","","","","","","","",""]
[null,{"$f":"IF(Athletenliste!B72=\"\",\"\",Athletenliste!B72)","v":""},{"$f":"IF(Athletenliste!C72=\"\",\"\",Athletenliste!C72)","v":""},{"$f":"IF(Athletenliste!D72=\"\",\"\",Athletenliste!D72)","v":""},{"$f":"IF(Athletenliste!E72=\"\",\"\",Athletenliste!E72)","v":""},{"$f":"IF(Athletenliste!F72=\"\",\"\",Athletenliste!F72)","v":""},{"$f":"IF(Athletenliste!G72=\"\",\"\",Athletenliste!G72)","v":""},{"$f":"IF(Athletenliste!H72=\"\",\"\",Athletenliste!H72)","v":""},null,{"$f":"IF(B72=\"\",\"\",IF(D72=\"m\",INDIRECT(VLOOKUP(G72,Bezüge!$E$6:$F$16,2,FALSE)&ROW(G72)),INDIRECT(VLOOKUP(G72,Bezüge!$B$6:$C$16,2,FALSE)&ROW(G72))))","v":""},null,null,null,"","","","","","","","","","","","","","","","","","","","","","",null,"","","","","","","","","","","","","","","","","","","","","",""]
[null,{"$f":"IF(Athletenliste!B73=\"\",\"\",Athletenliste!B73)","v":""},{"$f":"IF(Athletenliste!C73=\"\",\"\",Athletenliste!C73)","v":""},{"$f":"IF(Athletenliste!D73=\"\",\"\",Athletenliste!D73)","v":""},{"$f":"IF(Athletenliste!E73=\"\",\"\",Athletenliste!E73)","v":""},{"$f":"IF(Athletenliste!F73=\"\",\"\",Athletenliste!F73)","v":""},{"$f":"IF(Athletenliste!G73=\"\",\"\",Athletenliste!G73)","v":""},{"$f":"IF(Athletenliste!H73=\"\",\"\",Athletenliste!H73)","v":""},null,{"$f":"IF(B73=\"\",\"\",IF(D73=\"m\",INDIRECT(VLOOKUP(G73,Bezüge!$E$6:$F$16,2,FALSE)&ROW(G73)),INDIRECT(VLOOKUP(G73,Bezüge!$B$6:$C$16,2,FALSE)&ROW(G73))))","v":""},null,null,null,"","","","","","","","","","","","","","","","","","","","","","",null,"","","","","","","","","","","","","","","","","","","","","",""]
[null,{"$f":"IF(Athletenliste!B74=\"\",\"\",Athletenliste!B74)","v":""},{"$f":"IF(Athletenliste!C74=\"\",\"\",Athletenliste!C74)","v":""},{"$f":"IF(Athletenliste!D74=\"\",\"\",Athletenliste!D74)","v":""},{"$f":"IF(Athletenliste!E74=\"\",\"\",Athletenliste!E74)","v":""},{"$f":"IF(Athletenliste!F74=\"\",\"\",Athletenliste!F74)","v":""},{"$f":"IF(Athletenliste!G74=\"\",\"\",Athletenliste!G74)","v":""},{"$f":"IF(Athletenliste!H74=\"\",\"\",Athletenliste!H74)","v":""},null,{"$f":"IF(B74=\"\",\"\",IF(D74=\"m\",INDIRECT(VLOOKUP(G74,Bezüge!$E$6:$F$16,2,FALSE)&ROW(G74)),INDIRECT(VLOOKUP(G74,Bezüge!$B$6:$C$16,2,FALSE)&ROW(G74))))","v":""},null,null,null,"","","","","","","","","","","","","","","","","","","","","","",null,"","","","","","","","","","","","","","","","","","","","","",""]
[null,{"$f":"IF(Athletenliste!B75=\"\",\"\",Athletenliste!B75)","v":""},{"$f":"IF(Athletenliste!C75=\"\",\"\",Athletenliste!C75)","v":""},{"$f":"IF(Athletenliste!D75=\"\",\"\",Athletenliste!D75)","v":""},{"$f":"IF(Athletenliste!E75=\"\",\"\",Athletenliste!E75)","v":""},{"$f":"IF(Athletenliste!F75=\"\",\"\",Athletenliste!F75)","v":""},{"$f":"IF(Athletenliste!G75=\"\",\"\",Athletenliste!G75)","v":""},{"$f":"IF(Athletenliste!H75=\"\",\"\",Athletenliste!H75)","v":""},null,{"$f":"IF(B75=\"\",\"\",IF(D75=\"m\",INDIRECT(VLOOKUP(G75,Bezüge!$E$6:$F$16,2,FALSE)&ROW(G75)),INDIRECT(VLOOKUP(G75,Bezüge!$B$6:$C$16,2,FALSE)&ROW(G75))))","v":""},null,null,null,{"$f":"IF(AND(D75=\"m\",G75=\"U06\",I75<>\"\"),I75,\"\")","v":""},{"$f":"IF(OR(I75=\"\",N75=\"\"),\"\",_xlfn.RANK.EQ(N75,N$10:N$200,1))","v":""},{"$f":"IF(AND(D75=\"m\",G75=\"U07\",I75<>\"\"),I75,\"\")","v":""},{"$f":"IF(OR(I75=\"\",P75=\"\"),\"\",_xlfn.RANK.EQ(P75,P$10:P$200,1))","v":""},{"$f":"IF(AND(D75=\"m\",G75=\"U08\",I75<>\"\"),I75,\"\")","v":""},{"$f":"IF(OR(I75=\"\",R75=\"\"),\"\",_xlfn.RANK.EQ(R75,R$10:R$200,1))","v":""},{"$f":"IF(AND(D75=\"m\",G75=\"U09\",I75<>\"\"),I75,\"\")","v":""},{"$f":"IF(OR(I75=\"\",T75=\"\"),\"\",_xlfn.RANK.EQ(T75,T$10:T$200,1))","v":""},{"$f":"IF(AND(D75=\"m\",G75=\"U10\",I75<>\"\"),I75,\"\")","v":""},{"$f":"IF(OR(I75=\"\",V75=\"\"),\"\",_xlfn.RANK.EQ(V75,V$10:V$200,1))","v":""},{"$f":"IF(AND(D75=\"m\",G75=\"U11\",I75<>\"\"),I75,\"\")","v":""},{"$f":"IF(OR(I75=\"\",X75=\"\"),\"\",_xlfn.RANK.EQ(X75,X$10:X$200,1))","v":""},{"$f":"IF(AND(D75=\"m\",G75=\"U12\",I75<>\"\"),I75,\"\")","v":""},{"$f":"IF(OR(I75=\"\",Z75=\"\"),\"\",_xlfn.RANK.EQ(Z75,Z$10:Z$200,1))","v":""},{"$f":"IF(AND(D75=\"m\",G75=\"U13\",I75<>\"\"),I75,\"\")","v":""},{"$f":"IF(OR(I75=\"\",AB75=\"\"),\"\",_xlfn.RANK.EQ(AB75,AB$10:AB$200,1))","v":""},{"$f":"IF(AND(D75=\"m\",G75=\"U14\",I75<>\"\"),I75,\"\")","v":""},{"$f":"IF(OR(I75=\"\",AD75=\"\"),\"\",_xlfn.RANK.EQ(AD75,AD$10:AD$200,1))","v":""},{"$f":"IF(AND(D75=\"m\",G75=\"U15\",I75<>\"\"),I75,\"\")","v":""},{"$f":"IF(OR(I75=\"\",AF75=\"\"),\"\",_xlfn.RANK.EQ(AF75,AF$10:AF$200,1))","v":""},{"$f":"IF(AND(D75=\"m\",G75=\"U16\",I75<>\"\"),I75,\"\")","v":""},{"$f":"IF(OR(I75=\"\",AH75=\"\"),\"\",_xlfn.RANK.EQ(AH75,AH$10:AH$200,1))","v":""},null,{"$f":"IF(AND(D75=\"w\",G75=\"U06\",I75<>\"\"),I75,\"\")","v":""},{"$f":"IF(OR(I75=\"\",AI75=\"\"),\"\",_xlfn.RANK.EQ(AI75,AI$10:AI$200,1))","v":""},{"$f":"IF(AND(D75=\"w\",G75=\"U07\",I75<>\"\"),I75,\"\")","v":""},{"$f":"IF(OR(I75=\"\",AM75=\"\"),\"\",_xlfn.RANK.EQ(AM75,AM$10:AM$20,1))","v":""},{"$f":"IF(AND(D75=\"w\",G75=\"U08\",I75<>\"\"),I75,\"\")","v":""},{"$f":"IF(OR(I75=\"\",AO75=\"\"),\"\",_xlfn.RANK.EQ(AO75,AO$10:AO$200,0))","v":""},{"$f":"IF(AND(D75=\"w\",G75=\"U09\",I75<>\"\"),I75,\"\")","v":""},{"$f":"IF(OR(I75=\"\",AQ75=\"\"),\"\",_xlfn.RANK.EQ(AQ75,AQ$10:AQ$200,1))","v":""},{"$f":"IF(AND(D75=\"w\",G75=\"U10\",I75<>\"\"),I75,\"\")","v":""},{"$f":"IF(OR(I75=\"\",AS75=\"\"),\"\",_xlfn.RANK.EQ(AS75,AS$10:AS$200,1))","v":""},{"$f":"IF(AND(D75=\"w\",G75=\"U11\",I75<>\"\"),I75,\"\")","v":""},{"$f":"IF(OR(I75=\"\",AU75=\"\"),\"\",_xlfn.RANK.EQ(AU75,AU$10:AU$200,1))","v":""},{"$f":"IF(AND(D75=\"w\",G75=\"U12\",I75<>\"\"),I75,\"\")","v":""},{"$f":"IF(OR(I75=\"\",AW75=\"\"),\"\",_xlfn.RANK.EQ(AW75,AW$10:AW$200,1))","v":""},{"$f":"IF(AND(D75=\"w\",G75=\"U13\",I75<>\"\"),I75,\"\")","v":""},{"$f":"IF(OR(I75=\"\",AY75=\"\"),\"\",_xlfn.RANK.EQ(AY75,AY$10:AY$200,1))","v":""},{"$f":"IF(AND(D75=\"w\",G75=\"U14\",I75<>\"\"),I75,\"\")","v":""},{"$f":"IF(OR(I75=\"\",BA75=\"\"),\"\",_xlfn.RANK.EQ(BA75,BA$10:BA$200,1))","v":""},{"$f":"IF(AND(D75=\"w\",G75=\"U15\",I75<>\"\"),I75,\"\")","v":""},{"$f":"IF(OR(I75=\"\",BC75=\"\"),\"\",_xlfn.RANK.EQ(BC75,BC$10:BC$200,1))","v":""},{"$f":"IF(AND(D75=\"w\",G75=\"U16\",I75<>\"\"),I75,\"\")","v":""},{"$f":"IF(OR(I75=\"\",BE75=\"\"),\"\",_xlfn.RANK.EQ(BE75,BE$10:BE$200,1))","v":""}]
[null,{"$f":"IF(Athletenliste!B76=\"\",\"\",Athletenliste!B76)","v":""},{"$f":"IF(Athletenliste!C76=\"\",\"\",Athletenliste!C76)","v":""},{"$f":"IF(Athletenliste!D76=\"\",\"\",Athletenliste!D76)","v":""},{"$f":"IF(Athletenliste!E76=\"\",\"\",Athletenliste!E76)","v":""},{"$f":"IF(Athletenliste!F76=\"\",\"\",Athletenliste!F76)","v":""},{"$f":"IF(Athletenliste!G76=\"\",\"\",Athletenliste!G76)","v":""},{"$f":"IF(Athletenliste!H76=\"\",\"\",Athletenliste!H76)","v":""},null,{"$f":"IF(B76=\"\",\"\",IF(D76=\"m\",INDIRECT(VLOOKUP(G76,Bezüge!$E$6:$F$16,2,FALSE)&ROW(G76)),INDIRECT(VLOOKUP(G76,Bezüge!$B$6:$C$16,2,FALSE)&ROW(G76))))","v":""},null,null,null,"","","","","","","","","","","","","","","","","","","","","","",null,"","","","","","","","","","","","","","","","","","","","","",""]
[null,{"$f":"IF(Athletenliste!B77=\"\",\"\",Athletenliste!B77)","v":""},{"$f":"IF(Athletenliste!C77=\"\",\"\",Athletenliste!C77)","v":""},{"$f":"IF(Athletenliste!D77=\"\",\"\",Athletenliste!D77)","v":""},{"$f":"IF(Athletenliste!E77=\"\",\"\",Athletenliste!E77)","v":""},{"$f":"IF(Athletenliste!F77=\"\",\"\",Athletenliste!F77)","v":""},{"$f":"IF(Athletenliste!G77=\"\",\"\",Athletenliste!G77)","v":""},{"$f":"IF(Athletenliste!H77=\"\",\"\",Athletenliste!H77)","v":""},null,{"$f":"IF(B77=\"\",\"\",IF(D77=\"m\",INDIRECT(VLOOKUP(G77,Bezüge!$E$6:$F$16,2,FALSE)&ROW(G77)),INDIRECT(VLOOKUP(G77,Bezüge!$B$6:$C$16,2,FALSE)&ROW(G77))))","v":""},null,null,null,"","","","","","","","","","","","","","","","","","","","","","",null,"","","","","","","","","","","","","","","","","","","","","",""]
[null,{"$f":"IF(Athletenliste!B78=\"\",\"\",Athletenliste!B78)","v":""},{"$f":"IF(Athletenliste!C78=\"\",\"\",Athletenliste!C78)","v":""},{"$f":"IF(Athletenliste!D78=\"\",\"\",Athletenliste!D78)","v":""},{"$f":"IF(Athletenliste!E78=\"\",\"\",Athletenliste!E78)","v":""},{"$f":"IF(Athletenliste!F78=\"\",\"\",Athletenliste!F78)","v":""},{"$f":"IF(Athletenliste!G78=\"\",\"\",Athletenliste!G78)","v":""},{"$f":"IF(Athletenliste!H78=\"\",\"\",Athletenliste!H78)","v":""},null,{"$f":"IF(B78=\"\",\"\",IF(D78=\"m\",INDIRECT(VLOOKUP(G78,Bezüge!$E$6:$F$16,2,FALSE)&ROW(G78)),INDIRECT(VLOOKUP(G78,Bezüge!$B$6:$C$16,2,FALSE)&ROW(G78))))","v":""},null,null,null,"","","","","","","","","","","","","","","","","","","","","","",null,"","","","","","","","","","","","","","","","","","","","","",""]
[null,{"$f":"IF(Athletenliste!B79=\"\",\"\",Athletenliste!B79)","v":""},{"$f":"IF(Athletenliste!C79=\"\",\"\",Athletenliste!C79)","v":""},{"$f":"IF(Athletenliste!D79=\"\",\"\",Athletenliste!D79)","v":""},{"$f":"IF(Athletenliste!E79=\"\",\"\",Athletenliste!E79)","v":""},{"$f":"IF(Athletenliste!F79=\"\",\"\",Athletenliste!F79)","v":""},{"$f":"IF(Athletenliste!G79=\"\",\"\",Athletenliste!G79)","v":""},{"$f":"IF(Athletenliste!H79=\"\",\"\",Athletenliste!H79)","v":""},null,{"$f":"IF(B79=\"\",\"\",IF(D79=\"m\",INDIRECT(VLOOKUP(G79,Bezüge!$E$6:$F$16,2,FALSE)&ROW(G79)),INDIRECT(VLOOKUP(G79,Bezüge!$B$6:$C$16,2,FALSE)&ROW(G79))))","v":""},null,null,null,"","","","","","","","","","","","","","","","","","","","","","",null,"","","","","","","","","","","","","","","","","","","","","",""]
[null,{"$f":"IF(Athletenliste!B80=\"\",\"\",Athletenliste!B80)","v":""},{"$f":"IF(Athletenliste!C80=\"\",\"\",Athletenliste!C80)","v":""},{"$f":"IF(Athletenliste!D80=\"\",\"\",Athletenliste!D80)","v":""},{"$f":"IF(Athletenliste!E80=\"\",\"\",Athletenliste!E80)","v":""},{"$f":"IF(Athletenliste!F80=\"\",\"\",Athletenliste!F80)","v":""},{"$f":"IF(Athletenliste!G80=\"\",\"\",Athletenliste!G80)","v":""},{"$f":"IF(Athletenliste!H80=\"\",\"\",Athletenliste!H80)","v":""},null,{"$f":"IF(B80=\"\",\"\",IF(D80=\"m\",INDIRECT(VLOOKUP(G80,Bezüge!$E$6:$F$16,2,FALSE)&ROW(G80)),INDIRECT(VLOOKUP(G80,Bezüge!$B$6:$C$16,2,FALSE)&ROW(G80))))","v":""},null,null,null,"","","","","","","","","","","","","","","","","","","","","","",null,"","","","","","","","","","","","","","","","","","","","","",""]
[null,{"$f":"IF(Athletenliste!B81=\"\",\"\",Athletenliste!B81)","v":""},{"$f":"IF(Athletenliste!C81=\"\",\"\",Athletenliste!C81)","v":""},{"$f":"IF(Athletenliste!D81=\"\",\"\",Athletenliste!D81)","v":""},{"$f":"IF(Athletenliste!E81=\"\",\"\",Athletenliste!E81)","v":""},{"$f":"IF(Athletenliste!F81=\"\",\"\",Athletenliste!F81)","v":""},{"$f":"IF(Athletenliste!G81=\"\",\"\",Athletenliste!G81)","v":""},{"$f":"IF(Athletenliste!H81=\"\",\"\",Athletenliste!H81)","v":""},null,{"$f":"IF(B81=\"\",\"\",IF(D81=\"m\",INDIRECT(VLOOKUP(G81,Bezüge!$E$6:$F$16,2,FALSE)&ROW(G81)),INDIRECT(VLOOKUP(G81,Bezüge!$B$6:$C$16,2,FALSE)&ROW(G81))))","v":""},null,null,null,"","","","","","","","","","","","","","","","","","","","","","",null,"","","","","","","","","","","","","","","","","","","","","",""]
[null,{"$f":"IF(Athletenliste!B82=\"\",\"\",Athletenliste!B82)","v":""},{"$f":"IF(Athletenliste!C82=\"\",\"\",Athletenliste!C82)","v":""},{"$f":"IF(Athletenliste!D82=\"\",\"\",Athletenliste!D82)","v":""},{"$f":"IF(Athletenliste!E82=\"\",\"\",Athletenliste!E82)","v":""},{"$f":"IF(Athletenliste!F82=\"\",\"\",Athletenliste!F82)","v":""},{"$f":"IF(Athletenliste!G82=\"\",\"\",Athletenliste!G82)","v":""},{"$f":"IF(Athletenliste!H82=\"\",\"\",Athletenliste!H82)","v":""},null,{"$f":"IF(B82=\"\",\"\",IF(D82=\"m\",INDIRECT(VLOOKUP(G82,Bezüge!$E$6:$F$16,2,FALSE)&ROW(G82)),INDIRECT(VLOOKUP(G82,Bezüge!$B$6:$C$16,2,FALSE)&ROW(G82))))","v":""},null,null,null,"","","","","","","","","","","","","","","","","","","","","","",null,"","","","","","","","","","","","","","","","","","","","","",""]
[null,{"$f":"IF(Athletenliste!B83=\"\",\"\",Athletenliste!B83)","v":""},{"$f":"IF(Athletenliste!C83=\"\",\"\",Athletenliste!C83)","v":""},{"$f":"IF(Athletenliste!D83=\"\",\"\",Athletenliste!D83)","v":""},{"$f":"IF(Athletenliste!E83=\"\",\"\",Athletenliste!E83)","v":""},{"$f":"IF(Athletenliste!F83=\"\",\"\",Athletenliste!F83)","v":""},{"$f":"IF(Athletenliste!G83=\"\",\"\",Athletenliste!G83)","v":""},{"$f":"IF(Athletenliste!H83=\"\",\"\",Athletenliste!H83)","v":""},null,{"$f":"IF(B83=\"\",\"\",IF(D83=\"m\",INDIRECT(VLOOKUP(G83,Bezüge!$E$6:$F$16,2,FALSE)&ROW(G83)),INDIRECT(VLOOKUP(G83,Bezüge!$B$6:$C$16,2,FALSE)&ROW(G83))))","v":""},null,null,null,"","","","","","","","","","","","","","","","","","","","","","",null,"","","","","","","","","","","","","","","","","","","","","",""]
[null,{"$f":"IF(Athletenliste!B84=\"\",\"\",Athletenliste!B84)","v":""},{"$f":"IF(Athletenliste!C84=\"\",\"\",Athletenliste!C84)","v":""},{"$f":"IF(Athletenliste!D84=\"\",\"\",Athletenliste!D84)","v":""},{"$f":"IF(Athletenliste!E84=\"\",\"\",Athletenliste!E84)","v":""},{"$f":"IF(Athletenliste!F84=\"\",\"\",Athletenliste!F84)","v":""},{"$f":"IF(Athletenliste!G84=\"\",\"\",Athletenliste!G84)","v":""},{"$f":"IF(Athletenliste!H84=\"\",\"\",Athletenliste!H84)","v":""},null,{"$f":"IF(B84=\"\",\"\",IF(D84=\"m\",INDIRECT(VLOOKUP(G84,Bezüge!$E$6:$F$16,2,FALSE)&ROW(G84)),INDIRECT(VLOOKUP(G84,Bezüge!$B$6:$C$16,2,FALSE)&ROW(G84))))","v":""},null,null,null,"","","","","","","","","","","","","","","","","","","","","","",null,"","","","","","","","","","","","","","","","","","","","","",""]
[null,{"$f":"IF(Athletenliste!B85=\"\",\"\",Athletenliste!B85)","v":""},{"$f":"IF(Athletenliste!C85=\"\",\"\",Athletenliste!C85)","v":""},{"$f":"IF(Athletenliste!D85=\"\",\"\",Athletenliste!D85)","v":""},{"$f":"IF(Athletenliste!E85=\"\",\"\",Athletenliste!E85)","v":""},{"$f":"IF(Athletenliste!F85=\"\",\"\",Athletenliste!F85)","v":""},{"$f":"IF(Athletenliste!G85=\"\",\"\",Athletenliste!G85)","v":""},{"$f":"IF(Athletenliste!H85=\"\",\"\",Athletenliste!H85)","v":""},null,{"$f":"IF(B85=\"\",\"\",IF(D85=\"m\",INDIRECT(VLOOKUP(G85,Bezüge!$E$6:$F$16,2,FALSE)&ROW(G85)),INDIRECT(VLOOKUP(G85,Bezüge!$B$6:$C$16,2,FALSE)&ROW(G85))))","v":""},null,null,null,"","","","","","","","","","","","","","","","","","","","","","",null,"","","","","","","","","","","","","","","","","","","","","",""]
[null,{"$f":"IF(Athletenliste!B86=\"\",\"\",Athletenliste!B86)","v":""},{"$f":"IF(Athletenliste!C86=\"\",\"\",Athletenliste!C86)","v":""},{"$f":"IF(Athletenliste!D86=\"\",\"\",Athletenliste!D86)","v":""},{"$f":"IF(Athletenliste!E86=\"\",\"\",Athletenliste!E86)","v":""},{"$f":"IF(Athletenliste!F86=\"\",\"\",Athletenliste!F86)","v":""},{"$f":"IF(Athletenliste!G86=\"\",\"\",Athletenliste!G86)","v":""},{"$f":"IF(Athletenliste!H86=\"\",\"\",Athletenliste!H86)","v":""},null,{"$f":"IF(B86=\"\",\"\",IF(D86=\"m\",INDIRECT(VLOOKUP(G86,Bezüge!$E$6:$F$16,2,FALSE)&ROW(G86)),INDIRECT(VLOOKUP(G86,Bezüge!$B$6:$C$16,2,FALSE)&ROW(G86))))","v":""},null,null,null,"","","","","","","","","","","","","","","","","","","","","","",null,"","","","","","","","","","","","","","","","","","","","","",""]
[null,{"$f":"IF(Athletenliste!B87=\"\",\"\",Athletenliste!B87)","v":""},{"$f":"IF(Athletenliste!C87=\"\",\"\",Athletenliste!C87)","v":""},{"$f":"IF(Athletenliste!D87=\"\",\"\",Athletenliste!D87)","v":""},{"$f":"IF(Athletenliste!E87=\"\",\"\",Athletenliste!E87)","v":""},{"$f":"IF(Athletenliste!F87=\"\",\"\",Athletenliste!F87)","v":""},{"$f":"IF(Athletenliste!G87=\"\",\"\",Athletenliste!G87)","v":""},{"$f":"IF(Athletenliste!H87=\"\",\"\",Athletenliste!H87)","v":""},null,{"$f":"IF(B87=\"\",\"\",IF(D87=\"m\",INDIRECT(VLOOKUP(G87,Bezüge!$E$6:$F$16,2,FALSE)&ROW(G87)),INDIRECT(VLOOKUP(G87,Bezüge!$B$6:$C$16,2,FALSE)&ROW(G87))))","v":""},null,null,null,"","","","","","","","","","","","","","","","","","","","","","",null,"","","","","","","","","","","","","","","","","","","","","",""]
[null,{"$f":"IF(Athletenliste!B88=\"\",\"\",Athletenliste!B88)","v":""},{"$f":"IF(Athletenliste!C88=\"\",\"\",Athletenliste!C88)","v":""},{"$f":"IF(Athletenliste!D88=\"\",\"\",Athletenliste!D88)","v":""},{"$f":"IF(Athletenliste!E88=\"\",\"\",Athletenliste!E88)","v":""},{"$f":"IF(Athletenliste!F88=\"\",\"\",Athletenliste!F88)","v":""},{"$f":"IF(Athletenliste!G88=\"\",\"\",Athletenliste!G88)","v":""},{"$f":"IF(Athletenliste!H88=\"\",\"\",Athletenliste!H88)","v":""},null,{"$f":"IF(B88=\"\",\"\",IF(D88=\"m\",INDIRECT(VLOOKUP(G88,Bezüge!$E$6:$F$16,2,FALSE)&ROW(G88)),INDIRECT(VLOOKUP(G88,Bezüge!$B$6:$C$16,2,FALSE)&ROW(G88))))","v":""},null,null,null,"","","","","","","","","","","","","","","","","","","","","","",null,"","","","","","","","","","","","","","","","","","","","","",""]
[null,{"$f":"IF(Athletenliste!B89=\"\",\"\",Athletenliste!B89)","v":""},{"$f":"IF(Athletenliste!C89=\"\",\"\",Athletenliste!C89)","v":""},{"$f":"IF(Athletenliste!D89=\"\",\"\",Athletenliste!D89)","v":""},{"$f":"IF(Athletenliste!E89=\"\",\"\",Athletenliste!E89)","v":""},{"$f":"IF(Athletenliste!F89=\"\",\"\",Athletenliste!F89)","v":""},{"$f":"IF(Athletenliste!G89=\"\",\"\",Athletenliste!G89)","v":""},{"$f":"IF(Athletenliste!H89=\"\",\"\",Athletenliste!H89)","v":""},null,{"$f":"IF(B89=\"\",\"\",IF(D89=\"m\",INDIRECT(VLOOKUP(G89,Bezüge!$E$6:$F$16,2,FALSE)&ROW(G89)),INDIRECT(VLOOKUP(G89,Bezüge!$B$6:$C$16,2,FALSE)&ROW(G89))))","v":""},null,null,null,"","","","","","","","","","","","","","","","","","","","","","",null,"","","","","","","","","","","","","","","","","","","","","",""]
[null,{"$f":"IF(Athletenliste!B90=\"\",\"\",Athletenliste!B90)","v":""},{"$f":"IF(Athletenliste!C90=\"\",\"\",Athletenliste!C90)","v":""},{"$f":"IF(Athletenliste!D90=\"\",\"\",Athletenliste!D90)","v":""},{"$f":"IF(Athletenliste!E90=\"\",\"\",Athletenliste!E90)","v":""},{"$f":"IF(Athletenliste!F90=\"\",\"\",Athletenliste!F90)","v":""},{"$f":"IF(Athletenliste!G90=\"\",\"\",Athletenliste!G90)","v":""},{"$f":"IF(Athletenliste!H90=\"\",\"\",Athletenliste!H90)","v":""},null,{"$f":"IF(B90=\"\",\"\",IF(D90=\"m\",INDIRECT(VLOOKUP(G90,Bezüge!$E$6:$F$16,2,FALSE)&ROW(G90)),INDIRECT(VLOOKUP(G90,Bezüge!$B$6:$C$16,2,FALSE)&ROW(G90))))","v":""},null,null,null,"","","","","","","","","","","","","","","","","","","","","","",null,"","","","","","","","","","","","","","","","","","","","","",""]
[null,{"$f":"IF(Athletenliste!B91=\"\",\"\",Athletenliste!B91)","v":""},{"$f":"IF(Athletenliste!C91=\"\",\"\",Athletenliste!C91)","v":""},{"$f":"IF(Athletenliste!D91=\"\",\"\",Athletenliste!D91)","v":""},{"$f":"IF(Athletenliste!E91=\"\",\"\",Athletenliste!E91)","v":""},{"$f":"IF(Athletenliste!F91=\"\",\"\",Athletenliste!F91)","v":""},{"$f":"IF(Athletenliste!G91=\"\",\"\",Athletenliste!G91)","v":""},{"$f":"IF(Athletenliste!H91=\"\",\"\",Athletenliste!H91)","v":""},null,{"$f":"IF(B91=\"\",\"\",IF(D91=\"m\",INDIRECT(VLOOKUP(G91,Bezüge!$E$6:$F$16,2,FALSE)&ROW(G91)),INDIRECT(VLOOKUP(G91,Bezüge!$B$6:$C$16,2,FALSE)&ROW(G91))))","v":""},null,null,null,"","","","","","","","","","","","","","","","","","","","","","",null,"","","","","","","","","","","","","","","","","","","","","",""]
[null,{"$f":"IF(Athletenliste!B92=\"\",\"\",Athletenliste!B92)","v":""},{"$f":"IF(Athletenliste!C92=\"\",\"\",Athletenliste!C92)","v":""},{"$f":"IF(Athletenliste!D92=\"\",\"\",Athletenliste!D92)","v":""},{"$f":"IF(Athletenliste!E92=\"\",\"\",Athletenliste!E92)","v":""},{"$f":"IF(Athletenliste!F92=\"\",\"\",Athletenliste!F92)","v":""},{"$f":"IF(Athletenliste!G92=\"\",\"\",Athletenliste!G92)","v":""},{"$f":"IF(Athletenliste!H92=\"\",\"\",Athletenliste!H92)","v":""},null,{"$f":"IF(B92=\"\",\"\",IF(D92=\"m\",INDIRECT(VLOOKUP(G92,Bezüge!$E$6:$F$16,2,FALSE)&ROW(G92)),INDIRECT(VLOOKUP(G92,Bezüge!$B$6:$C$16,2,FALSE)&ROW(G92))))","v":""},null,null,null,"","","","","","","","","","","","","","","","","","","","","","",null,"","","","","","","","","","","","","","","","","","","","","",""]
[null,{"$f":"IF(Athletenliste!B93=\"\",\"\",Athletenliste!B93)","v":""},{"$f":"IF(Athletenliste!C93=\"\",\"\",Athletenliste!C93)","v":""},{"$f":"IF(Athletenliste!D93=\"\",\"\",Athletenliste!D93)","v":""},{"$f":"IF(Athletenliste!E93=\"\",\"\",Athletenliste!E93)","v":""},{"$f":"IF(Athletenliste!F93=\"\",\"\",Athletenliste!F93)","v":""},{"$f":"IF(Athletenliste!G93=\"\",\"\",Athletenliste!G93)","v":""},{"$f":"IF(Athletenliste!H93=\"\",\"\",Athletenliste!H93)","v":""},null,{"$f":"IF(B93=\"\",\"\",IF(D93=\"m\",INDIRECT(VLOOKUP(G93,Bezüge!$E$6:$F$16,2,FALSE)&ROW(G93)),INDIRECT(VLOOKUP(G93,Bezüge!$B$6:$C$16,2,FALSE)&ROW(G93))))","v":""},null,null,null,"","","","","","","","","","","","","","","","","","","","","","",null,"","","","","","","","","","","","","","","","","","","","","",""]
[null,{"$f":"IF(Athletenliste!B94=\"\",\"\",Athletenliste!B94)","v":""},{"$f":"IF(Athletenliste!C94=\"\",\"\",Athletenliste!C94)","v":""},{"$f":"IF(Athletenliste!D94=\"\",\"\",Athletenliste!D94)","v":""},{"$f":"IF(Athletenliste!E94=\"\",\"\",Athletenliste!E94)","v":""},{"$f":"IF(Athletenliste!F94=\"\",\"\",Athletenliste!F94)","v":""},{"$f":"IF(Athletenliste!G94=\"\",\"\",Athletenliste!G94)","v":""},{"$f":"IF(Athletenliste!H94=\"\",\"\",Athletenliste!H94)","v":""},null,{"$f":"IF(B94=\"\",\"\",IF(D94=\"m\",INDIRECT(VLOOKUP(G94,Bezüge!$E$6:$F$16,2,FALSE)&ROW(G94)),INDIRECT(VLOOKUP(G94,Bezüge!$B$6:$C$16,2,FALSE)&ROW(G94))))","v":""},null,null,null,"","","","","","","","","","","","","","","","","","","","","","",null,"","","","","","","","","","","","","","","","","","","","","",""]
[null,{"$f":"IF(Athletenliste!B95=\"\",\"\",Athletenliste!B95)","v":""},{"$f":"IF(Athletenliste!C95=\"\",\"\",Athletenliste!C95)","v":""},{"$f":"IF(Athletenliste!D95=\"\",\"\",Athletenliste!D95)","v":""},{"$f":"IF(Athletenliste!E95=\"\",\"\",Athletenliste!E95)","v":""},{"$f":"IF(Athletenliste!F95=\"\",\"\",Athletenliste!F95)","v":""},{"$f":"IF(Athletenliste!G95=\"\",\"\",Athletenliste!G95)","v":""},{"$f":"IF(Athletenliste!H95=\"\",\"\",Athletenliste!H95)","v":""},null,{"$f":"IF(B95=\"\",\"\",IF(D95=\"m\",INDIRECT(VLOOKUP(G95,Bezüge!$E$6:$F$16,2,FALSE)&ROW(G95)),INDIRECT(VLOOKUP(G95,Bezüge!$B$6:$C$16,2,FALSE)&ROW(G95))))","v":""},null,null,null,"","","","","","","","","","","","","","","","","","","","","","",null,"","","","","","","","","","","","","","","","","","","","","",""]
[null,{"$f":"IF(Athletenliste!B96=\"\",\"\",Athletenliste!B96)","v":""},{"$f":"IF(Athletenliste!C96=\"\",\"\",Athletenliste!C96)","v":""},{"$f":"IF(Athletenliste!D96=\"\",\"\",Athletenliste!D96)","v":""},{"$f":"IF(Athletenliste!E96=\"\",\"\",Athletenliste!E96)","v":""},{"$f":"IF(Athletenliste!F96=\"\",\"\",Athletenliste!F96)","v":""},{"$f":"IF(Athletenliste!G96=\"\",\"\",Athletenliste!G96)","v":""},{"$f":"IF(Athletenliste!H96=\"\",\"\",Athletenliste!H96)","v":""},null,{"$f":"IF(B96=\"\",\"\",IF(D96=\"m\",INDIRECT(VLOOKUP(G96,Bezüge!$E$6:$F$16,2,FALSE)&ROW(G96)),INDIRECT(VLOOKUP(G96,Bezüge!$B$6:$C$16,2,FALSE)&ROW(G96))))","v":""},null,null,null,"","","","","","","","","","","","","","","","","","","","","","",null,"","","","","","","","","","","","","","","","","","","","","",""]
[null,{"$f":"IF(Athletenliste!B97=\"\",\"\",Athletenliste!B97)","v":""},{"$f":"IF(Athletenliste!C97=\"\",\"\",Athletenliste!C97)","v":""},{"$f":"IF(Athletenliste!D97=\"\",\"\",Athletenliste!D97)","v":""},{"$f":"IF(Athletenliste!E97=\"\",\"\",Athletenliste!E97)","v":""},{"$f":"IF(Athletenliste!F97=\"\",\"\",Athletenliste!F97)","v":""},{"$f":"IF(Athletenliste!G97=\"\",\"\",Athletenliste!G97)","v":""},{"$f":"IF(Athletenliste!H97=\"\",\"\",Athletenliste!H97)","v":""},null,{"$f":"IF(B97=\"\",\"\",IF(D97=\"m\",INDIRECT(VLOOKUP(G97,Bezüge!$E$6:$F$16,2,FALSE)&ROW(G97)),INDIRECT(VLOOKUP(G97,Bezüge!$B$6:$C$16,2,FALSE)&ROW(G97))))","v":""},null,null,null,"","","","","","","","","","","","","","","","","","","","","","",null,"","","","","","","","","","","","","","","","","","","","","",""]
[null,{"$f":"IF(Athletenliste!B98=\"\",\"\",Athletenliste!B98)","v":""},{"$f":"IF(Athletenliste!C98=\"\",\"\",Athletenliste!C98)","v":""},{"$f":"IF(Athletenliste!D98=\"\",\"\",Athletenliste!D98)","v":""},{"$f":"IF(Athletenliste!E98=\"\",\"\",Athletenliste!E98)","v":""},{"$f":"IF(Athletenliste!F98=\"\",\"\",Athletenliste!F98)","v":""},{"$f":"IF(Athletenliste!G98=\"\",\"\",Athletenliste!G98)","v":""},{"$f":"IF(Athletenliste!H98=\"\",\"\",Athletenliste!H98)","v":""},null,{"$f":"IF(B98=\"\",\"\",IF(D98=\"m\",INDIRECT(VLOOKUP(G98,Bezüge!$E$6:$F$16,2,FALSE)&ROW(G98)),INDIRECT(VLOOKUP(G98,Bezüge!$B$6:$C$16,2,FALSE)&ROW(G98))))","v":""},null,null,null,"","","","","","","","","","","","","","","","","","","","","","",null,"","","","","","","","","","","","","","","","","","","","","",""]
[null,{"$f":"IF(Athletenliste!B99=\"\",\"\",Athletenliste!B99)","v":""},{"$f":"IF(Athletenliste!C99=\"\",\"\",Athletenliste!C99)","v":""},{"$f":"IF(Athletenliste!D99=\"\",\"\",Athletenliste!D99)","v":""},{"$f":"IF(Athletenliste!E99=\"\",\"\",Athletenliste!E99)","v":""},{"$f":"IF(Athletenliste!F99=\"\",\"\",Athletenliste!F99)","v":""},{"$f":"IF(Athletenliste!G99=\"\",\"\",Athletenliste!G99)","v":""},{"$f":"IF(Athletenliste!H99=\"\",\"\",Athletenliste!H99)","v":""},null,{"$f":"IF(B99=\"\",\"\",IF(D99=\"m\",INDIRECT(VLOOKUP(G99,Bezüge!$E$6:$F$16,2,FALSE)&ROW(G99)),INDIRECT(VLOOKUP(G99,Bezüge!$B$6:$C$16,2,FALSE)&ROW(G99))))","v":""},null,null,null,"","","","","","","","","","","","","","","","","","","","","","",null,"","","","","","","","","","","","","","","","","","","","","",""]
[null,{"$f":"IF(Athletenliste!B100=\"\",\"\",Athletenliste!B100)","v":""},{"$f":"IF(Athletenliste!C100=\"\",\"\",Athletenliste!C100)","v":""},{"$f":"IF(Athletenliste!D100=\"\",\"\",Athletenliste!D100)","v":""},{"$f":"IF(Athletenliste!E100=\"\",\"\",Athletenliste!E100)","v":""},{"$f":"IF(Athletenliste!F100=\"\",\"\",Athletenliste!F100)","v":""},{"$f":"IF(Athletenliste!G100=\"\",\"\",Athletenliste!G100)","v":""},{"$f":"IF(Athletenliste!H100=\"\",\"\",Athletenliste!H100)","v":""},null,{"$f":"IF(B100=\"\",\"\",IF(D100=\"m\",INDIRECT(VLOOKUP(G100,Bezüge!$E$6:$F$16,2,FALSE)&ROW(G100)),INDIRECT(VLOOKUP(G100,Bezüge!$B$6:$C$16,2,FALSE)&ROW(G100))))","v":""},null,null,null,"","","","","","","","","","","","","","","","","","","","","","",null,"","","","","","","","","","","","","","","","","","","","","",""]
[null,{"$f":"IF(Athletenliste!B101=\"\",\"\",Athletenliste!B101)","v":""},{"$f":"IF(Athletenliste!C101=\"\",\"\",Athletenliste!C101)","v":""},{"$f":"IF(Athletenliste!D101=\"\",\"\",Athletenliste!D101)","v":""},{"$f":"IF(Athletenliste!E101=\"\",\"\",Athletenliste!E101)","v":""},{"$f":"IF(Athletenliste!F101=\"\",\"\",Athletenliste!F101)","v":""},{"$f":"IF(Athletenliste!G101=\"\",\"\",Athletenliste!G101)","v":""},{"$f":"IF(Athletenliste!H101=\"\",\"\",Athletenliste!H101)","v":""},null,{"$f":"IF(B101=\"\",\"\",IF(D101=\"m\",INDIRECT(VLOOKUP(G101,Bezüge!$E$6:$F$16,2,FALSE)&ROW(G101)),INDIRECT(VLOOKUP(G101,Bezüge!$B$6:$C$16,2,FALSE)&ROW(G101))))","v":""},null,null,null,"","","","","","","","","","","","","","","","","","","","","","",null,"","","","","","","","","","","","","","","","","","","","","",""]
[null,{"$f":"IF(Athletenliste!B102=\"\",\"\",Athletenliste!B102)","v":""},{"$f":"IF(Athletenliste!C102=\"\",\"\",Athletenliste!C102)","v":""},{"$f":"IF(Athletenliste!D102=\"\",\"\",Athletenliste!D102)","v":""},{"$f":"IF(Athletenliste!E102=\"\",\"\",Athletenliste!E102)","v":""},{"$f":"IF(Athletenliste!F102=\"\",\"\",Athletenliste!F102)","v":""},{"$f":"IF(Athletenliste!G102=\"\",\"\",Athletenliste!G102)","v":""},{"$f":"IF(Athletenliste!H102=\"\",\"\",Athletenliste!H102)","v":""},null,{"$f":"IF(B102=\"\",\"\",IF(D102=\"m\",INDIRECT(VLOOKUP(G102,Bezüge!$E$6:$F$16,2,FALSE)&ROW(G102)),INDIRECT(VLOOKUP(G102,Bezüge!$B$6:$C$16,2,FALSE)&ROW(G102))))","v":""},null,null,null,"","","","","","","","","","","","","","","","","","","","","","",null,"","","","","","","","","","","","","","","","","","","","","",""]
[null,{"$f":"IF(Athletenliste!B103=\"\",\"\",Athletenliste!B103)","v":""},{"$f":"IF(Athletenliste!C103=\"\",\"\",Athletenliste!C103)","v":""},{"$f":"IF(Athletenliste!D103=\"\",\"\",Athletenliste!D103)","v":""},{"$f":"IF(Athletenliste!E103=\"\",\"\",Athletenliste!E103)","v":""},{"$f":"IF(Athletenliste!F103=\"\",\"\",Athletenliste!F103)","v":""},{"$f":"IF(Athletenliste!G103=\"\",\"\",Athletenliste!G103)","v":""},{"$f":"IF(Athletenliste!H103=\"\",\"\",Athletenliste!H103)","v":""},null,{"$f":"IF(B103=\"\",\"\",IF(D103=\"m\",INDIRECT(VLOOKUP(G103,Bezüge!$E$6:$F$16,2,FALSE)&ROW(G103)),INDIRECT(VLOOKUP(G103,Bezüge!$B$6:$C$16,2,FALSE)&ROW(G103))))","v":""},null,null,null,"","","","","","","","","","","","","","","","","","","","","","",null,"","","","","","","","","","","","","","","","","","","","","",""]
[null,{"$f":"IF(Athletenliste!B104=\"\",\"\",Athletenliste!B104)","v":""},{"$f":"IF(Athletenliste!C104=\"\",\"\",Athletenliste!C104)","v":""},{"$f":"IF(Athletenliste!D104=\"\",\"\",Athletenliste!D104)","v":""},{"$f":"IF(Athletenliste!E104=\"\",\"\",Athletenliste!E104)","v":""},{"$f":"IF(Athletenliste!F104=\"\",\"\",Athletenliste!F104)","v":""},{"$f":"IF(Athletenliste!G104=\"\",\"\",Athletenliste!G104)","v":""},{"$f":"IF(Athletenliste!H104=\"\",\"\",Athletenliste!H104)","v":""},null,{"$f":"IF(B104=\"\",\"\",IF(D104=\"m\",INDIRECT(VLOOKUP(G104,Bezüge!$E$6:$F$16,2,FALSE)&ROW(G104)),INDIRECT(VLOOKUP(G104,Bezüge!$B$6:$C$16,2,FALSE)&ROW(G104))))","v":""},null,null,null,"","","","","","","","","","","","","","","","","","","","","","",null,"","","","","","","","","","","","","","","","","","","","","",""]
[null,{"$f":"IF(Athletenliste!B105=\"\",\"\",Athletenliste!B105)","v":""},{"$f":"IF(Athletenliste!C105=\"\",\"\",Athletenliste!C105)","v":""},{"$f":"IF(Athletenliste!D105=\"\",\"\",Athletenliste!D105)","v":""},{"$f":"IF(Athletenliste!E105=\"\",\"\",Athletenliste!E105)","v":""},{"$f":"IF(Athletenliste!F105=\"\",\"\",Athletenliste!F105)","v":""},{"$f":"IF(Athletenliste!G105=\"\",\"\",Athletenliste!G105)","v":""},{"$f":"IF(Athletenliste!H105=\"\",\"\",Athletenliste!H105)","v":""},null,{"$f":"IF(B105=\"\",\"\",IF(D105=\"m\",INDIRECT(VLOOKUP(G105,Bezüge!$E$6:$F$16,2,FALSE)&ROW(G105)),INDIRECT(VLOOKUP(G105,Bezüge!$B$6:$C$16,2,FALSE)&ROW(G105))))","v":""},null,null,null,"","","","","","","","","","","","","","","","","","","","","","",null,"","","","","","","","","","","","","","","","","","","","","",""]
[null,{"$f":"IF(Athletenliste!B106=\"\",\"\",Athletenliste!B106)","v":""},{"$f":"IF(Athletenliste!C106=\"\",\"\",Athletenliste!C106)","v":""},{"$f":"IF(Athletenliste!D106=\"\",\"\",Athletenliste!D106)","v":""},{"$f":"IF(Athletenliste!E106=\"\",\"\",Athletenliste!E106)","v":""},{"$f":"IF(Athletenliste!F106=\"\",\"\",Athletenliste!F106)","v":""},{"$f":"IF(Athletenliste!G106=\"\",\"\",Athletenliste!G106)","v":""},{"$f":"IF(Athletenliste!H106=\"\",\"\",Athletenliste!H106)","v":""},null,{"$f":"IF(B106=\"\",\"\",IF(D106=\"m\",INDIRECT(VLOOKUP(G106,Bezüge!$E$6:$F$16,2,FALSE)&ROW(G106)),INDIRECT(VLOOKUP(G106,Bezüge!$B$6:$C$16,2,FALSE)&ROW(G106))))","v":""},null,null,null,"","","","","","","","","","","","","","","","","","","","","","",null,"","","","","","","","","","","","","","","","","","","","","",""]
[null,{"$f":"IF(Athletenliste!B107=\"\",\"\",Athletenliste!B107)","v":""},{"$f":"IF(Athletenliste!C107=\"\",\"\",Athletenliste!C107)","v":""},{"$f":"IF(Athletenliste!D107=\"\",\"\",Athletenliste!D107)","v":""},{"$f":"IF(Athletenliste!E107=\"\",\"\",Athletenliste!E107)","v":""},{"$f":"IF(Athletenliste!F107=\"\",\"\",Athletenliste!F107)","v":""},{"$f":"IF(Athletenliste!G107=\"\",\"\",Athletenliste!G107)","v":""},{"$f":"IF(Athletenliste!H107=\"\",\"\",Athletenliste!H107)","v":""},null,{"$f":"IF(B107=\"\",\"\",IF(D107=\"m\",INDIRECT(VLOOKUP(G107,Bezüge!$E$6:$F$16,2,FALSE)&ROW(G107)),INDIRECT(VLOOKUP(G107,Bezüge!$B$6:$C$16,2,FALSE)&ROW(G107))))","v":""},null,null,null,"","","","","","","","","","","","","","","","","","","","","","",null,"","","","","","","","","","","","","","","","","","","","","",""]
[null,{"$f":"IF(Athletenliste!B108=\"\",\"\",Athletenliste!B108)","v":""},{"$f":"IF(Athletenliste!C108=\"\",\"\",Athletenliste!C108)","v":""},{"$f":"IF(Athletenliste!D108=\"\",\"\",Athletenliste!D108)","v":""},{"$f":"IF(Athletenliste!E108=\"\",\"\",Athletenliste!E108)","v":""},{"$f":"IF(Athletenliste!F108=\"\",\"\",Athletenliste!F108)","v":""},{"$f":"IF(Athletenliste!G108=\"\",\"\",Athletenliste!G108)","v":""},{"$f":"IF(Athletenliste!H108=\"\",\"\",Athletenliste!H108)","v":""},null,{"$f":"IF(B108=\"\",\"\",IF(D108=\"m\",INDIRECT(VLOOKUP(G108,Bezüge!$E$6:$F$16,2,FALSE)&ROW(G108)),INDIRECT(VLOOKUP(G108,Bezüge!$B$6:$C$16,2,FALSE)&ROW(G108))))","v":""},null,null,null,"","","","","","","","","","","","","","","","","","","","","","",null,"","","","","","","","","","","","","","","","","","","","","",""]
[null,{"$f":"IF(Athletenliste!B109=\"\",\"\",Athletenliste!B109)","v":""},{"$f":"IF(Athletenliste!C109=\"\",\"\",Athletenliste!C109)","v":""},{"$f":"IF(Athletenliste!D109=\"\",\"\",Athletenliste!D109)","v":""},{"$f":"IF(Athletenliste!E109=\"\",\"\",Athletenliste!E109)","v":""},{"$f":"IF(Athletenliste!F109=\"\",\"\",Athletenliste!F109)","v":""},{"$f":"IF(Athletenliste!G109=\"\",\"\",Athletenliste!G109)","v":""},{"$f":"IF(Athletenliste!H109=\"\",\"\",Athletenliste!H109)","v":""},null,{"$f":"IF(B109=\"\",\"\",IF(D109=\"m\",INDIRECT(VLOOKUP(G109,Bezüge!$E$6:$F$16,2,FALSE)&ROW(G109)),INDIRECT(VLOOKUP(G109,Bezüge!$B$6:$C$16,2,FALSE)&ROW(G109))))","v":""},null,null,null,"","","","","","","","","","","","","","","","","","","","","","",null,"","","","","","","","","","","","","","","","","","","","","",""]
[null,{"$f":"IF(Athletenliste!B110=\"\",\"\",Athletenliste!B110)","v":""},{"$f":"IF(Athletenliste!C110=\"\",\"\",Athletenliste!C110)","v":""},{"$f":"IF(Athletenliste!D110=\"\",\"\",Athletenliste!D110)","v":""},{"$f":"IF(Athletenliste!E110=\"\",\"\",Athletenliste!E110)","v":""},{"$f":"IF(Athletenliste!F110=\"\",\"\",Athletenliste!F110)","v":""},{"$f":"IF(Athletenliste!G110=\"\",\"\",Athletenliste!G110)","v":""},{"$f":"IF(Athletenliste!H110=\"\",\"\",Athletenliste!H110)","v":""},null,{"$f":"IF(B110=\"\",\"\",IF(D110=\"m\",INDIRECT(VLOOKUP(G110,Bezüge!$E$6:$F$16,2,FALSE)&ROW(G110)),INDIRECT(VLOOKUP(G110,Bezüge!$B$6:$C$16,2,FALSE)&ROW(G110))))","v":""},null,null,null,"","","","","","","","","","","","","","","","","","","","","","",null,"","","","","","","","","","","","","","","","","","","","","",""]
[null,{"$f":"IF(Athletenliste!B111=\"\",\"\",Athletenliste!B111)","v":""},{"$f":"IF(Athletenliste!C111=\"\",\"\",Athletenliste!C111)","v":""},{"$f":"IF(Athletenliste!D111=\"\",\"\",Athletenliste!D111)","v":""},{"$f":"IF(Athletenliste!E111=\"\",\"\",Athletenliste!E111)","v":""},{"$f":"IF(Athletenliste!F111=\"\",\"\",Athletenliste!F111)","v":""},{"$f":"IF(Athletenliste!G111=\"\",\"\",Athletenliste!G111)","v":""},{"$f":"IF(Athletenliste!H111=\"\",\"\",Athletenliste!H111)","v":""},null,{"$f":"IF(B111=\"\",\"\",IF(D111=\"m\",INDIRECT(VLOOKUP(G111,Bezüge!$E$6:$F$16,2,FALSE)&ROW(G111)),INDIRECT(VLOOKUP(G111,Bezüge!$B$6:$C$16,2,FALSE)&ROW(G111))))","v":""},null,null,null,"","","","","","","","","","","","","","","","","","","","","","",null,"","","","","","","","","","","","","","","","","","","","","",""]
[null,{"$f":"IF(Athletenliste!B112=\"\",\"\",Athletenliste!B112)","v":""},{"$f":"IF(Athletenliste!C112=\"\",\"\",Athletenliste!C112)","v":""},{"$f":"IF(Athletenliste!D112=\"\",\"\",Athletenliste!D112)","v":""},{"$f":"IF(Athletenliste!E112=\"\",\"\",Athletenliste!E112)","v":""},{"$f":"IF(Athletenliste!F112=\"\",\"\",Athletenliste!F112)","v":""},{"$f":"IF(Athletenliste!G112=\"\",\"\",Athletenliste!G112)","v":""},{"$f":"IF(Athletenliste!H112=\"\",\"\",Athletenliste!H112)","v":""},null,{"$f":"IF(B112=\"\",\"\",IF(D112=\"m\",INDIRECT(VLOOKUP(G112,Bezüge!$E$6:$F$16,2,FALSE)&ROW(G112)),INDIRECT(VLOOKUP(G112,Bezüge!$B$6:$C$16,2,FALSE)&ROW(G112))))","v":""},null,null,null,"","","","","","","","","","","","","","","","","","","","","","",null,"","","","","","","","","","","","","","","","","","","","","",""]
[null,{"$f":"IF(Athletenliste!B113=\"\",\"\",Athletenliste!B113)","v":""},{"$f":"IF(Athletenliste!C113=\"\",\"\",Athletenliste!C113)","v":""},{"$f":"IF(Athletenliste!D113=\"\",\"\",Athletenliste!D113)","v":""},{"$f":"IF(Athletenliste!E113=\"\",\"\",Athletenliste!E113)","v":""},{"$f":"IF(Athletenliste!F113=\"\",\"\",Athletenliste!F113)","v":""},{"$f":"IF(Athletenliste!G113=\"\",\"\",Athletenliste!G113)","v":""},{"$f":"IF(Athletenliste!H113=\"\",\"\",Athletenliste!H113)","v":""},null,{"$f":"IF(B113=\"\",\"\",IF(D113=\"m\",INDIRECT(VLOOKUP(G113,Bezüge!$E$6:$F$16,2,FALSE)&ROW(G113)),INDIRECT(VLOOKUP(G113,Bezüge!$B$6:$C$16,2,FALSE)&ROW(G113))))","v":""},null,null,null,"","","","","","","","","","","","","","","","","","","","","","",null,"","","","","","","","","","","","","","","","","","","","","",""]
[null,{"$f":"IF(Athletenliste!B114=\"\",\"\",Athletenliste!B114)","v":""},{"$f":"IF(Athletenliste!C114=\"\",\"\",Athletenliste!C114)","v":""},{"$f":"IF(Athletenliste!D114=\"\",\"\",Athletenliste!D114)","v":""},{"$f":"IF(Athletenliste!E114=\"\",\"\",Athletenliste!E114)","v":""},{"$f":"IF(Athletenliste!F114=\"\",\"\",Athletenliste!F114)","v":""},{"$f":"IF(Athletenliste!G114=\"\",\"\",Athletenliste!G114)","v":""},{"$f":"IF(Athletenliste!H114=\"\",\"\",Athletenliste!H114)","v":""},null,{"$f":"IF(B114=\"\",\"\",IF(D114=\"m\",INDIRECT(VLOOKUP(G114,Bezüge!$E$6:$F$16,2,FALSE)&ROW(G114)),INDIRECT(VLOOKUP(G114,Bezüge!$B$6:$C$16,2,FALSE)&ROW(G114))))","v":""},null,null,null,"","","","","","","","","","","","","","","","","","","","","","",null,"","","","","","","","","","","","","","","","","","","","","",""]
[null,{"$f":"IF(Athletenliste!B115=\"\",\"\",Athletenliste!B115)","v":""},{"$f":"IF(Athletenliste!C115=\"\",\"\",Athletenliste!C115)","v":""},{"$f":"IF(Athletenliste!D115=\"\",\"\",Athletenliste!D115)","v":""},{"$f":"IF(Athletenliste!E115=\"\",\"\",Athletenliste!E115)","v":""},{"$f":"IF(Athletenliste!F115=\"\",\"\",Athletenliste!F115)","v":""},{"$f":"IF(Athletenliste!G115=\"\",\"\",Athletenliste!G115)","v":""},{"$f":"IF(Athletenliste!H115=\"\",\"\",Athletenliste!H115)","v":""},null,{"$f":"IF(B115=\"\",\"\",IF(D115=\"m\",INDIRECT(VLOOKUP(G115,Bezüge!$E$6:$F$16,2,FALSE)&ROW(G115)),INDIRECT(VLOOKUP(G115,Bezüge!$B$6:$C$16,2,FALSE)&ROW(G115))))","v":""},null,null,null,"","","","","","","","","","","","","","","","","","","","","","",null,"","","","","","","","","","","","","","","","","","","","","",""]
[null,{"$f":"IF(Athletenliste!B116=\"\",\"\",Athletenliste!B116)","v":""},{"$f":"IF(Athletenliste!C116=\"\",\"\",Athletenliste!C116)","v":""},{"$f":"IF(Athletenliste!D116=\"\",\"\",Athletenliste!D116)","v":""},{"$f":"IF(Athletenliste!E116=\"\",\"\",Athletenliste!E116)","v":""},{"$f":"IF(Athletenliste!F116=\"\",\"\",Athletenliste!F116)","v":""},{"$f":"IF(Athletenliste!G116=\"\",\"\",Athletenliste!G116)","v":""},{"$f":"IF(Athletenliste!H116=\"\",\"\",Athletenliste!H116)","v":""},null,{"$f":"IF(B116=\"\",\"\",IF(D116=\"m\",INDIRECT(VLOOKUP(G116,Bezüge!$E$6:$F$16,2,FALSE)&ROW(G116)),INDIRECT(VLOOKUP(G116,Bezüge!$B$6:$C$16,2,FALSE)&ROW(G116))))","v":""},null,null,null,"","","","","","","","","","","","","","","","","","","","","","",null,"","","","","","","","","","","","","","","","","","","","","",""]
[null,{"$f":"IF(Athletenliste!B117=\"\",\"\",Athletenliste!B117)","v":""},{"$f":"IF(Athletenliste!C117=\"\",\"\",Athletenliste!C117)","v":""},{"$f":"IF(Athletenliste!D117=\"\",\"\",Athletenliste!D117)","v":""},{"$f":"IF(Athletenliste!E117=\"\",\"\",Athletenliste!E117)","v":""},{"$f":"IF(Athletenliste!F117=\"\",\"\",Athletenliste!F117)","v":""},{"$f":"IF(Athletenliste!G117=\"\",\"\",Athletenliste!G117)","v":""},{"$f":"IF(Athletenliste!H117=\"\",\"\",Athletenliste!H117)","v":""},null,{"$f":"IF(B117=\"\",\"\",IF(D117=\"m\",INDIRECT(VLOOKUP(G117,Bezüge!$E$6:$F$16,2,FALSE)&ROW(G117)),INDIRECT(VLOOKUP(G117,Bezüge!$B$6:$C$16,2,FALSE)&ROW(G117))))","v":""},null,null,null,"","","","","","","","","","","","","","","","","","","","","","",null,"","","","","","","","","","","","","","","","","","","","","",""]
[null,{"$f":"IF(Athletenliste!B118=\"\",\"\",Athletenliste!B118)","v":""},{"$f":"IF(Athletenliste!C118=\"\",\"\",Athletenliste!C118)","v":""},{"$f":"IF(Athletenliste!D118=\"\",\"\",Athletenliste!D118)","v":""},{"$f":"IF(Athletenliste!E118=\"\",\"\",Athletenliste!E118)","v":""},{"$f":"IF(Athletenliste!F118=\"\",\"\",Athletenliste!F118)","v":""},{"$f":"IF(Athletenliste!G118=\"\",\"\",Athletenliste!G118)","v":""},{"$f":"IF(Athletenliste!H118=\"\",\"\",Athletenliste!H118)","v":""},null,{"$f":"IF(B118=\"\",\"\",IF(D118=\"m\",INDIRECT(VLOOKUP(G118,Bezüge!$E$6:$F$16,2,FALSE)&ROW(G118)),INDIRECT(VLOOKUP(G118,Bezüge!$B$6:$C$16,2,FALSE)&ROW(G118))))","v":""},null,null,null,"","","","","","","","","","","","","","","","","","","","","","",null,"","","","","","","","","","","","","","","","","","","","","",""]
[null,{"$f":"IF(Athletenliste!B119=\"\",\"\",Athletenliste!B119)","v":""},{"$f":"IF(Athletenliste!C119=\"\",\"\",Athletenliste!C119)","v":""},{"$f":"IF(Athletenliste!D119=\"\",\"\",Athletenliste!D119)","v":""},{"$f":"IF(Athletenliste!E119=\"\",\"\",Athletenliste!E119)","v":""},{"$f":"IF(Athletenliste!F119=\"\",\"\",Athletenliste!F119)","v":""},{"$f":"IF(Athletenliste!G119=\"\",\"\",Athletenliste!G119)","v":""},{"$f":"IF(Athletenliste!H119=\"\",\"\",Athletenliste!H119)","v":""},null,{"$f":"IF(B119=\"\",\"\",IF(D119=\"m\",INDIRECT(VLOOKUP(G119,Bezüge!$E$6:$F$16,2,FALSE)&ROW(G119)),INDIRECT(VLOOKUP(G119,Bezüge!$B$6:$C$16,2,FALSE)&ROW(G119))))","v":""},null,null,null,"","","","","","","","","","","","","","","","","","","","","","",null,"","","","","","","","","","","","","","","","","","","","","",""]
[null,{"$f":"IF(Athletenliste!B120=\"\",\"\",Athletenliste!B120)","v":""},{"$f":"IF(Athletenliste!C120=\"\",\"\",Athletenliste!C120)","v":""},{"$f":"IF(Athletenliste!D120=\"\",\"\",Athletenliste!D120)","v":""},{"$f":"IF(Athletenliste!E120=\"\",\"\",Athletenliste!E120)","v":""},{"$f":"IF(Athletenliste!F120=\"\",\"\",Athletenliste!F120)","v":""},{"$f":"IF(Athletenliste!G120=\"\",\"\",Athletenliste!G120)","v":""},{"$f":"IF(Athletenliste!H120=\"\",\"\",Athletenliste!H120)","v":""},null,{"$f":"IF(B120=\"\",\"\",IF(D120=\"m\",INDIRECT(VLOOKUP(G120,Bezüge!$E$6:$F$16,2,FALSE)&ROW(G120)),INDIRECT(VLOOKUP(G120,Bezüge!$B$6:$C$16,2,FALSE)&ROW(G120))))","v":""},null,null,null,"","","","","","","","","","","","","","","","","","","","","","",null,"","","","","","","","","","","","","","","","","","","","","",""]
[null,{"$f":"IF(Athletenliste!B121=\"\",\"\",Athletenliste!B121)","v":""},{"$f":"IF(Athletenliste!C121=\"\",\"\",Athletenliste!C121)","v":""},{"$f":"IF(Athletenliste!D121=\"\",\"\",Athletenliste!D121)","v":""},{"$f":"IF(Athletenliste!E121=\"\",\"\",Athletenliste!E121)","v":""},{"$f":"IF(Athletenliste!F121=\"\",\"\",Athletenliste!F121)","v":""},{"$f":"IF(Athletenliste!G121=\"\",\"\",Athletenliste!G121)","v":""},{"$f":"IF(Athletenliste!H121=\"\",\"\",Athletenliste!H121)","v":""},null,{"$f":"IF(B121=\"\",\"\",IF(D121=\"m\",INDIRECT(VLOOKUP(G121,Bezüge!$E$6:$F$16,2,FALSE)&ROW(G121)),INDIRECT(VLOOKUP(G121,Bezüge!$B$6:$C$16,2,FALSE)&ROW(G121))))","v":""},null,null,null,"","","","","","","","","","","","","","","","","","","","","","",null,"","","","","","","","","","","","","","","","","","","","","",""]
[null,{"$f":"IF(Athletenliste!B122=\"\",\"\",Athletenliste!B122)","v":""},{"$f":"IF(Athletenliste!C122=\"\",\"\",Athletenliste!C122)","v":""},{"$f":"IF(Athletenliste!D122=\"\",\"\",Athletenliste!D122)","v":""},{"$f":"IF(Athletenliste!E122=\"\",\"\",Athletenliste!E122)","v":""},{"$f":"IF(Athletenliste!F122=\"\",\"\",Athletenliste!F122)","v":""},{"$f":"IF(Athletenliste!G122=\"\",\"\",Athletenliste!G122)","v":""},{"$f":"IF(Athletenliste!H122=\"\",\"\",Athletenliste!H122)","v":""},null,{"$f":"IF(B122=\"\",\"\",IF(D122=\"m\",INDIRECT(VLOOKUP(G122,Bezüge!$E$6:$F$16,2,FALSE)&ROW(G122)),INDIRECT(VLOOKUP(G122,Bezüge!$B$6:$C$16,2,FALSE)&ROW(G122))))","v":""},null,null,null,"","","","","","","","","","","","","","","","","","","","","","",null,"","","","","","","","","","","","","","","","","","","","","",""]
[null,{"$f":"IF(Athletenliste!B123=\"\",\"\",Athletenliste!B123)","v":""},{"$f":"IF(Athletenliste!C123=\"\",\"\",Athletenliste!C123)","v":""},{"$f":"IF(Athletenliste!D123=\"\",\"\",Athletenliste!D123)","v":""},{"$f":"IF(Athletenliste!E123=\"\",\"\",Athletenliste!E123)","v":""},{"$f":"IF(Athletenliste!F123=\"\",\"\",Athletenliste!F123)","v":""},{"$f":"IF(Athletenliste!G123=\"\",\"\",Athletenliste!G123)","v":""},{"$f":"IF(Athletenliste!H123=\"\",\"\",Athletenliste!H123)","v":""},null,{"$f":"IF(B123=\"\",\"\",IF(D123=\"m\",INDIRECT(VLOOKUP(G123,Bezüge!$E$6:$F$16,2,FALSE)&ROW(G123)),INDIRECT(VLOOKUP(G123,Bezüge!$B$6:$C$16,2,FALSE)&ROW(G123))))","v":""},null,null,null,"","","","","","","","","","","","","","","","","","","","","","",null,"","","","","","","","","","","","","","","","","","","","","",""]
[null,{"$f":"IF(Athletenliste!B124=\"\",\"\",Athletenliste!B124)","v":""},{"$f":"IF(Athletenliste!C124=\"\",\"\",Athletenliste!C124)","v":""},{"$f":"IF(Athletenliste!D124=\"\",\"\",Athletenliste!D124)","v":""},{"$f":"IF(Athletenliste!E124=\"\",\"\",Athletenliste!E124)","v":""},{"$f":"IF(Athletenliste!F124=\"\",\"\",Athletenliste!F124)","v":""},{"$f":"IF(Athletenliste!G124=\"\",\"\",Athletenliste!G124)","v":""},{"$f":"IF(Athletenliste!H124=\"\",\"\",Athletenliste!H124)","v":""},null,{"$f":"IF(B124=\"\",\"\",IF(D124=\"m\",INDIRECT(VLOOKUP(G124,Bezüge!$E$6:$F$16,2,FALSE)&ROW(G124)),INDIRECT(VLOOKUP(G124,Bezüge!$B$6:$C$16,2,FALSE)&ROW(G124))))","v":""},null,null,null,"","","","","","","","","","","","","","","","","","","","","","",null,"","","","","","","","","","","","","","","","","","","","","",""]
[null,{"$f":"IF(Athletenliste!B125=\"\",\"\",Athletenliste!B125)","v":""},{"$f":"IF(Athletenliste!C125=\"\",\"\",Athletenliste!C125)","v":""},{"$f":"IF(Athletenliste!D125=\"\",\"\",Athletenliste!D125)","v":""},{"$f":"IF(Athletenliste!E125=\"\",\"\",Athletenliste!E125)","v":""},{"$f":"IF(Athletenliste!F125=\"\",\"\",Athletenliste!F125)","v":""},{"$f":"IF(Athletenliste!G125=\"\",\"\",Athletenliste!G125)","v":""},{"$f":"IF(Athletenliste!H125=\"\",\"\",Athletenliste!H125)","v":""},null,{"$f":"IF(B125=\"\",\"\",IF(D125=\"m\",INDIRECT(VLOOKUP(G125,Bezüge!$E$6:$F$16,2,FALSE)&ROW(G125)),INDIRECT(VLOOKUP(G125,Bezüge!$B$6:$C$16,2,FALSE)&ROW(G125))))","v":""},null,null,null,"","","","","","","","","","","","","","","","","","","","","","",null,"","","","","","","","","","","","","","","","","","","","","",""]
[null,{"$f":"IF(Athletenliste!B126=\"\",\"\",Athletenliste!B126)","v":""},{"$f":"IF(Athletenliste!C126=\"\",\"\",Athletenliste!C126)","v":""},{"$f":"IF(Athletenliste!D126=\"\",\"\",Athletenliste!D126)","v":""},{"$f":"IF(Athletenliste!E126=\"\",\"\",Athletenliste!E126)","v":""},{"$f":"IF(Athletenliste!F126=\"\",\"\",Athletenliste!F126)","v":""},{"$f":"IF(Athletenliste!G126=\"\",\"\",Athletenliste!G126)","v":""},{"$f":"IF(Athletenliste!H126=\"\",\"\",Athletenliste!H126)","v":""},null,{"$f":"IF(B126=\"\",\"\",IF(D126=\"m\",INDIRECT(VLOOKUP(G126,Bezüge!$E$6:$F$16,2,FALSE)&ROW(G126)),INDIRECT(VLOOKUP(G126,Bezüge!$B$6:$C$16,2,FALSE)&ROW(G126))))","v":""},null,null,null,"","","","","","","","","","","","","","","","","","","","","","",null,"","","","","","","","","","","","","","","","","","","","","",""]
[null,{"$f":"IF(Athletenliste!B127=\"\",\"\",Athletenliste!B127)","v":""},{"$f":"IF(Athletenliste!C127=\"\",\"\",Athletenliste!C127)","v":""},{"$f":"IF(Athletenliste!D127=\"\",\"\",Athletenliste!D127)","v":""},{"$f":"IF(Athletenliste!E127=\"\",\"\",Athletenliste!E127)","v":""},{"$f":"IF(Athletenliste!F127=\"\",\"\",Athletenliste!F127)","v":""},{"$f":"IF(Athletenliste!G127=\"\",\"\",Athletenliste!G127)","v":""},{"$f":"IF(Athletenliste!H127=\"\",\"\",Athletenliste!H127)","v":""},null,{"$f":"IF(B127=\"\",\"\",IF(D127=\"m\",INDIRECT(VLOOKUP(G127,Bezüge!$E$6:$F$16,2,FALSE)&ROW(G127)),INDIRECT(VLOOKUP(G127,Bezüge!$B$6:$C$16,2,FALSE)&ROW(G127))))","v":""},null,null,null,"","","","","","","","","","","","","","","","","","","","","","",null,"","","","","","","","","","","","","","","","","","","","","",""]
[null,{"$f":"IF(Athletenliste!B128=\"\",\"\",Athletenliste!B128)","v":""},{"$f":"IF(Athletenliste!C128=\"\",\"\",Athletenliste!C128)","v":""},{"$f":"IF(Athletenliste!D128=\"\",\"\",Athletenliste!D128)","v":""},{"$f":"IF(Athletenliste!E128=\"\",\"\",Athletenliste!E128)","v":""},{"$f":"IF(Athletenliste!F128=\"\",\"\",Athletenliste!F128)","v":""},{"$f":"IF(Athletenliste!G128=\"\",\"\",Athletenliste!G128)","v":""},{"$f":"IF(Athletenliste!H128=\"\",\"\",Athletenliste!H128)","v":""},null,{"$f":"IF(B128=\"\",\"\",IF(D128=\"m\",INDIRECT(VLOOKUP(G128,Bezüge!$E$6:$F$16,2,FALSE)&ROW(G128)),INDIRECT(VLOOKUP(G128,Bezüge!$B$6:$C$16,2,FALSE)&ROW(G128))))","v":""},null,null,null,"","","","","","","","","","","","","","","","","","","","","","",null,"","","","","","","","","","","","","","","","","","","","","",""]
[null,{"$f":"IF(Athletenliste!B129=\"\",\"\",Athletenliste!B129)","v":""},{"$f":"IF(Athletenliste!C129=\"\",\"\",Athletenliste!C129)","v":""},{"$f":"IF(Athletenliste!D129=\"\",\"\",Athletenliste!D129)","v":""},{"$f":"IF(Athletenliste!E129=\"\",\"\",Athletenliste!E129)","v":""},{"$f":"IF(Athletenliste!F129=\"\",\"\",Athletenliste!F129)","v":""},{"$f":"IF(Athletenliste!G129=\"\",\"\",Athletenliste!G129)","v":""},{"$f":"IF(Athletenliste!H129=\"\",\"\",Athletenliste!H129)","v":""},null,{"$f":"IF(B129=\"\",\"\",IF(D129=\"m\",INDIRECT(VLOOKUP(G129,Bezüge!$E$6:$F$16,2,FALSE)&ROW(G129)),INDIRECT(VLOOKUP(G129,Bezüge!$B$6:$C$16,2,FALSE)&ROW(G129))))","v":""},null,null,null,"","","","","","","","","","","","","","","","","","","","","","",null,"","","","","","","","","","","","","","","","","","","","","",""]
[null,{"$f":"IF(Athletenliste!B130=\"\",\"\",Athletenliste!B130)","v":""},{"$f":"IF(Athletenliste!C130=\"\",\"\",Athletenliste!C130)","v":""},{"$f":"IF(Athletenliste!D130=\"\",\"\",Athletenliste!D130)","v":""},{"$f":"IF(Athletenliste!E130=\"\",\"\",Athletenliste!E130)","v":""},{"$f":"IF(Athletenliste!F130=\"\",\"\",Athletenliste!F130)","v":""},{"$f":"IF(Athletenliste!G130=\"\",\"\",Athletenliste!G130)","v":""},{"$f":"IF(Athletenliste!H130=\"\",\"\",Athletenliste!H130)","v":""},null,{"$f":"IF(B130=\"\",\"\",IF(D130=\"m\",INDIRECT(VLOOKUP(G130,Bezüge!$E$6:$F$16,2,FALSE)&ROW(G130)),INDIRECT(VLOOKUP(G130,Bezüge!$B$6:$C$16,2,FALSE)&ROW(G130))))","v":""},null,null,null,"","","","","","","","","","","","","","","","","","","","","","",null,"","","","","","","","","","","","","","","","","","","","","",""]
[null,{"$f":"IF(Athletenliste!B131=\"\",\"\",Athletenliste!B131)","v":""},{"$f":"IF(Athletenliste!C131=\"\",\"\",Athletenliste!C131)","v":""},{"$f":"IF(Athletenliste!D131=\"\",\"\",Athletenliste!D131)","v":""},{"$f":"IF(Athletenliste!E131=\"\",\"\",Athletenliste!E131)","v":""},{"$f":"IF(Athletenliste!F131=\"\",\"\",Athletenliste!F131)","v":""},{"$f":"IF(Athletenliste!G131=\"\",\"\",Athletenliste!G131)","v":""},{"$f":"IF(Athletenliste!H131=\"\",\"\",Athletenliste!H131)","v":""},null,{"$f":"IF(B131=\"\",\"\",IF(D131=\"m\",INDIRECT(VLOOKUP(G131,Bezüge!$E$6:$F$16,2,FALSE)&ROW(G131)),INDIRECT(VLOOKUP(G131,Bezüge!$B$6:$C$16,2,FALSE)&ROW(G131))))","v":""},null,null,null,"","","","","","","","","","","","","","","","","","","","","","",null,"","","","","","","","","","","","","","","","","","","","","",""]
[null,{"$f":"IF(Athletenliste!B132=\"\",\"\",Athletenliste!B132)","v":""},{"$f":"IF(Athletenliste!C132=\"\",\"\",Athletenliste!C132)","v":""},{"$f":"IF(Athletenliste!D132=\"\",\"\",Athletenliste!D132)","v":""},{"$f":"IF(Athletenliste!E132=\"\",\"\",Athletenliste!E132)","v":""},{"$f":"IF(Athletenliste!F132=\"\",\"\",Athletenliste!F132)","v":""},{"$f":"IF(Athletenliste!G132=\"\",\"\",Athletenliste!G132)","v":""},{"$f":"IF(Athletenliste!H132=\"\",\"\",Athletenliste!H132)","v":""},null,{"$f":"IF(B132=\"\",\"\",IF(D132=\"m\",INDIRECT(VLOOKUP(G132,Bezüge!$E$6:$F$16,2,FALSE)&ROW(G132)),INDIRECT(VLOOKUP(G132,Bezüge!$B$6:$C$16,2,FALSE)&ROW(G132))))","v":""},null,null,null,"","","","","","","","","","","","","","","","","","","","","","",null,"","","","","","","","","","","","","","","","","","","","","",""]
[null,{"$f":"IF(Athletenliste!B133=\"\",\"\",Athletenliste!B133)","v":""},{"$f":"IF(Athletenliste!C133=\"\",\"\",Athletenliste!C133)","v":""},{"$f":"IF(Athletenliste!D133=\"\",\"\",Athletenliste!D133)","v":""},{"$f":"IF(Athletenliste!E133=\"\",\"\",Athletenliste!E133)","v":""},{"$f":"IF(Athletenliste!F133=\"\",\"\",Athletenliste!F133)","v":""},{"$f":"IF(Athletenliste!G133=\"\",\"\",Athletenliste!G133)","v":""},{"$f":"IF(Athletenliste!H133=\"\",\"\",Athletenliste!H133)","v":""},null,{"$f":"IF(B133=\"\",\"\",IF(D133=\"m\",INDIRECT(VLOOKUP(G133,Bezüge!$E$6:$F$16,2,FALSE)&ROW(G133)),INDIRECT(VLOOKUP(G133,Bezüge!$B$6:$C$16,2,FALSE)&ROW(G133))))","v":""},null,null,null,"","","","","","","","","","","","","","","","","","","","","","",null,"","","","","","","","","","","","","","","","","","","","","",""]
[null,{"$f":"IF(Athletenliste!B134=\"\",\"\",Athletenliste!B134)","v":""},{"$f":"IF(Athletenliste!C134=\"\",\"\",Athletenliste!C134)","v":""},{"$f":"IF(Athletenliste!D134=\"\",\"\",Athletenliste!D134)","v":""},{"$f":"IF(Athletenliste!E134=\"\",\"\",Athletenliste!E134)","v":""},{"$f":"IF(Athletenliste!F134=\"\",\"\",Athletenliste!F134)","v":""},{"$f":"IF(Athletenliste!G134=\"\",\"\",Athletenliste!G134)","v":""},{"$f":"IF(Athletenliste!H134=\"\",\"\",Athletenliste!H134)","v":""},null,{"$f":"IF(B134=\"\",\"\",IF(D134=\"m\",INDIRECT(VLOOKUP(G134,Bezüge!$E$6:$F$16,2,FALSE)&ROW(G134)),INDIRECT(VLOOKUP(G134,Bezüge!$B$6:$C$16,2,FALSE)&ROW(G134))))","v":""},null,null,null,"","","","","","","","","","","","","","","","","","","","","","",null,"","","","","","","","","","","","","","","","","","","","","",""]
[null,{"$f":"IF(Athletenliste!B135=\"\",\"\",Athletenliste!B135)","v":""},{"$f":"IF(Athletenliste!C135=\"\",\"\",Athletenliste!C135)","v":""},{"$f":"IF(Athletenliste!D135=\"\",\"\",Athletenliste!D135)","v":""},{"$f":"IF(Athletenliste!E135=\"\",\"\",Athletenliste!E135)","v":""},{"$f":"IF(Athletenliste!F135=\"\",\"\",Athletenliste!F135)","v":""},{"$f":"IF(Athletenliste!G135=\"\",\"\",Athletenliste!G135)","v":""},{"$f":"IF(Athletenliste!H135=\"\",\"\",Athletenliste!H135)","v":""},null,{"$f":"IF(B135=\"\",\"\",IF(D135=\"m\",INDIRECT(VLOOKUP(G135,Bezüge!$E$6:$F$16,2,FALSE)&ROW(G135)),INDIRECT(VLOOKUP(G135,Bezüge!$B$6:$C$16,2,FALSE)&ROW(G135))))","v":""},null,null,null,"","","","","","","","","","","","","","","","","","","","","","",null,"","","","","","","","","","","","","","","","","","","","","",""]
[null,{"$f":"IF(Athletenliste!B136=\"\",\"\",Athletenliste!B136)","v":""},{"$f":"IF(Athletenliste!C136=\"\",\"\",Athletenliste!C136)","v":""},{"$f":"IF(Athletenliste!D136=\"\",\"\",Athletenliste!D136)","v":""},{"$f":"IF(Athletenliste!E136=\"\",\"\",Athletenliste!E136)","v":""},{"$f":"IF(Athletenliste!F136=\"\",\"\",Athletenliste!F136)","v":""},{"$f":"IF(Athletenliste!G136=\"\",\"\",Athletenliste!G136)","v":""},{"$f":"IF(Athletenliste!H136=\"\",\"\",Athletenliste!H136)","v":""},null,{"$f":"IF(B136=\"\",\"\",IF(D136=\"m\",INDIRECT(VLOOKUP(G136,Bezüge!$E$6:$F$16,2,FALSE)&ROW(G136)),INDIRECT(VLOOKUP(G136,Bezüge!$B$6:$C$16,2,FALSE)&ROW(G136))))","v":""},null,null,null,"","","","","","","","","","","","","","","","","","","","","","",null,"","","","","","","","","","","","","","","","","","","","","",""]
[null,{"$f":"IF(Athletenliste!B137=\"\",\"\",Athletenliste!B137)","v":""},{"$f":"IF(Athletenliste!C137=\"\",\"\",Athletenliste!C137)","v":""},{"$f":"IF(Athletenliste!D137=\"\",\"\",Athletenliste!D137)","v":""},{"$f":"IF(Athletenliste!E137=\"\",\"\",Athletenliste!E137)","v":""},{"$f":"IF(Athletenliste!F137=\"\",\"\",Athletenliste!F137)","v":""},{"$f":"IF(Athletenliste!G137=\"\",\"\",Athletenliste!G137)","v":""},{"$f":"IF(Athletenliste!H137=\"\",\"\",Athletenliste!H137)","v":""},null,{"$f":"IF(B137=\"\",\"\",IF(D137=\"m\",INDIRECT(VLOOKUP(G137,Bezüge!$E$6:$F$16,2,FALSE)&ROW(G137)),INDIRECT(VLOOKUP(G137,Bezüge!$B$6:$C$16,2,FALSE)&ROW(G137))))","v":""},null,null,null,"","","","","","","","","","","","","","","","","","","","","","",null,"","","","","","","","","","","","","","","","","","","","","",""]
[null,{"$f":"IF(Athletenliste!B138=\"\",\"\",Athletenliste!B138)","v":""},{"$f":"IF(Athletenliste!C138=\"\",\"\",Athletenliste!C138)","v":""},{"$f":"IF(Athletenliste!D138=\"\",\"\",Athletenliste!D138)","v":""},{"$f":"IF(Athletenliste!E138=\"\",\"\",Athletenliste!E138)","v":""},{"$f":"IF(Athletenliste!F138=\"\",\"\",Athletenliste!F138)","v":""},{"$f":"IF(Athletenliste!G138=\"\",\"\",Athletenliste!G138)","v":""},{"$f":"IF(Athletenliste!H138=\"\",\"\",Athletenliste!H138)","v":""},null,{"$f":"IF(B138=\"\",\"\",IF(D138=\"m\",INDIRECT(VLOOKUP(G138,Bezüge!$E$6:$F$16,2,FALSE)&ROW(G138)),INDIRECT(VLOOKUP(G138,Bezüge!$B$6:$C$16,2,FALSE)&ROW(G138))))","v":""},null,null,null,"","","","","","","","","","","","","","","","","","","","","","",null,"","","","","","","","","","","","","","","","","","","","","",""]
[null,{"$f":"IF(Athletenliste!B139=\"\",\"\",Athletenliste!B139)","v":""},{"$f":"IF(Athletenliste!C139=\"\",\"\",Athletenliste!C139)","v":""},{"$f":"IF(Athletenliste!D139=\"\",\"\",Athletenliste!D139)","v":""},{"$f":"IF(Athletenliste!E139=\"\",\"\",Athletenliste!E139)","v":""},{"$f":"IF(Athletenliste!F139=\"\",\"\",Athletenliste!F139)","v":""},{"$f":"IF(Athletenliste!G139=\"\",\"\",Athletenliste!G139)","v":""},{"$f":"IF(Athletenliste!H139=\"\",\"\",Athletenliste!H139)","v":""},null,{"$f":"IF(B139=\"\",\"\",IF(D139=\"m\",INDIRECT(VLOOKUP(G139,Bezüge!$E$6:$F$16,2,FALSE)&ROW(G139)),INDIRECT(VLOOKUP(G139,Bezüge!$B$6:$C$16,2,FALSE)&ROW(G139))))","v":""},null,null,null,{"$f":"IF(AND(D139=\"m\",G139=\"U06\",I139<>\"\"),I139,\"\")","v":""},{"$f":"IF(OR(I139=\"\",N139=\"\"),\"\",_xlfn.RANK.EQ(N139,N$10:N$200,1))","v":""},{"$f":"IF(AND(D139=\"m\",G139=\"U07\",I139<>\"\"),I139,\"\")","v":""},{"$f":"IF(OR(I139=\"\",P139=\"\"),\"\",_xlfn.RANK.EQ(P139,P$10:P$200,1))","v":""},{"$f":"IF(AND(D139=\"m\",G139=\"U08\",I139<>\"\"),I139,\"\")","v":""},{"$f":"IF(OR(I139=\"\",R139=\"\"),\"\",_xlfn.RANK.EQ(R139,R$10:R$200,1))","v":""},{"$f":"IF(AND(D139=\"m\",G139=\"U09\",I139<>\"\"),I139,\"\")","v":""},{"$f":"IF(OR(I139=\"\",T139=\"\"),\"\",_xlfn.RANK.EQ(T139,T$10:T$200,1))","v":""},{"$f":"IF(AND(D139=\"m\",G139=\"U10\",I139<>\"\"),I139,\"\")","v":""},{"$f":"IF(OR(I139=\"\",V139=\"\"),\"\",_xlfn.RANK.EQ(V139,V$10:V$200,1))","v":""},{"$f":"IF(AND(D139=\"m\",G139=\"U11\",I139<>\"\"),I139,\"\")","v":""},{"$f":"IF(OR(I139=\"\",X139=\"\"),\"\",_xlfn.RANK.EQ(X139,X$10:X$200,1))","v":""},{"$f":"IF(AND(D139=\"m\",G139=\"U12\",I139<>\"\"),I139,\"\")","v":""},{"$f":"IF(OR(I139=\"\",Z139=\"\"),\"\",_xlfn.RANK.EQ(Z139,Z$10:Z$200,1))","v":""},{"$f":"IF(AND(D139=\"m\",G139=\"U13\",I139<>\"\"),I139,\"\")","v":""},{"$f":"IF(OR(I139=\"\",AB139=\"\"),\"\",_xlfn.RANK.EQ(AB139,AB$10:AB$200,1))","v":""},{"$f":"IF(AND(D139=\"m\",G139=\"U14\",I139<>\"\"),I139,\"\")","v":""},{"$f":"IF(OR(I139=\"\",AD139=\"\"),\"\",_xlfn.RANK.EQ(AD139,AD$10:AD$200,1))","v":""},{"$f":"IF(AND(D139=\"m\",G139=\"U15\",I139<>\"\"),I139,\"\")","v":""},{"$f":"IF(OR(I139=\"\",AF139=\"\"),\"\",_xlfn.RANK.EQ(AF139,AF$10:AF$200,1))","v":""},{"$f":"IF(AND(D139=\"m\",G139=\"U16\",I139<>\"\"),I139,\"\")","v":""},{"$f":"IF(OR(I139=\"\",AH139=\"\"),\"\",_xlfn.RANK.EQ(AH139,AH$10:AH$200,1))","v":""},null,{"$f":"IF(AND(D139=\"w\",G139=\"U06\",I139<>\"\"),I139,\"\")","v":""},{"$f":"IF(OR(I139=\"\",AI139=\"\"),\"\",_xlfn.RANK.EQ(AI139,AI$10:AI$200,1))","v":""},{"$f":"IF(AND(D139=\"w\",G139=\"U07\",I139<>\"\"),I139,\"\")","v":""},{"$f":"IF(OR(I139=\"\",AM139=\"\"),\"\",_xlfn.RANK.EQ(AM139,AM$10:AM$20,1))","v":""},{"$f":"IF(AND(D139=\"w\",G139=\"U08\",I139<>\"\"),I139,\"\")","v":""},{"$f":"IF(OR(I139=\"\",AO139=\"\"),\"\",_xlfn.RANK.EQ(AO139,AO$10:AO$200,0))","v":""},{"$f":"IF(AND(D139=\"w\",G139=\"U09\",I139<>\"\"),I139,\"\")","v":""},{"$f":"IF(OR(I139=\"\",AQ139=\"\"),\"\",_xlfn.RANK.EQ(AQ139,AQ$10:AQ$200,1))","v":""},{"$f":"IF(AND(D139=\"w\",G139=\"U10\",I139<>\"\"),I139,\"\")","v":""},{"$f":"IF(OR(I139=\"\",AS139=\"\"),\"\",_xlfn.RANK.EQ(AS139,AS$10:AS$200,1))","v":""},{"$f":"IF(AND(D139=\"w\",G139=\"U11\",I139<>\"\"),I139,\"\")","v":""},{"$f":"IF(OR(I139=\"\",AU139=\"\"),\"\",_xlfn.RANK.EQ(AU139,AU$10:AU$200,1))","v":""},{"$f":"IF(AND(D139=\"w\",G139=\"U12\",I139<>\"\"),I139,\"\")","v":""},{"$f":"IF(OR(I139=\"\",AW139=\"\"),\"\",_xlfn.RANK.EQ(AW139,AW$10:AW$200,1))","v":""},{"$f":"IF(AND(D139=\"w\",G139=\"U13\",I139<>\"\"),I139,\"\")","v":""},{"$f":"IF(OR(I139=\"\",AY139=\"\"),\"\",_xlfn.RANK.EQ(AY139,AY$10:AY$200,1))","v":""},{"$f":"IF(AND(D139=\"w\",G139=\"U14\",I139<>\"\"),I139,\"\")","v":""},{"$f":"IF(OR(I139=\"\",BA139=\"\"),\"\",_xlfn.RANK.EQ(BA139,BA$10:BA$200,1))","v":""},{"$f":"IF(AND(D139=\"w\",G139=\"U15\",I139<>\"\"),I139,\"\")","v":""},{"$f":"IF(OR(I139=\"\",BC139=\"\"),\"\",_xlfn.RANK.EQ(BC139,BC$10:BC$200,1))","v":""},{"$f":"IF(AND(D139=\"w\",G139=\"U16\",I139<>\"\"),I139,\"\")","v":""},{"$f":"IF(OR(I139=\"\",BE139=\"\"),\"\",_xlfn.RANK.EQ(BE139,BE$10:BE$200,1))","v":""}]
[null,{"$f":"IF(Athletenliste!B140=\"\",\"\",Athletenliste!B140)","v":""},{"$f":"IF(Athletenliste!C140=\"\",\"\",Athletenliste!C140)","v":""},{"$f":"IF(Athletenliste!D140=\"\",\"\",Athletenliste!D140)","v":""},{"$f":"IF(Athletenliste!E140=\"\",\"\",Athletenliste!E140)","v":""},{"$f":"IF(Athletenliste!F140=\"\",\"\",Athletenliste!F140)","v":""},{"$f":"IF(Athletenliste!G140=\"\",\"\",Athletenliste!G140)","v":""},{"$f":"IF(Athletenliste!H140=\"\",\"\",Athletenliste!H140)","v":""},null,{"$f":"IF(B140=\"\",\"\",IF(D140=\"m\",INDIRECT(VLOOKUP(G140,Bezüge!$E$6:$F$16,2,FALSE)&ROW(G140)),INDIRECT(VLOOKUP(G140,Bezüge!$B$6:$C$16,2,FALSE)&ROW(G140))))","v":""},null,null,null,"","","","","","","","","","","","","","","","","","","","","","",null,"","","","","","","","","","","","","","","","","","","","","",""]
[null,{"$f":"IF(Athletenliste!B141=\"\",\"\",Athletenliste!B141)","v":""},{"$f":"IF(Athletenliste!C141=\"\",\"\",Athletenliste!C141)","v":""},{"$f":"IF(Athletenliste!D141=\"\",\"\",Athletenliste!D141)","v":""},{"$f":"IF(Athletenliste!E141=\"\",\"\",Athletenliste!E141)","v":""},{"$f":"IF(Athletenliste!F141=\"\",\"\",Athletenliste!F141)","v":""},{"$f":"IF(Athletenliste!G141=\"\",\"\",Athletenliste!G141)","v":""},{"$f":"IF(Athletenliste!H141=\"\",\"\",Athletenliste!H141)","v":""},null,{"$f":"IF(B141=\"\",\"\",IF(D141=\"m\",INDIRECT(VLOOKUP(G141,Bezüge!$E$6:$F$16,2,FALSE)&ROW(G141)),INDIRECT(VLOOKUP(G141,Bezüge!$B$6:$C$16,2,FALSE)&ROW(G141))))","v":""},null,null,null,"","","","","","","","","","","","","","","","","","","","","","",null,"","","","","","","","","","","","","","","","","","","","","",""]
[null,{"$f":"IF(Athletenliste!B142=\"\",\"\",Athletenliste!B142)","v":""},{"$f":"IF(Athletenliste!C142=\"\",\"\",Athletenliste!C142)","v":""},{"$f":"IF(Athletenliste!D142=\"\",\"\",Athletenliste!D142)","v":""},{"$f":"IF(Athletenliste!E142=\"\",\"\",Athletenliste!E142)","v":""},{"$f":"IF(Athletenliste!F142=\"\",\"\",Athletenliste!F142)","v":""},{"$f":"IF(Athletenliste!G142=\"\",\"\",Athletenliste!G142)","v":""},{"$f":"IF(Athletenliste!H142=\"\",\"\",Athletenliste!H142)","v":""},null,{"$f":"IF(B142=\"\",\"\",IF(D142=\"m\",INDIRECT(VLOOKUP(G142,Bezüge!$E$6:$F$16,2,FALSE)&ROW(G142)),INDIRECT(VLOOKUP(G142,Bezüge!$B$6:$C$16,2,FALSE)&ROW(G142))))","v":""},null,null,null,"","","","","","","","","","","","","","","","","","","","","","",null,"","","","","","","","","","","","","","","","","","","","","",""]
[null,{"$f":"IF(Athletenliste!B143=\"\",\"\",Athletenliste!B143)","v":""},{"$f":"IF(Athletenliste!C143=\"\",\"\",Athletenliste!C143)","v":""},{"$f":"IF(Athletenliste!D143=\"\",\"\",Athletenliste!D143)","v":""},{"$f":"IF(Athletenliste!E143=\"\",\"\",Athletenliste!E143)","v":""},{"$f":"IF(Athletenliste!F143=\"\",\"\",Athletenliste!F143)","v":""},{"$f":"IF(Athletenliste!G143=\"\",\"\",Athletenliste!G143)","v":""},{"$f":"IF(Athletenliste!H143=\"\",\"\",Athletenliste!H143)","v":""},null,{"$f":"IF(B143=\"\",\"\",IF(D143=\"m\",INDIRECT(VLOOKUP(G143,Bezüge!$E$6:$F$16,2,FALSE)&ROW(G143)),INDIRECT(VLOOKUP(G143,Bezüge!$B$6:$C$16,2,FALSE)&ROW(G143))))","v":""},null,null,null,"","","","","","","","","","","","","","","","","","","","","","",null,"","","","","","","","","","","","","","","","","","","","","",""]
[null,{"$f":"IF(Athletenliste!B144=\"\",\"\",Athletenliste!B144)","v":""},{"$f":"IF(Athletenliste!C144=\"\",\"\",Athletenliste!C144)","v":""},{"$f":"IF(Athletenliste!D144=\"\",\"\",Athletenliste!D144)","v":""},{"$f":"IF(Athletenliste!E144=\"\",\"\",Athletenliste!E144)","v":""},{"$f":"IF(Athletenliste!F144=\"\",\"\",Athletenliste!F144)","v":""},{"$f":"IF(Athletenliste!G144=\"\",\"\",Athletenliste!G144)","v":""},{"$f":"IF(Athletenliste!H144=\"\",\"\",Athletenliste!H144)","v":""},null,{"$f":"IF(B144=\"\",\"\",IF(D144=\"m\",INDIRECT(VLOOKUP(G144,Bezüge!$E$6:$F$16,2,FALSE)&ROW(G144)),INDIRECT(VLOOKUP(G144,Bezüge!$B$6:$C$16,2,FALSE)&ROW(G144))))","v":""},null,null,null,"","","","","","","","","","","","","","","","","","","","","","",null,"","","","","","","","","","","","","","","","","","","","","",""]
[null,{"$f":"IF(Athletenliste!B145=\"\",\"\",Athletenliste!B145)","v":""},{"$f":"IF(Athletenliste!C145=\"\",\"\",Athletenliste!C145)","v":""},{"$f":"IF(Athletenliste!D145=\"\",\"\",Athletenliste!D145)","v":""},{"$f":"IF(Athletenliste!E145=\"\",\"\",Athletenliste!E145)","v":""},{"$f":"IF(Athletenliste!F145=\"\",\"\",Athletenliste!F145)","v":""},{"$f":"IF(Athletenliste!G145=\"\",\"\",Athletenliste!G145)","v":""},{"$f":"IF(Athletenliste!H145=\"\",\"\",Athletenliste!H145)","v":""},null,{"$f":"IF(B145=\"\",\"\",IF(D145=\"m\",INDIRECT(VLOOKUP(G145,Bezüge!$E$6:$F$16,2,FALSE)&ROW(G145)),INDIRECT(VLOOKUP(G145,Bezüge!$B$6:$C$16,2,FALSE)&ROW(G145))))","v":""},null,null,null,"","","","","","","","","","","","","","","","","","","","","","",null,"","","","","","","","","","","","","","","","","","","","","",""]
[null,{"$f":"IF(Athletenliste!B146=\"\",\"\",Athletenliste!B146)","v":""},{"$f":"IF(Athletenliste!C146=\"\",\"\",Athletenliste!C146)","v":""},{"$f":"IF(Athletenliste!D146=\"\",\"\",Athletenliste!D146)","v":""},{"$f":"IF(Athletenliste!E146=\"\",\"\",Athletenliste!E146)","v":""},{"$f":"IF(Athletenliste!F146=\"\",\"\",Athletenliste!F146)","v":""},{"$f":"IF(Athletenliste!G146=\"\",\"\",Athletenliste!G146)","v":""},{"$f":"IF(Athletenliste!H146=\"\",\"\",Athletenliste!H146)","v":""},null,{"$f":"IF(B146=\"\",\"\",IF(D146=\"m\",INDIRECT(VLOOKUP(G146,Bezüge!$E$6:$F$16,2,FALSE)&ROW(G146)),INDIRECT(VLOOKUP(G146,Bezüge!$B$6:$C$16,2,FALSE)&ROW(G146))))","v":""},null,null,null,"","","","","","","","","","","","","","","","","","","","","","",null,"","","","","","","","","","","","","","","","","","","","","",""]
[null,{"$f":"IF(Athletenliste!B147=\"\",\"\",Athletenliste!B147)","v":""},{"$f":"IF(Athletenliste!C147=\"\",\"\",Athletenliste!C147)","v":""},{"$f":"IF(Athletenliste!D147=\"\",\"\",Athletenliste!D147)","v":""},{"$f":"IF(Athletenliste!E147=\"\",\"\",Athletenliste!E147)","v":""},{"$f":"IF(Athletenliste!F147=\"\",\"\",Athletenliste!F147)","v":""},{"$f":"IF(Athletenliste!G147=\"\",\"\",Athletenliste!G147)","v":""},{"$f":"IF(Athletenliste!H147=\"\",\"\",Athletenliste!H147)","v":""},null,{"$f":"IF(B147=\"\",\"\",IF(D147=\"m\",INDIRECT(VLOOKUP(G147,Bezüge!$E$6:$F$16,2,FALSE)&ROW(G147)),INDIRECT(VLOOKUP(G147,Bezüge!$B$6:$C$16,2,FALSE)&ROW(G147))))","v":""},null,null,null,"","","","","","","","","","","","","","","","","","","","","","",null,"","","","","","","","","","","","","","","","","","","","","",""]
[null,{"$f":"IF(Athletenliste!B148=\"\",\"\",Athletenliste!B148)","v":""},{"$f":"IF(Athletenliste!C148=\"\",\"\",Athletenliste!C148)","v":""},{"$f":"IF(Athletenliste!D148=\"\",\"\",Athletenliste!D148)","v":""},{"$f":"IF(Athletenliste!E148=\"\",\"\",Athletenliste!E148)","v":""},{"$f":"IF(Athletenliste!F148=\"\",\"\",Athletenliste!F148)","v":""},{"$f":"IF(Athletenliste!G148=\"\",\"\",Athletenliste!G148)","v":""},{"$f":"IF(Athletenliste!H148=\"\",\"\",Athletenliste!H148)","v":""},null,{"$f":"IF(B148=\"\",\"\",IF(D148=\"m\",INDIRECT(VLOOKUP(G148,Bezüge!$E$6:$F$16,2,FALSE)&ROW(G148)),INDIRECT(VLOOKUP(G148,Bezüge!$B$6:$C$16,2,FALSE)&ROW(G148))))","v":""},null,null,null,"","","","","","","","","","","","","","","","","","","","","","",null,"","","","","","","","","","","","","","","","","","","","","",""]
[null,{"$f":"IF(Athletenliste!B149=\"\",\"\",Athletenliste!B149)","v":""},{"$f":"IF(Athletenliste!C149=\"\",\"\",Athletenliste!C149)","v":""},{"$f":"IF(Athletenliste!D149=\"\",\"\",Athletenliste!D149)","v":""},{"$f":"IF(Athletenliste!E149=\"\",\"\",Athletenliste!E149)","v":""},{"$f":"IF(Athletenliste!F149=\"\",\"\",Athletenliste!F149)","v":""},{"$f":"IF(Athletenliste!G149=\"\",\"\",Athletenliste!G149)","v":""},{"$f":"IF(Athletenliste!H149=\"\",\"\",Athletenliste!H149)","v":""},null,{"$f":"IF(B149=\"\",\"\",IF(D149=\"m\",INDIRECT(VLOOKUP(G149,Bezüge!$E$6:$F$16,2,FALSE)&ROW(G149)),INDIRECT(VLOOKUP(G149,Bezüge!$B$6:$C$16,2,FALSE)&ROW(G149))))","v":""},null,null,null,"","","","","","","","","","","","","","","","","","","","","","",null,"","","","","","","","","","","","","","","","","","","","","",""]
[null,{"$f":"IF(Athletenliste!B150=\"\",\"\",Athletenliste!B150)","v":""},{"$f":"IF(Athletenliste!C150=\"\",\"\",Athletenliste!C150)","v":""},{"$f":"IF(Athletenliste!D150=\"\",\"\",Athletenliste!D150)","v":""},{"$f":"IF(Athletenliste!E150=\"\",\"\",Athletenliste!E150)","v":""},{"$f":"IF(Athletenliste!F150=\"\",\"\",Athletenliste!F150)","v":""},{"$f":"IF(Athletenliste!G150=\"\",\"\",Athletenliste!G150)","v":""},{"$f":"IF(Athletenliste!H150=\"\",\"\",Athletenliste!H150)","v":""},null,{"$f":"IF(B150=\"\",\"\",IF(D150=\"m\",INDIRECT(VLOOKUP(G150,Bezüge!$E$6:$F$16,2,FALSE)&ROW(G150)),INDIRECT(VLOOKUP(G150,Bezüge!$B$6:$C$16,2,FALSE)&ROW(G150))))","v":""},null,null,null,"","","","","","","","","","","","","","","","","","","","","","",null,"","","","","","","","","","","","","","","","","","","","","",""]
[null,{"$f":"IF(Athletenliste!B151=\"\",\"\",Athletenliste!B151)","v":""},{"$f":"IF(Athletenliste!C151=\"\",\"\",Athletenliste!C151)","v":""},{"$f":"IF(Athletenliste!D151=\"\",\"\",Athletenliste!D151)","v":""},{"$f":"IF(Athletenliste!E151=\"\",\"\",Athletenliste!E151)","v":""},{"$f":"IF(Athletenliste!F151=\"\",\"\",Athletenliste!F151)","v":""},{"$f":"IF(Athletenliste!G151=\"\",\"\",Athletenliste!G151)","v":""},{"$f":"IF(Athletenliste!H151=\"\",\"\",Athletenliste!H151)","v":""},null,{"$f":"IF(B151=\"\",\"\",IF(D151=\"m\",INDIRECT(VLOOKUP(G151,Bezüge!$E$6:$F$16,2,FALSE)&ROW(G151)),INDIRECT(VLOOKUP(G151,Bezüge!$B$6:$C$16,2,FALSE)&ROW(G151))))","v":""},null,null,null,"","","","","","","","","","","","","","","","","","","","","","",null,"","","","","","","","","","","","","","","","","","","","","",""]
[null,{"$f":"IF(Athletenliste!B152=\"\",\"\",Athletenliste!B152)","v":""},{"$f":"IF(Athletenliste!C152=\"\",\"\",Athletenliste!C152)","v":""},{"$f":"IF(Athletenliste!D152=\"\",\"\",Athletenliste!D152)","v":""},{"$f":"IF(Athletenliste!E152=\"\",\"\",Athletenliste!E152)","v":""},{"$f":"IF(Athletenliste!F152=\"\",\"\",Athletenliste!F152)","v":""},{"$f":"IF(Athletenliste!G152=\"\",\"\",Athletenliste!G152)","v":""},{"$f":"IF(Athletenliste!H152=\"\",\"\",Athletenliste!H152)","v":""},null,{"$f":"IF(B152=\"\",\"\",IF(D152=\"m\",INDIRECT(VLOOKUP(G152,Bezüge!$E$6:$F$16,2,FALSE)&ROW(G152)),INDIRECT(VLOOKUP(G152,Bezüge!$B$6:$C$16,2,FALSE)&ROW(G152))))","v":""},null,null,null,"","","","","","","","","","","","","","","","","","","","","","",null,"","","","","","","","","","","","","","","","","","","","","",""]
[null,{"$f":"IF(Athletenliste!B153=\"\",\"\",Athletenliste!B153)","v":""},{"$f":"IF(Athletenliste!C153=\"\",\"\",Athletenliste!C153)","v":""},{"$f":"IF(Athletenliste!D153=\"\",\"\",Athletenliste!D153)","v":""},{"$f":"IF(Athletenliste!E153=\"\",\"\",Athletenliste!E153)","v":""},{"$f":"IF(Athletenliste!F153=\"\",\"\",Athletenliste!F153)","v":""},{"$f":"IF(Athletenliste!G153=\"\",\"\",Athletenliste!G153)","v":""},{"$f":"IF(Athletenliste!H153=\"\",\"\",Athletenliste!H153)","v":""},null,{"$f":"IF(B153=\"\",\"\",IF(D153=\"m\",INDIRECT(VLOOKUP(G153,Bezüge!$E$6:$F$16,2,FALSE)&ROW(G153)),INDIRECT(VLOOKUP(G153,Bezüge!$B$6:$C$16,2,FALSE)&ROW(G153))))","v":""},null,null,null,"","","","","","","","","","","","","","","","","","","","","","",null,"","","","","","","","","","","","","","","","","","","","","",""]
[null,{"$f":"IF(Athletenliste!B154=\"\",\"\",Athletenliste!B154)","v":""},{"$f":"IF(Athletenliste!C154=\"\",\"\",Athletenliste!C154)","v":""},{"$f":"IF(Athletenliste!D154=\"\",\"\",Athletenliste!D154)","v":""},{"$f":"IF(Athletenliste!E154=\"\",\"\",Athletenliste!E154)","v":""},{"$f":"IF(Athletenliste!F154=\"\",\"\",Athletenliste!F154)","v":""},{"$f":"IF(Athletenliste!G154=\"\",\"\",Athletenliste!G154)","v":""},{"$f":"IF(Athletenliste!H154=\"\",\"\",Athletenliste!H154)","v":""},null,{"$f":"IF(B154=\"\",\"\",IF(D154=\"m\",INDIRECT(VLOOKUP(G154,Bezüge!$E$6:$F$16,2,FALSE)&ROW(G154)),INDIRECT(VLOOKUP(G154,Bezüge!$B$6:$C$16,2,FALSE)&ROW(G154))))","v":""},null,null,null,"","","","","","","","","","","","","","","","","","","","","","",null,"","","","","","","","","","","","","","","","","","","","","",""]
[null,{"$f":"IF(Athletenliste!B155=\"\",\"\",Athletenliste!B155)","v":""},{"$f":"IF(Athletenliste!C155=\"\",\"\",Athletenliste!C155)","v":""},{"$f":"IF(Athletenliste!D155=\"\",\"\",Athletenliste!D155)","v":""},{"$f":"IF(Athletenliste!E155=\"\",\"\",Athletenliste!E155)","v":""},{"$f":"IF(Athletenliste!F155=\"\",\"\",Athletenliste!F155)","v":""},{"$f":"IF(Athletenliste!G155=\"\",\"\",Athletenliste!G155)","v":""},{"$f":"IF(Athletenliste!H155=\"\",\"\",Athletenliste!H155)","v":""},null,{"$f":"IF(B155=\"\",\"\",IF(D155=\"m\",INDIRECT(VLOOKUP(G155,Bezüge!$E$6:$F$16,2,FALSE)&ROW(G155)),INDIRECT(VLOOKUP(G155,Bezüge!$B$6:$C$16,2,FALSE)&ROW(G155))))","v":""},null,null,null,"","","","","","","","","","","","","","","","","","","","","","",null,"","","","","","","","","","","","","","","","","","","","","",""]
[null,{"$f":"IF(Athletenliste!B156=\"\",\"\",Athletenliste!B156)","v":""},{"$f":"IF(Athletenliste!C156=\"\",\"\",Athletenliste!C156)","v":""},{"$f":"IF(Athletenliste!D156=\"\",\"\",Athletenliste!D156)","v":""},{"$f":"IF(Athletenliste!E156=\"\",\"\",Athletenliste!E156)","v":""},{"$f":"IF(Athletenliste!F156=\"\",\"\",Athletenliste!F156)","v":""},{"$f":"IF(Athletenliste!G156=\"\",\"\",Athletenliste!G156)","v":""},{"$f":"IF(Athletenliste!H156=\"\",\"\",Athletenliste!H156)","v":""},null,{"$f":"IF(B156=\"\",\"\",IF(D156=\"m\",INDIRECT(VLOOKUP(G156,Bezüge!$E$6:$F$16,2,FALSE)&ROW(G156)),INDIRECT(VLOOKUP(G156,Bezüge!$B$6:$C$16,2,FALSE)&ROW(G156))))","v":""},null,null,null,"","","","","","","","","","","","","","","","","","","","","","",null,"","","","","","","","","","","","","","","","","","","","","",""]
[null,{"$f":"IF(Athletenliste!B157=\"\",\"\",Athletenliste!B157)","v":""},{"$f":"IF(Athletenliste!C157=\"\",\"\",Athletenliste!C157)","v":""},{"$f":"IF(Athletenliste!D157=\"\",\"\",Athletenliste!D157)","v":""},{"$f":"IF(Athletenliste!E157=\"\",\"\",Athletenliste!E157)","v":""},{"$f":"IF(Athletenliste!F157=\"\",\"\",Athletenliste!F157)","v":""},{"$f":"IF(Athletenliste!G157=\"\",\"\",Athletenliste!G157)","v":""},{"$f":"IF(Athletenliste!H157=\"\",\"\",Athletenliste!H157)","v":""},null,{"$f":"IF(B157=\"\",\"\",IF(D157=\"m\",INDIRECT(VLOOKUP(G157,Bezüge!$E$6:$F$16,2,FALSE)&ROW(G157)),INDIRECT(VLOOKUP(G157,Bezüge!$B$6:$C$16,2,FALSE)&ROW(G157))))","v":""},null,null,null,"","","","","","","","","","","","","","","","","","","","","","",null,"","","","","","","","","","","","","","","","","","","","","",""]
[null,{"$f":"IF(Athletenliste!B158=\"\",\"\",Athletenliste!B158)","v":""},{"$f":"IF(Athletenliste!C158=\"\",\"\",Athletenliste!C158)","v":""},{"$f":"IF(Athletenliste!D158=\"\",\"\",Athletenliste!D158)","v":""},{"$f":"IF(Athletenliste!E158=\"\",\"\",Athletenliste!E158)","v":""},{"$f":"IF(Athletenliste!F158=\"\",\"\",Athletenliste!F158)","v":""},{"$f":"IF(Athletenliste!G158=\"\",\"\",Athletenliste!G158)","v":""},{"$f":"IF(Athletenliste!H158=\"\",\"\",Athletenliste!H158)","v":""},null,{"$f":"IF(B158=\"\",\"\",IF(D158=\"m\",INDIRECT(VLOOKUP(G158,Bezüge!$E$6:$F$16,2,FALSE)&ROW(G158)),INDIRECT(VLOOKUP(G158,Bezüge!$B$6:$C$16,2,FALSE)&ROW(G158))))","v":""},null,null,null,"","","","","","","","","","","","","","","","","","","","","","",null,"","","","","","","","","","","","","","","","","","","","","",""]
[null,{"$f":"IF(Athletenliste!B159=\"\",\"\",Athletenliste!B159)","v":""},{"$f":"IF(Athletenliste!C159=\"\",\"\",Athletenliste!C159)","v":""},{"$f":"IF(Athletenliste!D159=\"\",\"\",Athletenliste!D159)","v":""},{"$f":"IF(Athletenliste!E159=\"\",\"\",Athletenliste!E159)","v":""},{"$f":"IF(Athletenliste!F159=\"\",\"\",Athletenliste!F159)","v":""},{"$f":"IF(Athletenliste!G159=\"\",\"\",Athletenliste!G159)","v":""},{"$f":"IF(Athletenliste!H159=\"\",\"\",Athletenliste!H159)","v":""},null,{"$f":"IF(B159=\"\",\"\",IF(D159=\"m\",INDIRECT(VLOOKUP(G159,Bezüge!$E$6:$F$16,2,FALSE)&ROW(G159)),INDIRECT(VLOOKUP(G159,Bezüge!$B$6:$C$16,2,FALSE)&ROW(G159))))","v":""},null,null,null,"","","","","","","","","","","","","","","","","","","","","","",null,"","","","","","","","","","","","","","","","","","","","","",""]
[null,{"$f":"IF(Athletenliste!B160=\"\",\"\",Athletenliste!B160)","v":""},{"$f":"IF(Athletenliste!C160=\"\",\"\",Athletenliste!C160)","v":""},{"$f":"IF(Athletenliste!D160=\"\",\"\",Athletenliste!D160)","v":""},{"$f":"IF(Athletenliste!E160=\"\",\"\",Athletenliste!E160)","v":""},{"$f":"IF(Athletenliste!F160=\"\",\"\",Athletenliste!F160)","v":""},{"$f":"IF(Athletenliste!G160=\"\",\"\",Athletenliste!G160)","v":""},{"$f":"IF(Athletenliste!H160=\"\",\"\",Athletenliste!H160)","v":""},null,{"$f":"IF(B160=\"\",\"\",IF(D160=\"m\",INDIRECT(VLOOKUP(G160,Bezüge!$E$6:$F$16,2,FALSE)&ROW(G160)),INDIRECT(VLOOKUP(G160,Bezüge!$B$6:$C$16,2,FALSE)&ROW(G160))))","v":""},null,null,null,"","","","","","","","","","","","","","","","","","","","","","",null,"","","","","","","","","","","","","","","","","","","","","",""]
[null,{"$f":"IF(Athletenliste!B161=\"\",\"\",Athletenliste!B161)","v":""},{"$f":"IF(Athletenliste!C161=\"\",\"\",Athletenliste!C161)","v":""},{"$f":"IF(Athletenliste!D161=\"\",\"\",Athletenliste!D161)","v":""},{"$f":"IF(Athletenliste!E161=\"\",\"\",Athletenliste!E161)","v":""},{"$f":"IF(Athletenliste!F161=\"\",\"\",Athletenliste!F161)","v":""},{"$f":"IF(Athletenliste!G161=\"\",\"\",Athletenliste!G161)","v":""},{"$f":"IF(Athletenliste!H161=\"\",\"\",Athletenliste!H161)","v":""},null,{"$f":"IF(B161=\"\",\"\",IF(D161=\"m\",INDIRECT(VLOOKUP(G161,Bezüge!$E$6:$F$16,2,FALSE)&ROW(G161)),INDIRECT(VLOOKUP(G161,Bezüge!$B$6:$C$16,2,FALSE)&ROW(G161))))","v":""},null,null,null,"","","","","","","","","","","","","","","","","","","","","","",null,"","","","","","","","","","","","","","","","","","","","","",""]
[null,{"$f":"IF(Athletenliste!B162=\"\",\"\",Athletenliste!B162)","v":""},{"$f":"IF(Athletenliste!C162=\"\",\"\",Athletenliste!C162)","v":""},{"$f":"IF(Athletenliste!D162=\"\",\"\",Athletenliste!D162)","v":""},{"$f":"IF(Athletenliste!E162=\"\",\"\",Athletenliste!E162)","v":""},{"$f":"IF(Athletenliste!F162=\"\",\"\",Athletenliste!F162)","v":""},{"$f":"IF(Athletenliste!G162=\"\",\"\",Athletenliste!G162)","v":""},{"$f":"IF(Athletenliste!H162=\"\",\"\",Athletenliste!H162)","v":""},null,{"$f":"IF(B162=\"\",\"\",IF(D162=\"m\",INDIRECT(VLOOKUP(G162,Bezüge!$E$6:$F$16,2,FALSE)&ROW(G162)),INDIRECT(VLOOKUP(G162,Bezüge!$B$6:$C$16,2,FALSE)&ROW(G162))))","v":""},null,null,null,"","","","","","","","","","","","","","","","","","","","","","",null,"","","","","","","","","","","","","","","","","","","","","",""]
[null,{"$f":"IF(Athletenliste!B163=\"\",\"\",Athletenliste!B163)","v":""},{"$f":"IF(Athletenliste!C163=\"\",\"\",Athletenliste!C163)","v":""},{"$f":"IF(Athletenliste!D163=\"\",\"\",Athletenliste!D163)","v":""},{"$f":"IF(Athletenliste!E163=\"\",\"\",Athletenliste!E163)","v":""},{"$f":"IF(Athletenliste!F163=\"\",\"\",Athletenliste!F163)","v":""},{"$f":"IF(Athletenliste!G163=\"\",\"\",Athletenliste!G163)","v":""},{"$f":"IF(Athletenliste!H163=\"\",\"\",Athletenliste!H163)","v":""},null,{"$f":"IF(B163=\"\",\"\",IF(D163=\"m\",INDIRECT(VLOOKUP(G163,Bezüge!$E$6:$F$16,2,FALSE)&ROW(G163)),INDIRECT(VLOOKUP(G163,Bezüge!$B$6:$C$16,2,FALSE)&ROW(G163))))","v":""},null,null,null,"","","","","","","","","","","","","","","","","","","","","","",null,"","","","","","","","","","","","","","","","","","","","","",""]
[null,{"$f":"IF(Athletenliste!B164=\"\",\"\",Athletenliste!B164)","v":""},{"$f":"IF(Athletenliste!C164=\"\",\"\",Athletenliste!C164)","v":""},{"$f":"IF(Athletenliste!D164=\"\",\"\",Athletenliste!D164)","v":""},{"$f":"IF(Athletenliste!E164=\"\",\"\",Athletenliste!E164)","v":""},{"$f":"IF(Athletenliste!F164=\"\",\"\",Athletenliste!F164)","v":""},{"$f":"IF(Athletenliste!G164=\"\",\"\",Athletenliste!G164)","v":""},{"$f":"IF(Athletenliste!H164=\"\",\"\",Athletenliste!H164)","v":""},null,{"$f":"IF(B164=\"\",\"\",IF(D164=\"m\",INDIRECT(VLOOKUP(G164,Bezüge!$E$6:$F$16,2,FALSE)&ROW(G164)),INDIRECT(VLOOKUP(G164,Bezüge!$B$6:$C$16,2,FALSE)&ROW(G164))))","v":""},null,null,null,"","","","","","","","","","","","","","","","","","","","","","",null,"","","","","","","","","","","","","","","","","","","","","",""]
[null,{"$f":"IF(Athletenliste!B165=\"\",\"\",Athletenliste!B165)","v":""},{"$f":"IF(Athletenliste!C165=\"\",\"\",Athletenliste!C165)","v":""},{"$f":"IF(Athletenliste!D165=\"\",\"\",Athletenliste!D165)","v":""},{"$f":"IF(Athletenliste!E165=\"\",\"\",Athletenliste!E165)","v":""},{"$f":"IF(Athletenliste!F165=\"\",\"\",Athletenliste!F165)","v":""},{"$f":"IF(Athletenliste!G165=\"\",\"\",Athletenliste!G165)","v":""},{"$f":"IF(Athletenliste!H165=\"\",\"\",Athletenliste!H165)","v":""},null,{"$f":"IF(B165=\"\",\"\",IF(D165=\"m\",INDIRECT(VLOOKUP(G165,Bezüge!$E$6:$F$16,2,FALSE)&ROW(G165)),INDIRECT(VLOOKUP(G165,Bezüge!$B$6:$C$16,2,FALSE)&ROW(G165))))","v":""},null,null,null,"","","","","","","","","","","","","","","","","","","","","","",null,"","","","","","","","","","","","","","","","","","","","","",""]
[null,{"$f":"IF(Athletenliste!B166=\"\",\"\",Athletenliste!B166)","v":""},{"$f":"IF(Athletenliste!C166=\"\",\"\",Athletenliste!C166)","v":""},{"$f":"IF(Athletenliste!D166=\"\",\"\",Athletenliste!D166)","v":""},{"$f":"IF(Athletenliste!E166=\"\",\"\",Athletenliste!E166)","v":""},{"$f":"IF(Athletenliste!F166=\"\",\"\",Athletenliste!F166)","v":""},{"$f":"IF(Athletenliste!G166=\"\",\"\",Athletenliste!G166)","v":""},{"$f":"IF(Athletenliste!H166=\"\",\"\",Athletenliste!H166)","v":""},null,{"$f":"IF(B166=\"\",\"\",IF(D166=\"m\",INDIRECT(VLOOKUP(G166,Bezüge!$E$6:$F$16,2,FALSE)&ROW(G166)),INDIRECT(VLOOKUP(G166,Bezüge!$B$6:$C$16,2,FALSE)&ROW(G166))))","v":""},null,null,null,"","","","","","","","","","","","","","","","","","","","","","",null,"","","","","","","","","","","","","","","","","","","","","",""]
[null,{"$f":"IF(Athletenliste!B167=\"\",\"\",Athletenliste!B167)","v":""},{"$f":"IF(Athletenliste!C167=\"\",\"\",Athletenliste!C167)","v":""},{"$f":"IF(Athletenliste!D167=\"\",\"\",Athletenliste!D167)","v":""},{"$f":"IF(Athletenliste!E167=\"\",\"\",Athletenliste!E167)","v":""},{"$f":"IF(Athletenliste!F167=\"\",\"\",Athletenliste!F167)","v":""},{"$f":"IF(Athletenliste!G167=\"\",\"\",Athletenliste!G167)","v":""},{"$f":"IF(Athletenliste!H167=\"\",\"\",Athletenliste!H167)","v":""},null,{"$f":"IF(B167=\"\",\"\",IF(D167=\"m\",INDIRECT(VLOOKUP(G167,Bezüge!$E$6:$F$16,2,FALSE)&ROW(G167)),INDIRECT(VLOOKUP(G167,Bezüge!$B$6:$C$16,2,FALSE)&ROW(G167))))","v":""},null,null,null,"","","","","","","","","","","","","","","","","","","","","","",null,"","","","","","","","","","","","","","","","","","","","","",""]
[null,{"$f":"IF(Athletenliste!B168=\"\",\"\",Athletenliste!B168)","v":""},{"$f":"IF(Athletenliste!C168=\"\",\"\",Athletenliste!C168)","v":""},{"$f":"IF(Athletenliste!D168=\"\",\"\",Athletenliste!D168)","v":""},{"$f":"IF(Athletenliste!E168=\"\",\"\",Athletenliste!E168)","v":""},{"$f":"IF(Athletenliste!F168=\"\",\"\",Athletenliste!F168)","v":""},{"$f":"IF(Athletenliste!G168=\"\",\"\",Athletenliste!G168)","v":""},{"$f":"IF(Athletenliste!H168=\"\",\"\",Athletenliste!H168)","v":""},null,{"$f":"IF(B168=\"\",\"\",IF(D168=\"m\",INDIRECT(VLOOKUP(G168,Bezüge!$E$6:$F$16,2,FALSE)&ROW(G168)),INDIRECT(VLOOKUP(G168,Bezüge!$B$6:$C$16,2,FALSE)&ROW(G168))))","v":""},null,null,null,"","","","","","","","","","","","","","","","","","","","","","",null,"","","","","","","","","","","","","","","","","","","","","",""]
[null,{"$f":"IF(Athletenliste!B169=\"\",\"\",Athletenliste!B169)","v":""},{"$f":"IF(Athletenliste!C169=\"\",\"\",Athletenliste!C169)","v":""},{"$f":"IF(Athletenliste!D169=\"\",\"\",Athletenliste!D169)","v":""},{"$f":"IF(Athletenliste!E169=\"\",\"\",Athletenliste!E169)","v":""},{"$f":"IF(Athletenliste!F169=\"\",\"\",Athletenliste!F169)","v":""},{"$f":"IF(Athletenliste!G169=\"\",\"\",Athletenliste!G169)","v":""},{"$f":"IF(Athletenliste!H169=\"\",\"\",Athletenliste!H169)","v":""},null,{"$f":"IF(B169=\"\",\"\",IF(D169=\"m\",INDIRECT(VLOOKUP(G169,Bezüge!$E$6:$F$16,2,FALSE)&ROW(G169)),INDIRECT(VLOOKUP(G169,Bezüge!$B$6:$C$16,2,FALSE)&ROW(G169))))","v":""},null,null,null,"","","","","","","","","","","","","","","","","","","","","","",null,"","","","","","","","","","","","","","","","","","","","","",""]
[null,{"$f":"IF(Athletenliste!B170=\"\",\"\",Athletenliste!B170)","v":""},{"$f":"IF(Athletenliste!C170=\"\",\"\",Athletenliste!C170)","v":""},{"$f":"IF(Athletenliste!D170=\"\",\"\",Athletenliste!D170)","v":""},{"$f":"IF(Athletenliste!E170=\"\",\"\",Athletenliste!E170)","v":""},{"$f":"IF(Athletenliste!F170=\"\",\"\",Athletenliste!F170)","v":""},{"$f":"IF(Athletenliste!G170=\"\",\"\",Athletenliste!G170)","v":""},{"$f":"IF(Athletenliste!H170=\"\",\"\",Athletenliste!H170)","v":""},null,{"$f":"IF(B170=\"\",\"\",IF(D170=\"m\",INDIRECT(VLOOKUP(G170,Bezüge!$E$6:$F$16,2,FALSE)&ROW(G170)),INDIRECT(VLOOKUP(G170,Bezüge!$B$6:$C$16,2,FALSE)&ROW(G170))))","v":""},null,null,null,"","","","","","","","","","","","","","","","","","","","","","",null,"","","","","","","","","","","","","","","","","","","","","",""]
[null,{"$f":"IF(Athletenliste!B171=\"\",\"\",Athletenliste!B171)","v":""},{"$f":"IF(Athletenliste!C171=\"\",\"\",Athletenliste!C171)","v":""},{"$f":"IF(Athletenliste!D171=\"\",\"\",Athletenliste!D171)","v":""},{"$f":"IF(Athletenliste!E171=\"\",\"\",Athletenliste!E171)","v":""},{"$f":"IF(Athletenliste!F171=\"\",\"\",Athletenliste!F171)","v":""},{"$f":"IF(Athletenliste!G171=\"\",\"\",Athletenliste!G171)","v":""},{"$f":"IF(Athletenliste!H171=\"\",\"\",Athletenliste!H171)","v":""},null,{"$f":"IF(B171=\"\",\"\",IF(D171=\"m\",INDIRECT(VLOOKUP(G171,Bezüge!$E$6:$F$16,2,FALSE)&ROW(G171)),INDIRECT(VLOOKUP(G171,Bezüge!$B$6:$C$16,2,FALSE)&ROW(G171))))","v":""},null,null,null,"","","","","","","","","","","","","","","","","","","","","","",null,"","","","","","","","","","","","","","","","","","","","","",""]
[null,{"$f":"IF(Athletenliste!B172=\"\",\"\",Athletenliste!B172)","v":""},{"$f":"IF(Athletenliste!C172=\"\",\"\",Athletenliste!C172)","v":""},{"$f":"IF(Athletenliste!D172=\"\",\"\",Athletenliste!D172)","v":""},{"$f":"IF(Athletenliste!E172=\"\",\"\",Athletenliste!E172)","v":""},{"$f":"IF(Athletenliste!F172=\"\",\"\",Athletenliste!F172)","v":""},{"$f":"IF(Athletenliste!G172=\"\",\"\",Athletenliste!G172)","v":""},{"$f":"IF(Athletenliste!H172=\"\",\"\",Athletenliste!H172)","v":""},null,{"$f":"IF(B172=\"\",\"\",IF(D172=\"m\",INDIRECT(VLOOKUP(G172,Bezüge!$E$6:$F$16,2,FALSE)&ROW(G172)),INDIRECT(VLOOKUP(G172,Bezüge!$B$6:$C$16,2,FALSE)&ROW(G172))))","v":""},null,null,null,"","","","","","","","","","","","","","","","","","","","","","",null,"","","","","","","","","","","","","","","","","","","","","",""]
[null,{"$f":"IF(Athletenliste!B173=\"\",\"\",Athletenliste!B173)","v":""},{"$f":"IF(Athletenliste!C173=\"\",\"\",Athletenliste!C173)","v":""},{"$f":"IF(Athletenliste!D173=\"\",\"\",Athletenliste!D173)","v":""},{"$f":"IF(Athletenliste!E173=\"\",\"\",Athletenliste!E173)","v":""},{"$f":"IF(Athletenliste!F173=\"\",\"\",Athletenliste!F173)","v":""},{"$f":"IF(Athletenliste!G173=\"\",\"\",Athletenliste!G173)","v":""},{"$f":"IF(Athletenliste!H173=\"\",\"\",Athletenliste!H173)","v":""},null,{"$f":"IF(B173=\"\",\"\",IF(D173=\"m\",INDIRECT(VLOOKUP(G173,Bezüge!$E$6:$F$16,2,FALSE)&ROW(G173)),INDIRECT(VLOOKUP(G173,Bezüge!$B$6:$C$16,2,FALSE)&ROW(G173))))","v":""},null,null,null,"","","","","","","","","","","","","","","","","","","","","","",null,"","","","","","","","","","","","","","","","","","","","","",""]
[null,{"$f":"IF(Athletenliste!B174=\"\",\"\",Athletenliste!B174)","v":""},{"$f":"IF(Athletenliste!C174=\"\",\"\",Athletenliste!C174)","v":""},{"$f":"IF(Athletenliste!D174=\"\",\"\",Athletenliste!D174)","v":""},{"$f":"IF(Athletenliste!E174=\"\",\"\",Athletenliste!E174)","v":""},{"$f":"IF(Athletenliste!F174=\"\",\"\",Athletenliste!F174)","v":""},{"$f":"IF(Athletenliste!G174=\"\",\"\",Athletenliste!G174)","v":""},{"$f":"IF(Athletenliste!H174=\"\",\"\",Athletenliste!H174)","v":""},null,{"$f":"IF(B174=\"\",\"\",IF(D174=\"m\",INDIRECT(VLOOKUP(G174,Bezüge!$E$6:$F$16,2,FALSE)&ROW(G174)),INDIRECT(VLOOKUP(G174,Bezüge!$B$6:$C$16,2,FALSE)&ROW(G174))))","v":""},null,null,null,"","","","","","","","","","","","","","","","","","","","","","",null,"","","","","","","","","","","","","","","","","","","","","",""]
[null,{"$f":"IF(Athletenliste!B175=\"\",\"\",Athletenliste!B175)","v":""},{"$f":"IF(Athletenliste!C175=\"\",\"\",Athletenliste!C175)","v":""},{"$f":"IF(Athletenliste!D175=\"\",\"\",Athletenliste!D175)","v":""},{"$f":"IF(Athletenliste!E175=\"\",\"\",Athletenliste!E175)","v":""},{"$f":"IF(Athletenliste!F175=\"\",\"\",Athletenliste!F175)","v":""},{"$f":"IF(Athletenliste!G175=\"\",\"\",Athletenliste!G175)","v":""},{"$f":"IF(Athletenliste!H175=\"\",\"\",Athletenliste!H175)","v":""},null,{"$f":"IF(B175=\"\",\"\",IF(D175=\"m\",INDIRECT(VLOOKUP(G175,Bezüge!$E$6:$F$16,2,FALSE)&ROW(G175)),INDIRECT(VLOOKUP(G175,Bezüge!$B$6:$C$16,2,FALSE)&ROW(G175))))","v":""},null,null,null,"","","","","","","","","","","","","","","","","","","","","","",null,"","","","","","","","","","","","","","","","","","","","","",""]
[null,{"$f":"IF(Athletenliste!B176=\"\",\"\",Athletenliste!B176)","v":""},{"$f":"IF(Athletenliste!C176=\"\",\"\",Athletenliste!C176)","v":""},{"$f":"IF(Athletenliste!D176=\"\",\"\",Athletenliste!D176)","v":""},{"$f":"IF(Athletenliste!E176=\"\",\"\",Athletenliste!E176)","v":""},{"$f":"IF(Athletenliste!F176=\"\",\"\",Athletenliste!F176)","v":""},{"$f":"IF(Athletenliste!G176=\"\",\"\",Athletenliste!G176)","v":""},{"$f":"IF(Athletenliste!H176=\"\",\"\",Athletenliste!H176)","v":""},null,{"$f":"IF(B176=\"\",\"\",IF(D176=\"m\",INDIRECT(VLOOKUP(G176,Bezüge!$E$6:$F$16,2,FALSE)&ROW(G176)),INDIRECT(VLOOKUP(G176,Bezüge!$B$6:$C$16,2,FALSE)&ROW(G176))))","v":""},null,null,null,"","","","","","","","","","","","","","","","","","","","","","",null,"","","","","","","","","","","","","","","","","","","","","",""]
[null,{"$f":"IF(Athletenliste!B177=\"\",\"\",Athletenliste!B177)","v":""},{"$f":"IF(Athletenliste!C177=\"\",\"\",Athletenliste!C177)","v":""},{"$f":"IF(Athletenliste!D177=\"\",\"\",Athletenliste!D177)","v":""},{"$f":"IF(Athletenliste!E177=\"\",\"\",Athletenliste!E177)","v":""},{"$f":"IF(Athletenliste!F177=\"\",\"\",Athletenliste!F177)","v":""},{"$f":"IF(Athletenliste!G177=\"\",\"\",Athletenliste!G177)","v":""},{"$f":"IF(Athletenliste!H177=\"\",\"\",Athletenliste!H177)","v":""},null,{"$f":"IF(B177=\"\",\"\",IF(D177=\"m\",INDIRECT(VLOOKUP(G177,Bezüge!$E$6:$F$16,2,FALSE)&ROW(G177)),INDIRECT(VLOOKUP(G177,Bezüge!$B$6:$C$16,2,FALSE)&ROW(G177))))","v":""},null,null,null,"","","","","","","","","","","","","","","","","","","","","","",null,"","","","","","","","","","","","","","","","","","","","","",""]
[null,{"$f":"IF(Athletenliste!B178=\"\",\"\",Athletenliste!B178)","v":""},{"$f":"IF(Athletenliste!C178=\"\",\"\",Athletenliste!C178)","v":""},{"$f":"IF(Athletenliste!D178=\"\",\"\",Athletenliste!D178)","v":""},{"$f":"IF(Athletenliste!E178=\"\",\"\",Athletenliste!E178)","v":""},{"$f":"IF(Athletenliste!F178=\"\",\"\",Athletenliste!F178)","v":""},{"$f":"IF(Athletenliste!G178=\"\",\"\",Athletenliste!G178)","v":""},{"$f":"IF(Athletenliste!H178=\"\",\"\",Athletenliste!H178)","v":""},null,{"$f":"IF(B178=\"\",\"\",IF(D178=\"m\",INDIRECT(VLOOKUP(G178,Bezüge!$E$6:$F$16,2,FALSE)&ROW(G178)),INDIRECT(VLOOKUP(G178,Bezüge!$B$6:$C$16,2,FALSE)&ROW(G178))))","v":""},null,null,null,"","","","","","","","","","","","","","","","","","","","","","",null,"","","","","","","","","","","","","","","","","","","","","",""]
[null,{"$f":"IF(Athletenliste!B179=\"\",\"\",Athletenliste!B179)","v":""},{"$f":"IF(Athletenliste!C179=\"\",\"\",Athletenliste!C179)","v":""},{"$f":"IF(Athletenliste!D179=\"\",\"\",Athletenliste!D179)","v":""},{"$f":"IF(Athletenliste!E179=\"\",\"\",Athletenliste!E179)","v":""},{"$f":"IF(Athletenliste!F179=\"\",\"\",Athletenliste!F179)","v":""},{"$f":"IF(Athletenliste!G179=\"\",\"\",Athletenliste!G179)","v":""},{"$f":"IF(Athletenliste!H179=\"\",\"\",Athletenliste!H179)","v":""},null,{"$f":"IF(B179=\"\",\"\",IF(D179=\"m\",INDIRECT(VLOOKUP(G179,Bezüge!$E$6:$F$16,2,FALSE)&ROW(G179)),INDIRECT(VLOOKUP(G179,Bezüge!$B$6:$C$16,2,FALSE)&ROW(G179))))","v":""},null,null,null,"","","","","","","","","","","","","","","","","","","","","","",null,"","","","","","","","","","","","","","","","","","","","","",""]
[null,{"$f":"IF(Athletenliste!B180=\"\",\"\",Athletenliste!B180)","v":""},{"$f":"IF(Athletenliste!C180=\"\",\"\",Athletenliste!C180)","v":""},{"$f":"IF(Athletenliste!D180=\"\",\"\",Athletenliste!D180)","v":""},{"$f":"IF(Athletenliste!E180=\"\",\"\",Athletenliste!E180)","v":""},{"$f":"IF(Athletenliste!F180=\"\",\"\",Athletenliste!F180)","v":""},{"$f":"IF(Athletenliste!G180=\"\",\"\",Athletenliste!G180)","v":""},{"$f":"IF(Athletenliste!H180=\"\",\"\",Athletenliste!H180)","v":""},null,{"$f":"IF(B180=\"\",\"\",IF(D180=\"m\",INDIRECT(VLOOKUP(G180,Bezüge!$E$6:$F$16,2,FALSE)&ROW(G180)),INDIRECT(VLOOKUP(G180,Bezüge!$B$6:$C$16,2,FALSE)&ROW(G180))))","v":""},null,null,null,"","","","","","","","","","","","","","","","","","","","","","",null,"","","","","","","","","","","","","","","","","","","","","",""]
[null,{"$f":"IF(Athletenliste!B181=\"\",\"\",Athletenliste!B181)","v":""},{"$f":"IF(Athletenliste!C181=\"\",\"\",Athletenliste!C181)","v":""},{"$f":"IF(Athletenliste!D181=\"\",\"\",Athletenliste!D181)","v":""},{"$f":"IF(Athletenliste!E181=\"\",\"\",Athletenliste!E181)","v":""},{"$f":"IF(Athletenliste!F181=\"\",\"\",Athletenliste!F181)","v":""},{"$f":"IF(Athletenliste!G181=\"\",\"\",Athletenliste!G181)","v":""},{"$f":"IF(Athletenliste!H181=\"\",\"\",Athletenliste!H181)","v":""},null,{"$f":"IF(B181=\"\",\"\",IF(D181=\"m\",INDIRECT(VLOOKUP(G181,Bezüge!$E$6:$F$16,2,FALSE)&ROW(G181)),INDIRECT(VLOOKUP(G181,Bezüge!$B$6:$C$16,2,FALSE)&ROW(G181))))","v":""},null,null,null,"","","","","","","","","","","","","","","","","","","","","","",null,"","","","","","","","","","","","","","","","","","","","","",""]
[null,{"$f":"IF(Athletenliste!B182=\"\",\"\",Athletenliste!B182)","v":""},{"$f":"IF(Athletenliste!C182=\"\",\"\",Athletenliste!C182)","v":""},{"$f":"IF(Athletenliste!D182=\"\",\"\",Athletenliste!D182)","v":""},{"$f":"IF(Athletenliste!E182=\"\",\"\",Athletenliste!E182)","v":""},{"$f":"IF(Athletenliste!F182=\"\",\"\",Athletenliste!F182)","v":""},{"$f":"IF(Athletenliste!G182=\"\",\"\",Athletenliste!G182)","v":""},{"$f":"IF(Athletenliste!H182=\"\",\"\",Athletenliste!H182)","v":""},null,{"$f":"IF(B182=\"\",\"\",IF(D182=\"m\",INDIRECT(VLOOKUP(G182,Bezüge!$E$6:$F$16,2,FALSE)&ROW(G182)),INDIRECT(VLOOKUP(G182,Bezüge!$B$6:$C$16,2,FALSE)&ROW(G182))))","v":""},null,null,null,"","","","","","","","","","","","","","","","","","","","","","",null,"","","","","","","","","","","","","","","","","","","","","",""]
[null,{"$f":"IF(Athletenliste!B183=\"\",\"\",Athletenliste!B183)","v":""},{"$f":"IF(Athletenliste!C183=\"\",\"\",Athletenliste!C183)","v":""},{"$f":"IF(Athletenliste!D183=\"\",\"\",Athletenliste!D183)","v":""},{"$f":"IF(Athletenliste!E183=\"\",\"\",Athletenliste!E183)","v":""},{"$f":"IF(Athletenliste!F183=\"\",\"\",Athletenliste!F183)","v":""},{"$f":"IF(Athletenliste!G183=\"\",\"\",Athletenliste!G183)","v":""},{"$f":"IF(Athletenliste!H183=\"\",\"\",Athletenliste!H183)","v":""},null,{"$f":"IF(B183=\"\",\"\",IF(D183=\"m\",INDIRECT(VLOOKUP(G183,Bezüge!$E$6:$F$16,2,FALSE)&ROW(G183)),INDIRECT(VLOOKUP(G183,Bezüge!$B$6:$C$16,2,FALSE)&ROW(G183))))","v":""},null,null,null,"","","","","","","","","","","","","","","","","","","","","","",null,"","","","","","","","","","","","","","","","","","","","","",""]
[null,{"$f":"IF(Athletenliste!B184=\"\",\"\",Athletenliste!B184)","v":""},{"$f":"IF(Athletenliste!C184=\"\",\"\",Athletenliste!C184)","v":""},{"$f":"IF(Athletenliste!D184=\"\",\"\",Athletenliste!D184)","v":""},{"$f":"IF(Athletenliste!E184=\"\",\"\",Athletenliste!E184)","v":""},{"$f":"IF(Athletenliste!F184=\"\",\"\",Athletenliste!F184)","v":""},{"$f":"IF(Athletenliste!G184=\"\",\"\",Athletenliste!G184)","v":""},{"$f":"IF(Athletenliste!H184=\"\",\"\",Athletenliste!H184)","v":""},null,{"$f":"IF(B184=\"\",\"\",IF(D184=\"m\",INDIRECT(VLOOKUP(G184,Bezüge!$E$6:$F$16,2,FALSE)&ROW(G184)),INDIRECT(VLOOKUP(G184,Bezüge!$B$6:$C$16,2,FALSE)&ROW(G184))))","v":""},null,null,null,"","","","","","","","","","","","","","","","","","","","","","",null,"","","","","","","","","","","","","","","","","","","","","",""]
[null,{"$f":"IF(Athletenliste!B185=\"\",\"\",Athletenliste!B185)","v":""},{"$f":"IF(Athletenliste!C185=\"\",\"\",Athletenliste!C185)","v":""},{"$f":"IF(Athletenliste!D185=\"\",\"\",Athletenliste!D185)","v":""},{"$f":"IF(Athletenliste!E185=\"\",\"\",Athletenliste!E185)","v":""},{"$f":"IF(Athletenliste!F185=\"\",\"\",Athletenliste!F185)","v":""},{"$f":"IF(Athletenliste!G185=\"\",\"\",Athletenliste!G185)","v":""},{"$f":"IF(Athletenliste!H185=\"\",\"\",Athletenliste!H185)","v":""},null,{"$f":"IF(B185=\"\",\"\",IF(D185=\"m\",INDIRECT(VLOOKUP(G185,Bezüge!$E$6:$F$16,2,FALSE)&ROW(G185)),INDIRECT(VLOOKUP(G185,Bezüge!$B$6:$C$16,2,FALSE)&ROW(G185))))","v":""},null,null,null,"","","","","","","","","","","","","","","","","","","","","","",null,"","","","","","","","","","","","","","","","","","","","","",""]
[null,{"$f":"IF(Athletenliste!B186=\"\",\"\",Athletenliste!B186)","v":""},{"$f":"IF(Athletenliste!C186=\"\",\"\",Athletenliste!C186)","v":""},{"$f":"IF(Athletenliste!D186=\"\",\"\",Athletenliste!D186)","v":""},{"$f":"IF(Athletenliste!E186=\"\",\"\",Athletenliste!E186)","v":""},{"$f":"IF(Athletenliste!F186=\"\",\"\",Athletenliste!F186)","v":""},{"$f":"IF(Athletenliste!G186=\"\",\"\",Athletenliste!G186)","v":""},{"$f":"IF(Athletenliste!H186=\"\",\"\",Athletenliste!H186)","v":""},null,{"$f":"IF(B186=\"\",\"\",IF(D186=\"m\",INDIRECT(VLOOKUP(G186,Bezüge!$E$6:$F$16,2,FALSE)&ROW(G186)),INDIRECT(VLOOKUP(G186,Bezüge!$B$6:$C$16,2,FALSE)&ROW(G186))))","v":""},null,null,null,"","","","","","","","","","","","","","","","","","","","","","",null,"","","","","","","","","","","","","","","","","","","","","",""]
[null,{"$f":"IF(Athletenliste!B187=\"\",\"\",Athletenliste!B187)","v":""},{"$f":"IF(Athletenliste!C187=\"\",\"\",Athletenliste!C187)","v":""},{"$f":"IF(Athletenliste!D187=\"\",\"\",Athletenliste!D187)","v":""},{"$f":"IF(Athletenliste!E187=\"\",\"\",Athletenliste!E187)","v":""},{"$f":"IF(Athletenliste!F187=\"\",\"\",Athletenliste!F187)","v":""},{"$f":"IF(Athletenliste!G187=\"\",\"\",Athletenliste!G187)","v":""},{"$f":"IF(Athletenliste!H187=\"\",\"\",Athletenliste!H187)","v":""},null,{"$f":"IF(B187=\"\",\"\",IF(D187=\"m\",INDIRECT(VLOOKUP(G187,Bezüge!$E$6:$F$16,2,FALSE)&ROW(G187)),INDIRECT(VLOOKUP(G187,Bezüge!$B$6:$C$16,2,FALSE)&ROW(G187))))","v":""},null,null,null,"","","","","","","","","","","","","","","","","","","","","","",null,"","","","","","","","","","","","","","","","","","","","","",""]
[null,{"$f":"IF(Athletenliste!B188=\"\",\"\",Athletenliste!B188)","v":""},{"$f":"IF(Athletenliste!C188=\"\",\"\",Athletenliste!C188)","v":""},{"$f":"IF(Athletenliste!D188=\"\",\"\",Athletenliste!D188)","v":""},{"$f":"IF(Athletenliste!E188=\"\",\"\",Athletenliste!E188)","v":""},{"$f":"IF(Athletenliste!F188=\"\",\"\",Athletenliste!F188)","v":""},{"$f":"IF(Athletenliste!G188=\"\",\"\",Athletenliste!G188)","v":""},{"$f":"IF(Athletenliste!H188=\"\",\"\",Athletenliste!H188)","v":""},null,{"$f":"IF(B188=\"\",\"\",IF(D188=\"m\",INDIRECT(VLOOKUP(G188,Bezüge!$E$6:$F$16,2,FALSE)&ROW(G188)),INDIRECT(VLOOKUP(G188,Bezüge!$B$6:$C$16,2,FALSE)&ROW(G188))))","v":""},null,null,null,"","","","","","","","","","","","","","","","","","","","","","",null,"","","","","","","","","","","","","","","","","","","","","",""]
[null,{"$f":"IF(Athletenliste!B189=\"\",\"\",Athletenliste!B189)","v":""},{"$f":"IF(Athletenliste!C189=\"\",\"\",Athletenliste!C189)","v":""},{"$f":"IF(Athletenliste!D189=\"\",\"\",Athletenliste!D189)","v":""},{"$f":"IF(Athletenliste!E189=\"\",\"\",Athletenliste!E189)","v":""},{"$f":"IF(Athletenliste!F189=\"\",\"\",Athletenliste!F189)","v":""},{"$f":"IF(Athletenliste!G189=\"\",\"\",Athletenliste!G189)","v":""},{"$f":"IF(Athletenliste!H189=\"\",\"\",Athletenliste!H189)","v":""},null,{"$f":"IF(B189=\"\",\"\",IF(D189=\"m\",INDIRECT(VLOOKUP(G189,Bezüge!$E$6:$F$16,2,FALSE)&ROW(G189)),INDIRECT(VLOOKUP(G189,Bezüge!$B$6:$C$16,2,FALSE)&ROW(G189))))","v":""},null,null,null,"","","","","","","","","","","","","","","","","","","","","","",null,"","","","","","","","","","","","","","","","","","","","","",""]
[null,{"$f":"IF(Athletenliste!B190=\"\",\"\",Athletenliste!B190)","v":""},{"$f":"IF(Athletenliste!C190=\"\",\"\",Athletenliste!C190)","v":""},{"$f":"IF(Athletenliste!D190=\"\",\"\",Athletenliste!D190)","v":""},{"$f":"IF(Athletenliste!E190=\"\",\"\",Athletenliste!E190)","v":""},{"$f":"IF(Athletenliste!F190=\"\",\"\",Athletenliste!F190)","v":""},{"$f":"IF(Athletenliste!G190=\"\",\"\",Athletenliste!G190)","v":""},{"$f":"IF(Athletenliste!H190=\"\",\"\",Athletenliste!H190)","v":""},null,{"$f":"IF(B190=\"\",\"\",IF(D190=\"m\",INDIRECT(VLOOKUP(G190,Bezüge!$E$6:$F$16,2,FALSE)&ROW(G190)),INDIRECT(VLOOKUP(G190,Bezüge!$B$6:$C$16,2,FALSE)&ROW(G190))))","v":""},null,null,null,"","","","","","","","","","","","","","","","","","","","","","",null,"","","","","","","","","","","","","","","","","","","","","",""]
[null,{"$f":"IF(Athletenliste!B191=\"\",\"\",Athletenliste!B191)","v":""},{"$f":"IF(Athletenliste!C191=\"\",\"\",Athletenliste!C191)","v":""},{"$f":"IF(Athletenliste!D191=\"\",\"\",Athletenliste!D191)","v":""},{"$f":"IF(Athletenliste!E191=\"\",\"\",Athletenliste!E191)","v":""},{"$f":"IF(Athletenliste!F191=\"\",\"\",Athletenliste!F191)","v":""},{"$f":"IF(Athletenliste!G191=\"\",\"\",Athletenliste!G191)","v":""},{"$f":"IF(Athletenliste!H191=\"\",\"\",Athletenliste!H191)","v":""},null,{"$f":"IF(B191=\"\",\"\",IF(D191=\"m\",INDIRECT(VLOOKUP(G191,Bezüge!$E$6:$F$16,2,FALSE)&ROW(G191)),INDIRECT(VLOOKUP(G191,Bezüge!$B$6:$C$16,2,FALSE)&ROW(G191))))","v":""},null,null,null,"","","","","","","","","","","","","","","","","","","","","","",null,"","","","","","","","","","","","","","","","","","","","","",""]
[null,{"$f":"IF(Athletenliste!B192=\"\",\"\",Athletenliste!B192)","v":""},{"$f":"IF(Athletenliste!C192=\"\",\"\",Athletenliste!C192)","v":""},{"$f":"IF(Athletenliste!D192=\"\",\"\",Athletenliste!D192)","v":""},{"$f":"IF(Athletenliste!E192=\"\",\"\",Athletenliste!E192)","v":""},{"$f":"IF(Athletenliste!F192=\"\",\"\",Athletenliste!F192)","v":""},{"$f":"IF(Athletenliste!G192=\"\",\"\",Athletenliste!G192)","v":""},{"$f":"IF(Athletenliste!H192=\"\",\"\",Athletenliste!H192)","v":""},null,{"$f":"IF(B192=\"\",\"\",IF(D192=\"m\",INDIRECT(VLOOKUP(G192,Bezüge!$E$6:$F$16,2,FALSE)&ROW(G192)),INDIRECT(VLOOKUP(G192,Bezüge!$B$6:$C$16,2,FALSE)&ROW(G192))))","v":""},null,null,null,"","","","","","","","","","","","","","","","","","","","","","",null,"","","","","","","","","","","","","","","","","","","","","",""]
[null,{"$f":"IF(Athletenliste!B193=\"\",\"\",Athletenliste!B193)","v":""},{"$f":"IF(Athletenliste!C193=\"\",\"\",Athletenliste!C193)","v":""},{"$f":"IF(Athletenliste!D193=\"\",\"\",Athletenliste!D193)","v":""},{"$f":"IF(Athletenliste!E193=\"\",\"\",Athletenliste!E193)","v":""},{"$f":"IF(Athletenliste!F193=\"\",\"\",Athletenliste!F193)","v":""},{"$f":"IF(Athletenliste!G193=\"\",\"\",Athletenliste!G193)","v":""},{"$f":"IF(Athletenliste!H193=\"\",\"\",Athletenliste!H193)","v":""},null,{"$f":"IF(B193=\"\",\"\",IF(D193=\"m\",INDIRECT(VLOOKUP(G193,Bezüge!$E$6:$F$16,2,FALSE)&ROW(G193)),INDIRECT(VLOOKUP(G193,Bezüge!$B$6:$C$16,2,FALSE)&ROW(G193))))","v":""},null,null,null,"","","","","","","","","","","","","","","","","","","","","","",null,"","","","","","","","","","","","","","","","","","","","","",""]
[null,{"$f":"IF(Athletenliste!B194=\"\",\"\",Athletenliste!B194)","v":""},{"$f":"IF(Athletenliste!C194=\"\",\"\",Athletenliste!C194)","v":""},{"$f":"IF(Athletenliste!D194=\"\",\"\",Athletenliste!D194)","v":""},{"$f":"IF(Athletenliste!E194=\"\",\"\",Athletenliste!E194)","v":""},{"$f":"IF(Athletenliste!F194=\"\",\"\",Athletenliste!F194)","v":""},{"$f":"IF(Athletenliste!G194=\"\",\"\",Athletenliste!G194)","v":""},{"$f":"IF(Athletenliste!H194=\"\",\"\",Athletenliste!H194)","v":""},null,{"$f":"IF(B194=\"\",\"\",IF(D194=\"m\",INDIRECT(VLOOKUP(G194,Bezüge!$E$6:$F$16,2,FALSE)&ROW(G194)),INDIRECT(VLOOKUP(G194,Bezüge!$B$6:$C$16,2,FALSE)&ROW(G194))))","v":""},null,null,null,"","","","","","","","","","","","","","","","","","","","","","",null,"","","","","","","","","","","","","","","","","","","","","",""]
[null,{"$f":"IF(Athletenliste!B195=\"\",\"\",Athletenliste!B195)","v":""},{"$f":"IF(Athletenliste!C195=\"\",\"\",Athletenliste!C195)","v":""},{"$f":"IF(Athletenliste!D195=\"\",\"\",Athletenliste!D195)","v":""},{"$f":"IF(Athletenliste!E195=\"\",\"\",Athletenliste!E195)","v":""},{"$f":"IF(Athletenliste!F195=\"\",\"\",Athletenliste!F195)","v":""},{"$f":"IF(Athletenliste!G195=\"\",\"\",Athletenliste!G195)","v":""},{"$f":"IF(Athletenliste!H195=\"\",\"\",Athletenliste!H195)","v":""},null,{"$f":"IF(B195=\"\",\"\",IF(D195=\"m\",INDIRECT(VLOOKUP(G195,Bezüge!$E$6:$F$16,2,FALSE)&ROW(G195)),INDIRECT(VLOOKUP(G195,Bezüge!$B$6:$C$16,2,FALSE)&ROW(G195))))","v":""},null,null,null,"","","","","","","","","","","","","","","","","","","","","","",null,"","","","","","","","","","","","","","","","","","","","","",""]
[null,{"$f":"IF(Athletenliste!B196=\"\",\"\",Athletenliste!B196)","v":""},{"$f":"IF(Athletenliste!C196=\"\",\"\",Athletenliste!C196)","v":""},{"$f":"IF(Athletenliste!D196=\"\",\"\",Athletenliste!D196)","v":""},{"$f":"IF(Athletenliste!E196=\"\",\"\",Athletenliste!E196)","v":""},{"$f":"IF(Athletenliste!F196=\"\",\"\",Athletenliste!F196)","v":""},{"$f":"IF(Athletenliste!G196=\"\",\"\",Athletenliste!G196)","v":""},{"$f":"IF(Athletenliste!H196=\"\",\"\",Athletenliste!H196)","v":""},null,{"$f":"IF(B196=\"\",\"\",IF(D196=\"m\",INDIRECT(VLOOKUP(G196,Bezüge!$E$6:$F$16,2,FALSE)&ROW(G196)),INDIRECT(VLOOKUP(G196,Bezüge!$B$6:$C$16,2,FALSE)&ROW(G196))))","v":""},null,null,null,"","","","","","","","","","","","","","","","","","","","","","",null,"","","","","","","","","","","","","","","","","","","","","",""]
[null,{"$f":"IF(Athletenliste!B197=\"\",\"\",Athletenliste!B197)","v":""},{"$f":"IF(Athletenliste!C197=\"\",\"\",Athletenliste!C197)","v":""},{"$f":"IF(Athletenliste!D197=\"\",\"\",Athletenliste!D197)","v":""},{"$f":"IF(Athletenliste!E197=\"\",\"\",Athletenliste!E197)","v":""},{"$f":"IF(Athletenliste!F197=\"\",\"\",Athletenliste!F197)","v":""},{"$f":"IF(Athletenliste!G197=\"\",\"\",Athletenliste!G197)","v":""},{"$f":"IF(Athletenliste!H197=\"\",\"\",Athletenliste!H197)","v":""},null,{"$f":"IF(B197=\"\",\"\",IF(D197=\"m\",INDIRECT(VLOOKUP(G197,Bezüge!$E$6:$F$16,2,FALSE)&ROW(G197)),INDIRECT(VLOOKUP(G197,Bezüge!$B$6:$C$16,2,FALSE)&ROW(G197))))","v":""},null,null,null,"","","","","","","","","","","","","","","","","","","","","","",null,"","","","","","","","","","","","","","","","","","","","","",""]
[null,{"$f":"IF(Athletenliste!B198=\"\",\"\",Athletenliste!B198)","v":""},{"$f":"IF(Athletenliste!C198=\"\",\"\",Athletenliste!C198)","v":""},{"$f":"IF(Athletenliste!D198=\"\",\"\",Athletenliste!D198)","v":""},{"$f":"IF(Athletenliste!E198=\"\",\"\",Athletenliste!E198)","v":""},{"$f":"IF(Athletenliste!F198=\"\",\"\",Athletenliste!F198)","v":""},{"$f":"IF(Athletenliste!G198=\"\",\"\",Athletenliste!G198)","v":""},{"$f":"IF(Athletenliste!H198=\"\",\"\",Athletenliste!H198)","v":""},null,{"$f":"IF(B198=\"\",\"\",IF(D198=\"m\",INDIRECT(VLOOKUP(G198,Bezüge!$E$6:$F$16,2,FALSE)&ROW(G198)),INDIRECT(VLOOKUP(G198,Bezüge!$B$6:$C$16,2,FALSE)&ROW(G198))))","v":""},null,null,null,"","","","","","","","","","","","","","","","","","","","","","",null,"","","","","","","","","","","","","","","","","","","","","",""]
[null,{"$f":"IF(Athletenliste!B199=\"\",\"\",Athletenliste!B199)","v":""},{"$f":"IF(Athletenliste!C199=\"\",\"\",Athletenliste!C199)","v":""},{"$f":"IF(Athletenliste!D199=\"\",\"\",Athletenliste!D199)","v":""},{"$f":"IF(Athletenliste!E199=\"\",\"\",Athletenliste!E199)","v":""},{"$f":"IF(Athletenliste!F199=\"\",\"\",Athletenliste!F199)","v":""},{"$f":"IF(Athletenliste!G199=\"\",\"\",Athletenliste!G199)","v":""},{"$f":"IF(Athletenliste!H199=\"\",\"\",Athletenliste!H199)","v":""},null,{"$f":"IF(B199=\"\",\"\",IF(D199=\"m\",INDIRECT(VLOOKUP(G199,Bezüge!$E$6:$F$16,2,FALSE)&ROW(G199)),INDIRECT(VLOOKUP(G199,Bezüge!$B$6:$C$16,2,FALSE)&ROW(G199))))","v":""},null,null,null,"","","","","","","","","","","","","","","","","","","","","","",null,"","","","","","","","","","","","","","","","","","","","","",""]
[null,{"$f":"IF(Athletenliste!B200=\"\",\"\",Athletenliste!B200)","v":""},{"$f":"IF(Athletenliste!C200=\"\",\"\",Athletenliste!C200)","v":""},{"$f":"IF(Athletenliste!D200=\"\",\"\",Athletenliste!D200)","v":""},{"$f":"IF(Athletenliste!E200=\"\",\"\",Athletenliste!E200)","v":""},{"$f":"IF(Athletenliste!F200=\"\",\"\",Athletenliste!F200)","v":""},{"$f":"IF(Athletenliste!G200=\"\",\"\",Athletenliste!G200)","v":""},{"$f":"IF(Athletenliste!H200=\"\",\"\",Athletenliste!H200)","v":""},null,{"$f":"IF(B200=\"\",\"\",IF(D200=\"m\",INDIRECT(VLOOKUP(G200,Bezüge!$E$6:$F$16,2,FALSE)&ROW(G200)),INDIRECT(VLOOKUP(G200,Bezüge!$B$6:$C$16,2,FALSE)&ROW(G200))))","v":""},null,null,null,"","","","","","","","","","","","","","","","","","","","","","",null,"","","","","","","","","","","","","","","","","","","","","",""]
[null,{"$f":"IF(Athletenliste!B201=\"\",\"\",Athletenliste!B201)","v":""},{"$f":"IF(Athletenliste!C201=\"\",\"\",Athletenliste!C201)","v":""},{"$f":"IF(Athletenliste!D201=\"\",\"\",Athletenliste!D201)","v":""},{"$f":"IF(Athletenliste!E201=\"\",\"\",Athletenliste!E201)","v":""},{"$f":"IF(Athletenliste!F201=\"\",\"\",Athletenliste!F201)","v":""},{"$f":"IF(Athletenliste!G201=\"\",\"\",Athletenliste!G201)","v":""},{"$f":"IF(Athletenliste!H201=\"\",\"\",Athletenliste!H201)","v":""},null,null,null,null,null,"","","","","","","","","","","","","","","","","","","","","","",null,"","","","","","","","","","","","","","","","","","","","","",""]
[null,{"$f":"IF(Athletenliste!B202=\"\",\"\",Athletenliste!B202)","v":""},{"$f":"IF(Athletenliste!C202=\"\",\"\",Athletenliste!C202)","v":""},{"$f":"IF(Athletenliste!D202=\"\",\"\",Athletenliste!D202)","v":""},{"$f":"IF(Athletenliste!E202=\"\",\"\",Athletenliste!E202)","v":""},{"$f":"IF(Athletenliste!F202=\"\",\"\",Athletenliste!F202)","v":""},{"$f":"IF(Athletenliste!G202=\"\",\"\",Athletenliste!G202)","v":""},{"$f":"IF(Athletenliste!H202=\"\",\"\",Athletenliste!H202)","v":""},null,null,null,null,null,"","","","","","","","","","","","","","","","","","","","","","",null,"","","","","","","","","","","","","","","","","","","","","",""]

{"sheet":"Gesamtliste","index":10,"n_rows":202,"n_cols":46,"rows_kept":202,"cut":false,"hidden":false,"merged":[[3,2,3,3]]}
[]
[null,"SKILANGLAUF - DEUTSCHLAND - ATHLETIK - CHALLENGE"]
[]
[null,"Ort:",{"$f":"Athletenliste!C4","v":"Leipzig"},null,"Datum:","2021-05-18",null,null,null,null,null,null,null,null,null,null,null,null,null,null,null,null,null,null,null,null,{"$f":"IF(AND(Messen_Beweglichkeit!L10=\"\",AB10=\"OK\"),VLOOKUP(G10&D10,$AJ$10:$AT$31,4,FALSE)+1,IF(AND(Messen_Beweglichkeit!J10=\"\",AB10=\"kein Test\"),\"\",Messen_Beweglichkeit!L10))","v":""},{"$f":"IF(AND('Jump-and-Reach'!J10=\"\",AB10=\"OK\"),VLOOKUP(G10&D10,$AJ$10:$AT$31,5,FALSE)+1,IF(AND('Jump-and-Reach'!J10=\"\",AB10=\"kein Test\"),\"\",'Jump-and-Reach'!J10))","v":""},{"$f":"IF(AND('30m Sprint'!J10=\"\",AB10=\"OK\"),VLOOKUP(G10&D10,$AJ$10:$AT$31,6,FALSE)+1,IF(AND('30m Sprint'!J10=\"\",AB10=\"kein Test\"),\"\",'30m Sprint'!J10))","v":""},{"$f":"IF(AND(KaBu!J10=\"\",AB10=\"OK\"),VLOOKUP(G10&D10,$AJ$10:$AT$31,7,FALSE)+1,IF(AND(KaBu!J10=\"\",AB10=\"kein Test\"),\"\",KaBu!J10))","v":""},{"$f":"IF(AND(Seilspringen!J10=\"\",AB10=\"OK\"),VLOOKUP(G10&D10,$AJ$10:$AT$31,8,FALSE)+1,IF(AND(Seilspringen!J10=\"\",AB10=\"kein Test\"),\"\",Seilspringen!J10))","v":""},{"$f":"IF(AND(Liegestütz!J10=\"\",AB10=\"OK\"),VLOOKUP(G10&D10,$AJ$10:$AT$31,9,FALSE)+1,IF(AND(Liegestütz!J10=\"\",AB10=\"kein Test\"),\"\",Liegestütz!J10))","v":""},{"$f":"IF(AND(Balance!J10=\"\",AB10=\"OK\"),VLOOKUP(G10&D10,$AJ$10:$AT$31,10,FALSE)+1,IF(AND(Balance!J10=\"\",AB10=\"kein Test\"),\"\",Balance!J10))","v":""},{"$f":"IF(AND('1000m'!J10=\"\",AB10=\"OK\"),VLOOKUP(G10&D10,$AJ$10:$AT$31,11,FALSE)+1,IF(AND('1000m'!J10=\"\",AB10=\"kein Test\"),\"\",'1000m'!J10))","v":""}]
[]
[null,"Gesamtübersicht"]
[null,"Name","Vorname","Geschl.","JG","Testdatum","AK","LV","Beweglichkeit","Rang","Jamp-and-reach","Rang","30 m Sprint","Rang","KaBu","Rang","Seilspringen","Rang","Liegestütz","Rang","Balance","Rang","1000 m","Rang","Durchschnitt der ",null,null,null,null,null,null,null,null,null,null,null,null,"Ges","Messen","J-a-R","30m","KaBu","Seilspr","LiegeSt","Balance","1000m"]
[null,null,null,null,null,null,null,null,"[0 cm]","AK","[0 cm]","AK","[0,00 s]","AK","[0,00 s]","AK","[Anz/min]","AK","[0:00,0 min]","AK","[0,0 Pkt]","AK","[0:00,0 min]","AK","Einzelränge",null,null,null,null,null,null,null,null,null,null,null,null,"Teilnehmer","Teilnehmer","Teilnehmer","Teilnehmer","Teilnehmer","Teilnehmer","Teilnehmer","Teilnehmer","Teilnehmer"]
[]
[1,{"$f":"IF(Athletenliste!B10=\"\",\"\",Athletenliste!B10)","v":""},{"$f":"IF(Athletenliste!C10=\"\",\"\",Athletenliste!C10)","v":""},{"$f":"IF(Athletenliste!D10=\"\",\"\",Athletenliste!D10)","v":""},{"$f":"IF(Athletenliste!E10=\"\",\"\",Athletenliste!E10)","v":""},{"$f":"IF(Athletenliste!F10=\"\",\"\",Athletenliste!F10)","v":""},{"$f":"IF(Athletenliste!G10=\"\",\"\",Athletenliste!G10)","v":""},{"$f":"IF(Athletenliste!H10=\"\",\"\",Athletenliste!H10)","v":""},{"$f":"IF(Messen_Beweglichkeit!K10=\"\",\"\",Messen_Beweglichkeit!K10)","v":""},{"$f":"IF(Messen_Beweglichkeit!L10=\"\",\"\",Messen_Beweglichkeit!L10)","v":""},{"$f":"IF('Jump-and-Reach'!I10=\"\",\"\",'Jump-and-Reach'!I10)","v":""},{"$f":"IF('Jump-and-Reach'!J10=\"\",\"\",'Jump-and-Reach'!J10)","v":""},{"$f":"IF('30m Sprint'!I10=\"\",\"\",'30m Sprint'!I10)","v":""},{"$f":"IF('30m Sprint'!J10=\"\",\"\",'30m Sprint'!J10)","v":""},{"$f":"IF(KaBu!I10=\"\",\"\",KaBu!I10)","v":""},{"$f":"IF(KaBu!J10=\"\",\"\",KaBu!J10)","v":""},{"$f":"IF(Seilspringen!I10=\"\",\"\",Seilspringen!I10)","v":""},{"$f":"IF(Seilspringen!J10=\"\",\"\",Seilspringen!J10)","v":""},{"$f":"IF(Liegestütz!I10=\"\",\"\",Liegestütz!I10)","v":""},{"$f":"IF(Liegestütz!J10=\"\",\"\",Liegestütz!J10)","v":""},{"$f":"IF(Balance!I10=\"\",\"\",Balance!I10)","v":""},{"$f":"IF(Balance!J10=\"\",\"\",Balance!J10)","v":""},{"$f":"IF('1000m'!I10=\"\",\"\",'1000m'!I10)","v":""},{"$f":"IF('1000m'!J10=\"\",\"\",'1000m'!J10)","v":""},{"$f":"IF(B10=\"\",\"\",(IF(AND(Messen_Beweglichkeit!L10=\"\",AB10=\"OK\"),VLOOKUP(G10&D10,$AJ$10:$AT$31,4,FALSE)+1,IF(AND(Messen_Beweglichkeit!J10=\"\",AB10=\"kein Test\"),\"\",Messen_Beweglichkeit!L10))+IF(AND('Jump-and-Reach'!J10=\"\",AB10=\"OK\"),VLOOKUP(G10&D10,$AJ$10:$AT$31,5,FALSE)+1,IF(AND('Jump-and-Reach'!J10=\"\",AB10=\"kein Test\"),\"\",'Jump-and-Reach'!J10))+IF(AND('30m Sprint'!J10=\"\",AB10=\"OK\"),VLOOKUP(G10&D10,$AJ$10:$AT$31,6,FALSE)+1,IF(AND('30m Sprint'!J10=\"\",AB10=\"kein Test\"),\"\",'30m Sprint'!J10))+IF(AND(KaBu!J10=\"\",AB10=\"OK\"),VLOOKUP(G10&D10,$AJ$10:$AT$31,7,FALSE)+1,IF(AND(KaBu!J10=\"\",AB10=\"kein Test\"),\"\",KaBu!J10))+IF(AND(Seilspringen!J10=\"\",AB10=\"OK\"),VLOOKUP(G10&D10,$AJ$10:$AT$31,8,FALSE)+1,IF(AND(Seilspringen!J10=\"\",AB10=\"kein Test\"),\"\",Seilspringen!J10))+IF(AND(Liegestütz!J10=\"\",AB10=\"OK\"),VLOOKUP(G10&D10,$AJ$10:$AT$31,9,FALSE)+1,IF(AND(Liegestütz!J10=\"\",AB10=\"kein Test\"),\"\",Liegestütz!J10))+IF(AND(Balance!J10=\"\",AB10=\"OK\"),VLOOKUP(G10&D10,$AJ$10:$AT$31,10,FALSE)+1,IF(AND(Balance!J10=\"\",AB10=\"kein Test\"),\"\",Balance!J10))+IF(AND('1000m'!J10=\"\",AB10=\"OK\"),VLOOKUP(G10&D10,$AJ$10:$AT$31,11,FALSE)+1,IF(AND('1000m'!J10=\"\",AB10=\"kein Test\"),\"\",'1000m'!J10)))/8)","v":""},null,null,{"$f":"IF(AND(I10=\"\",K10=\"\",M10=\"\",O10=\"\",Q10=\"\",S10=\"\",U10=\"\",W10=\"\"),\"kein Test\",\"OK\")","v":"kein Test"},null,null,null,null,null,null,null,"U06m","m",{"$f":"COUNTIFS($D$10:$D$200,\"m\",$G$10:$G$200,\"U6\")","v":0},{"$f":"$AL$10-COUNTIFS($D$10:$D$200,\"m\",$G$10:$G$200,\"U6\",$I$10:$I$200,\"\")","v":0},{"$f":"$AL$10-COUNTIFS($D$10:$D$200,\"m\",$G$10:$G$200,\"U6\",$K$10:$K$200,\"\")","v":0},{"$f":"$AL$10-COUNTIFS($D$10:$D$200,\"m\",$G$10:$G$200,\"U6\",$M$10:$M$200,\"\")","v":0},{"$f":"$AL$10-COUNTIFS($D$10:$D$200,\"m\",$G$10:$G$200,\"U6\",$O$10:$O$200,\"\")","v":0},{"$f":"$AL$10-COUNTIFS($D$10:$D$200,\"m\",$G$10:$G$200,\"U6\",$Q$10:$Q$200,\"\")","v":0},{"$f":"$AL$10-COUNTIFS($D$10:$D$200,\"m\",$G$10:$G$200,\"U6\",$S$10:$S$200,\"\")","v":0},{"$f":"$AL$10-COUNTIFS($D$10:$D$200,\"m\",$G$10:$G$200,\"U6\",$U$10:$U$200,\"\")","v":0},{"$f":"$AL$10-COUNTIFS($D$10:$D$200,\"m\",$G$10:$G$200,\"U6\",$W$10:$W$200,\"\")","v":0}]
[2,{"$f":"IF(Athletenliste!B11=\"\",\"\",Athletenliste!B11)","v":""},{"$f":"IF(Athletenliste!C11=\"\",\"\",Athletenliste!C11)","v":""},{"$f":"IF(Athletenliste!D11=\"\",\"\",Athletenliste!D11)","v":""},{"$f":"IF(Athletenliste!E11=\"\",\"\",Athletenliste!E11)","v":""},{"$f":"IF(Athletenliste!F11=\"\",\"\",Athletenliste!F11)","v":""},{"$f":"IF(Athletenliste!G11=\"\",\"\",Athletenliste!G11)","v":""},{"$f":"IF(Athletenliste!H11=\"\",\"\",Athletenliste!H11)","v":""},{"$f":"IF(Messen_Beweglichkeit!K11=\"\",\"\",Messen_Beweglichkeit!K11)","v":""},{"$f":"IF(Messen_Beweglichkeit!L11=\"\",\"\",Messen_Beweglichkeit!L11)","v":""},{"$f":"IF('Jump-and-Reach'!I11=\"\",\"\",'Jump-and-Reach'!I11)","v":""},{"$f":"IF('Jump-and-Reach'!J11=\"\",\"\",'Jump-and-Reach'!J11)","v":""},{"$f":"IF('30m Sprint'!I11=\"\",\"\",'30m Sprint'!I11)","v":""},{"$f":"IF('30m Sprint'!J11=\"\",\"\",'30m Sprint'!J11)","v":""},{"$f":"IF(KaBu!I11=\"\",\"\",KaBu!I11)","v":""},{"$f":"IF(KaBu!J11=\"\",\"\",KaBu!J11)","v":""},{"$f":"IF(Seilspringen!I11=\"\",\"\",Seilspringen!I11)","v":""},{"$f":"IF(Seilspringen!J11=\"\",\"\",Seilspringen!J11)","v":""},{"$f":"IF(Liegestütz!I11=\"\",\"\",Liegestütz!I11)","v":""},{"$f":"IF(Liegestütz!J11=\"\",\"\",Liegestütz!J11)","v":""},{"$f":"IF(Balance!I11=\"\",\"\",Balance!I11)","v":""},{"$f":"IF(Balance!J11=\"\",\"\",Balance!J11)","v":""},{"$f":"IF('1000m'!I11=\"\",\"\",'1000m'!I11)","v":""},{"$f":"IF('1000m'!J11=\"\",\"\",'1000m'!J11)","v":""},{"$f":"IF(B11=\"\",\"\",(IF(AND(Messen_Beweglichkeit!L11=\"\",AB11=\"OK\"),VLOOKUP(G11&D11,$AJ$10:$AT$31,4,FALSE)+1,IF(AND(Messen_Beweglichkeit!J11=\"\",AB11=\"kein Test\"),\"\",Messen_Beweglichkeit!L11))+IF(AND('Jump-and-Reach'!J11=\"\",AB11=\"OK\"),VLOOKUP(G11&D11,$AJ$10:$AT$31,5,FALSE)+1,IF(AND('Jump-and-Reach'!J11=\"\",AB11=\"kein Test\"),\"\",'Jump-and-Reach'!J11))+IF(AND('30m Sprint'!J11=\"\",AB11=\"OK\"),VLOOKUP(G11&D11,$AJ$10:$AT$31,6,FALSE)+1,IF(AND('30m Sprint'!J11=\"\",AB11=\"kein Test\"),\"\",'30m Sprint'!J11))+IF(AND(KaBu!J11=\"\",AB11=\"OK\"),VLOOKUP(G11&D11,$AJ$10:$AT$31,7,FALSE)+1,IF(AND(KaBu!J11=\"\",AB11=\"kein Test\"),\"\",KaBu!J11))+IF(AND(Seilspringen!J11=\"\",AB11=\"OK\"),VLOOKUP(G11&D11,$AJ$10:$AT$31,8,FALSE)+1,IF(AND(Seilspringen!J11=\"\",AB11=\"kein Test\"),\"\",Seilspringen!J11))+IF(AND(Liegestütz!J11=\"\",AB11=\"OK\"),VLOOKUP(G11&D11,$AJ$10:$AT$31,9,FALSE)+1,IF(AND(Liegestütz!J11=\"\",AB11=\"kein Test\"),\"\",Liegestütz!J11))+IF(AND(Balance!J11=\"\",AB11=\"OK\"),VLOOKUP(G11&D11,$AJ$10:$AT$31,10,FALSE)+1,IF(AND(Balance!J11=\"\",AB11=\"kein Test\"),\"\",Balance!J11))+IF(AND('1000m'!J11=\"\",AB11=\"OK\"),VLOOKUP(G11&D11,$AJ$10:$AT$31,11,FALSE)+1,IF(AND('1000m'!J11=\"\",AB11=\"kein Test\"),\"\",'1000m'!J11)))/8)","v":""},null,null,"kein Test",null,null,null,null,null,null,null,"U06w","w",{"$f":"COUNTIFS($D$10:$D$200,\"w\",$G$10:$G$200,\"U6\")","v":0},{"$f":"$AL$11-COUNTIFS($D$10:$D$200,\"w\",$G$10:$G$200,\"U6\",$I$10:$I$200,\"\")","v":0},{"$f":"$AL$11-COUNTIFS($D$10:$D$200,\"w\",$G$10:$G$200,\"U6\",$K$10:$K$200,\"\")","v":0},{"$f":"$AL$11-COUNTIFS($D$10:$D$200,\"w\",$G$10:$G$200,\"U6\",$M$10:$M$200,\"\")","v":0},{"$f":"$AL$11-COUNTIFS($D$10:$D$200,\"w\",$G$10:$G$200,\"U6\",$O$10:$O$200,\"\")","v":0},{"$f":"$AL$11-COUNTIFS($D$10:$D$200,\"w\",$G$10:$G$200,\"U6\",$Q$10:$Q$200,\"\")","v":0},{"$f":"$AL$11-COUNTIFS($D$10:$D$200,\"w\",$G$10:$G$200,\"U6\",$S$10:$S$200,\"\")","v":0},{"$f":"$AL$11-COUNTIFS($D$10:$D$200,\"w\",$G$10:$G$200,\"U6\",$U$10:$U$200,\"\")","v":0},{"$f":"$AL$11-COUNTIFS($D$10:$D$200,\"w\",$G$10:$G$200,\"U6\",$W$10:$W$200,\"\")","v":0}]
[3,{"$f":"IF(Athletenliste!B12=\"\",\"\",Athletenliste!B12)","v":""},{"$f":"IF(Athletenliste!C12=\"\",\"\",Athletenliste!C12)","v":""},{"$f":"IF(Athletenliste!D12=\"\",\"\",Athletenliste!D12)","v":""},{"$f":"IF(Athletenliste!E12=\"\",\"\",Athletenliste!E12)","v":""},{"$f":"IF(Athletenliste!F12=\"\",\"\",Athletenliste!F12)","v":""},{"$f":"IF(Athletenliste!G12=\"\",\"\",Athletenliste!G12)","v":""},{"$f":"IF(Athletenliste!H12=\"\",\"\",Athletenliste!H12)","v":""},{"$f":"IF(Messen_Beweglichkeit!K12=\"\",\"\",Messen_Beweglichkeit!K12)","v":""},{"$f":"IF(Messen_Beweglichkeit!L12=\"\",\"\",Messen_Beweglichkeit!L12)","v":""},{"$f":"IF('Jump-and-Reach'!I12=\"\",\"\",'Jump-and-Reach'!I12)","v":""},{"$f":"IF('Jump-and-Reach'!J12=\"\",\"\",'Jump-and-Reach'!J12)","v":""},{"$f":"IF('30m Sprint'!I12=\"\",\"\",'30m Sprint'!I12)","v":""},{"$f":"IF('30m Sprint'!J12=\"\",\"\",'30m Sprint'!J12)","v":""},{"$f":"IF(KaBu!I12=\"\",\"\",KaBu!I12)","v":""},{"$f":"IF(KaBu!J12=\"\",\"\",KaBu!J12)","v":""},{"$f":"IF(Seilspringen!I12=\"\",\"\",Seilspringen!I12)","v":""},{"$f":"IF(Seilspringen!J12=\"\",\"\",Seilspringen!J12)","v":""},{"$f":"IF(Liegestütz!I12=\"\",\"\",Liegestütz!I12)","v":""},{"$f":"IF(Liegestütz!J12=\"\",\"\",Liegestütz!J12)","v":""},{"$f":"IF(Balance!I12=\"\",\"\",Balance!I12)","v":""},{"$f":"IF(Balance!J12=\"\",\"\",Balance!J12)","v":""},{"$f":"IF('1000m'!I12=\"\",\"\",'1000m'!I12)","v":""},{"$f":"IF('1000m'!J12=\"\",\"\",'1000m'!J12)","v":""},{"$f":"IF(B12=\"\",\"\",(IF(AND(Messen_Beweglichkeit!L12=\"\",AB12=\"OK\"),VLOOKUP(G12&D12,$AJ$10:$AT$31,4,FALSE)+1,IF(AND(Messen_Beweglichkeit!J12=\"\",AB12=\"kein Test\"),\"\",Messen_Beweglichkeit!L12))+IF(AND('Jump-and-Reach'!J12=\"\",AB12=\"OK\"),VLOOKUP(G12&D12,$AJ$10:$AT$31,5,FALSE)+1,IF(AND('Jump-and-Reach'!J12=\"\",AB12=\"kein Test\"),\"\",'Jump-and-Reach'!J12))+IF(AND('30m Sprint'!J12=\"\",AB12=\"OK\"),VLOOKUP(G12&D12,$AJ$10:$AT$31,6,FALSE)+1,IF(AND('30m Sprint'!J12=\"\",AB12=\"kein Test\"),\"\",'30m Sprint'!J12))+IF(AND(KaBu!J12=\"\",AB12=\"OK\"),VLOOKUP(G12&D12,$AJ$10:$AT$31,7,FALSE)+1,IF(AND(KaBu!J12=\"\",AB12=\"kein Test\"),\"\",KaBu!J12))+IF(AND(Seilspringen!J12=\"\",AB12=\"OK\"),VLOOKUP(G12&D12,$AJ$10:$AT$31,8,FALSE)+1,IF(AND(Seilspringen!J12=\"\",AB12=\"kein Test\"),\"\",Seilspringen!J12))+IF(AND(Liegestütz!J12=\"\",AB12=\"OK\"),VLOOKUP(G12&D12,$AJ$10:$AT$31,9,FALSE)+1,IF(AND(Liegestütz!J12=\"\",AB12=\"kein Test\"),\"\",Liegestütz!J12))+IF(AND(Balance!J12=\"\",AB12=\"OK\"),VLOOKUP(G12&D12,$AJ$10:$AT$31,10,FALSE)+1,IF(AND(Balance!J12=\"\",AB12=\"kein Test\"),\"\",Balance!J12))+IF(AND('1000m'!J12=\"\",AB12=\"OK\"),VLOOKUP(G12&D12,$AJ$10:$AT$31,11,FALSE)+1,IF(AND('1000m'!J12=\"\",AB12=\"kein Test\"),\"\",'1000m'!J12)))/8)","v":""},null,null,"kein Test",null,null,null,null,null,null,null,"U07m","m",{"$f":"COUNTIFS($D$10:$D$200,\"m\",$G$10:$G$200,\"U7\")","v":0},{"$f":"$AL$12-COUNTIFS($D$10:$D$200,\"m\",$G$10:$G$200,\"U7\",$I$10:$I$200,\"\")","v":0},{"$f":"$AL$12-COUNTIFS($D$10:$D$200,\"m\",$G$10:$G$200,\"U7\",$K$10:$K$200,\"\")","v":0},{"$f":"$AL$12-COUNTIFS($D$10:$D$200,\"m\",$G$10:$G$200,\"U7\",$M$10:$M$200,\"\")","v":0},{"$f":"$AL$12-COUNTIFS($D$10:$D$200,\"m\",$G$10:$G$200,\"U7\",$O$10:$O$200,\"\")","v":0},{"$f":"$AL$12-COUNTIFS($D$10:$D$200,\"m\",$G$10:$G$200,\"U7\",$Q$10:$Q$200,\"\")","v":0},{"$f":"$AL$12-COUNTIFS($D$10:$D$200,\"m\",$G$10:$G$200,\"U7\",$S$10:$S$200,\"\")","v":0},{"$f":"$AL$12-COUNTIFS($D$10:$D$200,\"m\",$G$10:$G$200,\"U7\",$U$10:$U$200,\"\")","v":0},{"$f":"$AL$12-COUNTIFS($D$10:$D$200,\"m\",$G$10:$G$200,\"U7\",$W$10:$W$200,\"\")","v":0}]
[4,{"$f":"IF(Athletenliste!B13=\"\",\"\",Athletenliste!B13)","v":""},{"$f":"IF(Athletenliste!C13=\"\",\"\",Athletenliste!C13)","v":""},{"$f":"IF(Athletenliste!D13=\"\",\"\",Athletenliste!D13)","v":""},{"$f":"IF(Athletenliste!E13=\"\",\"\",Athletenliste!E13)","v":""},{"$f":"IF(Athletenliste!F13=\"\",\"\",Athletenliste!F13)","v":""},{"$f":"IF(Athletenliste!G13=\"\",\"\",Athletenliste!G13)","v":""},{"$f":"IF(Athletenliste!H13=\"\",\"\",Athletenliste!H13)","v":""},{"$f":"IF(Messen_Beweglichkeit!K13=\"\",\"\",Messen_Beweglichkeit!K13)","v":""},{"$f":"IF(Messen_Beweglichkeit!L13=\"\",\"\",Messen_Beweglichkeit!L13)","v":""},{"$f":"IF('Jump-and-Reach'!I13=\"\",\"\",'Jump-and-Reach'!I13)","v":""},{"$f":"IF('Jump-and-Reach'!J13=\"\",\"\",'Jump-and-Reach'!J13)","v":""},{"$f":"IF('30m Sprint'!I13=\"\",\"\",'30m Sprint'!I13)","v":""},{"$f":"IF('30m Sprint'!J13=\"\",\"\",'30m Sprint'!J13)","v":""},{"$f":"IF(KaBu!I13=\"\",\"\",KaBu!I13)","v":""},{"$f":"IF(KaBu!J13=\"\",\"\",KaBu!J13)","v":""},{"$f":"IF(Seilspringen!I13=\"\",\"\",Seilspringen!I13)","v":""},{"$f":"IF(Seilspringen!J13=\"\",\"\",Seilspringen!J13)","v":""},{"$f":"IF(Liegestütz!I13=\"\",\"\",Liegestütz!I13)","v":""},{"$f":"IF(Liegestütz!J13=\"\",\"\",Liegestütz!J13)","v":""},{"$f":"IF(Balance!I13=\"\",\"\",Balance!I13)","v":""},{"$f":"IF(Balance!J13=\"\",\"\",Balance!J13)","v":""},{"$f":"IF('1000m'!I13=\"\",\"\",'1000m'!I13)","v":""},{"$f":"IF('1000m'!J13=\"\",\"\",'1000m'!J13)","v":""},{"$f":"IF(B13=\"\",\"\",(IF(AND(Messen_Beweglichkeit!L13=\"\",AB13=\"OK\"),VLOOKUP(G13&D13,$AJ$10:$AT$31,4,FALSE)+1,IF(AND(Messen_Beweglichkeit!J13=\"\",AB13=\"kein Test\"),\"\",Messen_Beweglichkeit!L13))+IF(AND('Jump-and-Reach'!J13=\"\",AB13=\"OK\"),VLOOKUP(G13&D13,$AJ$10:$AT$31,5,FALSE)+1,IF(AND('Jump-and-Reach'!J13=\"\",AB13=\"kein Test\"),\"\",'Jump-and-Reach'!J13))+IF(AND('30m Sprint'!J13=\"\",AB13=\"OK\"),VLOOKUP(G13&D13,$AJ$10:$AT$31,6,FALSE)+1,IF(AND('30m Sprint'!J13=\"\",AB13=\"kein Test\"),\"\",'30m Sprint'!J13))+IF(AND(KaBu!J13=\"\",AB13=\"OK\"),VLOOKUP(G13&D13,$AJ$10:$AT$31,7,FALSE)+1,IF(AND(KaBu!J13=\"\",AB13=\"kein Test\"),\"\",KaBu!J13))+IF(AND(Seilspringen!J13=\"\",AB13=\"OK\"),VLOOKUP(G13&D13,$AJ$10:$AT$31,8,FALSE)+1,IF(AND(Seilspringen!J13=\"\",AB13=\"kein Test\"),\"\",Seilspringen!J13))+IF(AND(Liegestütz!J13=\"\",AB13=\"OK\"),VLOOKUP(G13&D13,$AJ$10:$AT$31,9,FALSE)+1,IF(AND(Liegestütz!J13=\"\",AB13=\"kein Test\"),\"\",Liegestütz!J13))+IF(AND(Balance!J13=\"\",AB13=\"OK\"),VLOOKUP(G13&D13,$AJ$10:$AT$31,10,FALSE)+1,IF(AND(Balance!J13=\"\",AB13=\"kein Test\"),\"\",Balance!J13))+IF(AND('1000m'!J13=\"\",AB13=\"OK\"),VLOOKUP(G13&D13,$AJ$10:$AT$31,11,FALSE)+1,IF(AND('1000m'!J13=\"\",AB13=\"kein Test\"),\"\",'1000m'!J13)))/8)","v":""},null,null,"kein Test",null,null,null,null,null,null,null,"U07w","w",{"$f":"COUNTIFS($D$10:$D$200,\"w\",$G$10:$G$200,\"U7\")","v":0},{"$f":"$AL$13-COUNTIFS($D$10:$D$200,\"w\",$G$10:$G$200,\"U7\",$I$10:$I$200,\"\")","v":0},{"$f":"$AL$13-COUNTIFS($D$10:$D$200,\"w\",$G$10:$G$200,\"U7\",$K$10:$K$200,\"\")","v":0},{"$f":"$AL$13-COUNTIFS($D$10:$D$200,\"w\",$G$10:$G$200,\"U7\",$M$10:$M$200,\"\")","v":0},{"$f":"$AL$13-COUNTIFS($D$10:$D$200,\"w\",$G$10:$G$200,\"U7\",$O$10:$O$200,\"\")","v":0},{"$f":"$AL$13-COUNTIFS($D$10:$D$200,\"w\",$G$10:$G$200,\"U7\",$Q$10:$Q$200,\"\")","v":0},{"$f":"$AL$13-COUNTIFS($D$10:$D$200,\"w\",$G$10:$G$200,\"U7\",$S$10:$S$200,\"\")","v":0},{"$f":"$AL$13-COUNTIFS($D$10:$D$200,\"w\",$G$10:$G$200,\"U7\",$U$10:$U$200,\"\")","v":0},{"$f":"$AL$13-COUNTIFS($D$10:$D$200,\"w\",$G$10:$G$200,\"U7\",$W$10:$W$200,\"\")","v":0}]
[5,{"$f":"IF(Athletenliste!B14=\"\",\"\",Athletenliste!B14)","v":""},{"$f":"IF(Athletenliste!C14=\"\",\"\",Athletenliste!C14)","v":""},{"$f":"IF(Athletenliste!D14=\"\",\"\",Athletenliste!D14)","v":""},{"$f":"IF(Athletenliste!E14=\"\",\"\",Athletenliste!E14)","v":""},{"$f":"IF(Athletenliste!F14=\"\",\"\",Athletenliste!F14)","v":""},{"$f":"IF(Athletenliste!G14=\"\",\"\",Athletenliste!G14)","v":""},{"$f":"IF(Athletenliste!H14=\"\",\"\",Athletenliste!H14)","v":""},{"$f":"IF(Messen_Beweglichkeit!K14=\"\",\"\",Messen_Beweglichkeit!K14)","v":""},{"$f":"IF(Messen_Beweglichkeit!L14=\"\",\"\",Messen_Beweglichkeit!L14)","v":""},{"$f":"IF('Jump-and-Reach'!I14=\"\",\"\",'Jump-and-Reach'!I14)","v":""},{"$f":"IF('Jump-and-Reach'!J14=\"\",\"\",'Jump-and-Reach'!J14)","v":""},{"$f":"IF('30m Sprint'!I14=\"\",\"\",'30m Sprint'!I14)","v":""},{"$f":"IF('30m Sprint'!J14=\"\",\"\",'30m Sprint'!J14)","v":""},{"$f":"IF(KaBu!I14=\"\",\"\",KaBu!I14)","v":""},{"$f":"IF(KaBu!J14=\"\",\"\",KaBu!J14)","v":""},{"$f":"IF(Seilspringen!I14=\"\",\"\",Seilspringen!I14)","v":""},{"$f":"IF(Seilspringen!J14=\"\",\"\",Seilspringen!J14)","v":""},{"$f":"IF(Liegestütz!I14=\"\",\"\",Liegestütz!I14)","v":""},{"$f":"IF(Liegestütz!J14=\"\",\"\",Liegestütz!J14)","v":""},{"$f":"IF(Balance!I14=\"\",\"\",Balance!I14)","v":""},{"$f":"IF(Balance!J14=\"\",\"\",Balance!J14)","v":""},{"$f":"IF('1000m'!I14=\"\",\"\",'1000m'!I14)","v":""},{"$f":"IF('1000m'!J14=\"\",\"\",'1000m'!J14)","v":""},{"$f":"IF(B14=\"\",\"\",(IF(AND(Messen_Beweglichkeit!L14=\"\",AB14=\"OK\"),VLOOKUP(G14&D14,$AJ$10:$AT$31,4,FALSE)+1,IF(AND(Messen_Beweglichkeit!J14=\"\",AB14=\"kein Test\"),\"\",Messen_Beweglichkeit!L14))+IF(AND('Jump-and-Reach'!J14=\"\",AB14=\"OK\"),VLOOKUP(G14&D14,$AJ$10:$AT$31,5,FALSE)+1,IF(AND('Jump-and-Reach'!J14=\"\",AB14=\"kein Test\"),\"\",'Jump-and-Reach'!J14))+IF(AND('30m Sprint'!J14=\"\",AB14=\"OK\"),VLOOKUP(G14&D14,$AJ$10:$AT$31,6,FALSE)+1,IF(AND('30m Sprint'!J14=\"\",AB14=\"kein Test\"),\"\",'30m Sprint'!J14))+IF(AND(KaBu!J14=\"\",AB14=\"OK\"),VLOOKUP(G14&D14,$AJ$10:$AT$31,7,FALSE)+1,IF(AND(KaBu!J14=\"\",AB14=\"kein Test\"),\"\",KaBu!J14))+IF(AND(Seilspringen!J14=\"\",AB14=\"OK\"),VLOOKUP(G14&D14,$AJ$10:$AT$31,8,FALSE)+1,IF(AND(Seilspringen!J14=\"\",AB14=\"kein Test\"),\"\",Seilspringen!J14))+IF(AND(Liegestütz!J14=\"\",AB14=\"OK\"),VLOOKUP(G14&D14,$AJ$10:$AT$31,9,FALSE)+1,IF(AND(Liegestütz!J14=\"\",AB14=\"kein Test\"),\"\",Liegestütz!J14))+IF(AND(Balance!J14=\"\",AB14=\"OK\"),VLOOKUP(G14&D14,$AJ$10:$AT$31,10,FALSE)+1,IF(AND(Balance!J14=\"\",AB14=\"kein Test\"),\"\",Balance!J14))+IF(AND('1000m'!J14=\"\",AB14=\"OK\"),VLOOKUP(G14&D14,$AJ$10:$AT$31,11,FALSE)+1,IF(AND('1000m'!J14=\"\",AB14=\"kein Test\"),\"\",'1000m'!J14)))/8)","v":""},null,null,"kein Test",null,null,null,null,null,null,null,"U08m","m",{"$f":"COUNTIFS($D$10:$D$200,\"m\",$G$10:$G$200,\"U8\")","v":0},{"$f":"$AL$14-COUNTIFS($D$10:$D$200,\"m\",$G$10:$G$200,\"U8\",$I$10:$I$200,\"\")","v":0},{"$f":"$AL$14-COUNTIFS($D$10:$D$200,\"m\",$G$10:$G$200,\"U8\",$K$10:$K$200,\"\")","v":0},{"$f":"$AL$14-COUNTIFS($D$10:$D$200,\"m\",$G$10:$G$200,\"U8\",$M$10:$M$200,\"\")","v":0},{"$f":"$AL$14-COUNTIFS($D$10:$D$200,\"m\",$G$10:$G$200,\"U8\",$O$10:$O$200,\"\")","v":0},{"$f":"$AL$14-COUNTIFS($D$10:$D$200,\"m\",$G$10:$G$200,\"U8\",$Q$10:$Q$200,\"\")","v":0},{"$f":"$AL$14-COUNTIFS($D$10:$D$200,\"m\",$G$10:$G$200,\"U8\",$S$10:$S$200,\"\")","v":0},{"$f":"$AL$14-COUNTIFS($D$10:$D$200,\"m\",$G$10:$G$200,\"U8\",$U$10:$U$200,\"\")","v":0},{"$f":"$AL$14-COUNTIFS($D$10:$D$200,\"m\",$G$10:$G$200,\"U8\",$W$10:$W$200,\"\")","v":0}]
[6,{"$f":"IF(Athletenliste!B15=\"\",\"\",Athletenliste!B15)","v":""},{"$f":"IF(Athletenliste!C15=\"\",\"\",Athletenliste!C15)","v":""},{"$f":"IF(Athletenliste!D15=\"\",\"\",Athletenliste!D15)","v":""},{"$f":"IF(Athletenliste!E15=\"\",\"\",Athletenliste!E15)","v":""},{"$f":"IF(Athletenliste!F15=\"\",\"\",Athletenliste!F15)","v":""},{"$f":"IF(Athletenliste!G15=\"\",\"\",Athletenliste!G15)","v":""},{"$f":"IF(Athletenliste!H15=\"\",\"\",Athletenliste!H15)","v":""},{"$f":"IF(Messen_Beweglichkeit!K15=\"\",\"\",Messen_Beweglichkeit!K15)","v":""},{"$f":"IF(Messen_Beweglichkeit!L15=\"\",\"\",Messen_Beweglichkeit!L15)","v":""},{"$f":"IF('Jump-and-Reach'!I15=\"\",\"\",'Jump-and-Reach'!I15)","v":""},{"$f":"IF('Jump-and-Reach'!J15=\"\",\"\",'Jump-and-Reach'!J15)","v":""},{"$f":"IF('30m Sprint'!I15=\"\",\"\",'30m Sprint'!I15)","v":""},{"$f":"IF('30m Sprint'!J15=\"\",\"\",'30m Sprint'!J15)","v":""},{"$f":"IF(KaBu!I15=\"\",\"\",KaBu!I15)","v":""},{"$f":"IF(KaBu!J15=\"\",\"\",KaBu!J15)","v":""},{"$f":"IF(Seilspringen!I15=\"\",\"\",Seilspringen!I15)","v":""},{"$f":"IF(Seilspringen!J15=\"\",\"\",Seilspringen!J15)","v":""},{"$f":"IF(Liegestütz!I15=\"\",\"\",Liegestütz!I15)","v":""},{"$f":"IF(Liegestütz!J15=\"\",\"\",Liegestütz!J15)","v":""},{"$f":"IF(Balance!I15=\"\",\"\",Balance!I15)","v":""},{"$f":"IF(Balance!J15=\"\",\"\",Balance!J15)","v":""},{"$f":"IF('1000m'!I15=\"\",\"\",'1000m'!I15)","v":""},{"$f":"IF('1000m'!J15=\"\",\"\",'1000m'!J15)","v":""},{"$f":"IF(B15=\"\",\"\",(IF(AND(Messen_Beweglichkeit!L15=\"\",AB15=\"OK\"),VLOOKUP(G15&D15,$AJ$10:$AT$31,4,FALSE)+1,IF(AND(Messen_Beweglichkeit!J15=\"\",AB15=\"kein Test\"),\"\",Messen_Beweglichkeit!L15))+IF(AND('Jump-and-Reach'!J15=\"\",AB15=\"OK\"),VLOOKUP(G15&D15,$AJ$10:$AT$31,5,FALSE)+1,IF(AND('Jump-and-Reach'!J15=\"\",AB15=\"kein Test\"),\"\",'Jump-and-Reach'!J15))+IF(AND('30m Sprint'!J15=\"\",AB15=\"OK\"),VLOOKUP(G15&D15,$AJ$10:$AT$31,6,FALSE)+1,IF(AND('30m Sprint'!J15=\"\",AB15=\"kein Test\"),\"\",'30m Sprint'!J15))+IF(AND(KaBu!J15=\"\",AB15=\"OK\"),VLOOKUP(G15&D15,$AJ$10:$AT$31,7,FALSE)+1,IF(AND(KaBu!J15=\"\",AB15=\"kein Test\"),\"\",KaBu!J15))+IF(AND(Seilspringen!J15=\"\",AB15=\"OK\"),VLOOKUP(G15&D15,$AJ$10:$AT$31,8,FALSE)+1,IF(AND(Seilspringen!J15=\"\",AB15=\"kein Test\"),\"\",Seilspringen!J15))+IF(AND(Liegestütz!J15=\"\",AB15=\"OK\"),VLOOKUP(G15&D15,$AJ$10:$AT$31,9,FALSE)+1,IF(AND(Liegestütz!J15=\"\",AB15=\"kein Test\"),\"\",Liegestütz!J15))+IF(AND(Balance!J15=\"\",AB15=\"OK\"),VLOOKUP(G15&D15,$AJ$10:$AT$31,10,FALSE)+1,IF(AND(Balance!J15=\"\",AB15=\"kein Test\"),\"\",Balance!J15))+IF(AND('1000m'!J15=\"\",AB15=\"OK\"),VLOOKUP(G15&D15,$AJ$10:$AT$31,11,FALSE)+1,IF(AND('1000m'!J15=\"\",AB15=\"kein Test\"),\"\",'1000m'!J15)))/8)","v":""},null,null,"kein Test",null,null,null,null,null,null,null,"U08w","w",{"$f":"COUNTIFS($D$10:$D$200,\"w\",$G$10:$G$200,\"U8\")","v":0},{"$f":"$AL$15-COUNTIFS($D$10:$D$200,\"w\",$G$10:$G$200,\"U8\",$I$10:$I$200,\"\")","v":0},{"$f":"$AL$15-COUNTIFS($D$10:$D$200,\"w\",$G$10:$G$200,\"U8\",$K$10:$K$200,\"\")","v":0},{"$f":"$AL$15-COUNTIFS($D$10:$D$200,\"w\",$G$10:$G$200,\"U8\",$M$10:$M$200,\"\")","v":0},{"$f":"$AL$15-COUNTIFS($D$10:$D$200,\"w\",$G$10:$G$200,\"U8\",$O$10:$O$200,\"\")","v":0},{"$f":"$AL$15-COUNTIFS($D$10:$D$200,\"w\",$G$10:$G$200,\"U8\",$Q$10:$Q$200,\"\")","v":0},{"$f":"$AL$15-COUNTIFS($D$10:$D$200,\"w\",$G$10:$G$200,\"U8\",$S$10:$S$200,\"\")","v":0},{"$f":"$AL$15-COUNTIFS($D$10:$D$200,\"w\",$G$10:$G$200,\"U8\",$U$10:$U$200,\"\")","v":0},{"$f":"$AL$15-COUNTIFS($D$10:$D$200,\"w\",$G$10:$G$200,\"U8\",$W$10:$W$200,\"\")","v":0}]
[7,{"$f":"IF(Athletenliste!B16=\"\",\"\",Athletenliste!B16)","v":""},{"$f":"IF(Athletenliste!C16=\"\",\"\",Athletenliste!C16)","v":""},{"$f":"IF(Athletenliste!D16=\"\",\"\",Athletenliste!D16)","v":""},{"$f":"IF(Athletenliste!E16=\"\",\"\",Athletenliste!E16)","v":""},{"$f":"IF(Athletenliste!F16=\"\",\"\",Athletenliste!F16)","v":""},{"$f":"IF(Athletenliste!G16=\"\",\"\",Athletenliste!G16)","v":""},{"$f":"IF(Athletenliste!H16=\"\",\"\",Athletenliste!H16)","v":""},{"$f":"IF(Messen_Beweglichkeit!K16=\"\",\"\",Messen_Beweglichkeit!K16)","v":""},{"$f":"IF(Messen_Beweglichkeit!L16=\"\",\"\",Messen_Beweglichkeit!L16)","v":""},{"$f":"IF('Jump-and-Reach'!I16=\"\",\"\",'Jump-and-Reach'!I16)","v":""},{"$f":"IF('Jump-and-Reach'!J16=\"\",\"\",'Jump-and-Reach'!J16)","v":""},{"$f":"IF('30m Sprint'!I16=\"\",\"\",'30m Sprint'!I16)","v":""},{"$f":"IF('30m Sprint'!J16=\"\",\"\",'30m Sprint'!J16)","v":""},{"$f":"IF(KaBu!I16=\"\",\"\",KaBu!I16)","v":""},{"$f":"IF(KaBu!J16=\"\",\"\",KaBu!J16)","v":""},{"$f":"IF(Seilspringen!I16=\"\",\"\",Seilspringen!I16)","v":""},{"$f":"IF(Seilspringen!J16=\"\",\"\",Seilspringen!J16)","v":""},{"$f":"IF(Liegestütz!I16=\"\",\"\",Liegestütz!I16)","v":""},{"$f":"IF(Liegestütz!J16=\"\",\"\",Liegestütz!J16)","v":""},{"$f":"IF(Balance!I16=\"\",\"\",Balance!I16)","v":""},{"$f":"IF(Balance!J16=\"\",\"\",Balance!J16)","v":""},{"$f":"IF('1000m'!I16=\"\",\"\",'1000m'!I16)","v":""},{"$f":"IF('1000m'!J16=\"\",\"\",'1000m'!J16)","v":""},{"$f":"IF(B16=\"\",\"\",(IF(AND(Messen_Beweglichkeit!L16=\"\",AB16=\"OK\"),VLOOKUP(G16&D16,$AJ$10:$AT$31,4,FALSE)+1,IF(AND(Messen_Beweglichkeit!J16=\"\",AB16=\"kein Test\"),\"\",Messen_Beweglichkeit!L16))+IF(AND('Jump-and-Reach'!J16=\"\",AB16=\"OK\"),VLOOKUP(G16&D16,$AJ$10:$AT$31,5,FALSE)+1,IF(AND('Jump-and-Reach'!J16=\"\",AB16=\"kein Test\"),\"\",'Jump-and-Reach'!J16))+IF(AND('30m Sprint'!J16=\"\",AB16=\"OK\"),VLOOKUP(G16&D16,$AJ$10:$AT$31,6,FALSE)+1,IF(AND('30m Sprint'!J16=\"\",AB16=\"kein Test\"),\"\",'30m Sprint'!J16))+IF(AND(KaBu!J16=\"\",AB16=\"OK\"),VLOOKUP(G16&D16,$AJ$10:$AT$31,7,FALSE)+1,IF(AND(KaBu!J16=\"\",AB16=\"kein Test\"),\"\",KaBu!J16))+IF(AND(Seilspringen!J16=\"\",AB16=\"OK\"),VLOOKUP(G16&D16,$AJ$10:$AT$31,8,FALSE)+1,IF(AND(Seilspringen!J16=\"\",AB16=\"kein Test\"),\"\",Seilspringen!J16))+IF(AND(Liegestütz!J16=\"\",AB16=\"OK\"),VLOOKUP(G16&D16,$AJ$10:$AT$31,9,FALSE)+1,IF(AND(Liegestütz!J16=\"\",AB16=\"kein Test\"),\"\",Liegestütz!J16))+IF(AND(Balance!J16=\"\",AB16=\"OK\"),VLOOKUP(G16&D16,$AJ$10:$AT$31,10,FALSE)+1,IF(AND(Balance!J16=\"\",AB16=\"kein Test\"),\"\",Balance!J16))+IF(AND('1000m'!J16=\"\",AB16=\"OK\"),VLOOKUP(G16&D16,$AJ$10:$AT$31,11,FALSE)+1,IF(AND('1000m'!J16=\"\",AB16=\"kein Test\"),\"\",'1000m'!J16)))/8)","v":""},null,null,"kein Test",null,null,null,null,null,null,null,"U09m","m",{"$f":"COUNTIFS($D$10:$D$200,\"m\",$G$10:$G$200,\"U9\")","v":0},{"$f":"$AL$16-COUNTIFS($D$10:$D$200,\"m\",$G$10:$G$200,\"U9\",$I$10:$I$200,\"\")","v":0},{"$f":"$AL$16-COUNTIFS($D$10:$D$200,\"m\",$G$10:$G$200,\"U9\",$K$10:$K$200,\"\")","v":0},{"$f":"$AL$16-COUNTIFS($D$10:$D$200,\"m\",$G$10:$G$200,\"U9\",$M$10:$M$200,\"\")","v":0},{"$f":"$AL$16-COUNTIFS($D$10:$D$200,\"m\",$G$10:$G$200,\"U9\",$O$10:$O$200,\"\")","v":0},{"$f":"$AL$16-COUNTIFS($D$10:$D$200,\"m\",$G$10:$G$200,\"U9\",$Q$10:$Q$200,\"\")","v":0},{"$f":"$AL$16-COUNTIFS($D$10:$D$200,\"m\",$G$10:$G$200,\"U9\",$S$10:$S$200,\"\")","v":0},{"$f":"$AL$16-COUNTIFS($D$10:$D$200,\"m\",$G$10:$G$200,\"U9\",$U$10:$U$200,\"\")","v":0},{"$f":"$AL$16-COUNTIFS($D$10:$D$200,\"m\",$G$10:$G$200,\"U9\",$W$10:$W$200,\"\")","v":0}]
[8,{"$f":"IF(Athletenliste!B17=\"\",\"\",Athletenliste!B17)","v":""},{"$f":"IF(Athletenliste!C17=\"\",\"\",Athletenliste!C17)","v":""},{"$f":"IF(Athletenliste!D17=\"\",\"\",Athletenliste!D17)","v":""},{"$f":"IF(Athletenliste!E17=\"\",\"\",Athletenliste!E17)","v":""},{"$f":"IF(Athletenliste!F17=\"\",\"\",Athletenliste!F17)","v":""},{"$f":"IF(Athletenliste!G17=\"\",\"\",Athletenliste!G17)","v":""},{"$f":"IF(Athletenliste!H17=\"\",\"\",Athletenliste!H17)","v":""},{"$f":"IF(Messen_Beweglichkeit!K17=\"\",\"\",Messen_Beweglichkeit!K17)","v":""},{"$f":"IF(Messen_Beweglichkeit!L17=\"\",\"\",Messen_Beweglichkeit!L17)","v":""},{"$f":"IF('Jump-and-Reach'!I17=\"\",\"\",'Jump-and-Reach'!I17)","v":""},{"$f":"IF('Jump-and-Reach'!J17=\"\",\"\",'Jump-and-Reach'!J17)","v":""},{"$f":"IF('30m Sprint'!I17=\"\",\"\",'30m Sprint'!I17)","v":""},{"$f":"IF('30m Sprint'!J17=\"\",\"\",'30m Sprint'!J17)","v":""},{"$f":"IF(KaBu!I17=\"\",\"\",KaBu!I17)","v":""},{"$f":"IF(KaBu!J17=\"\",\"\",KaBu!J17)","v":""},{"$f":"IF(Seilspringen!I17=\"\",\"\",Seilspringen!I17)","v":""},{"$f":"IF(Seilspringen!J17=\"\",\"\",Seilspringen!J17)","v":""},{"$f":"IF(Liegestütz!I17=\"\",\"\",Liegestütz!I17)","v":""},{"$f":"IF(Liegestütz!J17=\"\",\"\",Liegestütz!J17)","v":""},{"$f":"IF(Balance!I17=\"\",\"\",Balance!I17)","v":""},{"$f":"IF(Balance!J17=\"\",\"\",Balance!J17)","v":""},{"$f":"IF('1000m'!I17=\"\",\"\",'1000m'!I17)","v":""},{"$f":"IF('1000m'!J17=\"\",\"\",'1000m'!J17)","v":""},{"$f":"IF(B17=\"\",\"\",(IF(AND(Messen_Beweglichkeit!L17=\"\",AB17=\"OK\"),VLOOKUP(G17&D17,$AJ$10:$AT$31,4,FALSE)+1,IF(AND(Messen_Beweglichkeit!J17=\"\",AB17=\"kein Test\"),\"\",Messen_Beweglichkeit!L17))+IF(AND('Jump-and-Reach'!J17=\"\",AB17=\"OK\"),VLOOKUP(G17&D17,$AJ$10:$AT$31,5,FALSE)+1,IF(AND('Jump-and-Reach'!J17=\"\",AB17=\"kein Test\"),\"\",'Jump-and-Reach'!J17))+IF(AND('30m Sprint'!J17=\"\",AB17=\"OK\"),VLOOKUP(G17&D17,$AJ$10:$AT$31,6,FALSE)+1,IF(AND('30m Sprint'!J17=\"\",AB17=\"kein Test\"),\"\",'30m Sprint'!J17))+IF(AND(KaBu!J17=\"\",AB17=\"OK\"),VLOOKUP(G17&D17,$AJ$10:$AT$31,7,FALSE)+1,IF(AND(KaBu!J17=\"\",AB17=\"kein Test\"),\"\",KaBu!J17))+IF(AND(Seilspringen!J17=\"\",AB17=\"OK\"),VLOOKUP(G17&D17,$AJ$10:$AT$31,8,FALSE)+1,IF(AND(Seilspringen!J17=\"\",AB17=\"kein Test\"),\"\",Seilspringen!J17))+IF(AND(Liegestütz!J17=\"\",AB17=\"OK\"),VLOOKUP(G17&D17,$AJ$10:$AT$31,9,FALSE)+1,IF(AND(Liegestütz!J17=\"\",AB17=\"kein Test\"),\"\",Liegestütz!J17))+IF(AND(Balance!J17=\"\",AB17=\"OK\"),VLOOKUP(G17&D17,$AJ$10:$AT$31,10,FALSE)+1,IF(AND(Balance!J17=\"\",AB17=\"kein Test\"),\"\",Balance!J17))+IF(AND('1000m'!J17=\"\",AB17=\"OK\"),VLOOKUP(G17&D17,$AJ$10:$AT$31,11,FALSE)+1,IF(AND('1000m'!J17=\"\",AB17=\"kein Test\"),\"\",'1000m'!J17)))/8)","v":""},null,null,"kein Test",null,null,null,null,null,null,null,"U09w","w",{"$f":"COUNTIFS($D$10:$D$200,\"w\",$G$10:$G$200,\"U9\")","v":0},{"$f":"$AL$17-COUNTIFS($D$10:$D$200,\"w\",$G$10:$G$200,\"U9\",$I$10:$I$200,\"\")","v":0},{"$f":"$AL$17-COUNTIFS($D$10:$D$200,\"w\",$G$10:$G$200,\"U9\",$K$10:$K$200,\"\")","v":0},{"$f":"$AL$17-COUNTIFS($D$10:$D$200,\"w\",$G$10:$G$200,\"U9\",$M$10:$M$200,\"\")","v":0},{"$f":"$AL$17-COUNTIFS($D$10:$D$200,\"w\",$G$10:$G$200,\"U9\",$O$10:$O$200,\"\")","v":0},{"$f":"$AL$17-COUNTIFS($D$10:$D$200,\"w\",$G$10:$G$200,\"U9\",$Q$10:$Q$200,\"\")","v":0},{"$f":"$AL$17-COUNTIFS($D$10:$D$200,\"w\",$G$10:$G$200,\"U9\",$S$10:$S$200,\"\")","v":0},{"$f":"$AL$17-COUNTIFS($D$10:$D$200,\"w\",$G$10:$G$200,\"U9\",$U$10:$U$200,\"\")","v":0},{"$f":"$AL$17-COUNTIFS($D$10:$D$200,\"w\",$G$10:$G$200,\"U9\",$W$10:$W$200,\"\")","v":0}]
[9,{"$f":"IF(Athletenliste!B18=\"\",\"\",Athletenliste!B18)","v":""},{"$f":"IF(Athletenliste!C18=\"\",\"\",Athletenliste!C18)","v":""},{"$f":"IF(Athletenliste!D18=\"\",\"\",Athletenliste!D18)","v":""},{"$f":"IF(Athletenliste!E18=\"\",\"\",Athletenliste!E18)","v":""},{"$f":"IF(Athletenliste!F18=\"\",\"\",Athletenliste!F18)","v":""},{"$f":"IF(Athletenliste!G18=\"\",\"\",Athletenliste!G18)","v":""},{"$f":"IF(Athletenliste!H18=\"\",\"\",Athletenliste!H18)","v":""},{"$f":"IF(Messen_Beweglichkeit!K18=\"\",\"\",Messen_Beweglichkeit!K18)","v":""},{"$f":"IF(Messen_Beweglichkeit!L18=\"\",\"\",Messen_Beweglichkeit!L18)","v":""},{"$f":"IF('Jump-and-Reach'!I18=\"\",\"\",'Jump-and-Reach'!I18)","v":""},{"$f":"IF('Jump-and-Reach'!J18=\"\",\"\",'Jump-and-Reach'!J18)","v":""},{"$f":"IF('30m Sprint'!I18=\"\",\"\",'30m Sprint'!I18)","v":""},{"$f":"IF('30m Sprint'!J18=\"\",\"\",'30m Sprint'!J18)","v":""},{"$f":"IF(KaBu!I18=\"\",\"\",KaBu!I18)","v":""},{"$f":"IF(KaBu!J18=\"\",\"\",KaBu!J18)","v":""},{"$f":"IF(Seilspringen!I18=\"\",\"\",Seilspringen!I18)","v":""},{"$f":"IF(Seilspringen!J18=\"\",\"\",Seilspringen!J18)","v":""},{"$f":"IF(Liegestütz!I18=\"\",\"\",Liegestütz!I18)","v":""},{"$f":"IF(Liegestütz!J18=\"\",\"\",Liegestütz!J18)","v":""},{"$f":"IF(Balance!I18=\"\",\"\",Balance!I18)","v":""},{"$f":"IF(Balance!J18=\"\",\"\",Balance!J18)","v":""},{"$f":"IF('1000m'!I18=\"\",\"\",'1000m'!I18)","v":""},{"$f":"IF('1000m'!J18=\"\",\"\",'1000m'!J18)","v":""},{"$f":"IF(B18=\"\",\"\",(IF(AND(Messen_Beweglichkeit!L18=\"\",AB18=\"OK\"),VLOOKUP(G18&D18,$AJ$10:$AT$31,4,FALSE)+1,IF(AND(Messen_Beweglichkeit!J18=\"\",AB18=\"kein Test\"),\"\",Messen_Beweglichkeit!L18))+IF(AND('Jump-and-Reach'!J18=\"\",AB18=\"OK\"),VLOOKUP(G18&D18,$AJ$10:$AT$31,5,FALSE)+1,IF(AND('Jump-and-Reach'!J18=\"\",AB18=\"kein Test\"),\"\",'Jump-and-Reach'!J18))+IF(AND('30m Sprint'!J18=\"\",AB18=\"OK\"),VLOOKUP(G18&D18,$AJ$10:$AT$31,6,FALSE)+1,IF(AND('30m Sprint'!J18=\"\",AB18=\"kein Test\"),\"\",'30m Sprint'!J18))+IF(AND(KaBu!J18=\"\",AB18=\"OK\"),VLOOKUP(G18&D18,$AJ$10:$AT$31,7,FALSE)+1,IF(AND(KaBu!J18=\"\",AB18=\"kein Test\"),\"\",KaBu!J18))+IF(AND(Seilspringen!J18=\"\",AB18=\"OK\"),VLOOKUP(G18&D18,$AJ$10:$AT$31,8,FALSE)+1,IF(AND(Seilspringen!J18=\"\",AB18=\"kein Test\"),\"\",Seilspringen!J18))+IF(AND(Liegestütz!J18=\"\",AB18=\"OK\"),VLOOKUP(G18&D18,$AJ$10:$AT$31,9,FALSE)+1,IF(AND(Liegestütz!J18=\"\",AB18=\"kein Test\"),\"\",Liegestütz!J18))+IF(AND(Balance!J18=\"\",AB18=\"OK\"),VLOOKUP(G18&D18,$AJ$10:$AT$31,10,FALSE)+1,IF(AND(Balance!J18=\"\",AB18=\"kein Test\"),\"\",Balance!J18))+IF(AND('1000m'!J18=\"\",AB18=\"OK\"),VLOOKUP(G18&D18,$AJ$10:$AT$31,11,FALSE)+1,IF(AND('1000m'!J18=\"\",AB18=\"kein Test\"),\"\",'1000m'!J18)))/8)","v":""},null,null,"kein Test",null,null,null,null,null,null,null,"U10m","m",{"$f":"COUNTIFS($D$10:$D$200,\"m\",$G$10:$G$200,\"U10\")","v":0},{"$f":"$AL$18-COUNTIFS($D$10:$D$200,\"m\",$G$10:$G$200,\"U10\",$I$10:$I$200,\"\")","v":0},{"$f":"$AL$18-COUNTIFS($D$10:$D$200,\"m\",$G$10:$G$200,\"U10\",$K$10:$K$200,\"\")","v":0},{"$f":"$AL$18-COUNTIFS($D$10:$D$200,\"m\",$G$10:$G$200,\"U10\",$M$10:$M$200,\"\")","v":0},{"$f":"$AL$18-COUNTIFS($D$10:$D$200,\"m\",$G$10:$G$200,\"U10\",$O$10:$O$200,\"\")","v":0},{"$f":"$AL$18-COUNTIFS($D$10:$D$200,\"m\",$G$10:$G$200,\"U10\",$Q$10:$Q$200,\"\")","v":0},{"$f":"$AL$18-COUNTIFS($D$10:$D$200,\"m\",$G$10:$G$200,\"U10\",$S$10:$S$200,\"\")","v":0},{"$f":"$AL$18-COUNTIFS($D$10:$D$200,\"m\",$G$10:$G$200,\"U10\",$U$10:$U$200,\"\")","v":0},{"$f":"$AL$18-COUNTIFS($D$10:$D$200,\"m\",$G$10:$G$200,\"U10\",$W$10:$W$200,\"\")","v":0}]
[10,{"$f":"IF(Athletenliste!B19=\"\",\"\",Athletenliste!B19)","v":""},{"$f":"IF(Athletenliste!C19=\"\",\"\",Athletenliste!C19)","v":""},{"$f":"IF(Athletenliste!D19=\"\",\"\",Athletenliste!D19)","v":""},{"$f":"IF(Athletenliste!E19=\"\",\"\",Athletenliste!E19)","v":""},{"$f":"IF(Athletenliste!F19=\"\",\"\",Athletenliste!F19)","v":""},{"$f":"IF(Athletenliste!G19=\"\",\"\",Athletenliste!G19)","v":""},{"$f":"IF(Athletenliste!H19=\"\",\"\",Athletenliste!H19)","v":""},{"$f":"IF(Messen_Beweglichkeit!K19=\"\",\"\",Messen_Beweglichkeit!K19)","v":""},{"$f":"IF(Messen_Beweglichkeit!L19=\"\",\"\",Messen_Beweglichkeit!L19)","v":""},{"$f":"IF('Jump-and-Reach'!I19=\"\",\"\",'Jump-and-Reach'!I19)","v":""},{"$f":"IF('Jump-and-Reach'!J19=\"\",\"\",'Jump-and-Reach'!J19)","v":""},{"$f":"IF('30m Sprint'!I19=\"\",\"\",'30m Sprint'!I19)","v":""},{"$f":"IF('30m Sprint'!J19=\"\",\"\",'30m Sprint'!J19)","v":""},{"$f":"IF(KaBu!I19=\"\",\"\",KaBu!I19)","v":""},{"$f":"IF(KaBu!J19=\"\",\"\",KaBu!J19)","v":""},{"$f":"IF(Seilspringen!I19=\"\",\"\",Seilspringen!I19)","v":""},{"$f":"IF(Seilspringen!J19=\"\",\"\",Seilspringen!J19)","v":""},{"$f":"IF(Liegestütz!I19=\"\",\"\",Liegestütz!I19)","v":""},{"$f":"IF(Liegestütz!J19=\"\",\"\",Liegestütz!J19)","v":""},{"$f":"IF(Balance!I19=\"\",\"\",Balance!I19)","v":""},{"$f":"IF(Balance!J19=\"\",\"\",Balance!J19)","v":""},{"$f":"IF('1000m'!I19=\"\",\"\",'1000m'!I19)","v":""},{"$f":"IF('1000m'!J19=\"\",\"\",'1000m'!J19)","v":""},{"$f":"IF(B19=\"\",\"\",(IF(AND(Messen_Beweglichkeit!L19=\"\",AB19=\"OK\"),VLOOKUP(G19&D19,$AJ$10:$AT$31,4,FALSE)+1,IF(AND(Messen_Beweglichkeit!J19=\"\",AB19=\"kein Test\"),\"\",Messen_Beweglichkeit!L19))+IF(AND('Jump-and-Reach'!J19=\"\",AB19=\"OK\"),VLOOKUP(G19&D19,$AJ$10:$AT$31,5,FALSE)+1,IF(AND('Jump-and-Reach'!J19=\"\",AB19=\"kein Test\"),\"\",'Jump-and-Reach'!J19))+IF(AND('30m Sprint'!J19=\"\",AB19=\"OK\"),VLOOKUP(G19&D19,$AJ$10:$AT$31,6,FALSE)+1,IF(AND('30m Sprint'!J19=\"\",AB19=\"kein Test\"),\"\",'30m Sprint'!J19))+IF(AND(KaBu!J19=\"\",AB19=\"OK\"),VLOOKUP(G19&D19,$AJ$10:$AT$31,7,FALSE)+1,IF(AND(KaBu!J19=\"\",AB19=\"kein Test\"),\"\",KaBu!J19))+IF(AND(Seilspringen!J19=\"\",AB19=\"OK\"),VLOOKUP(G19&D19,$AJ$10:$AT$31,8,FALSE)+1,IF(AND(Seilspringen!J19=\"\",AB19=\"kein Test\"),\"\",Seilspringen!J19))+IF(AND(Liegestütz!J19=\"\",AB19=\"OK\"),VLOOKUP(G19&D19,$AJ$10:$AT$31,9,FALSE)+1,IF(AND(Liegestütz!J19=\"\",AB19=\"kein Test\"),\"\",Liegestütz!J19))+IF(AND(Balance!J19=\"\",AB19=\"OK\"),VLOOKUP(G19&D19,$AJ$10:$AT$31,10,FALSE)+1,IF(AND(Balance!J19=\"\",AB19=\"kein Test\"),\"\",Balance!J19))+IF(AND('1000m'!J19=\"\",AB19=\"OK\"),VLOOKUP(G19&D19,$AJ$10:$AT$31,11,FALSE)+1,IF(AND('1000m'!J19=\"\",AB19=\"kein Test\"),\"\",'1000m'!J19)))/8)","v":""},null,null,"kein Test",null,null,null,null,null,null,null,"U10w","w",{"$f":"COUNTIFS($D$10:$D$200,\"w\",$G$10:$G$200,\"U10\")","v":0},{"$f":"$AL$19-COUNTIFS($D$10:$D$200,\"w\",$G$10:$G$200,\"U10\",$I$10:$I$200,\"\")","v":0},{"$f":"$AL$19-COUNTIFS($D$10:$D$200,\"w\",$G$10:$G$200,\"U10\",$K$10:$K$200,\"\")","v":0},{"$f":"$AL$19-COUNTIFS($D$10:$D$200,\"w\",$G$10:$G$200,\"U10\",$M$10:$M$200,\"\")","v":0},{"$f":"$AL$19-COUNTIFS($D$10:$D$200,\"w\",$G$10:$G$200,\"U10\",$O$10:$O$200,\"\")","v":0},{"$f":"$AL$19-COUNTIFS($D$10:$D$200,\"w\",$G$10:$G$200,\"U10\",$Q$10:$Q$200,\"\")","v":0},{"$f":"$AL$19-COUNTIFS($D$10:$D$200,\"w\",$G$10:$G$200,\"U10\",$S$10:$S$200,\"\")","v":0},{"$f":"$AL$19-COUNTIFS($D$10:$D$200,\"w\",$G$10:$G$200,\"U10\",$U$10:$U$200,\"\")","v":0},{"$f":"$AL$19-COUNTIFS($D$10:$D$200,\"w\",$G$10:$G$200,\"U10\",$W$10:$W$200,\"\")","v":0}]
[11,{"$f":"IF(Athletenliste!B20=\"\",\"\",Athletenliste!B20)","v":""},{"$f":"IF(Athletenliste!C20=\"\",\"\",Athletenliste!C20)","v":""},{"$f":"IF(Athletenliste!D20=\"\",\"\",Athletenliste!D20)","v":""},{"$f":"IF(Athletenliste!E20=\"\",\"\",Athletenliste!E20)","v":""},{"$f":"IF(Athletenliste!F20=\"\",\"\",Athletenliste!F20)","v":""},{"$f":"IF(Athletenliste!G20=\"\",\"\",Athletenliste!G20)","v":""},{"$f":"IF(Athletenliste!H20=\"\",\"\",Athletenliste!H20)","v":""},{"$f":"IF(Messen_Beweglichkeit!K20=\"\",\"\",Messen_Beweglichkeit!K20)","v":""},{"$f":"IF(Messen_Beweglichkeit!L20=\"\",\"\",Messen_Beweglichkeit!L20)","v":""},{"$f":"IF('Jump-and-Reach'!I20=\"\",\"\",'Jump-and-Reach'!I20)","v":""},{"$f":"IF('Jump-and-Reach'!J20=\"\",\"\",'Jump-and-Reach'!J20)","v":""},{"$f":"IF('30m Sprint'!I20=\"\",\"\",'30m Sprint'!I20)","v":""},{"$f":"IF('30m Sprint'!J20=\"\",\"\",'30m Sprint'!J20)","v":""},{"$f":"IF(KaBu!I20=\"\",\"\",KaBu!I20)","v":""},{"$f":"IF(KaBu!J20=\"\",\"\",KaBu!J20)","v":""},{"$f":"IF(Seilspringen!I20=\"\",\"\",Seilspringen!I20)","v":""},{"$f":"IF(Seilspringen!J20=\"\",\"\",Seilspringen!J20)","v":""},{"$f":"IF(Liegestütz!I20=\"\",\"\",Liegestütz!I20)","v":""},{"$f":"IF(Liegestütz!J20=\"\",\"\",Liegestütz!J20)","v":""},{"$f":"IF(Balance!I20=\"\",\"\",Balance!I20)","v":""},{"$f":"IF(Balance!J20=\"\",\"\",Balance!J20)","v":""},{"$f":"IF('1000m'!I20=\"\",\"\",'1000m'!I20)","v":""},{"$f":"IF('1000m'!J20=\"\",\"\",'1000m'!J20)","v":""},{"$f":"IF(B20=\"\",\"\",(IF(AND(Messen_Beweglichkeit!L20=\"\",AB20=\"OK\"),VLOOKUP(G20&D20,$AJ$10:$AT$31,4,FALSE)+1,IF(AND(Messen_Beweglichkeit!J20=\"\",AB20=\"kein Test\"),\"\",Messen_Beweglichkeit!L20))+IF(AND('Jump-and-Reach'!J20=\"\",AB20=\"OK\"),VLOOKUP(G20&D20,$AJ$10:$AT$31,5,FALSE)+1,IF(AND('Jump-and-Reach'!J20=\"\",AB20=\"kein Test\"),\"\",'Jump-and-Reach'!J20))+IF(AND('30m Sprint'!J20=\"\",AB20=\"OK\"),VLOOKUP(G20&D20,$AJ$10:$AT$31,6,FALSE)+1,IF(AND('30m Sprint'!J20=\"\",AB20=\"kein Test\"),\"\",'30m Sprint'!J20))+IF(AND(KaBu!J20=\"\",AB20=\"OK\"),VLOOKUP(G20&D20,$AJ$10:$AT$31,7,FALSE)+1,IF(AND(KaBu!J20=\"\",AB20=\"kein Test\"),\"\",KaBu!J20))+IF(AND(Seilspringen!J20=\"\",AB20=\"OK\"),VLOOKUP(G20&D20,$AJ$10:$AT$31,8,FALSE)+1,IF(AND(Seilspringen!J20=\"\",AB20=\"kein Test\"),\"\",Seilspringen!J20))+IF(AND(Liegestütz!J20=\"\",AB20=\"OK\"),VLOOKUP(G20&D20,$AJ$10:$AT$31,9,FALSE)+1,IF(AND(Liegestütz!J20=\"\",AB20=\"kein Test\"),\"\",Liegestütz!J20))+IF(AND(Balance!J20=\"\",AB20=\"OK\"),VLOOKUP(G20&D20,$AJ$10:$AT$31,10,FALSE)+1,IF(AND(Balance!J20=\"\",AB20=\"kein Test\"),\"\",Balance!J20))+IF(AND('1000m'!J20=\"\",AB20=\"OK\"),VLOOKUP(G20&D20,$AJ$10:$AT$31,11,FALSE)+1,IF(AND('1000m'!J20=\"\",AB20=\"kein Test\"),\"\",'1000m'!J20)))/8)","v":""},null,null,"kein Test",null,null,null,null,null,null,null,"U11m","m",{"$f":"COUNTIFS($D$10:$D$200,\"m\",$G$10:$G$200,\"U11\")","v":0},{"$f":"$AL$20-COUNTIFS($D$10:$D$200,\"m\",$G$10:$G$200,\"U11\",$I$10:$I$200,\"\")","v":0},{"$f":"$AL$20-COUNTIFS($D$10:$D$200,\"m\",$G$10:$G$200,\"U11\",$K$10:$K$200,\"\")","v":0},{"$f":"$AL$20-COUNTIFS($D$10:$D$200,\"m\",$G$10:$G$200,\"U11\",$M$10:$M$200,\"\")","v":0},{"$f":"$AL$20-COUNTIFS($D$10:$D$200,\"m\",$G$10:$G$200,\"U11\",$O$10:$O$200,\"\")","v":0},{"$f":"$AL$20-COUNTIFS($D$10:$D$200,\"m\",$G$10:$G$200,\"U11\",$Q$10:$Q$200,\"\")","v":0},{"$f":"$AL$20-COUNTIFS($D$10:$D$200,\"m\",$G$10:$G$200,\"U11\",$S$10:$S$200,\"\")","v":0},{"$f":"$AL$20-COUNTIFS($D$10:$D$200,\"m\",$G$10:$G$200,\"U11\",$U$10:$U$200,\"\")","v":0},{"$f":"$AL$20-COUNTIFS($D$10:$D$200,\"m\",$G$10:$G$200,\"U11\",$W$10:$W$200,\"\")","v":0}]
[12,{"$f":"IF(Athletenliste!B21=\"\",\"\",Athletenliste!B21)","v":""},{"$f":"IF(Athletenliste!C21=\"\",\"\",Athletenliste!C21)","v":""},{"$f":"IF(Athletenliste!D21=\"\",\"\",Athletenliste!D21)","v":""},{"$f":"IF(Athletenliste!E21=\"\",\"\",Athletenliste!E21)","v":""},{"$f":"IF(Athletenliste!F21=\"\",\"\",Athletenliste!F21)","v":""},{"$f":"IF(Athletenliste!G21=\"\",\"\",Athletenliste!G21)","v":""},{"$f":"IF(Athletenliste!H21=\"\",\"\",Athletenliste!H21)","v":""},{"$f":"IF(Messen_Beweglichkeit!K21=\"\",\"\",Messen_Beweglichkeit!K21)","v":""},{"$f":"IF(Messen_Beweglichkeit!L21=\"\",\"\",Messen_Beweglichkeit!L21)","v":""},{"$f":"IF('Jump-and-Reach'!I21=\"\",\"\",'Jump-and-Reach'!I21)","v":""},{"$f":"IF('Jump-and-Reach'!J21=\"\",\"\",'Jump-and-Reach'!J21)","v":""},{"$f":"IF('30m Sprint'!I21=\"\",\"\",'30m Sprint'!I21)","v":""},{"$f":"IF('30m Sprint'!J21=\"\",\"\",'30m Sprint'!J21)","v":""},{"$f":"IF(KaBu!I21=\"\",\"\",KaBu!I21)","v":""},{"$f":"IF(KaBu!J21=\"\",\"\",KaBu!J21)","v":""},{"$f":"IF(Seilspringen!I21=\"\",\"\",Seilspringen!I21)","v":""},{"$f":"IF(Seilspringen!J21=\"\",\"\",Seilspringen!J21)","v":""},{"$f":"IF(Liegestütz!I21=\"\",\"\",Liegestütz!I21)","v":""},{"$f":"IF(Liegestütz!J21=\"\",\"\",Liegestütz!J21)","v":""},{"$f":"IF(Balance!I21=\"\",\"\",Balance!I21)","v":""},{"$f":"IF(Balance!J21=\"\",\"\",Balance!J21)","v":""},{"$f":"IF('1000m'!I21=\"\",\"\",'1000m'!I21)","v":""},{"$f":"IF('1000m'!J21=\"\",\"\",'1000m'!J21)","v":""},{"$f":"IF(B21=\"\",\"\",(IF(AND(Messen_Beweglichkeit!L21=\"\",AB21=\"OK\"),VLOOKUP(G21&D21,$AJ$10:$AT$31,4,FALSE)+1,IF(AND(Messen_Beweglichkeit!J21=\"\",AB21=\"kein Test\"),\"\",Messen_Beweglichkeit!L21))+IF(AND('Jump-and-Reach'!J21=\"\",AB21=\"OK\"),VLOOKUP(G21&D21,$AJ$10:$AT$31,5,FALSE)+1,IF(AND('Jump-and-Reach'!J21=\"\",AB21=\"kein Test\"),\"\",'Jump-and-Reach'!J21))+IF(AND('30m Sprint'!J21=\"\",AB21=\"OK\"),VLOOKUP(G21&D21,$AJ$10:$AT$31,6,FALSE)+1,IF(AND('30m Sprint'!J21=\"\",AB21=\"kein Test\"),\"\",'30m Sprint'!J21))+IF(AND(KaBu!J21=\"\",AB21=\"OK\"),VLOOKUP(G21&D21,$AJ$10:$AT$31,7,FALSE)+1,IF(AND(KaBu!J21=\"\",AB21=\"kein Test\"),\"\",KaBu!J21))+IF(AND(Seilspringen!J21=\"\",AB21=\"OK\"),VLOOKUP(G21&D21,$AJ$10:$AT$31,8,FALSE)+1,IF(AND(Seilspringen!J21=\"\",AB21=\"kein Test\"),\"\",Seilspringen!J21))+IF(AND(Liegestütz!J21=\"\",AB21=\"OK\"),VLOOKUP(G21&D21,$AJ$10:$AT$31,9,FALSE)+1,IF(AND(Liegestütz!J21=\"\",AB21=\"kein Test\"),\"\",Liegestütz!J21))+IF(AND(Balance!J21=\"\",AB21=\"OK\"),VLOOKUP(G21&D21,$AJ$10:$AT$31,10,FALSE)+1,IF(AND(Balance!J21=\"\",AB21=\"kein Test\"),\"\",Balance!J21))+IF(AND('1000m'!J21=\"\",AB21=\"OK\"),VLOOKUP(G21&D21,$AJ$10:$AT$31,11,FALSE)+1,IF(AND('1000m'!J21=\"\",AB21=\"kein Test\"),\"\",'1000m'!J21)))/8)","v":""},null,null,"kein Test",null,null,null,null,null,null,null,"U11w","w",{"$f":"COUNTIFS($D$10:$D$200,\"w\",$G$10:$G$200,\"U11\")","v":0},{"$f":"$AL$21-COUNTIFS($D$10:$D$200,\"w\",$G$10:$G$200,\"U11\",$I$10:$I$200,\"\")","v":0},{"$f":"$AL$21-COUNTIFS($D$10:$D$200,\"w\",$G$10:$G$200,\"U11\",$K$10:$K$200,\"\")","v":0},{"$f":"$AL$21-COUNTIFS($D$10:$D$200,\"w\",$G$10:$G$200,\"U11\",$M$10:$M$200,\"\")","v":0},{"$f":"$AL$21-COUNTIFS($D$10:$D$200,\"w\",$G$10:$G$200,\"U11\",$O$10:$O$200,\"\")","v":0},{"$f":"$AL$21-COUNTIFS($D$10:$D$200,\"w\",$G$10:$G$200,\"U11\",$Q$10:$Q$200,\"\")","v":0},{"$f":"$AL$21-COUNTIFS($D$10:$D$200,\"w\",$G$10:$G$200,\"U11\",$S$10:$S$200,\"\")","v":0},{"$f":"$AL$21-COUNTIFS($D$10:$D$200,\"w\",$G$10:$G$200,\"U11\",$U$10:$U$200,\"\")","v":0},{"$f":"$AL$21-COUNTIFS($D$10:$D$200,\"w\",$G$10:$G$200,\"U11\",$W$10:$W$200,\"\")","v":0}]
[13,{"$f":"IF(Athletenliste!B22=\"\",\"\",Athletenliste!B22)","v":""},{"$f":"IF(Athletenliste!C22=\"\",\"\",Athletenliste!C22)","v":""},{"$f":"IF(Athletenliste!D22=\"\",\"\",Athletenliste!D22)","v":""},{"$f":"IF(Athletenliste!E22=\"\",\"\",Athletenliste!E22)","v":""},{"$f":"IF(Athletenliste!F22=\"\",\"\",Athletenliste!F22)","v":""},{"$f":"IF(Athletenliste!G22=\"\",\"\",Athletenliste!G22)","v":""},{"$f":"IF(Athletenliste!H22=\"\",\"\",Athletenliste!H22)","v":""},{"$f":"IF(Messen_Beweglichkeit!K22=\"\",\"\",Messen_Beweglichkeit!K22)","v":""},{"$f":"IF(Messen_Beweglichkeit!L22=\"\",\"\",Messen_Beweglichkeit!L22)","v":""},{"$f":"IF('Jump-and-Reach'!I22=\"\",\"\",'Jump-and-Reach'!I22)","v":""},{"$f":"IF('Jump-and-Reach'!J22=\"\",\"\",'Jump-and-Reach'!J22)","v":""},{"$f":"IF('30m Sprint'!I22=\"\",\"\",'30m Sprint'!I22)","v":""},{"$f":"IF('30m Sprint'!J22=\"\",\"\",'30m Sprint'!J22)","v":""},{"$f":"IF(KaBu!I22=\"\",\"\",KaBu!I22)","v":""},{"$f":"IF(KaBu!J22=\"\",\"\",KaBu!J22)","v":""},{"$f":"IF(Seilspringen!I22=\"\",\"\",Seilspringen!I22)","v":""},{"$f":"IF(Seilspringen!J22=\"\",\"\",Seilspringen!J22)","v":""},{"$f":"IF(Liegestütz!I22=\"\",\"\",Liegestütz!I22)","v":""},{"$f":"IF(Liegestütz!J22=\"\",\"\",Liegestütz!J22)","v":""},{"$f":"IF(Balance!I22=\"\",\"\",Balance!I22)","v":""},{"$f":"IF(Balance!J22=\"\",\"\",Balance!J22)","v":""},{"$f":"IF('1000m'!I22=\"\",\"\",'1000m'!I22)","v":""},{"$f":"IF('1000m'!J22=\"\",\"\",'1000m'!J22)","v":""},{"$f":"IF(B22=\"\",\"\",(IF(AND(Messen_Beweglichkeit!L22=\"\",AB22=\"OK\"),VLOOKUP(G22&D22,$AJ$10:$AT$31,4,FALSE)+1,IF(AND(Messen_Beweglichkeit!J22=\"\",AB22=\"kein Test\"),\"\",Messen_Beweglichkeit!L22))+IF(AND('Jump-and-Reach'!J22=\"\",AB22=\"OK\"),VLOOKUP(G22&D22,$AJ$10:$AT$31,5,FALSE)+1,IF(AND('Jump-and-Reach'!J22=\"\",AB22=\"kein Test\"),\"\",'Jump-and-Reach'!J22))+IF(AND('30m Sprint'!J22=\"\",AB22=\"OK\"),VLOOKUP(G22&D22,$AJ$10:$AT$31,6,FALSE)+1,IF(AND('30m Sprint'!J22=\"\",AB22=\"kein Test\"),\"\",'30m Sprint'!J22))+IF(AND(KaBu!J22=\"\",AB22=\"OK\"),VLOOKUP(G22&D22,$AJ$10:$AT$31,7,FALSE)+1,IF(AND(KaBu!J22=\"\",AB22=\"kein Test\"),\"\",KaBu!J22))+IF(AND(Seilspringen!J22=\"\",AB22=\"OK\"),VLOOKUP(G22&D22,$AJ$10:$AT$31,8,FALSE)+1,IF(AND(Seilspringen!J22=\"\",AB22=\"kein Test\"),\"\",Seilspringen!J22))+IF(AND(Liegestütz!J22=\"\",AB22=\"OK\"),VLOOKUP(G22&D22,$AJ$10:$AT$31,9,FALSE)+1,IF(AND(Liegestütz!J22=\"\",AB22=\"kein Test\"),\"\",Liegestütz!J22))+IF(AND(Balance!J22=\"\",AB22=\"OK\"),VLOOKUP(G22&D22,$AJ$10:$AT$31,10,FALSE)+1,IF(AND(Balance!J22=\"\",AB22=\"kein Test\"),\"\",Balance!J22))+IF(AND('1000m'!J22=\"\",AB22=\"OK\"),VLOOKUP(G22&D22,$AJ$10:$AT$31,11,FALSE)+1,IF(AND('1000m'!J22=\"\",AB22=\"kein Test\"),\"\",'1000m'!J22)))/8)","v":""},null,null,"kein Test",null,null,null,null,null,null,null,"U12m","m",{"$f":"COUNTIFS($D$10:$D$200,\"m\",$G$10:$G$200,\"U12\")","v":0},{"$f":"$AL$22-COUNTIFS($D$10:$D$200,\"m\",$G$10:$G$200,\"U12\",$I$10:$I$200,\"\")","v":0},{"$f":"$AL$22-COUNTIFS($D$10:$D$200,\"m\",$G$10:$G$200,\"U12\",$K$10:$K$200,\"\")","v":0},{"$f":"$AL$22-COUNTIFS($D$10:$D$200,\"m\",$G$10:$G$200,\"U12\",$M$10:$M$200,\"\")","v":0},{"$f":"$AL$22-COUNTIFS($D$10:$D$200,\"m\",$G$10:$G$200,\"U12\",$O$10:$O$200,\"\")","v":0},{"$f":"$AL$22-COUNTIFS($D$10:$D$200,\"m\",$G$10:$G$200,\"U12\",$Q$10:$Q$200,\"\")","v":0},{"$f":"$AL$22-COUNTIFS($D$10:$D$200,\"m\",$G$10:$G$200,\"U12\",$S$10:$S$200,\"\")","v":0},{"$f":"$AL$22-COUNTIFS($D$10:$D$200,\"m\",$G$10:$G$200,\"U12\",$U$10:$U$200,\"\")","v":0},{"$f":"$AL$22-COUNTIFS($D$10:$D$200,\"m\",$G$10:$G$200,\"U12\",$W$10:$W$200,\"\")","v":0}]
[14,{"$f":"IF(Athletenliste!B23=\"\",\"\",Athletenliste!B23)","v":""},{"$f":"IF(Athletenliste!C23=\"\",\"\",Athletenliste!C23)","v":""},{"$f":"IF(Athletenliste!D23=\"\",\"\",Athletenliste!D23)","v":""},{"$f":"IF(Athletenliste!E23=\"\",\"\",Athletenliste!E23)","v":""},{"$f":"IF(Athletenliste!F23=\"\",\"\",Athletenliste!F23)","v":""},{"$f":"IF(Athletenliste!G23=\"\",\"\",Athletenliste!G23)","v":""},{"$f":"IF(Athletenliste!H23=\"\",\"\",Athletenliste!H23)","v":""},{"$f":"IF(Messen_Beweglichkeit!K23=\"\",\"\",Messen_Beweglichkeit!K23)","v":""},{"$f":"IF(Messen_Beweglichkeit!L23=\"\",\"\",Messen_Beweglichkeit!L23)","v":""},{"$f":"IF('Jump-and-Reach'!I23=\"\",\"\",'Jump-and-Reach'!I23)","v":""},{"$f":"IF('Jump-and-Reach'!J23=\"\",\"\",'Jump-and-Reach'!J23)","v":""},{"$f":"IF('30m Sprint'!I23=\"\",\"\",'30m Sprint'!I23)","v":""},{"$f":"IF('30m Sprint'!J23=\"\",\"\",'30m Sprint'!J23)","v":""},{"$f":"IF(KaBu!I23=\"\",\"\",KaBu!I23)","v":""},{"$f":"IF(KaBu!J23=\"\",\"\",KaBu!J23)","v":""},{"$f":"IF(Seilspringen!I23=\"\",\"\",Seilspringen!I23)","v":""},{"$f":"IF(Seilspringen!J23=\"\",\"\",Seilspringen!J23)","v":""},{"$f":"IF(Liegestütz!I23=\"\",\"\",Liegestütz!I23)","v":""},{"$f":"IF(Liegestütz!J23=\"\",\"\",Liegestütz!J23)","v":""},{"$f":"IF(Balance!I23=\"\",\"\",Balance!I23)","v":""},{"$f":"IF(Balance!J23=\"\",\"\",Balance!J23)","v":""},{"$f":"IF('1000m'!I23=\"\",\"\",'1000m'!I23)","v":""},{"$f":"IF('1000m'!J23=\"\",\"\",'1000m'!J23)","v":""},{"$f":"IF(B23=\"\",\"\",(IF(AND(Messen_Beweglichkeit!L23=\"\",AB23=\"OK\"),VLOOKUP(G23&D23,$AJ$10:$AT$31,4,FALSE)+1,IF(AND(Messen_Beweglichkeit!J23=\"\",AB23=\"kein Test\"),\"\",Messen_Beweglichkeit!L23))+IF(AND('Jump-and-Reach'!J23=\"\",AB23=\"OK\"),VLOOKUP(G23&D23,$AJ$10:$AT$31,5,FALSE)+1,IF(AND('Jump-and-Reach'!J23=\"\",AB23=\"kein Test\"),\"\",'Jump-and-Reach'!J23))+IF(AND('30m Sprint'!J23=\"\",AB23=\"OK\"),VLOOKUP(G23&D23,$AJ$10:$AT$31,6,FALSE)+1,IF(AND('30m Sprint'!J23=\"\",AB23=\"kein Test\"),\"\",'30m Sprint'!J23))+IF(AND(KaBu!J23=\"\",AB23=\"OK\"),VLOOKUP(G23&D23,$AJ$10:$AT$31,7,FALSE)+1,IF(AND(KaBu!J23=\"\",AB23=\"kein Test\"),\"\",KaBu!J23))+IF(AND(Seilspringen!J23=\"\",AB23=\"OK\"),VLOOKUP(G23&D23,$AJ$10:$AT$31,8,FALSE)+1,IF(AND(Seilspringen!J23=\"\",AB23=\"kein Test\"),\"\",Seilspringen!J23))+IF(AND(Liegestütz!J23=\"\",AB23=\"OK\"),VLOOKUP(G23&D23,$AJ$10:$AT$31,9,FALSE)+1,IF(AND(Liegestütz!J23=\"\",AB23=\"kein Test\"),\"\",Liegestütz!J23))+IF(AND(Balance!J23=\"\",AB23=\"OK\"),VLOOKUP(G23&D23,$AJ$10:$AT$31,10,FALSE)+1,IF(AND(Balance!J23=\"\",AB23=\"kein Test\"),\"\",Balance!J23))+IF(AND('1000m'!J23=\"\",AB23=\"OK\"),VLOOKUP(G23&D23,$AJ$10:$AT$31,11,FALSE)+1,IF(AND('1000m'!J23=\"\",AB23=\"kein Test\"),\"\",'1000m'!J23)))/8)","v":""},null,null,"kein Test",null,null,null,null,null,null,null,"U12w","w",{"$f":"COUNTIFS($D$10:$D$200,\"w\",$G$10:$G$200,\"U12\")","v":0},{"$f":"$AL$23-COUNTIFS($D$10:$D$200,\"w\",$G$10:$G$200,\"U12\",$I$10:$I$200,\"\")","v":0},{"$f":"$AL$23-COUNTIFS($D$10:$D$200,\"w\",$G$10:$G$200,\"U12\",$K$10:$K$200,\"\")","v":0},{"$f":"$AL$23-COUNTIFS($D$10:$D$200,\"w\",$G$10:$G$200,\"U12\",$M$10:$M$200,\"\")","v":0},{"$f":"$AL$23-COUNTIFS($D$10:$D$200,\"w\",$G$10:$G$200,\"U12\",$O$10:$O$200,\"\")","v":0},{"$f":"$AL$23-COUNTIFS($D$10:$D$200,\"w\",$G$10:$G$200,\"U12\",$Q$10:$Q$200,\"\")","v":0},{"$f":"$AL$23-COUNTIFS($D$10:$D$200,\"w\",$G$10:$G$200,\"U12\",$S$10:$S$200,\"\")","v":0},{"$f":"$AL$23-COUNTIFS($D$10:$D$200,\"w\",$G$10:$G$200,\"U12\",$U$10:$U$200,\"\")","v":0},{"$f":"$AL$23-COUNTIFS($D$10:$D$200,\"w\",$G$10:$G$200,\"U12\",$W$10:$W$200,\"\")","v":0}]
[15,{"$f":"IF(Athletenliste!B24=\"\",\"\",Athletenliste!B24)","v":""},{"$f":"IF(Athletenliste!C24=\"\",\"\",Athletenliste!C24)","v":""},{"$f":"IF(Athletenliste!D24=\"\",\"\",Athletenliste!D24)","v":""},{"$f":"IF(Athletenliste!E24=\"\",\"\",Athletenliste!E24)","v":""},{"$f":"IF(Athletenliste!F24=\"\",\"\",Athletenliste!F24)","v":""},{"$f":"IF(Athletenliste!G24=\"\",\"\",Athletenliste!G24)","v":""},{"$f":"IF(Athletenliste!H24=\"\",\"\",Athletenliste!H24)","v":""},{"$f":"IF(Messen_Beweglichkeit!K24=\"\",\"\",Messen_Beweglichkeit!K24)","v":""},{"$f":"IF(Messen_Beweglichkeit!L24=\"\",\"\",Messen_Beweglichkeit!L24)","v":""},{"$f":"IF('Jump-and-Reach'!I24=\"\",\"\",'Jump-and-Reach'!I24)","v":""},{"$f":"IF('Jump-and-Reach'!J24=\"\",\"\",'Jump-and-Reach'!J24)","v":""},{"$f":"IF('30m Sprint'!I24=\"\",\"\",'30m Sprint'!I24)","v":""},{"$f":"IF('30m Sprint'!J24=\"\",\"\",'30m Sprint'!J24)","v":""},{"$f":"IF(KaBu!I24=\"\",\"\",KaBu!I24)","v":""},{"$f":"IF(KaBu!J24=\"\",\"\",KaBu!J24)","v":""},{"$f":"IF(Seilspringen!I24=\"\",\"\",Seilspringen!I24)","v":""},{"$f":"IF(Seilspringen!J24=\"\",\"\",Seilspringen!J24)","v":""},{"$f":"IF(Liegestütz!I24=\"\",\"\",Liegestütz!I24)","v":""},{"$f":"IF(Liegestütz!J24=\"\",\"\",Liegestütz!J24)","v":""},{"$f":"IF(Balance!I24=\"\",\"\",Balance!I24)","v":""},{"$f":"IF(Balance!J24=\"\",\"\",Balance!J24)","v":""},{"$f":"IF('1000m'!I24=\"\",\"\",'1000m'!I24)","v":""},{"$f":"IF('1000m'!J24=\"\",\"\",'1000m'!J24)","v":""},{"$f":"IF(B24=\"\",\"\",(IF(AND(Messen_Beweglichkeit!L24=\"\",AB24=\"OK\"),VLOOKUP(G24&D24,$AJ$10:$AT$31,4,FALSE)+1,IF(AND(Messen_Beweglichkeit!J24=\"\",AB24=\"kein Test\"),\"\",Messen_Beweglichkeit!L24))+IF(AND('Jump-and-Reach'!J24=\"\",AB24=\"OK\"),VLOOKUP(G24&D24,$AJ$10:$AT$31,5,FALSE)+1,IF(AND('Jump-and-Reach'!J24=\"\",AB24=\"kein Test\"),\"\",'Jump-and-Reach'!J24))+IF(AND('30m Sprint'!J24=\"\",AB24=\"OK\"),VLOOKUP(G24&D24,$AJ$10:$AT$31,6,FALSE)+1,IF(AND('30m Sprint'!J24=\"\",AB24=\"kein Test\"),\"\",'30m Sprint'!J24))+IF(AND(KaBu!J24=\"\",AB24=\"OK\"),VLOOKUP(G24&D24,$AJ$10:$AT$31,7,FALSE)+1,IF(AND(KaBu!J24=\"\",AB24=\"kein Test\"),\"\",KaBu!J24))+IF(AND(Seilspringen!J24=\"\",AB24=\"OK\"),VLOOKUP(G24&D24,$AJ$10:$AT$31,8,FALSE)+1,IF(AND(Seilspringen!J24=\"\",AB24=\"kein Test\"),\"\",Seilspringen!J24))+IF(AND(Liegestütz!J24=\"\",AB24=\"OK\"),VLOOKUP(G24&D24,$AJ$10:$AT$31,9,FALSE)+1,IF(AND(Liegestütz!J24=\"\",AB24=\"kein Test\"),\"\",Liegestütz!J24))+IF(AND(Balance!J24=\"\",AB24=\"OK\"),VLOOKUP(G24&D24,$AJ$10:$AT$31,10,FALSE)+1,IF(AND(Balance!J24=\"\",AB24=\"kein Test\"),\"\",Balance!J24))+IF(AND('1000m'!J24=\"\",AB24=\"OK\"),VLOOKUP(G24&D24,$AJ$10:$AT$31,11,FALSE)+1,IF(AND('1000m'!J24=\"\",AB24=\"kein Test\"),\"\",'1000m'!J24)))/8)","v":""},null,null,"kein Test",null,null,null,null,null,null,null,"U13m","m",{"$f":"COUNTIFS($D$10:$D$200,\"m\",$G$10:$G$200,\"U13\")","v":0},{"$f":"$AL$24-COUNTIFS($D$10:$D$200,\"m\",$G$10:$G$200,\"U13\",$I$10:$I$200,\"\")","v":0},{"$f":"$AL$24-COUNTIFS($D$10:$D$200,\"m\",$G$10:$G$200,\"U13\",$K$10:$K$200,\"\")","v":0},{"$f":"$AL$24-COUNTIFS($D$10:$D$200,\"m\",$G$10:$G$200,\"U13\",$M$10:$M$200,\"\")","v":0},{"$f":"$AL$24-COUNTIFS($D$10:$D$200,\"m\",$G$10:$G$200,\"U13\",$O$10:$O$200,\"\")","v":0},{"$f":"$AL$24-COUNTIFS($D$10:$D$200,\"m\",$G$10:$G$200,\"U13\",$Q$10:$Q$200,\"\")","v":0},{"$f":"$AL$24-COUNTIFS($D$10:$D$200,\"m\",$G$10:$G$200,\"U13\",$S$10:$S$200,\"\")","v":0},{"$f":"$AL$24-COUNTIFS($D$10:$D$200,\"m\",$G$10:$G$200,\"U13\",$U$10:$U$200,\"\")","v":0},{"$f":"$AL$24-COUNTIFS($D$10:$D$200,\"m\",$G$10:$G$200,\"U13\",$W$10:$W$200,\"\")","v":0}]
[16,{"$f":"IF(Athletenliste!B25=\"\",\"\",Athletenliste!B25)","v":""},{"$f":"IF(Athletenliste!C25=\"\",\"\",Athletenliste!C25)","v":""},{"$f":"IF(Athletenliste!D25=\"\",\"\",Athletenliste!D25)","v":""},{"$f":"IF(Athletenliste!E25=\"\",\"\",Athletenliste!E25)","v":""},{"$f":"IF(Athletenliste!F25=\"\",\"\",Athletenliste!F25)","v":""},{"$f":"IF(Athletenliste!G25=\"\",\"\",Athletenliste!G25)","v":""},{"$f":"IF(Athletenliste!H25=\"\",\"\",Athletenliste!H25)","v":""},{"$f":"IF(Messen_Beweglichkeit!K25=\"\",\"\",Messen_Beweglichkeit!K25)","v":""},{"$f":"IF(Messen_Beweglichkeit!L25=\"\",\"\",Messen_Beweglichkeit!L25)","v":""},{"$f":"IF('Jump-and-Reach'!I25=\"\",\"\",'Jump-and-Reach'!I25)","v":""},{"$f":"IF('Jump-and-Reach'!J25=\"\",\"\",'Jump-and-Reach'!J25)","v":""},{"$f":"IF('30m Sprint'!I25=\"\",\"\",'30m Sprint'!I25)","v":""},{"$f":"IF('30m Sprint'!J25=\"\",\"\",'30m Sprint'!J25)","v":""},{"$f":"IF(KaBu!I25=\"\",\"\",KaBu!I25)","v":""},{"$f":"IF(KaBu!J25=\"\",\"\",KaBu!J25)","v":""},{"$f":"IF(Seilspringen!I25=\"\",\"\",Seilspringen!I25)","v":""},{"$f":"IF(Seilspringen!J25=\"\",\"\",Seilspringen!J25)","v":""},{"$f":"IF(Liegestütz!I25=\"\",\"\",Liegestütz!I25)","v":""},{"$f":"IF(Liegestütz!J25=\"\",\"\",Liegestütz!J25)","v":""},{"$f":"IF(Balance!I25=\"\",\"\",Balance!I25)","v":""},{"$f":"IF(Balance!J25=\"\",\"\",Balance!J25)","v":""},{"$f":"IF('1000m'!I25=\"\",\"\",'1000m'!I25)","v":""},{"$f":"IF('1000m'!J25=\"\",\"\",'1000m'!J25)","v":""},{"$f":"IF(B25=\"\",\"\",(IF(AND(Messen_Beweglichkeit!L25=\"\",AB25=\"OK\"),VLOOKUP(G25&D25,$AJ$10:$AT$31,4,FALSE)+1,IF(AND(Messen_Beweglichkeit!J25=\"\",AB25=\"kein Test\"),\"\",Messen_Beweglichkeit!L25))+IF(AND('Jump-and-Reach'!J25=\"\",AB25=\"OK\"),VLOOKUP(G25&D25,$AJ$10:$AT$31,5,FALSE)+1,IF(AND('Jump-and-Reach'!J25=\"\",AB25=\"kein Test\"),\"\",'Jump-and-Reach'!J25))+IF(AND('30m Sprint'!J25=\"\",AB25=\"OK\"),VLOOKUP(G25&D25,$AJ$10:$AT$31,6,FALSE)+1,IF(AND('30m Sprint'!J25=\"\",AB25=\"kein Test\"),\"\",'30m Sprint'!J25))+IF(AND(KaBu!J25=\"\",AB25=\"OK\"),VLOOKUP(G25&D25,$AJ$10:$AT$31,7,FALSE)+1,IF(AND(KaBu!J25=\"\",AB25=\"kein Test\"),\"\",KaBu!J25))+IF(AND(Seilspringen!J25=\"\",AB25=\"OK\"),VLOOKUP(G25&D25,$AJ$10:$AT$31,8,FALSE)+1,IF(AND(Seilspringen!J25=\"\",AB25=\"kein Test\"),\"\",Seilspringen!J25))+IF(AND(Liegestütz!J25=\"\",AB25=\"OK\"),VLOOKUP(G25&D25,$AJ$10:$AT$31,9,FALSE)+1,IF(AND(Liegestütz!J25=\"\",AB25=\"kein Test\"),\"\",Liegestütz!J25))+IF(AND(Balance!J25=\"\",AB25=\"OK\"),VLOOKUP(G25&D25,$AJ$10:$AT$31,10,FALSE)+1,IF(AND(Balance!J25=\"\",AB25=\"kein Test\"),\"\",Balance!J25))+IF(AND('1000m'!J25=\"\",AB25=\"OK\"),VLOOKUP(G25&D25,$AJ$10:$AT$31,11,FALSE)+1,IF(AND('1000m'!J25=\"\",AB25=\"kein Test\"),\"\",'1000m'!J25)))/8)","v":""},null,null,"kein Test",null,null,null,null,null,null,null,"U13w","w",{"$f":"COUNTIFS($D$10:$D$200,\"w\",$G$10:$G$200,\"U13\")","v":0},{"$f":"$AL$25-COUNTIFS($D$10:$D$200,\"w\",$G$10:$G$200,\"U13\",$I$10:$I$200,\"\")","v":0},{"$f":"$AL$25-COUNTIFS($D$10:$D$200,\"w\",$G$10:$G$200,\"U13\",$K$10:$K$200,\"\")","v":0},{"$f":"$AL$25-COUNTIFS($D$10:$D$200,\"w\",$G$10:$G$200,\"U13\",$M$10:$M$200,\"\")","v":0},{"$f":"$AL$25-COUNTIFS($D$10:$D$200,\"w\",$G$10:$G$200,\"U13\",$O$10:$O$200,\"\")","v":0},{"$f":"$AL$25-COUNTIFS($D$10:$D$200,\"w\",$G$10:$G$200,\"U13\",$Q$10:$Q$200,\"\")","v":0},{"$f":"$AL$25-COUNTIFS($D$10:$D$200,\"w\",$G$10:$G$200,\"U13\",$S$10:$S$200,\"\")","v":0},{"$f":"$AL$25-COUNTIFS($D$10:$D$200,\"w\",$G$10:$G$200,\"U13\",$U$10:$U$200,\"\")","v":0},{"$f":"$AL$25-COUNTIFS($D$10:$D$200,\"w\",$G$10:$G$200,\"U13\",$W$10:$W$200,\"\")","v":0}]
[17,{"$f":"IF(Athletenliste!B26=\"\",\"\",Athletenliste!B26)","v":""},{"$f":"IF(Athletenliste!C26=\"\",\"\",Athletenliste!C26)","v":""},{"$f":"IF(Athletenliste!D26=\"\",\"\",Athletenliste!D26)","v":""},{"$f":"IF(Athletenliste!E26=\"\",\"\",Athletenliste!E26)","v":""},{"$f":"IF(Athletenliste!F26=\"\",\"\",Athletenliste!F26)","v":""},{"$f":"IF(Athletenliste!G26=\"\",\"\",Athletenliste!G26)","v":""},{"$f":"IF(Athletenliste!H26=\"\",\"\",Athletenliste!H26)","v":""},{"$f":"IF(Messen_Beweglichkeit!K26=\"\",\"\",Messen_Beweglichkeit!K26)","v":""},{"$f":"IF(Messen_Beweglichkeit!L26=\"\",\"\",Messen_Beweglichkeit!L26)","v":""},{"$f":"IF('Jump-and-Reach'!I26=\"\",\"\",'Jump-and-Reach'!I26)","v":""},{"$f":"IF('Jump-and-Reach'!J26=\"\",\"\",'Jump-and-Reach'!J26)","v":""},{"$f":"IF('30m Sprint'!I26=\"\",\"\",'30m Sprint'!I26)","v":""},{"$f":"IF('30m Sprint'!J26=\"\",\"\",'30m Sprint'!J26)","v":""},{"$f":"IF(KaBu!I26=\"\",\"\",KaBu!I26)","v":""},{"$f":"IF(KaBu!J26=\"\",\"\",KaBu!J26)","v":""},{"$f":"IF(Seilspringen!I26=\"\",\"\",Seilspringen!I26)","v":""},{"$f":"IF(Seilspringen!J26=\"\",\"\",Seilspringen!J26)","v":""},{"$f":"IF(Liegestütz!I26=\"\",\"\",Liegestütz!I26)","v":""},{"$f":"IF(Liegestütz!J26=\"\",\"\",Liegestütz!J26)","v":""},{"$f":"IF(Balance!I26=\"\",\"\",Balance!I26)","v":""},{"$f":"IF(Balance!J26=\"\",\"\",Balance!J26)","v":""},{"$f":"IF('1000m'!I26=\"\",\"\",'1000m'!I26)","v":""},{"$f":"IF('1000m'!J26=\"\",\"\",'1000m'!J26)","v":""},{"$f":"IF(B26=\"\",\"\",(IF(AND(Messen_Beweglichkeit!L26=\"\",AB26=\"OK\"),VLOOKUP(G26&D26,$AJ$10:$AT$31,4,FALSE)+1,IF(AND(Messen_Beweglichkeit!J26=\"\",AB26=\"kein Test\"),\"\",Messen_Beweglichkeit!L26))+IF(AND('Jump-and-Reach'!J26=\"\",AB26=\"OK\"),VLOOKUP(G26&D26,$AJ$10:$AT$31,5,FALSE)+1,IF(AND('Jump-and-Reach'!J26=\"\",AB26=\"kein Test\"),\"\",'Jump-and-Reach'!J26))+IF(AND('30m Sprint'!J26=\"\",AB26=\"OK\"),VLOOKUP(G26&D26,$AJ$10:$AT$31,6,FALSE)+1,IF(AND('30m Sprint'!J26=\"\",AB26=\"kein Test\"),\"\",'30m Sprint'!J26))+IF(AND(KaBu!J26=\"\",AB26=\"OK\"),VLOOKUP(G26&D26,$AJ$10:$AT$31,7,FALSE)+1,IF(AND(KaBu!J26=\"\",AB26=\"kein Test\"),\"\",KaBu!J26))+IF(AND(Seilspringen!J26=\"\",AB26=\"OK\"),VLOOKUP(G26&D26,$AJ$10:$AT$31,8,FALSE)+1,IF(AND(Seilspringen!J26=\"\",AB26=\"kein Test\"),\"\",Seilspringen!J26))+IF(AND(Liegestütz!J26=\"\",AB26=\"OK\"),VLOOKUP(G26&D26,$AJ$10:$AT$31,9,FALSE)+1,IF(AND(Liegestütz!J26=\"\",AB26=\"kein Test\"),\"\",Liegestütz!J26))+IF(AND(Balance!J26=\"\",AB26=\"OK\"),VLOOKUP(G26&D26,$AJ$10:$AT$31,10,FALSE)+1,IF(AND(Balance!J26=\"\",AB26=\"kein Test\"),\"\",Balance!J26))+IF(AND('1000m'!J26=\"\",AB26=\"OK\"),VLOOKUP(G26&D26,$AJ$10:$AT$31,11,FALSE)+1,IF(AND('1000m'!J26=\"\",AB26=\"kein Test\"),\"\",'1000m'!J26)))/8)","v":""},null,null,"kein Test",null,null,null,null,null,null,null,"U14m","m",{"$f":"COUNTIFS($D$10:$D$200,\"m\",$G$10:$G$200,\"U14\")","v":0},{"$f":"$AL$26-COUNTIFS($D$10:$D$200,\"m\",$G$10:$G$200,\"U14\",$I$10:$I$200,\"\")","v":0},{"$f":"$AL$26-COUNTIFS($D$10:$D$200,\"m\",$G$10:$G$200,\"U14\",$K$10:$K$200,\"\")","v":0},{"$f":"$AL$26-COUNTIFS($D$10:$D$200,\"m\",$G$10:$G$200,\"U14\",$M$10:$M$200,\"\")","v":0},{"$f":"$AL$26-COUNTIFS($D$10:$D$200,\"m\",$G$10:$G$200,\"U14\",$O$10:$O$200,\"\")","v":0},{"$f":"$AL$26-COUNTIFS($D$10:$D$200,\"m\",$G$10:$G$200,\"U14\",$Q$10:$Q$200,\"\")","v":0},{"$f":"$AL$26-COUNTIFS($D$10:$D$200,\"m\",$G$10:$G$200,\"U14\",$S$10:$S$200,\"\")","v":0},{"$f":"$AL$26-COUNTIFS($D$10:$D$200,\"m\",$G$10:$G$200,\"U14\",$U$10:$U$200,\"\")","v":0},{"$f":"$AL$26-COUNTIFS($D$10:$D$200,\"m\",$G$10:$G$200,\"U14\",$W$10:$W$200,\"\")","v":0}]
[18,{"$f":"IF(Athletenliste!B27=\"\",\"\",Athletenliste!B27)","v":""},{"$f":"IF(Athletenliste!C27=\"\",\"\",Athletenliste!C27)","v":""},{"$f":"IF(Athletenliste!D27=\"\",\"\",Athletenliste!D27)","v":""},{"$f":"IF(Athletenliste!E27=\"\",\"\",Athletenliste!E27)","v":""},{"$f":"IF(Athletenliste!F27=\"\",\"\",Athletenliste!F27)","v":""},{"$f":"IF(Athletenliste!G27=\"\",\"\",Athletenliste!G27)","v":""},{"$f":"IF(Athletenliste!H27=\"\",\"\",Athletenliste!H27)","v":""},{"$f":"IF(Messen_Beweglichkeit!K27=\"\",\"\",Messen_Beweglichkeit!K27)","v":""},{"$f":"IF(Messen_Beweglichkeit!L27=\"\",\"\",Messen_Beweglichkeit!L27)","v":""},{"$f":"IF('Jump-and-Reach'!I27=\"\",\"\",'Jump-and-Reach'!I27)","v":""},{"$f":"IF('Jump-and-Reach'!J27=\"\",\"\",'Jump-and-Reach'!J27)","v":""},{"$f":"IF('30m Sprint'!I27=\"\",\"\",'30m Sprint'!I27)","v":""},{"$f":"IF('30m Sprint'!J27=\"\",\"\",'30m Sprint'!J27)","v":""},{"$f":"IF(KaBu!I27=\"\",\"\",KaBu!I27)","v":""},{"$f":"IF(KaBu!J27=\"\",\"\",KaBu!J27)","v":""},{"$f":"IF(Seilspringen!I27=\"\",\"\",Seilspringen!I27)","v":""},{"$f":"IF(Seilspringen!J27=\"\",\"\",Seilspringen!J27)","v":""},{"$f":"IF(Liegestütz!I27=\"\",\"\",Liegestütz!I27)","v":""},{"$f":"IF(Liegestütz!J27=\"\",\"\",Liegestütz!J27)","v":""},{"$f":"IF(Balance!I27=\"\",\"\",Balance!I27)","v":""},{"$f":"IF(Balance!J27=\"\",\"\",Balance!J27)","v":""},{"$f":"IF('1000m'!I27=\"\",\"\",'1000m'!I27)","v":""},{"$f":"IF('1000m'!J27=\"\",\"\",'1000m'!J27)","v":""},{"$f":"IF(B27=\"\",\"\",(IF(AND(Messen_Beweglichkeit!L27=\"\",AB27=\"OK\"),VLOOKUP(G27&D27,$AJ$10:$AT$31,4,FALSE)+1,IF(AND(Messen_Beweglichkeit!J27=\"\",AB27=\"kein Test\"),\"\",Messen_Beweglichkeit!L27))+IF(AND('Jump-and-Reach'!J27=\"\",AB27=\"OK\"),VLOOKUP(G27&D27,$AJ$10:$AT$31,5,FALSE)+1,IF(AND('Jump-and-Reach'!J27=\"\",AB27=\"kein Test\"),\"\",'Jump-and-Reach'!J27))+IF(AND('30m Sprint'!J27=\"\",AB27=\"OK\"),VLOOKUP(G27&D27,$AJ$10:$AT$31,6,FALSE)+1,IF(AND('30m Sprint'!J27=\"\",AB27=\"kein Test\"),\"\",'30m Sprint'!J27))+IF(AND(KaBu!J27=\"\",AB27=\"OK\"),VLOOKUP(G27&D27,$AJ$10:$AT$31,7,FALSE)+1,IF(AND(KaBu!J27=\"\",AB27=\"kein Test\"),\"\",KaBu!J27))+IF(AND(Seilspringen!J27=\"\",AB27=\"OK\"),VLOOKUP(G27&D27,$AJ$10:$AT$31,8,FALSE)+1,IF(AND(Seilspringen!J27=\"\",AB27=\"kein Test\"),\"\",Seilspringen!J27))+IF(AND(Liegestütz!J27=\"\",AB27=\"OK\"),VLOOKUP(G27&D27,$AJ$10:$AT$31,9,FALSE)+1,IF(AND(Liegestütz!J27=\"\",AB27=\"kein Test\"),\"\",Liegestütz!J27))+IF(AND(Balance!J27=\"\",AB27=\"OK\"),VLOOKUP(G27&D27,$AJ$10:$AT$31,10,FALSE)+1,IF(AND(Balance!J27=\"\",AB27=\"kein Test\"),\"\",Balance!J27))+IF(AND('1000m'!J27=\"\",AB27=\"OK\"),VLOOKUP(G27&D27,$AJ$10:$AT$31,11,FALSE)+1,IF(AND('1000m'!J27=\"\",AB27=\"kein Test\"),\"\",'1000m'!J27)))/8)","v":""},null,null,"kein Test",null,null,null,null,null,null,null,"U14w","w",{"$f":"COUNTIFS($D$10:$D$200,\"w\",$G$10:$G$200,\"U14\")","v":0},{"$f":"$AL$27-COUNTIFS($D$10:$D$200,\"w\",$G$10:$G$200,\"U14\",$I$10:$I$200,\"\")","v":0},{"$f":"$AL$27-COUNTIFS($D$10:$D$200,\"w\",$G$10:$G$200,\"U14\",$K$10:$K$200,\"\")","v":0},{"$f":"$AL$27-COUNTIFS($D$10:$D$200,\"w\",$G$10:$G$200,\"U14\",$M$10:$M$200,\"\")","v":0},{"$f":"$AL$27-COUNTIFS($D$10:$D$200,\"w\",$G$10:$G$200,\"U14\",$O$10:$O$200,\"\")","v":0},{"$f":"$AL$27-COUNTIFS($D$10:$D$200,\"w\",$G$10:$G$200,\"U14\",$Q$10:$Q$200,\"\")","v":0},{"$f":"$AL$27-COUNTIFS($D$10:$D$200,\"w\",$G$10:$G$200,\"U14\",$S$10:$S$200,\"\")","v":0},{"$f":"$AL$27-COUNTIFS($D$10:$D$200,\"w\",$G$10:$G$200,\"U14\",$U$10:$U$200,\"\")","v":0},{"$f":"$AL$27-COUNTIFS($D$10:$D$200,\"w\",$G$10:$G$200,\"U14\",$W$10:$W$200,\"\")","v":0}]
[19,{"$f":"IF(Athletenliste!B28=\"\",\"\",Athletenliste!B28)","v":""},{"$f":"IF(Athletenliste!C28=\"\",\"\",Athletenliste!C28)","v":""},{"$f":"IF(Athletenliste!D28=\"\",\"\",Athletenliste!D28)","v":""},{"$f":"IF(Athletenliste!E28=\"\",\"\",Athletenliste!E28)","v":""},{"$f":"IF(Athletenliste!F28=\"\",\"\",Athletenliste!F28)","v":""},{"$f":"IF(Athletenliste!G28=\"\",\"\",Athletenliste!G28)","v":""},{"$f":"IF(Athletenliste!H28=\"\",\"\",Athletenliste!H28)","v":""},{"$f":"IF(Messen_Beweglichkeit!K28=\"\",\"\",Messen_Beweglichkeit!K28)","v":""},{"$f":"IF(Messen_Beweglichkeit!L28=\"\",\"\",Messen_Beweglichkeit!L28)","v":""},{"$f":"IF('Jump-and-Reach'!I28=\"\",\"\",'Jump-and-Reach'!I28)","v":""},{"$f":"IF('Jump-and-Reach'!J28=\"\",\"\",'Jump-and-Reach'!J28)","v":""},{"$f":"IF('30m Sprint'!I28=\"\",\"\",'30m Sprint'!I28)","v":""},{"$f":"IF('30m Sprint'!J28=\"\",\"\",'30m Sprint'!J28)","v":""},{"$f":"IF(KaBu!I28=\"\",\"\",KaBu!I28)","v":""},{"$f":"IF(KaBu!J28=\"\",\"\",KaBu!J28)","v":""},{"$f":"IF(Seilspringen!I28=\"\",\"\",Seilspringen!I28)","v":""},{"$f":"IF(Seilspringen!J28=\"\",\"\",Seilspringen!J28)","v":""},{"$f":"IF(Liegestütz!I28=\"\",\"\",Liegestütz!I28)","v":""},{"$f":"IF(Liegestütz!J28=\"\",\"\",Liegestütz!J28)","v":""},{"$f":"IF(Balance!I28=\"\",\"\",Balance!I28)","v":""},{"$f":"IF(Balance!J28=\"\",\"\",Balance!J28)","v":""},{"$f":"IF('1000m'!I28=\"\",\"\",'1000m'!I28)","v":""},{"$f":"IF('1000m'!J28=\"\",\"\",'1000m'!J28)","v":""},{"$f":"IF(B28=\"\",\"\",(IF(AND(Messen_Beweglichkeit!L28=\"\",AB28=\"OK\"),VLOOKUP(G28&D28,$AJ$10:$AT$31,4,FALSE)+1,IF(AND(Messen_Beweglichkeit!J28=\"\",AB28=\"kein Test\"),\"\",Messen_Beweglichkeit!L28))+IF(AND('Jump-and-Reach'!J28=\"\",AB28=\"OK\"),VLOOKUP(G28&D28,$AJ$10:$AT$31,5,FALSE)+1,IF(AND('Jump-and-Reach'!J28=\"\",AB28=\"kein Test\"),\"\",'Jump-and-Reach'!J28))+IF(AND('30m Sprint'!J28=\"\",AB28=\"OK\"),VLOOKUP(G28&D28,$AJ$10:$AT$31,6,FALSE)+1,IF(AND('30m Sprint'!J28=\"\",AB28=\"kein Test\"),\"\",'30m Sprint'!J28))+IF(AND(KaBu!J28=\"\",AB28=\"OK\"),VLOOKUP(G28&D28,$AJ$10:$AT$31,7,FALSE)+1,IF(AND(KaBu!J28=\"\",AB28=\"kein Test\"),\"\",KaBu!J28))+IF(AND(Seilspringen!J28=\"\",AB28=\"OK\"),VLOOKUP(G28&D28,$AJ$10:$AT$31,8,FALSE)+1,IF(AND(Seilspringen!J28=\"\",AB28=\"kein Test\"),\"\",Seilspringen!J28))+IF(AND(Liegestütz!J28=\"\",AB28=\"OK\"),VLOOKUP(G28&D28,$AJ$10:$AT$31,9,FALSE)+1,IF(AND(Liegestütz!J28=\"\",AB28=\"kein Test\"),\"\",Liegestütz!J28))+IF(AND(Balance!J28=\"\",AB28=\"OK\"),VLOOKUP(G28&D28,$AJ$10:$AT$31,10,FALSE)+1,IF(AND(Balance!J28=\"\",AB28=\"kein Test\"),\"\",Balance!J28))+IF(AND('1000m'!J28=\"\",AB28=\"OK\"),VLOOKUP(G28&D28,$AJ$10:$AT$31,11,FALSE)+1,IF(AND('1000m'!J28=\"\",AB28=\"kein Test\"),\"\",'1000m'!J28)))/8)","v":""},null,null,"kein Test",null,null,null,null,null,null,null,"U15m","m",{"$f":"COUNTIFS($D$10:$D$200,\"m\",$G$10:$G$200,\"U15\")","v":0},{"$f":"$AL$28-COUNTIFS($D$10:$D$200,\"m\",$G$10:$G$200,\"U15\",$I$10:$I$200,\"\")","v":0},{"$f":"$AL$28-COUNTIFS($D$10:$D$200,\"m\",$G$10:$G$200,\"U15\",$K$10:$K$200,\"\")","v":0},{"$f":"$AL$28-COUNTIFS($D$10:$D$200,\"m\",$G$10:$G$200,\"U15\",$M$10:$M$200,\"\")","v":0},{"$f":"$AL$28-COUNTIFS($D$10:$D$200,\"m\",$G$10:$G$200,\"U15\",$O$10:$O$200,\"\")","v":0},{"$f":"$AL$28-COUNTIFS($D$10:$D$200,\"m\",$G$10:$G$200,\"U15\",$Q$10:$Q$200,\"\")","v":0},{"$f":"$AL$28-COUNTIFS($D$10:$D$200,\"m\",$G$10:$G$200,\"U15\",$S$10:$S$200,\"\")","v":0},{"$f":"$AL$28-COUNTIFS($D$10:$D$200,\"m\",$G$10:$G$200,\"U15\",$U$10:$U$200,\"\")","v":0},{"$f":"$AL$28-COUNTIFS($D$10:$D$200,\"m\",$G$10:$G$200,\"U15\",$W$10:$W$200,\"\")","v":0}]
[20,{"$f":"IF(Athletenliste!B29=\"\",\"\",Athletenliste!B29)","v":""},{"$f":"IF(Athletenliste!C29=\"\",\"\",Athletenliste!C29)","v":""},{"$f":"IF(Athletenliste!D29=\"\",\"\",Athletenliste!D29)","v":""},{"$f":"IF(Athletenliste!E29=\"\",\"\",Athletenliste!E29)","v":""},{"$f":"IF(Athletenliste!F29=\"\",\"\",Athletenliste!F29)","v":""},{"$f":"IF(Athletenliste!G29=\"\",\"\",Athletenliste!G29)","v":""},{"$f":"IF(Athletenliste!H29=\"\",\"\",Athletenliste!H29)","v":""},{"$f":"IF(Messen_Beweglichkeit!K29=\"\",\"\",Messen_Beweglichkeit!K29)","v":""},{"$f":"IF(Messen_Beweglichkeit!L29=\"\",\"\",Messen_Beweglichkeit!L29)","v":""},{"$f":"IF('Jump-and-Reach'!I29=\"\",\"\",'Jump-and-Reach'!I29)","v":""},{"$f":"IF('Jump-and-Reach'!J29=\"\",\"\",'Jump-and-Reach'!J29)","v":""},{"$f":"IF('30m Sprint'!I29=\"\",\"\",'30m Sprint'!I29)","v":""},{"$f":"IF('30m Sprint'!J29=\"\",\"\",'30m Sprint'!J29)","v":""},{"$f":"IF(KaBu!I29=\"\",\"\",KaBu!I29)","v":""},{"$f":"IF(KaBu!J29=\"\",\"\",KaBu!J29)","v":""},{"$f":"IF(Seilspringen!I29=\"\",\"\",Seilspringen!I29)","v":""},{"$f":"IF(Seilspringen!J29=\"\",\"\",Seilspringen!J29)","v":""},{"$f":"IF(Liegestütz!I29=\"\",\"\",Liegestütz!I29)","v":""},{"$f":"IF(Liegestütz!J29=\"\",\"\",Liegestütz!J29)","v":""},{"$f":"IF(Balance!I29=\"\",\"\",Balance!I29)","v":""},{"$f":"IF(Balance!J29=\"\",\"\",Balance!J29)","v":""},{"$f":"IF('1000m'!I29=\"\",\"\",'1000m'!I29)","v":""},{"$f":"IF('1000m'!J29=\"\",\"\",'1000m'!J29)","v":""},{"$f":"IF(B29=\"\",\"\",(IF(AND(Messen_Beweglichkeit!L29=\"\",AB29=\"OK\"),VLOOKUP(G29&D29,$AJ$10:$AT$31,4,FALSE)+1,IF(AND(Messen_Beweglichkeit!J29=\"\",AB29=\"kein Test\"),\"\",Messen_Beweglichkeit!L29))+IF(AND('Jump-and-Reach'!J29=\"\",AB29=\"OK\"),VLOOKUP(G29&D29,$AJ$10:$AT$31,5,FALSE)+1,IF(AND('Jump-and-Reach'!J29=\"\",AB29=\"kein Test\"),\"\",'Jump-and-Reach'!J29))+IF(AND('30m Sprint'!J29=\"\",AB29=\"OK\"),VLOOKUP(G29&D29,$AJ$10:$AT$31,6,FALSE)+1,IF(AND('30m Sprint'!J29=\"\",AB29=\"kein Test\"),\"\",'30m Sprint'!J29))+IF(AND(KaBu!J29=\"\",AB29=\"OK\"),VLOOKUP(G29&D29,$AJ$10:$AT$31,7,FALSE)+1,IF(AND(KaBu!J29=\"\",AB29=\"kein Test\"),\"\",KaBu!J29))+IF(AND(Seilspringen!J29=\"\",AB29=\"OK\"),VLOOKUP(G29&D29,$AJ$10:$AT$31,8,FALSE)+1,IF(AND(Seilspringen!J29=\"\",AB29=\"kein Test\"),\"\",Seilspringen!J29))+IF(AND(Liegestütz!J29=\"\",AB29=\"OK\"),VLOOKUP(G29&D29,$AJ$10:$AT$31,9,FALSE)+1,IF(AND(Liegestütz!J29=\"\",AB29=\"kein Test\"),\"\",Liegestütz!J29))+IF(AND(Balance!J29=\"\",AB29=\"OK\"),VLOOKUP(G29&D29,$AJ$10:$AT$31,10,FALSE)+1,IF(AND(Balance!J29=\"\",AB29=\"kein Test\"),\"\",Balance!J29))+IF(AND('1000m'!J29=\"\",AB29=\"OK\"),VLOOKUP(G29&D29,$AJ$10:$AT$31,11,FALSE)+1,IF(AND('1000m'!J29=\"\",AB29=\"kein Test\"),\"\",'1000m'!J29)))/8)","v":""},null,null,"kein Test",null,null,null,null,null,null,null,"U15w","w",{"$f":"COUNTIFS($D$10:$D$200,\"w\",$G$10:$G$200,\"U15\")","v":0},{"$f":"$AL$29-COUNTIFS($D$10:$D$200,\"w\",$G$10:$G$200,\"U15\",$I$10:$I$200,\"\")","v":0},{"$f":"$AL$29-COUNTIFS($D$10:$D$200,\"w\",$G$10:$G$200,\"U15\",$K$10:$K$200,\"\")","v":0},{"$f":"$AL$29-COUNTIFS($D$10:$D$200,\"w\",$G$10:$G$200,\"U15\",$M$10:$M$200,\"\")","v":0},{"$f":"$AL$29-COUNTIFS($D$10:$D$200,\"w\",$G$10:$G$200,\"U15\",$O$10:$O$200,\"\")","v":0},{"$f":"$AL$29-COUNTIFS($D$10:$D$200,\"w\",$G$10:$G$200,\"U15\",$Q$10:$Q$200,\"\")","v":0},{"$f":"$AL$29-COUNTIFS($D$10:$D$200,\"w\",$G$10:$G$200,\"U15\",$S$10:$S$200,\"\")","v":0},{"$f":"$AL$29-COUNTIFS($D$10:$D$200,\"w\",$G$10:$G$200,\"U15\",$U$10:$U$200,\"\")","v":0},{"$f":"$AL$29-COUNTIFS($D$10:$D$200,\"w\",$G$10:$G$200,\"U15\",$W$10:$W$200,\"\")","v":0}]
[21,{"$f":"IF(Athletenliste!B30=\"\",\"\",Athletenliste!B30)","v":""},{"$f":"IF(Athletenliste!C30=\"\",\"\",Athletenliste!C30)","v":""},{"$f":"IF(Athletenliste!D30=\"\",\"\",Athletenliste!D30)","v":""},{"$f":"IF(Athletenliste!E30=\"\",\"\",Athletenliste!E30)","v":""},{"$f":"IF(Athletenliste!F30=\"\",\"\",Athletenliste!F30)","v":""},{"$f":"IF(Athletenliste!G30=\"\",\"\",Athletenliste!G30)","v":""},{"$f":"IF(Athletenliste!H30=\"\",\"\",Athletenliste!H30)","v":""},{"$f":"IF(Messen_Beweglichkeit!K30=\"\",\"\",Messen_Beweglichkeit!K30)","v":""},{"$f":"IF(Messen_Beweglichkeit!L30=\"\",\"\",Messen_Beweglichkeit!L30)","v":""},{"$f":"IF('Jump-and-Reach'!I30=\"\",\"\",'Jump-and-Reach'!I30)","v":""},{"$f":"IF('Jump-and-Reach'!J30=\"\",\"\",'Jump-and-Reach'!J30)","v":""},{"$f":"IF('30m Sprint'!I30=\"\",\"\",'30m Sprint'!I30)","v":""},{"$f":"IF('30m Sprint'!J30=\"\",\"\",'30m Sprint'!J30)","v":""},{"$f":"IF(KaBu!I30=\"\",\"\",KaBu!I30)","v":""},{"$f":"IF(KaBu!J30=\"\",\"\",KaBu!J30)","v":""},{"$f":"IF(Seilspringen!I30=\"\",\"\",Seilspringen!I30)","v":""},{"$f":"IF(Seilspringen!J30=\"\",\"\",Seilspringen!J30)","v":""},{"$f":"IF(Liegestütz!I30=\"\",\"\",Liegestütz!I30)","v":""},{"$f":"IF(Liegestütz!J30=\"\",\"\",Liegestütz!J30)","v":""},{"$f":"IF(Balance!I30=\"\",\"\",Balance!I30)","v":""},{"$f":"IF(Balance!J30=\"\",\"\",Balance!J30)","v":""},{"$f":"IF('1000m'!I30=\"\",\"\",'1000m'!I30)","v":""},{"$f":"IF('1000m'!J30=\"\",\"\",'1000m'!J30)","v":""},{"$f":"IF(B30=\"\",\"\",(IF(AND(Messen_Beweglichkeit!L30=\"\",AB30=\"OK\"),VLOOKUP(G30&D30,$AJ$10:$AT$31,4,FALSE)+1,IF(AND(Messen_Beweglichkeit!J30=\"\",AB30=\"kein Test\"),\"\",Messen_Beweglichkeit!L30))+IF(AND('Jump-and-Reach'!J30=\"\",AB30=\"OK\"),VLOOKUP(G30&D30,$AJ$10:$AT$31,5,FALSE)+1,IF(AND('Jump-and-Reach'!J30=\"\",AB30=\"kein Test\"),\"\",'Jump-and-Reach'!J30))+IF(AND('30m Sprint'!J30=\"\",AB30=\"OK\"),VLOOKUP(G30&D30,$AJ$10:$AT$31,6,FALSE)+1,IF(AND('30m Sprint'!J30=\"\",AB30=\"kein Test\"),\"\",'30m Sprint'!J30))+IF(AND(KaBu!J30=\"\",AB30=\"OK\"),VLOOKUP(G30&D30,$AJ$10:$AT$31,7,FALSE)+1,IF(AND(KaBu!J30=\"\",AB30=\"kein Test\"),\"\",KaBu!J30))+IF(AND(Seilspringen!J30=\"\",AB30=\"OK\"),VLOOKUP(G30&D30,$AJ$10:$AT$31,8,FALSE)+1,IF(AND(Seilspringen!J30=\"\",AB30=\"kein Test\"),\"\",Seilspringen!J30))+IF(AND(Liegestütz!J30=\"\",AB30=\"OK\"),VLOOKUP(G30&D30,$AJ$10:$AT$31,9,FALSE)+1,IF(AND(Liegestütz!J30=\"\",AB30=\"kein Test\"),\"\",Liegestütz!J30))+IF(AND(Balance!J30=\"\",AB30=\"OK\"),VLOOKUP(G30&D30,$AJ$10:$AT$31,10,FALSE)+1,IF(AND(Balance!J30=\"\",AB30=\"kein Test\"),\"\",Balance!J30))+IF(AND('1000m'!J30=\"\",AB30=\"OK\"),VLOOKUP(G30&D30,$AJ$10:$AT$31,11,FALSE)+1,IF(AND('1000m'!J30=\"\",AB30=\"kein Test\"),\"\",'1000m'!J30)))/8)","v":""},null,null,"kein Test",null,null,null,null,null,null,null,"U16m","m",{"$f":"COUNTIFS($D$10:$D$200,\"m\",$G$10:$G$200,\"U16\")","v":0},{"$f":"$AL$30-COUNTIFS($D$10:$D$200,\"m\",$G$10:$G$200,\"U16\",$I$10:$I$200,\"\")","v":0},{"$f":"$AL$30-COUNTIFS($D$10:$D$200,\"m\",$G$10:$G$200,\"U16\",$K$10:$K$200,\"\")","v":0},{"$f":"$AL$30-COUNTIFS($D$10:$D$200,\"m\",$G$10:$G$200,\"U16\",$M$10:$M$200,\"\")","v":0},{"$f":"$AL$30-COUNTIFS($D$10:$D$200,\"m\",$G$10:$G$200,\"U16\",$O$10:$O$200,\"\")","v":0},{"$f":"$AL$30-COUNTIFS($D$10:$D$200,\"m\",$G$10:$G$200,\"U16\",$Q$10:$Q$200,\"\")","v":0},{"$f":"$AL$30-COUNTIFS($D$10:$D$200,\"m\",$G$10:$G$200,\"U16\",$S$10:$S$200,\"\")","v":0},{"$f":"$AL$30-COUNTIFS($D$10:$D$200,\"m\",$G$10:$G$200,\"U16\",$U$10:$U$200,\"\")","v":0},{"$f":"$AL$30-COUNTIFS($D$10:$D$200,\"m\",$G$10:$G$200,\"U16\",$W$10:$W$200,\"\")","v":0}]
[22,{"$f":"IF(Athletenliste!B31=\"\",\"\",Athletenliste!B31)","v":""},{"$f":"IF(Athletenliste!C31=\"\",\"\",Athletenliste!C31)","v":""},{"$f":"IF(Athletenliste!D31=\"\",\"\",Athletenliste!D31)","v":""},{"$f":"IF(Athletenliste!E31=\"\",\"\",Athletenliste!E31)","v":""},{"$f":"IF(Athletenliste!F31=\"\",\"\",Athletenliste!F31)","v":""},{"$f":"IF(Athletenliste!G31=\"\",\"\",Athletenliste!G31)","v":""},{"$f":"IF(Athletenliste!H31=\"\",\"\",Athletenliste!H31)","v":""},{"$f":"IF(Messen_Beweglichkeit!K31=\"\",\"\",Messen_Beweglichkeit!K31)","v":""},{"$f":"IF(Messen_Beweglichkeit!L31=\"\",\"\",Messen_Beweglichkeit!L31)","v":""},{"$f":"IF('Jump-and-Reach'!I31=\"\",\"\",'Jump-and-Reach'!I31)","v":""},{"$f":"IF('Jump-and-Reach'!J31=\"\",\"\",'Jump-and-Reach'!J31)","v":""},{"$f":"IF('30m Sprint'!I31=\"\",\"\",'30m Sprint'!I31)","v":""},{"$f":"IF('30m Sprint'!J31=\"\",\"\",'30m Sprint'!J31)","v":""},{"$f":"IF(KaBu!I31=\"\",\"\",KaBu!I31)","v":""},{"$f":"IF(KaBu!J31=\"\",\"\",KaBu!J31)","v":""},{"$f":"IF(Seilspringen!I31=\"\",\"\",Seilspringen!I31)","v":""},{"$f":"IF(Seilspringen!J31=\"\",\"\",Seilspringen!J31)","v":""},{"$f":"IF(Liegestütz!I31=\"\",\"\",Liegestütz!I31)","v":""},{"$f":"IF(Liegestütz!J31=\"\",\"\",Liegestütz!J31)","v":""},{"$f":"IF(Balance!I31=\"\",\"\",Balance!I31)","v":""},{"$f":"IF(Balance!J31=\"\",\"\",Balance!J31)","v":""},{"$f":"IF('1000m'!I31=\"\",\"\",'1000m'!I31)","v":""},{"$f":"IF('1000m'!J31=\"\",\"\",'1000m'!J31)","v":""},{"$f":"IF(B31=\"\",\"\",(IF(AND(Messen_Beweglichkeit!L31=\"\",AB31=\"OK\"),VLOOKUP(G31&D31,$AJ$10:$AT$31,4,FALSE)+1,IF(AND(Messen_Beweglichkeit!J31=\"\",AB31=\"kein Test\"),\"\",Messen_Beweglichkeit!L31))+IF(AND('Jump-and-Reach'!J31=\"\",AB31=\"OK\"),VLOOKUP(G31&D31,$AJ$10:$AT$31,5,FALSE)+1,IF(AND('Jump-and-Reach'!J31=\"\",AB31=\"kein Test\"),\"\",'Jump-and-Reach'!J31))+IF(AND('30m Sprint'!J31=\"\",AB31=\"OK\"),VLOOKUP(G31&D31,$AJ$10:$AT$31,6,FALSE)+1,IF(AND('30m Sprint'!J31=\"\",AB31=\"kein Test\"),\"\",'30m Sprint'!J31))+IF(AND(KaBu!J31=\"\",AB31=\"OK\"),VLOOKUP(G31&D31,$AJ$10:$AT$31,7,FALSE)+1,IF(AND(KaBu!J31=\"\",AB31=\"kein Test\"),\"\",KaBu!J31))+IF(AND(Seilspringen!J31=\"\",AB31=\"OK\"),VLOOKUP(G31&D31,$AJ$10:$AT$31,8,FALSE)+1,IF(AND(Seilspringen!J31=\"\",AB31=\"kein Test\"),\"\",Seilspringen!J31))+IF(AND(Liegestütz!J31=\"\",AB31=\"OK\"),VLOOKUP(G31&D31,$AJ$10:$AT$31,9,FALSE)+1,IF(AND(Liegestütz!J31=\"\",AB31=\"kein Test\"),\"\",Liegestütz!J31))+IF(AND(Balance!J31=\"\",AB31=\"OK\"),VLOOKUP(G31&D31,$AJ$10:$AT$31,10,FALSE)+1,IF(AND(Balance!J31=\"\",AB31=\"kein Test\"),\"\",Balance!J31))+IF(AND('1000m'!J31=\"\",AB31=\"OK\"),VLOOKUP(G31&D31,$AJ$10:$AT$31,11,FALSE)+1,IF(AND('1000m'!J31=\"\",AB31=\"kein Test\"),\"\",'1000m'!J31)))/8)","v":""},null,null,"kein Test",null,null,null,null,null,null,null,"U16w","w",{"$f":"COUNTIFS($D$10:$D$200,\"w\",$G$10:$G$200,\"U16\")","v":0},{"$f":"$AL$31-COUNTIFS($D$10:$D$200,\"w\",$G$10:$G$200,\"U16\",$I$10:$I$200,\"\")","v":0},{"$f":"$AL$31-COUNTIFS($D$10:$D$200,\"w\",$G$10:$G$200,\"U16\",$K$10:$K$200,\"\")","v":0},{"$f":"$AL$31-COUNTIFS($D$10:$D$200,\"w\",$G$10:$G$200,\"U16\",$M$10:$M$200,\"\")","v":0},{"$f":"$AL$31-COUNTIFS($D$10:$D$200,\"w\",$G$10:$G$200,\"U16\",$O$10:$O$200,\"\")","v":0},{"$f":"$AL$31-COUNTIFS($D$10:$D$200,\"w\",$G$10:$G$200,\"U16\",$Q$10:$Q$200,\"\")","v":0},{"$f":"$AL$31-COUNTIFS($D$10:$D$200,\"w\",$G$10:$G$200,\"U16\",$S$10:$S$200,\"\")","v":0},{"$f":"$AL$31-COUNTIFS($D$10:$D$200,\"w\",$G$10:$G$200,\"U16\",$U$10:$U$200,\"\")","v":0},{"$f":"$AL$31-COUNTIFS($D$10:$D$200,\"w\",$G$10:$G$200,\"U16\",$W$10:$W$200,\"\")","v":0}]
[23,{"$f":"IF(Athletenliste!B32=\"\",\"\",Athletenliste!B32)","v":""},{"$f":"IF(Athletenliste!C32=\"\",\"\",Athletenliste!C32)","v":""},{"$f":"IF(Athletenliste!D32=\"\",\"\",Athletenliste!D32)","v":""},{"$f":"IF(Athletenliste!E32=\"\",\"\",Athletenliste!E32)","v":""},{"$f":"IF(Athletenliste!F32=\"\",\"\",Athletenliste!F32)","v":""},{"$f":"IF(Athletenliste!G32=\"\",\"\",Athletenliste!G32)","v":""},{"$f":"IF(Athletenliste!H32=\"\",\"\",Athletenliste!H32)","v":""},{"$f":"IF(Messen_Beweglichkeit!K32=\"\",\"\",Messen_Beweglichkeit!K32)","v":""},{"$f":"IF(Messen_Beweglichkeit!L32=\"\",\"\",Messen_Beweglichkeit!L32)","v":""},{"$f":"IF('Jump-and-Reach'!I32=\"\",\"\",'Jump-and-Reach'!I32)","v":""},{"$f":"IF('Jump-and-Reach'!J32=\"\",\"\",'Jump-and-Reach'!J32)","v":""},{"$f":"IF('30m Sprint'!I32=\"\",\"\",'30m Sprint'!I32)","v":""},{"$f":"IF('30m Sprint'!J32=\"\",\"\",'30m Sprint'!J32)","v":""},{"$f":"IF(KaBu!I32=\"\",\"\",KaBu!I32)","v":""},{"$f":"IF(KaBu!J32=\"\",\"\",KaBu!J32)","v":""},{"$f":"IF(Seilspringen!I32=\"\",\"\",Seilspringen!I32)","v":""},{"$f":"IF(Seilspringen!J32=\"\",\"\",Seilspringen!J32)","v":""},{"$f":"IF(Liegestütz!I32=\"\",\"\",Liegestütz!I32)","v":""},{"$f":"IF(Liegestütz!J32=\"\",\"\",Liegestütz!J32)","v":""},{"$f":"IF(Balance!I32=\"\",\"\",Balance!I32)","v":""},{"$f":"IF(Balance!J32=\"\",\"\",Balance!J32)","v":""},{"$f":"IF('1000m'!I32=\"\",\"\",'1000m'!I32)","v":""},{"$f":"IF('1000m'!J32=\"\",\"\",'1000m'!J32)","v":""},{"$f":"IF(B32=\"\",\"\",(IF(AND(Messen_Beweglichkeit!L32=\"\",AB32=\"OK\"),VLOOKUP(G32&D32,$AJ$10:$AT$31,4,FALSE)+1,IF(AND(Messen_Beweglichkeit!J32=\"\",AB32=\"kein Test\"),\"\",Messen_Beweglichkeit!L32))+IF(AND('Jump-and-Reach'!J32=\"\",AB32=\"OK\"),VLOOKUP(G32&D32,$AJ$10:$AT$31,5,FALSE)+1,IF(AND('Jump-and-Reach'!J32=\"\",AB32=\"kein Test\"),\"\",'Jump-and-Reach'!J32))+IF(AND('30m Sprint'!J32=\"\",AB32=\"OK\"),VLOOKUP(G32&D32,$AJ$10:$AT$31,6,FALSE)+1,IF(AND('30m Sprint'!J32=\"\",AB32=\"kein Test\"),\"\",'30m Sprint'!J32))+IF(AND(KaBu!J32=\"\",AB32=\"OK\"),VLOOKUP(G32&D32,$AJ$10:$AT$31,7,FALSE)+1,IF(AND(KaBu!J32=\"\",AB32=\"kein Test\"),\"\",KaBu!J32))+IF(AND(Seilspringen!J32=\"\",AB32=\"OK\"),VLOOKUP(G32&D32,$AJ$10:$AT$31,8,FALSE)+1,IF(AND(Seilspringen!J32=\"\",AB32=\"kein Test\"),\"\",Seilspringen!J32))+IF(AND(Liegestütz!J32=\"\",AB32=\"OK\"),VLOOKUP(G32&D32,$AJ$10:$AT$31,9,FALSE)+1,IF(AND(Liegestütz!J32=\"\",AB32=\"kein Test\"),\"\",Liegestütz!J32))+IF(AND(Balance!J32=\"\",AB32=\"OK\"),VLOOKUP(G32&D32,$AJ$10:$AT$31,10,FALSE)+1,IF(AND(Balance!J32=\"\",AB32=\"kein Test\"),\"\",Balance!J32))+IF(AND('1000m'!J32=\"\",AB32=\"OK\"),VLOOKUP(G32&D32,$AJ$10:$AT$31,11,FALSE)+1,IF(AND('1000m'!J32=\"\",AB32=\"kein Test\"),\"\",'1000m'!J32)))/8)","v":""},null,null,"kein Test"]
[24,{"$f":"IF(Athletenliste!B33=\"\",\"\",Athletenliste!B33)","v":""},{"$f":"IF(Athletenliste!C33=\"\",\"\",Athletenliste!C33)","v":""},{"$f":"IF(Athletenliste!D33=\"\",\"\",Athletenliste!D33)","v":""},{"$f":"IF(Athletenliste!E33=\"\",\"\",Athletenliste!E33)","v":""},{"$f":"IF(Athletenliste!F33=\"\",\"\",Athletenliste!F33)","v":""},{"$f":"IF(Athletenliste!G33=\"\",\"\",Athletenliste!G33)","v":""},{"$f":"IF(Athletenliste!H33=\"\",\"\",Athletenliste!H33)","v":""},{"$f":"IF(Messen_Beweglichkeit!K33=\"\",\"\",Messen_Beweglichkeit!K33)","v":""},{"$f":"IF(Messen_Beweglichkeit!L33=\"\",\"\",Messen_Beweglichkeit!L33)","v":""},{"$f":"IF('Jump-and-Reach'!I33=\"\",\"\",'Jump-and-Reach'!I33)","v":""},{"$f":"IF('Jump-and-Reach'!J33=\"\",\"\",'Jump-and-Reach'!J33)","v":""},{"$f":"IF('30m Sprint'!I33=\"\",\"\",'30m Sprint'!I33)","v":""},{"$f":"IF('30m Sprint'!J33=\"\",\"\",'30m Sprint'!J33)","v":""},{"$f":"IF(KaBu!I33=\"\",\"\",KaBu!I33)","v":""},{"$f":"IF(KaBu!J33=\"\",\"\",KaBu!J33)","v":""},{"$f":"IF(Seilspringen!I33=\"\",\"\",Seilspringen!I33)","v":""},{"$f":"IF(Seilspringen!J33=\"\",\"\",Seilspringen!J33)","v":""},{"$f":"IF(Liegestütz!I33=\"\",\"\",Liegestütz!I33)","v":""},{"$f":"IF(Liegestütz!J33=\"\",\"\",Liegestütz!J33)","v":""},{"$f":"IF(Balance!I33=\"\",\"\",Balance!I33)","v":""},{"$f":"IF(Balance!J33=\"\",\"\",Balance!J33)","v":""},{"$f":"IF('1000m'!I33=\"\",\"\",'1000m'!I33)","v":""},{"$f":"IF('1000m'!J33=\"\",\"\",'1000m'!J33)","v":""},{"$f":"IF(B33=\"\",\"\",(IF(AND(Messen_Beweglichkeit!L33=\"\",AB33=\"OK\"),VLOOKUP(G33&D33,$AJ$10:$AT$31,4,FALSE)+1,IF(AND(Messen_Beweglichkeit!J33=\"\",AB33=\"kein Test\"),\"\",Messen_Beweglichkeit!L33))+IF(AND('Jump-and-Reach'!J33=\"\",AB33=\"OK\"),VLOOKUP(G33&D33,$AJ$10:$AT$31,5,FALSE)+1,IF(AND('Jump-and-Reach'!J33=\"\",AB33=\"kein Test\"),\"\",'Jump-and-Reach'!J33))+IF(AND('30m Sprint'!J33=\"\",AB33=\"OK\"),VLOOKUP(G33&D33,$AJ$10:$AT$31,6,FALSE)+1,IF(AND('30m Sprint'!J33=\"\",AB33=\"kein Test\"),\"\",'30m Sprint'!J33))+IF(AND(KaBu!J33=\"\",AB33=\"OK\"),VLOOKUP(G33&D33,$AJ$10:$AT$31,7,FALSE)+1,IF(AND(KaBu!J33=\"\",AB33=\"kein Test\"),\"\",KaBu!J33))+IF(AND(Seilspringen!J33=\"\",AB33=\"OK\"),VLOOKUP(G33&D33,$AJ$10:$AT$31,8,FALSE)+1,IF(AND(Seilspringen!J33=\"\",AB33=\"kein Test\"),\"\",Seilspringen!J33))+IF(AND(Liegestütz!J33=\"\",AB33=\"OK\"),VLOOKUP(G33&D33,$AJ$10:$AT$31,9,FALSE)+1,IF(AND(Liegestütz!J33=\"\",AB33=\"kein Test\"),\"\",Liegestütz!J33))+IF(AND(Balance!J33=\"\",AB33=\"OK\"),VLOOKUP(G33&D33,$AJ$10:$AT$31,10,FALSE)+1,IF(AND(Balance!J33=\"\",AB33=\"kein Test\"),\"\",Balance!J33))+IF(AND('1000m'!J33=\"\",AB33=\"OK\"),VLOOKUP(G33&D33,$AJ$10:$AT$31,11,FALSE)+1,IF(AND('1000m'!J33=\"\",AB33=\"kein Test\"),\"\",'1000m'!J33)))/8)","v":""},null,null,"kein Test"]
[25,{"$f":"IF(Athletenliste!B34=\"\",\"\",Athletenliste!B34)","v":""},{"$f":"IF(Athletenliste!C34=\"\",\"\",Athletenliste!C34)","v":""},{"$f":"IF(Athletenliste!D34=\"\",\"\",Athletenliste!D34)","v":""},{"$f":"IF(Athletenliste!E34=\"\",\"\",Athletenliste!E34)","v":""},{"$f":"IF(Athletenliste!F34=\"\",\"\",Athletenliste!F34)","v":""},{"$f":"IF(Athletenliste!G34=\"\",\"\",Athletenliste!G34)","v":""},{"$f":"IF(Athletenliste!H34=\"\",\"\",Athletenliste!H34)","v":""},{"$f":"IF(Messen_Beweglichkeit!K34=\"\",\"\",Messen_Beweglichkeit!K34)","v":""},{"$f":"IF(Messen_Beweglichkeit!L34=\"\",\"\",Messen_Beweglichkeit!L34)","v":""},{"$f":"IF('Jump-and-Reach'!I34=\"\",\"\",'Jump-and-Reach'!I34)","v":""},{"$f":"IF('Jump-and-Reach'!J34=\"\",\"\",'Jump-and-Reach'!J34)","v":""},{"$f":"IF('30m Sprint'!I34=\"\",\"\",'30m Sprint'!I34)","v":""},{"$f":"IF('30m Sprint'!J34=\"\",\"\",'30m Sprint'!J34)","v":""},{"$f":"IF(KaBu!I34=\"\",\"\",KaBu!I34)","v":""},{"$f":"IF(KaBu!J34=\"\",\"\",KaBu!J34)","v":""},{"$f":"IF(Seilspringen!I34=\"\",\"\",Seilspringen!I34)","v":""},{"$f":"IF(Seilspringen!J34=\"\",\"\",Seilspringen!J34)","v":""},{"$f":"IF(Liegestütz!I34=\"\",\"\",Liegestütz!I34)","v":""},{"$f":"IF(Liegestütz!J34=\"\",\"\",Liegestütz!J34)","v":""},{"$f":"IF(Balance!I34=\"\",\"\",Balance!I34)","v":""},{"$f":"IF(Balance!J34=\"\",\"\",Balance!J34)","v":""},{"$f":"IF('1000m'!I34=\"\",\"\",'1000m'!I34)","v":""},{"$f":"IF('1000m'!J34=\"\",\"\",'1000m'!J34)","v":""},{"$f":"IF(B34=\"\",\"\",(IF(AND(Messen_Beweglichkeit!L34=\"\",AB34=\"OK\"),VLOOKUP(G34&D34,$AJ$10:$AT$31,4,FALSE)+1,IF(AND(Messen_Beweglichkeit!J34=\"\",AB34=\"kein Test\"),\"\",Messen_Beweglichkeit!L34))+IF(AND('Jump-and-Reach'!J34=\"\",AB34=\"OK\"),VLOOKUP(G34&D34,$AJ$10:$AT$31,5,FALSE)+1,IF(AND('Jump-and-Reach'!J34=\"\",AB34=\"kein Test\"),\"\",'Jump-and-Reach'!J34))+IF(AND('30m Sprint'!J34=\"\",AB34=\"OK\"),VLOOKUP(G34&D34,$AJ$10:$AT$31,6,FALSE)+1,IF(AND('30m Sprint'!J34=\"\",AB34=\"kein Test\"),\"\",'30m Sprint'!J34))+IF(AND(KaBu!J34=\"\",AB34=\"OK\"),VLOOKUP(G34&D34,$AJ$10:$AT$31,7,FALSE)+1,IF(AND(KaBu!J34=\"\",AB34=\"kein Test\"),\"\",KaBu!J34))+IF(AND(Seilspringen!J34=\"\",AB34=\"OK\"),VLOOKUP(G34&D34,$AJ$10:$AT$31,8,FALSE)+1,IF(AND(Seilspringen!J34=\"\",AB34=\"kein Test\"),\"\",Seilspringen!J34))+IF(AND(Liegestütz!J34=\"\",AB34=\"OK\"),VLOOKUP(G34&D34,$AJ$10:$AT$31,9,FALSE)+1,IF(AND(Liegestütz!J34=\"\",AB34=\"kein Test\"),\"\",Liegestütz!J34))+IF(AND(Balance!J34=\"\",AB34=\"OK\"),VLOOKUP(G34&D34,$AJ$10:$AT$31,10,FALSE)+1,IF(AND(Balance!J34=\"\",AB34=\"kein Test\"),\"\",Balance!J34))+IF(AND('1000m'!J34=\"\",AB34=\"OK\"),VLOOKUP(G34&D34,$AJ$10:$AT$31,11,FALSE)+1,IF(AND('1000m'!J34=\"\",AB34=\"kein Test\"),\"\",'1000m'!J34)))/8)","v":""},null,null,"kein Test"]
[26,{"$f":"IF(Athletenliste!B35=\"\",\"\",Athletenliste!B35)","v":""},{"$f":"IF(Athletenliste!C35=\"\",\"\",Athletenliste!C35)","v":""},{"$f":"IF(Athletenliste!D35=\"\",\"\",Athletenliste!D35)","v":""},{"$f":"IF(Athletenliste!E35=\"\",\"\",Athletenliste!E35)","v":""},{"$f":"IF(Athletenliste!F35=\"\",\"\",Athletenliste!F35)","v":""},{"$f":"IF(Athletenliste!G35=\"\",\"\",Athletenliste!G35)","v":""},{"$f":"IF(Athletenliste!H35=\"\",\"\",Athletenliste!H35)","v":""},{"$f":"IF(Messen_Beweglichkeit!K35=\"\",\"\",Messen_Beweglichkeit!K35)","v":""},{"$f":"IF(Messen_Beweglichkeit!L35=\"\",\"\",Messen_Beweglichkeit!L35)","v":""},{"$f":"IF('Jump-and-Reach'!I35=\"\",\"\",'Jump-and-Reach'!I35)","v":""},{"$f":"IF('Jump-and-Reach'!J35=\"\",\"\",'Jump-and-Reach'!J35)","v":""},{"$f":"IF('30m Sprint'!I35=\"\",\"\",'30m Sprint'!I35)","v":""},{"$f":"IF('30m Sprint'!J35=\"\",\"\",'30m Sprint'!J35)","v":""},{"$f":"IF(KaBu!I35=\"\",\"\",KaBu!I35)","v":""},{"$f":"IF(KaBu!J35=\"\",\"\",KaBu!J35)","v":""},{"$f":"IF(Seilspringen!I35=\"\",\"\",Seilspringen!I35)","v":""},{"$f":"IF(Seilspringen!J35=\"\",\"\",Seilspringen!J35)","v":""},{"$f":"IF(Liegestütz!I35=\"\",\"\",Liegestütz!I35)","v":""},{"$f":"IF(Liegestütz!J35=\"\",\"\",Liegestütz!J35)","v":""},{"$f":"IF(Balance!I35=\"\",\"\",Balance!I35)","v":""},{"$f":"IF(Balance!J35=\"\",\"\",Balance!J35)","v":""},{"$f":"IF('1000m'!I35=\"\",\"\",'1000m'!I35)","v":""},{"$f":"IF('1000m'!J35=\"\",\"\",'1000m'!J35)","v":""},{"$f":"IF(B35=\"\",\"\",(IF(AND(Messen_Beweglichkeit!L35=\"\",AB35=\"OK\"),VLOOKUP(G35&D35,$AJ$10:$AT$31,4,FALSE)+1,IF(AND(Messen_Beweglichkeit!J35=\"\",AB35=\"kein Test\"),\"\",Messen_Beweglichkeit!L35))+IF(AND('Jump-and-Reach'!J35=\"\",AB35=\"OK\"),VLOOKUP(G35&D35,$AJ$10:$AT$31,5,FALSE)+1,IF(AND('Jump-and-Reach'!J35=\"\",AB35=\"kein Test\"),\"\",'Jump-and-Reach'!J35))+IF(AND('30m Sprint'!J35=\"\",AB35=\"OK\"),VLOOKUP(G35&D35,$AJ$10:$AT$31,6,FALSE)+1,IF(AND('30m Sprint'!J35=\"\",AB35=\"kein Test\"),\"\",'30m Sprint'!J35))+IF(AND(KaBu!J35=\"\",AB35=\"OK\"),VLOOKUP(G35&D35,$AJ$10:$AT$31,7,FALSE)+1,IF(AND(KaBu!J35=\"\",AB35=\"kein Test\"),\"\",KaBu!J35))+IF(AND(Seilspringen!J35=\"\",AB35=\"OK\"),VLOOKUP(G35&D35,$AJ$10:$AT$31,8,FALSE)+1,IF(AND(Seilspringen!J35=\"\",AB35=\"kein Test\"),\"\",Seilspringen!J35))+IF(AND(Liegestütz!J35=\"\",AB35=\"OK\"),VLOOKUP(G35&D35,$AJ$10:$AT$31,9,FALSE)+1,IF(AND(Liegestütz!J35=\"\",AB35=\"kein Test\"),\"\",Liegestütz!J35))+IF(AND(Balance!J35=\"\",AB35=\"OK\"),VLOOKUP(G35&D35,$AJ$10:$AT$31,10,FALSE)+1,IF(AND(Balance!J35=\"\",AB35=\"kein Test\"),\"\",Balance!J35))+IF(AND('1000m'!J35=\"\",AB35=\"OK\"),VLOOKUP(G35&D35,$AJ$10:$AT$31,11,FALSE)+1,IF(AND('1000m'!J35=\"\",AB35=\"kein Test\"),\"\",'1000m'!J35)))/8)","v":""},null,null,"kein Test"]
[27,{"$f":"IF(Athletenliste!B36=\"\",\"\",Athletenliste!B36)","v":""},{"$f":"IF(Athletenliste!C36=\"\",\"\",Athletenliste!C36)","v":""},{"$f":"IF(Athletenliste!D36=\"\",\"\",Athletenliste!D36)","v":""},{"$f":"IF(Athletenliste!E36=\"\",\"\",Athletenliste!E36)","v":""},{"$f":"IF(Athletenliste!F36=\"\",\"\",Athletenliste!F36)","v":""},{"$f":"IF(Athletenliste!G36=\"\",\"\",Athletenliste!G36)","v":""},{"$f":"IF(Athletenliste!H36=\"\",\"\",Athletenliste!H36)","v":""},{"$f":"IF(Messen_Beweglichkeit!K36=\"\",\"\",Messen_Beweglichkeit!K36)","v":""},{"$f":"IF(Messen_Beweglichkeit!L36=\"\",\"\",Messen_Beweglichkeit!L36)","v":""},{"$f":"IF('Jump-and-Reach'!I36=\"\",\"\",'Jump-and-Reach'!I36)","v":""},{"$f":"IF('Jump-and-Reach'!J36=\"\",\"\",'Jump-and-Reach'!J36)","v":""},{"$f":"IF('30m Sprint'!I36=\"\",\"\",'30m Sprint'!I36)","v":""},{"$f":"IF('30m Sprint'!J36=\"\",\"\",'30m Sprint'!J36)","v":""},{"$f":"IF(KaBu!I36=\"\",\"\",KaBu!I36)","v":""},{"$f":"IF(KaBu!J36=\"\",\"\",KaBu!J36)","v":""},{"$f":"IF(Seilspringen!I36=\"\",\"\",Seilspringen!I36)","v":""},{"$f":"IF(Seilspringen!J36=\"\",\"\",Seilspringen!J36)","v":""},{"$f":"IF(Liegestütz!I36=\"\",\"\",Liegestütz!I36)","v":""},{"$f":"IF(Liegestütz!J36=\"\",\"\",Liegestütz!J36)","v":""},{"$f":"IF(Balance!I36=\"\",\"\",Balance!I36)","v":""},{"$f":"IF(Balance!J36=\"\",\"\",Balance!J36)","v":""},{"$f":"IF('1000m'!I36=\"\",\"\",'1000m'!I36)","v":""},{"$f":"IF('1000m'!J36=\"\",\"\",'1000m'!J36)","v":""},{"$f":"IF(B36=\"\",\"\",(IF(AND(Messen_Beweglichkeit!L36=\"\",AB36=\"OK\"),VLOOKUP(G36&D36,$AJ$10:$AT$31,4,FALSE)+1,IF(AND(Messen_Beweglichkeit!J36=\"\",AB36=\"kein Test\"),\"\",Messen_Beweglichkeit!L36))+IF(AND('Jump-and-Reach'!J36=\"\",AB36=\"OK\"),VLOOKUP(G36&D36,$AJ$10:$AT$31,5,FALSE)+1,IF(AND('Jump-and-Reach'!J36=\"\",AB36=\"kein Test\"),\"\",'Jump-and-Reach'!J36))+IF(AND('30m Sprint'!J36=\"\",AB36=\"OK\"),VLOOKUP(G36&D36,$AJ$10:$AT$31,6,FALSE)+1,IF(AND('30m Sprint'!J36=\"\",AB36=\"kein Test\"),\"\",'30m Sprint'!J36))+IF(AND(KaBu!J36=\"\",AB36=\"OK\"),VLOOKUP(G36&D36,$AJ$10:$AT$31,7,FALSE)+1,IF(AND(KaBu!J36=\"\",AB36=\"kein Test\"),\"\",KaBu!J36))+IF(AND(Seilspringen!J36=\"\",AB36=\"OK\"),VLOOKUP(G36&D36,$AJ$10:$AT$31,8,FALSE)+1,IF(AND(Seilspringen!J36=\"\",AB36=\"kein Test\"),\"\",Seilspringen!J36))+IF(AND(Liegestütz!J36=\"\",AB36=\"OK\"),VLOOKUP(G36&D36,$AJ$10:$AT$31,9,FALSE)+1,IF(AND(Liegestütz!J36=\"\",AB36=\"kein Test\"),\"\",Liegestütz!J36))+IF(AND(Balance!J36=\"\",AB36=\"OK\"),VLOOKUP(G36&D36,$AJ$10:$AT$31,10,FALSE)+1,IF(AND(Balance!J36=\"\",AB36=\"kein Test\"),\"\",Balance!J36))+IF(AND('1000m'!J36=\"\",AB36=\"OK\"),VLOOKUP(G36&D36,$AJ$10:$AT$31,11,FALSE)+1,IF(AND('1000m'!J36=\"\",AB36=\"kein Test\"),\"\",'1000m'!J36)))/8)","v":""},null,null,"kein Test"]
[28,{"$f":"IF(Athletenliste!B37=\"\",\"\",Athletenliste!B37)","v":""},{"$f":"IF(Athletenliste!C37=\"\",\"\",Athletenliste!C37)","v":""},{"$f":"IF(Athletenliste!D37=\"\",\"\",Athletenliste!D37)","v":""},{"$f":"IF(Athletenliste!E37=\"\",\"\",Athletenliste!E37)","v":""},{"$f":"IF(Athletenliste!F37=\"\",\"\",Athletenliste!F37)","v":""},{"$f":"IF(Athletenliste!G37=\"\",\"\",Athletenliste!G37)","v":""},{"$f":"IF(Athletenliste!H37=\"\",\"\",Athletenliste!H37)","v":""},{"$f":"IF(Messen_Beweglichkeit!K37=\"\",\"\",Messen_Beweglichkeit!K37)","v":""},{"$f":"IF(Messen_Beweglichkeit!L37=\"\",\"\",Messen_Beweglichkeit!L37)","v":""},{"$f":"IF('Jump-and-Reach'!I37=\"\",\"\",'Jump-and-Reach'!I37)","v":""},{"$f":"IF('Jump-and-Reach'!J37=\"\",\"\",'Jump-and-Reach'!J37)","v":""},{"$f":"IF('30m Sprint'!I37=\"\",\"\",'30m Sprint'!I37)","v":""},{"$f":"IF('30m Sprint'!J37=\"\",\"\",'30m Sprint'!J37)","v":""},{"$f":"IF(KaBu!I37=\"\",\"\",KaBu!I37)","v":""},{"$f":"IF(KaBu!J37=\"\",\"\",KaBu!J37)","v":""},{"$f":"IF(Seilspringen!I37=\"\",\"\",Seilspringen!I37)","v":""},{"$f":"IF(Seilspringen!J37=\"\",\"\",Seilspringen!J37)","v":""},{"$f":"IF(Liegestütz!I37=\"\",\"\",Liegestütz!I37)","v":""},{"$f":"IF(Liegestütz!J37=\"\",\"\",Liegestütz!J37)","v":""},{"$f":"IF(Balance!I37=\"\",\"\",Balance!I37)","v":""},{"$f":"IF(Balance!J37=\"\",\"\",Balance!J37)","v":""},{"$f":"IF('1000m'!I37=\"\",\"\",'1000m'!I37)","v":""},{"$f":"IF('1000m'!J37=\"\",\"\",'1000m'!J37)","v":""},{"$f":"IF(B37=\"\",\"\",(IF(AND(Messen_Beweglichkeit!L37=\"\",AB37=\"OK\"),VLOOKUP(G37&D37,$AJ$10:$AT$31,4,FALSE)+1,IF(AND(Messen_Beweglichkeit!J37=\"\",AB37=\"kein Test\"),\"\",Messen_Beweglichkeit!L37))+IF(AND('Jump-and-Reach'!J37=\"\",AB37=\"OK\"),VLOOKUP(G37&D37,$AJ$10:$AT$31,5,FALSE)+1,IF(AND('Jump-and-Reach'!J37=\"\",AB37=\"kein Test\"),\"\",'Jump-and-Reach'!J37))+IF(AND('30m Sprint'!J37=\"\",AB37=\"OK\"),VLOOKUP(G37&D37,$AJ$10:$AT$31,6,FALSE)+1,IF(AND('30m Sprint'!J37=\"\",AB37=\"kein Test\"),\"\",'30m Sprint'!J37))+IF(AND(KaBu!J37=\"\",AB37=\"OK\"),VLOOKUP(G37&D37,$AJ$10:$AT$31,7,FALSE)+1,IF(AND(KaBu!J37=\"\",AB37=\"kein Test\"),\"\",KaBu!J37))+IF(AND(Seilspringen!J37=\"\",AB37=\"OK\"),VLOOKUP(G37&D37,$AJ$10:$AT$31,8,FALSE)+1,IF(AND(Seilspringen!J37=\"\",AB37=\"kein Test\"),\"\",Seilspringen!J37))+IF(AND(Liegestütz!J37=\"\",AB37=\"OK\"),VLOOKUP(G37&D37,$AJ$10:$AT$31,9,FALSE)+1,IF(AND(Liegestütz!J37=\"\",AB37=\"kein Test\"),\"\",Liegestütz!J37))+IF(AND(Balance!J37=\"\",AB37=\"OK\"),VLOOKUP(G37&D37,$AJ$10:$AT$31,10,FALSE)+1,IF(AND(Balance!J37=\"\",AB37=\"kein Test\"),\"\",Balance!J37))+IF(AND('1000m'!J37=\"\",AB37=\"OK\"),VLOOKUP(G37&D37,$AJ$10:$AT$31,11,FALSE)+1,IF(AND('1000m'!J37=\"\",AB37=\"kein Test\"),\"\",'1000m'!J37)))/8)","v":""},null,null,"kein Test"]
[29,{"$f":"IF(Athletenliste!B38=\"\",\"\",Athletenliste!B38)","v":""},{"$f":"IF(Athletenliste!C38=\"\",\"\",Athletenliste!C38)","v":""},{"$f":"IF(Athletenliste!D38=\"\",\"\",Athletenliste!D38)","v":""},{"$f":"IF(Athletenliste!E38=\"\",\"\",Athletenliste!E38)","v":""},{"$f":"IF(Athletenliste!F38=\"\",\"\",Athletenliste!F38)","v":""},{"$f":"IF(Athletenliste!G38=\"\",\"\",Athletenliste!G38)","v":""},{"$f":"IF(Athletenliste!H38=\"\",\"\",Athletenliste!H38)","v":""},{"$f":"IF(Messen_Beweglichkeit!K38=\"\",\"\",Messen_Beweglichkeit!K38)","v":""},{"$f":"IF(Messen_Beweglichkeit!L38=\"\",\"\",Messen_Beweglichkeit!L38)","v":""},{"$f":"IF('Jump-and-Reach'!I38=\"\",\"\",'Jump-and-Reach'!I38)","v":""},{"$f":"IF('Jump-and-Reach'!J38=\"\",\"\",'Jump-and-Reach'!J38)","v":""},{"$f":"IF('30m Sprint'!I38=\"\",\"\",'30m Sprint'!I38)","v":""},{"$f":"IF('30m Sprint'!J38=\"\",\"\",'30m Sprint'!J38)","v":""},{"$f":"IF(KaBu!I38=\"\",\"\",KaBu!I38)","v":""},{"$f":"IF(KaBu!J38=\"\",\"\",KaBu!J38)","v":""},{"$f":"IF(Seilspringen!I38=\"\",\"\",Seilspringen!I38)","v":""},{"$f":"IF(Seilspringen!J38=\"\",\"\",Seilspringen!J38)","v":""},{"$f":"IF(Liegestütz!I38=\"\",\"\",Liegestütz!I38)","v":""},{"$f":"IF(Liegestütz!J38=\"\",\"\",Liegestütz!J38)","v":""},{"$f":"IF(Balance!I38=\"\",\"\",Balance!I38)","v":""},{"$f":"IF(Balance!J38=\"\",\"\",Balance!J38)","v":""},{"$f":"IF('1000m'!I38=\"\",\"\",'1000m'!I38)","v":""},{"$f":"IF('1000m'!J38=\"\",\"\",'1000m'!J38)","v":""},{"$f":"IF(B38=\"\",\"\",(IF(AND(Messen_Beweglichkeit!L38=\"\",AB38=\"OK\"),VLOOKUP(G38&D38,$AJ$10:$AT$31,4,FALSE)+1,IF(AND(Messen_Beweglichkeit!J38=\"\",AB38=\"kein Test\"),\"\",Messen_Beweglichkeit!L38))+IF(AND('Jump-and-Reach'!J38=\"\",AB38=\"OK\"),VLOOKUP(G38&D38,$AJ$10:$AT$31,5,FALSE)+1,IF(AND('Jump-and-Reach'!J38=\"\",AB38=\"kein Test\"),\"\",'Jump-and-Reach'!J38))+IF(AND('30m Sprint'!J38=\"\",AB38=\"OK\"),VLOOKUP(G38&D38,$AJ$10:$AT$31,6,FALSE)+1,IF(AND('30m Sprint'!J38=\"\",AB38=\"kein Test\"),\"\",'30m Sprint'!J38))+IF(AND(KaBu!J38=\"\",AB38=\"OK\"),VLOOKUP(G38&D38,$AJ$10:$AT$31,7,FALSE)+1,IF(AND(KaBu!J38=\"\",AB38=\"kein Test\"),\"\",KaBu!J38))+IF(AND(Seilspringen!J38=\"\",AB38=\"OK\"),VLOOKUP(G38&D38,$AJ$10:$AT$31,8,FALSE)+1,IF(AND(Seilspringen!J38=\"\",AB38=\"kein Test\"),\"\",Seilspringen!J38))+IF(AND(Liegestütz!J38=\"\",AB38=\"OK\"),VLOOKUP(G38&D38,$AJ$10:$AT$31,9,FALSE)+1,IF(AND(Liegestütz!J38=\"\",AB38=\"kein Test\"),\"\",Liegestütz!J38))+IF(AND(Balance!J38=\"\",AB38=\"OK\"),VLOOKUP(G38&D38,$AJ$10:$AT$31,10,FALSE)+1,IF(AND(Balance!J38=\"\",AB38=\"kein Test\"),\"\",Balance!J38))+IF(AND('1000m'!J38=\"\",AB38=\"OK\"),VLOOKUP(G38&D38,$AJ$10:$AT$31,11,FALSE)+1,IF(AND('1000m'!J38=\"\",AB38=\"kein Test\"),\"\",'1000m'!J38)))/8)","v":""},null,null,"kein Test"]
[30,{"$f":"IF(Athletenliste!B39=\"\",\"\",Athletenliste!B39)","v":""},{"$f":"IF(Athletenliste!C39=\"\",\"\",Athletenliste!C39)","v":""},{"$f":"IF(Athletenliste!D39=\"\",\"\",Athletenliste!D39)","v":""},{"$f":"IF(Athletenliste!E39=\"\",\"\",Athletenliste!E39)","v":""},{"$f":"IF(Athletenliste!F39=\"\",\"\",Athletenliste!F39)","v":""},{"$f":"IF(Athletenliste!G39=\"\",\"\",Athletenliste!G39)","v":""},{"$f":"IF(Athletenliste!H39=\"\",\"\",Athletenliste!H39)","v":""},{"$f":"IF(Messen_Beweglichkeit!K39=\"\",\"\",Messen_Beweglichkeit!K39)","v":""},{"$f":"IF(Messen_Beweglichkeit!L39=\"\",\"\",Messen_Beweglichkeit!L39)","v":""},{"$f":"IF('Jump-and-Reach'!I39=\"\",\"\",'Jump-and-Reach'!I39)","v":""},{"$f":"IF('Jump-and-Reach'!J39=\"\",\"\",'Jump-and-Reach'!J39)","v":""},{"$f":"IF('30m Sprint'!I39=\"\",\"\",'30m Sprint'!I39)","v":""},{"$f":"IF('30m Sprint'!J39=\"\",\"\",'30m Sprint'!J39)","v":""},{"$f":"IF(KaBu!I39=\"\",\"\",KaBu!I39)","v":""},{"$f":"IF(KaBu!J39=\"\",\"\",KaBu!J39)","v":""},{"$f":"IF(Seilspringen!I39=\"\",\"\",Seilspringen!I39)","v":""},{"$f":"IF(Seilspringen!J39=\"\",\"\",Seilspringen!J39)","v":""},{"$f":"IF(Liegestütz!I39=\"\",\"\",Liegestütz!I39)","v":""},{"$f":"IF(Liegestütz!J39=\"\",\"\",Liegestütz!J39)","v":""},{"$f":"IF(Balance!I39=\"\",\"\",Balance!I39)","v":""},{"$f":"IF(Balance!J39=\"\",\"\",Balance!J39)","v":""},{"$f":"IF('1000m'!I39=\"\",\"\",'1000m'!I39)","v":""},{"$f":"IF('1000m'!J39=\"\",\"\",'1000m'!J39)","v":""},{"$f":"IF(B39=\"\",\"\",(IF(AND(Messen_Beweglichkeit!L39=\"\",AB39=\"OK\"),VLOOKUP(G39&D39,$AJ$10:$AT$31,4,FALSE)+1,IF(AND(Messen_Beweglichkeit!J39=\"\",AB39=\"kein Test\"),\"\",Messen_Beweglichkeit!L39))+IF(AND('Jump-and-Reach'!J39=\"\",AB39=\"OK\"),VLOOKUP(G39&D39,$AJ$10:$AT$31,5,FALSE)+1,IF(AND('Jump-and-Reach'!J39=\"\",AB39=\"kein Test\"),\"\",'Jump-and-Reach'!J39))+IF(AND('30m Sprint'!J39=\"\",AB39=\"OK\"),VLOOKUP(G39&D39,$AJ$10:$AT$31,6,FALSE)+1,IF(AND('30m Sprint'!J39=\"\",AB39=\"kein Test\"),\"\",'30m Sprint'!J39))+IF(AND(KaBu!J39=\"\",AB39=\"OK\"),VLOOKUP(G39&D39,$AJ$10:$AT$31,7,FALSE)+1,IF(AND(KaBu!J39=\"\",AB39=\"kein Test\"),\"\",KaBu!J39))+IF(AND(Seilspringen!J39=\"\",AB39=\"OK\"),VLOOKUP(G39&D39,$AJ$10:$AT$31,8,FALSE)+1,IF(AND(Seilspringen!J39=\"\",AB39=\"kein Test\"),\"\",Seilspringen!J39))+IF(AND(Liegestütz!J39=\"\",AB39=\"OK\"),VLOOKUP(G39&D39,$AJ$10:$AT$31,9,FALSE)+1,IF(AND(Liegestütz!J39=\"\",AB39=\"kein Test\"),\"\",Liegestütz!J39))+IF(AND(Balance!J39=\"\",AB39=\"OK\"),VLOOKUP(G39&D39,$AJ$10:$AT$31,10,FALSE)+1,IF(AND(Balance!J39=\"\",AB39=\"kein Test\"),\"\",Balance!J39))+IF(AND('1000m'!J39=\"\",AB39=\"OK\"),VLOOKUP(G39&D39,$AJ$10:$AT$31,11,FALSE)+1,IF(AND('1000m'!J39=\"\",AB39=\"kein Test\"),\"\",'1000m'!J39)))/8)","v":""},null,null,"kein Test"]
[31,{"$f":"IF(Athletenliste!B40=\"\",\"\",Athletenliste!B40)","v":""},{"$f":"IF(Athletenliste!C40=\"\",\"\",Athletenliste!C40)","v":""},{"$f":"IF(Athletenliste!D40=\"\",\"\",Athletenliste!D40)","v":""},{"$f":"IF(Athletenliste!E40=\"\",\"\",Athletenliste!E40)","v":""},{"$f":"IF(Athletenliste!F40=\"\",\"\",Athletenliste!F40)","v":""},{"$f":"IF(Athletenliste!G40=\"\",\"\",Athletenliste!G40)","v":""},{"$f":"IF(Athletenliste!H40=\"\",\"\",Athletenliste!H40)","v":""},{"$f":"IF(Messen_Beweglichkeit!K40=\"\",\"\",Messen_Beweglichkeit!K40)","v":""},{"$f":"IF(Messen_Beweglichkeit!L40=\"\",\"\",Messen_Beweglichkeit!L40)","v":""},{"$f":"IF('Jump-and-Reach'!I40=\"\",\"\",'Jump-and-Reach'!I40)","v":""},{"$f":"IF('Jump-and-Reach'!J40=\"\",\"\",'Jump-and-Reach'!J40)","v":""},{"$f":"IF('30m Sprint'!I40=\"\",\"\",'30m Sprint'!I40)","v":""},{"$f":"IF('30m Sprint'!J40=\"\",\"\",'30m Sprint'!J40)","v":""},{"$f":"IF(KaBu!I40=\"\",\"\",KaBu!I40)","v":""},{"$f":"IF(KaBu!J40=\"\",\"\",KaBu!J40)","v":""},{"$f":"IF(Seilspringen!I40=\"\",\"\",Seilspringen!I40)","v":""},{"$f":"IF(Seilspringen!J40=\"\",\"\",Seilspringen!J40)","v":""},{"$f":"IF(Liegestütz!I40=\"\",\"\",Liegestütz!I40)","v":""},{"$f":"IF(Liegestütz!J40=\"\",\"\",Liegestütz!J40)","v":""},{"$f":"IF(Balance!I40=\"\",\"\",Balance!I40)","v":""},{"$f":"IF(Balance!J40=\"\",\"\",Balance!J40)","v":""},{"$f":"IF('1000m'!I40=\"\",\"\",'1000m'!I40)","v":""},{"$f":"IF('1000m'!J40=\"\",\"\",'1000m'!J40)","v":""},{"$f":"IF(B40=\"\",\"\",(IF(AND(Messen_Beweglichkeit!L40=\"\",AB40=\"OK\"),VLOOKUP(G40&D40,$AJ$10:$AT$31,4,FALSE)+1,IF(AND(Messen_Beweglichkeit!J40=\"\",AB40=\"kein Test\"),\"\",Messen_Beweglichkeit!L40))+IF(AND('Jump-and-Reach'!J40=\"\",AB40=\"OK\"),VLOOKUP(G40&D40,$AJ$10:$AT$31,5,FALSE)+1,IF(AND('Jump-and-Reach'!J40=\"\",AB40=\"kein Test\"),\"\",'Jump-and-Reach'!J40))+IF(AND('30m Sprint'!J40=\"\",AB40=\"OK\"),VLOOKUP(G40&D40,$AJ$10:$AT$31,6,FALSE)+1,IF(AND('30m Sprint'!J40=\"\",AB40=\"kein Test\"),\"\",'30m Sprint'!J40))+IF(AND(KaBu!J40=\"\",AB40=\"OK\"),VLOOKUP(G40&D40,$AJ$10:$AT$31,7,FALSE)+1,IF(AND(KaBu!J40=\"\",AB40=\"kein Test\"),\"\",KaBu!J40))+IF(AND(Seilspringen!J40=\"\",AB40=\"OK\"),VLOOKUP(G40&D40,$AJ$10:$AT$31,8,FALSE)+1,IF(AND(Seilspringen!J40=\"\",AB40=\"kein Test\"),\"\",Seilspringen!J40))+IF(AND(Liegestütz!J40=\"\",AB40=\"OK\"),VLOOKUP(G40&D40,$AJ$10:$AT$31,9,FALSE)+1,IF(AND(Liegestütz!J40=\"\",AB40=\"kein Test\"),\"\",Liegestütz!J40))+IF(AND(Balance!J40=\"\",AB40=\"OK\"),VLOOKUP(G40&D40,$AJ$10:$AT$31,10,FALSE)+1,IF(AND(Balance!J40=\"\",AB40=\"kein Test\"),\"\",Balance!J40))+IF(AND('1000m'!J40=\"\",AB40=\"OK\"),VLOOKUP(G40&D40,$AJ$10:$AT$31,11,FALSE)+1,IF(AND('1000m'!J40=\"\",AB40=\"kein Test\"),\"\",'1000m'!J40)))/8)","v":""},null,null,"kein Test"]
[32,{"$f":"IF(Athletenliste!B41=\"\",\"\",Athletenliste!B41)","v":""},{"$f":"IF(Athletenliste!C41=\"\",\"\",Athletenliste!C41)","v":""},{"$f":"IF(Athletenliste!D41=\"\",\"\",Athletenliste!D41)","v":""},{"$f":"IF(Athletenliste!E41=\"\",\"\",Athletenliste!E41)","v":""},{"$f":"IF(Athletenliste!F41=\"\",\"\",Athletenliste!F41)","v":""},{"$f":"IF(Athletenliste!G41=\"\",\"\",Athletenliste!G41)","v":""},{"$f":"IF(Athletenliste!H41=\"\",\"\",Athletenliste!H41)","v":""},{"$f":"IF(Messen_Beweglichkeit!K41=\"\",\"\",Messen_Beweglichkeit!K41)","v":""},{"$f":"IF(Messen_Beweglichkeit!L41=\"\",\"\",Messen_Beweglichkeit!L41)","v":""},{"$f":"IF('Jump-and-Reach'!I41=\"\",\"\",'Jump-and-Reach'!I41)","v":""},{"$f":"IF('Jump-and-Reach'!J41=\"\",\"\",'Jump-and-Reach'!J41)","v":""},{"$f":"IF('30m Sprint'!I41=\"\",\"\",'30m Sprint'!I41)","v":""},{"$f":"IF('30m Sprint'!J41=\"\",\"\",'30m Sprint'!J41)","v":""},{"$f":"IF(KaBu!I41=\"\",\"\",KaBu!I41)","v":""},{"$f":"IF(KaBu!J41=\"\",\"\",KaBu!J41)","v":""},{"$f":"IF(Seilspringen!I41=\"\",\"\",Seilspringen!I41)","v":""},{"$f":"IF(Seilspringen!J41=\"\",\"\",Seilspringen!J41)","v":""},{"$f":"IF(Liegestütz!I41=\"\",\"\",Liegestütz!I41)","v":""},{"$f":"IF(Liegestütz!J41=\"\",\"\",Liegestütz!J41)","v":""},{"$f":"IF(Balance!I41=\"\",\"\",Balance!I41)","v":""},{"$f":"IF(Balance!J41=\"\",\"\",Balance!J41)","v":""},{"$f":"IF('1000m'!I41=\"\",\"\",'1000m'!I41)","v":""},{"$f":"IF('1000m'!J41=\"\",\"\",'1000m'!J41)","v":""},{"$f":"IF(B41=\"\",\"\",(IF(AND(Messen_Beweglichkeit!L41=\"\",AB41=\"OK\"),VLOOKUP(G41&D41,$AJ$10:$AT$31,4,FALSE)+1,IF(AND(Messen_Beweglichkeit!J41=\"\",AB41=\"kein Test\"),\"\",Messen_Beweglichkeit!L41))+IF(AND('Jump-and-Reach'!J41=\"\",AB41=\"OK\"),VLOOKUP(G41&D41,$AJ$10:$AT$31,5,FALSE)+1,IF(AND('Jump-and-Reach'!J41=\"\",AB41=\"kein Test\"),\"\",'Jump-and-Reach'!J41))+IF(AND('30m Sprint'!J41=\"\",AB41=\"OK\"),VLOOKUP(G41&D41,$AJ$10:$AT$31,6,FALSE)+1,IF(AND('30m Sprint'!J41=\"\",AB41=\"kein Test\"),\"\",'30m Sprint'!J41))+IF(AND(KaBu!J41=\"\",AB41=\"OK\"),VLOOKUP(G41&D41,$AJ$10:$AT$31,7,FALSE)+1,IF(AND(KaBu!J41=\"\",AB41=\"kein Test\"),\"\",KaBu!J41))+IF(AND(Seilspringen!J41=\"\",AB41=\"OK\"),VLOOKUP(G41&D41,$AJ$10:$AT$31,8,FALSE)+1,IF(AND(Seilspringen!J41=\"\",AB41=\"kein Test\"),\"\",Seilspringen!J41))+IF(AND(Liegestütz!J41=\"\",AB41=\"OK\"),VLOOKUP(G41&D41,$AJ$10:$AT$31,9,FALSE)+1,IF(AND(Liegestütz!J41=\"\",AB41=\"kein Test\"),\"\",Liegestütz!J41))+IF(AND(Balance!J41=\"\",AB41=\"OK\"),VLOOKUP(G41&D41,$AJ$10:$AT$31,10,FALSE)+1,IF(AND(Balance!J41=\"\",AB41=\"kein Test\"),\"\",Balance!J41))+IF(AND('1000m'!J41=\"\",AB41=\"OK\"),VLOOKUP(G41&D41,$AJ$10:$AT$31,11,FALSE)+1,IF(AND('1000m'!J41=\"\",AB41=\"kein Test\"),\"\",'1000m'!J41)))/8)","v":""},null,null,"kein Test"]
[33,{"$f":"IF(Athletenliste!B42=\"\",\"\",Athletenliste!B42)","v":""},{"$f":"IF(Athletenliste!C42=\"\",\"\",Athletenliste!C42)","v":""},{"$f":"IF(Athletenliste!D42=\"\",\"\",Athletenliste!D42)","v":""},{"$f":"IF(Athletenliste!E42=\"\",\"\",Athletenliste!E42)","v":""},{"$f":"IF(Athletenliste!F42=\"\",\"\",Athletenliste!F42)","v":""},{"$f":"IF(Athletenliste!G42=\"\",\"\",Athletenliste!G42)","v":""},{"$f":"IF(Athletenliste!H42=\"\",\"\",Athletenliste!H42)","v":""},{"$f":"IF(Messen_Beweglichkeit!K42=\"\",\"\",Messen_Beweglichkeit!K42)","v":""},{"$f":"IF(Messen_Beweglichkeit!L42=\"\",\"\",Messen_Beweglichkeit!L42)","v":""},{"$f":"IF('Jump-and-Reach'!I42=\"\",\"\",'Jump-and-Reach'!I42)","v":""},{"$f":"IF('Jump-and-Reach'!J42=\"\",\"\",'Jump-and-Reach'!J42)","v":""},{"$f":"IF('30m Sprint'!I42=\"\",\"\",'30m Sprint'!I42)","v":""},{"$f":"IF('30m Sprint'!J42=\"\",\"\",'30m Sprint'!J42)","v":""},{"$f":"IF(KaBu!I42=\"\",\"\",KaBu!I42)","v":""},{"$f":"IF(KaBu!J42=\"\",\"\",KaBu!J42)","v":""},{"$f":"IF(Seilspringen!I42=\"\",\"\",Seilspringen!I42)","v":""},{"$f":"IF(Seilspringen!J42=\"\",\"\",Seilspringen!J42)","v":""},{"$f":"IF(Liegestütz!I42=\"\",\"\",Liegestütz!I42)","v":""},{"$f":"IF(Liegestütz!J42=\"\",\"\",Liegestütz!J42)","v":""},{"$f":"IF(Balance!I42=\"\",\"\",Balance!I42)","v":""},{"$f":"IF(Balance!J42=\"\",\"\",Balance!J42)","v":""},{"$f":"IF('1000m'!I42=\"\",\"\",'1000m'!I42)","v":""},{"$f":"IF('1000m'!J42=\"\",\"\",'1000m'!J42)","v":""},{"$f":"IF(B42=\"\",\"\",(IF(AND(Messen_Beweglichkeit!L42=\"\",AB42=\"OK\"),VLOOKUP(G42&D42,$AJ$10:$AT$31,4,FALSE)+1,IF(AND(Messen_Beweglichkeit!J42=\"\",AB42=\"kein Test\"),\"\",Messen_Beweglichkeit!L42))+IF(AND('Jump-and-Reach'!J42=\"\",AB42=\"OK\"),VLOOKUP(G42&D42,$AJ$10:$AT$31,5,FALSE)+1,IF(AND('Jump-and-Reach'!J42=\"\",AB42=\"kein Test\"),\"\",'Jump-and-Reach'!J42))+IF(AND('30m Sprint'!J42=\"\",AB42=\"OK\"),VLOOKUP(G42&D42,$AJ$10:$AT$31,6,FALSE)+1,IF(AND('30m Sprint'!J42=\"\",AB42=\"kein Test\"),\"\",'30m Sprint'!J42))+IF(AND(KaBu!J42=\"\",AB42=\"OK\"),VLOOKUP(G42&D42,$AJ$10:$AT$31,7,FALSE)+1,IF(AND(KaBu!J42=\"\",AB42=\"kein Test\"),\"\",KaBu!J42))+IF(AND(Seilspringen!J42=\"\",AB42=\"OK\"),VLOOKUP(G42&D42,$AJ$10:$AT$31,8,FALSE)+1,IF(AND(Seilspringen!J42=\"\",AB42=\"kein Test\"),\"\",Seilspringen!J42))+IF(AND(Liegestütz!J42=\"\",AB42=\"OK\"),VLOOKUP(G42&D42,$AJ$10:$AT$31,9,FALSE)+1,IF(AND(Liegestütz!J42=\"\",AB42=\"kein Test\"),\"\",Liegestütz!J42))+IF(AND(Balance!J42=\"\",AB42=\"OK\"),VLOOKUP(G42&D42,$AJ$10:$AT$31,10,FALSE)+1,IF(AND(Balance!J42=\"\",AB42=\"kein Test\"),\"\",Balance!J42))+IF(AND('1000m'!J42=\"\",AB42=\"OK\"),VLOOKUP(G42&D42,$AJ$10:$AT$31,11,FALSE)+1,IF(AND('1000m'!J42=\"\",AB42=\"kein Test\"),\"\",'1000m'!J42)))/8)","v":""},null,null,{"$f":"IF(AND(I42=\"\",K42=\"\",M42=\"\",O42=\"\",Q42=\"\",S42=\"\",U42=\"\",W42=\"\"),\"kein Test\",\"OK\")","v":"kein Test"}]
[34,{"$f":"IF(Athletenliste!B43=\"\",\"\",Athletenliste!B43)","v":""},{"$f":"IF(Athletenliste!C43=\"\",\"\",Athletenliste!C43)","v":""},{"$f":"IF(Athletenliste!D43=\"\",\"\",Athletenliste!D43)","v":""},{"$f":"IF(Athletenliste!E43=\"\",\"\",Athletenliste!E43)","v":""},{"$f":"IF(Athletenliste!F43=\"\",\"\",Athletenliste!F43)","v":""},{"$f":"IF(Athletenliste!G43=\"\",\"\",Athletenliste!G43)","v":""},{"$f":"IF(Athletenliste!H43=\"\",\"\",Athletenliste!H43)","v":""},{"$f":"IF(Messen_Beweglichkeit!K43=\"\",\"\",Messen_Beweglichkeit!K43)","v":""},{"$f":"IF(Messen_Beweglichkeit!L43=\"\",\"\",Messen_Beweglichkeit!L43)","v":""},{"$f":"IF('Jump-and-Reach'!I43=\"\",\"\",'Jump-and-Reach'!I43)","v":""},{"$f":"IF('Jump-and-Reach'!J43=\"\",\"\",'Jump-and-Reach'!J43)","v":""},{"$f":"IF('30m Sprint'!I43=\"\",\"\",'30m Sprint'!I43)","v":""},{"$f":"IF('30m Sprint'!J43=\"\",\"\",'30m Sprint'!J43)","v":""},{"$f":"IF(KaBu!I43=\"\",\"\",KaBu!I43)","v":""},{"$f":"IF(KaBu!J43=\"\",\"\",KaBu!J43)","v":""},{"$f":"IF(Seilspringen!I43=\"\",\"\",Seilspringen!I43)","v":""},{"$f":"IF(Seilspringen!J43=\"\",\"\",Seilspringen!J43)","v":""},{"$f":"IF(Liegestütz!I43=\"\",\"\",Liegestütz!I43)","v":""},{"$f":"IF(Liegestütz!J43=\"\",\"\",Liegestütz!J43)","v":""},{"$f":"IF(Balance!I43=\"\",\"\",Balance!I43)","v":""},{"$f":"IF(Balance!J43=\"\",\"\",Balance!J43)","v":""},{"$f":"IF('1000m'!I43=\"\",\"\",'1000m'!I43)","v":""},{"$f":"IF('1000m'!J43=\"\",\"\",'1000m'!J43)","v":""},{"$f":"IF(B43=\"\",\"\",(IF(AND(Messen_Beweglichkeit!L43=\"\",AB43=\"OK\"),VLOOKUP(G43&D43,$AJ$10:$AT$31,4,FALSE)+1,IF(AND(Messen_Beweglichkeit!J43=\"\",AB43=\"kein Test\"),\"\",Messen_Beweglichkeit!L43))+IF(AND('Jump-and-Reach'!J43=\"\",AB43=\"OK\"),VLOOKUP(G43&D43,$AJ$10:$AT$31,5,FALSE)+1,IF(AND('Jump-and-Reach'!J43=\"\",AB43=\"kein Test\"),\"\",'Jump-and-Reach'!J43))+IF(AND('30m Sprint'!J43=\"\",AB43=\"OK\"),VLOOKUP(G43&D43,$AJ$10:$AT$31,6,FALSE)+1,IF(AND('30m Sprint'!J43=\"\",AB43=\"kein Test\"),\"\",'30m Sprint'!J43))+IF(AND(KaBu!J43=\"\",AB43=\"OK\"),VLOOKUP(G43&D43,$AJ$10:$AT$31,7,FALSE)+1,IF(AND(KaBu!J43=\"\",AB43=\"kein Test\"),\"\",KaBu!J43))+IF(AND(Seilspringen!J43=\"\",AB43=\"OK\"),VLOOKUP(G43&D43,$AJ$10:$AT$31,8,FALSE)+1,IF(AND(Seilspringen!J43=\"\",AB43=\"kein Test\"),\"\",Seilspringen!J43))+IF(AND(Liegestütz!J43=\"\",AB43=\"OK\"),VLOOKUP(G43&D43,$AJ$10:$AT$31,9,FALSE)+1,IF(AND(Liegestütz!J43=\"\",AB43=\"kein Test\"),\"\",Liegestütz!J43))+IF(AND(Balance!J43=\"\",AB43=\"OK\"),VLOOKUP(G43&D43,$AJ$10:$AT$31,10,FALSE)+1,IF(AND(Balance!J43=\"\",AB43=\"kein Test\"),\"\",Balance!J43))+IF(AND('1000m'!J43=\"\",AB43=\"OK\"),VLOOKUP(G43&D43,$AJ$10:$AT$31,11,FALSE)+1,IF(AND('1000m'!J43=\"\",AB43=\"kein Test\"),\"\",'1000m'!J43)))/8)","v":""},null,null,"kein Test"]
[35,{"$f":"IF(Athletenliste!B44=\"\",\"\",Athletenliste!B44)","v":""},{"$f":"IF(Athletenliste!C44=\"\",\"\",Athletenliste!C44)","v":""},{"$f":"IF(Athletenliste!D44=\"\",\"\",Athletenliste!D44)","v":""},{"$f":"IF(Athletenliste!E44=\"\",\"\",Athletenliste!E44)","v":""},{"$f":"IF(Athletenliste!F44=\"\",\"\",Athletenliste!F44)","v":""},{"$f":"IF(Athletenliste!G44=\"\",\"\",Athletenliste!G44)","v":""},{"$f":"IF(Athletenliste!H44=\"\",\"\",Athletenliste!H44)","v":""},{"$f":"IF(Messen_Beweglichkeit!K44=\"\",\"\",Messen_Beweglichkeit!K44)","v":""},{"$f":"IF(Messen_Beweglichkeit!L44=\"\",\"\",Messen_Beweglichkeit!L44)","v":""},{"$f":"IF('Jump-and-Reach'!I44=\"\",\"\",'Jump-and-Reach'!I44)","v":""},{"$f":"IF('Jump-and-Reach'!J44=\"\",\"\",'Jump-and-Reach'!J44)","v":""},{"$f":"IF('30m Sprint'!I44=\"\",\"\",'30m Sprint'!I44)","v":""},{"$f":"IF('30m Sprint'!J44=\"\",\"\",'30m Sprint'!J44)","v":""},{"$f":"IF(KaBu!I44=\"\",\"\",KaBu!I44)","v":""},{"$f":"IF(KaBu!J44=\"\",\"\",KaBu!J44)","v":""},{"$f":"IF(Seilspringen!I44=\"\",\"\",Seilspringen!I44)","v":""},{"$f":"IF(Seilspringen!J44=\"\",\"\",Seilspringen!J44)","v":""},{"$f":"IF(Liegestütz!I44=\"\",\"\",Liegestütz!I44)","v":""},{"$f":"IF(Liegestütz!J44=\"\",\"\",Liegestütz!J44)","v":""},{"$f":"IF(Balance!I44=\"\",\"\",Balance!I44)","v":""},{"$f":"IF(Balance!J44=\"\",\"\",Balance!J44)","v":""},{"$f":"IF('1000m'!I44=\"\",\"\",'1000m'!I44)","v":""},{"$f":"IF('1000m'!J44=\"\",\"\",'1000m'!J44)","v":""},{"$f":"IF(B44=\"\",\"\",(IF(AND(Messen_Beweglichkeit!L44=\"\",AB44=\"OK\"),VLOOKUP(G44&D44,$AJ$10:$AT$31,4,FALSE)+1,IF(AND(Messen_Beweglichkeit!J44=\"\",AB44=\"kein Test\"),\"\",Messen_Beweglichkeit!L44))+IF(AND('Jump-and-Reach'!J44=\"\",AB44=\"OK\"),VLOOKUP(G44&D44,$AJ$10:$AT$31,5,FALSE)+1,IF(AND('Jump-and-Reach'!J44=\"\",AB44=\"kein Test\"),\"\",'Jump-and-Reach'!J44))+IF(AND('30m Sprint'!J44=\"\",AB44=\"OK\"),VLOOKUP(G44&D44,$AJ$10:$AT$31,6,FALSE)+1,IF(AND('30m Sprint'!J44=\"\",AB44=\"kein Test\"),\"\",'30m Sprint'!J44))+IF(AND(KaBu!J44=\"\",AB44=\"OK\"),VLOOKUP(G44&D44,$AJ$10:$AT$31,7,FALSE)+1,IF(AND(KaBu!J44=\"\",AB44=\"kein Test\"),\"\",KaBu!J44))+IF(AND(Seilspringen!J44=\"\",AB44=\"OK\"),VLOOKUP(G44&D44,$AJ$10:$AT$31,8,FALSE)+1,IF(AND(Seilspringen!J44=\"\",AB44=\"kein Test\"),\"\",Seilspringen!J44))+IF(AND(Liegestütz!J44=\"\",AB44=\"OK\"),VLOOKUP(G44&D44,$AJ$10:$AT$31,9,FALSE)+1,IF(AND(Liegestütz!J44=\"\",AB44=\"kein Test\"),\"\",Liegestütz!J44))+IF(AND(Balance!J44=\"\",AB44=\"OK\"),VLOOKUP(G44&D44,$AJ$10:$AT$31,10,FALSE)+1,IF(AND(Balance!J44=\"\",AB44=\"kein Test\"),\"\",Balance!J44))+IF(AND('1000m'!J44=\"\",AB44=\"OK\"),VLOOKUP(G44&D44,$AJ$10:$AT$31,11,FALSE)+1,IF(AND('1000m'!J44=\"\",AB44=\"kein Test\"),\"\",'1000m'!J44)))/8)","v":""},null,null,"kein Test"]
[36,{"$f":"IF(Athletenliste!B45=\"\",\"\",Athletenliste!B45)","v":""},{"$f":"IF(Athletenliste!C45=\"\",\"\",Athletenliste!C45)","v":""},{"$f":"IF(Athletenliste!D45=\"\",\"\",Athletenliste!D45)","v":""},{"$f":"IF(Athletenliste!E45=\"\",\"\",Athletenliste!E45)","v":""},{"$f":"IF(Athletenliste!F45=\"\",\"\",Athletenliste!F45)","v":""},{"$f":"IF(Athletenliste!G45=\"\",\"\",Athletenliste!G45)","v":""},{"$f":"IF(Athletenliste!H45=\"\",\"\",Athletenliste!H45)","v":""},{"$f":"IF(Messen_Beweglichkeit!K45=\"\",\"\",Messen_Beweglichkeit!K45)","v":""},{"$f":"IF(Messen_Beweglichkeit!L45=\"\",\"\",Messen_Beweglichkeit!L45)","v":""},{"$f":"IF('Jump-and-Reach'!I45=\"\",\"\",'Jump-and-Reach'!I45)","v":""},{"$f":"IF('Jump-and-Reach'!J45=\"\",\"\",'Jump-and-Reach'!J45)","v":""},{"$f":"IF('30m Sprint'!I45=\"\",\"\",'30m Sprint'!I45)","v":""},{"$f":"IF('30m Sprint'!J45=\"\",\"\",'30m Sprint'!J45)","v":""},{"$f":"IF(KaBu!I45=\"\",\"\",KaBu!I45)","v":""},{"$f":"IF(KaBu!J45=\"\",\"\",KaBu!J45)","v":""},{"$f":"IF(Seilspringen!I45=\"\",\"\",Seilspringen!I45)","v":""},{"$f":"IF(Seilspringen!J45=\"\",\"\",Seilspringen!J45)","v":""},{"$f":"IF(Liegestütz!I45=\"\",\"\",Liegestütz!I45)","v":""},{"$f":"IF(Liegestütz!J45=\"\",\"\",Liegestütz!J45)","v":""},{"$f":"IF(Balance!I45=\"\",\"\",Balance!I45)","v":""},{"$f":"IF(Balance!J45=\"\",\"\",Balance!J45)","v":""},{"$f":"IF('1000m'!I45=\"\",\"\",'1000m'!I45)","v":""},{"$f":"IF('1000m'!J45=\"\",\"\",'1000m'!J45)","v":""},{"$f":"IF(B45=\"\",\"\",(IF(AND(Messen_Beweglichkeit!L45=\"\",AB45=\"OK\"),VLOOKUP(G45&D45,$AJ$10:$AT$31,4,FALSE)+1,IF(AND(Messen_Beweglichkeit!J45=\"\",AB45=\"kein Test\"),\"\",Messen_Beweglichkeit!L45))+IF(AND('Jump-and-Reach'!J45=\"\",AB45=\"OK\"),VLOOKUP(G45&D45,$AJ$10:$AT$31,5,FALSE)+1,IF(AND('Jump-and-Reach'!J45=\"\",AB45=\"kein Test\"),\"\",'Jump-and-Reach'!J45))+IF(AND('30m Sprint'!J45=\"\",AB45=\"OK\"),VLOOKUP(G45&D45,$AJ$10:$AT$31,6,FALSE)+1,IF(AND('30m Sprint'!J45=\"\",AB45=\"kein Test\"),\"\",'30m Sprint'!J45))+IF(AND(KaBu!J45=\"\",AB45=\"OK\"),VLOOKUP(G45&D45,$AJ$10:$AT$31,7,FALSE)+1,IF(AND(KaBu!J45=\"\",AB45=\"kein Test\"),\"\",KaBu!J45))+IF(AND(Seilspringen!J45=\"\",AB45=\"OK\"),VLOOKUP(G45&D45,$AJ$10:$AT$31,8,FALSE)+1,IF(AND(Seilspringen!J45=\"\",AB45=\"kein Test\"),\"\",Seilspringen!J45))+IF(AND(Liegestütz!J45=\"\",AB45=\"OK\"),VLOOKUP(G45&D45,$AJ$10:$AT$31,9,FALSE)+1,IF(AND(Liegestütz!J45=\"\",AB45=\"kein Test\"),\"\",Liegestütz!J45))+IF(AND(Balance!J45=\"\",AB45=\"OK\"),VLOOKUP(G45&D45,$AJ$10:$AT$31,10,FALSE)+1,IF(AND(Balance!J45=\"\",AB45=\"kein Test\"),\"\",Balance!J45))+IF(AND('1000m'!J45=\"\",AB45=\"OK\"),VLOOKUP(G45&D45,$AJ$10:$AT$31,11,FALSE)+1,IF(AND('1000m'!J45=\"\",AB45=\"kein Test\"),\"\",'1000m'!J45)))/8)","v":""},null,null,"kein Test"]
[37,{"$f":"IF(Athletenliste!B46=\"\",\"\",Athletenliste!B46)","v":""},{"$f":"IF(Athletenliste!C46=\"\",\"\",Athletenliste!C46)","v":""},{"$f":"IF(Athletenliste!D46=\"\",\"\",Athletenliste!D46)","v":""},{"$f":"IF(Athletenliste!E46=\"\",\"\",Athletenliste!E46)","v":""},{"$f":"IF(Athletenliste!F46=\"\",\"\",Athletenliste!F46)","v":""},{"$f":"IF(Athletenliste!G46=\"\",\"\",Athletenliste!G46)","v":""},{"$f":"IF(Athletenliste!H46=\"\",\"\",Athletenliste!H46)","v":""},{"$f":"IF(Messen_Beweglichkeit!K46=\"\",\"\",Messen_Beweglichkeit!K46)","v":""},{"$f":"IF(Messen_Beweglichkeit!L46=\"\",\"\",Messen_Beweglichkeit!L46)","v":""},{"$f":"IF('Jump-and-Reach'!I46=\"\",\"\",'Jump-and-Reach'!I46)","v":""},{"$f":"IF('Jump-and-Reach'!J46=\"\",\"\",'Jump-and-Reach'!J46)","v":""},{"$f":"IF('30m Sprint'!I46=\"\",\"\",'30m Sprint'!I46)","v":""},{"$f":"IF('30m Sprint'!J46=\"\",\"\",'30m Sprint'!J46)","v":""},{"$f":"IF(KaBu!I46=\"\",\"\",KaBu!I46)","v":""},{"$f":"IF(KaBu!J46=\"\",\"\",KaBu!J46)","v":""},{"$f":"IF(Seilspringen!I46=\"\",\"\",Seilspringen!I46)","v":""},{"$f":"IF(Seilspringen!J46=\"\",\"\",Seilspringen!J46)","v":""},{"$f":"IF(Liegestütz!I46=\"\",\"\",Liegestütz!I46)","v":""},{"$f":"IF(Liegestütz!J46=\"\",\"\",Liegestütz!J46)","v":""},{"$f":"IF(Balance!I46=\"\",\"\",Balance!I46)","v":""},{"$f":"IF(Balance!J46=\"\",\"\",Balance!J46)","v":""},{"$f":"IF('1000m'!I46=\"\",\"\",'1000m'!I46)","v":""},{"$f":"IF('1000m'!J46=\"\",\"\",'1000m'!J46)","v":""},{"$f":"IF(B46=\"\",\"\",(IF(AND(Messen_Beweglichkeit!L46=\"\",AB46=\"OK\"),VLOOKUP(G46&D46,$AJ$10:$AT$31,4,FALSE)+1,IF(AND(Messen_Beweglichkeit!J46=\"\",AB46=\"kein Test\"),\"\",Messen_Beweglichkeit!L46))+IF(AND('Jump-and-Reach'!J46=\"\",AB46=\"OK\"),VLOOKUP(G46&D46,$AJ$10:$AT$31,5,FALSE)+1,IF(AND('Jump-and-Reach'!J46=\"\",AB46=\"kein Test\"),\"\",'Jump-and-Reach'!J46))+IF(AND('30m Sprint'!J46=\"\",AB46=\"OK\"),VLOOKUP(G46&D46,$AJ$10:$AT$31,6,FALSE)+1,IF(AND('30m Sprint'!J46=\"\",AB46=\"kein Test\"),\"\",'30m Sprint'!J46))+IF(AND(KaBu!J46=\"\",AB46=\"OK\"),VLOOKUP(G46&D46,$AJ$10:$AT$31,7,FALSE)+1,IF(AND(KaBu!J46=\"\",AB46=\"kein Test\"),\"\",KaBu!J46))+IF(AND(Seilspringen!J46=\"\",AB46=\"OK\"),VLOOKUP(G46&D46,$AJ$10:$AT$31,8,FALSE)+1,IF(AND(Seilspringen!J46=\"\",AB46=\"kein Test\"),\"\",Seilspringen!J46))+IF(AND(Liegestütz!J46=\"\",AB46=\"OK\"),VLOOKUP(G46&D46,$AJ$10:$AT$31,9,FALSE)+1,IF(AND(Liegestütz!J46=\"\",AB46=\"kein Test\"),\"\",Liegestütz!J46))+IF(AND(Balance!J46=\"\",AB46=\"OK\"),VLOOKUP(G46&D46,$AJ$10:$AT$31,10,FALSE)+1,IF(AND(Balance!J46=\"\",AB46=\"kein Test\"),\"\",Balance!J46))+IF(AND('1000m'!J46=\"\",AB46=\"OK\"),VLOOKUP(G46&D46,$AJ$10:$AT$31,11,FALSE)+1,IF(AND('1000m'!J46=\"\",AB46=\"kein Test\"),\"\",'1000m'!J46)))/8)","v":""},null,null,"kein Test"]
[38,{"$f":"IF(Athletenliste!B47=\"\",\"\",Athletenliste!B47)","v":""},{"$f":"IF(Athletenliste!C47=\"\",\"\",Athletenliste!C47)","v":""},{"$f":"IF(Athletenliste!D47=\"\",\"\",Athletenliste!D47)","v":""},{"$f":"IF(Athletenliste!E47=\"\",\"\",Athletenliste!E47)","v":""},{"$f":"IF(Athletenliste!F47=\"\",\"\",Athletenliste!F47)","v":""},{"$f":"IF(Athletenliste!G47=\"\",\"\",Athletenliste!G47)","v":""},{"$f":"IF(Athletenliste!H47=\"\",\"\",Athletenliste!H47)","v":""},{"$f":"IF(Messen_Beweglichkeit!K47=\"\",\"\",Messen_Beweglichkeit!K47)","v":""},{"$f":"IF(Messen_Beweglichkeit!L47=\"\",\"\",Messen_Beweglichkeit!L47)","v":""},{"$f":"IF('Jump-and-Reach'!I47=\"\",\"\",'Jump-and-Reach'!I47)","v":""},{"$f":"IF('Jump-and-Reach'!J47=\"\",\"\",'Jump-and-Reach'!J47)","v":""},{"$f":"IF('30m Sprint'!I47=\"\",\"\",'30m Sprint'!I47)","v":""},{"$f":"IF('30m Sprint'!J47=\"\",\"\",'30m Sprint'!J47)","v":""},{"$f":"IF(KaBu!I47=\"\",\"\",KaBu!I47)","v":""},{"$f":"IF(KaBu!J47=\"\",\"\",KaBu!J47)","v":""},{"$f":"IF(Seilspringen!I47=\"\",\"\",Seilspringen!I47)","v":""},{"$f":"IF(Seilspringen!J47=\"\",\"\",Seilspringen!J47)","v":""},{"$f":"IF(Liegestütz!I47=\"\",\"\",Liegestütz!I47)","v":""},{"$f":"IF(Liegestütz!J47=\"\",\"\",Liegestütz!J47)","v":""},{"$f":"IF(Balance!I47=\"\",\"\",Balance!I47)","v":""},{"$f":"IF(Balance!J47=\"\",\"\",Balance!J47)","v":""},{"$f":"IF('1000m'!I47=\"\",\"\",'1000m'!I47)","v":""},{"$f":"IF('1000m'!J47=\"\",\"\",'1000m'!J47)","v":""},{"$f":"IF(B47=\"\",\"\",(IF(AND(Messen_Beweglichkeit!L47=\"\",AB47=\"OK\"),VLOOKUP(G47&D47,$AJ$10:$AT$31,4,FALSE)+1,IF(AND(Messen_Beweglichkeit!J47=\"\",AB47=\"kein Test\"),\"\",Messen_Beweglichkeit!L47))+IF(AND('Jump-and-Reach'!J47=\"\",AB47=\"OK\"),VLOOKUP(G47&D47,$AJ$10:$AT$31,5,FALSE)+1,IF(AND('Jump-and-Reach'!J47=\"\",AB47=\"kein Test\"),\"\",'Jump-and-Reach'!J47))+IF(AND('30m Sprint'!J47=\"\",AB47=\"OK\"),VLOOKUP(G47&D47,$AJ$10:$AT$31,6,FALSE)+1,IF(AND('30m Sprint'!J47=\"\",AB47=\"kein Test\"),\"\",'30m Sprint'!J47))+IF(AND(KaBu!J47=\"\",AB47=\"OK\"),VLOOKUP(G47&D47,$AJ$10:$AT$31,7,FALSE)+1,IF(AND(KaBu!J47=\"\",AB47=\"kein Test\"),\"\",KaBu!J47))+IF(AND(Seilspringen!J47=\"\",AB47=\"OK\"),VLOOKUP(G47&D47,$AJ$10:$AT$31,8,FALSE)+1,IF(AND(Seilspringen!J47=\"\",AB47=\"kein Test\"),\"\",Seilspringen!J47))+IF(AND(Liegestütz!J47=\"\",AB47=\"OK\"),VLOOKUP(G47&D47,$AJ$10:$AT$31,9,FALSE)+1,IF(AND(Liegestütz!J47=\"\",AB47=\"kein Test\"),\"\",Liegestütz!J47))+IF(AND(Balance!J47=\"\",AB47=\"OK\"),VLOOKUP(G47&D47,$AJ$10:$AT$31,10,FALSE)+1,IF(AND(Balance!J47=\"\",AB47=\"kein Test\"),\"\",Balance!J47))+IF(AND('1000m'!J47=\"\",AB47=\"OK\"),VLOOKUP(G47&D47,$AJ$10:$AT$31,11,FALSE)+1,IF(AND('1000m'!J47=\"\",AB47=\"kein Test\"),\"\",'1000m'!J47)))/8)","v":""},null,null,"kein Test"]
[39,{"$f":"IF(Athletenliste!B48=\"\",\"\",Athletenliste!B48)","v":""},{"$f":"IF(Athletenliste!C48=\"\",\"\",Athletenliste!C48)","v":""},{"$f":"IF(Athletenliste!D48=\"\",\"\",Athletenliste!D48)","v":""},{"$f":"IF(Athletenliste!E48=\"\",\"\",Athletenliste!E48)","v":""},{"$f":"IF(Athletenliste!F48=\"\",\"\",Athletenliste!F48)","v":""},{"$f":"IF(Athletenliste!G48=\"\",\"\",Athletenliste!G48)","v":""},{"$f":"IF(Athletenliste!H48=\"\",\"\",Athletenliste!H48)","v":""},{"$f":"IF(Messen_Beweglichkeit!K48=\"\",\"\",Messen_Beweglichkeit!K48)","v":""},{"$f":"IF(Messen_Beweglichkeit!L48=\"\",\"\",Messen_Beweglichkeit!L48)","v":""},{"$f":"IF('Jump-and-Reach'!I48=\"\",\"\",'Jump-and-Reach'!I48)","v":""},{"$f":"IF('Jump-and-Reach'!J48=\"\",\"\",'Jump-and-Reach'!J48)","v":""},{"$f":"IF('30m Sprint'!I48=\"\",\"\",'30m Sprint'!I48)","v":""},{"$f":"IF('30m Sprint'!J48=\"\",\"\",'30m Sprint'!J48)","v":""},{"$f":"IF(KaBu!I48=\"\",\"\",KaBu!I48)","v":""},{"$f":"IF(KaBu!J48=\"\",\"\",KaBu!J48)","v":""},{"$f":"IF(Seilspringen!I48=\"\",\"\",Seilspringen!I48)","v":""},{"$f":"IF(Seilspringen!J48=\"\",\"\",Seilspringen!J48)","v":""},{"$f":"IF(Liegestütz!I48=\"\",\"\",Liegestütz!I48)","v":""},{"$f":"IF(Liegestütz!J48=\"\",\"\",Liegestütz!J48)","v":""},{"$f":"IF(Balance!I48=\"\",\"\",Balance!I48)","v":""},{"$f":"IF(Balance!J48=\"\",\"\",Balance!J48)","v":""},{"$f":"IF('1000m'!I48=\"\",\"\",'1000m'!I48)","v":""},{"$f":"IF('1000m'!J48=\"\",\"\",'1000m'!J48)","v":""},{"$f":"IF(B48=\"\",\"\",(IF(AND(Messen_Beweglichkeit!L48=\"\",AB48=\"OK\"),VLOOKUP(G48&D48,$AJ$10:$AT$31,4,FALSE)+1,IF(AND(Messen_Beweglichkeit!J48=\"\",AB48=\"kein Test\"),\"\",Messen_Beweglichkeit!L48))+IF(AND('Jump-and-Reach'!J48=\"\",AB48=\"OK\"),VLOOKUP(G48&D48,$AJ$10:$AT$31,5,FALSE)+1,IF(AND('Jump-and-Reach'!J48=\"\",AB48=\"kein Test\"),\"\",'Jump-and-Reach'!J48))+IF(AND('30m Sprint'!J48=\"\",AB48=\"OK\"),VLOOKUP(G48&D48,$AJ$10:$AT$31,6,FALSE)+1,IF(AND('30m Sprint'!J48=\"\",AB48=\"kein Test\"),\"\",'30m Sprint'!J48))+IF(AND(KaBu!J48=\"\",AB48=\"OK\"),VLOOKUP(G48&D48,$AJ$10:$AT$31,7,FALSE)+1,IF(AND(KaBu!J48=\"\",AB48=\"kein Test\"),\"\",KaBu!J48))+IF(AND(Seilspringen!J48=\"\",AB48=\"OK\"),VLOOKUP(G48&D48,$AJ$10:$AT$31,8,FALSE)+1,IF(AND(Seilspringen!J48=\"\",AB48=\"kein Test\"),\"\",Seilspringen!J48))+IF(AND(Liegestütz!J48=\"\",AB48=\"OK\"),VLOOKUP(G48&D48,$AJ$10:$AT$31,9,FALSE)+1,IF(AND(Liegestütz!J48=\"\",AB48=\"kein Test\"),\"\",Liegestütz!J48))+IF(AND(Balance!J48=\"\",AB48=\"OK\"),VLOOKUP(G48&D48,$AJ$10:$AT$31,10,FALSE)+1,IF(AND(Balance!J48=\"\",AB48=\"kein Test\"),\"\",Balance!J48))+IF(AND('1000m'!J48=\"\",AB48=\"OK\"),VLOOKUP(G48&D48,$AJ$10:$AT$31,11,FALSE)+1,IF(AND('1000m'!J48=\"\",AB48=\"kein Test\"),\"\",'1000m'!J48)))/8)","v":""},null,null,"kein Test"]
[40,{"$f":"IF(Athletenliste!B49=\"\",\"\",Athletenliste!B49)","v":""},{"$f":"IF(Athletenliste!C49=\"\",\"\",Athletenliste!C49)","v":""},{"$f":"IF(Athletenliste!D49=\"\",\"\",Athletenliste!D49)","v":""},{"$f":"IF(Athletenliste!E49=\"\",\"\",Athletenliste!E49)","v":""},{"$f":"IF(Athletenliste!F49=\"\",\"\",Athletenliste!F49)","v":""},{"$f":"IF(Athletenliste!G49=\"\",\"\",Athletenliste!G49)","v":""},{"$f":"IF(Athletenliste!H49=\"\",\"\",Athletenliste!H49)","v":""},{"$f":"IF(Messen_Beweglichkeit!K49=\"\",\"\",Messen_Beweglichkeit!K49)","v":""},{"$f":"IF(Messen_Beweglichkeit!L49=\"\",\"\",Messen_Beweglichkeit!L49)","v":""},{"$f":"IF('Jump-and-Reach'!I49=\"\",\"\",'Jump-and-Reach'!I49)","v":""},{"$f":"IF('Jump-and-Reach'!J49=\"\",\"\",'Jump-and-Reach'!J49)","v":""},{"$f":"IF('30m Sprint'!I49=\"\",\"\",'30m Sprint'!I49)","v":""},{"$f":"IF('30m Sprint'!J49=\"\",\"\",'30m Sprint'!J49)","v":""},{"$f":"IF(KaBu!I49=\"\",\"\",KaBu!I49)","v":""},{"$f":"IF(KaBu!J49=\"\",\"\",KaBu!J49)","v":""},{"$f":"IF(Seilspringen!I49=\"\",\"\",Seilspringen!I49)","v":""},{"$f":"IF(Seilspringen!J49=\"\",\"\",Seilspringen!J49)","v":""},{"$f":"IF(Liegestütz!I49=\"\",\"\",Liegestütz!I49)","v":""},{"$f":"IF(Liegestütz!J49=\"\",\"\",Liegestütz!J49)","v":""},{"$f":"IF(Balance!I49=\"\",\"\",Balance!I49)","v":""},{"$f":"IF(Balance!J49=\"\",\"\",Balance!J49)","v":""},{"$f":"IF('1000m'!I49=\"\",\"\",'1000m'!I49)","v":""},{"$f":"IF('1000m'!J49=\"\",\"\",'1000m'!J49)","v":""},{"$f":"IF(B49=\"\",\"\",(IF(AND(Messen_Beweglichkeit!L49=\"\",AB49=\"OK\"),VLOOKUP(G49&D49,$AJ$10:$AT$31,4,FALSE)+1,IF(AND(Messen_Beweglichkeit!J49=\"\",AB49=\"kein Test\"),\"\",Messen_Beweglichkeit!L49))+IF(AND('Jump-and-Reach'!J49=\"\",AB49=\"OK\"),VLOOKUP(G49&D49,$AJ$10:$AT$31,5,FALSE)+1,IF(AND('Jump-and-Reach'!J49=\"\",AB49=\"kein Test\"),\"\",'Jump-and-Reach'!J49))+IF(AND('30m Sprint'!J49=\"\",AB49=\"OK\"),VLOOKUP(G49&D49,$AJ$10:$AT$31,6,FALSE)+1,IF(AND('30m Sprint'!J49=\"\",AB49=\"kein Test\"),\"\",'30m Sprint'!J49))+IF(AND(KaBu!J49=\"\",AB49=\"OK\"),VLOOKUP(G49&D49,$AJ$10:$AT$31,7,FALSE)+1,IF(AND(KaBu!J49=\"\",AB49=\"kein Test\"),\"\",KaBu!J49))+IF(AND(Seilspringen!J49=\"\",AB49=\"OK\"),VLOOKUP(G49&D49,$AJ$10:$AT$31,8,FALSE)+1,IF(AND(Seilspringen!J49=\"\",AB49=\"kein Test\"),\"\",Seilspringen!J49))+IF(AND(Liegestütz!J49=\"\",AB49=\"OK\"),VLOOKUP(G49&D49,$AJ$10:$AT$31,9,FALSE)+1,IF(AND(Liegestütz!J49=\"\",AB49=\"kein Test\"),\"\",Liegestütz!J49))+IF(AND(Balance!J49=\"\",AB49=\"OK\"),VLOOKUP(G49&D49,$AJ$10:$AT$31,10,FALSE)+1,IF(AND(Balance!J49=\"\",AB49=\"kein Test\"),\"\",Balance!J49))+IF(AND('1000m'!J49=\"\",AB49=\"OK\"),VLOOKUP(G49&D49,$AJ$10:$AT$31,11,FALSE)+1,IF(AND('1000m'!J49=\"\",AB49=\"kein Test\"),\"\",'1000m'!J49)))/8)","v":""},null,null,"kein Test"]
[41,{"$f":"IF(Athletenliste!B50=\"\",\"\",Athletenliste!B50)","v":""},{"$f":"IF(Athletenliste!C50=\"\",\"\",Athletenliste!C50)","v":""},{"$f":"IF(Athletenliste!D50=\"\",\"\",Athletenliste!D50)","v":""},{"$f":"IF(Athletenliste!E50=\"\",\"\",Athletenliste!E50)","v":""},{"$f":"IF(Athletenliste!F50=\"\",\"\",Athletenliste!F50)","v":""},{"$f":"IF(Athletenliste!G50=\"\",\"\",Athletenliste!G50)","v":""},{"$f":"IF(Athletenliste!H50=\"\",\"\",Athletenliste!H50)","v":""},{"$f":"IF(Messen_Beweglichkeit!K50=\"\",\"\",Messen_Beweglichkeit!K50)","v":""},{"$f":"IF(Messen_Beweglichkeit!L50=\"\",\"\",Messen_Beweglichkeit!L50)","v":""},{"$f":"IF('Jump-and-Reach'!I50=\"\",\"\",'Jump-and-Reach'!I50)","v":""},{"$f":"IF('Jump-and-Reach'!J50=\"\",\"\",'Jump-and-Reach'!J50)","v":""},{"$f":"IF('30m Sprint'!I50=\"\",\"\",'30m Sprint'!I50)","v":""},{"$f":"IF('30m Sprint'!J50=\"\",\"\",'30m Sprint'!J50)","v":""},{"$f":"IF(KaBu!I50=\"\",\"\",KaBu!I50)","v":""},{"$f":"IF(KaBu!J50=\"\",\"\",KaBu!J50)","v":""},{"$f":"IF(Seilspringen!I50=\"\",\"\",Seilspringen!I50)","v":""},{"$f":"IF(Seilspringen!J50=\"\",\"\",Seilspringen!J50)","v":""},{"$f":"IF(Liegestütz!I50=\"\",\"\",Liegestütz!I50)","v":""},{"$f":"IF(Liegestütz!J50=\"\",\"\",Liegestütz!J50)","v":""},{"$f":"IF(Balance!I50=\"\",\"\",Balance!I50)","v":""},{"$f":"IF(Balance!J50=\"\",\"\",Balance!J50)","v":""},{"$f":"IF('1000m'!I50=\"\",\"\",'1000m'!I50)","v":""},{"$f":"IF('1000m'!J50=\"\",\"\",'1000m'!J50)","v":""},{"$f":"IF(B50=\"\",\"\",(IF(AND(Messen_Beweglichkeit!L50=\"\",AB50=\"OK\"),VLOOKUP(G50&D50,$AJ$10:$AT$31,4,FALSE)+1,IF(AND(Messen_Beweglichkeit!J50=\"\",AB50=\"kein Test\"),\"\",Messen_Beweglichkeit!L50))+IF(AND('Jump-and-Reach'!J50=\"\",AB50=\"OK\"),VLOOKUP(G50&D50,$AJ$10:$AT$31,5,FALSE)+1,IF(AND('Jump-and-Reach'!J50=\"\",AB50=\"kein Test\"),\"\",'Jump-and-Reach'!J50))+IF(AND('30m Sprint'!J50=\"\",AB50=\"OK\"),VLOOKUP(G50&D50,$AJ$10:$AT$31,6,FALSE)+1,IF(AND('30m Sprint'!J50=\"\",AB50=\"kein Test\"),\"\",'30m Sprint'!J50))+IF(AND(KaBu!J50=\"\",AB50=\"OK\"),VLOOKUP(G50&D50,$AJ$10:$AT$31,7,FALSE)+1,IF(AND(KaBu!J50=\"\",AB50=\"kein Test\"),\"\",KaBu!J50))+IF(AND(Seilspringen!J50=\"\",AB50=\"OK\"),VLOOKUP(G50&D50,$AJ$10:$AT$31,8,FALSE)+1,IF(AND(Seilspringen!J50=\"\",AB50=\"kein Test\"),\"\",Seilspringen!J50))+IF(AND(Liegestütz!J50=\"\",AB50=\"OK\"),VLOOKUP(G50&D50,$AJ$10:$AT$31,9,FALSE)+1,IF(AND(Liegestütz!J50=\"\",AB50=\"kein Test\"),\"\",Liegestütz!J50))+IF(AND(Balance!J50=\"\",AB50=\"OK\"),VLOOKUP(G50&D50,$AJ$10:$AT$31,10,FALSE)+1,IF(AND(Balance!J50=\"\",AB50=\"kein Test\"),\"\",Balance!J50))+IF(AND('1000m'!J50=\"\",AB50=\"OK\"),VLOOKUP(G50&D50,$AJ$10:$AT$31,11,FALSE)+1,IF(AND('1000m'!J50=\"\",AB50=\"kein Test\"),\"\",'1000m'!J50)))/8)","v":""},null,null,"kein Test"]
[42,{"$f":"IF(Athletenliste!B51=\"\",\"\",Athletenliste!B51)","v":""},{"$f":"IF(Athletenliste!C51=\"\",\"\",Athletenliste!C51)","v":""},{"$f":"IF(Athletenliste!D51=\"\",\"\",Athletenliste!D51)","v":""},{"$f":"IF(Athletenliste!E51=\"\",\"\",Athletenliste!E51)","v":""},{"$f":"IF(Athletenliste!F51=\"\",\"\",Athletenliste!F51)","v":""},{"$f":"IF(Athletenliste!G51=\"\",\"\",Athletenliste!G51)","v":""},{"$f":"IF(Athletenliste!H51=\"\",\"\",Athletenliste!H51)","v":""},{"$f":"IF(Messen_Beweglichkeit!K51=\"\",\"\",Messen_Beweglichkeit!K51)","v":""},{"$f":"IF(Messen_Beweglichkeit!L51=\"\",\"\",Messen_Beweglichkeit!L51)","v":""},{"$f":"IF('Jump-and-Reach'!I51=\"\",\"\",'Jump-and-Reach'!I51)","v":""},{"$f":"IF('Jump-and-Reach'!J51=\"\",\"\",'Jump-and-Reach'!J51)","v":""},{"$f":"IF('30m Sprint'!I51=\"\",\"\",'30m Sprint'!I51)","v":""},{"$f":"IF('30m Sprint'!J51=\"\",\"\",'30m Sprint'!J51)","v":""},{"$f":"IF(KaBu!I51=\"\",\"\",KaBu!I51)","v":""},{"$f":"IF(KaBu!J51=\"\",\"\",KaBu!J51)","v":""},{"$f":"IF(Seilspringen!I51=\"\",\"\",Seilspringen!I51)","v":""},{"$f":"IF(Seilspringen!J51=\"\",\"\",Seilspringen!J51)","v":""},{"$f":"IF(Liegestütz!I51=\"\",\"\",Liegestütz!I51)","v":""},{"$f":"IF(Liegestütz!J51=\"\",\"\",Liegestütz!J51)","v":""},{"$f":"IF(Balance!I51=\"\",\"\",Balance!I51)","v":""},{"$f":"IF(Balance!J51=\"\",\"\",Balance!J51)","v":""},{"$f":"IF('1000m'!I51=\"\",\"\",'1000m'!I51)","v":""},{"$f":"IF('1000m'!J51=\"\",\"\",'1000m'!J51)","v":""},{"$f":"IF(B51=\"\",\"\",(IF(AND(Messen_Beweglichkeit!L51=\"\",AB51=\"OK\"),VLOOKUP(G51&D51,$AJ$10:$AT$31,4,FALSE)+1,IF(AND(Messen_Beweglichkeit!J51=\"\",AB51=\"kein Test\"),\"\",Messen_Beweglichkeit!L51))+IF(AND('Jump-and-Reach'!J51=\"\",AB51=\"OK\"),VLOOKUP(G51&D51,$AJ$10:$AT$31,5,FALSE)+1,IF(AND('Jump-and-Reach'!J51=\"\",AB51=\"kein Test\"),\"\",'Jump-and-Reach'!J51))+IF(AND('30m Sprint'!J51=\"\",AB51=\"OK\"),VLOOKUP(G51&D51,$AJ$10:$AT$31,6,FALSE)+1,IF(AND('30m Sprint'!J51=\"\",AB51=\"kein Test\"),\"\",'30m Sprint'!J51))+IF(AND(KaBu!J51=\"\",AB51=\"OK\"),VLOOKUP(G51&D51,$AJ$10:$AT$31,7,FALSE)+1,IF(AND(KaBu!J51=\"\",AB51=\"kein Test\"),\"\",KaBu!J51))+IF(AND(Seilspringen!J51=\"\",AB51=\"OK\"),VLOOKUP(G51&D51,$AJ$10:$AT$31,8,FALSE)+1,IF(AND(Seilspringen!J51=\"\",AB51=\"kein Test\"),\"\",Seilspringen!J51))+IF(AND(Liegestütz!J51=\"\",AB51=\"OK\"),VLOOKUP(G51&D51,$AJ$10:$AT$31,9,FALSE)+1,IF(AND(Liegestütz!J51=\"\",AB51=\"kein Test\"),\"\",Liegestütz!J51))+IF(AND(Balance!J51=\"\",AB51=\"OK\"),VLOOKUP(G51&D51,$AJ$10:$AT$31,10,FALSE)+1,IF(AND(Balance!J51=\"\",AB51=\"kein Test\"),\"\",Balance!J51))+IF(AND('1000m'!J51=\"\",AB51=\"OK\"),VLOOKUP(G51&D51,$AJ$10:$AT$31,11,FALSE)+1,IF(AND('1000m'!J51=\"\",AB51=\"kein Test\"),\"\",'1000m'!J51)))/8)","v":""},null,null,"kein Test"]
[43,{"$f":"IF(Athletenliste!B52=\"\",\"\",Athletenliste!B52)","v":""},{"$f":"IF(Athletenliste!C52=\"\",\"\",Athletenliste!C52)","v":""},{"$f":"IF(Athletenliste!D52=\"\",\"\",Athletenliste!D52)","v":""},{"$f":"IF(Athletenliste!E52=\"\",\"\",Athletenliste!E52)","v":""},{"$f":"IF(Athletenliste!F52=\"\",\"\",Athletenliste!F52)","v":""},{"$f":"IF(Athletenliste!G52=\"\",\"\",Athletenliste!G52)","v":""},{"$f":"IF(Athletenliste!H52=\"\",\"\",Athletenliste!H52)","v":""},{"$f":"IF(Messen_Beweglichkeit!K52=\"\",\"\",Messen_Beweglichkeit!K52)","v":""},{"$f":"IF(Messen_Beweglichkeit!L52=\"\",\"\",Messen_Beweglichkeit!L52)","v":""},{"$f":"IF('Jump-and-Reach'!I52=\"\",\"\",'Jump-and-Reach'!I52)","v":""},{"$f":"IF('Jump-and-Reach'!J52=\"\",\"\",'Jump-and-Reach'!J52)","v":""},{"$f":"IF('30m Sprint'!I52=\"\",\"\",'30m Sprint'!I52)","v":""},{"$f":"IF('30m Sprint'!J52=\"\",\"\",'30m Sprint'!J52)","v":""},{"$f":"IF(KaBu!I52=\"\",\"\",KaBu!I52)","v":""},{"$f":"IF(KaBu!J52=\"\",\"\",KaBu!J52)","v":""},{"$f":"IF(Seilspringen!I52=\"\",\"\",Seilspringen!I52)","v":""},{"$f":"IF(Seilspringen!J52=\"\",\"\",Seilspringen!J52)","v":""},{"$f":"IF(Liegestütz!I52=\"\",\"\",Liegestütz!I52)","v":""},{"$f":"IF(Liegestütz!J52=\"\",\"\",Liegestütz!J52)","v":""},{"$f":"IF(Balance!I52=\"\",\"\",Balance!I52)","v":""},{"$f":"IF(Balance!J52=\"\",\"\",Balance!J52)","v":""},{"$f":"IF('1000m'!I52=\"\",\"\",'1000m'!I52)","v":""},{"$f":"IF('1000m'!J52=\"\",\"\",'1000m'!J52)","v":""},{"$f":"IF(B52=\"\",\"\",(IF(AND(Messen_Beweglichkeit!L52=\"\",AB52=\"OK\"),VLOOKUP(G52&D52,$AJ$10:$AT$31,4,FALSE)+1,IF(AND(Messen_Beweglichkeit!J52=\"\",AB52=\"kein Test\"),\"\",Messen_Beweglichkeit!L52))+IF(AND('Jump-and-Reach'!J52=\"\",AB52=\"OK\"),VLOOKUP(G52&D52,$AJ$10:$AT$31,5,FALSE)+1,IF(AND('Jump-and-Reach'!J52=\"\",AB52=\"kein Test\"),\"\",'Jump-and-Reach'!J52))+IF(AND('30m Sprint'!J52=\"\",AB52=\"OK\"),VLOOKUP(G52&D52,$AJ$10:$AT$31,6,FALSE)+1,IF(AND('30m Sprint'!J52=\"\",AB52=\"kein Test\"),\"\",'30m Sprint'!J52))+IF(AND(KaBu!J52=\"\",AB52=\"OK\"),VLOOKUP(G52&D52,$AJ$10:$AT$31,7,FALSE)+1,IF(AND(KaBu!J52=\"\",AB52=\"kein Test\"),\"\",KaBu!J52))+IF(AND(Seilspringen!J52=\"\",AB52=\"OK\"),VLOOKUP(G52&D52,$AJ$10:$AT$31,8,FALSE)+1,IF(AND(Seilspringen!J52=\"\",AB52=\"kein Test\"),\"\",Seilspringen!J52))+IF(AND(Liegestütz!J52=\"\",AB52=\"OK\"),VLOOKUP(G52&D52,$AJ$10:$AT$31,9,FALSE)+1,IF(AND(Liegestütz!J52=\"\",AB52=\"kein Test\"),\"\",Liegestütz!J52))+IF(AND(Balance!J52=\"\",AB52=\"OK\"),VLOOKUP(G52&D52,$AJ$10:$AT$31,10,FALSE)+1,IF(AND(Balance!J52=\"\",AB52=\"kein Test\"),\"\",Balance!J52))+IF(AND('1000m'!J52=\"\",AB52=\"OK\"),VLOOKUP(G52&D52,$AJ$10:$AT$31,11,FALSE)+1,IF(AND('1000m'!J52=\"\",AB52=\"kein Test\"),\"\",'1000m'!J52)))/8)","v":""},null,null,"kein Test"]
[44,{"$f":"IF(Athletenliste!B53=\"\",\"\",Athletenliste!B53)","v":""},{"$f":"IF(Athletenliste!C53=\"\",\"\",Athletenliste!C53)","v":""},{"$f":"IF(Athletenliste!D53=\"\",\"\",Athletenliste!D53)","v":""},{"$f":"IF(Athletenliste!E53=\"\",\"\",Athletenliste!E53)","v":""},{"$f":"IF(Athletenliste!F53=\"\",\"\",Athletenliste!F53)","v":""},{"$f":"IF(Athletenliste!G53=\"\",\"\",Athletenliste!G53)","v":""},{"$f":"IF(Athletenliste!H53=\"\",\"\",Athletenliste!H53)","v":""},{"$f":"IF(Messen_Beweglichkeit!K53=\"\",\"\",Messen_Beweglichkeit!K53)","v":""},{"$f":"IF(Messen_Beweglichkeit!L53=\"\",\"\",Messen_Beweglichkeit!L53)","v":""},{"$f":"IF('Jump-and-Reach'!I53=\"\",\"\",'Jump-and-Reach'!I53)","v":""},{"$f":"IF('Jump-and-Reach'!J53=\"\",\"\",'Jump-and-Reach'!J53)","v":""},{"$f":"IF('30m Sprint'!I53=\"\",\"\",'30m Sprint'!I53)","v":""},{"$f":"IF('30m Sprint'!J53=\"\",\"\",'30m Sprint'!J53)","v":""},{"$f":"IF(KaBu!I53=\"\",\"\",KaBu!I53)","v":""},{"$f":"IF(KaBu!J53=\"\",\"\",KaBu!J53)","v":""},{"$f":"IF(Seilspringen!I53=\"\",\"\",Seilspringen!I53)","v":""},{"$f":"IF(Seilspringen!J53=\"\",\"\",Seilspringen!J53)","v":""},{"$f":"IF(Liegestütz!I53=\"\",\"\",Liegestütz!I53)","v":""},{"$f":"IF(Liegestütz!J53=\"\",\"\",Liegestütz!J53)","v":""},{"$f":"IF(Balance!I53=\"\",\"\",Balance!I53)","v":""},{"$f":"IF(Balance!J53=\"\",\"\",Balance!J53)","v":""},{"$f":"IF('1000m'!I53=\"\",\"\",'1000m'!I53)","v":""},{"$f":"IF('1000m'!J53=\"\",\"\",'1000m'!J53)","v":""},{"$f":"IF(B53=\"\",\"\",(IF(AND(Messen_Beweglichkeit!L53=\"\",AB53=\"OK\"),VLOOKUP(G53&D53,$AJ$10:$AT$31,4,FALSE)+1,IF(AND(Messen_Beweglichkeit!J53=\"\",AB53=\"kein Test\"),\"\",Messen_Beweglichkeit!L53))+IF(AND('Jump-and-Reach'!J53=\"\",AB53=\"OK\"),VLOOKUP(G53&D53,$AJ$10:$AT$31,5,FALSE)+1,IF(AND('Jump-and-Reach'!J53=\"\",AB53=\"kein Test\"),\"\",'Jump-and-Reach'!J53))+IF(AND('30m Sprint'!J53=\"\",AB53=\"OK\"),VLOOKUP(G53&D53,$AJ$10:$AT$31,6,FALSE)+1,IF(AND('30m Sprint'!J53=\"\",AB53=\"kein Test\"),\"\",'30m Sprint'!J53))+IF(AND(KaBu!J53=\"\",AB53=\"OK\"),VLOOKUP(G53&D53,$AJ$10:$AT$31,7,FALSE)+1,IF(AND(KaBu!J53=\"\",AB53=\"kein Test\"),\"\",KaBu!J53))+IF(AND(Seilspringen!J53=\"\",AB53=\"OK\"),VLOOKUP(G53&D53,$AJ$10:$AT$31,8,FALSE)+1,IF(AND(Seilspringen!J53=\"\",AB53=\"kein Test\"),\"\",Seilspringen!J53))+IF(AND(Liegestütz!J53=\"\",AB53=\"OK\"),VLOOKUP(G53&D53,$AJ$10:$AT$31,9,FALSE)+1,IF(AND(Liegestütz!J53=\"\",AB53=\"kein Test\"),\"\",Liegestütz!J53))+IF(AND(Balance!J53=\"\",AB53=\"OK\"),VLOOKUP(G53&D53,$AJ$10:$AT$31,10,FALSE)+1,IF(AND(Balance!J53=\"\",AB53=\"kein Test\"),\"\",Balance!J53))+IF(AND('1000m'!J53=\"\",AB53=\"OK\"),VLOOKUP(G53&D53,$AJ$10:$AT$31,11,FALSE)+1,IF(AND('1000m'!J53=\"\",AB53=\"kein Test\"),\"\",'1000m'!J53)))/8)","v":""},null,null,"kein Test"]
[45,{"$f":"IF(Athletenliste!B54=\"\",\"\",Athletenliste!B54)","v":""},{"$f":"IF(Athletenliste!C54=\"\",\"\",Athletenliste!C54)","v":""},{"$f":"IF(Athletenliste!D54=\"\",\"\",Athletenliste!D54)","v":""},{"$f":"IF(Athletenliste!E54=\"\",\"\",Athletenliste!E54)","v":""},{"$f":"IF(Athletenliste!F54=\"\",\"\",Athletenliste!F54)","v":""},{"$f":"IF(Athletenliste!G54=\"\",\"\",Athletenliste!G54)","v":""},{"$f":"IF(Athletenliste!H54=\"\",\"\",Athletenliste!H54)","v":""},{"$f":"IF(Messen_Beweglichkeit!K54=\"\",\"\",Messen_Beweglichkeit!K54)","v":""},{"$f":"IF(Messen_Beweglichkeit!L54=\"\",\"\",Messen_Beweglichkeit!L54)","v":""},{"$f":"IF('Jump-and-Reach'!I54=\"\",\"\",'Jump-and-Reach'!I54)","v":""},{"$f":"IF('Jump-and-Reach'!J54=\"\",\"\",'Jump-and-Reach'!J54)","v":""},{"$f":"IF('30m Sprint'!I54=\"\",\"\",'30m Sprint'!I54)","v":""},{"$f":"IF('30m Sprint'!J54=\"\",\"\",'30m Sprint'!J54)","v":""},{"$f":"IF(KaBu!I54=\"\",\"\",KaBu!I54)","v":""},{"$f":"IF(KaBu!J54=\"\",\"\",KaBu!J54)","v":""},{"$f":"IF(Seilspringen!I54=\"\",\"\",Seilspringen!I54)","v":""},{"$f":"IF(Seilspringen!J54=\"\",\"\",Seilspringen!J54)","v":""},{"$f":"IF(Liegestütz!I54=\"\",\"\",Liegestütz!I54)","v":""},{"$f":"IF(Liegestütz!J54=\"\",\"\",Liegestütz!J54)","v":""},{"$f":"IF(Balance!I54=\"\",\"\",Balance!I54)","v":""},{"$f":"IF(Balance!J54=\"\",\"\",Balance!J54)","v":""},{"$f":"IF('1000m'!I54=\"\",\"\",'1000m'!I54)","v":""},{"$f":"IF('1000m'!J54=\"\",\"\",'1000m'!J54)","v":""},{"$f":"IF(B54=\"\",\"\",(IF(AND(Messen_Beweglichkeit!L54=\"\",AB54=\"OK\"),VLOOKUP(G54&D54,$AJ$10:$AT$31,4,FALSE)+1,IF(AND(Messen_Beweglichkeit!J54=\"\",AB54=\"kein Test\"),\"\",Messen_Beweglichkeit!L54))+IF(AND('Jump-and-Reach'!J54=\"\",AB54=\"OK\"),VLOOKUP(G54&D54,$AJ$10:$AT$31,5,FALSE)+1,IF(AND('Jump-and-Reach'!J54=\"\",AB54=\"kein Test\"),\"\",'Jump-and-Reach'!J54))+IF(AND('30m Sprint'!J54=\"\",AB54=\"OK\"),VLOOKUP(G54&D54,$AJ$10:$AT$31,6,FALSE)+1,IF(AND('30m Sprint'!J54=\"\",AB54=\"kein Test\"),\"\",'30m Sprint'!J54))+IF(AND(KaBu!J54=\"\",AB54=\"OK\"),VLOOKUP(G54&D54,$AJ$10:$AT$31,7,FALSE)+1,IF(AND(KaBu!J54=\"\",AB54=\"kein Test\"),\"\",KaBu!J54))+IF(AND(Seilspringen!J54=\"\",AB54=\"OK\"),VLOOKUP(G54&D54,$AJ$10:$AT$31,8,FALSE)+1,IF(AND(Seilspringen!J54=\"\",AB54=\"kein Test\"),\"\",Seilspringen!J54))+IF(AND(Liegestütz!J54=\"\",AB54=\"OK\"),VLOOKUP(G54&D54,$AJ$10:$AT$31,9,FALSE)+1,IF(AND(Liegestütz!J54=\"\",AB54=\"kein Test\"),\"\",Liegestütz!J54))+IF(AND(Balance!J54=\"\",AB54=\"OK\"),VLOOKUP(G54&D54,$AJ$10:$AT$31,10,FALSE)+1,IF(AND(Balance!J54=\"\",AB54=\"kein Test\"),\"\",Balance!J54))+IF(AND('1000m'!J54=\"\",AB54=\"OK\"),VLOOKUP(G54&D54,$AJ$10:$AT$31,11,FALSE)+1,IF(AND('1000m'!J54=\"\",AB54=\"kein Test\"),\"\",'1000m'!J54)))/8)","v":""},null,null,"kein Test"]
[46,{"$f":"IF(Athletenliste!B55=\"\",\"\",Athletenliste!B55)","v":""},{"$f":"IF(Athletenliste!C55=\"\",\"\",Athletenliste!C55)","v":""},{"$f":"IF(Athletenliste!D55=\"\",\"\",Athletenliste!D55)","v":""},{"$f":"IF(Athletenliste!E55=\"\",\"\",Athletenliste!E55)","v":""},{"$f":"IF(Athletenliste!F55=\"\",\"\",Athletenliste!F55)","v":""},{"$f":"IF(Athletenliste!G55=\"\",\"\",Athletenliste!G55)","v":""},{"$f":"IF(Athletenliste!H55=\"\",\"\",Athletenliste!H55)","v":""},{"$f":"IF(Messen_Beweglichkeit!K55=\"\",\"\",Messen_Beweglichkeit!K55)","v":""},{"$f":"IF(Messen_Beweglichkeit!L55=\"\",\"\",Messen_Beweglichkeit!L55)","v":""},{"$f":"IF('Jump-and-Reach'!I55=\"\",\"\",'Jump-and-Reach'!I55)","v":""},{"$f":"IF('Jump-and-Reach'!J55=\"\",\"\",'Jump-and-Reach'!J55)","v":""},{"$f":"IF('30m Sprint'!I55=\"\",\"\",'30m Sprint'!I55)","v":""},{"$f":"IF('30m Sprint'!J55=\"\",\"\",'30m Sprint'!J55)","v":""},{"$f":"IF(KaBu!I55=\"\",\"\",KaBu!I55)","v":""},{"$f":"IF(KaBu!J55=\"\",\"\",KaBu!J55)","v":""},{"$f":"IF(Seilspringen!I55=\"\",\"\",Seilspringen!I55)","v":""},{"$f":"IF(Seilspringen!J55=\"\",\"\",Seilspringen!J55)","v":""},{"$f":"IF(Liegestütz!I55=\"\",\"\",Liegestütz!I55)","v":""},{"$f":"IF(Liegestütz!J55=\"\",\"\",Liegestütz!J55)","v":""},{"$f":"IF(Balance!I55=\"\",\"\",Balance!I55)","v":""},{"$f":"IF(Balance!J55=\"\",\"\",Balance!J55)","v":""},{"$f":"IF('1000m'!I55=\"\",\"\",'1000m'!I55)","v":""},{"$f":"IF('1000m'!J55=\"\",\"\",'1000m'!J55)","v":""},{"$f":"IF(B55=\"\",\"\",(IF(AND(Messen_Beweglichkeit!L55=\"\",AB55=\"OK\"),VLOOKUP(G55&D55,$AJ$10:$AT$31,4,FALSE)+1,IF(AND(Messen_Beweglichkeit!J55=\"\",AB55=\"kein Test\"),\"\",Messen_Beweglichkeit!L55))+IF(AND('Jump-and-Reach'!J55=\"\",AB55=\"OK\"),VLOOKUP(G55&D55,$AJ$10:$AT$31,5,FALSE)+1,IF(AND('Jump-and-Reach'!J55=\"\",AB55=\"kein Test\"),\"\",'Jump-and-Reach'!J55))+IF(AND('30m Sprint'!J55=\"\",AB55=\"OK\"),VLOOKUP(G55&D55,$AJ$10:$AT$31,6,FALSE)+1,IF(AND('30m Sprint'!J55=\"\",AB55=\"kein Test\"),\"\",'30m Sprint'!J55))+IF(AND(KaBu!J55=\"\",AB55=\"OK\"),VLOOKUP(G55&D55,$AJ$10:$AT$31,7,FALSE)+1,IF(AND(KaBu!J55=\"\",AB55=\"kein Test\"),\"\",KaBu!J55))+IF(AND(Seilspringen!J55=\"\",AB55=\"OK\"),VLOOKUP(G55&D55,$AJ$10:$AT$31,8,FALSE)+1,IF(AND(Seilspringen!J55=\"\",AB55=\"kein Test\"),\"\",Seilspringen!J55))+IF(AND(Liegestütz!J55=\"\",AB55=\"OK\"),VLOOKUP(G55&D55,$AJ$10:$AT$31,9,FALSE)+1,IF(AND(Liegestütz!J55=\"\",AB55=\"kein Test\"),\"\",Liegestütz!J55))+IF(AND(Balance!J55=\"\",AB55=\"OK\"),VLOOKUP(G55&D55,$AJ$10:$AT$31,10,FALSE)+1,IF(AND(Balance!J55=\"\",AB55=\"kein Test\"),\"\",Balance!J55))+IF(AND('1000m'!J55=\"\",AB55=\"OK\"),VLOOKUP(G55&D55,$AJ$10:$AT$31,11,FALSE)+1,IF(AND('1000m'!J55=\"\",AB55=\"kein Test\"),\"\",'1000m'!J55)))/8)","v":""},null,null,"kein Test"]
[47,{"$f":"IF(Athletenliste!B56=\"\",\"\",Athletenliste!B56)","v":""},{"$f":"IF(Athletenliste!C56=\"\",\"\",Athletenliste!C56)","v":""},{"$f":"IF(Athletenliste!D56=\"\",\"\",Athletenliste!D56)","v":""},{"$f":"IF(Athletenliste!E56=\"\",\"\",Athletenliste!E56)","v":""},{"$f":"IF(Athletenliste!F56=\"\",\"\",Athletenliste!F56)","v":""},{"$f":"IF(Athletenliste!G56=\"\",\"\",Athletenliste!G56)","v":""},{"$f":"IF(Athletenliste!H56=\"\",\"\",Athletenliste!H56)","v":""},{"$f":"IF(Messen_Beweglichkeit!K56=\"\",\"\",Messen_Beweglichkeit!K56)","v":""},{"$f":"IF(Messen_Beweglichkeit!L56=\"\",\"\",Messen_Beweglichkeit!L56)","v":""},{"$f":"IF('Jump-and-Reach'!I56=\"\",\"\",'Jump-and-Reach'!I56)","v":""},{"$f":"IF('Jump-and-Reach'!J56=\"\",\"\",'Jump-and-Reach'!J56)","v":""},{"$f":"IF('30m Sprint'!I56=\"\",\"\",'30m Sprint'!I56)","v":""},{"$f":"IF('30m Sprint'!J56=\"\",\"\",'30m Sprint'!J56)","v":""},{"$f":"IF(KaBu!I56=\"\",\"\",KaBu!I56)","v":""},{"$f":"IF(KaBu!J56=\"\",\"\",KaBu!J56)","v":""},{"$f":"IF(Seilspringen!I56=\"\",\"\",Seilspringen!I56)","v":""},{"$f":"IF(Seilspringen!J56=\"\",\"\",Seilspringen!J56)","v":""},{"$f":"IF(Liegestütz!I56=\"\",\"\",Liegestütz!I56)","v":""},{"$f":"IF(Liegestütz!J56=\"\",\"\",Liegestütz!J56)","v":""},{"$f":"IF(Balance!I56=\"\",\"\",Balance!I56)","v":""},{"$f":"IF(Balance!J56=\"\",\"\",Balance!J56)","v":""},{"$f":"IF('1000m'!I56=\"\",\"\",'1000m'!I56)","v":""},{"$f":"IF('1000m'!J56=\"\",\"\",'1000m'!J56)","v":""},{"$f":"IF(B56=\"\",\"\",(IF(AND(Messen_Beweglichkeit!L56=\"\",AB56=\"OK\"),VLOOKUP(G56&D56,$AJ$10:$AT$31,4,FALSE)+1,IF(AND(Messen_Beweglichkeit!J56=\"\",AB56=\"kein Test\"),\"\",Messen_Beweglichkeit!L56))+IF(AND('Jump-and-Reach'!J56=\"\",AB56=\"OK\"),VLOOKUP(G56&D56,$AJ$10:$AT$31,5,FALSE)+1,IF(AND('Jump-and-Reach'!J56=\"\",AB56=\"kein Test\"),\"\",'Jump-and-Reach'!J56))+IF(AND('30m Sprint'!J56=\"\",AB56=\"OK\"),VLOOKUP(G56&D56,$AJ$10:$AT$31,6,FALSE)+1,IF(AND('30m Sprint'!J56=\"\",AB56=\"kein Test\"),\"\",'30m Sprint'!J56))+IF(AND(KaBu!J56=\"\",AB56=\"OK\"),VLOOKUP(G56&D56,$AJ$10:$AT$31,7,FALSE)+1,IF(AND(KaBu!J56=\"\",AB56=\"kein Test\"),\"\",KaBu!J56))+IF(AND(Seilspringen!J56=\"\",AB56=\"OK\"),VLOOKUP(G56&D56,$AJ$10:$AT$31,8,FALSE)+1,IF(AND(Seilspringen!J56=\"\",AB56=\"kein Test\"),\"\",Seilspringen!J56))+IF(AND(Liegestütz!J56=\"\",AB56=\"OK\"),VLOOKUP(G56&D56,$AJ$10:$AT$31,9,FALSE)+1,IF(AND(Liegestütz!J56=\"\",AB56=\"kein Test\"),\"\",Liegestütz!J56))+IF(AND(Balance!J56=\"\",AB56=\"OK\"),VLOOKUP(G56&D56,$AJ$10:$AT$31,10,FALSE)+1,IF(AND(Balance!J56=\"\",AB56=\"kein Test\"),\"\",Balance!J56))+IF(AND('1000m'!J56=\"\",AB56=\"OK\"),VLOOKUP(G56&D56,$AJ$10:$AT$31,11,FALSE)+1,IF(AND('1000m'!J56=\"\",AB56=\"kein Test\"),\"\",'1000m'!J56)))/8)","v":""},null,null,"kein Test"]
[48,{"$f":"IF(Athletenliste!B57=\"\",\"\",Athletenliste!B57)","v":""},{"$f":"IF(Athletenliste!C57=\"\",\"\",Athletenliste!C57)","v":""},{"$f":"IF(Athletenliste!D57=\"\",\"\",Athletenliste!D57)","v":""},{"$f":"IF(Athletenliste!E57=\"\",\"\",Athletenliste!E57)","v":""},{"$f":"IF(Athletenliste!F57=\"\",\"\",Athletenliste!F57)","v":""},{"$f":"IF(Athletenliste!G57=\"\",\"\",Athletenliste!G57)","v":""},{"$f":"IF(Athletenliste!H57=\"\",\"\",Athletenliste!H57)","v":""},{"$f":"IF(Messen_Beweglichkeit!K57=\"\",\"\",Messen_Beweglichkeit!K57)","v":""},{"$f":"IF(Messen_Beweglichkeit!L57=\"\",\"\",Messen_Beweglichkeit!L57)","v":""},{"$f":"IF('Jump-and-Reach'!I57=\"\",\"\",'Jump-and-Reach'!I57)","v":""},{"$f":"IF('Jump-and-Reach'!J57=\"\",\"\",'Jump-and-Reach'!J57)","v":""},{"$f":"IF('30m Sprint'!I57=\"\",\"\",'30m Sprint'!I57)","v":""},{"$f":"IF('30m Sprint'!J57=\"\",\"\",'30m Sprint'!J57)","v":""},{"$f":"IF(KaBu!I57=\"\",\"\",KaBu!I57)","v":""},{"$f":"IF(KaBu!J57=\"\",\"\",KaBu!J57)","v":""},{"$f":"IF(Seilspringen!I57=\"\",\"\",Seilspringen!I57)","v":""},{"$f":"IF(Seilspringen!J57=\"\",\"\",Seilspringen!J57)","v":""},{"$f":"IF(Liegestütz!I57=\"\",\"\",Liegestütz!I57)","v":""},{"$f":"IF(Liegestütz!J57=\"\",\"\",Liegestütz!J57)","v":""},{"$f":"IF(Balance!I57=\"\",\"\",Balance!I57)","v":""},{"$f":"IF(Balance!J57=\"\",\"\",Balance!J57)","v":""},{"$f":"IF('1000m'!I57=\"\",\"\",'1000m'!I57)","v":""},{"$f":"IF('1000m'!J57=\"\",\"\",'1000m'!J57)","v":""},{"$f":"IF(B57=\"\",\"\",(IF(AND(Messen_Beweglichkeit!L57=\"\",AB57=\"OK\"),VLOOKUP(G57&D57,$AJ$10:$AT$31,4,FALSE)+1,IF(AND(Messen_Beweglichkeit!J57=\"\",AB57=\"kein Test\"),\"\",Messen_Beweglichkeit!L57))+IF(AND('Jump-and-Reach'!J57=\"\",AB57=\"OK\"),VLOOKUP(G57&D57,$AJ$10:$AT$31,5,FALSE)+1,IF(AND('Jump-and-Reach'!J57=\"\",AB57=\"kein Test\"),\"\",'Jump-and-Reach'!J57))+IF(AND('30m Sprint'!J57=\"\",AB57=\"OK\"),VLOOKUP(G57&D57,$AJ$10:$AT$31,6,FALSE)+1,IF(AND('30m Sprint'!J57=\"\",AB57=\"kein Test\"),\"\",'30m Sprint'!J57))+IF(AND(KaBu!J57=\"\",AB57=\"OK\"),VLOOKUP(G57&D57,$AJ$10:$AT$31,7,FALSE)+1,IF(AND(KaBu!J57=\"\",AB57=\"kein Test\"),\"\",KaBu!J57))+IF(AND(Seilspringen!J57=\"\",AB57=\"OK\"),VLOOKUP(G57&D57,$AJ$10:$AT$31,8,FALSE)+1,IF(AND(Seilspringen!J57=\"\",AB57=\"kein Test\"),\"\",Seilspringen!J57))+IF(AND(Liegestütz!J57=\"\",AB57=\"OK\"),VLOOKUP(G57&D57,$AJ$10:$AT$31,9,FALSE)+1,IF(AND(Liegestütz!J57=\"\",AB57=\"kein Test\"),\"\",Liegestütz!J57))+IF(AND(Balance!J57=\"\",AB57=\"OK\"),VLOOKUP(G57&D57,$AJ$10:$AT$31,10,FALSE)+1,IF(AND(Balance!J57=\"\",AB57=\"kein Test\"),\"\",Balance!J57))+IF(AND('1000m'!J57=\"\",AB57=\"OK\"),VLOOKUP(G57&D57,$AJ$10:$AT$31,11,FALSE)+1,IF(AND('1000m'!J57=\"\",AB57=\"kein Test\"),\"\",'1000m'!J57)))/8)","v":""},null,null,"kein Test"]
[49,{"$f":"IF(Athletenliste!B58=\"\",\"\",Athletenliste!B58)","v":""},{"$f":"IF(Athletenliste!C58=\"\",\"\",Athletenliste!C58)","v":""},{"$f":"IF(Athletenliste!D58=\"\",\"\",Athletenliste!D58)","v":""},{"$f":"IF(Athletenliste!E58=\"\",\"\",Athletenliste!E58)","v":""},{"$f":"IF(Athletenliste!F58=\"\",\"\",Athletenliste!F58)","v":""},{"$f":"IF(Athletenliste!G58=\"\",\"\",Athletenliste!G58)","v":""},{"$f":"IF(Athletenliste!H58=\"\",\"\",Athletenliste!H58)","v":""},{"$f":"IF(Messen_Beweglichkeit!K58=\"\",\"\",Messen_Beweglichkeit!K58)","v":""},{"$f":"IF(Messen_Beweglichkeit!L58=\"\",\"\",Messen_Beweglichkeit!L58)","v":""},{"$f":"IF('Jump-and-Reach'!I58=\"\",\"\",'Jump-and-Reach'!I58)","v":""},{"$f":"IF('Jump-and-Reach'!J58=\"\",\"\",'Jump-and-Reach'!J58)","v":""},{"$f":"IF('30m Sprint'!I58=\"\",\"\",'30m Sprint'!I58)","v":""},{"$f":"IF('30m Sprint'!J58=\"\",\"\",'30m Sprint'!J58)","v":""},{"$f":"IF(KaBu!I58=\"\",\"\",KaBu!I58)","v":""},{"$f":"IF(KaBu!J58=\"\",\"\",KaBu!J58)","v":""},{"$f":"IF(Seilspringen!I58=\"\",\"\",Seilspringen!I58)","v":""},{"$f":"IF(Seilspringen!J58=\"\",\"\",Seilspringen!J58)","v":""},{"$f":"IF(Liegestütz!I58=\"\",\"\",Liegestütz!I58)","v":""},{"$f":"IF(Liegestütz!J58=\"\",\"\",Liegestütz!J58)","v":""},{"$f":"IF(Balance!I58=\"\",\"\",Balance!I58)","v":""},{"$f":"IF(Balance!J58=\"\",\"\",Balance!J58)","v":""},{"$f":"IF('1000m'!I58=\"\",\"\",'1000m'!I58)","v":""},{"$f":"IF('1000m'!J58=\"\",\"\",'1000m'!J58)","v":""},{"$f":"IF(B58=\"\",\"\",(IF(AND(Messen_Beweglichkeit!L58=\"\",AB58=\"OK\"),VLOOKUP(G58&D58,$AJ$10:$AT$31,4,FALSE)+1,IF(AND(Messen_Beweglichkeit!J58=\"\",AB58=\"kein Test\"),\"\",Messen_Beweglichkeit!L58))+IF(AND('Jump-and-Reach'!J58=\"\",AB58=\"OK\"),VLOOKUP(G58&D58,$AJ$10:$AT$31,5,FALSE)+1,IF(AND('Jump-and-Reach'!J58=\"\",AB58=\"kein Test\"),\"\",'Jump-and-Reach'!J58))+IF(AND('30m Sprint'!J58=\"\",AB58=\"OK\"),VLOOKUP(G58&D58,$AJ$10:$AT$31,6,FALSE)+1,IF(AND('30m Sprint'!J58=\"\",AB58=\"kein Test\"),\"\",'30m Sprint'!J58))+IF(AND(KaBu!J58=\"\",AB58=\"OK\"),VLOOKUP(G58&D58,$AJ$10:$AT$31,7,FALSE)+1,IF(AND(KaBu!J58=\"\",AB58=\"kein Test\"),\"\",KaBu!J58))+IF(AND(Seilspringen!J58=\"\",AB58=\"OK\"),VLOOKUP(G58&D58,$AJ$10:$AT$31,8,FALSE)+1,IF(AND(Seilspringen!J58=\"\",AB58=\"kein Test\"),\"\",Seilspringen!J58))+IF(AND(Liegestütz!J58=\"\",AB58=\"OK\"),VLOOKUP(G58&D58,$AJ$10:$AT$31,9,FALSE)+1,IF(AND(Liegestütz!J58=\"\",AB58=\"kein Test\"),\"\",Liegestütz!J58))+IF(AND(Balance!J58=\"\",AB58=\"OK\"),VLOOKUP(G58&D58,$AJ$10:$AT$31,10,FALSE)+1,IF(AND(Balance!J58=\"\",AB58=\"kein Test\"),\"\",Balance!J58))+IF(AND('1000m'!J58=\"\",AB58=\"OK\"),VLOOKUP(G58&D58,$AJ$10:$AT$31,11,FALSE)+1,IF(AND('1000m'!J58=\"\",AB58=\"kein Test\"),\"\",'1000m'!J58)))/8)","v":""},null,null,"kein Test"]
[50,{"$f":"IF(Athletenliste!B59=\"\",\"\",Athletenliste!B59)","v":""},{"$f":"IF(Athletenliste!C59=\"\",\"\",Athletenliste!C59)","v":""},{"$f":"IF(Athletenliste!D59=\"\",\"\",Athletenliste!D59)","v":""},{"$f":"IF(Athletenliste!E59=\"\",\"\",Athletenliste!E59)","v":""},{"$f":"IF(Athletenliste!F59=\"\",\"\",Athletenliste!F59)","v":""},{"$f":"IF(Athletenliste!G59=\"\",\"\",Athletenliste!G59)","v":""},{"$f":"IF(Athletenliste!H59=\"\",\"\",Athletenliste!H59)","v":""},{"$f":"IF(Messen_Beweglichkeit!K59=\"\",\"\",Messen_Beweglichkeit!K59)","v":""},{"$f":"IF(Messen_Beweglichkeit!L59=\"\",\"\",Messen_Beweglichkeit!L59)","v":""},{"$f":"IF('Jump-and-Reach'!I59=\"\",\"\",'Jump-and-Reach'!I59)","v":""},{"$f":"IF('Jump-and-Reach'!J59=\"\",\"\",'Jump-and-Reach'!J59)","v":""},{"$f":"IF('30m Sprint'!I59=\"\",\"\",'30m Sprint'!I59)","v":""},{"$f":"IF('30m Sprint'!J59=\"\",\"\",'30m Sprint'!J59)","v":""},{"$f":"IF(KaBu!I59=\"\",\"\",KaBu!I59)","v":""},{"$f":"IF(KaBu!J59=\"\",\"\",KaBu!J59)","v":""},{"$f":"IF(Seilspringen!I59=\"\",\"\",Seilspringen!I59)","v":""},{"$f":"IF(Seilspringen!J59=\"\",\"\",Seilspringen!J59)","v":""},{"$f":"IF(Liegestütz!I59=\"\",\"\",Liegestütz!I59)","v":""},{"$f":"IF(Liegestütz!J59=\"\",\"\",Liegestütz!J59)","v":""},{"$f":"IF(Balance!I59=\"\",\"\",Balance!I59)","v":""},{"$f":"IF(Balance!J59=\"\",\"\",Balance!J59)","v":""},{"$f":"IF('1000m'!I59=\"\",\"\",'1000m'!I59)","v":""},{"$f":"IF('1000m'!J59=\"\",\"\",'1000m'!J59)","v":""},{"$f":"IF(B59=\"\",\"\",(IF(AND(Messen_Beweglichkeit!L59=\"\",AB59=\"OK\"),VLOOKUP(G59&D59,$AJ$10:$AT$31,4,FALSE)+1,IF(AND(Messen_Beweglichkeit!J59=\"\",AB59=\"kein Test\"),\"\",Messen_Beweglichkeit!L59))+IF(AND('Jump-and-Reach'!J59=\"\",AB59=\"OK\"),VLOOKUP(G59&D59,$AJ$10:$AT$31,5,FALSE)+1,IF(AND('Jump-and-Reach'!J59=\"\",AB59=\"kein Test\"),\"\",'Jump-and-Reach'!J59))+IF(AND('30m Sprint'!J59=\"\",AB59=\"OK\"),VLOOKUP(G59&D59,$AJ$10:$AT$31,6,FALSE)+1,IF(AND('30m Sprint'!J59=\"\",AB59=\"kein Test\"),\"\",'30m Sprint'!J59))+IF(AND(KaBu!J59=\"\",AB59=\"OK\"),VLOOKUP(G59&D59,$AJ$10:$AT$31,7,FALSE)+1,IF(AND(KaBu!J59=\"\",AB59=\"kein Test\"),\"\",KaBu!J59))+IF(AND(Seilspringen!J59=\"\",AB59=\"OK\"),VLOOKUP(G59&D59,$AJ$10:$AT$31,8,FALSE)+1,IF(AND(Seilspringen!J59=\"\",AB59=\"kein Test\"),\"\",Seilspringen!J59))+IF(AND(Liegestütz!J59=\"\",AB59=\"OK\"),VLOOKUP(G59&D59,$AJ$10:$AT$31,9,FALSE)+1,IF(AND(Liegestütz!J59=\"\",AB59=\"kein Test\"),\"\",Liegestütz!J59))+IF(AND(Balance!J59=\"\",AB59=\"OK\"),VLOOKUP(G59&D59,$AJ$10:$AT$31,10,FALSE)+1,IF(AND(Balance!J59=\"\",AB59=\"kein Test\"),\"\",Balance!J59))+IF(AND('1000m'!J59=\"\",AB59=\"OK\"),VLOOKUP(G59&D59,$AJ$10:$AT$31,11,FALSE)+1,IF(AND('1000m'!J59=\"\",AB59=\"kein Test\"),\"\",'1000m'!J59)))/8)","v":""},null,null,"kein Test"]
[51,{"$f":"IF(Athletenliste!B60=\"\",\"\",Athletenliste!B60)","v":""},{"$f":"IF(Athletenliste!C60=\"\",\"\",Athletenliste!C60)","v":""},{"$f":"IF(Athletenliste!D60=\"\",\"\",Athletenliste!D60)","v":""},{"$f":"IF(Athletenliste!E60=\"\",\"\",Athletenliste!E60)","v":""},{"$f":"IF(Athletenliste!F60=\"\",\"\",Athletenliste!F60)","v":""},{"$f":"IF(Athletenliste!G60=\"\",\"\",Athletenliste!G60)","v":""},{"$f":"IF(Athletenliste!H60=\"\",\"\",Athletenliste!H60)","v":""},{"$f":"IF(Messen_Beweglichkeit!K60=\"\",\"\",Messen_Beweglichkeit!K60)","v":""},{"$f":"IF(Messen_Beweglichkeit!L60=\"\",\"\",Messen_Beweglichkeit!L60)","v":""},{"$f":"IF('Jump-and-Reach'!I60=\"\",\"\",'Jump-and-Reach'!I60)","v":""},{"$f":"IF('Jump-and-Reach'!J60=\"\",\"\",'Jump-and-Reach'!J60)","v":""},{"$f":"IF('30m Sprint'!I60=\"\",\"\",'30m Sprint'!I60)","v":""},{"$f":"IF('30m Sprint'!J60=\"\",\"\",'30m Sprint'!J60)","v":""},{"$f":"IF(KaBu!I60=\"\",\"\",KaBu!I60)","v":""},{"$f":"IF(KaBu!J60=\"\",\"\",KaBu!J60)","v":""},{"$f":"IF(Seilspringen!I60=\"\",\"\",Seilspringen!I60)","v":""},{"$f":"IF(Seilspringen!J60=\"\",\"\",Seilspringen!J60)","v":""},{"$f":"IF(Liegestütz!I60=\"\",\"\",Liegestütz!I60)","v":""},{"$f":"IF(Liegestütz!J60=\"\",\"\",Liegestütz!J60)","v":""},{"$f":"IF(Balance!I60=\"\",\"\",Balance!I60)","v":""},{"$f":"IF(Balance!J60=\"\",\"\",Balance!J60)","v":""},{"$f":"IF('1000m'!I60=\"\",\"\",'1000m'!I60)","v":""},{"$f":"IF('1000m'!J60=\"\",\"\",'1000m'!J60)","v":""},{"$f":"IF(B60=\"\",\"\",(IF(AND(Messen_Beweglichkeit!L60=\"\",AB60=\"OK\"),VLOOKUP(G60&D60,$AJ$10:$AT$31,4,FALSE)+1,IF(AND(Messen_Beweglichkeit!J60=\"\",AB60=\"kein Test\"),\"\",Messen_Beweglichkeit!L60))+IF(AND('Jump-and-Reach'!J60=\"\",AB60=\"OK\"),VLOOKUP(G60&D60,$AJ$10:$AT$31,5,FALSE)+1,IF(AND('Jump-and-Reach'!J60=\"\",AB60=\"kein Test\"),\"\",'Jump-and-Reach'!J60))+IF(AND('30m Sprint'!J60=\"\",AB60=\"OK\"),VLOOKUP(G60&D60,$AJ$10:$AT$31,6,FALSE)+1,IF(AND('30m Sprint'!J60=\"\",AB60=\"kein Test\"),\"\",'30m Sprint'!J60))+IF(AND(KaBu!J60=\"\",AB60=\"OK\"),VLOOKUP(G60&D60,$AJ$10:$AT$31,7,FALSE)+1,IF(AND(KaBu!J60=\"\",AB60=\"kein Test\"),\"\",KaBu!J60))+IF(AND(Seilspringen!J60=\"\",AB60=\"OK\"),VLOOKUP(G60&D60,$AJ$10:$AT$31,8,FALSE)+1,IF(AND(Seilspringen!J60=\"\",AB60=\"kein Test\"),\"\",Seilspringen!J60))+IF(AND(Liegestütz!J60=\"\",AB60=\"OK\"),VLOOKUP(G60&D60,$AJ$10:$AT$31,9,FALSE)+1,IF(AND(Liegestütz!J60=\"\",AB60=\"kein Test\"),\"\",Liegestütz!J60))+IF(AND(Balance!J60=\"\",AB60=\"OK\"),VLOOKUP(G60&D60,$AJ$10:$AT$31,10,FALSE)+1,IF(AND(Balance!J60=\"\",AB60=\"kein Test\"),\"\",Balance!J60))+IF(AND('1000m'!J60=\"\",AB60=\"OK\"),VLOOKUP(G60&D60,$AJ$10:$AT$31,11,FALSE)+1,IF(AND('1000m'!J60=\"\",AB60=\"kein Test\"),\"\",'1000m'!J60)))/8)","v":""},null,null,"kein Test"]
[52,{"$f":"IF(Athletenliste!B61=\"\",\"\",Athletenliste!B61)","v":""},{"$f":"IF(Athletenliste!C61=\"\",\"\",Athletenliste!C61)","v":""},{"$f":"IF(Athletenliste!D61=\"\",\"\",Athletenliste!D61)","v":""},{"$f":"IF(Athletenliste!E61=\"\",\"\",Athletenliste!E61)","v":""},{"$f":"IF(Athletenliste!F61=\"\",\"\",Athletenliste!F61)","v":""},{"$f":"IF(Athletenliste!G61=\"\",\"\",Athletenliste!G61)","v":""},{"$f":"IF(Athletenliste!H61=\"\",\"\",Athletenliste!H61)","v":""},{"$f":"IF(Messen_Beweglichkeit!K61=\"\",\"\",Messen_Beweglichkeit!K61)","v":""},{"$f":"IF(Messen_Beweglichkeit!L61=\"\",\"\",Messen_Beweglichkeit!L61)","v":""},{"$f":"IF('Jump-and-Reach'!I61=\"\",\"\",'Jump-and-Reach'!I61)","v":""},{"$f":"IF('Jump-and-Reach'!J61=\"\",\"\",'Jump-and-Reach'!J61)","v":""},{"$f":"IF('30m Sprint'!I61=\"\",\"\",'30m Sprint'!I61)","v":""},{"$f":"IF('30m Sprint'!J61=\"\",\"\",'30m Sprint'!J61)","v":""},{"$f":"IF(KaBu!I61=\"\",\"\",KaBu!I61)","v":""},{"$f":"IF(KaBu!J61=\"\",\"\",KaBu!J61)","v":""},{"$f":"IF(Seilspringen!I61=\"\",\"\",Seilspringen!I61)","v":""},{"$f":"IF(Seilspringen!J61=\"\",\"\",Seilspringen!J61)","v":""},{"$f":"IF(Liegestütz!I61=\"\",\"\",Liegestütz!I61)","v":""},{"$f":"IF(Liegestütz!J61=\"\",\"\",Liegestütz!J61)","v":""},{"$f":"IF(Balance!I61=\"\",\"\",Balance!I61)","v":""},{"$f":"IF(Balance!J61=\"\",\"\",Balance!J61)","v":""},{"$f":"IF('1000m'!I61=\"\",\"\",'1000m'!I61)","v":""},{"$f":"IF('1000m'!J61=\"\",\"\",'1000m'!J61)","v":""},{"$f":"IF(B61=\"\",\"\",(IF(AND(Messen_Beweglichkeit!L61=\"\",AB61=\"OK\"),VLOOKUP(G61&D61,$AJ$10:$AT$31,4,FALSE)+1,IF(AND(Messen_Beweglichkeit!J61=\"\",AB61=\"kein Test\"),\"\",Messen_Beweglichkeit!L61))+IF(AND('Jump-and-Reach'!J61=\"\",AB61=\"OK\"),VLOOKUP(G61&D61,$AJ$10:$AT$31,5,FALSE)+1,IF(AND('Jump-and-Reach'!J61=\"\",AB61=\"kein Test\"),\"\",'Jump-and-Reach'!J61))+IF(AND('30m Sprint'!J61=\"\",AB61=\"OK\"),VLOOKUP(G61&D61,$AJ$10:$AT$31,6,FALSE)+1,IF(AND('30m Sprint'!J61=\"\",AB61=\"kein Test\"),\"\",'30m Sprint'!J61))+IF(AND(KaBu!J61=\"\",AB61=\"OK\"),VLOOKUP(G61&D61,$AJ$10:$AT$31,7,FALSE)+1,IF(AND(KaBu!J61=\"\",AB61=\"kein Test\"),\"\",KaBu!J61))+IF(AND(Seilspringen!J61=\"\",AB61=\"OK\"),VLOOKUP(G61&D61,$AJ$10:$AT$31,8,FALSE)+1,IF(AND(Seilspringen!J61=\"\",AB61=\"kein Test\"),\"\",Seilspringen!J61))+IF(AND(Liegestütz!J61=\"\",AB61=\"OK\"),VLOOKUP(G61&D61,$AJ$10:$AT$31,9,FALSE)+1,IF(AND(Liegestütz!J61=\"\",AB61=\"kein Test\"),\"\",Liegestütz!J61))+IF(AND(Balance!J61=\"\",AB61=\"OK\"),VLOOKUP(G61&D61,$AJ$10:$AT$31,10,FALSE)+1,IF(AND(Balance!J61=\"\",AB61=\"kein Test\"),\"\",Balance!J61))+IF(AND('1000m'!J61=\"\",AB61=\"OK\"),VLOOKUP(G61&D61,$AJ$10:$AT$31,11,FALSE)+1,IF(AND('1000m'!J61=\"\",AB61=\"kein Test\"),\"\",'1000m'!J61)))/8)","v":""},null,null,"kein Test"]
[53,{"$f":"IF(Athletenliste!B62=\"\",\"\",Athletenliste!B62)","v":""},{"$f":"IF(Athletenliste!C62=\"\",\"\",Athletenliste!C62)","v":""},{"$f":"IF(Athletenliste!D62=\"\",\"\",Athletenliste!D62)","v":""},{"$f":"IF(Athletenliste!E62=\"\",\"\",Athletenliste!E62)","v":""},{"$f":"IF(Athletenliste!F62=\"\",\"\",Athletenliste!F62)","v":""},{"$f":"IF(Athletenliste!G62=\"\",\"\",Athletenliste!G62)","v":""},{"$f":"IF(Athletenliste!H62=\"\",\"\",Athletenliste!H62)","v":""},{"$f":"IF(Messen_Beweglichkeit!K62=\"\",\"\",Messen_Beweglichkeit!K62)","v":""},{"$f":"IF(Messen_Beweglichkeit!L62=\"\",\"\",Messen_Beweglichkeit!L62)","v":""},{"$f":"IF('Jump-and-Reach'!I62=\"\",\"\",'Jump-and-Reach'!I62)","v":""},{"$f":"IF('Jump-and-Reach'!J62=\"\",\"\",'Jump-and-Reach'!J62)","v":""},{"$f":"IF('30m Sprint'!I62=\"\",\"\",'30m Sprint'!I62)","v":""},{"$f":"IF('30m Sprint'!J62=\"\",\"\",'30m Sprint'!J62)","v":""},{"$f":"IF(KaBu!I62=\"\",\"\",KaBu!I62)","v":""},{"$f":"IF(KaBu!J62=\"\",\"\",KaBu!J62)","v":""},{"$f":"IF(Seilspringen!I62=\"\",\"\",Seilspringen!I62)","v":""},{"$f":"IF(Seilspringen!J62=\"\",\"\",Seilspringen!J62)","v":""},{"$f":"IF(Liegestütz!I62=\"\",\"\",Liegestütz!I62)","v":""},{"$f":"IF(Liegestütz!J62=\"\",\"\",Liegestütz!J62)","v":""},{"$f":"IF(Balance!I62=\"\",\"\",Balance!I62)","v":""},{"$f":"IF(Balance!J62=\"\",\"\",Balance!J62)","v":""},{"$f":"IF('1000m'!I62=\"\",\"\",'1000m'!I62)","v":""},{"$f":"IF('1000m'!J62=\"\",\"\",'1000m'!J62)","v":""},{"$f":"IF(B62=\"\",\"\",(IF(AND(Messen_Beweglichkeit!L62=\"\",AB62=\"OK\"),VLOOKUP(G62&D62,$AJ$10:$AT$31,4,FALSE)+1,IF(AND(Messen_Beweglichkeit!J62=\"\",AB62=\"kein Test\"),\"\",Messen_Beweglichkeit!L62))+IF(AND('Jump-and-Reach'!J62=\"\",AB62=\"OK\"),VLOOKUP(G62&D62,$AJ$10:$AT$31,5,FALSE)+1,IF(AND('Jump-and-Reach'!J62=\"\",AB62=\"kein Test\"),\"\",'Jump-and-Reach'!J62))+IF(AND('30m Sprint'!J62=\"\",AB62=\"OK\"),VLOOKUP(G62&D62,$AJ$10:$AT$31,6,FALSE)+1,IF(AND('30m Sprint'!J62=\"\",AB62=\"kein Test\"),\"\",'30m Sprint'!J62))+IF(AND(KaBu!J62=\"\",AB62=\"OK\"),VLOOKUP(G62&D62,$AJ$10:$AT$31,7,FALSE)+1,IF(AND(KaBu!J62=\"\",AB62=\"kein Test\"),\"\",KaBu!J62))+IF(AND(Seilspringen!J62=\"\",AB62=\"OK\"),VLOOKUP(G62&D62,$AJ$10:$AT$31,8,FALSE)+1,IF(AND(Seilspringen!J62=\"\",AB62=\"kein Test\"),\"\",Seilspringen!J62))+IF(AND(Liegestütz!J62=\"\",AB62=\"OK\"),VLOOKUP(G62&D62,$AJ$10:$AT$31,9,FALSE)+1,IF(AND(Liegestütz!J62=\"\",AB62=\"kein Test\"),\"\",Liegestütz!J62))+IF(AND(Balance!J62=\"\",AB62=\"OK\"),VLOOKUP(G62&D62,$AJ$10:$AT$31,10,FALSE)+1,IF(AND(Balance!J62=\"\",AB62=\"kein Test\"),\"\",Balance!J62))+IF(AND('1000m'!J62=\"\",AB62=\"OK\"),VLOOKUP(G62&D62,$AJ$10:$AT$31,11,FALSE)+1,IF(AND('1000m'!J62=\"\",AB62=\"kein Test\"),\"\",'1000m'!J62)))/8)","v":""},null,null,"kein Test"]
[54,{"$f":"IF(Athletenliste!B63=\"\",\"\",Athletenliste!B63)","v":""},{"$f":"IF(Athletenliste!C63=\"\",\"\",Athletenliste!C63)","v":""},{"$f":"IF(Athletenliste!D63=\"\",\"\",Athletenliste!D63)","v":""},{"$f":"IF(Athletenliste!E63=\"\",\"\",Athletenliste!E63)","v":""},{"$f":"IF(Athletenliste!F63=\"\",\"\",Athletenliste!F63)","v":""},{"$f":"IF(Athletenliste!G63=\"\",\"\",Athletenliste!G63)","v":""},{"$f":"IF(Athletenliste!H63=\"\",\"\",Athletenliste!H63)","v":""},{"$f":"IF(Messen_Beweglichkeit!K63=\"\",\"\",Messen_Beweglichkeit!K63)","v":""},{"$f":"IF(Messen_Beweglichkeit!L63=\"\",\"\",Messen_Beweglichkeit!L63)","v":""},{"$f":"IF('Jump-and-Reach'!I63=\"\",\"\",'Jump-and-Reach'!I63)","v":""},{"$f":"IF('Jump-and-Reach'!J63=\"\",\"\",'Jump-and-Reach'!J63)","v":""},{"$f":"IF('30m Sprint'!I63=\"\",\"\",'30m Sprint'!I63)","v":""},{"$f":"IF('30m Sprint'!J63=\"\",\"\",'30m Sprint'!J63)","v":""},{"$f":"IF(KaBu!I63=\"\",\"\",KaBu!I63)","v":""},{"$f":"IF(KaBu!J63=\"\",\"\",KaBu!J63)","v":""},{"$f":"IF(Seilspringen!I63=\"\",\"\",Seilspringen!I63)","v":""},{"$f":"IF(Seilspringen!J63=\"\",\"\",Seilspringen!J63)","v":""},{"$f":"IF(Liegestütz!I63=\"\",\"\",Liegestütz!I63)","v":""},{"$f":"IF(Liegestütz!J63=\"\",\"\",Liegestütz!J63)","v":""},{"$f":"IF(Balance!I63=\"\",\"\",Balance!I63)","v":""},{"$f":"IF(Balance!J63=\"\",\"\",Balance!J63)","v":""},{"$f":"IF('1000m'!I63=\"\",\"\",'1000m'!I63)","v":""},{"$f":"IF('1000m'!J63=\"\",\"\",'1000m'!J63)","v":""},{"$f":"IF(B63=\"\",\"\",(IF(AND(Messen_Beweglichkeit!L63=\"\",AB63=\"OK\"),VLOOKUP(G63&D63,$AJ$10:$AT$31,4,FALSE)+1,IF(AND(Messen_Beweglichkeit!J63=\"\",AB63=\"kein Test\"),\"\",Messen_Beweglichkeit!L63))+IF(AND('Jump-and-Reach'!J63=\"\",AB63=\"OK\"),VLOOKUP(G63&D63,$AJ$10:$AT$31,5,FALSE)+1,IF(AND('Jump-and-Reach'!J63=\"\",AB63=\"kein Test\"),\"\",'Jump-and-Reach'!J63))+IF(AND('30m Sprint'!J63=\"\",AB63=\"OK\"),VLOOKUP(G63&D63,$AJ$10:$AT$31,6,FALSE)+1,IF(AND('30m Sprint'!J63=\"\",AB63=\"kein Test\"),\"\",'30m Sprint'!J63))+IF(AND(KaBu!J63=\"\",AB63=\"OK\"),VLOOKUP(G63&D63,$AJ$10:$AT$31,7,FALSE)+1,IF(AND(KaBu!J63=\"\",AB63=\"kein Test\"),\"\",KaBu!J63))+IF(AND(Seilspringen!J63=\"\",AB63=\"OK\"),VLOOKUP(G63&D63,$AJ$10:$AT$31,8,FALSE)+1,IF(AND(Seilspringen!J63=\"\",AB63=\"kein Test\"),\"\",Seilspringen!J63))+IF(AND(Liegestütz!J63=\"\",AB63=\"OK\"),VLOOKUP(G63&D63,$AJ$10:$AT$31,9,FALSE)+1,IF(AND(Liegestütz!J63=\"\",AB63=\"kein Test\"),\"\",Liegestütz!J63))+IF(AND(Balance!J63=\"\",AB63=\"OK\"),VLOOKUP(G63&D63,$AJ$10:$AT$31,10,FALSE)+1,IF(AND(Balance!J63=\"\",AB63=\"kein Test\"),\"\",Balance!J63))+IF(AND('1000m'!J63=\"\",AB63=\"OK\"),VLOOKUP(G63&D63,$AJ$10:$AT$31,11,FALSE)+1,IF(AND('1000m'!J63=\"\",AB63=\"kein Test\"),\"\",'1000m'!J63)))/8)","v":""},null,null,"kein Test"]
[55,{"$f":"IF(Athletenliste!B64=\"\",\"\",Athletenliste!B64)","v":""},{"$f":"IF(Athletenliste!C64=\"\",\"\",Athletenliste!C64)","v":""},{"$f":"IF(Athletenliste!D64=\"\",\"\",Athletenliste!D64)","v":""},{"$f":"IF(Athletenliste!E64=\"\",\"\",Athletenliste!E64)","v":""},{"$f":"IF(Athletenliste!F64=\"\",\"\",Athletenliste!F64)","v":""},{"$f":"IF(Athletenliste!G64=\"\",\"\",Athletenliste!G64)","v":""},{"$f":"IF(Athletenliste!H64=\"\",\"\",Athletenliste!H64)","v":""},{"$f":"IF(Messen_Beweglichkeit!K64=\"\",\"\",Messen_Beweglichkeit!K64)","v":""},{"$f":"IF(Messen_Beweglichkeit!L64=\"\",\"\",Messen_Beweglichkeit!L64)","v":""},{"$f":"IF('Jump-and-Reach'!I64=\"\",\"\",'Jump-and-Reach'!I64)","v":""},{"$f":"IF('Jump-and-Reach'!J64=\"\",\"\",'Jump-and-Reach'!J64)","v":""},{"$f":"IF('30m Sprint'!I64=\"\",\"\",'30m Sprint'!I64)","v":""},{"$f":"IF('30m Sprint'!J64=\"\",\"\",'30m Sprint'!J64)","v":""},{"$f":"IF(KaBu!I64=\"\",\"\",KaBu!I64)","v":""},{"$f":"IF(KaBu!J64=\"\",\"\",KaBu!J64)","v":""},{"$f":"IF(Seilspringen!I64=\"\",\"\",Seilspringen!I64)","v":""},{"$f":"IF(Seilspringen!J64=\"\",\"\",Seilspringen!J64)","v":""},{"$f":"IF(Liegestütz!I64=\"\",\"\",Liegestütz!I64)","v":""},{"$f":"IF(Liegestütz!J64=\"\",\"\",Liegestütz!J64)","v":""},{"$f":"IF(Balance!I64=\"\",\"\",Balance!I64)","v":""},{"$f":"IF(Balance!J64=\"\",\"\",Balance!J64)","v":""},{"$f":"IF('1000m'!I64=\"\",\"\",'1000m'!I64)","v":""},{"$f":"IF('1000m'!J64=\"\",\"\",'1000m'!J64)","v":""},{"$f":"IF(B64=\"\",\"\",(IF(AND(Messen_Beweglichkeit!L64=\"\",AB64=\"OK\"),VLOOKUP(G64&D64,$AJ$10:$AT$31,4,FALSE)+1,IF(AND(Messen_Beweglichkeit!J64=\"\",AB64=\"kein Test\"),\"\",Messen_Beweglichkeit!L64))+IF(AND('Jump-and-Reach'!J64=\"\",AB64=\"OK\"),VLOOKUP(G64&D64,$AJ$10:$AT$31,5,FALSE)+1,IF(AND('Jump-and-Reach'!J64=\"\",AB64=\"kein Test\"),\"\",'Jump-and-Reach'!J64))+IF(AND('30m Sprint'!J64=\"\",AB64=\"OK\"),VLOOKUP(G64&D64,$AJ$10:$AT$31,6,FALSE)+1,IF(AND('30m Sprint'!J64=\"\",AB64=\"kein Test\"),\"\",'30m Sprint'!J64))+IF(AND(KaBu!J64=\"\",AB64=\"OK\"),VLOOKUP(G64&D64,$AJ$10:$AT$31,7,FALSE)+1,IF(AND(KaBu!J64=\"\",AB64=\"kein Test\"),\"\",KaBu!J64))+IF(AND(Seilspringen!J64=\"\",AB64=\"OK\"),VLOOKUP(G64&D64,$AJ$10:$AT$31,8,FALSE)+1,IF(AND(Seilspringen!J64=\"\",AB64=\"kein Test\"),\"\",Seilspringen!J64))+IF(AND(Liegestütz!J64=\"\",AB64=\"OK\"),VLOOKUP(G64&D64,$AJ$10:$AT$31,9,FALSE)+1,IF(AND(Liegestütz!J64=\"\",AB64=\"kein Test\"),\"\",Liegestütz!J64))+IF(AND(Balance!J64=\"\",AB64=\"OK\"),VLOOKUP(G64&D64,$AJ$10:$AT$31,10,FALSE)+1,IF(AND(Balance!J64=\"\",AB64=\"kein Test\"),\"\",Balance!J64))+IF(AND('1000m'!J64=\"\",AB64=\"OK\"),VLOOKUP(G64&D64,$AJ$10:$AT$31,11,FALSE)+1,IF(AND('1000m'!J64=\"\",AB64=\"kein Test\"),\"\",'1000m'!J64)))/8)","v":""},null,null,"kein Test"]
[56,{"$f":"IF(Athletenliste!B65=\"\",\"\",Athletenliste!B65)","v":""},{"$f":"IF(Athletenliste!C65=\"\",\"\",Athletenliste!C65)","v":""},{"$f":"IF(Athletenliste!D65=\"\",\"\",Athletenliste!D65)","v":""},{"$f":"IF(Athletenliste!E65=\"\",\"\",Athletenliste!E65)","v":""},{"$f":"IF(Athletenliste!F65=\"\",\"\",Athletenliste!F65)","v":""},{"$f":"IF(Athletenliste!G65=\"\",\"\",Athletenliste!G65)","v":""},{"$f":"IF(Athletenliste!H65=\"\",\"\",Athletenliste!H65)","v":""},{"$f":"IF(Messen_Beweglichkeit!K65=\"\",\"\",Messen_Beweglichkeit!K65)","v":""},{"$f":"IF(Messen_Beweglichkeit!L65=\"\",\"\",Messen_Beweglichkeit!L65)","v":""},{"$f":"IF('Jump-and-Reach'!I65=\"\",\"\",'Jump-and-Reach'!I65)","v":""},{"$f":"IF('Jump-and-Reach'!J65=\"\",\"\",'Jump-and-Reach'!J65)","v":""},{"$f":"IF('30m Sprint'!I65=\"\",\"\",'30m Sprint'!I65)","v":""},{"$f":"IF('30m Sprint'!J65=\"\",\"\",'30m Sprint'!J65)","v":""},{"$f":"IF(KaBu!I65=\"\",\"\",KaBu!I65)","v":""},{"$f":"IF(KaBu!J65=\"\",\"\",KaBu!J65)","v":""},{"$f":"IF(Seilspringen!I65=\"\",\"\",Seilspringen!I65)","v":""},{"$f":"IF(Seilspringen!J65=\"\",\"\",Seilspringen!J65)","v":""},{"$f":"IF(Liegestütz!I65=\"\",\"\",Liegestütz!I65)","v":""},{"$f":"IF(Liegestütz!J65=\"\",\"\",Liegestütz!J65)","v":""},{"$f":"IF(Balance!I65=\"\",\"\",Balance!I65)","v":""},{"$f":"IF(Balance!J65=\"\",\"\",Balance!J65)","v":""},{"$f":"IF('1000m'!I65=\"\",\"\",'1000m'!I65)","v":""},{"$f":"IF('1000m'!J65=\"\",\"\",'1000m'!J65)","v":""},{"$f":"IF(B65=\"\",\"\",(IF(AND(Messen_Beweglichkeit!L65=\"\",AB65=\"OK\"),VLOOKUP(G65&D65,$AJ$10:$AT$31,4,FALSE)+1,IF(AND(Messen_Beweglichkeit!J65=\"\",AB65=\"kein Test\"),\"\",Messen_Beweglichkeit!L65))+IF(AND('Jump-and-Reach'!J65=\"\",AB65=\"OK\"),VLOOKUP(G65&D65,$AJ$10:$AT$31,5,FALSE)+1,IF(AND('Jump-and-Reach'!J65=\"\",AB65=\"kein Test\"),\"\",'Jump-and-Reach'!J65))+IF(AND('30m Sprint'!J65=\"\",AB65=\"OK\"),VLOOKUP(G65&D65,$AJ$10:$AT$31,6,FALSE)+1,IF(AND('30m Sprint'!J65=\"\",AB65=\"kein Test\"),\"\",'30m Sprint'!J65))+IF(AND(KaBu!J65=\"\",AB65=\"OK\"),VLOOKUP(G65&D65,$AJ$10:$AT$31,7,FALSE)+1,IF(AND(KaBu!J65=\"\",AB65=\"kein Test\"),\"\",KaBu!J65))+IF(AND(Seilspringen!J65=\"\",AB65=\"OK\"),VLOOKUP(G65&D65,$AJ$10:$AT$31,8,FALSE)+1,IF(AND(Seilspringen!J65=\"\",AB65=\"kein Test\"),\"\",Seilspringen!J65))+IF(AND(Liegestütz!J65=\"\",AB65=\"OK\"),VLOOKUP(G65&D65,$AJ$10:$AT$31,9,FALSE)+1,IF(AND(Liegestütz!J65=\"\",AB65=\"kein Test\"),\"\",Liegestütz!J65))+IF(AND(Balance!J65=\"\",AB65=\"OK\"),VLOOKUP(G65&D65,$AJ$10:$AT$31,10,FALSE)+1,IF(AND(Balance!J65=\"\",AB65=\"kein Test\"),\"\",Balance!J65))+IF(AND('1000m'!J65=\"\",AB65=\"OK\"),VLOOKUP(G65&D65,$AJ$10:$AT$31,11,FALSE)+1,IF(AND('1000m'!J65=\"\",AB65=\"kein Test\"),\"\",'1000m'!J65)))/8)","v":""},null,null,"kein Test"]
[57,{"$f":"IF(Athletenliste!B66=\"\",\"\",Athletenliste!B66)","v":""},{"$f":"IF(Athletenliste!C66=\"\",\"\",Athletenliste!C66)","v":""},{"$f":"IF(Athletenliste!D66=\"\",\"\",Athletenliste!D66)","v":""},{"$f":"IF(Athletenliste!E66=\"\",\"\",Athletenliste!E66)","v":""},{"$f":"IF(Athletenliste!F66=\"\",\"\",Athletenliste!F66)","v":""},{"$f":"IF(Athletenliste!G66=\"\",\"\",Athletenliste!G66)","v":""},{"$f":"IF(Athletenliste!H66=\"\",\"\",Athletenliste!H66)","v":""},{"$f":"IF(Messen_Beweglichkeit!K66=\"\",\"\",Messen_Beweglichkeit!K66)","v":""},{"$f":"IF(Messen_Beweglichkeit!L66=\"\",\"\",Messen_Beweglichkeit!L66)","v":""},{"$f":"IF('Jump-and-Reach'!I66=\"\",\"\",'Jump-and-Reach'!I66)","v":""},{"$f":"IF('Jump-and-Reach'!J66=\"\",\"\",'Jump-and-Reach'!J66)","v":""},{"$f":"IF('30m Sprint'!I66=\"\",\"\",'30m Sprint'!I66)","v":""},{"$f":"IF('30m Sprint'!J66=\"\",\"\",'30m Sprint'!J66)","v":""},{"$f":"IF(KaBu!I66=\"\",\"\",KaBu!I66)","v":""},{"$f":"IF(KaBu!J66=\"\",\"\",KaBu!J66)","v":""},{"$f":"IF(Seilspringen!I66=\"\",\"\",Seilspringen!I66)","v":""},{"$f":"IF(Seilspringen!J66=\"\",\"\",Seilspringen!J66)","v":""},{"$f":"IF(Liegestütz!I66=\"\",\"\",Liegestütz!I66)","v":""},{"$f":"IF(Liegestütz!J66=\"\",\"\",Liegestütz!J66)","v":""},{"$f":"IF(Balance!I66=\"\",\"\",Balance!I66)","v":""},{"$f":"IF(Balance!J66=\"\",\"\",Balance!J66)","v":""},{"$f":"IF('1000m'!I66=\"\",\"\",'1000m'!I66)","v":""},{"$f":"IF('1000m'!J66=\"\",\"\",'1000m'!J66)","v":""},{"$f":"IF(B66=\"\",\"\",(IF(AND(Messen_Beweglichkeit!L66=\"\",AB66=\"OK\"),VLOOKUP(G66&D66,$AJ$10:$AT$31,4,FALSE)+1,IF(AND(Messen_Beweglichkeit!J66=\"\",AB66=\"kein Test\"),\"\",Messen_Beweglichkeit!L66))+IF(AND('Jump-and-Reach'!J66=\"\",AB66=\"OK\"),VLOOKUP(G66&D66,$AJ$10:$AT$31,5,FALSE)+1,IF(AND('Jump-and-Reach'!J66=\"\",AB66=\"kein Test\"),\"\",'Jump-and-Reach'!J66))+IF(AND('30m Sprint'!J66=\"\",AB66=\"OK\"),VLOOKUP(G66&D66,$AJ$10:$AT$31,6,FALSE)+1,IF(AND('30m Sprint'!J66=\"\",AB66=\"kein Test\"),\"\",'30m Sprint'!J66))+IF(AND(KaBu!J66=\"\",AB66=\"OK\"),VLOOKUP(G66&D66,$AJ$10:$AT$31,7,FALSE)+1,IF(AND(KaBu!J66=\"\",AB66=\"kein Test\"),\"\",KaBu!J66))+IF(AND(Seilspringen!J66=\"\",AB66=\"OK\"),VLOOKUP(G66&D66,$AJ$10:$AT$31,8,FALSE)+1,IF(AND(Seilspringen!J66=\"\",AB66=\"kein Test\"),\"\",Seilspringen!J66))+IF(AND(Liegestütz!J66=\"\",AB66=\"OK\"),VLOOKUP(G66&D66,$AJ$10:$AT$31,9,FALSE)+1,IF(AND(Liegestütz!J66=\"\",AB66=\"kein Test\"),\"\",Liegestütz!J66))+IF(AND(Balance!J66=\"\",AB66=\"OK\"),VLOOKUP(G66&D66,$AJ$10:$AT$31,10,FALSE)+1,IF(AND(Balance!J66=\"\",AB66=\"kein Test\"),\"\",Balance!J66))+IF(AND('1000m'!J66=\"\",AB66=\"OK\"),VLOOKUP(G66&D66,$AJ$10:$AT$31,11,FALSE)+1,IF(AND('1000m'!J66=\"\",AB66=\"kein Test\"),\"\",'1000m'!J66)))/8)","v":""},null,null,"kein Test"]
[58,{"$f":"IF(Athletenliste!B67=\"\",\"\",Athletenliste!B67)","v":""},{"$f":"IF(Athletenliste!C67=\"\",\"\",Athletenliste!C67)","v":""},{"$f":"IF(Athletenliste!D67=\"\",\"\",Athletenliste!D67)","v":""},{"$f":"IF(Athletenliste!E67=\"\",\"\",Athletenliste!E67)","v":""},{"$f":"IF(Athletenliste!F67=\"\",\"\",Athletenliste!F67)","v":""},{"$f":"IF(Athletenliste!G67=\"\",\"\",Athletenliste!G67)","v":""},{"$f":"IF(Athletenliste!H67=\"\",\"\",Athletenliste!H67)","v":""},{"$f":"IF(Messen_Beweglichkeit!K67=\"\",\"\",Messen_Beweglichkeit!K67)","v":""},{"$f":"IF(Messen_Beweglichkeit!L67=\"\",\"\",Messen_Beweglichkeit!L67)","v":""},{"$f":"IF('Jump-and-Reach'!I67=\"\",\"\",'Jump-and-Reach'!I67)","v":""},{"$f":"IF('Jump-and-Reach'!J67=\"\",\"\",'Jump-and-Reach'!J67)","v":""},{"$f":"IF('30m Sprint'!I67=\"\",\"\",'30m Sprint'!I67)","v":""},{"$f":"IF('30m Sprint'!J67=\"\",\"\",'30m Sprint'!J67)","v":""},{"$f":"IF(KaBu!I67=\"\",\"\",KaBu!I67)","v":""},{"$f":"IF(KaBu!J67=\"\",\"\",KaBu!J67)","v":""},{"$f":"IF(Seilspringen!I67=\"\",\"\",Seilspringen!I67)","v":""},{"$f":"IF(Seilspringen!J67=\"\",\"\",Seilspringen!J67)","v":""},{"$f":"IF(Liegestütz!I67=\"\",\"\",Liegestütz!I67)","v":""},{"$f":"IF(Liegestütz!J67=\"\",\"\",Liegestütz!J67)","v":""},{"$f":"IF(Balance!I67=\"\",\"\",Balance!I67)","v":""},{"$f":"IF(Balance!J67=\"\",\"\",Balance!J67)","v":""},{"$f":"IF('1000m'!I67=\"\",\"\",'1000m'!I67)","v":""},{"$f":"IF('1000m'!J67=\"\",\"\",'1000m'!J67)","v":""},{"$f":"IF(B67=\"\",\"\",(IF(AND(Messen_Beweglichkeit!L67=\"\",AB67=\"OK\"),VLOOKUP(G67&D67,$AJ$10:$AT$31,4,FALSE)+1,IF(AND(Messen_Beweglichkeit!J67=\"\",AB67=\"kein Test\"),\"\",Messen_Beweglichkeit!L67))+IF(AND('Jump-and-Reach'!J67=\"\",AB67=\"OK\"),VLOOKUP(G67&D67,$AJ$10:$AT$31,5,FALSE)+1,IF(AND('Jump-and-Reach'!J67=\"\",AB67=\"kein Test\"),\"\",'Jump-and-Reach'!J67))+IF(AND('30m Sprint'!J67=\"\",AB67=\"OK\"),VLOOKUP(G67&D67,$AJ$10:$AT$31,6,FALSE)+1,IF(AND('30m Sprint'!J67=\"\",AB67=\"kein Test\"),\"\",'30m Sprint'!J67))+IF(AND(KaBu!J67=\"\",AB67=\"OK\"),VLOOKUP(G67&D67,$AJ$10:$AT$31,7,FALSE)+1,IF(AND(KaBu!J67=\"\",AB67=\"kein Test\"),\"\",KaBu!J67))+IF(AND(Seilspringen!J67=\"\",AB67=\"OK\"),VLOOKUP(G67&D67,$AJ$10:$AT$31,8,FALSE)+1,IF(AND(Seilspringen!J67=\"\",AB67=\"kein Test\"),\"\",Seilspringen!J67))+IF(AND(Liegestütz!J67=\"\",AB67=\"OK\"),VLOOKUP(G67&D67,$AJ$10:$AT$31,9,FALSE)+1,IF(AND(Liegestütz!J67=\"\",AB67=\"kein Test\"),\"\",Liegestütz!J67))+IF(AND(Balance!J67=\"\",AB67=\"OK\"),VLOOKUP(G67&D67,$AJ$10:$AT$31,10,FALSE)+1,IF(AND(Balance!J67=\"\",AB67=\"kein Test\"),\"\",Balance!J67))+IF(AND('1000m'!J67=\"\",AB67=\"OK\"),VLOOKUP(G67&D67,$AJ$10:$AT$31,11,FALSE)+1,IF(AND('1000m'!J67=\"\",AB67=\"kein Test\"),\"\",'1000m'!J67)))/8)","v":""},null,null,"kein Test"]
[59,{"$f":"IF(Athletenliste!B68=\"\",\"\",Athletenliste!B68)","v":""},{"$f":"IF(Athletenliste!C68=\"\",\"\",Athletenliste!C68)","v":""},{"$f":"IF(Athletenliste!D68=\"\",\"\",Athletenliste!D68)","v":""},{"$f":"IF(Athletenliste!E68=\"\",\"\",Athletenliste!E68)","v":""},{"$f":"IF(Athletenliste!F68=\"\",\"\",Athletenliste!F68)","v":""},{"$f":"IF(Athletenliste!G68=\"\",\"\",Athletenliste!G68)","v":""},{"$f":"IF(Athletenliste!H68=\"\",\"\",Athletenliste!H68)","v":""},{"$f":"IF(Messen_Beweglichkeit!K68=\"\",\"\",Messen_Beweglichkeit!K68)","v":""},{"$f":"IF(Messen_Beweglichkeit!L68=\"\",\"\",Messen_Beweglichkeit!L68)","v":""},{"$f":"IF('Jump-and-Reach'!I68=\"\",\"\",'Jump-and-Reach'!I68)","v":""},{"$f":"IF('Jump-and-Reach'!J68=\"\",\"\",'Jump-and-Reach'!J68)","v":""},{"$f":"IF('30m Sprint'!I68=\"\",\"\",'30m Sprint'!I68)","v":""},{"$f":"IF('30m Sprint'!J68=\"\",\"\",'30m Sprint'!J68)","v":""},{"$f":"IF(KaBu!I68=\"\",\"\",KaBu!I68)","v":""},{"$f":"IF(KaBu!J68=\"\",\"\",KaBu!J68)","v":""},{"$f":"IF(Seilspringen!I68=\"\",\"\",Seilspringen!I68)","v":""},{"$f":"IF(Seilspringen!J68=\"\",\"\",Seilspringen!J68)","v":""},{"$f":"IF(Liegestütz!I68=\"\",\"\",Liegestütz!I68)","v":""},{"$f":"IF(Liegestütz!J68=\"\",\"\",Liegestütz!J68)","v":""},{"$f":"IF(Balance!I68=\"\",\"\",Balance!I68)","v":""},{"$f":"IF(Balance!J68=\"\",\"\",Balance!J68)","v":""},{"$f":"IF('1000m'!I68=\"\",\"\",'1000m'!I68)","v":""},{"$f":"IF('1000m'!J68=\"\",\"\",'1000m'!J68)","v":""},{"$f":"IF(B68=\"\",\"\",(IF(AND(Messen_Beweglichkeit!L68=\"\",AB68=\"OK\"),VLOOKUP(G68&D68,$AJ$10:$AT$31,4,FALSE)+1,IF(AND(Messen_Beweglichkeit!J68=\"\",AB68=\"kein Test\"),\"\",Messen_Beweglichkeit!L68))+IF(AND('Jump-and-Reach'!J68=\"\",AB68=\"OK\"),VLOOKUP(G68&D68,$AJ$10:$AT$31,5,FALSE)+1,IF(AND('Jump-and-Reach'!J68=\"\",AB68=\"kein Test\"),\"\",'Jump-and-Reach'!J68))+IF(AND('30m Sprint'!J68=\"\",AB68=\"OK\"),VLOOKUP(G68&D68,$AJ$10:$AT$31,6,FALSE)+1,IF(AND('30m Sprint'!J68=\"\",AB68=\"kein Test\"),\"\",'30m Sprint'!J68))+IF(AND(KaBu!J68=\"\",AB68=\"OK\"),VLOOKUP(G68&D68,$AJ$10:$AT$31,7,FALSE)+1,IF(AND(KaBu!J68=\"\",AB68=\"kein Test\"),\"\",KaBu!J68))+IF(AND(Seilspringen!J68=\"\",AB68=\"OK\"),VLOOKUP(G68&D68,$AJ$10:$AT$31,8,FALSE)+1,IF(AND(Seilspringen!J68=\"\",AB68=\"kein Test\"),\"\",Seilspringen!J68))+IF(AND(Liegestütz!J68=\"\",AB68=\"OK\"),VLOOKUP(G68&D68,$AJ$10:$AT$31,9,FALSE)+1,IF(AND(Liegestütz!J68=\"\",AB68=\"kein Test\"),\"\",Liegestütz!J68))+IF(AND(Balance!J68=\"\",AB68=\"OK\"),VLOOKUP(G68&D68,$AJ$10:$AT$31,10,FALSE)+1,IF(AND(Balance!J68=\"\",AB68=\"kein Test\"),\"\",Balance!J68))+IF(AND('1000m'!J68=\"\",AB68=\"OK\"),VLOOKUP(G68&D68,$AJ$10:$AT$31,11,FALSE)+1,IF(AND('1000m'!J68=\"\",AB68=\"kein Test\"),\"\",'1000m'!J68)))/8)","v":""},null,null,"kein Test"]
[60,{"$f":"IF(Athletenliste!B69=\"\",\"\",Athletenliste!B69)","v":""},{"$f":"IF(Athletenliste!C69=\"\",\"\",Athletenliste!C69)","v":""},{"$f":"IF(Athletenliste!D69=\"\",\"\",Athletenliste!D69)","v":""},{"$f":"IF(Athletenliste!E69=\"\",\"\",Athletenliste!E69)","v":""},{"$f":"IF(Athletenliste!F69=\"\",\"\",Athletenliste!F69)","v":""},{"$f":"IF(Athletenliste!G69=\"\",\"\",Athletenliste!G69)","v":""},{"$f":"IF(Athletenliste!H69=\"\",\"\",Athletenliste!H69)","v":""},{"$f":"IF(Messen_Beweglichkeit!K69=\"\",\"\",Messen_Beweglichkeit!K69)","v":""},{"$f":"IF(Messen_Beweglichkeit!L69=\"\",\"\",Messen_Beweglichkeit!L69)","v":""},{"$f":"IF('Jump-and-Reach'!I69=\"\",\"\",'Jump-and-Reach'!I69)","v":""},{"$f":"IF('Jump-and-Reach'!J69=\"\",\"\",'Jump-and-Reach'!J69)","v":""},{"$f":"IF('30m Sprint'!I69=\"\",\"\",'30m Sprint'!I69)","v":""},{"$f":"IF('30m Sprint'!J69=\"\",\"\",'30m Sprint'!J69)","v":""},{"$f":"IF(KaBu!I69=\"\",\"\",KaBu!I69)","v":""},{"$f":"IF(KaBu!J69=\"\",\"\",KaBu!J69)","v":""},{"$f":"IF(Seilspringen!I69=\"\",\"\",Seilspringen!I69)","v":""},{"$f":"IF(Seilspringen!J69=\"\",\"\",Seilspringen!J69)","v":""},{"$f":"IF(Liegestütz!I69=\"\",\"\",Liegestütz!I69)","v":""},{"$f":"IF(Liegestütz!J69=\"\",\"\",Liegestütz!J69)","v":""},{"$f":"IF(Balance!I69=\"\",\"\",Balance!I69)","v":""},{"$f":"IF(Balance!J69=\"\",\"\",Balance!J69)","v":""},{"$f":"IF('1000m'!I69=\"\",\"\",'1000m'!I69)","v":""},{"$f":"IF('1000m'!J69=\"\",\"\",'1000m'!J69)","v":""},{"$f":"IF(B69=\"\",\"\",(IF(AND(Messen_Beweglichkeit!L69=\"\",AB69=\"OK\"),VLOOKUP(G69&D69,$AJ$10:$AT$31,4,FALSE)+1,IF(AND(Messen_Beweglichkeit!J69=\"\",AB69=\"kein Test\"),\"\",Messen_Beweglichkeit!L69))+IF(AND('Jump-and-Reach'!J69=\"\",AB69=\"OK\"),VLOOKUP(G69&D69,$AJ$10:$AT$31,5,FALSE)+1,IF(AND('Jump-and-Reach'!J69=\"\",AB69=\"kein Test\"),\"\",'Jump-and-Reach'!J69))+IF(AND('30m Sprint'!J69=\"\",AB69=\"OK\"),VLOOKUP(G69&D69,$AJ$10:$AT$31,6,FALSE)+1,IF(AND('30m Sprint'!J69=\"\",AB69=\"kein Test\"),\"\",'30m Sprint'!J69))+IF(AND(KaBu!J69=\"\",AB69=\"OK\"),VLOOKUP(G69&D69,$AJ$10:$AT$31,7,FALSE)+1,IF(AND(KaBu!J69=\"\",AB69=\"kein Test\"),\"\",KaBu!J69))+IF(AND(Seilspringen!J69=\"\",AB69=\"OK\"),VLOOKUP(G69&D69,$AJ$10:$AT$31,8,FALSE)+1,IF(AND(Seilspringen!J69=\"\",AB69=\"kein Test\"),\"\",Seilspringen!J69))+IF(AND(Liegestütz!J69=\"\",AB69=\"OK\"),VLOOKUP(G69&D69,$AJ$10:$AT$31,9,FALSE)+1,IF(AND(Liegestütz!J69=\"\",AB69=\"kein Test\"),\"\",Liegestütz!J69))+IF(AND(Balance!J69=\"\",AB69=\"OK\"),VLOOKUP(G69&D69,$AJ$10:$AT$31,10,FALSE)+1,IF(AND(Balance!J69=\"\",AB69=\"kein Test\"),\"\",Balance!J69))+IF(AND('1000m'!J69=\"\",AB69=\"OK\"),VLOOKUP(G69&D69,$AJ$10:$AT$31,11,FALSE)+1,IF(AND('1000m'!J69=\"\",AB69=\"kein Test\"),\"\",'1000m'!J69)))/8)","v":""},null,null,"kein Test"]
[61,{"$f":"IF(Athletenliste!B70=\"\",\"\",Athletenliste!B70)","v":""},{"$f":"IF(Athletenliste!C70=\"\",\"\",Athletenliste!C70)","v":""},{"$f":"IF(Athletenliste!D70=\"\",\"\",Athletenliste!D70)","v":""},{"$f":"IF(Athletenliste!E70=\"\",\"\",Athletenliste!E70)","v":""},{"$f":"IF(Athletenliste!F70=\"\",\"\",Athletenliste!F70)","v":""},{"$f":"IF(Athletenliste!G70=\"\",\"\",Athletenliste!G70)","v":""},{"$f":"IF(Athletenliste!H70=\"\",\"\",Athletenliste!H70)","v":""},{"$f":"IF(Messen_Beweglichkeit!K70=\"\",\"\",Messen_Beweglichkeit!K70)","v":""},{"$f":"IF(Messen_Beweglichkeit!L70=\"\",\"\",Messen_Beweglichkeit!L70)","v":""},{"$f":"IF('Jump-and-Reach'!I70=\"\",\"\",'Jump-and-Reach'!I70)","v":""},{"$f":"IF('Jump-and-Reach'!J70=\"\",\"\",'Jump-and-Reach'!J70)","v":""},{"$f":"IF('30m Sprint'!I70=\"\",\"\",'30m Sprint'!I70)","v":""},{"$f":"IF('30m Sprint'!J70=\"\",\"\",'30m Sprint'!J70)","v":""},{"$f":"IF(KaBu!I70=\"\",\"\",KaBu!I70)","v":""},{"$f":"IF(KaBu!J70=\"\",\"\",KaBu!J70)","v":""},{"$f":"IF(Seilspringen!I70=\"\",\"\",Seilspringen!I70)","v":""},{"$f":"IF(Seilspringen!J70=\"\",\"\",Seilspringen!J70)","v":""},{"$f":"IF(Liegestütz!I70=\"\",\"\",Liegestütz!I70)","v":""},{"$f":"IF(Liegestütz!J70=\"\",\"\",Liegestütz!J70)","v":""},{"$f":"IF(Balance!I70=\"\",\"\",Balance!I70)","v":""},{"$f":"IF(Balance!J70=\"\",\"\",Balance!J70)","v":""},{"$f":"IF('1000m'!I70=\"\",\"\",'1000m'!I70)","v":""},{"$f":"IF('1000m'!J70=\"\",\"\",'1000m'!J70)","v":""},{"$f":"IF(B70=\"\",\"\",(IF(AND(Messen_Beweglichkeit!L70=\"\",AB70=\"OK\"),VLOOKUP(G70&D70,$AJ$10:$AT$31,4,FALSE)+1,IF(AND(Messen_Beweglichkeit!J70=\"\",AB70=\"kein Test\"),\"\",Messen_Beweglichkeit!L70))+IF(AND('Jump-and-Reach'!J70=\"\",AB70=\"OK\"),VLOOKUP(G70&D70,$AJ$10:$AT$31,5,FALSE)+1,IF(AND('Jump-and-Reach'!J70=\"\",AB70=\"kein Test\"),\"\",'Jump-and-Reach'!J70))+IF(AND('30m Sprint'!J70=\"\",AB70=\"OK\"),VLOOKUP(G70&D70,$AJ$10:$AT$31,6,FALSE)+1,IF(AND('30m Sprint'!J70=\"\",AB70=\"kein Test\"),\"\",'30m Sprint'!J70))+IF(AND(KaBu!J70=\"\",AB70=\"OK\"),VLOOKUP(G70&D70,$AJ$10:$AT$31,7,FALSE)+1,IF(AND(KaBu!J70=\"\",AB70=\"kein Test\"),\"\",KaBu!J70))+IF(AND(Seilspringen!J70=\"\",AB70=\"OK\"),VLOOKUP(G70&D70,$AJ$10:$AT$31,8,FALSE)+1,IF(AND(Seilspringen!J70=\"\",AB70=\"kein Test\"),\"\",Seilspringen!J70))+IF(AND(Liegestütz!J70=\"\",AB70=\"OK\"),VLOOKUP(G70&D70,$AJ$10:$AT$31,9,FALSE)+1,IF(AND(Liegestütz!J70=\"\",AB70=\"kein Test\"),\"\",Liegestütz!J70))+IF(AND(Balance!J70=\"\",AB70=\"OK\"),VLOOKUP(G70&D70,$AJ$10:$AT$31,10,FALSE)+1,IF(AND(Balance!J70=\"\",AB70=\"kein Test\"),\"\",Balance!J70))+IF(AND('1000m'!J70=\"\",AB70=\"OK\"),VLOOKUP(G70&D70,$AJ$10:$AT$31,11,FALSE)+1,IF(AND('1000m'!J70=\"\",AB70=\"kein Test\"),\"\",'1000m'!J70)))/8)","v":""},null,null,"kein Test"]
[62,{"$f":"IF(Athletenliste!B71=\"\",\"\",Athletenliste!B71)","v":""},{"$f":"IF(Athletenliste!C71=\"\",\"\",Athletenliste!C71)","v":""},{"$f":"IF(Athletenliste!D71=\"\",\"\",Athletenliste!D71)","v":""},{"$f":"IF(Athletenliste!E71=\"\",\"\",Athletenliste!E71)","v":""},{"$f":"IF(Athletenliste!F71=\"\",\"\",Athletenliste!F71)","v":""},{"$f":"IF(Athletenliste!G71=\"\",\"\",Athletenliste!G71)","v":""},{"$f":"IF(Athletenliste!H71=\"\",\"\",Athletenliste!H71)","v":""},{"$f":"IF(Messen_Beweglichkeit!K71=\"\",\"\",Messen_Beweglichkeit!K71)","v":""},{"$f":"IF(Messen_Beweglichkeit!L71=\"\",\"\",Messen_Beweglichkeit!L71)","v":""},{"$f":"IF('Jump-and-Reach'!I71=\"\",\"\",'Jump-and-Reach'!I71)","v":""},{"$f":"IF('Jump-and-Reach'!J71=\"\",\"\",'Jump-and-Reach'!J71)","v":""},{"$f":"IF('30m Sprint'!I71=\"\",\"\",'30m Sprint'!I71)","v":""},{"$f":"IF('30m Sprint'!J71=\"\",\"\",'30m Sprint'!J71)","v":""},{"$f":"IF(KaBu!I71=\"\",\"\",KaBu!I71)","v":""},{"$f":"IF(KaBu!J71=\"\",\"\",KaBu!J71)","v":""},{"$f":"IF(Seilspringen!I71=\"\",\"\",Seilspringen!I71)","v":""},{"$f":"IF(Seilspringen!J71=\"\",\"\",Seilspringen!J71)","v":""},{"$f":"IF(Liegestütz!I71=\"\",\"\",Liegestütz!I71)","v":""},{"$f":"IF(Liegestütz!J71=\"\",\"\",Liegestütz!J71)","v":""},{"$f":"IF(Balance!I71=\"\",\"\",Balance!I71)","v":""},{"$f":"IF(Balance!J71=\"\",\"\",Balance!J71)","v":""},{"$f":"IF('1000m'!I71=\"\",\"\",'1000m'!I71)","v":""},{"$f":"IF('1000m'!J71=\"\",\"\",'1000m'!J71)","v":""},{"$f":"IF(B71=\"\",\"\",(IF(AND(Messen_Beweglichkeit!L71=\"\",AB71=\"OK\"),VLOOKUP(G71&D71,$AJ$10:$AT$31,4,FALSE)+1,IF(AND(Messen_Beweglichkeit!J71=\"\",AB71=\"kein Test\"),\"\",Messen_Beweglichkeit!L71))+IF(AND('Jump-and-Reach'!J71=\"\",AB71=\"OK\"),VLOOKUP(G71&D71,$AJ$10:$AT$31,5,FALSE)+1,IF(AND('Jump-and-Reach'!J71=\"\",AB71=\"kein Test\"),\"\",'Jump-and-Reach'!J71))+IF(AND('30m Sprint'!J71=\"\",AB71=\"OK\"),VLOOKUP(G71&D71,$AJ$10:$AT$31,6,FALSE)+1,IF(AND('30m Sprint'!J71=\"\",AB71=\"kein Test\"),\"\",'30m Sprint'!J71))+IF(AND(KaBu!J71=\"\",AB71=\"OK\"),VLOOKUP(G71&D71,$AJ$10:$AT$31,7,FALSE)+1,IF(AND(KaBu!J71=\"\",AB71=\"kein Test\"),\"\",KaBu!J71))+IF(AND(Seilspringen!J71=\"\",AB71=\"OK\"),VLOOKUP(G71&D71,$AJ$10:$AT$31,8,FALSE)+1,IF(AND(Seilspringen!J71=\"\",AB71=\"kein Test\"),\"\",Seilspringen!J71))+IF(AND(Liegestütz!J71=\"\",AB71=\"OK\"),VLOOKUP(G71&D71,$AJ$10:$AT$31,9,FALSE)+1,IF(AND(Liegestütz!J71=\"\",AB71=\"kein Test\"),\"\",Liegestütz!J71))+IF(AND(Balance!J71=\"\",AB71=\"OK\"),VLOOKUP(G71&D71,$AJ$10:$AT$31,10,FALSE)+1,IF(AND(Balance!J71=\"\",AB71=\"kein Test\"),\"\",Balance!J71))+IF(AND('1000m'!J71=\"\",AB71=\"OK\"),VLOOKUP(G71&D71,$AJ$10:$AT$31,11,FALSE)+1,IF(AND('1000m'!J71=\"\",AB71=\"kein Test\"),\"\",'1000m'!J71)))/8)","v":""},null,null,"kein Test"]
[63,{"$f":"IF(Athletenliste!B72=\"\",\"\",Athletenliste!B72)","v":""},{"$f":"IF(Athletenliste!C72=\"\",\"\",Athletenliste!C72)","v":""},{"$f":"IF(Athletenliste!D72=\"\",\"\",Athletenliste!D72)","v":""},{"$f":"IF(Athletenliste!E72=\"\",\"\",Athletenliste!E72)","v":""},{"$f":"IF(Athletenliste!F72=\"\",\"\",Athletenliste!F72)","v":""},{"$f":"IF(Athletenliste!G72=\"\",\"\",Athletenliste!G72)","v":""},{"$f":"IF(Athletenliste!H72=\"\",\"\",Athletenliste!H72)","v":""},{"$f":"IF(Messen_Beweglichkeit!K72=\"\",\"\",Messen_Beweglichkeit!K72)","v":""},{"$f":"IF(Messen_Beweglichkeit!L72=\"\",\"\",Messen_Beweglichkeit!L72)","v":""},{"$f":"IF('Jump-and-Reach'!I72=\"\",\"\",'Jump-and-Reach'!I72)","v":""},{"$f":"IF('Jump-and-Reach'!J72=\"\",\"\",'Jump-and-Reach'!J72)","v":""},{"$f":"IF('30m Sprint'!I72=\"\",\"\",'30m Sprint'!I72)","v":""},{"$f":"IF('30m Sprint'!J72=\"\",\"\",'30m Sprint'!J72)","v":""},{"$f":"IF(KaBu!I72=\"\",\"\",KaBu!I72)","v":""},{"$f":"IF(KaBu!J72=\"\",\"\",KaBu!J72)","v":""},{"$f":"IF(Seilspringen!I72=\"\",\"\",Seilspringen!I72)","v":""},{"$f":"IF(Seilspringen!J72=\"\",\"\",Seilspringen!J72)","v":""},{"$f":"IF(Liegestütz!I72=\"\",\"\",Liegestütz!I72)","v":""},{"$f":"IF(Liegestütz!J72=\"\",\"\",Liegestütz!J72)","v":""},{"$f":"IF(Balance!I72=\"\",\"\",Balance!I72)","v":""},{"$f":"IF(Balance!J72=\"\",\"\",Balance!J72)","v":""},{"$f":"IF('1000m'!I72=\"\",\"\",'1000m'!I72)","v":""},{"$f":"IF('1000m'!J72=\"\",\"\",'1000m'!J72)","v":""},{"$f":"IF(B72=\"\",\"\",(IF(AND(Messen_Beweglichkeit!L72=\"\",AB72=\"OK\"),VLOOKUP(G72&D72,$AJ$10:$AT$31,4,FALSE)+1,IF(AND(Messen_Beweglichkeit!J72=\"\",AB72=\"kein Test\"),\"\",Messen_Beweglichkeit!L72))+IF(AND('Jump-and-Reach'!J72=\"\",AB72=\"OK\"),VLOOKUP(G72&D72,$AJ$10:$AT$31,5,FALSE)+1,IF(AND('Jump-and-Reach'!J72=\"\",AB72=\"kein Test\"),\"\",'Jump-and-Reach'!J72))+IF(AND('30m Sprint'!J72=\"\",AB72=\"OK\"),VLOOKUP(G72&D72,$AJ$10:$AT$31,6,FALSE)+1,IF(AND('30m Sprint'!J72=\"\",AB72=\"kein Test\"),\"\",'30m Sprint'!J72))+IF(AND(KaBu!J72=\"\",AB72=\"OK\"),VLOOKUP(G72&D72,$AJ$10:$AT$31,7,FALSE)+1,IF(AND(KaBu!J72=\"\",AB72=\"kein Test\"),\"\",KaBu!J72))+IF(AND(Seilspringen!J72=\"\",AB72=\"OK\"),VLOOKUP(G72&D72,$AJ$10:$AT$31,8,FALSE)+1,IF(AND(Seilspringen!J72=\"\",AB72=\"kein Test\"),\"\",Seilspringen!J72))+IF(AND(Liegestütz!J72=\"\",AB72=\"OK\"),VLOOKUP(G72&D72,$AJ$10:$AT$31,9,FALSE)+1,IF(AND(Liegestütz!J72=\"\",AB72=\"kein Test\"),\"\",Liegestütz!J72))+IF(AND(Balance!J72=\"\",AB72=\"OK\"),VLOOKUP(G72&D72,$AJ$10:$AT$31,10,FALSE)+1,IF(AND(Balance!J72=\"\",AB72=\"kein Test\"),\"\",Balance!J72))+IF(AND('1000m'!J72=\"\",AB72=\"OK\"),VLOOKUP(G72&D72,$AJ$10:$AT$31,11,FALSE)+1,IF(AND('1000m'!J72=\"\",AB72=\"kein Test\"),\"\",'1000m'!J72)))/8)","v":""},null,null,"kein Test"]
[64,{"$f":"IF(Athletenliste!B73=\"\",\"\",Athletenliste!B73)","v":""},{"$f":"IF(Athletenliste!C73=\"\",\"\",Athletenliste!C73)","v":""},{"$f":"IF(Athletenliste!D73=\"\",\"\",Athletenliste!D73)","v":""},{"$f":"IF(Athletenliste!E73=\"\",\"\",Athletenliste!E73)","v":""},{"$f":"IF(Athletenliste!F73=\"\",\"\",Athletenliste!F73)","v":""},{"$f":"IF(Athletenliste!G73=\"\",\"\",Athletenliste!G73)","v":""},{"$f":"IF(Athletenliste!H73=\"\",\"\",Athletenliste!H73)","v":""},{"$f":"IF(Messen_Beweglichkeit!K73=\"\",\"\",Messen_Beweglichkeit!K73)","v":""},{"$f":"IF(Messen_Beweglichkeit!L73=\"\",\"\",Messen_Beweglichkeit!L73)","v":""},{"$f":"IF('Jump-and-Reach'!I73=\"\",\"\",'Jump-and-Reach'!I73)","v":""},{"$f":"IF('Jump-and-Reach'!J73=\"\",\"\",'Jump-and-Reach'!J73)","v":""},{"$f":"IF('30m Sprint'!I73=\"\",\"\",'30m Sprint'!I73)","v":""},{"$f":"IF('30m Sprint'!J73=\"\",\"\",'30m Sprint'!J73)","v":""},{"$f":"IF(KaBu!I73=\"\",\"\",KaBu!I73)","v":""},{"$f":"IF(KaBu!J73=\"\",\"\",KaBu!J73)","v":""},{"$f":"IF(Seilspringen!I73=\"\",\"\",Seilspringen!I73)","v":""},{"$f":"IF(Seilspringen!J73=\"\",\"\",Seilspringen!J73)","v":""},{"$f":"IF(Liegestütz!I73=\"\",\"\",Liegestütz!I73)","v":""},{"$f":"IF(Liegestütz!J73=\"\",\"\",Liegestütz!J73)","v":""},{"$f":"IF(Balance!I73=\"\",\"\",Balance!I73)","v":""},{"$f":"IF(Balance!J73=\"\",\"\",Balance!J73)","v":""},{"$f":"IF('1000m'!I73=\"\",\"\",'1000m'!I73)","v":""},{"$f":"IF('1000m'!J73=\"\",\"\",'1000m'!J73)","v":""},{"$f":"IF(B73=\"\",\"\",(IF(AND(Messen_Beweglichkeit!L73=\"\",AB73=\"OK\"),VLOOKUP(G73&D73,$AJ$10:$AT$31,4,FALSE)+1,IF(AND(Messen_Beweglichkeit!J73=\"\",AB73=\"kein Test\"),\"\",Messen_Beweglichkeit!L73))+IF(AND('Jump-and-Reach'!J73=\"\",AB73=\"OK\"),VLOOKUP(G73&D73,$AJ$10:$AT$31,5,FALSE)+1,IF(AND('Jump-and-Reach'!J73=\"\",AB73=\"kein Test\"),\"\",'Jump-and-Reach'!J73))+IF(AND('30m Sprint'!J73=\"\",AB73=\"OK\"),VLOOKUP(G73&D73,$AJ$10:$AT$31,6,FALSE)+1,IF(AND('30m Sprint'!J73=\"\",AB73=\"kein Test\"),\"\",'30m Sprint'!J73))+IF(AND(KaBu!J73=\"\",AB73=\"OK\"),VLOOKUP(G73&D73,$AJ$10:$AT$31,7,FALSE)+1,IF(AND(KaBu!J73=\"\",AB73=\"kein Test\"),\"\",KaBu!J73))+IF(AND(Seilspringen!J73=\"\",AB73=\"OK\"),VLOOKUP(G73&D73,$AJ$10:$AT$31,8,FALSE)+1,IF(AND(Seilspringen!J73=\"\",AB73=\"kein Test\"),\"\",Seilspringen!J73))+IF(AND(Liegestütz!J73=\"\",AB73=\"OK\"),VLOOKUP(G73&D73,$AJ$10:$AT$31,9,FALSE)+1,IF(AND(Liegestütz!J73=\"\",AB73=\"kein Test\"),\"\",Liegestütz!J73))+IF(AND(Balance!J73=\"\",AB73=\"OK\"),VLOOKUP(G73&D73,$AJ$10:$AT$31,10,FALSE)+1,IF(AND(Balance!J73=\"\",AB73=\"kein Test\"),\"\",Balance!J73))+IF(AND('1000m'!J73=\"\",AB73=\"OK\"),VLOOKUP(G73&D73,$AJ$10:$AT$31,11,FALSE)+1,IF(AND('1000m'!J73=\"\",AB73=\"kein Test\"),\"\",'1000m'!J73)))/8)","v":""},null,null,"kein Test"]
[65,{"$f":"IF(Athletenliste!B74=\"\",\"\",Athletenliste!B74)","v":""},{"$f":"IF(Athletenliste!C74=\"\",\"\",Athletenliste!C74)","v":""},{"$f":"IF(Athletenliste!D74=\"\",\"\",Athletenliste!D74)","v":""},{"$f":"IF(Athletenliste!E74=\"\",\"\",Athletenliste!E74)","v":""},{"$f":"IF(Athletenliste!F74=\"\",\"\",Athletenliste!F74)","v":""},{"$f":"IF(Athletenliste!G74=\"\",\"\",Athletenliste!G74)","v":""},{"$f":"IF(Athletenliste!H74=\"\",\"\",Athletenliste!H74)","v":""},{"$f":"IF(Messen_Beweglichkeit!K74=\"\",\"\",Messen_Beweglichkeit!K74)","v":""},{"$f":"IF(Messen_Beweglichkeit!L74=\"\",\"\",Messen_Beweglichkeit!L74)","v":""},{"$f":"IF('Jump-and-Reach'!I74=\"\",\"\",'Jump-and-Reach'!I74)","v":""},{"$f":"IF('Jump-and-Reach'!J74=\"\",\"\",'Jump-and-Reach'!J74)","v":""},{"$f":"IF('30m Sprint'!I74=\"\",\"\",'30m Sprint'!I74)","v":""},{"$f":"IF('30m Sprint'!J74=\"\",\"\",'30m Sprint'!J74)","v":""},{"$f":"IF(KaBu!I74=\"\",\"\",KaBu!I74)","v":""},{"$f":"IF(KaBu!J74=\"\",\"\",KaBu!J74)","v":""},{"$f":"IF(Seilspringen!I74=\"\",\"\",Seilspringen!I74)","v":""},{"$f":"IF(Seilspringen!J74=\"\",\"\",Seilspringen!J74)","v":""},{"$f":"IF(Liegestütz!I74=\"\",\"\",Liegestütz!I74)","v":""},{"$f":"IF(Liegestütz!J74=\"\",\"\",Liegestütz!J74)","v":""},{"$f":"IF(Balance!I74=\"\",\"\",Balance!I74)","v":""},{"$f":"IF(Balance!J74=\"\",\"\",Balance!J74)","v":""},{"$f":"IF('1000m'!I74=\"\",\"\",'1000m'!I74)","v":""},{"$f":"IF('1000m'!J74=\"\",\"\",'1000m'!J74)","v":""},{"$f":"IF(B74=\"\",\"\",(IF(AND(Messen_Beweglichkeit!L74=\"\",AB74=\"OK\"),VLOOKUP(G74&D74,$AJ$10:$AT$31,4,FALSE)+1,IF(AND(Messen_Beweglichkeit!J74=\"\",AB74=\"kein Test\"),\"\",Messen_Beweglichkeit!L74))+IF(AND('Jump-and-Reach'!J74=\"\",AB74=\"OK\"),VLOOKUP(G74&D74,$AJ$10:$AT$31,5,FALSE)+1,IF(AND('Jump-and-Reach'!J74=\"\",AB74=\"kein Test\"),\"\",'Jump-and-Reach'!J74))+IF(AND('30m Sprint'!J74=\"\",AB74=\"OK\"),VLOOKUP(G74&D74,$AJ$10:$AT$31,6,FALSE)+1,IF(AND('30m Sprint'!J74=\"\",AB74=\"kein Test\"),\"\",'30m Sprint'!J74))+IF(AND(KaBu!J74=\"\",AB74=\"OK\"),VLOOKUP(G74&D74,$AJ$10:$AT$31,7,FALSE)+1,IF(AND(KaBu!J74=\"\",AB74=\"kein Test\"),\"\",KaBu!J74))+IF(AND(Seilspringen!J74=\"\",AB74=\"OK\"),VLOOKUP(G74&D74,$AJ$10:$AT$31,8,FALSE)+1,IF(AND(Seilspringen!J74=\"\",AB74=\"kein Test\"),\"\",Seilspringen!J74))+IF(AND(Liegestütz!J74=\"\",AB74=\"OK\"),VLOOKUP(G74&D74,$AJ$10:$AT$31,9,FALSE)+1,IF(AND(Liegestütz!J74=\"\",AB74=\"kein Test\"),\"\",Liegestütz!J74))+IF(AND(Balance!J74=\"\",AB74=\"OK\"),VLOOKUP(G74&D74,$AJ$10:$AT$31,10,FALSE)+1,IF(AND(Balance!J74=\"\",AB74=\"kein Test\"),\"\",Balance!J74))+IF(AND('1000m'!J74=\"\",AB74=\"OK\"),VLOOKUP(G74&D74,$AJ$10:$AT$31,11,FALSE)+1,IF(AND('1000m'!J74=\"\",AB74=\"kein Test\"),\"\",'1000m'!J74)))/8)","v":""},null,null,{"$f":"IF(AND(I74=\"\",K74=\"\",M74=\"\",O74=\"\",Q74=\"\",S74=\"\",U74=\"\",W74=\"\"),\"kein Test\",\"OK\")","v":"kein Test"}]
[66,{"$f":"IF(Athletenliste!B75=\"\",\"\",Athletenliste!B75)","v":""},{"$f":"IF(Athletenliste!C75=\"\",\"\",Athletenliste!C75)","v":""},{"$f":"IF(Athletenliste!D75=\"\",\"\",Athletenliste!D75)","v":""},{"$f":"IF(Athletenliste!E75=\"\",\"\",Athletenliste!E75)","v":""},{"$f":"IF(Athletenliste!F75=\"\",\"\",Athletenliste!F75)","v":""},{"$f":"IF(Athletenliste!G75=\"\",\"\",Athletenliste!G75)","v":""},{"$f":"IF(Athletenliste!H75=\"\",\"\",Athletenliste!H75)","v":""},{"$f":"IF(Messen_Beweglichkeit!K75=\"\",\"\",Messen_Beweglichkeit!K75)","v":""},{"$f":"IF(Messen_Beweglichkeit!L75=\"\",\"\",Messen_Beweglichkeit!L75)","v":""},{"$f":"IF('Jump-and-Reach'!I75=\"\",\"\",'Jump-and-Reach'!I75)","v":""},{"$f":"IF('Jump-and-Reach'!J75=\"\",\"\",'Jump-and-Reach'!J75)","v":""},{"$f":"IF('30m Sprint'!I75=\"\",\"\",'30m Sprint'!I75)","v":""},{"$f":"IF('30m Sprint'!J75=\"\",\"\",'30m Sprint'!J75)","v":""},{"$f":"IF(KaBu!I75=\"\",\"\",KaBu!I75)","v":""},{"$f":"IF(KaBu!J75=\"\",\"\",KaBu!J75)","v":""},{"$f":"IF(Seilspringen!I75=\"\",\"\",Seilspringen!I75)","v":""},{"$f":"IF(Seilspringen!J75=\"\",\"\",Seilspringen!J75)","v":""},{"$f":"IF(Liegestütz!I75=\"\",\"\",Liegestütz!I75)","v":""},{"$f":"IF(Liegestütz!J75=\"\",\"\",Liegestütz!J75)","v":""},{"$f":"IF(Balance!I75=\"\",\"\",Balance!I75)","v":""},{"$f":"IF(Balance!J75=\"\",\"\",Balance!J75)","v":""},{"$f":"IF('1000m'!I75=\"\",\"\",'1000m'!I75)","v":""},{"$f":"IF('1000m'!J75=\"\",\"\",'1000m'!J75)","v":""},{"$f":"IF(B75=\"\",\"\",(IF(AND(Messen_Beweglichkeit!L75=\"\",AB75=\"OK\"),VLOOKUP(G75&D75,$AJ$10:$AT$31,4,FALSE)+1,IF(AND(Messen_Beweglichkeit!J75=\"\",AB75=\"kein Test\"),\"\",Messen_Beweglichkeit!L75))+IF(AND('Jump-and-Reach'!J75=\"\",AB75=\"OK\"),VLOOKUP(G75&D75,$AJ$10:$AT$31,5,FALSE)+1,IF(AND('Jump-and-Reach'!J75=\"\",AB75=\"kein Test\"),\"\",'Jump-and-Reach'!J75))+IF(AND('30m Sprint'!J75=\"\",AB75=\"OK\"),VLOOKUP(G75&D75,$AJ$10:$AT$31,6,FALSE)+1,IF(AND('30m Sprint'!J75=\"\",AB75=\"kein Test\"),\"\",'30m Sprint'!J75))+IF(AND(KaBu!J75=\"\",AB75=\"OK\"),VLOOKUP(G75&D75,$AJ$10:$AT$31,7,FALSE)+1,IF(AND(KaBu!J75=\"\",AB75=\"kein Test\"),\"\",KaBu!J75))+IF(AND(Seilspringen!J75=\"\",AB75=\"OK\"),VLOOKUP(G75&D75,$AJ$10:$AT$31,8,FALSE)+1,IF(AND(Seilspringen!J75=\"\",AB75=\"kein Test\"),\"\",Seilspringen!J75))+IF(AND(Liegestütz!J75=\"\",AB75=\"OK\"),VLOOKUP(G75&D75,$AJ$10:$AT$31,9,FALSE)+1,IF(AND(Liegestütz!J75=\"\",AB75=\"kein Test\"),\"\",Liegestütz!J75))+IF(AND(Balance!J75=\"\",AB75=\"OK\"),VLOOKUP(G75&D75,$AJ$10:$AT$31,10,FALSE)+1,IF(AND(Balance!J75=\"\",AB75=\"kein Test\"),\"\",Balance!J75))+IF(AND('1000m'!J75=\"\",AB75=\"OK\"),VLOOKUP(G75&D75,$AJ$10:$AT$31,11,FALSE)+1,IF(AND('1000m'!J75=\"\",AB75=\"kein Test\"),\"\",'1000m'!J75)))/8)","v":""},null,null,"kein Test"]
[67,{"$f":"IF(Athletenliste!B76=\"\",\"\",Athletenliste!B76)","v":""},{"$f":"IF(Athletenliste!C76=\"\",\"\",Athletenliste!C76)","v":""},{"$f":"IF(Athletenliste!D76=\"\",\"\",Athletenliste!D76)","v":""},{"$f":"IF(Athletenliste!E76=\"\",\"\",Athletenliste!E76)","v":""},{"$f":"IF(Athletenliste!F76=\"\",\"\",Athletenliste!F76)","v":""},{"$f":"IF(Athletenliste!G76=\"\",\"\",Athletenliste!G76)","v":""},{"$f":"IF(Athletenliste!H76=\"\",\"\",Athletenliste!H76)","v":""},{"$f":"IF(Messen_Beweglichkeit!K76=\"\",\"\",Messen_Beweglichkeit!K76)","v":""},{"$f":"IF(Messen_Beweglichkeit!L76=\"\",\"\",Messen_Beweglichkeit!L76)","v":""},{"$f":"IF('Jump-and-Reach'!I76=\"\",\"\",'Jump-and-Reach'!I76)","v":""},{"$f":"IF('Jump-and-Reach'!J76=\"\",\"\",'Jump-and-Reach'!J76)","v":""},{"$f":"IF('30m Sprint'!I76=\"\",\"\",'30m Sprint'!I76)","v":""},{"$f":"IF('30m Sprint'!J76=\"\",\"\",'30m Sprint'!J76)","v":""},{"$f":"IF(KaBu!I76=\"\",\"\",KaBu!I76)","v":""},{"$f":"IF(KaBu!J76=\"\",\"\",KaBu!J76)","v":""},{"$f":"IF(Seilspringen!I76=\"\",\"\",Seilspringen!I76)","v":""},{"$f":"IF(Seilspringen!J76=\"\",\"\",Seilspringen!J76)","v":""},{"$f":"IF(Liegestütz!I76=\"\",\"\",Liegestütz!I76)","v":""},{"$f":"IF(Liegestütz!J76=\"\",\"\",Liegestütz!J76)","v":""},{"$f":"IF(Balance!I76=\"\",\"\",Balance!I76)","v":""},{"$f":"IF(Balance!J76=\"\",\"\",Balance!J76)","v":""},{"$f":"IF('1000m'!I76=\"\",\"\",'1000m'!I76)","v":""},{"$f":"IF('1000m'!J76=\"\",\"\",'1000m'!J76)","v":""},{"$f":"IF(B76=\"\",\"\",(IF(AND(Messen_Beweglichkeit!L76=\"\",AB76=\"OK\"),VLOOKUP(G76&D76,$AJ$10:$AT$31,4,FALSE)+1,IF(AND(Messen_Beweglichkeit!J76=\"\",AB76=\"kein Test\"),\"\",Messen_Beweglichkeit!L76))+IF(AND('Jump-and-Reach'!J76=\"\",AB76=\"OK\"),VLOOKUP(G76&D76,$AJ$10:$AT$31,5,FALSE)+1,IF(AND('Jump-and-Reach'!J76=\"\",AB76=\"kein Test\"),\"\",'Jump-and-Reach'!J76))+IF(AND('30m Sprint'!J76=\"\",AB76=\"OK\"),VLOOKUP(G76&D76,$AJ$10:$AT$31,6,FALSE)+1,IF(AND('30m Sprint'!J76=\"\",AB76=\"kein Test\"),\"\",'30m Sprint'!J76))+IF(AND(KaBu!J76=\"\",AB76=\"OK\"),VLOOKUP(G76&D76,$AJ$10:$AT$31,7,FALSE)+1,IF(AND(KaBu!J76=\"\",AB76=\"kein Test\"),\"\",KaBu!J76))+IF(AND(Seilspringen!J76=\"\",AB76=\"OK\"),VLOOKUP(G76&D76,$AJ$10:$AT$31,8,FALSE)+1,IF(AND(Seilspringen!J76=\"\",AB76=\"kein Test\"),\"\",Seilspringen!J76))+IF(AND(Liegestütz!J76=\"\",AB76=\"OK\"),VLOOKUP(G76&D76,$AJ$10:$AT$31,9,FALSE)+1,IF(AND(Liegestütz!J76=\"\",AB76=\"kein Test\"),\"\",Liegestütz!J76))+IF(AND(Balance!J76=\"\",AB76=\"OK\"),VLOOKUP(G76&D76,$AJ$10:$AT$31,10,FALSE)+1,IF(AND(Balance!J76=\"\",AB76=\"kein Test\"),\"\",Balance!J76))+IF(AND('1000m'!J76=\"\",AB76=\"OK\"),VLOOKUP(G76&D76,$AJ$10:$AT$31,11,FALSE)+1,IF(AND('1000m'!J76=\"\",AB76=\"kein Test\"),\"\",'1000m'!J76)))/8)","v":""},null,null,"kein Test"]
[68,{"$f":"IF(Athletenliste!B77=\"\",\"\",Athletenliste!B77)","v":""},{"$f":"IF(Athletenliste!C77=\"\",\"\",Athletenliste!C77)","v":""},{"$f":"IF(Athletenliste!D77=\"\",\"\",Athletenliste!D77)","v":""},{"$f":"IF(Athletenliste!E77=\"\",\"\",Athletenliste!E77)","v":""},{"$f":"IF(Athletenliste!F77=\"\",\"\",Athletenliste!F77)","v":""},{"$f":"IF(Athletenliste!G77=\"\",\"\",Athletenliste!G77)","v":""},{"$f":"IF(Athletenliste!H77=\"\",\"\",Athletenliste!H77)","v":""},{"$f":"IF(Messen_Beweglichkeit!K77=\"\",\"\",Messen_Beweglichkeit!K77)","v":""},{"$f":"IF(Messen_Beweglichkeit!L77=\"\",\"\",Messen_Beweglichkeit!L77)","v":""},{"$f":"IF('Jump-and-Reach'!I77=\"\",\"\",'Jump-and-Reach'!I77)","v":""},{"$f":"IF('Jump-and-Reach'!J77=\"\",\"\",'Jump-and-Reach'!J77)","v":""},{"$f":"IF('30m Sprint'!I77=\"\",\"\",'30m Sprint'!I77)","v":""},{"$f":"IF('30m Sprint'!J77=\"\",\"\",'30m Sprint'!J77)","v":""},{"$f":"IF(KaBu!I77=\"\",\"\",KaBu!I77)","v":""},{"$f":"IF(KaBu!J77=\"\",\"\",KaBu!J77)","v":""},{"$f":"IF(Seilspringen!I77=\"\",\"\",Seilspringen!I77)","v":""},{"$f":"IF(Seilspringen!J77=\"\",\"\",Seilspringen!J77)","v":""},{"$f":"IF(Liegestütz!I77=\"\",\"\",Liegestütz!I77)","v":""},{"$f":"IF(Liegestütz!J77=\"\",\"\",Liegestütz!J77)","v":""},{"$f":"IF(Balance!I77=\"\",\"\",Balance!I77)","v":""},{"$f":"IF(Balance!J77=\"\",\"\",Balance!J77)","v":""},{"$f":"IF('1000m'!I77=\"\",\"\",'1000m'!I77)","v":""},{"$f":"IF('1000m'!J77=\"\",\"\",'1000m'!J77)","v":""},{"$f":"IF(B77=\"\",\"\",(IF(AND(Messen_Beweglichkeit!L77=\"\",AB77=\"OK\"),VLOOKUP(G77&D77,$AJ$10:$AT$31,4,FALSE)+1,IF(AND(Messen_Beweglichkeit!J77=\"\",AB77=\"kein Test\"),\"\",Messen_Beweglichkeit!L77))+IF(AND('Jump-and-Reach'!J77=\"\",AB77=\"OK\"),VLOOKUP(G77&D77,$AJ$10:$AT$31,5,FALSE)+1,IF(AND('Jump-and-Reach'!J77=\"\",AB77=\"kein Test\"),\"\",'Jump-and-Reach'!J77))+IF(AND('30m Sprint'!J77=\"\",AB77=\"OK\"),VLOOKUP(G77&D77,$AJ$10:$AT$31,6,FALSE)+1,IF(AND('30m Sprint'!J77=\"\",AB77=\"kein Test\"),\"\",'30m Sprint'!J77))+IF(AND(KaBu!J77=\"\",AB77=\"OK\"),VLOOKUP(G77&D77,$AJ$10:$AT$31,7,FALSE)+1,IF(AND(KaBu!J77=\"\",AB77=\"kein Test\"),\"\",KaBu!J77))+IF(AND(Seilspringen!J77=\"\",AB77=\"OK\"),VLOOKUP(G77&D77,$AJ$10:$AT$31,8,FALSE)+1,IF(AND(Seilspringen!J77=\"\",AB77=\"kein Test\"),\"\",Seilspringen!J77))+IF(AND(Liegestütz!J77=\"\",AB77=\"OK\"),VLOOKUP(G77&D77,$AJ$10:$AT$31,9,FALSE)+1,IF(AND(Liegestütz!J77=\"\",AB77=\"kein Test\"),\"\",Liegestütz!J77))+IF(AND(Balance!J77=\"\",AB77=\"OK\"),VLOOKUP(G77&D77,$AJ$10:$AT$31,10,FALSE)+1,IF(AND(Balance!J77=\"\",AB77=\"kein Test\"),\"\",Balance!J77))+IF(AND('1000m'!J77=\"\",AB77=\"OK\"),VLOOKUP(G77&D77,$AJ$10:$AT$31,11,FALSE)+1,IF(AND('1000m'!J77=\"\",AB77=\"kein Test\"),\"\",'1000m'!J77)))/8)","v":""},null,null,"kein Test"]
[69,{"$f":"IF(Athletenliste!B78=\"\",\"\",Athletenliste!B78)","v":""},{"$f":"IF(Athletenliste!C78=\"\",\"\",Athletenliste!C78)","v":""},{"$f":"IF(Athletenliste!D78=\"\",\"\",Athletenliste!D78)","v":""},{"$f":"IF(Athletenliste!E78=\"\",\"\",Athletenliste!E78)","v":""},{"$f":"IF(Athletenliste!F78=\"\",\"\",Athletenliste!F78)","v":""},{"$f":"IF(Athletenliste!G78=\"\",\"\",Athletenliste!G78)","v":""},{"$f":"IF(Athletenliste!H78=\"\",\"\",Athletenliste!H78)","v":""},{"$f":"IF(Messen_Beweglichkeit!K78=\"\",\"\",Messen_Beweglichkeit!K78)","v":""},{"$f":"IF(Messen_Beweglichkeit!L78=\"\",\"\",Messen_Beweglichkeit!L78)","v":""},{"$f":"IF('Jump-and-Reach'!I78=\"\",\"\",'Jump-and-Reach'!I78)","v":""},{"$f":"IF('Jump-and-Reach'!J78=\"\",\"\",'Jump-and-Reach'!J78)","v":""},{"$f":"IF('30m Sprint'!I78=\"\",\"\",'30m Sprint'!I78)","v":""},{"$f":"IF('30m Sprint'!J78=\"\",\"\",'30m Sprint'!J78)","v":""},{"$f":"IF(KaBu!I78=\"\",\"\",KaBu!I78)","v":""},{"$f":"IF(KaBu!J78=\"\",\"\",KaBu!J78)","v":""},{"$f":"IF(Seilspringen!I78=\"\",\"\",Seilspringen!I78)","v":""},{"$f":"IF(Seilspringen!J78=\"\",\"\",Seilspringen!J78)","v":""},{"$f":"IF(Liegestütz!I78=\"\",\"\",Liegestütz!I78)","v":""},{"$f":"IF(Liegestütz!J78=\"\",\"\",Liegestütz!J78)","v":""},{"$f":"IF(Balance!I78=\"\",\"\",Balance!I78)","v":""},{"$f":"IF(Balance!J78=\"\",\"\",Balance!J78)","v":""},{"$f":"IF('1000m'!I78=\"\",\"\",'1000m'!I78)","v":""},{"$f":"IF('1000m'!J78=\"\",\"\",'1000m'!J78)","v":""},{"$f":"IF(B78=\"\",\"\",(IF(AND(Messen_Beweglichkeit!L78=\"\",AB78=\"OK\"),VLOOKUP(G78&D78,$AJ$10:$AT$31,4,FALSE)+1,IF(AND(Messen_Beweglichkeit!J78=\"\",AB78=\"kein Test\"),\"\",Messen_Beweglichkeit!L78))+IF(AND('Jump-and-Reach'!J78=\"\",AB78=\"OK\"),VLOOKUP(G78&D78,$AJ$10:$AT$31,5,FALSE)+1,IF(AND('Jump-and-Reach'!J78=\"\",AB78=\"kein Test\"),\"\",'Jump-and-Reach'!J78))+IF(AND('30m Sprint'!J78=\"\",AB78=\"OK\"),VLOOKUP(G78&D78,$AJ$10:$AT$31,6,FALSE)+1,IF(AND('30m Sprint'!J78=\"\",AB78=\"kein Test\"),\"\",'30m Sprint'!J78))+IF(AND(KaBu!J78=\"\",AB78=\"OK\"),VLOOKUP(G78&D78,$AJ$10:$AT$31,7,FALSE)+1,IF(AND(KaBu!J78=\"\",AB78=\"kein Test\"),\"\",KaBu!J78))+IF(AND(Seilspringen!J78=\"\",AB78=\"OK\"),VLOOKUP(G78&D78,$AJ$10:$AT$31,8,FALSE)+1,IF(AND(Seilspringen!J78=\"\",AB78=\"kein Test\"),\"\",Seilspringen!J78))+IF(AND(Liegestütz!J78=\"\",AB78=\"OK\"),VLOOKUP(G78&D78,$AJ$10:$AT$31,9,FALSE)+1,IF(AND(Liegestütz!J78=\"\",AB78=\"kein Test\"),\"\",Liegestütz!J78))+IF(AND(Balance!J78=\"\",AB78=\"OK\"),VLOOKUP(G78&D78,$AJ$10:$AT$31,10,FALSE)+1,IF(AND(Balance!J78=\"\",AB78=\"kein Test\"),\"\",Balance!J78))+IF(AND('1000m'!J78=\"\",AB78=\"OK\"),VLOOKUP(G78&D78,$AJ$10:$AT$31,11,FALSE)+1,IF(AND('1000m'!J78=\"\",AB78=\"kein Test\"),\"\",'1000m'!J78)))/8)","v":""},null,null,"kein Test"]
[70,{"$f":"IF(Athletenliste!B79=\"\",\"\",Athletenliste!B79)","v":""},{"$f":"IF(Athletenliste!C79=\"\",\"\",Athletenliste!C79)","v":""},{"$f":"IF(Athletenliste!D79=\"\",\"\",Athletenliste!D79)","v":""},{"$f":"IF(Athletenliste!E79=\"\",\"\",Athletenliste!E79)","v":""},{"$f":"IF(Athletenliste!F79=\"\",\"\",Athletenliste!F79)","v":""},{"$f":"IF(Athletenliste!G79=\"\",\"\",Athletenliste!G79)","v":""},{"$f":"IF(Athletenliste!H79=\"\",\"\",Athletenliste!H79)","v":""},{"$f":"IF(Messen_Beweglichkeit!K79=\"\",\"\",Messen_Beweglichkeit!K79)","v":""},{"$f":"IF(Messen_Beweglichkeit!L79=\"\",\"\",Messen_Beweglichkeit!L79)","v":""},{"$f":"IF('Jump-and-Reach'!I79=\"\",\"\",'Jump-and-Reach'!I79)","v":""},{"$f":"IF('Jump-and-Reach'!J79=\"\",\"\",'Jump-and-Reach'!J79)","v":""},{"$f":"IF('30m Sprint'!I79=\"\",\"\",'30m Sprint'!I79)","v":""},{"$f":"IF('30m Sprint'!J79=\"\",\"\",'30m Sprint'!J79)","v":""},{"$f":"IF(KaBu!I79=\"\",\"\",KaBu!I79)","v":""},{"$f":"IF(KaBu!J79=\"\",\"\",KaBu!J79)","v":""},{"$f":"IF(Seilspringen!I79=\"\",\"\",Seilspringen!I79)","v":""},{"$f":"IF(Seilspringen!J79=\"\",\"\",Seilspringen!J79)","v":""},{"$f":"IF(Liegestütz!I79=\"\",\"\",Liegestütz!I79)","v":""},{"$f":"IF(Liegestütz!J79=\"\",\"\",Liegestütz!J79)","v":""},{"$f":"IF(Balance!I79=\"\",\"\",Balance!I79)","v":""},{"$f":"IF(Balance!J79=\"\",\"\",Balance!J79)","v":""},{"$f":"IF('1000m'!I79=\"\",\"\",'1000m'!I79)","v":""},{"$f":"IF('1000m'!J79=\"\",\"\",'1000m'!J79)","v":""},{"$f":"IF(B79=\"\",\"\",(IF(AND(Messen_Beweglichkeit!L79=\"\",AB79=\"OK\"),VLOOKUP(G79&D79,$AJ$10:$AT$31,4,FALSE)+1,IF(AND(Messen_Beweglichkeit!J79=\"\",AB79=\"kein Test\"),\"\",Messen_Beweglichkeit!L79))+IF(AND('Jump-and-Reach'!J79=\"\",AB79=\"OK\"),VLOOKUP(G79&D79,$AJ$10:$AT$31,5,FALSE)+1,IF(AND('Jump-and-Reach'!J79=\"\",AB79=\"kein Test\"),\"\",'Jump-and-Reach'!J79))+IF(AND('30m Sprint'!J79=\"\",AB79=\"OK\"),VLOOKUP(G79&D79,$AJ$10:$AT$31,6,FALSE)+1,IF(AND('30m Sprint'!J79=\"\",AB79=\"kein Test\"),\"\",'30m Sprint'!J79))+IF(AND(KaBu!J79=\"\",AB79=\"OK\"),VLOOKUP(G79&D79,$AJ$10:$AT$31,7,FALSE)+1,IF(AND(KaBu!J79=\"\",AB79=\"kein Test\"),\"\",KaBu!J79))+IF(AND(Seilspringen!J79=\"\",AB79=\"OK\"),VLOOKUP(G79&D79,$AJ$10:$AT$31,8,FALSE)+1,IF(AND(Seilspringen!J79=\"\",AB79=\"kein Test\"),\"\",Seilspringen!J79))+IF(AND(Liegestütz!J79=\"\",AB79=\"OK\"),VLOOKUP(G79&D79,$AJ$10:$AT$31,9,FALSE)+1,IF(AND(Liegestütz!J79=\"\",AB79=\"kein Test\"),\"\",Liegestütz!J79))+IF(AND(Balance!J79=\"\",AB79=\"OK\"),VLOOKUP(G79&D79,$AJ$10:$AT$31,10,FALSE)+1,IF(AND(Balance!J79=\"\",AB79=\"kein Test\"),\"\",Balance!J79))+IF(AND('1000m'!J79=\"\",AB79=\"OK\"),VLOOKUP(G79&D79,$AJ$10:$AT$31,11,FALSE)+1,IF(AND('1000m'!J79=\"\",AB79=\"kein Test\"),\"\",'1000m'!J79)))/8)","v":""},null,null,"kein Test"]
[71,{"$f":"IF(Athletenliste!B80=\"\",\"\",Athletenliste!B80)","v":""},{"$f":"IF(Athletenliste!C80=\"\",\"\",Athletenliste!C80)","v":""},{"$f":"IF(Athletenliste!D80=\"\",\"\",Athletenliste!D80)","v":""},{"$f":"IF(Athletenliste!E80=\"\",\"\",Athletenliste!E80)","v":""},{"$f":"IF(Athletenliste!F80=\"\",\"\",Athletenliste!F80)","v":""},{"$f":"IF(Athletenliste!G80=\"\",\"\",Athletenliste!G80)","v":""},{"$f":"IF(Athletenliste!H80=\"\",\"\",Athletenliste!H80)","v":""},{"$f":"IF(Messen_Beweglichkeit!K80=\"\",\"\",Messen_Beweglichkeit!K80)","v":""},{"$f":"IF(Messen_Beweglichkeit!L80=\"\",\"\",Messen_Beweglichkeit!L80)","v":""},{"$f":"IF('Jump-and-Reach'!I80=\"\",\"\",'Jump-and-Reach'!I80)","v":""},{"$f":"IF('Jump-and-Reach'!J80=\"\",\"\",'Jump-and-Reach'!J80)","v":""},{"$f":"IF('30m Sprint'!I80=\"\",\"\",'30m Sprint'!I80)","v":""},{"$f":"IF('30m Sprint'!J80=\"\",\"\",'30m Sprint'!J80)","v":""},{"$f":"IF(KaBu!I80=\"\",\"\",KaBu!I80)","v":""},{"$f":"IF(KaBu!J80=\"\",\"\",KaBu!J80)","v":""},{"$f":"IF(Seilspringen!I80=\"\",\"\",Seilspringen!I80)","v":""},{"$f":"IF(Seilspringen!J80=\"\",\"\",Seilspringen!J80)","v":""},{"$f":"IF(Liegestütz!I80=\"\",\"\",Liegestütz!I80)","v":""},{"$f":"IF(Liegestütz!J80=\"\",\"\",Liegestütz!J80)","v":""},{"$f":"IF(Balance!I80=\"\",\"\",Balance!I80)","v":""},{"$f":"IF(Balance!J80=\"\",\"\",Balance!J80)","v":""},{"$f":"IF('1000m'!I80=\"\",\"\",'1000m'!I80)","v":""},{"$f":"IF('1000m'!J80=\"\",\"\",'1000m'!J80)","v":""},{"$f":"IF(B80=\"\",\"\",(IF(AND(Messen_Beweglichkeit!L80=\"\",AB80=\"OK\"),VLOOKUP(G80&D80,$AJ$10:$AT$31,4,FALSE)+1,IF(AND(Messen_Beweglichkeit!J80=\"\",AB80=\"kein Test\"),\"\",Messen_Beweglichkeit!L80))+IF(AND('Jump-and-Reach'!J80=\"\",AB80=\"OK\"),VLOOKUP(G80&D80,$AJ$10:$AT$31,5,FALSE)+1,IF(AND('Jump-and-Reach'!J80=\"\",AB80=\"kein Test\"),\"\",'Jump-and-Reach'!J80))+IF(AND('30m Sprint'!J80=\"\",AB80=\"OK\"),VLOOKUP(G80&D80,$AJ$10:$AT$31,6,FALSE)+1,IF(AND('30m Sprint'!J80=\"\",AB80=\"kein Test\"),\"\",'30m Sprint'!J80))+IF(AND(KaBu!J80=\"\",AB80=\"OK\"),VLOOKUP(G80&D80,$AJ$10:$AT$31,7,FALSE)+1,IF(AND(KaBu!J80=\"\",AB80=\"kein Test\"),\"\",KaBu!J80))+IF(AND(Seilspringen!J80=\"\",AB80=\"OK\"),VLOOKUP(G80&D80,$AJ$10:$AT$31,8,FALSE)+1,IF(AND(Seilspringen!J80=\"\",AB80=\"kein Test\"),\"\",Seilspringen!J80))+IF(AND(Liegestütz!J80=\"\",AB80=\"OK\"),VLOOKUP(G80&D80,$AJ$10:$AT$31,9,FALSE)+1,IF(AND(Liegestütz!J80=\"\",AB80=\"kein Test\"),\"\",Liegestütz!J80))+IF(AND(Balance!J80=\"\",AB80=\"OK\"),VLOOKUP(G80&D80,$AJ$10:$AT$31,10,FALSE)+1,IF(AND(Balance!J80=\"\",AB80=\"kein Test\"),\"\",Balance!J80))+IF(AND('1000m'!J80=\"\",AB80=\"OK\"),VLOOKUP(G80&D80,$AJ$10:$AT$31,11,FALSE)+1,IF(AND('1000m'!J80=\"\",AB80=\"kein Test\"),\"\",'1000m'!J80)))/8)","v":""},null,null,"kein Test"]
[72,{"$f":"IF(Athletenliste!B81=\"\",\"\",Athletenliste!B81)","v":""},{"$f":"IF(Athletenliste!C81=\"\",\"\",Athletenliste!C81)","v":""},{"$f":"IF(Athletenliste!D81=\"\",\"\",Athletenliste!D81)","v":""},{"$f":"IF(Athletenliste!E81=\"\",\"\",Athletenliste!E81)","v":""},{"$f":"IF(Athletenliste!F81=\"\",\"\",Athletenliste!F81)","v":""},{"$f":"IF(Athletenliste!G81=\"\",\"\",Athletenliste!G81)","v":""},{"$f":"IF(Athletenliste!H81=\"\",\"\",Athletenliste!H81)","v":""},{"$f":"IF(Messen_Beweglichkeit!K81=\"\",\"\",Messen_Beweglichkeit!K81)","v":""},{"$f":"IF(Messen_Beweglichkeit!L81=\"\",\"\",Messen_Beweglichkeit!L81)","v":""},{"$f":"IF('Jump-and-Reach'!I81=\"\",\"\",'Jump-and-Reach'!I81)","v":""},{"$f":"IF('Jump-and-Reach'!J81=\"\",\"\",'Jump-and-Reach'!J81)","v":""},{"$f":"IF('30m Sprint'!I81=\"\",\"\",'30m Sprint'!I81)","v":""},{"$f":"IF('30m Sprint'!J81=\"\",\"\",'30m Sprint'!J81)","v":""},{"$f":"IF(KaBu!I81=\"\",\"\",KaBu!I81)","v":""},{"$f":"IF(KaBu!J81=\"\",\"\",KaBu!J81)","v":""},{"$f":"IF(Seilspringen!I81=\"\",\"\",Seilspringen!I81)","v":""},{"$f":"IF(Seilspringen!J81=\"\",\"\",Seilspringen!J81)","v":""},{"$f":"IF(Liegestütz!I81=\"\",\"\",Liegestütz!I81)","v":""},{"$f":"IF(Liegestütz!J81=\"\",\"\",Liegestütz!J81)","v":""},{"$f":"IF(Balance!I81=\"\",\"\",Balance!I81)","v":""},{"$f":"IF(Balance!J81=\"\",\"\",Balance!J81)","v":""},{"$f":"IF('1000m'!I81=\"\",\"\",'1000m'!I81)","v":""},{"$f":"IF('1000m'!J81=\"\",\"\",'1000m'!J81)","v":""},{"$f":"IF(B81=\"\",\"\",(IF(AND(Messen_Beweglichkeit!L81=\"\",AB81=\"OK\"),VLOOKUP(G81&D81,$AJ$10:$AT$31,4,FALSE)+1,IF(AND(Messen_Beweglichkeit!J81=\"\",AB81=\"kein Test\"),\"\",Messen_Beweglichkeit!L81))+IF(AND('Jump-and-Reach'!J81=\"\",AB81=\"OK\"),VLOOKUP(G81&D81,$AJ$10:$AT$31,5,FALSE)+1,IF(AND('Jump-and-Reach'!J81=\"\",AB81=\"kein Test\"),\"\",'Jump-and-Reach'!J81))+IF(AND('30m Sprint'!J81=\"\",AB81=\"OK\"),VLOOKUP(G81&D81,$AJ$10:$AT$31,6,FALSE)+1,IF(AND('30m Sprint'!J81=\"\",AB81=\"kein Test\"),\"\",'30m Sprint'!J81))+IF(AND(KaBu!J81=\"\",AB81=\"OK\"),VLOOKUP(G81&D81,$AJ$10:$AT$31,7,FALSE)+1,IF(AND(KaBu!J81=\"\",AB81=\"kein Test\"),\"\",KaBu!J81))+IF(AND(Seilspringen!J81=\"\",AB81=\"OK\"),VLOOKUP(G81&D81,$AJ$10:$AT$31,8,FALSE)+1,IF(AND(Seilspringen!J81=\"\",AB81=\"kein Test\"),\"\",Seilspringen!J81))+IF(AND(Liegestütz!J81=\"\",AB81=\"OK\"),VLOOKUP(G81&D81,$AJ$10:$AT$31,9,FALSE)+1,IF(AND(Liegestütz!J81=\"\",AB81=\"kein Test\"),\"\",Liegestütz!J81))+IF(AND(Balance!J81=\"\",AB81=\"OK\"),VLOOKUP(G81&D81,$AJ$10:$AT$31,10,FALSE)+1,IF(AND(Balance!J81=\"\",AB81=\"kein Test\"),\"\",Balance!J81))+IF(AND('1000m'!J81=\"\",AB81=\"OK\"),VLOOKUP(G81&D81,$AJ$10:$AT$31,11,FALSE)+1,IF(AND('1000m'!J81=\"\",AB81=\"kein Test\"),\"\",'1000m'!J81)))/8)","v":""},null,null,"kein Test"]
[73,{"$f":"IF(Athletenliste!B82=\"\",\"\",Athletenliste!B82)","v":""},{"$f":"IF(Athletenliste!C82=\"\",\"\",Athletenliste!C82)","v":""},{"$f":"IF(Athletenliste!D82=\"\",\"\",Athletenliste!D82)","v":""},{"$f":"IF(Athletenliste!E82=\"\",\"\",Athletenliste!E82)","v":""},{"$f":"IF(Athletenliste!F82=\"\",\"\",Athletenliste!F82)","v":""},{"$f":"IF(Athletenliste!G82=\"\",\"\",Athletenliste!G82)","v":""},{"$f":"IF(Athletenliste!H82=\"\",\"\",Athletenliste!H82)","v":""},{"$f":"IF(Messen_Beweglichkeit!K82=\"\",\"\",Messen_Beweglichkeit!K82)","v":""},{"$f":"IF(Messen_Beweglichkeit!L82=\"\",\"\",Messen_Beweglichkeit!L82)","v":""},{"$f":"IF('Jump-and-Reach'!I82=\"\",\"\",'Jump-and-Reach'!I82)","v":""},{"$f":"IF('Jump-and-Reach'!J82=\"\",\"\",'Jump-and-Reach'!J82)","v":""},{"$f":"IF('30m Sprint'!I82=\"\",\"\",'30m Sprint'!I82)","v":""},{"$f":"IF('30m Sprint'!J82=\"\",\"\",'30m Sprint'!J82)","v":""},{"$f":"IF(KaBu!I82=\"\",\"\",KaBu!I82)","v":""},{"$f":"IF(KaBu!J82=\"\",\"\",KaBu!J82)","v":""},{"$f":"IF(Seilspringen!I82=\"\",\"\",Seilspringen!I82)","v":""},{"$f":"IF(Seilspringen!J82=\"\",\"\",Seilspringen!J82)","v":""},{"$f":"IF(Liegestütz!I82=\"\",\"\",Liegestütz!I82)","v":""},{"$f":"IF(Liegestütz!J82=\"\",\"\",Liegestütz!J82)","v":""},{"$f":"IF(Balance!I82=\"\",\"\",Balance!I82)","v":""},{"$f":"IF(Balance!J82=\"\",\"\",Balance!J82)","v":""},{"$f":"IF('1000m'!I82=\"\",\"\",'1000m'!I82)","v":""},{"$f":"IF('1000m'!J82=\"\",\"\",'1000m'!J82)","v":""},{"$f":"IF(B82=\"\",\"\",(IF(AND(Messen_Beweglichkeit!L82=\"\",AB82=\"OK\"),VLOOKUP(G82&D82,$AJ$10:$AT$31,4,FALSE)+1,IF(AND(Messen_Beweglichkeit!J82=\"\",AB82=\"kein Test\"),\"\",Messen_Beweglichkeit!L82))+IF(AND('Jump-and-Reach'!J82=\"\",AB82=\"OK\"),VLOOKUP(G82&D82,$AJ$10:$AT$31,5,FALSE)+1,IF(AND('Jump-and-Reach'!J82=\"\",AB82=\"kein Test\"),\"\",'Jump-and-Reach'!J82))+IF(AND('30m Sprint'!J82=\"\",AB82=\"OK\"),VLOOKUP(G82&D82,$AJ$10:$AT$31,6,FALSE)+1,IF(AND('30m Sprint'!J82=\"\",AB82=\"kein Test\"),\"\",'30m Sprint'!J82))+IF(AND(KaBu!J82=\"\",AB82=\"OK\"),VLOOKUP(G82&D82,$AJ$10:$AT$31,7,FALSE)+1,IF(AND(KaBu!J82=\"\",AB82=\"kein Test\"),\"\",KaBu!J82))+IF(AND(Seilspringen!J82=\"\",AB82=\"OK\"),VLOOKUP(G82&D82,$AJ$10:$AT$31,8,FALSE)+1,IF(AND(Seilspringen!J82=\"\",AB82=\"kein Test\"),\"\",Seilspringen!J82))+IF(AND(Liegestütz!J82=\"\",AB82=\"OK\"),VLOOKUP(G82&D82,$AJ$10:$AT$31,9,FALSE)+1,IF(AND(Liegestütz!J82=\"\",AB82=\"kein Test\"),\"\",Liegestütz!J82))+IF(AND(Balance!J82=\"\",AB82=\"OK\"),VLOOKUP(G82&D82,$AJ$10:$AT$31,10,FALSE)+1,IF(AND(Balance!J82=\"\",AB82=\"kein Test\"),\"\",Balance!J82))+IF(AND('1000m'!J82=\"\",AB82=\"OK\"),VLOOKUP(G82&D82,$AJ$10:$AT$31,11,FALSE)+1,IF(AND('1000m'!J82=\"\",AB82=\"kein Test\"),\"\",'1000m'!J82)))/8)","v":""},null,null,"kein Test"]
[74,{"$f":"IF(Athletenliste!B83=\"\",\"\",Athletenliste!B83)","v":""},{"$f":"IF(Athletenliste!C83=\"\",\"\",Athletenliste!C83)","v":""},{"$f":"IF(Athletenliste!D83=\"\",\"\",Athletenliste!D83)","v":""},{"$f":"IF(Athletenliste!E83=\"\",\"\",Athletenliste!E83)","v":""},{"$f":"IF(Athletenliste!F83=\"\",\"\",Athletenliste!F83)","v":""},{"$f":"IF(Athletenliste!G83=\"\",\"\",Athletenliste!G83)","v":""},{"$f":"IF(Athletenliste!H83=\"\",\"\",Athletenliste!H83)","v":""},{"$f":"IF(Messen_Beweglichkeit!K83=\"\",\"\",Messen_Beweglichkeit!K83)","v":""},{"$f":"IF(Messen_Beweglichkeit!L83=\"\",\"\",Messen_Beweglichkeit!L83)","v":""},{"$f":"IF('Jump-and-Reach'!I83=\"\",\"\",'Jump-and-Reach'!I83)","v":""},{"$f":"IF('Jump-and-Reach'!J83=\"\",\"\",'Jump-and-Reach'!J83)","v":""},{"$f":"IF('30m Sprint'!I83=\"\",\"\",'30m Sprint'!I83)","v":""},{"$f":"IF('30m Sprint'!J83=\"\",\"\",'30m Sprint'!J83)","v":""},{"$f":"IF(KaBu!I83=\"\",\"\",KaBu!I83)","v":""},{"$f":"IF(KaBu!J83=\"\",\"\",KaBu!J83)","v":""},{"$f":"IF(Seilspringen!I83=\"\",\"\",Seilspringen!I83)","v":""},{"$f":"IF(Seilspringen!J83=\"\",\"\",Seilspringen!J83)","v":""},{"$f":"IF(Liegestütz!I83=\"\",\"\",Liegestütz!I83)","v":""},{"$f":"IF(Liegestütz!J83=\"\",\"\",Liegestütz!J83)","v":""},{"$f":"IF(Balance!I83=\"\",\"\",Balance!I83)","v":""},{"$f":"IF(Balance!J83=\"\",\"\",Balance!J83)","v":""},{"$f":"IF('1000m'!I83=\"\",\"\",'1000m'!I83)","v":""},{"$f":"IF('1000m'!J83=\"\",\"\",'1000m'!J83)","v":""},{"$f":"IF(B83=\"\",\"\",(IF(AND(Messen_Beweglichkeit!L83=\"\",AB83=\"OK\"),VLOOKUP(G83&D83,$AJ$10:$AT$31,4,FALSE)+1,IF(AND(Messen_Beweglichkeit!J83=\"\",AB83=\"kein Test\"),\"\",Messen_Beweglichkeit!L83))+IF(AND('Jump-and-Reach'!J83=\"\",AB83=\"OK\"),VLOOKUP(G83&D83,$AJ$10:$AT$31,5,FALSE)+1,IF(AND('Jump-and-Reach'!J83=\"\",AB83=\"kein Test\"),\"\",'Jump-and-Reach'!J83))+IF(AND('30m Sprint'!J83=\"\",AB83=\"OK\"),VLOOKUP(G83&D83,$AJ$10:$AT$31,6,FALSE)+1,IF(AND('30m Sprint'!J83=\"\",AB83=\"kein Test\"),\"\",'30m Sprint'!J83))+IF(AND(KaBu!J83=\"\",AB83=\"OK\"),VLOOKUP(G83&D83,$AJ$10:$AT$31,7,FALSE)+1,IF(AND(KaBu!J83=\"\",AB83=\"kein Test\"),\"\",KaBu!J83))+IF(AND(Seilspringen!J83=\"\",AB83=\"OK\"),VLOOKUP(G83&D83,$AJ$10:$AT$31,8,FALSE)+1,IF(AND(Seilspringen!J83=\"\",AB83=\"kein Test\"),\"\",Seilspringen!J83))+IF(AND(Liegestütz!J83=\"\",AB83=\"OK\"),VLOOKUP(G83&D83,$AJ$10:$AT$31,9,FALSE)+1,IF(AND(Liegestütz!J83=\"\",AB83=\"kein Test\"),\"\",Liegestütz!J83))+IF(AND(Balance!J83=\"\",AB83=\"OK\"),VLOOKUP(G83&D83,$AJ$10:$AT$31,10,FALSE)+1,IF(AND(Balance!J83=\"\",AB83=\"kein Test\"),\"\",Balance!J83))+IF(AND('1000m'!J83=\"\",AB83=\"OK\"),VLOOKUP(G83&D83,$AJ$10:$AT$31,11,FALSE)+1,IF(AND('1000m'!J83=\"\",AB83=\"kein Test\"),\"\",'1000m'!J83)))/8)","v":""},null,null,"kein Test"]
[75,{"$f":"IF(Athletenliste!B84=\"\",\"\",Athletenliste!B84)","v":""},{"$f":"IF(Athletenliste!C84=\"\",\"\",Athletenliste!C84)","v":""},{"$f":"IF(Athletenliste!D84=\"\",\"\",Athletenliste!D84)","v":""},{"$f":"IF(Athletenliste!E84=\"\",\"\",Athletenliste!E84)","v":""},{"$f":"IF(Athletenliste!F84=\"\",\"\",Athletenliste!F84)","v":""},{"$f":"IF(Athletenliste!G84=\"\",\"\",Athletenliste!G84)","v":""},{"$f":"IF(Athletenliste!H84=\"\",\"\",Athletenliste!H84)","v":""},{"$f":"IF(Messen_Beweglichkeit!K84=\"\",\"\",Messen_Beweglichkeit!K84)","v":""},{"$f":"IF(Messen_Beweglichkeit!L84=\"\",\"\",Messen_Beweglichkeit!L84)","v":""},{"$f":"IF('Jump-and-Reach'!I84=\"\",\"\",'Jump-and-Reach'!I84)","v":""},{"$f":"IF('Jump-and-Reach'!J84=\"\",\"\",'Jump-and-Reach'!J84)","v":""},{"$f":"IF('30m Sprint'!I84=\"\",\"\",'30m Sprint'!I84)","v":""},{"$f":"IF('30m Sprint'!J84=\"\",\"\",'30m Sprint'!J84)","v":""},{"$f":"IF(KaBu!I84=\"\",\"\",KaBu!I84)","v":""},{"$f":"IF(KaBu!J84=\"\",\"\",KaBu!J84)","v":""},{"$f":"IF(Seilspringen!I84=\"\",\"\",Seilspringen!I84)","v":""},{"$f":"IF(Seilspringen!J84=\"\",\"\",Seilspringen!J84)","v":""},{"$f":"IF(Liegestütz!I84=\"\",\"\",Liegestütz!I84)","v":""},{"$f":"IF(Liegestütz!J84=\"\",\"\",Liegestütz!J84)","v":""},{"$f":"IF(Balance!I84=\"\",\"\",Balance!I84)","v":""},{"$f":"IF(Balance!J84=\"\",\"\",Balance!J84)","v":""},{"$f":"IF('1000m'!I84=\"\",\"\",'1000m'!I84)","v":""},{"$f":"IF('1000m'!J84=\"\",\"\",'1000m'!J84)","v":""},{"$f":"IF(B84=\"\",\"\",(IF(AND(Messen_Beweglichkeit!L84=\"\",AB84=\"OK\"),VLOOKUP(G84&D84,$AJ$10:$AT$31,4,FALSE)+1,IF(AND(Messen_Beweglichkeit!J84=\"\",AB84=\"kein Test\"),\"\",Messen_Beweglichkeit!L84))+IF(AND('Jump-and-Reach'!J84=\"\",AB84=\"OK\"),VLOOKUP(G84&D84,$AJ$10:$AT$31,5,FALSE)+1,IF(AND('Jump-and-Reach'!J84=\"\",AB84=\"kein Test\"),\"\",'Jump-and-Reach'!J84))+IF(AND('30m Sprint'!J84=\"\",AB84=\"OK\"),VLOOKUP(G84&D84,$AJ$10:$AT$31,6,FALSE)+1,IF(AND('30m Sprint'!J84=\"\",AB84=\"kein Test\"),\"\",'30m Sprint'!J84))+IF(AND(KaBu!J84=\"\",AB84=\"OK\"),VLOOKUP(G84&D84,$AJ$10:$AT$31,7,FALSE)+1,IF(AND(KaBu!J84=\"\",AB84=\"kein Test\"),\"\",KaBu!J84))+IF(AND(Seilspringen!J84=\"\",AB84=\"OK\"),VLOOKUP(G84&D84,$AJ$10:$AT$31,8,FALSE)+1,IF(AND(Seilspringen!J84=\"\",AB84=\"kein Test\"),\"\",Seilspringen!J84))+IF(AND(Liegestütz!J84=\"\",AB84=\"OK\"),VLOOKUP(G84&D84,$AJ$10:$AT$31,9,FALSE)+1,IF(AND(Liegestütz!J84=\"\",AB84=\"kein Test\"),\"\",Liegestütz!J84))+IF(AND(Balance!J84=\"\",AB84=\"OK\"),VLOOKUP(G84&D84,$AJ$10:$AT$31,10,FALSE)+1,IF(AND(Balance!J84=\"\",AB84=\"kein Test\"),\"\",Balance!J84))+IF(AND('1000m'!J84=\"\",AB84=\"OK\"),VLOOKUP(G84&D84,$AJ$10:$AT$31,11,FALSE)+1,IF(AND('1000m'!J84=\"\",AB84=\"kein Test\"),\"\",'1000m'!J84)))/8)","v":""},null,null,"kein Test"]
[76,{"$f":"IF(Athletenliste!B85=\"\",\"\",Athletenliste!B85)","v":""},{"$f":"IF(Athletenliste!C85=\"\",\"\",Athletenliste!C85)","v":""},{"$f":"IF(Athletenliste!D85=\"\",\"\",Athletenliste!D85)","v":""},{"$f":"IF(Athletenliste!E85=\"\",\"\",Athletenliste!E85)","v":""},{"$f":"IF(Athletenliste!F85=\"\",\"\",Athletenliste!F85)","v":""},{"$f":"IF(Athletenliste!G85=\"\",\"\",Athletenliste!G85)","v":""},{"$f":"IF(Athletenliste!H85=\"\",\"\",Athletenliste!H85)","v":""},{"$f":"IF(Messen_Beweglichkeit!K85=\"\",\"\",Messen_Beweglichkeit!K85)","v":""},{"$f":"IF(Messen_Beweglichkeit!L85=\"\",\"\",Messen_Beweglichkeit!L85)","v":""},{"$f":"IF('Jump-and-Reach'!I85=\"\",\"\",'Jump-and-Reach'!I85)","v":""},{"$f":"IF('Jump-and-Reach'!J85=\"\",\"\",'Jump-and-Reach'!J85)","v":""},{"$f":"IF('30m Sprint'!I85=\"\",\"\",'30m Sprint'!I85)","v":""},{"$f":"IF('30m Sprint'!J85=\"\",\"\",'30m Sprint'!J85)","v":""},{"$f":"IF(KaBu!I85=\"\",\"\",KaBu!I85)","v":""},{"$f":"IF(KaBu!J85=\"\",\"\",KaBu!J85)","v":""},{"$f":"IF(Seilspringen!I85=\"\",\"\",Seilspringen!I85)","v":""},{"$f":"IF(Seilspringen!J85=\"\",\"\",Seilspringen!J85)","v":""},{"$f":"IF(Liegestütz!I85=\"\",\"\",Liegestütz!I85)","v":""},{"$f":"IF(Liegestütz!J85=\"\",\"\",Liegestütz!J85)","v":""},{"$f":"IF(Balance!I85=\"\",\"\",Balance!I85)","v":""},{"$f":"IF(Balance!J85=\"\",\"\",Balance!J85)","v":""},{"$f":"IF('1000m'!I85=\"\",\"\",'1000m'!I85)","v":""},{"$f":"IF('1000m'!J85=\"\",\"\",'1000m'!J85)","v":""},{"$f":"IF(B85=\"\",\"\",(IF(AND(Messen_Beweglichkeit!L85=\"\",AB85=\"OK\"),VLOOKUP(G85&D85,$AJ$10:$AT$31,4,FALSE)+1,IF(AND(Messen_Beweglichkeit!J85=\"\",AB85=\"kein Test\"),\"\",Messen_Beweglichkeit!L85))+IF(AND('Jump-and-Reach'!J85=\"\",AB85=\"OK\"),VLOOKUP(G85&D85,$AJ$10:$AT$31,5,FALSE)+1,IF(AND('Jump-and-Reach'!J85=\"\",AB85=\"kein Test\"),\"\",'Jump-and-Reach'!J85))+IF(AND('30m Sprint'!J85=\"\",AB85=\"OK\"),VLOOKUP(G85&D85,$AJ$10:$AT$31,6,FALSE)+1,IF(AND('30m Sprint'!J85=\"\",AB85=\"kein Test\"),\"\",'30m Sprint'!J85))+IF(AND(KaBu!J85=\"\",AB85=\"OK\"),VLOOKUP(G85&D85,$AJ$10:$AT$31,7,FALSE)+1,IF(AND(KaBu!J85=\"\",AB85=\"kein Test\"),\"\",KaBu!J85))+IF(AND(Seilspringen!J85=\"\",AB85=\"OK\"),VLOOKUP(G85&D85,$AJ$10:$AT$31,8,FALSE)+1,IF(AND(Seilspringen!J85=\"\",AB85=\"kein Test\"),\"\",Seilspringen!J85))+IF(AND(Liegestütz!J85=\"\",AB85=\"OK\"),VLOOKUP(G85&D85,$AJ$10:$AT$31,9,FALSE)+1,IF(AND(Liegestütz!J85=\"\",AB85=\"kein Test\"),\"\",Liegestütz!J85))+IF(AND(Balance!J85=\"\",AB85=\"OK\"),VLOOKUP(G85&D85,$AJ$10:$AT$31,10,FALSE)+1,IF(AND(Balance!J85=\"\",AB85=\"kein Test\"),\"\",Balance!J85))+IF(AND('1000m'!J85=\"\",AB85=\"OK\"),VLOOKUP(G85&D85,$AJ$10:$AT$31,11,FALSE)+1,IF(AND('1000m'!J85=\"\",AB85=\"kein Test\"),\"\",'1000m'!J85)))/8)","v":""},null,null,"kein Test"]
[77,{"$f":"IF(Athletenliste!B86=\"\",\"\",Athletenliste!B86)","v":""},{"$f":"IF(Athletenliste!C86=\"\",\"\",Athletenliste!C86)","v":""},{"$f":"IF(Athletenliste!D86=\"\",\"\",Athletenliste!D86)","v":""},{"$f":"IF(Athletenliste!E86=\"\",\"\",Athletenliste!E86)","v":""},{"$f":"IF(Athletenliste!F86=\"\",\"\",Athletenliste!F86)","v":""},{"$f":"IF(Athletenliste!G86=\"\",\"\",Athletenliste!G86)","v":""},{"$f":"IF(Athletenliste!H86=\"\",\"\",Athletenliste!H86)","v":""},{"$f":"IF(Messen_Beweglichkeit!K86=\"\",\"\",Messen_Beweglichkeit!K86)","v":""},{"$f":"IF(Messen_Beweglichkeit!L86=\"\",\"\",Messen_Beweglichkeit!L86)","v":""},{"$f":"IF('Jump-and-Reach'!I86=\"\",\"\",'Jump-and-Reach'!I86)","v":""},{"$f":"IF('Jump-and-Reach'!J86=\"\",\"\",'Jump-and-Reach'!J86)","v":""},{"$f":"IF('30m Sprint'!I86=\"\",\"\",'30m Sprint'!I86)","v":""},{"$f":"IF('30m Sprint'!J86=\"\",\"\",'30m Sprint'!J86)","v":""},{"$f":"IF(KaBu!I86=\"\",\"\",KaBu!I86)","v":""},{"$f":"IF(KaBu!J86=\"\",\"\",KaBu!J86)","v":""},{"$f":"IF(Seilspringen!I86=\"\",\"\",Seilspringen!I86)","v":""},{"$f":"IF(Seilspringen!J86=\"\",\"\",Seilspringen!J86)","v":""},{"$f":"IF(Liegestütz!I86=\"\",\"\",Liegestütz!I86)","v":""},{"$f":"IF(Liegestütz!J86=\"\",\"\",Liegestütz!J86)","v":""},{"$f":"IF(Balance!I86=\"\",\"\",Balance!I86)","v":""},{"$f":"IF(Balance!J86=\"\",\"\",Balance!J86)","v":""},{"$f":"IF('1000m'!I86=\"\",\"\",'1000m'!I86)","v":""},{"$f":"IF('1000m'!J86=\"\",\"\",'1000m'!J86)","v":""},{"$f":"IF(B86=\"\",\"\",(IF(AND(Messen_Beweglichkeit!L86=\"\",AB86=\"OK\"),VLOOKUP(G86&D86,$AJ$10:$AT$31,4,FALSE)+1,IF(AND(Messen_Beweglichkeit!J86=\"\",AB86=\"kein Test\"),\"\",Messen_Beweglichkeit!L86))+IF(AND('Jump-and-Reach'!J86=\"\",AB86=\"OK\"),VLOOKUP(G86&D86,$AJ$10:$AT$31,5,FALSE)+1,IF(AND('Jump-and-Reach'!J86=\"\",AB86=\"kein Test\"),\"\",'Jump-and-Reach'!J86))+IF(AND('30m Sprint'!J86=\"\",AB86=\"OK\"),VLOOKUP(G86&D86,$AJ$10:$AT$31,6,FALSE)+1,IF(AND('30m Sprint'!J86=\"\",AB86=\"kein Test\"),\"\",'30m Sprint'!J86))+IF(AND(KaBu!J86=\"\",AB86=\"OK\"),VLOOKUP(G86&D86,$AJ$10:$AT$31,7,FALSE)+1,IF(AND(KaBu!J86=\"\",AB86=\"kein Test\"),\"\",KaBu!J86))+IF(AND(Seilspringen!J86=\"\",AB86=\"OK\"),VLOOKUP(G86&D86,$AJ$10:$AT$31,8,FALSE)+1,IF(AND(Seilspringen!J86=\"\",AB86=\"kein Test\"),\"\",Seilspringen!J86))+IF(AND(Liegestütz!J86=\"\",AB86=\"OK\"),VLOOKUP(G86&D86,$AJ$10:$AT$31,9,FALSE)+1,IF(AND(Liegestütz!J86=\"\",AB86=\"kein Test\"),\"\",Liegestütz!J86))+IF(AND(Balance!J86=\"\",AB86=\"OK\"),VLOOKUP(G86&D86,$AJ$10:$AT$31,10,FALSE)+1,IF(AND(Balance!J86=\"\",AB86=\"kein Test\"),\"\",Balance!J86))+IF(AND('1000m'!J86=\"\",AB86=\"OK\"),VLOOKUP(G86&D86,$AJ$10:$AT$31,11,FALSE)+1,IF(AND('1000m'!J86=\"\",AB86=\"kein Test\"),\"\",'1000m'!J86)))/8)","v":""},null,null,"kein Test"]
[78,{"$f":"IF(Athletenliste!B87=\"\",\"\",Athletenliste!B87)","v":""},{"$f":"IF(Athletenliste!C87=\"\",\"\",Athletenliste!C87)","v":""},{"$f":"IF(Athletenliste!D87=\"\",\"\",Athletenliste!D87)","v":""},{"$f":"IF(Athletenliste!E87=\"\",\"\",Athletenliste!E87)","v":""},{"$f":"IF(Athletenliste!F87=\"\",\"\",Athletenliste!F87)","v":""},{"$f":"IF(Athletenliste!G87=\"\",\"\",Athletenliste!G87)","v":""},{"$f":"IF(Athletenliste!H87=\"\",\"\",Athletenliste!H87)","v":""},{"$f":"IF(Messen_Beweglichkeit!K87=\"\",\"\",Messen_Beweglichkeit!K87)","v":""},{"$f":"IF(Messen_Beweglichkeit!L87=\"\",\"\",Messen_Beweglichkeit!L87)","v":""},{"$f":"IF('Jump-and-Reach'!I87=\"\",\"\",'Jump-and-Reach'!I87)","v":""},{"$f":"IF('Jump-and-Reach'!J87=\"\",\"\",'Jump-and-Reach'!J87)","v":""},{"$f":"IF('30m Sprint'!I87=\"\",\"\",'30m Sprint'!I87)","v":""},{"$f":"IF('30m Sprint'!J87=\"\",\"\",'30m Sprint'!J87)","v":""},{"$f":"IF(KaBu!I87=\"\",\"\",KaBu!I87)","v":""},{"$f":"IF(KaBu!J87=\"\",\"\",KaBu!J87)","v":""},{"$f":"IF(Seilspringen!I87=\"\",\"\",Seilspringen!I87)","v":""},{"$f":"IF(Seilspringen!J87=\"\",\"\",Seilspringen!J87)","v":""},{"$f":"IF(Liegestütz!I87=\"\",\"\",Liegestütz!I87)","v":""},{"$f":"IF(Liegestütz!J87=\"\",\"\",Liegestütz!J87)","v":""},{"$f":"IF(Balance!I87=\"\",\"\",Balance!I87)","v":""},{"$f":"IF(Balance!J87=\"\",\"\",Balance!J87)","v":""},{"$f":"IF('1000m'!I87=\"\",\"\",'1000m'!I87)","v":""},{"$f":"IF('1000m'!J87=\"\",\"\",'1000m'!J87)","v":""},{"$f":"IF(B87=\"\",\"\",(IF(AND(Messen_Beweglichkeit!L87=\"\",AB87=\"OK\"),VLOOKUP(G87&D87,$AJ$10:$AT$31,4,FALSE)+1,IF(AND(Messen_Beweglichkeit!J87=\"\",AB87=\"kein Test\"),\"\",Messen_Beweglichkeit!L87))+IF(AND('Jump-and-Reach'!J87=\"\",AB87=\"OK\"),VLOOKUP(G87&D87,$AJ$10:$AT$31,5,FALSE)+1,IF(AND('Jump-and-Reach'!J87=\"\",AB87=\"kein Test\"),\"\",'Jump-and-Reach'!J87))+IF(AND('30m Sprint'!J87=\"\",AB87=\"OK\"),VLOOKUP(G87&D87,$AJ$10:$AT$31,6,FALSE)+1,IF(AND('30m Sprint'!J87=\"\",AB87=\"kein Test\"),\"\",'30m Sprint'!J87))+IF(AND(KaBu!J87=\"\",AB87=\"OK\"),VLOOKUP(G87&D87,$AJ$10:$AT$31,7,FALSE)+1,IF(AND(KaBu!J87=\"\",AB87=\"kein Test\"),\"\",KaBu!J87))+IF(AND(Seilspringen!J87=\"\",AB87=\"OK\"),VLOOKUP(G87&D87,$AJ$10:$AT$31,8,FALSE)+1,IF(AND(Seilspringen!J87=\"\",AB87=\"kein Test\"),\"\",Seilspringen!J87))+IF(AND(Liegestütz!J87=\"\",AB87=\"OK\"),VLOOKUP(G87&D87,$AJ$10:$AT$31,9,FALSE)+1,IF(AND(Liegestütz!J87=\"\",AB87=\"kein Test\"),\"\",Liegestütz!J87))+IF(AND(Balance!J87=\"\",AB87=\"OK\"),VLOOKUP(G87&D87,$AJ$10:$AT$31,10,FALSE)+1,IF(AND(Balance!J87=\"\",AB87=\"kein Test\"),\"\",Balance!J87))+IF(AND('1000m'!J87=\"\",AB87=\"OK\"),VLOOKUP(G87&D87,$AJ$10:$AT$31,11,FALSE)+1,IF(AND('1000m'!J87=\"\",AB87=\"kein Test\"),\"\",'1000m'!J87)))/8)","v":""},null,null,"kein Test"]
[79,{"$f":"IF(Athletenliste!B88=\"\",\"\",Athletenliste!B88)","v":""},{"$f":"IF(Athletenliste!C88=\"\",\"\",Athletenliste!C88)","v":""},{"$f":"IF(Athletenliste!D88=\"\",\"\",Athletenliste!D88)","v":""},{"$f":"IF(Athletenliste!E88=\"\",\"\",Athletenliste!E88)","v":""},{"$f":"IF(Athletenliste!F88=\"\",\"\",Athletenliste!F88)","v":""},{"$f":"IF(Athletenliste!G88=\"\",\"\",Athletenliste!G88)","v":""},{"$f":"IF(Athletenliste!H88=\"\",\"\",Athletenliste!H88)","v":""},{"$f":"IF(Messen_Beweglichkeit!K88=\"\",\"\",Messen_Beweglichkeit!K88)","v":""},{"$f":"IF(Messen_Beweglichkeit!L88=\"\",\"\",Messen_Beweglichkeit!L88)","v":""},{"$f":"IF('Jump-and-Reach'!I88=\"\",\"\",'Jump-and-Reach'!I88)","v":""},{"$f":"IF('Jump-and-Reach'!J88=\"\",\"\",'Jump-and-Reach'!J88)","v":""},{"$f":"IF('30m Sprint'!I88=\"\",\"\",'30m Sprint'!I88)","v":""},{"$f":"IF('30m Sprint'!J88=\"\",\"\",'30m Sprint'!J88)","v":""},{"$f":"IF(KaBu!I88=\"\",\"\",KaBu!I88)","v":""},{"$f":"IF(KaBu!J88=\"\",\"\",KaBu!J88)","v":""},{"$f":"IF(Seilspringen!I88=\"\",\"\",Seilspringen!I88)","v":""},{"$f":"IF(Seilspringen!J88=\"\",\"\",Seilspringen!J88)","v":""},{"$f":"IF(Liegestütz!I88=\"\",\"\",Liegestütz!I88)","v":""},{"$f":"IF(Liegestütz!J88=\"\",\"\",Liegestütz!J88)","v":""},{"$f":"IF(Balance!I88=\"\",\"\",Balance!I88)","v":""},{"$f":"IF(Balance!J88=\"\",\"\",Balance!J88)","v":""},{"$f":"IF('1000m'!I88=\"\",\"\",'1000m'!I88)","v":""},{"$f":"IF('1000m'!J88=\"\",\"\",'1000m'!J88)","v":""},{"$f":"IF(B88=\"\",\"\",(IF(AND(Messen_Beweglichkeit!L88=\"\",AB88=\"OK\"),VLOOKUP(G88&D88,$AJ$10:$AT$31,4,FALSE)+1,IF(AND(Messen_Beweglichkeit!J88=\"\",AB88=\"kein Test\"),\"\",Messen_Beweglichkeit!L88))+IF(AND('Jump-and-Reach'!J88=\"\",AB88=\"OK\"),VLOOKUP(G88&D88,$AJ$10:$AT$31,5,FALSE)+1,IF(AND('Jump-and-Reach'!J88=\"\",AB88=\"kein Test\"),\"\",'Jump-and-Reach'!J88))+IF(AND('30m Sprint'!J88=\"\",AB88=\"OK\"),VLOOKUP(G88&D88,$AJ$10:$AT$31,6,FALSE)+1,IF(AND('30m Sprint'!J88=\"\",AB88=\"kein Test\"),\"\",'30m Sprint'!J88))+IF(AND(KaBu!J88=\"\",AB88=\"OK\"),VLOOKUP(G88&D88,$AJ$10:$AT$31,7,FALSE)+1,IF(AND(KaBu!J88=\"\",AB88=\"kein Test\"),\"\",KaBu!J88))+IF(AND(Seilspringen!J88=\"\",AB88=\"OK\"),VLOOKUP(G88&D88,$AJ$10:$AT$31,8,FALSE)+1,IF(AND(Seilspringen!J88=\"\",AB88=\"kein Test\"),\"\",Seilspringen!J88))+IF(AND(Liegestütz!J88=\"\",AB88=\"OK\"),VLOOKUP(G88&D88,$AJ$10:$AT$31,9,FALSE)+1,IF(AND(Liegestütz!J88=\"\",AB88=\"kein Test\"),\"\",Liegestütz!J88))+IF(AND(Balance!J88=\"\",AB88=\"OK\"),VLOOKUP(G88&D88,$AJ$10:$AT$31,10,FALSE)+1,IF(AND(Balance!J88=\"\",AB88=\"kein Test\"),\"\",Balance!J88))+IF(AND('1000m'!J88=\"\",AB88=\"OK\"),VLOOKUP(G88&D88,$AJ$10:$AT$31,11,FALSE)+1,IF(AND('1000m'!J88=\"\",AB88=\"kein Test\"),\"\",'1000m'!J88)))/8)","v":""},null,null,"kein Test"]
[80,{"$f":"IF(Athletenliste!B89=\"\",\"\",Athletenliste!B89)","v":""},{"$f":"IF(Athletenliste!C89=\"\",\"\",Athletenliste!C89)","v":""},{"$f":"IF(Athletenliste!D89=\"\",\"\",Athletenliste!D89)","v":""},{"$f":"IF(Athletenliste!E89=\"\",\"\",Athletenliste!E89)","v":""},{"$f":"IF(Athletenliste!F89=\"\",\"\",Athletenliste!F89)","v":""},{"$f":"IF(Athletenliste!G89=\"\",\"\",Athletenliste!G89)","v":""},{"$f":"IF(Athletenliste!H89=\"\",\"\",Athletenliste!H89)","v":""},{"$f":"IF(Messen_Beweglichkeit!K89=\"\",\"\",Messen_Beweglichkeit!K89)","v":""},{"$f":"IF(Messen_Beweglichkeit!L89=\"\",\"\",Messen_Beweglichkeit!L89)","v":""},{"$f":"IF('Jump-and-Reach'!I89=\"\",\"\",'Jump-and-Reach'!I89)","v":""},{"$f":"IF('Jump-and-Reach'!J89=\"\",\"\",'Jump-and-Reach'!J89)","v":""},{"$f":"IF('30m Sprint'!I89=\"\",\"\",'30m Sprint'!I89)","v":""},{"$f":"IF('30m Sprint'!J89=\"\",\"\",'30m Sprint'!J89)","v":""},{"$f":"IF(KaBu!I89=\"\",\"\",KaBu!I89)","v":""},{"$f":"IF(KaBu!J89=\"\",\"\",KaBu!J89)","v":""},{"$f":"IF(Seilspringen!I89=\"\",\"\",Seilspringen!I89)","v":""},{"$f":"IF(Seilspringen!J89=\"\",\"\",Seilspringen!J89)","v":""},{"$f":"IF(Liegestütz!I89=\"\",\"\",Liegestütz!I89)","v":""},{"$f":"IF(Liegestütz!J89=\"\",\"\",Liegestütz!J89)","v":""},{"$f":"IF(Balance!I89=\"\",\"\",Balance!I89)","v":""},{"$f":"IF(Balance!J89=\"\",\"\",Balance!J89)","v":""},{"$f":"IF('1000m'!I89=\"\",\"\",'1000m'!I89)","v":""},{"$f":"IF('1000m'!J89=\"\",\"\",'1000m'!J89)","v":""},{"$f":"IF(B89=\"\",\"\",(IF(AND(Messen_Beweglichkeit!L89=\"\",AB89=\"OK\"),VLOOKUP(G89&D89,$AJ$10:$AT$31,4,FALSE)+1,IF(AND(Messen_Beweglichkeit!J89=\"\",AB89=\"kein Test\"),\"\",Messen_Beweglichkeit!L89))+IF(AND('Jump-and-Reach'!J89=\"\",AB89=\"OK\"),VLOOKUP(G89&D89,$AJ$10:$AT$31,5,FALSE)+1,IF(AND('Jump-and-Reach'!J89=\"\",AB89=\"kein Test\"),\"\",'Jump-and-Reach'!J89))+IF(AND('30m Sprint'!J89=\"\",AB89=\"OK\"),VLOOKUP(G89&D89,$AJ$10:$AT$31,6,FALSE)+1,IF(AND('30m Sprint'!J89=\"\",AB89=\"kein Test\"),\"\",'30m Sprint'!J89))+IF(AND(KaBu!J89=\"\",AB89=\"OK\"),VLOOKUP(G89&D89,$AJ$10:$AT$31,7,FALSE)+1,IF(AND(KaBu!J89=\"\",AB89=\"kein Test\"),\"\",KaBu!J89))+IF(AND(Seilspringen!J89=\"\",AB89=\"OK\"),VLOOKUP(G89&D89,$AJ$10:$AT$31,8,FALSE)+1,IF(AND(Seilspringen!J89=\"\",AB89=\"kein Test\"),\"\",Seilspringen!J89))+IF(AND(Liegestütz!J89=\"\",AB89=\"OK\"),VLOOKUP(G89&D89,$AJ$10:$AT$31,9,FALSE)+1,IF(AND(Liegestütz!J89=\"\",AB89=\"kein Test\"),\"\",Liegestütz!J89))+IF(AND(Balance!J89=\"\",AB89=\"OK\"),VLOOKUP(G89&D89,$AJ$10:$AT$31,10,FALSE)+1,IF(AND(Balance!J89=\"\",AB89=\"kein Test\"),\"\",Balance!J89))+IF(AND('1000m'!J89=\"\",AB89=\"OK\"),VLOOKUP(G89&D89,$AJ$10:$AT$31,11,FALSE)+1,IF(AND('1000m'!J89=\"\",AB89=\"kein Test\"),\"\",'1000m'!J89)))/8)","v":""},null,null,"kein Test"]
[81,{"$f":"IF(Athletenliste!B90=\"\",\"\",Athletenliste!B90)","v":""},{"$f":"IF(Athletenliste!C90=\"\",\"\",Athletenliste!C90)","v":""},{"$f":"IF(Athletenliste!D90=\"\",\"\",Athletenliste!D90)","v":""},{"$f":"IF(Athletenliste!E90=\"\",\"\",Athletenliste!E90)","v":""},{"$f":"IF(Athletenliste!F90=\"\",\"\",Athletenliste!F90)","v":""},{"$f":"IF(Athletenliste!G90=\"\",\"\",Athletenliste!G90)","v":""},{"$f":"IF(Athletenliste!H90=\"\",\"\",Athletenliste!H90)","v":""},{"$f":"IF(Messen_Beweglichkeit!K90=\"\",\"\",Messen_Beweglichkeit!K90)","v":""},{"$f":"IF(Messen_Beweglichkeit!L90=\"\",\"\",Messen_Beweglichkeit!L90)","v":""},{"$f":"IF('Jump-and-Reach'!I90=\"\",\"\",'Jump-and-Reach'!I90)","v":""},{"$f":"IF('Jump-and-Reach'!J90=\"\",\"\",'Jump-and-Reach'!J90)","v":""},{"$f":"IF('30m Sprint'!I90=\"\",\"\",'30m Sprint'!I90)","v":""},{"$f":"IF('30m Sprint'!J90=\"\",\"\",'30m Sprint'!J90)","v":""},{"$f":"IF(KaBu!I90=\"\",\"\",KaBu!I90)","v":""},{"$f":"IF(KaBu!J90=\"\",\"\",KaBu!J90)","v":""},{"$f":"IF(Seilspringen!I90=\"\",\"\",Seilspringen!I90)","v":""},{"$f":"IF(Seilspringen!J90=\"\",\"\",Seilspringen!J90)","v":""},{"$f":"IF(Liegestütz!I90=\"\",\"\",Liegestütz!I90)","v":""},{"$f":"IF(Liegestütz!J90=\"\",\"\",Liegestütz!J90)","v":""},{"$f":"IF(Balance!I90=\"\",\"\",Balance!I90)","v":""},{"$f":"IF(Balance!J90=\"\",\"\",Balance!J90)","v":""},{"$f":"IF('1000m'!I90=\"\",\"\",'1000m'!I90)","v":""},{"$f":"IF('1000m'!J90=\"\",\"\",'1000m'!J90)","v":""},{"$f":"IF(B90=\"\",\"\",(IF(AND(Messen_Beweglichkeit!L90=\"\",AB90=\"OK\"),VLOOKUP(G90&D90,$AJ$10:$AT$31,4,FALSE)+1,IF(AND(Messen_Beweglichkeit!J90=\"\",AB90=\"kein Test\"),\"\",Messen_Beweglichkeit!L90))+IF(AND('Jump-and-Reach'!J90=\"\",AB90=\"OK\"),VLOOKUP(G90&D90,$AJ$10:$AT$31,5,FALSE)+1,IF(AND('Jump-and-Reach'!J90=\"\",AB90=\"kein Test\"),\"\",'Jump-and-Reach'!J90))+IF(AND('30m Sprint'!J90=\"\",AB90=\"OK\"),VLOOKUP(G90&D90,$AJ$10:$AT$31,6,FALSE)+1,IF(AND('30m Sprint'!J90=\"\",AB90=\"kein Test\"),\"\",'30m Sprint'!J90))+IF(AND(KaBu!J90=\"\",AB90=\"OK\"),VLOOKUP(G90&D90,$AJ$10:$AT$31,7,FALSE)+1,IF(AND(KaBu!J90=\"\",AB90=\"kein Test\"),\"\",KaBu!J90))+IF(AND(Seilspringen!J90=\"\",AB90=\"OK\"),VLOOKUP(G90&D90,$AJ$10:$AT$31,8,FALSE)+1,IF(AND(Seilspringen!J90=\"\",AB90=\"kein Test\"),\"\",Seilspringen!J90))+IF(AND(Liegestütz!J90=\"\",AB90=\"OK\"),VLOOKUP(G90&D90,$AJ$10:$AT$31,9,FALSE)+1,IF(AND(Liegestütz!J90=\"\",AB90=\"kein Test\"),\"\",Liegestütz!J90))+IF(AND(Balance!J90=\"\",AB90=\"OK\"),VLOOKUP(G90&D90,$AJ$10:$AT$31,10,FALSE)+1,IF(AND(Balance!J90=\"\",AB90=\"kein Test\"),\"\",Balance!J90))+IF(AND('1000m'!J90=\"\",AB90=\"OK\"),VLOOKUP(G90&D90,$AJ$10:$AT$31,11,FALSE)+1,IF(AND('1000m'!J90=\"\",AB90=\"kein Test\"),\"\",'1000m'!J90)))/8)","v":""},null,null,"kein Test"]
[82,{"$f":"IF(Athletenliste!B91=\"\",\"\",Athletenliste!B91)","v":""},{"$f":"IF(Athletenliste!C91=\"\",\"\",Athletenliste!C91)","v":""},{"$f":"IF(Athletenliste!D91=\"\",\"\",Athletenliste!D91)","v":""},{"$f":"IF(Athletenliste!E91=\"\",\"\",Athletenliste!E91)","v":""},{"$f":"IF(Athletenliste!F91=\"\",\"\",Athletenliste!F91)","v":""},{"$f":"IF(Athletenliste!G91=\"\",\"\",Athletenliste!G91)","v":""},{"$f":"IF(Athletenliste!H91=\"\",\"\",Athletenliste!H91)","v":""},{"$f":"IF(Messen_Beweglichkeit!K91=\"\",\"\",Messen_Beweglichkeit!K91)","v":""},{"$f":"IF(Messen_Beweglichkeit!L91=\"\",\"\",Messen_Beweglichkeit!L91)","v":""},{"$f":"IF('Jump-and-Reach'!I91=\"\",\"\",'Jump-and-Reach'!I91)","v":""},{"$f":"IF('Jump-and-Reach'!J91=\"\",\"\",'Jump-and-Reach'!J91)","v":""},{"$f":"IF('30m Sprint'!I91=\"\",\"\",'30m Sprint'!I91)","v":""},{"$f":"IF('30m Sprint'!J91=\"\",\"\",'30m Sprint'!J91)","v":""},{"$f":"IF(KaBu!I91=\"\",\"\",KaBu!I91)","v":""},{"$f":"IF(KaBu!J91=\"\",\"\",KaBu!J91)","v":""},{"$f":"IF(Seilspringen!I91=\"\",\"\",Seilspringen!I91)","v":""},{"$f":"IF(Seilspringen!J91=\"\",\"\",Seilspringen!J91)","v":""},{"$f":"IF(Liegestütz!I91=\"\",\"\",Liegestütz!I91)","v":""},{"$f":"IF(Liegestütz!J91=\"\",\"\",Liegestütz!J91)","v":""},{"$f":"IF(Balance!I91=\"\",\"\",Balance!I91)","v":""},{"$f":"IF(Balance!J91=\"\",\"\",Balance!J91)","v":""},{"$f":"IF('1000m'!I91=\"\",\"\",'1000m'!I91)","v":""},{"$f":"IF('1000m'!J91=\"\",\"\",'1000m'!J91)","v":""},{"$f":"IF(B91=\"\",\"\",(IF(AND(Messen_Beweglichkeit!L91=\"\",AB91=\"OK\"),VLOOKUP(G91&D91,$AJ$10:$AT$31,4,FALSE)+1,IF(AND(Messen_Beweglichkeit!J91=\"\",AB91=\"kein Test\"),\"\",Messen_Beweglichkeit!L91))+IF(AND('Jump-and-Reach'!J91=\"\",AB91=\"OK\"),VLOOKUP(G91&D91,$AJ$10:$AT$31,5,FALSE)+1,IF(AND('Jump-and-Reach'!J91=\"\",AB91=\"kein Test\"),\"\",'Jump-and-Reach'!J91))+IF(AND('30m Sprint'!J91=\"\",AB91=\"OK\"),VLOOKUP(G91&D91,$AJ$10:$AT$31,6,FALSE)+1,IF(AND('30m Sprint'!J91=\"\",AB91=\"kein Test\"),\"\",'30m Sprint'!J91))+IF(AND(KaBu!J91=\"\",AB91=\"OK\"),VLOOKUP(G91&D91,$AJ$10:$AT$31,7,FALSE)+1,IF(AND(KaBu!J91=\"\",AB91=\"kein Test\"),\"\",KaBu!J91))+IF(AND(Seilspringen!J91=\"\",AB91=\"OK\"),VLOOKUP(G91&D91,$AJ$10:$AT$31,8,FALSE)+1,IF(AND(Seilspringen!J91=\"\",AB91=\"kein Test\"),\"\",Seilspringen!J91))+IF(AND(Liegestütz!J91=\"\",AB91=\"OK\"),VLOOKUP(G91&D91,$AJ$10:$AT$31,9,FALSE)+1,IF(AND(Liegestütz!J91=\"\",AB91=\"kein Test\"),\"\",Liegestütz!J91))+IF(AND(Balance!J91=\"\",AB91=\"OK\"),VLOOKUP(G91&D91,$AJ$10:$AT$31,10,FALSE)+1,IF(AND(Balance!J91=\"\",AB91=\"kein Test\"),\"\",Balance!J91))+IF(AND('1000m'!J91=\"\",AB91=\"OK\"),VLOOKUP(G91&D91,$AJ$10:$AT$31,11,FALSE)+1,IF(AND('1000m'!J91=\"\",AB91=\"kein Test\"),\"\",'1000m'!J91)))/8)","v":""},null,null,"kein Test"]
[83,{"$f":"IF(Athletenliste!B92=\"\",\"\",Athletenliste!B92)","v":""},{"$f":"IF(Athletenliste!C92=\"\",\"\",Athletenliste!C92)","v":""},{"$f":"IF(Athletenliste!D92=\"\",\"\",Athletenliste!D92)","v":""},{"$f":"IF(Athletenliste!E92=\"\",\"\",Athletenliste!E92)","v":""},{"$f":"IF(Athletenliste!F92=\"\",\"\",Athletenliste!F92)","v":""},{"$f":"IF(Athletenliste!G92=\"\",\"\",Athletenliste!G92)","v":""},{"$f":"IF(Athletenliste!H92=\"\",\"\",Athletenliste!H92)","v":""},{"$f":"IF(Messen_Beweglichkeit!K92=\"\",\"\",Messen_Beweglichkeit!K92)","v":""},{"$f":"IF(Messen_Beweglichkeit!L92=\"\",\"\",Messen_Beweglichkeit!L92)","v":""},{"$f":"IF('Jump-and-Reach'!I92=\"\",\"\",'Jump-and-Reach'!I92)","v":""},{"$f":"IF('Jump-and-Reach'!J92=\"\",\"\",'Jump-and-Reach'!J92)","v":""},{"$f":"IF('30m Sprint'!I92=\"\",\"\",'30m Sprint'!I92)","v":""},{"$f":"IF('30m Sprint'!J92=\"\",\"\",'30m Sprint'!J92)","v":""},{"$f":"IF(KaBu!I92=\"\",\"\",KaBu!I92)","v":""},{"$f":"IF(KaBu!J92=\"\",\"\",KaBu!J92)","v":""},{"$f":"IF(Seilspringen!I92=\"\",\"\",Seilspringen!I92)","v":""},{"$f":"IF(Seilspringen!J92=\"\",\"\",Seilspringen!J92)","v":""},{"$f":"IF(Liegestütz!I92=\"\",\"\",Liegestütz!I92)","v":""},{"$f":"IF(Liegestütz!J92=\"\",\"\",Liegestütz!J92)","v":""},{"$f":"IF(Balance!I92=\"\",\"\",Balance!I92)","v":""},{"$f":"IF(Balance!J92=\"\",\"\",Balance!J92)","v":""},{"$f":"IF('1000m'!I92=\"\",\"\",'1000m'!I92)","v":""},{"$f":"IF('1000m'!J92=\"\",\"\",'1000m'!J92)","v":""},{"$f":"IF(B92=\"\",\"\",(IF(AND(Messen_Beweglichkeit!L92=\"\",AB92=\"OK\"),VLOOKUP(G92&D92,$AJ$10:$AT$31,4,FALSE)+1,IF(AND(Messen_Beweglichkeit!J92=\"\",AB92=\"kein Test\"),\"\",Messen_Beweglichkeit!L92))+IF(AND('Jump-and-Reach'!J92=\"\",AB92=\"OK\"),VLOOKUP(G92&D92,$AJ$10:$AT$31,5,FALSE)+1,IF(AND('Jump-and-Reach'!J92=\"\",AB92=\"kein Test\"),\"\",'Jump-and-Reach'!J92))+IF(AND('30m Sprint'!J92=\"\",AB92=\"OK\"),VLOOKUP(G92&D92,$AJ$10:$AT$31,6,FALSE)+1,IF(AND('30m Sprint'!J92=\"\",AB92=\"kein Test\"),\"\",'30m Sprint'!J92))+IF(AND(KaBu!J92=\"\",AB92=\"OK\"),VLOOKUP(G92&D92,$AJ$10:$AT$31,7,FALSE)+1,IF(AND(KaBu!J92=\"\",AB92=\"kein Test\"),\"\",KaBu!J92))+IF(AND(Seilspringen!J92=\"\",AB92=\"OK\"),VLOOKUP(G92&D92,$AJ$10:$AT$31,8,FALSE)+1,IF(AND(Seilspringen!J92=\"\",AB92=\"kein Test\"),\"\",Seilspringen!J92))+IF(AND(Liegestütz!J92=\"\",AB92=\"OK\"),VLOOKUP(G92&D92,$AJ$10:$AT$31,9,FALSE)+1,IF(AND(Liegestütz!J92=\"\",AB92=\"kein Test\"),\"\",Liegestütz!J92))+IF(AND(Balance!J92=\"\",AB92=\"OK\"),VLOOKUP(G92&D92,$AJ$10:$AT$31,10,FALSE)+1,IF(AND(Balance!J92=\"\",AB92=\"kein Test\"),\"\",Balance!J92))+IF(AND('1000m'!J92=\"\",AB92=\"OK\"),VLOOKUP(G92&D92,$AJ$10:$AT$31,11,FALSE)+1,IF(AND('1000m'!J92=\"\",AB92=\"kein Test\"),\"\",'1000m'!J92)))/8)","v":""},null,null,"kein Test"]
[84,{"$f":"IF(Athletenliste!B93=\"\",\"\",Athletenliste!B93)","v":""},{"$f":"IF(Athletenliste!C93=\"\",\"\",Athletenliste!C93)","v":""},{"$f":"IF(Athletenliste!D93=\"\",\"\",Athletenliste!D93)","v":""},{"$f":"IF(Athletenliste!E93=\"\",\"\",Athletenliste!E93)","v":""},{"$f":"IF(Athletenliste!F93=\"\",\"\",Athletenliste!F93)","v":""},{"$f":"IF(Athletenliste!G93=\"\",\"\",Athletenliste!G93)","v":""},{"$f":"IF(Athletenliste!H93=\"\",\"\",Athletenliste!H93)","v":""},{"$f":"IF(Messen_Beweglichkeit!K93=\"\",\"\",Messen_Beweglichkeit!K93)","v":""},{"$f":"IF(Messen_Beweglichkeit!L93=\"\",\"\",Messen_Beweglichkeit!L93)","v":""},{"$f":"IF('Jump-and-Reach'!I93=\"\",\"\",'Jump-and-Reach'!I93)","v":""},{"$f":"IF('Jump-and-Reach'!J93=\"\",\"\",'Jump-and-Reach'!J93)","v":""},{"$f":"IF('30m Sprint'!I93=\"\",\"\",'30m Sprint'!I93)","v":""},{"$f":"IF('30m Sprint'!J93=\"\",\"\",'30m Sprint'!J93)","v":""},{"$f":"IF(KaBu!I93=\"\",\"\",KaBu!I93)","v":""},{"$f":"IF(KaBu!J93=\"\",\"\",KaBu!J93)","v":""},{"$f":"IF(Seilspringen!I93=\"\",\"\",Seilspringen!I93)","v":""},{"$f":"IF(Seilspringen!J93=\"\",\"\",Seilspringen!J93)","v":""},{"$f":"IF(Liegestütz!I93=\"\",\"\",Liegestütz!I93)","v":""},{"$f":"IF(Liegestütz!J93=\"\",\"\",Liegestütz!J93)","v":""},{"$f":"IF(Balance!I93=\"\",\"\",Balance!I93)","v":""},{"$f":"IF(Balance!J93=\"\",\"\",Balance!J93)","v":""},{"$f":"IF('1000m'!I93=\"\",\"\",'1000m'!I93)","v":""},{"$f":"IF('1000m'!J93=\"\",\"\",'1000m'!J93)","v":""},{"$f":"IF(B93=\"\",\"\",(IF(AND(Messen_Beweglichkeit!L93=\"\",AB93=\"OK\"),VLOOKUP(G93&D93,$AJ$10:$AT$31,4,FALSE)+1,IF(AND(Messen_Beweglichkeit!J93=\"\",AB93=\"kein Test\"),\"\",Messen_Beweglichkeit!L93))+IF(AND('Jump-and-Reach'!J93=\"\",AB93=\"OK\"),VLOOKUP(G93&D93,$AJ$10:$AT$31,5,FALSE)+1,IF(AND('Jump-and-Reach'!J93=\"\",AB93=\"kein Test\"),\"\",'Jump-and-Reach'!J93))+IF(AND('30m Sprint'!J93=\"\",AB93=\"OK\"),VLOOKUP(G93&D93,$AJ$10:$AT$31,6,FALSE)+1,IF(AND('30m Sprint'!J93=\"\",AB93=\"kein Test\"),\"\",'30m Sprint'!J93))+IF(AND(KaBu!J93=\"\",AB93=\"OK\"),VLOOKUP(G93&D93,$AJ$10:$AT$31,7,FALSE)+1,IF(AND(KaBu!J93=\"\",AB93=\"kein Test\"),\"\",KaBu!J93))+IF(AND(Seilspringen!J93=\"\",AB93=\"OK\"),VLOOKUP(G93&D93,$AJ$10:$AT$31,8,FALSE)+1,IF(AND(Seilspringen!J93=\"\",AB93=\"kein Test\"),\"\",Seilspringen!J93))+IF(AND(Liegestütz!J93=\"\",AB93=\"OK\"),VLOOKUP(G93&D93,$AJ$10:$AT$31,9,FALSE)+1,IF(AND(Liegestütz!J93=\"\",AB93=\"kein Test\"),\"\",Liegestütz!J93))+IF(AND(Balance!J93=\"\",AB93=\"OK\"),VLOOKUP(G93&D93,$AJ$10:$AT$31,10,FALSE)+1,IF(AND(Balance!J93=\"\",AB93=\"kein Test\"),\"\",Balance!J93))+IF(AND('1000m'!J93=\"\",AB93=\"OK\"),VLOOKUP(G93&D93,$AJ$10:$AT$31,11,FALSE)+1,IF(AND('1000m'!J93=\"\",AB93=\"kein Test\"),\"\",'1000m'!J93)))/8)","v":""},null,null,"kein Test"]
[85,{"$f":"IF(Athletenliste!B94=\"\",\"\",Athletenliste!B94)","v":""},{"$f":"IF(Athletenliste!C94=\"\",\"\",Athletenliste!C94)","v":""},{"$f":"IF(Athletenliste!D94=\"\",\"\",Athletenliste!D94)","v":""},{"$f":"IF(Athletenliste!E94=\"\",\"\",Athletenliste!E94)","v":""},{"$f":"IF(Athletenliste!F94=\"\",\"\",Athletenliste!F94)","v":""},{"$f":"IF(Athletenliste!G94=\"\",\"\",Athletenliste!G94)","v":""},{"$f":"IF(Athletenliste!H94=\"\",\"\",Athletenliste!H94)","v":""},{"$f":"IF(Messen_Beweglichkeit!K94=\"\",\"\",Messen_Beweglichkeit!K94)","v":""},{"$f":"IF(Messen_Beweglichkeit!L94=\"\",\"\",Messen_Beweglichkeit!L94)","v":""},{"$f":"IF('Jump-and-Reach'!I94=\"\",\"\",'Jump-and-Reach'!I94)","v":""},{"$f":"IF('Jump-and-Reach'!J94=\"\",\"\",'Jump-and-Reach'!J94)","v":""},{"$f":"IF('30m Sprint'!I94=\"\",\"\",'30m Sprint'!I94)","v":""},{"$f":"IF('30m Sprint'!J94=\"\",\"\",'30m Sprint'!J94)","v":""},{"$f":"IF(KaBu!I94=\"\",\"\",KaBu!I94)","v":""},{"$f":"IF(KaBu!J94=\"\",\"\",KaBu!J94)","v":""},{"$f":"IF(Seilspringen!I94=\"\",\"\",Seilspringen!I94)","v":""},{"$f":"IF(Seilspringen!J94=\"\",\"\",Seilspringen!J94)","v":""},{"$f":"IF(Liegestütz!I94=\"\",\"\",Liegestütz!I94)","v":""},{"$f":"IF(Liegestütz!J94=\"\",\"\",Liegestütz!J94)","v":""},{"$f":"IF(Balance!I94=\"\",\"\",Balance!I94)","v":""},{"$f":"IF(Balance!J94=\"\",\"\",Balance!J94)","v":""},{"$f":"IF('1000m'!I94=\"\",\"\",'1000m'!I94)","v":""},{"$f":"IF('1000m'!J94=\"\",\"\",'1000m'!J94)","v":""},{"$f":"IF(B94=\"\",\"\",(IF(AND(Messen_Beweglichkeit!L94=\"\",AB94=\"OK\"),VLOOKUP(G94&D94,$AJ$10:$AT$31,4,FALSE)+1,IF(AND(Messen_Beweglichkeit!J94=\"\",AB94=\"kein Test\"),\"\",Messen_Beweglichkeit!L94))+IF(AND('Jump-and-Reach'!J94=\"\",AB94=\"OK\"),VLOOKUP(G94&D94,$AJ$10:$AT$31,5,FALSE)+1,IF(AND('Jump-and-Reach'!J94=\"\",AB94=\"kein Test\"),\"\",'Jump-and-Reach'!J94))+IF(AND('30m Sprint'!J94=\"\",AB94=\"OK\"),VLOOKUP(G94&D94,$AJ$10:$AT$31,6,FALSE)+1,IF(AND('30m Sprint'!J94=\"\",AB94=\"kein Test\"),\"\",'30m Sprint'!J94))+IF(AND(KaBu!J94=\"\",AB94=\"OK\"),VLOOKUP(G94&D94,$AJ$10:$AT$31,7,FALSE)+1,IF(AND(KaBu!J94=\"\",AB94=\"kein Test\"),\"\",KaBu!J94))+IF(AND(Seilspringen!J94=\"\",AB94=\"OK\"),VLOOKUP(G94&D94,$AJ$10:$AT$31,8,FALSE)+1,IF(AND(Seilspringen!J94=\"\",AB94=\"kein Test\"),\"\",Seilspringen!J94))+IF(AND(Liegestütz!J94=\"\",AB94=\"OK\"),VLOOKUP(G94&D94,$AJ$10:$AT$31,9,FALSE)+1,IF(AND(Liegestütz!J94=\"\",AB94=\"kein Test\"),\"\",Liegestütz!J94))+IF(AND(Balance!J94=\"\",AB94=\"OK\"),VLOOKUP(G94&D94,$AJ$10:$AT$31,10,FALSE)+1,IF(AND(Balance!J94=\"\",AB94=\"kein Test\"),\"\",Balance!J94))+IF(AND('1000m'!J94=\"\",AB94=\"OK\"),VLOOKUP(G94&D94,$AJ$10:$AT$31,11,FALSE)+1,IF(AND('1000m'!J94=\"\",AB94=\"kein Test\"),\"\",'1000m'!J94)))/8)","v":""},null,null,"kein Test"]
[86,{"$f":"IF(Athletenliste!B95=\"\",\"\",Athletenliste!B95)","v":""},{"$f":"IF(Athletenliste!C95=\"\",\"\",Athletenliste!C95)","v":""},{"$f":"IF(Athletenliste!D95=\"\",\"\",Athletenliste!D95)","v":""},{"$f":"IF(Athletenliste!E95=\"\",\"\",Athletenliste!E95)","v":""},{"$f":"IF(Athletenliste!F95=\"\",\"\",Athletenliste!F95)","v":""},{"$f":"IF(Athletenliste!G95=\"\",\"\",Athletenliste!G95)","v":""},{"$f":"IF(Athletenliste!H95=\"\",\"\",Athletenliste!H95)","v":""},{"$f":"IF(Messen_Beweglichkeit!K95=\"\",\"\",Messen_Beweglichkeit!K95)","v":""},{"$f":"IF(Messen_Beweglichkeit!L95=\"\",\"\",Messen_Beweglichkeit!L95)","v":""},{"$f":"IF('Jump-and-Reach'!I95=\"\",\"\",'Jump-and-Reach'!I95)","v":""},{"$f":"IF('Jump-and-Reach'!J95=\"\",\"\",'Jump-and-Reach'!J95)","v":""},{"$f":"IF('30m Sprint'!I95=\"\",\"\",'30m Sprint'!I95)","v":""},{"$f":"IF('30m Sprint'!J95=\"\",\"\",'30m Sprint'!J95)","v":""},{"$f":"IF(KaBu!I95=\"\",\"\",KaBu!I95)","v":""},{"$f":"IF(KaBu!J95=\"\",\"\",KaBu!J95)","v":""},{"$f":"IF(Seilspringen!I95=\"\",\"\",Seilspringen!I95)","v":""},{"$f":"IF(Seilspringen!J95=\"\",\"\",Seilspringen!J95)","v":""},{"$f":"IF(Liegestütz!I95=\"\",\"\",Liegestütz!I95)","v":""},{"$f":"IF(Liegestütz!J95=\"\",\"\",Liegestütz!J95)","v":""},{"$f":"IF(Balance!I95=\"\",\"\",Balance!I95)","v":""},{"$f":"IF(Balance!J95=\"\",\"\",Balance!J95)","v":""},{"$f":"IF('1000m'!I95=\"\",\"\",'1000m'!I95)","v":""},{"$f":"IF('1000m'!J95=\"\",\"\",'1000m'!J95)","v":""},{"$f":"IF(B95=\"\",\"\",(IF(AND(Messen_Beweglichkeit!L95=\"\",AB95=\"OK\"),VLOOKUP(G95&D95,$AJ$10:$AT$31,4,FALSE)+1,IF(AND(Messen_Beweglichkeit!J95=\"\",AB95=\"kein Test\"),\"\",Messen_Beweglichkeit!L95))+IF(AND('Jump-and-Reach'!J95=\"\",AB95=\"OK\"),VLOOKUP(G95&D95,$AJ$10:$AT$31,5,FALSE)+1,IF(AND('Jump-and-Reach'!J95=\"\",AB95=\"kein Test\"),\"\",'Jump-and-Reach'!J95))+IF(AND('30m Sprint'!J95=\"\",AB95=\"OK\"),VLOOKUP(G95&D95,$AJ$10:$AT$31,6,FALSE)+1,IF(AND('30m Sprint'!J95=\"\",AB95=\"kein Test\"),\"\",'30m Sprint'!J95))+IF(AND(KaBu!J95=\"\",AB95=\"OK\"),VLOOKUP(G95&D95,$AJ$10:$AT$31,7,FALSE)+1,IF(AND(KaBu!J95=\"\",AB95=\"kein Test\"),\"\",KaBu!J95))+IF(AND(Seilspringen!J95=\"\",AB95=\"OK\"),VLOOKUP(G95&D95,$AJ$10:$AT$31,8,FALSE)+1,IF(AND(Seilspringen!J95=\"\",AB95=\"kein Test\"),\"\",Seilspringen!J95))+IF(AND(Liegestütz!J95=\"\",AB95=\"OK\"),VLOOKUP(G95&D95,$AJ$10:$AT$31,9,FALSE)+1,IF(AND(Liegestütz!J95=\"\",AB95=\"kein Test\"),\"\",Liegestütz!J95))+IF(AND(Balance!J95=\"\",AB95=\"OK\"),VLOOKUP(G95&D95,$AJ$10:$AT$31,10,FALSE)+1,IF(AND(Balance!J95=\"\",AB95=\"kein Test\"),\"\",Balance!J95))+IF(AND('1000m'!J95=\"\",AB95=\"OK\"),VLOOKUP(G95&D95,$AJ$10:$AT$31,11,FALSE)+1,IF(AND('1000m'!J95=\"\",AB95=\"kein Test\"),\"\",'1000m'!J95)))/8)","v":""},null,null,"kein Test"]
[87,{"$f":"IF(Athletenliste!B96=\"\",\"\",Athletenliste!B96)","v":""},{"$f":"IF(Athletenliste!C96=\"\",\"\",Athletenliste!C96)","v":""},{"$f":"IF(Athletenliste!D96=\"\",\"\",Athletenliste!D96)","v":""},{"$f":"IF(Athletenliste!E96=\"\",\"\",Athletenliste!E96)","v":""},{"$f":"IF(Athletenliste!F96=\"\",\"\",Athletenliste!F96)","v":""},{"$f":"IF(Athletenliste!G96=\"\",\"\",Athletenliste!G96)","v":""},{"$f":"IF(Athletenliste!H96=\"\",\"\",Athletenliste!H96)","v":""},{"$f":"IF(Messen_Beweglichkeit!K96=\"\",\"\",Messen_Beweglichkeit!K96)","v":""},{"$f":"IF(Messen_Beweglichkeit!L96=\"\",\"\",Messen_Beweglichkeit!L96)","v":""},{"$f":"IF('Jump-and-Reach'!I96=\"\",\"\",'Jump-and-Reach'!I96)","v":""},{"$f":"IF('Jump-and-Reach'!J96=\"\",\"\",'Jump-and-Reach'!J96)","v":""},{"$f":"IF('30m Sprint'!I96=\"\",\"\",'30m Sprint'!I96)","v":""},{"$f":"IF('30m Sprint'!J96=\"\",\"\",'30m Sprint'!J96)","v":""},{"$f":"IF(KaBu!I96=\"\",\"\",KaBu!I96)","v":""},{"$f":"IF(KaBu!J96=\"\",\"\",KaBu!J96)","v":""},{"$f":"IF(Seilspringen!I96=\"\",\"\",Seilspringen!I96)","v":""},{"$f":"IF(Seilspringen!J96=\"\",\"\",Seilspringen!J96)","v":""},{"$f":"IF(Liegestütz!I96=\"\",\"\",Liegestütz!I96)","v":""},{"$f":"IF(Liegestütz!J96=\"\",\"\",Liegestütz!J96)","v":""},{"$f":"IF(Balance!I96=\"\",\"\",Balance!I96)","v":""},{"$f":"IF(Balance!J96=\"\",\"\",Balance!J96)","v":""},{"$f":"IF('1000m'!I96=\"\",\"\",'1000m'!I96)","v":""},{"$f":"IF('1000m'!J96=\"\",\"\",'1000m'!J96)","v":""},{"$f":"IF(B96=\"\",\"\",(IF(AND(Messen_Beweglichkeit!L96=\"\",AB96=\"OK\"),VLOOKUP(G96&D96,$AJ$10:$AT$31,4,FALSE)+1,IF(AND(Messen_Beweglichkeit!J96=\"\",AB96=\"kein Test\"),\"\",Messen_Beweglichkeit!L96))+IF(AND('Jump-and-Reach'!J96=\"\",AB96=\"OK\"),VLOOKUP(G96&D96,$AJ$10:$AT$31,5,FALSE)+1,IF(AND('Jump-and-Reach'!J96=\"\",AB96=\"kein Test\"),\"\",'Jump-and-Reach'!J96))+IF(AND('30m Sprint'!J96=\"\",AB96=\"OK\"),VLOOKUP(G96&D96,$AJ$10:$AT$31,6,FALSE)+1,IF(AND('30m Sprint'!J96=\"\",AB96=\"kein Test\"),\"\",'30m Sprint'!J96))+IF(AND(KaBu!J96=\"\",AB96=\"OK\"),VLOOKUP(G96&D96,$AJ$10:$AT$31,7,FALSE)+1,IF(AND(KaBu!J96=\"\",AB96=\"kein Test\"),\"\",KaBu!J96))+IF(AND(Seilspringen!J96=\"\",AB96=\"OK\"),VLOOKUP(G96&D96,$AJ$10:$AT$31,8,FALSE)+1,IF(AND(Seilspringen!J96=\"\",AB96=\"kein Test\"),\"\",Seilspringen!J96))+IF(AND(Liegestütz!J96=\"\",AB96=\"OK\"),VLOOKUP(G96&D96,$AJ$10:$AT$31,9,FALSE)+1,IF(AND(Liegestütz!J96=\"\",AB96=\"kein Test\"),\"\",Liegestütz!J96))+IF(AND(Balance!J96=\"\",AB96=\"OK\"),VLOOKUP(G96&D96,$AJ$10:$AT$31,10,FALSE)+1,IF(AND(Balance!J96=\"\",AB96=\"kein Test\"),\"\",Balance!J96))+IF(AND('1000m'!J96=\"\",AB96=\"OK\"),VLOOKUP(G96&D96,$AJ$10:$AT$31,11,FALSE)+1,IF(AND('1000m'!J96=\"\",AB96=\"kein Test\"),\"\",'1000m'!J96)))/8)","v":""},null,null,"kein Test"]
[88,{"$f":"IF(Athletenliste!B97=\"\",\"\",Athletenliste!B97)","v":""},{"$f":"IF(Athletenliste!C97=\"\",\"\",Athletenliste!C97)","v":""},{"$f":"IF(Athletenliste!D97=\"\",\"\",Athletenliste!D97)","v":""},{"$f":"IF(Athletenliste!E97=\"\",\"\",Athletenliste!E97)","v":""},{"$f":"IF(Athletenliste!F97=\"\",\"\",Athletenliste!F97)","v":""},{"$f":"IF(Athletenliste!G97=\"\",\"\",Athletenliste!G97)","v":""},{"$f":"IF(Athletenliste!H97=\"\",\"\",Athletenliste!H97)","v":""},{"$f":"IF(Messen_Beweglichkeit!K97=\"\",\"\",Messen_Beweglichkeit!K97)","v":""},{"$f":"IF(Messen_Beweglichkeit!L97=\"\",\"\",Messen_Beweglichkeit!L97)","v":""},{"$f":"IF('Jump-and-Reach'!I97=\"\",\"\",'Jump-and-Reach'!I97)","v":""},{"$f":"IF('Jump-and-Reach'!J97=\"\",\"\",'Jump-and-Reach'!J97)","v":""},{"$f":"IF('30m Sprint'!I97=\"\",\"\",'30m Sprint'!I97)","v":""},{"$f":"IF('30m Sprint'!J97=\"\",\"\",'30m Sprint'!J97)","v":""},{"$f":"IF(KaBu!I97=\"\",\"\",KaBu!I97)","v":""},{"$f":"IF(KaBu!J97=\"\",\"\",KaBu!J97)","v":""},{"$f":"IF(Seilspringen!I97=\"\",\"\",Seilspringen!I97)","v":""},{"$f":"IF(Seilspringen!J97=\"\",\"\",Seilspringen!J97)","v":""},{"$f":"IF(Liegestütz!I97=\"\",\"\",Liegestütz!I97)","v":""},{"$f":"IF(Liegestütz!J97=\"\",\"\",Liegestütz!J97)","v":""},{"$f":"IF(Balance!I97=\"\",\"\",Balance!I97)","v":""},{"$f":"IF(Balance!J97=\"\",\"\",Balance!J97)","v":""},{"$f":"IF('1000m'!I97=\"\",\"\",'1000m'!I97)","v":""},{"$f":"IF('1000m'!J97=\"\",\"\",'1000m'!J97)","v":""},{"$f":"IF(B97=\"\",\"\",(IF(AND(Messen_Beweglichkeit!L97=\"\",AB97=\"OK\"),VLOOKUP(G97&D97,$AJ$10:$AT$31,4,FALSE)+1,IF(AND(Messen_Beweglichkeit!J97=\"\",AB97=\"kein Test\"),\"\",Messen_Beweglichkeit!L97))+IF(AND('Jump-and-Reach'!J97=\"\",AB97=\"OK\"),VLOOKUP(G97&D97,$AJ$10:$AT$31,5,FALSE)+1,IF(AND('Jump-and-Reach'!J97=\"\",AB97=\"kein Test\"),\"\",'Jump-and-Reach'!J97))+IF(AND('30m Sprint'!J97=\"\",AB97=\"OK\"),VLOOKUP(G97&D97,$AJ$10:$AT$31,6,FALSE)+1,IF(AND('30m Sprint'!J97=\"\",AB97=\"kein Test\"),\"\",'30m Sprint'!J97))+IF(AND(KaBu!J97=\"\",AB97=\"OK\"),VLOOKUP(G97&D97,$AJ$10:$AT$31,7,FALSE)+1,IF(AND(KaBu!J97=\"\",AB97=\"kein Test\"),\"\",KaBu!J97))+IF(AND(Seilspringen!J97=\"\",AB97=\"OK\"),VLOOKUP(G97&D97,$AJ$10:$AT$31,8,FALSE)+1,IF(AND(Seilspringen!J97=\"\",AB97=\"kein Test\"),\"\",Seilspringen!J97))+IF(AND(Liegestütz!J97=\"\",AB97=\"OK\"),VLOOKUP(G97&D97,$AJ$10:$AT$31,9,FALSE)+1,IF(AND(Liegestütz!J97=\"\",AB97=\"kein Test\"),\"\",Liegestütz!J97))+IF(AND(Balance!J97=\"\",AB97=\"OK\"),VLOOKUP(G97&D97,$AJ$10:$AT$31,10,FALSE)+1,IF(AND(Balance!J97=\"\",AB97=\"kein Test\"),\"\",Balance!J97))+IF(AND('1000m'!J97=\"\",AB97=\"OK\"),VLOOKUP(G97&D97,$AJ$10:$AT$31,11,FALSE)+1,IF(AND('1000m'!J97=\"\",AB97=\"kein Test\"),\"\",'1000m'!J97)))/8)","v":""},null,null,"kein Test"]
[89,{"$f":"IF(Athletenliste!B98=\"\",\"\",Athletenliste!B98)","v":""},{"$f":"IF(Athletenliste!C98=\"\",\"\",Athletenliste!C98)","v":""},{"$f":"IF(Athletenliste!D98=\"\",\"\",Athletenliste!D98)","v":""},{"$f":"IF(Athletenliste!E98=\"\",\"\",Athletenliste!E98)","v":""},{"$f":"IF(Athletenliste!F98=\"\",\"\",Athletenliste!F98)","v":""},{"$f":"IF(Athletenliste!G98=\"\",\"\",Athletenliste!G98)","v":""},{"$f":"IF(Athletenliste!H98=\"\",\"\",Athletenliste!H98)","v":""},{"$f":"IF(Messen_Beweglichkeit!K98=\"\",\"\",Messen_Beweglichkeit!K98)","v":""},{"$f":"IF(Messen_Beweglichkeit!L98=\"\",\"\",Messen_Beweglichkeit!L98)","v":""},{"$f":"IF('Jump-and-Reach'!I98=\"\",\"\",'Jump-and-Reach'!I98)","v":""},{"$f":"IF('Jump-and-Reach'!J98=\"\",\"\",'Jump-and-Reach'!J98)","v":""},{"$f":"IF('30m Sprint'!I98=\"\",\"\",'30m Sprint'!I98)","v":""},{"$f":"IF('30m Sprint'!J98=\"\",\"\",'30m Sprint'!J98)","v":""},{"$f":"IF(KaBu!I98=\"\",\"\",KaBu!I98)","v":""},{"$f":"IF(KaBu!J98=\"\",\"\",KaBu!J98)","v":""},{"$f":"IF(Seilspringen!I98=\"\",\"\",Seilspringen!I98)","v":""},{"$f":"IF(Seilspringen!J98=\"\",\"\",Seilspringen!J98)","v":""},{"$f":"IF(Liegestütz!I98=\"\",\"\",Liegestütz!I98)","v":""},{"$f":"IF(Liegestütz!J98=\"\",\"\",Liegestütz!J98)","v":""},{"$f":"IF(Balance!I98=\"\",\"\",Balance!I98)","v":""},{"$f":"IF(Balance!J98=\"\",\"\",Balance!J98)","v":""},{"$f":"IF('1000m'!I98=\"\",\"\",'1000m'!I98)","v":""},{"$f":"IF('1000m'!J98=\"\",\"\",'1000m'!J98)","v":""},{"$f":"IF(B98=\"\",\"\",(IF(AND(Messen_Beweglichkeit!L98=\"\",AB98=\"OK\"),VLOOKUP(G98&D98,$AJ$10:$AT$31,4,FALSE)+1,IF(AND(Messen_Beweglichkeit!J98=\"\",AB98=\"kein Test\"),\"\",Messen_Beweglichkeit!L98))+IF(AND('Jump-and-Reach'!J98=\"\",AB98=\"OK\"),VLOOKUP(G98&D98,$AJ$10:$AT$31,5,FALSE)+1,IF(AND('Jump-and-Reach'!J98=\"\",AB98=\"kein Test\"),\"\",'Jump-and-Reach'!J98))+IF(AND('30m Sprint'!J98=\"\",AB98=\"OK\"),VLOOKUP(G98&D98,$AJ$10:$AT$31,6,FALSE)+1,IF(AND('30m Sprint'!J98=\"\",AB98=\"kein Test\"),\"\",'30m Sprint'!J98))+IF(AND(KaBu!J98=\"\",AB98=\"OK\"),VLOOKUP(G98&D98,$AJ$10:$AT$31,7,FALSE)+1,IF(AND(KaBu!J98=\"\",AB98=\"kein Test\"),\"\",KaBu!J98))+IF(AND(Seilspringen!J98=\"\",AB98=\"OK\"),VLOOKUP(G98&D98,$AJ$10:$AT$31,8,FALSE)+1,IF(AND(Seilspringen!J98=\"\",AB98=\"kein Test\"),\"\",Seilspringen!J98))+IF(AND(Liegestütz!J98=\"\",AB98=\"OK\"),VLOOKUP(G98&D98,$AJ$10:$AT$31,9,FALSE)+1,IF(AND(Liegestütz!J98=\"\",AB98=\"kein Test\"),\"\",Liegestütz!J98))+IF(AND(Balance!J98=\"\",AB98=\"OK\"),VLOOKUP(G98&D98,$AJ$10:$AT$31,10,FALSE)+1,IF(AND(Balance!J98=\"\",AB98=\"kein Test\"),\"\",Balance!J98))+IF(AND('1000m'!J98=\"\",AB98=\"OK\"),VLOOKUP(G98&D98,$AJ$10:$AT$31,11,FALSE)+1,IF(AND('1000m'!J98=\"\",AB98=\"kein Test\"),\"\",'1000m'!J98)))/8)","v":""},null,null,"kein Test"]
[90,{"$f":"IF(Athletenliste!B99=\"\",\"\",Athletenliste!B99)","v":""},{"$f":"IF(Athletenliste!C99=\"\",\"\",Athletenliste!C99)","v":""},{"$f":"IF(Athletenliste!D99=\"\",\"\",Athletenliste!D99)","v":""},{"$f":"IF(Athletenliste!E99=\"\",\"\",Athletenliste!E99)","v":""},{"$f":"IF(Athletenliste!F99=\"\",\"\",Athletenliste!F99)","v":""},{"$f":"IF(Athletenliste!G99=\"\",\"\",Athletenliste!G99)","v":""},{"$f":"IF(Athletenliste!H99=\"\",\"\",Athletenliste!H99)","v":""},{"$f":"IF(Messen_Beweglichkeit!K99=\"\",\"\",Messen_Beweglichkeit!K99)","v":""},{"$f":"IF(Messen_Beweglichkeit!L99=\"\",\"\",Messen_Beweglichkeit!L99)","v":""},{"$f":"IF('Jump-and-Reach'!I99=\"\",\"\",'Jump-and-Reach'!I99)","v":""},{"$f":"IF('Jump-and-Reach'!J99=\"\",\"\",'Jump-and-Reach'!J99)","v":""},{"$f":"IF('30m Sprint'!I99=\"\",\"\",'30m Sprint'!I99)","v":""},{"$f":"IF('30m Sprint'!J99=\"\",\"\",'30m Sprint'!J99)","v":""},{"$f":"IF(KaBu!I99=\"\",\"\",KaBu!I99)","v":""},{"$f":"IF(KaBu!J99=\"\",\"\",KaBu!J99)","v":""},{"$f":"IF(Seilspringen!I99=\"\",\"\",Seilspringen!I99)","v":""},{"$f":"IF(Seilspringen!J99=\"\",\"\",Seilspringen!J99)","v":""},{"$f":"IF(Liegestütz!I99=\"\",\"\",Liegestütz!I99)","v":""},{"$f":"IF(Liegestütz!J99=\"\",\"\",Liegestütz!J99)","v":""},{"$f":"IF(Balance!I99=\"\",\"\",Balance!I99)","v":""},{"$f":"IF(Balance!J99=\"\",\"\",Balance!J99)","v":""},{"$f":"IF('1000m'!I99=\"\",\"\",'1000m'!I99)","v":""},{"$f":"IF('1000m'!J99=\"\",\"\",'1000m'!J99)","v":""},{"$f":"IF(B99=\"\",\"\",(IF(AND(Messen_Beweglichkeit!L99=\"\",AB99=\"OK\"),VLOOKUP(G99&D99,$AJ$10:$AT$31,4,FALSE)+1,IF(AND(Messen_Beweglichkeit!J99=\"\",AB99=\"kein Test\"),\"\",Messen_Beweglichkeit!L99))+IF(AND('Jump-and-Reach'!J99=\"\",AB99=\"OK\"),VLOOKUP(G99&D99,$AJ$10:$AT$31,5,FALSE)+1,IF(AND('Jump-and-Reach'!J99=\"\",AB99=\"kein Test\"),\"\",'Jump-and-Reach'!J99))+IF(AND('30m Sprint'!J99=\"\",AB99=\"OK\"),VLOOKUP(G99&D99,$AJ$10:$AT$31,6,FALSE)+1,IF(AND('30m Sprint'!J99=\"\",AB99=\"kein Test\"),\"\",'30m Sprint'!J99))+IF(AND(KaBu!J99=\"\",AB99=\"OK\"),VLOOKUP(G99&D99,$AJ$10:$AT$31,7,FALSE)+1,IF(AND(KaBu!J99=\"\",AB99=\"kein Test\"),\"\",KaBu!J99))+IF(AND(Seilspringen!J99=\"\",AB99=\"OK\"),VLOOKUP(G99&D99,$AJ$10:$AT$31,8,FALSE)+1,IF(AND(Seilspringen!J99=\"\",AB99=\"kein Test\"),\"\",Seilspringen!J99))+IF(AND(Liegestütz!J99=\"\",AB99=\"OK\"),VLOOKUP(G99&D99,$AJ$10:$AT$31,9,FALSE)+1,IF(AND(Liegestütz!J99=\"\",AB99=\"kein Test\"),\"\",Liegestütz!J99))+IF(AND(Balance!J99=\"\",AB99=\"OK\"),VLOOKUP(G99&D99,$AJ$10:$AT$31,10,FALSE)+1,IF(AND(Balance!J99=\"\",AB99=\"kein Test\"),\"\",Balance!J99))+IF(AND('1000m'!J99=\"\",AB99=\"OK\"),VLOOKUP(G99&D99,$AJ$10:$AT$31,11,FALSE)+1,IF(AND('1000m'!J99=\"\",AB99=\"kein Test\"),\"\",'1000m'!J99)))/8)","v":""},null,null,"kein Test"]
[91,{"$f":"IF(Athletenliste!B100=\"\",\"\",Athletenliste!B100)","v":""},{"$f":"IF(Athletenliste!C100=\"\",\"\",Athletenliste!C100)","v":""},{"$f":"IF(Athletenliste!D100=\"\",\"\",Athletenliste!D100)","v":""},{"$f":"IF(Athletenliste!E100=\"\",\"\",Athletenliste!E100)","v":""},{"$f":"IF(Athletenliste!F100=\"\",\"\",Athletenliste!F100)","v":""},{"$f":"IF(Athletenliste!G100=\"\",\"\",Athletenliste!G100)","v":""},{"$f":"IF(Athletenliste!H100=\"\",\"\",Athletenliste!H100)","v":""},{"$f":"IF(Messen_Beweglichkeit!K100=\"\",\"\",Messen_Beweglichkeit!K100)","v":""},{"$f":"IF(Messen_Beweglichkeit!L100=\"\",\"\",Messen_Beweglichkeit!L100)","v":""},{"$f":"IF('Jump-and-Reach'!I100=\"\",\"\",'Jump-and-Reach'!I100)","v":""},{"$f":"IF('Jump-and-Reach'!J100=\"\",\"\",'Jump-and-Reach'!J100)","v":""},{"$f":"IF('30m Sprint'!I100=\"\",\"\",'30m Sprint'!I100)","v":""},{"$f":"IF('30m Sprint'!J100=\"\",\"\",'30m Sprint'!J100)","v":""},{"$f":"IF(KaBu!I100=\"\",\"\",KaBu!I100)","v":""},{"$f":"IF(KaBu!J100=\"\",\"\",KaBu!J100)","v":""},{"$f":"IF(Seilspringen!I100=\"\",\"\",Seilspringen!I100)","v":""},{"$f":"IF(Seilspringen!J100=\"\",\"\",Seilspringen!J100)","v":""},{"$f":"IF(Liegestütz!I100=\"\",\"\",Liegestütz!I100)","v":""},{"$f":"IF(Liegestütz!J100=\"\",\"\",Liegestütz!J100)","v":""},{"$f":"IF(Balance!I100=\"\",\"\",Balance!I100)","v":""},{"$f":"IF(Balance!J100=\"\",\"\",Balance!J100)","v":""},{"$f":"IF('1000m'!I100=\"\",\"\",'1000m'!I100)","v":""},{"$f":"IF('1000m'!J100=\"\",\"\",'1000m'!J100)","v":""},{"$f":"IF(B100=\"\",\"\",(IF(AND(Messen_Beweglichkeit!L100=\"\",AB100=\"OK\"),VLOOKUP(G100&D100,$AJ$10:$AT$31,4,FALSE)+1,IF(AND(Messen_Beweglichkeit!J100=\"\",AB100=\"kein Test\"),\"\",Messen_Beweglichkeit!L100))+IF(AND('Jump-and-Reach'!J100=\"\",AB100=\"OK\"),VLOOKUP(G100&D100,$AJ$10:$AT$31,5,FALSE)+1,IF(AND('Jump-and-Reach'!J100=\"\",AB100=\"kein Test\"),\"\",'Jump-and-Reach'!J100))+IF(AND('30m Sprint'!J100=\"\",AB100=\"OK\"),VLOOKUP(G100&D100,$AJ$10:$AT$31,6,FALSE)+1,IF(AND('30m Sprint'!J100=\"\",AB100=\"kein Test\"),\"\",'30m Sprint'!J100))+IF(AND(KaBu!J100=\"\",AB100=\"OK\"),VLOOKUP(G100&D100,$AJ$10:$AT$31,7,FALSE)+1,IF(AND(KaBu!J100=\"\",AB100=\"kein Test\"),\"\",KaBu!J100))+IF(AND(Seilspringen!J100=\"\",AB100=\"OK\"),VLOOKUP(G100&D100,$AJ$10:$AT$31,8,FALSE)+1,IF(AND(Seilspringen!J100=\"\",AB100=\"kein Test\"),\"\",Seilspringen!J100))+IF(AND(Liegestütz!J100=\"\",AB100=\"OK\"),VLOOKUP(G100&D100,$AJ$10:$AT$31,9,FALSE)+1,IF(AND(Liegestütz!J100=\"\",AB100=\"kein Test\"),\"\",Liegestütz!J100))+IF(AND(Balance!J100=\"\",AB100=\"OK\"),VLOOKUP(G100&D100,$AJ$10:$AT$31,10,FALSE)+1,IF(AND(Balance!J100=\"\",AB100=\"kein Test\"),\"\",Balance!J100))+IF(AND('1000m'!J100=\"\",AB100=\"OK\"),VLOOKUP(G100&D100,$AJ$10:$AT$31,11,FALSE)+1,IF(AND('1000m'!J100=\"\",AB100=\"kein Test\"),\"\",'1000m'!J100)))/8)","v":""},null,null,"kein Test"]
[92,{"$f":"IF(Athletenliste!B101=\"\",\"\",Athletenliste!B101)","v":""},{"$f":"IF(Athletenliste!C101=\"\",\"\",Athletenliste!C101)","v":""},{"$f":"IF(Athletenliste!D101=\"\",\"\",Athletenliste!D101)","v":""},{"$f":"IF(Athletenliste!E101=\"\",\"\",Athletenliste!E101)","v":""},{"$f":"IF(Athletenliste!F101=\"\",\"\",Athletenliste!F101)","v":""},{"$f":"IF(Athletenliste!G101=\"\",\"\",Athletenliste!G101)","v":""},{"$f":"IF(Athletenliste!H101=\"\",\"\",Athletenliste!H101)","v":""},{"$f":"IF(Messen_Beweglichkeit!K101=\"\",\"\",Messen_Beweglichkeit!K101)","v":""},{"$f":"IF(Messen_Beweglichkeit!L101=\"\",\"\",Messen_Beweglichkeit!L101)","v":""},{"$f":"IF('Jump-and-Reach'!I101=\"\",\"\",'Jump-and-Reach'!I101)","v":""},{"$f":"IF('Jump-and-Reach'!J101=\"\",\"\",'Jump-and-Reach'!J101)","v":""},{"$f":"IF('30m Sprint'!I101=\"\",\"\",'30m Sprint'!I101)","v":""},{"$f":"IF('30m Sprint'!J101=\"\",\"\",'30m Sprint'!J101)","v":""},{"$f":"IF(KaBu!I101=\"\",\"\",KaBu!I101)","v":""},{"$f":"IF(KaBu!J101=\"\",\"\",KaBu!J101)","v":""},{"$f":"IF(Seilspringen!I101=\"\",\"\",Seilspringen!I101)","v":""},{"$f":"IF(Seilspringen!J101=\"\",\"\",Seilspringen!J101)","v":""},{"$f":"IF(Liegestütz!I101=\"\",\"\",Liegestütz!I101)","v":""},{"$f":"IF(Liegestütz!J101=\"\",\"\",Liegestütz!J101)","v":""},{"$f":"IF(Balance!I101=\"\",\"\",Balance!I101)","v":""},{"$f":"IF(Balance!J101=\"\",\"\",Balance!J101)","v":""},{"$f":"IF('1000m'!I101=\"\",\"\",'1000m'!I101)","v":""},{"$f":"IF('1000m'!J101=\"\",\"\",'1000m'!J101)","v":""},{"$f":"IF(B101=\"\",\"\",(IF(AND(Messen_Beweglichkeit!L101=\"\",AB101=\"OK\"),VLOOKUP(G101&D101,$AJ$10:$AT$31,4,FALSE)+1,IF(AND(Messen_Beweglichkeit!J101=\"\",AB101=\"kein Test\"),\"\",Messen_Beweglichkeit!L101))+IF(AND('Jump-and-Reach'!J101=\"\",AB101=\"OK\"),VLOOKUP(G101&D101,$AJ$10:$AT$31,5,FALSE)+1,IF(AND('Jump-and-Reach'!J101=\"\",AB101=\"kein Test\"),\"\",'Jump-and-Reach'!J101))+IF(AND('30m Sprint'!J101=\"\",AB101=\"OK\"),VLOOKUP(G101&D101,$AJ$10:$AT$31,6,FALSE)+1,IF(AND('30m Sprint'!J101=\"\",AB101=\"kein Test\"),\"\",'30m Sprint'!J101))+IF(AND(KaBu!J101=\"\",AB101=\"OK\"),VLOOKUP(G101&D101,$AJ$10:$AT$31,7,FALSE)+1,IF(AND(KaBu!J101=\"\",AB101=\"kein Test\"),\"\",KaBu!J101))+IF(AND(Seilspringen!J101=\"\",AB101=\"OK\"),VLOOKUP(G101&D101,$AJ$10:$AT$31,8,FALSE)+1,IF(AND(Seilspringen!J101=\"\",AB101=\"kein Test\"),\"\",Seilspringen!J101))+IF(AND(Liegestütz!J101=\"\",AB101=\"OK\"),VLOOKUP(G101&D101,$AJ$10:$AT$31,9,FALSE)+1,IF(AND(Liegestütz!J101=\"\",AB101=\"kein Test\"),\"\",Liegestütz!J101))+IF(AND(Balance!J101=\"\",AB101=\"OK\"),VLOOKUP(G101&D101,$AJ$10:$AT$31,10,FALSE)+1,IF(AND(Balance!J101=\"\",AB101=\"kein Test\"),\"\",Balance!J101))+IF(AND('1000m'!J101=\"\",AB101=\"OK\"),VLOOKUP(G101&D101,$AJ$10:$AT$31,11,FALSE)+1,IF(AND('1000m'!J101=\"\",AB101=\"kein Test\"),\"\",'1000m'!J101)))/8)","v":""},null,null,"kein Test"]
[93,{"$f":"IF(Athletenliste!B102=\"\",\"\",Athletenliste!B102)","v":""},{"$f":"IF(Athletenliste!C102=\"\",\"\",Athletenliste!C102)","v":""},{"$f":"IF(Athletenliste!D102=\"\",\"\",Athletenliste!D102)","v":""},{"$f":"IF(Athletenliste!E102=\"\",\"\",Athletenliste!E102)","v":""},{"$f":"IF(Athletenliste!F102=\"\",\"\",Athletenliste!F102)","v":""},{"$f":"IF(Athletenliste!G102=\"\",\"\",Athletenliste!G102)","v":""},{"$f":"IF(Athletenliste!H102=\"\",\"\",Athletenliste!H102)","v":""},{"$f":"IF(Messen_Beweglichkeit!K102=\"\",\"\",Messen_Beweglichkeit!K102)","v":""},{"$f":"IF(Messen_Beweglichkeit!L102=\"\",\"\",Messen_Beweglichkeit!L102)","v":""},{"$f":"IF('Jump-and-Reach'!I102=\"\",\"\",'Jump-and-Reach'!I102)","v":""},{"$f":"IF('Jump-and-Reach'!J102=\"\",\"\",'Jump-and-Reach'!J102)","v":""},{"$f":"IF('30m Sprint'!I102=\"\",\"\",'30m Sprint'!I102)","v":""},{"$f":"IF('30m Sprint'!J102=\"\",\"\",'30m Sprint'!J102)","v":""},{"$f":"IF(KaBu!I102=\"\",\"\",KaBu!I102)","v":""},{"$f":"IF(KaBu!J102=\"\",\"\",KaBu!J102)","v":""},{"$f":"IF(Seilspringen!I102=\"\",\"\",Seilspringen!I102)","v":""},{"$f":"IF(Seilspringen!J102=\"\",\"\",Seilspringen!J102)","v":""},{"$f":"IF(Liegestütz!I102=\"\",\"\",Liegestütz!I102)","v":""},{"$f":"IF(Liegestütz!J102=\"\",\"\",Liegestütz!J102)","v":""},{"$f":"IF(Balance!I102=\"\",\"\",Balance!I102)","v":""},{"$f":"IF(Balance!J102=\"\",\"\",Balance!J102)","v":""},{"$f":"IF('1000m'!I102=\"\",\"\",'1000m'!I102)","v":""},{"$f":"IF('1000m'!J102=\"\",\"\",'1000m'!J102)","v":""},{"$f":"IF(B102=\"\",\"\",(IF(AND(Messen_Beweglichkeit!L102=\"\",AB102=\"OK\"),VLOOKUP(G102&D102,$AJ$10:$AT$31,4,FALSE)+1,IF(AND(Messen_Beweglichkeit!J102=\"\",AB102=\"kein Test\"),\"\",Messen_Beweglichkeit!L102))+IF(AND('Jump-and-Reach'!J102=\"\",AB102=\"OK\"),VLOOKUP(G102&D102,$AJ$10:$AT$31,5,FALSE)+1,IF(AND('Jump-and-Reach'!J102=\"\",AB102=\"kein Test\"),\"\",'Jump-and-Reach'!J102))+IF(AND('30m Sprint'!J102=\"\",AB102=\"OK\"),VLOOKUP(G102&D102,$AJ$10:$AT$31,6,FALSE)+1,IF(AND('30m Sprint'!J102=\"\",AB102=\"kein Test\"),\"\",'30m Sprint'!J102))+IF(AND(KaBu!J102=\"\",AB102=\"OK\"),VLOOKUP(G102&D102,$AJ$10:$AT$31,7,FALSE)+1,IF(AND(KaBu!J102=\"\",AB102=\"kein Test\"),\"\",KaBu!J102))+IF(AND(Seilspringen!J102=\"\",AB102=\"OK\"),VLOOKUP(G102&D102,$AJ$10:$AT$31,8,FALSE)+1,IF(AND(Seilspringen!J102=\"\",AB102=\"kein Test\"),\"\",Seilspringen!J102))+IF(AND(Liegestütz!J102=\"\",AB102=\"OK\"),VLOOKUP(G102&D102,$AJ$10:$AT$31,9,FALSE)+1,IF(AND(Liegestütz!J102=\"\",AB102=\"kein Test\"),\"\",Liegestütz!J102))+IF(AND(Balance!J102=\"\",AB102=\"OK\"),VLOOKUP(G102&D102,$AJ$10:$AT$31,10,FALSE)+1,IF(AND(Balance!J102=\"\",AB102=\"kein Test\"),\"\",Balance!J102))+IF(AND('1000m'!J102=\"\",AB102=\"OK\"),VLOOKUP(G102&D102,$AJ$10:$AT$31,11,FALSE)+1,IF(AND('1000m'!J102=\"\",AB102=\"kein Test\"),\"\",'1000m'!J102)))/8)","v":""},null,null,"kein Test"]
[94,{"$f":"IF(Athletenliste!B103=\"\",\"\",Athletenliste!B103)","v":""},{"$f":"IF(Athletenliste!C103=\"\",\"\",Athletenliste!C103)","v":""},{"$f":"IF(Athletenliste!D103=\"\",\"\",Athletenliste!D103)","v":""},{"$f":"IF(Athletenliste!E103=\"\",\"\",Athletenliste!E103)","v":""},{"$f":"IF(Athletenliste!F103=\"\",\"\",Athletenliste!F103)","v":""},{"$f":"IF(Athletenliste!G103=\"\",\"\",Athletenliste!G103)","v":""},{"$f":"IF(Athletenliste!H103=\"\",\"\",Athletenliste!H103)","v":""},{"$f":"IF(Messen_Beweglichkeit!K103=\"\",\"\",Messen_Beweglichkeit!K103)","v":""},{"$f":"IF(Messen_Beweglichkeit!L103=\"\",\"\",Messen_Beweglichkeit!L103)","v":""},{"$f":"IF('Jump-and-Reach'!I103=\"\",\"\",'Jump-and-Reach'!I103)","v":""},{"$f":"IF('Jump-and-Reach'!J103=\"\",\"\",'Jump-and-Reach'!J103)","v":""},{"$f":"IF('30m Sprint'!I103=\"\",\"\",'30m Sprint'!I103)","v":""},{"$f":"IF('30m Sprint'!J103=\"\",\"\",'30m Sprint'!J103)","v":""},{"$f":"IF(KaBu!I103=\"\",\"\",KaBu!I103)","v":""},{"$f":"IF(KaBu!J103=\"\",\"\",KaBu!J103)","v":""},{"$f":"IF(Seilspringen!I103=\"\",\"\",Seilspringen!I103)","v":""},{"$f":"IF(Seilspringen!J103=\"\",\"\",Seilspringen!J103)","v":""},{"$f":"IF(Liegestütz!I103=\"\",\"\",Liegestütz!I103)","v":""},{"$f":"IF(Liegestütz!J103=\"\",\"\",Liegestütz!J103)","v":""},{"$f":"IF(Balance!I103=\"\",\"\",Balance!I103)","v":""},{"$f":"IF(Balance!J103=\"\",\"\",Balance!J103)","v":""},{"$f":"IF('1000m'!I103=\"\",\"\",'1000m'!I103)","v":""},{"$f":"IF('1000m'!J103=\"\",\"\",'1000m'!J103)","v":""},{"$f":"IF(B103=\"\",\"\",(IF(AND(Messen_Beweglichkeit!L103=\"\",AB103=\"OK\"),VLOOKUP(G103&D103,$AJ$10:$AT$31,4,FALSE)+1,IF(AND(Messen_Beweglichkeit!J103=\"\",AB103=\"kein Test\"),\"\",Messen_Beweglichkeit!L103))+IF(AND('Jump-and-Reach'!J103=\"\",AB103=\"OK\"),VLOOKUP(G103&D103,$AJ$10:$AT$31,5,FALSE)+1,IF(AND('Jump-and-Reach'!J103=\"\",AB103=\"kein Test\"),\"\",'Jump-and-Reach'!J103))+IF(AND('30m Sprint'!J103=\"\",AB103=\"OK\"),VLOOKUP(G103&D103,$AJ$10:$AT$31,6,FALSE)+1,IF(AND('30m Sprint'!J103=\"\",AB103=\"kein Test\"),\"\",'30m Sprint'!J103))+IF(AND(KaBu!J103=\"\",AB103=\"OK\"),VLOOKUP(G103&D103,$AJ$10:$AT$31,7,FALSE)+1,IF(AND(KaBu!J103=\"\",AB103=\"kein Test\"),\"\",KaBu!J103))+IF(AND(Seilspringen!J103=\"\",AB103=\"OK\"),VLOOKUP(G103&D103,$AJ$10:$AT$31,8,FALSE)+1,IF(AND(Seilspringen!J103=\"\",AB103=\"kein Test\"),\"\",Seilspringen!J103))+IF(AND(Liegestütz!J103=\"\",AB103=\"OK\"),VLOOKUP(G103&D103,$AJ$10:$AT$31,9,FALSE)+1,IF(AND(Liegestütz!J103=\"\",AB103=\"kein Test\"),\"\",Liegestütz!J103))+IF(AND(Balance!J103=\"\",AB103=\"OK\"),VLOOKUP(G103&D103,$AJ$10:$AT$31,10,FALSE)+1,IF(AND(Balance!J103=\"\",AB103=\"kein Test\"),\"\",Balance!J103))+IF(AND('1000m'!J103=\"\",AB103=\"OK\"),VLOOKUP(G103&D103,$AJ$10:$AT$31,11,FALSE)+1,IF(AND('1000m'!J103=\"\",AB103=\"kein Test\"),\"\",'1000m'!J103)))/8)","v":""},null,null,"kein Test"]
[95,{"$f":"IF(Athletenliste!B104=\"\",\"\",Athletenliste!B104)","v":""},{"$f":"IF(Athletenliste!C104=\"\",\"\",Athletenliste!C104)","v":""},{"$f":"IF(Athletenliste!D104=\"\",\"\",Athletenliste!D104)","v":""},{"$f":"IF(Athletenliste!E104=\"\",\"\",Athletenliste!E104)","v":""},{"$f":"IF(Athletenliste!F104=\"\",\"\",Athletenliste!F104)","v":""},{"$f":"IF(Athletenliste!G104=\"\",\"\",Athletenliste!G104)","v":""},{"$f":"IF(Athletenliste!H104=\"\",\"\",Athletenliste!H104)","v":""},{"$f":"IF(Messen_Beweglichkeit!K104=\"\",\"\",Messen_Beweglichkeit!K104)","v":""},{"$f":"IF(Messen_Beweglichkeit!L104=\"\",\"\",Messen_Beweglichkeit!L104)","v":""},{"$f":"IF('Jump-and-Reach'!I104=\"\",\"\",'Jump-and-Reach'!I104)","v":""},{"$f":"IF('Jump-and-Reach'!J104=\"\",\"\",'Jump-and-Reach'!J104)","v":""},{"$f":"IF('30m Sprint'!I104=\"\",\"\",'30m Sprint'!I104)","v":""},{"$f":"IF('30m Sprint'!J104=\"\",\"\",'30m Sprint'!J104)","v":""},{"$f":"IF(KaBu!I104=\"\",\"\",KaBu!I104)","v":""},{"$f":"IF(KaBu!J104=\"\",\"\",KaBu!J104)","v":""},{"$f":"IF(Seilspringen!I104=\"\",\"\",Seilspringen!I104)","v":""},{"$f":"IF(Seilspringen!J104=\"\",\"\",Seilspringen!J104)","v":""},{"$f":"IF(Liegestütz!I104=\"\",\"\",Liegestütz!I104)","v":""},{"$f":"IF(Liegestütz!J104=\"\",\"\",Liegestütz!J104)","v":""},{"$f":"IF(Balance!I104=\"\",\"\",Balance!I104)","v":""},{"$f":"IF(Balance!J104=\"\",\"\",Balance!J104)","v":""},{"$f":"IF('1000m'!I104=\"\",\"\",'1000m'!I104)","v":""},{"$f":"IF('1000m'!J104=\"\",\"\",'1000m'!J104)","v":""},{"$f":"IF(B104=\"\",\"\",(IF(AND(Messen_Beweglichkeit!L104=\"\",AB104=\"OK\"),VLOOKUP(G104&D104,$AJ$10:$AT$31,4,FALSE)+1,IF(AND(Messen_Beweglichkeit!J104=\"\",AB104=\"kein Test\"),\"\",Messen_Beweglichkeit!L104))+IF(AND('Jump-and-Reach'!J104=\"\",AB104=\"OK\"),VLOOKUP(G104&D104,$AJ$10:$AT$31,5,FALSE)+1,IF(AND('Jump-and-Reach'!J104=\"\",AB104=\"kein Test\"),\"\",'Jump-and-Reach'!J104))+IF(AND('30m Sprint'!J104=\"\",AB104=\"OK\"),VLOOKUP(G104&D104,$AJ$10:$AT$31,6,FALSE)+1,IF(AND('30m Sprint'!J104=\"\",AB104=\"kein Test\"),\"\",'30m Sprint'!J104))+IF(AND(KaBu!J104=\"\",AB104=\"OK\"),VLOOKUP(G104&D104,$AJ$10:$AT$31,7,FALSE)+1,IF(AND(KaBu!J104=\"\",AB104=\"kein Test\"),\"\",KaBu!J104))+IF(AND(Seilspringen!J104=\"\",AB104=\"OK\"),VLOOKUP(G104&D104,$AJ$10:$AT$31,8,FALSE)+1,IF(AND(Seilspringen!J104=\"\",AB104=\"kein Test\"),\"\",Seilspringen!J104))+IF(AND(Liegestütz!J104=\"\",AB104=\"OK\"),VLOOKUP(G104&D104,$AJ$10:$AT$31,9,FALSE)+1,IF(AND(Liegestütz!J104=\"\",AB104=\"kein Test\"),\"\",Liegestütz!J104))+IF(AND(Balance!J104=\"\",AB104=\"OK\"),VLOOKUP(G104&D104,$AJ$10:$AT$31,10,FALSE)+1,IF(AND(Balance!J104=\"\",AB104=\"kein Test\"),\"\",Balance!J104))+IF(AND('1000m'!J104=\"\",AB104=\"OK\"),VLOOKUP(G104&D104,$AJ$10:$AT$31,11,FALSE)+1,IF(AND('1000m'!J104=\"\",AB104=\"kein Test\"),\"\",'1000m'!J104)))/8)","v":""},null,null,"kein Test"]
[96,{"$f":"IF(Athletenliste!B105=\"\",\"\",Athletenliste!B105)","v":""},{"$f":"IF(Athletenliste!C105=\"\",\"\",Athletenliste!C105)","v":""},{"$f":"IF(Athletenliste!D105=\"\",\"\",Athletenliste!D105)","v":""},{"$f":"IF(Athletenliste!E105=\"\",\"\",Athletenliste!E105)","v":""},{"$f":"IF(Athletenliste!F105=\"\",\"\",Athletenliste!F105)","v":""},{"$f":"IF(Athletenliste!G105=\"\",\"\",Athletenliste!G105)","v":""},{"$f":"IF(Athletenliste!H105=\"\",\"\",Athletenliste!H105)","v":""},{"$f":"IF(Messen_Beweglichkeit!K105=\"\",\"\",Messen_Beweglichkeit!K105)","v":""},{"$f":"IF(Messen_Beweglichkeit!L105=\"\",\"\",Messen_Beweglichkeit!L105)","v":""},{"$f":"IF('Jump-and-Reach'!I105=\"\",\"\",'Jump-and-Reach'!I105)","v":""},{"$f":"IF('Jump-and-Reach'!J105=\"\",\"\",'Jump-and-Reach'!J105)","v":""},{"$f":"IF('30m Sprint'!I105=\"\",\"\",'30m Sprint'!I105)","v":""},{"$f":"IF('30m Sprint'!J105=\"\",\"\",'30m Sprint'!J105)","v":""},{"$f":"IF(KaBu!I105=\"\",\"\",KaBu!I105)","v":""},{"$f":"IF(KaBu!J105=\"\",\"\",KaBu!J105)","v":""},{"$f":"IF(Seilspringen!I105=\"\",\"\",Seilspringen!I105)","v":""},{"$f":"IF(Seilspringen!J105=\"\",\"\",Seilspringen!J105)","v":""},{"$f":"IF(Liegestütz!I105=\"\",\"\",Liegestütz!I105)","v":""},{"$f":"IF(Liegestütz!J105=\"\",\"\",Liegestütz!J105)","v":""},{"$f":"IF(Balance!I105=\"\",\"\",Balance!I105)","v":""},{"$f":"IF(Balance!J105=\"\",\"\",Balance!J105)","v":""},{"$f":"IF('1000m'!I105=\"\",\"\",'1000m'!I105)","v":""},{"$f":"IF('1000m'!J105=\"\",\"\",'1000m'!J105)","v":""},{"$f":"IF(B105=\"\",\"\",(IF(AND(Messen_Beweglichkeit!L105=\"\",AB105=\"OK\"),VLOOKUP(G105&D105,$AJ$10:$AT$31,4,FALSE)+1,IF(AND(Messen_Beweglichkeit!J105=\"\",AB105=\"kein Test\"),\"\",Messen_Beweglichkeit!L105))+IF(AND('Jump-and-Reach'!J105=\"\",AB105=\"OK\"),VLOOKUP(G105&D105,$AJ$10:$AT$31,5,FALSE)+1,IF(AND('Jump-and-Reach'!J105=\"\",AB105=\"kein Test\"),\"\",'Jump-and-Reach'!J105))+IF(AND('30m Sprint'!J105=\"\",AB105=\"OK\"),VLOOKUP(G105&D105,$AJ$10:$AT$31,6,FALSE)+1,IF(AND('30m Sprint'!J105=\"\",AB105=\"kein Test\"),\"\",'30m Sprint'!J105))+IF(AND(KaBu!J105=\"\",AB105=\"OK\"),VLOOKUP(G105&D105,$AJ$10:$AT$31,7,FALSE)+1,IF(AND(KaBu!J105=\"\",AB105=\"kein Test\"),\"\",KaBu!J105))+IF(AND(Seilspringen!J105=\"\",AB105=\"OK\"),VLOOKUP(G105&D105,$AJ$10:$AT$31,8,FALSE)+1,IF(AND(Seilspringen!J105=\"\",AB105=\"kein Test\"),\"\",Seilspringen!J105))+IF(AND(Liegestütz!J105=\"\",AB105=\"OK\"),VLOOKUP(G105&D105,$AJ$10:$AT$31,9,FALSE)+1,IF(AND(Liegestütz!J105=\"\",AB105=\"kein Test\"),\"\",Liegestütz!J105))+IF(AND(Balance!J105=\"\",AB105=\"OK\"),VLOOKUP(G105&D105,$AJ$10:$AT$31,10,FALSE)+1,IF(AND(Balance!J105=\"\",AB105=\"kein Test\"),\"\",Balance!J105))+IF(AND('1000m'!J105=\"\",AB105=\"OK\"),VLOOKUP(G105&D105,$AJ$10:$AT$31,11,FALSE)+1,IF(AND('1000m'!J105=\"\",AB105=\"kein Test\"),\"\",'1000m'!J105)))/8)","v":""},null,null,"kein Test"]
[97,{"$f":"IF(Athletenliste!B106=\"\",\"\",Athletenliste!B106)","v":""},{"$f":"IF(Athletenliste!C106=\"\",\"\",Athletenliste!C106)","v":""},{"$f":"IF(Athletenliste!D106=\"\",\"\",Athletenliste!D106)","v":""},{"$f":"IF(Athletenliste!E106=\"\",\"\",Athletenliste!E106)","v":""},{"$f":"IF(Athletenliste!F106=\"\",\"\",Athletenliste!F106)","v":""},{"$f":"IF(Athletenliste!G106=\"\",\"\",Athletenliste!G106)","v":""},{"$f":"IF(Athletenliste!H106=\"\",\"\",Athletenliste!H106)","v":""},{"$f":"IF(Messen_Beweglichkeit!K106=\"\",\"\",Messen_Beweglichkeit!K106)","v":""},{"$f":"IF(Messen_Beweglichkeit!L106=\"\",\"\",Messen_Beweglichkeit!L106)","v":""},{"$f":"IF('Jump-and-Reach'!I106=\"\",\"\",'Jump-and-Reach'!I106)","v":""},{"$f":"IF('Jump-and-Reach'!J106=\"\",\"\",'Jump-and-Reach'!J106)","v":""},{"$f":"IF('30m Sprint'!I106=\"\",\"\",'30m Sprint'!I106)","v":""},{"$f":"IF('30m Sprint'!J106=\"\",\"\",'30m Sprint'!J106)","v":""},{"$f":"IF(KaBu!I106=\"\",\"\",KaBu!I106)","v":""},{"$f":"IF(KaBu!J106=\"\",\"\",KaBu!J106)","v":""},{"$f":"IF(Seilspringen!I106=\"\",\"\",Seilspringen!I106)","v":""},{"$f":"IF(Seilspringen!J106=\"\",\"\",Seilspringen!J106)","v":""},{"$f":"IF(Liegestütz!I106=\"\",\"\",Liegestütz!I106)","v":""},{"$f":"IF(Liegestütz!J106=\"\",\"\",Liegestütz!J106)","v":""},{"$f":"IF(Balance!I106=\"\",\"\",Balance!I106)","v":""},{"$f":"IF(Balance!J106=\"\",\"\",Balance!J106)","v":""},{"$f":"IF('1000m'!I106=\"\",\"\",'1000m'!I106)","v":""},{"$f":"IF('1000m'!J106=\"\",\"\",'1000m'!J106)","v":""},{"$f":"IF(B106=\"\",\"\",(IF(AND(Messen_Beweglichkeit!L106=\"\",AB106=\"OK\"),VLOOKUP(G106&D106,$AJ$10:$AT$31,4,FALSE)+1,IF(AND(Messen_Beweglichkeit!J106=\"\",AB106=\"kein Test\"),\"\",Messen_Beweglichkeit!L106))+IF(AND('Jump-and-Reach'!J106=\"\",AB106=\"OK\"),VLOOKUP(G106&D106,$AJ$10:$AT$31,5,FALSE)+1,IF(AND('Jump-and-Reach'!J106=\"\",AB106=\"kein Test\"),\"\",'Jump-and-Reach'!J106))+IF(AND('30m Sprint'!J106=\"\",AB106=\"OK\"),VLOOKUP(G106&D106,$AJ$10:$AT$31,6,FALSE)+1,IF(AND('30m Sprint'!J106=\"\",AB106=\"kein Test\"),\"\",'30m Sprint'!J106))+IF(AND(KaBu!J106=\"\",AB106=\"OK\"),VLOOKUP(G106&D106,$AJ$10:$AT$31,7,FALSE)+1,IF(AND(KaBu!J106=\"\",AB106=\"kein Test\"),\"\",KaBu!J106))+IF(AND(Seilspringen!J106=\"\",AB106=\"OK\"),VLOOKUP(G106&D106,$AJ$10:$AT$31,8,FALSE)+1,IF(AND(Seilspringen!J106=\"\",AB106=\"kein Test\"),\"\",Seilspringen!J106))+IF(AND(Liegestütz!J106=\"\",AB106=\"OK\"),VLOOKUP(G106&D106,$AJ$10:$AT$31,9,FALSE)+1,IF(AND(Liegestütz!J106=\"\",AB106=\"kein Test\"),\"\",Liegestütz!J106))+IF(AND(Balance!J106=\"\",AB106=\"OK\"),VLOOKUP(G106&D106,$AJ$10:$AT$31,10,FALSE)+1,IF(AND(Balance!J106=\"\",AB106=\"kein Test\"),\"\",Balance!J106))+IF(AND('1000m'!J106=\"\",AB106=\"OK\"),VLOOKUP(G106&D106,$AJ$10:$AT$31,11,FALSE)+1,IF(AND('1000m'!J106=\"\",AB106=\"kein Test\"),\"\",'1000m'!J106)))/8)","v":""},null,null,{"$f":"IF(AND(I106=\"\",K106=\"\",M106=\"\",O106=\"\",Q106=\"\",S106=\"\",U106=\"\",W106=\"\"),\"kein Test\",\"OK\")","v":"kein Test"}]
[98,{"$f":"IF(Athletenliste!B107=\"\",\"\",Athletenliste!B107)","v":""},{"$f":"IF(Athletenliste!C107=\"\",\"\",Athletenliste!C107)","v":""},{"$f":"IF(Athletenliste!D107=\"\",\"\",Athletenliste!D107)","v":""},{"$f":"IF(Athletenliste!E107=\"\",\"\",Athletenliste!E107)","v":""},{"$f":"IF(Athletenliste!F107=\"\",\"\",Athletenliste!F107)","v":""},{"$f":"IF(Athletenliste!G107=\"\",\"\",Athletenliste!G107)","v":""},{"$f":"IF(Athletenliste!H107=\"\",\"\",Athletenliste!H107)","v":""},{"$f":"IF(Messen_Beweglichkeit!K107=\"\",\"\",Messen_Beweglichkeit!K107)","v":""},{"$f":"IF(Messen_Beweglichkeit!L107=\"\",\"\",Messen_Beweglichkeit!L107)","v":""},{"$f":"IF('Jump-and-Reach'!I107=\"\",\"\",'Jump-and-Reach'!I107)","v":""},{"$f":"IF('Jump-and-Reach'!J107=\"\",\"\",'Jump-and-Reach'!J107)","v":""},{"$f":"IF('30m Sprint'!I107=\"\",\"\",'30m Sprint'!I107)","v":""},{"$f":"IF('30m Sprint'!J107=\"\",\"\",'30m Sprint'!J107)","v":""},{"$f":"IF(KaBu!I107=\"\",\"\",KaBu!I107)","v":""},{"$f":"IF(KaBu!J107=\"\",\"\",KaBu!J107)","v":""},{"$f":"IF(Seilspringen!I107=\"\",\"\",Seilspringen!I107)","v":""},{"$f":"IF(Seilspringen!J107=\"\",\"\",Seilspringen!J107)","v":""},{"$f":"IF(Liegestütz!I107=\"\",\"\",Liegestütz!I107)","v":""},{"$f":"IF(Liegestütz!J107=\"\",\"\",Liegestütz!J107)","v":""},{"$f":"IF(Balance!I107=\"\",\"\",Balance!I107)","v":""},{"$f":"IF(Balance!J107=\"\",\"\",Balance!J107)","v":""},{"$f":"IF('1000m'!I107=\"\",\"\",'1000m'!I107)","v":""},{"$f":"IF('1000m'!J107=\"\",\"\",'1000m'!J107)","v":""},{"$f":"IF(B107=\"\",\"\",(IF(AND(Messen_Beweglichkeit!L107=\"\",AB107=\"OK\"),VLOOKUP(G107&D107,$AJ$10:$AT$31,4,FALSE)+1,IF(AND(Messen_Beweglichkeit!J107=\"\",AB107=\"kein Test\"),\"\",Messen_Beweglichkeit!L107))+IF(AND('Jump-and-Reach'!J107=\"\",AB107=\"OK\"),VLOOKUP(G107&D107,$AJ$10:$AT$31,5,FALSE)+1,IF(AND('Jump-and-Reach'!J107=\"\",AB107=\"kein Test\"),\"\",'Jump-and-Reach'!J107))+IF(AND('30m Sprint'!J107=\"\",AB107=\"OK\"),VLOOKUP(G107&D107,$AJ$10:$AT$31,6,FALSE)+1,IF(AND('30m Sprint'!J107=\"\",AB107=\"kein Test\"),\"\",'30m Sprint'!J107))+IF(AND(KaBu!J107=\"\",AB107=\"OK\"),VLOOKUP(G107&D107,$AJ$10:$AT$31,7,FALSE)+1,IF(AND(KaBu!J107=\"\",AB107=\"kein Test\"),\"\",KaBu!J107))+IF(AND(Seilspringen!J107=\"\",AB107=\"OK\"),VLOOKUP(G107&D107,$AJ$10:$AT$31,8,FALSE)+1,IF(AND(Seilspringen!J107=\"\",AB107=\"kein Test\"),\"\",Seilspringen!J107))+IF(AND(Liegestütz!J107=\"\",AB107=\"OK\"),VLOOKUP(G107&D107,$AJ$10:$AT$31,9,FALSE)+1,IF(AND(Liegestütz!J107=\"\",AB107=\"kein Test\"),\"\",Liegestütz!J107))+IF(AND(Balance!J107=\"\",AB107=\"OK\"),VLOOKUP(G107&D107,$AJ$10:$AT$31,10,FALSE)+1,IF(AND(Balance!J107=\"\",AB107=\"kein Test\"),\"\",Balance!J107))+IF(AND('1000m'!J107=\"\",AB107=\"OK\"),VLOOKUP(G107&D107,$AJ$10:$AT$31,11,FALSE)+1,IF(AND('1000m'!J107=\"\",AB107=\"kein Test\"),\"\",'1000m'!J107)))/8)","v":""},null,null,"kein Test"]
[99,{"$f":"IF(Athletenliste!B108=\"\",\"\",Athletenliste!B108)","v":""},{"$f":"IF(Athletenliste!C108=\"\",\"\",Athletenliste!C108)","v":""},{"$f":"IF(Athletenliste!D108=\"\",\"\",Athletenliste!D108)","v":""},{"$f":"IF(Athletenliste!E108=\"\",\"\",Athletenliste!E108)","v":""},{"$f":"IF(Athletenliste!F108=\"\",\"\",Athletenliste!F108)","v":""},{"$f":"IF(Athletenliste!G108=\"\",\"\",Athletenliste!G108)","v":""},{"$f":"IF(Athletenliste!H108=\"\",\"\",Athletenliste!H108)","v":""},{"$f":"IF(Messen_Beweglichkeit!K108=\"\",\"\",Messen_Beweglichkeit!K108)","v":""},{"$f":"IF(Messen_Beweglichkeit!L108=\"\",\"\",Messen_Beweglichkeit!L108)","v":""},{"$f":"IF('Jump-and-Reach'!I108=\"\",\"\",'Jump-and-Reach'!I108)","v":""},{"$f":"IF('Jump-and-Reach'!J108=\"\",\"\",'Jump-and-Reach'!J108)","v":""},{"$f":"IF('30m Sprint'!I108=\"\",\"\",'30m Sprint'!I108)","v":""},{"$f":"IF('30m Sprint'!J108=\"\",\"\",'30m Sprint'!J108)","v":""},{"$f":"IF(KaBu!I108=\"\",\"\",KaBu!I108)","v":""},{"$f":"IF(KaBu!J108=\"\",\"\",KaBu!J108)","v":""},{"$f":"IF(Seilspringen!I108=\"\",\"\",Seilspringen!I108)","v":""},{"$f":"IF(Seilspringen!J108=\"\",\"\",Seilspringen!J108)","v":""},{"$f":"IF(Liegestütz!I108=\"\",\"\",Liegestütz!I108)","v":""},{"$f":"IF(Liegestütz!J108=\"\",\"\",Liegestütz!J108)","v":""},{"$f":"IF(Balance!I108=\"\",\"\",Balance!I108)","v":""},{"$f":"IF(Balance!J108=\"\",\"\",Balance!J108)","v":""},{"$f":"IF('1000m'!I108=\"\",\"\",'1000m'!I108)","v":""},{"$f":"IF('1000m'!J108=\"\",\"\",'1000m'!J108)","v":""},{"$f":"IF(B108=\"\",\"\",(IF(AND(Messen_Beweglichkeit!L108=\"\",AB108=\"OK\"),VLOOKUP(G108&D108,$AJ$10:$AT$31,4,FALSE)+1,IF(AND(Messen_Beweglichkeit!J108=\"\",AB108=\"kein Test\"),\"\",Messen_Beweglichkeit!L108))+IF(AND('Jump-and-Reach'!J108=\"\",AB108=\"OK\"),VLOOKUP(G108&D108,$AJ$10:$AT$31,5,FALSE)+1,IF(AND('Jump-and-Reach'!J108=\"\",AB108=\"kein Test\"),\"\",'Jump-and-Reach'!J108))+IF(AND('30m Sprint'!J108=\"\",AB108=\"OK\"),VLOOKUP(G108&D108,$AJ$10:$AT$31,6,FALSE)+1,IF(AND('30m Sprint'!J108=\"\",AB108=\"kein Test\"),\"\",'30m Sprint'!J108))+IF(AND(KaBu!J108=\"\",AB108=\"OK\"),VLOOKUP(G108&D108,$AJ$10:$AT$31,7,FALSE)+1,IF(AND(KaBu!J108=\"\",AB108=\"kein Test\"),\"\",KaBu!J108))+IF(AND(Seilspringen!J108=\"\",AB108=\"OK\"),VLOOKUP(G108&D108,$AJ$10:$AT$31,8,FALSE)+1,IF(AND(Seilspringen!J108=\"\",AB108=\"kein Test\"),\"\",Seilspringen!J108))+IF(AND(Liegestütz!J108=\"\",AB108=\"OK\"),VLOOKUP(G108&D108,$AJ$10:$AT$31,9,FALSE)+1,IF(AND(Liegestütz!J108=\"\",AB108=\"kein Test\"),\"\",Liegestütz!J108))+IF(AND(Balance!J108=\"\",AB108=\"OK\"),VLOOKUP(G108&D108,$AJ$10:$AT$31,10,FALSE)+1,IF(AND(Balance!J108=\"\",AB108=\"kein Test\"),\"\",Balance!J108))+IF(AND('1000m'!J108=\"\",AB108=\"OK\"),VLOOKUP(G108&D108,$AJ$10:$AT$31,11,FALSE)+1,IF(AND('1000m'!J108=\"\",AB108=\"kein Test\"),\"\",'1000m'!J108)))/8)","v":""},null,null,"kein Test"]
[100,{"$f":"IF(Athletenliste!B109=\"\",\"\",Athletenliste!B109)","v":""},{"$f":"IF(Athletenliste!C109=\"\",\"\",Athletenliste!C109)","v":""},{"$f":"IF(Athletenliste!D109=\"\",\"\",Athletenliste!D109)","v":""},{"$f":"IF(Athletenliste!E109=\"\",\"\",Athletenliste!E109)","v":""},{"$f":"IF(Athletenliste!F109=\"\",\"\",Athletenliste!F109)","v":""},{"$f":"IF(Athletenliste!G109=\"\",\"\",Athletenliste!G109)","v":""},{"$f":"IF(Athletenliste!H109=\"\",\"\",Athletenliste!H109)","v":""},{"$f":"IF(Messen_Beweglichkeit!K109=\"\",\"\",Messen_Beweglichkeit!K109)","v":""},{"$f":"IF(Messen_Beweglichkeit!L109=\"\",\"\",Messen_Beweglichkeit!L109)","v":""},{"$f":"IF('Jump-and-Reach'!I109=\"\",\"\",'Jump-and-Reach'!I109)","v":""},{"$f":"IF('Jump-and-Reach'!J109=\"\",\"\",'Jump-and-Reach'!J109)","v":""},{"$f":"IF('30m Sprint'!I109=\"\",\"\",'30m Sprint'!I109)","v":""},{"$f":"IF('30m Sprint'!J109=\"\",\"\",'30m Sprint'!J109)","v":""},{"$f":"IF(KaBu!I109=\"\",\"\",KaBu!I109)","v":""},{"$f":"IF(KaBu!J109=\"\",\"\",KaBu!J109)","v":""},{"$f":"IF(Seilspringen!I109=\"\",\"\",Seilspringen!I109)","v":""},{"$f":"IF(Seilspringen!J109=\"\",\"\",Seilspringen!J109)","v":""},{"$f":"IF(Liegestütz!I109=\"\",\"\",Liegestütz!I109)","v":""},{"$f":"IF(Liegestütz!J109=\"\",\"\",Liegestütz!J109)","v":""},{"$f":"IF(Balance!I109=\"\",\"\",Balance!I109)","v":""},{"$f":"IF(Balance!J109=\"\",\"\",Balance!J109)","v":""},{"$f":"IF('1000m'!I109=\"\",\"\",'1000m'!I109)","v":""},{"$f":"IF('1000m'!J109=\"\",\"\",'1000m'!J109)","v":""},{"$f":"IF(B109=\"\",\"\",(IF(AND(Messen_Beweglichkeit!L109=\"\",AB109=\"OK\"),VLOOKUP(G109&D109,$AJ$10:$AT$31,4,FALSE)+1,IF(AND(Messen_Beweglichkeit!J109=\"\",AB109=\"kein Test\"),\"\",Messen_Beweglichkeit!L109))+IF(AND('Jump-and-Reach'!J109=\"\",AB109=\"OK\"),VLOOKUP(G109&D109,$AJ$10:$AT$31,5,FALSE)+1,IF(AND('Jump-and-Reach'!J109=\"\",AB109=\"kein Test\"),\"\",'Jump-and-Reach'!J109))+IF(AND('30m Sprint'!J109=\"\",AB109=\"OK\"),VLOOKUP(G109&D109,$AJ$10:$AT$31,6,FALSE)+1,IF(AND('30m Sprint'!J109=\"\",AB109=\"kein Test\"),\"\",'30m Sprint'!J109))+IF(AND(KaBu!J109=\"\",AB109=\"OK\"),VLOOKUP(G109&D109,$AJ$10:$AT$31,7,FALSE)+1,IF(AND(KaBu!J109=\"\",AB109=\"kein Test\"),\"\",KaBu!J109))+IF(AND(Seilspringen!J109=\"\",AB109=\"OK\"),VLOOKUP(G109&D109,$AJ$10:$AT$31,8,FALSE)+1,IF(AND(Seilspringen!J109=\"\",AB109=\"kein Test\"),\"\",Seilspringen!J109))+IF(AND(Liegestütz!J109=\"\",AB109=\"OK\"),VLOOKUP(G109&D109,$AJ$10:$AT$31,9,FALSE)+1,IF(AND(Liegestütz!J109=\"\",AB109=\"kein Test\"),\"\",Liegestütz!J109))+IF(AND(Balance!J109=\"\",AB109=\"OK\"),VLOOKUP(G109&D109,$AJ$10:$AT$31,10,FALSE)+1,IF(AND(Balance!J109=\"\",AB109=\"kein Test\"),\"\",Balance!J109))+IF(AND('1000m'!J109=\"\",AB109=\"OK\"),VLOOKUP(G109&D109,$AJ$10:$AT$31,11,FALSE)+1,IF(AND('1000m'!J109=\"\",AB109=\"kein Test\"),\"\",'1000m'!J109)))/8)","v":""},null,null,"kein Test"]
[101,{"$f":"IF(Athletenliste!B110=\"\",\"\",Athletenliste!B110)","v":""},{"$f":"IF(Athletenliste!C110=\"\",\"\",Athletenliste!C110)","v":""},{"$f":"IF(Athletenliste!D110=\"\",\"\",Athletenliste!D110)","v":""},{"$f":"IF(Athletenliste!E110=\"\",\"\",Athletenliste!E110)","v":""},{"$f":"IF(Athletenliste!F110=\"\",\"\",Athletenliste!F110)","v":""},{"$f":"IF(Athletenliste!G110=\"\",\"\",Athletenliste!G110)","v":""},{"$f":"IF(Athletenliste!H110=\"\",\"\",Athletenliste!H110)","v":""},{"$f":"IF(Messen_Beweglichkeit!K110=\"\",\"\",Messen_Beweglichkeit!K110)","v":""},{"$f":"IF(Messen_Beweglichkeit!L110=\"\",\"\",Messen_Beweglichkeit!L110)","v":""},{"$f":"IF('Jump-and-Reach'!I110=\"\",\"\",'Jump-and-Reach'!I110)","v":""},{"$f":"IF('Jump-and-Reach'!J110=\"\",\"\",'Jump-and-Reach'!J110)","v":""},{"$f":"IF('30m Sprint'!I110=\"\",\"\",'30m Sprint'!I110)","v":""},{"$f":"IF('30m Sprint'!J110=\"\",\"\",'30m Sprint'!J110)","v":""},{"$f":"IF(KaBu!I110=\"\",\"\",KaBu!I110)","v":""},{"$f":"IF(KaBu!J110=\"\",\"\",KaBu!J110)","v":""},{"$f":"IF(Seilspringen!I110=\"\",\"\",Seilspringen!I110)","v":""},{"$f":"IF(Seilspringen!J110=\"\",\"\",Seilspringen!J110)","v":""},{"$f":"IF(Liegestütz!I110=\"\",\"\",Liegestütz!I110)","v":""},{"$f":"IF(Liegestütz!J110=\"\",\"\",Liegestütz!J110)","v":""},{"$f":"IF(Balance!I110=\"\",\"\",Balance!I110)","v":""},{"$f":"IF(Balance!J110=\"\",\"\",Balance!J110)","v":""},{"$f":"IF('1000m'!I110=\"\",\"\",'1000m'!I110)","v":""},{"$f":"IF('1000m'!J110=\"\",\"\",'1000m'!J110)","v":""},{"$f":"IF(B110=\"\",\"\",(IF(AND(Messen_Beweglichkeit!L110=\"\",AB110=\"OK\"),VLOOKUP(G110&D110,$AJ$10:$AT$31,4,FALSE)+1,IF(AND(Messen_Beweglichkeit!J110=\"\",AB110=\"kein Test\"),\"\",Messen_Beweglichkeit!L110))+IF(AND('Jump-and-Reach'!J110=\"\",AB110=\"OK\"),VLOOKUP(G110&D110,$AJ$10:$AT$31,5,FALSE)+1,IF(AND('Jump-and-Reach'!J110=\"\",AB110=\"kein Test\"),\"\",'Jump-and-Reach'!J110))+IF(AND('30m Sprint'!J110=\"\",AB110=\"OK\"),VLOOKUP(G110&D110,$AJ$10:$AT$31,6,FALSE)+1,IF(AND('30m Sprint'!J110=\"\",AB110=\"kein Test\"),\"\",'30m Sprint'!J110))+IF(AND(KaBu!J110=\"\",AB110=\"OK\"),VLOOKUP(G110&D110,$AJ$10:$AT$31,7,FALSE)+1,IF(AND(KaBu!J110=\"\",AB110=\"kein Test\"),\"\",KaBu!J110))+IF(AND(Seilspringen!J110=\"\",AB110=\"OK\"),VLOOKUP(G110&D110,$AJ$10:$AT$31,8,FALSE)+1,IF(AND(Seilspringen!J110=\"\",AB110=\"kein Test\"),\"\",Seilspringen!J110))+IF(AND(Liegestütz!J110=\"\",AB110=\"OK\"),VLOOKUP(G110&D110,$AJ$10:$AT$31,9,FALSE)+1,IF(AND(Liegestütz!J110=\"\",AB110=\"kein Test\"),\"\",Liegestütz!J110))+IF(AND(Balance!J110=\"\",AB110=\"OK\"),VLOOKUP(G110&D110,$AJ$10:$AT$31,10,FALSE)+1,IF(AND(Balance!J110=\"\",AB110=\"kein Test\"),\"\",Balance!J110))+IF(AND('1000m'!J110=\"\",AB110=\"OK\"),VLOOKUP(G110&D110,$AJ$10:$AT$31,11,FALSE)+1,IF(AND('1000m'!J110=\"\",AB110=\"kein Test\"),\"\",'1000m'!J110)))/8)","v":""},null,null,"kein Test"]
[102,{"$f":"IF(Athletenliste!B111=\"\",\"\",Athletenliste!B111)","v":""},{"$f":"IF(Athletenliste!C111=\"\",\"\",Athletenliste!C111)","v":""},{"$f":"IF(Athletenliste!D111=\"\",\"\",Athletenliste!D111)","v":""},{"$f":"IF(Athletenliste!E111=\"\",\"\",Athletenliste!E111)","v":""},{"$f":"IF(Athletenliste!F111=\"\",\"\",Athletenliste!F111)","v":""},{"$f":"IF(Athletenliste!G111=\"\",\"\",Athletenliste!G111)","v":""},{"$f":"IF(Athletenliste!H111=\"\",\"\",Athletenliste!H111)","v":""},{"$f":"IF(Messen_Beweglichkeit!K111=\"\",\"\",Messen_Beweglichkeit!K111)","v":""},{"$f":"IF(Messen_Beweglichkeit!L111=\"\",\"\",Messen_Beweglichkeit!L111)","v":""},{"$f":"IF('Jump-and-Reach'!I111=\"\",\"\",'Jump-and-Reach'!I111)","v":""},{"$f":"IF('Jump-and-Reach'!J111=\"\",\"\",'Jump-and-Reach'!J111)","v":""},{"$f":"IF('30m Sprint'!I111=\"\",\"\",'30m Sprint'!I111)","v":""},{"$f":"IF('30m Sprint'!J111=\"\",\"\",'30m Sprint'!J111)","v":""},{"$f":"IF(KaBu!I111=\"\",\"\",KaBu!I111)","v":""},{"$f":"IF(KaBu!J111=\"\",\"\",KaBu!J111)","v":""},{"$f":"IF(Seilspringen!I111=\"\",\"\",Seilspringen!I111)","v":""},{"$f":"IF(Seilspringen!J111=\"\",\"\",Seilspringen!J111)","v":""},{"$f":"IF(Liegestütz!I111=\"\",\"\",Liegestütz!I111)","v":""},{"$f":"IF(Liegestütz!J111=\"\",\"\",Liegestütz!J111)","v":""},{"$f":"IF(Balance!I111=\"\",\"\",Balance!I111)","v":""},{"$f":"IF(Balance!J111=\"\",\"\",Balance!J111)","v":""},{"$f":"IF('1000m'!I111=\"\",\"\",'1000m'!I111)","v":""},{"$f":"IF('1000m'!J111=\"\",\"\",'1000m'!J111)","v":""},{"$f":"IF(B111=\"\",\"\",(IF(AND(Messen_Beweglichkeit!L111=\"\",AB111=\"OK\"),VLOOKUP(G111&D111,$AJ$10:$AT$31,4,FALSE)+1,IF(AND(Messen_Beweglichkeit!J111=\"\",AB111=\"kein Test\"),\"\",Messen_Beweglichkeit!L111))+IF(AND('Jump-and-Reach'!J111=\"\",AB111=\"OK\"),VLOOKUP(G111&D111,$AJ$10:$AT$31,5,FALSE)+1,IF(AND('Jump-and-Reach'!J111=\"\",AB111=\"kein Test\"),\"\",'Jump-and-Reach'!J111))+IF(AND('30m Sprint'!J111=\"\",AB111=\"OK\"),VLOOKUP(G111&D111,$AJ$10:$AT$31,6,FALSE)+1,IF(AND('30m Sprint'!J111=\"\",AB111=\"kein Test\"),\"\",'30m Sprint'!J111))+IF(AND(KaBu!J111=\"\",AB111=\"OK\"),VLOOKUP(G111&D111,$AJ$10:$AT$31,7,FALSE)+1,IF(AND(KaBu!J111=\"\",AB111=\"kein Test\"),\"\",KaBu!J111))+IF(AND(Seilspringen!J111=\"\",AB111=\"OK\"),VLOOKUP(G111&D111,$AJ$10:$AT$31,8,FALSE)+1,IF(AND(Seilspringen!J111=\"\",AB111=\"kein Test\"),\"\",Seilspringen!J111))+IF(AND(Liegestütz!J111=\"\",AB111=\"OK\"),VLOOKUP(G111&D111,$AJ$10:$AT$31,9,FALSE)+1,IF(AND(Liegestütz!J111=\"\",AB111=\"kein Test\"),\"\",Liegestütz!J111))+IF(AND(Balance!J111=\"\",AB111=\"OK\"),VLOOKUP(G111&D111,$AJ$10:$AT$31,10,FALSE)+1,IF(AND(Balance!J111=\"\",AB111=\"kein Test\"),\"\",Balance!J111))+IF(AND('1000m'!J111=\"\",AB111=\"OK\"),VLOOKUP(G111&D111,$AJ$10:$AT$31,11,FALSE)+1,IF(AND('1000m'!J111=\"\",AB111=\"kein Test\"),\"\",'1000m'!J111)))/8)","v":""},null,null,"kein Test"]
[103,{"$f":"IF(Athletenliste!B112=\"\",\"\",Athletenliste!B112)","v":""},{"$f":"IF(Athletenliste!C112=\"\",\"\",Athletenliste!C112)","v":""},{"$f":"IF(Athletenliste!D112=\"\",\"\",Athletenliste!D112)","v":""},{"$f":"IF(Athletenliste!E112=\"\",\"\",Athletenliste!E112)","v":""},{"$f":"IF(Athletenliste!F112=\"\",\"\",Athletenliste!F112)","v":""},{"$f":"IF(Athletenliste!G112=\"\",\"\",Athletenliste!G112)","v":""},{"$f":"IF(Athletenliste!H112=\"\",\"\",Athletenliste!H112)","v":""},{"$f":"IF(Messen_Beweglichkeit!K112=\"\",\"\",Messen_Beweglichkeit!K112)","v":""},{"$f":"IF(Messen_Beweglichkeit!L112=\"\",\"\",Messen_Beweglichkeit!L112)","v":""},{"$f":"IF('Jump-and-Reach'!I112=\"\",\"\",'Jump-and-Reach'!I112)","v":""},{"$f":"IF('Jump-and-Reach'!J112=\"\",\"\",'Jump-and-Reach'!J112)","v":""},{"$f":"IF('30m Sprint'!I112=\"\",\"\",'30m Sprint'!I112)","v":""},{"$f":"IF('30m Sprint'!J112=\"\",\"\",'30m Sprint'!J112)","v":""},{"$f":"IF(KaBu!I112=\"\",\"\",KaBu!I112)","v":""},{"$f":"IF(KaBu!J112=\"\",\"\",KaBu!J112)","v":""},{"$f":"IF(Seilspringen!I112=\"\",\"\",Seilspringen!I112)","v":""},{"$f":"IF(Seilspringen!J112=\"\",\"\",Seilspringen!J112)","v":""},{"$f":"IF(Liegestütz!I112=\"\",\"\",Liegestütz!I112)","v":""},{"$f":"IF(Liegestütz!J112=\"\",\"\",Liegestütz!J112)","v":""},{"$f":"IF(Balance!I112=\"\",\"\",Balance!I112)","v":""},{"$f":"IF(Balance!J112=\"\",\"\",Balance!J112)","v":""},{"$f":"IF('1000m'!I112=\"\",\"\",'1000m'!I112)","v":""},{"$f":"IF('1000m'!J112=\"\",\"\",'1000m'!J112)","v":""},{"$f":"IF(B112=\"\",\"\",(IF(AND(Messen_Beweglichkeit!L112=\"\",AB112=\"OK\"),VLOOKUP(G112&D112,$AJ$10:$AT$31,4,FALSE)+1,IF(AND(Messen_Beweglichkeit!J112=\"\",AB112=\"kein Test\"),\"\",Messen_Beweglichkeit!L112))+IF(AND('Jump-and-Reach'!J112=\"\",AB112=\"OK\"),VLOOKUP(G112&D112,$AJ$10:$AT$31,5,FALSE)+1,IF(AND('Jump-and-Reach'!J112=\"\",AB112=\"kein Test\"),\"\",'Jump-and-Reach'!J112))+IF(AND('30m Sprint'!J112=\"\",AB112=\"OK\"),VLOOKUP(G112&D112,$AJ$10:$AT$31,6,FALSE)+1,IF(AND('30m Sprint'!J112=\"\",AB112=\"kein Test\"),\"\",'30m Sprint'!J112))+IF(AND(KaBu!J112=\"\",AB112=\"OK\"),VLOOKUP(G112&D112,$AJ$10:$AT$31,7,FALSE)+1,IF(AND(KaBu!J112=\"\",AB112=\"kein Test\"),\"\",KaBu!J112))+IF(AND(Seilspringen!J112=\"\",AB112=\"OK\"),VLOOKUP(G112&D112,$AJ$10:$AT$31,8,FALSE)+1,IF(AND(Seilspringen!J112=\"\",AB112=\"kein Test\"),\"\",Seilspringen!J112))+IF(AND(Liegestütz!J112=\"\",AB112=\"OK\"),VLOOKUP(G112&D112,$AJ$10:$AT$31,9,FALSE)+1,IF(AND(Liegestütz!J112=\"\",AB112=\"kein Test\"),\"\",Liegestütz!J112))+IF(AND(Balance!J112=\"\",AB112=\"OK\"),VLOOKUP(G112&D112,$AJ$10:$AT$31,10,FALSE)+1,IF(AND(Balance!J112=\"\",AB112=\"kein Test\"),\"\",Balance!J112))+IF(AND('1000m'!J112=\"\",AB112=\"OK\"),VLOOKUP(G112&D112,$AJ$10:$AT$31,11,FALSE)+1,IF(AND('1000m'!J112=\"\",AB112=\"kein Test\"),\"\",'1000m'!J112)))/8)","v":""},null,null,"kein Test"]
[104,{"$f":"IF(Athletenliste!B113=\"\",\"\",Athletenliste!B113)","v":""},{"$f":"IF(Athletenliste!C113=\"\",\"\",Athletenliste!C113)","v":""},{"$f":"IF(Athletenliste!D113=\"\",\"\",Athletenliste!D113)","v":""},{"$f":"IF(Athletenliste!E113=\"\",\"\",Athletenliste!E113)","v":""},{"$f":"IF(Athletenliste!F113=\"\",\"\",Athletenliste!F113)","v":""},{"$f":"IF(Athletenliste!G113=\"\",\"\",Athletenliste!G113)","v":""},{"$f":"IF(Athletenliste!H113=\"\",\"\",Athletenliste!H113)","v":""},{"$f":"IF(Messen_Beweglichkeit!K113=\"\",\"\",Messen_Beweglichkeit!K113)","v":""},{"$f":"IF(Messen_Beweglichkeit!L113=\"\",\"\",Messen_Beweglichkeit!L113)","v":""},{"$f":"IF('Jump-and-Reach'!I113=\"\",\"\",'Jump-and-Reach'!I113)","v":""},{"$f":"IF('Jump-and-Reach'!J113=\"\",\"\",'Jump-and-Reach'!J113)","v":""},{"$f":"IF('30m Sprint'!I113=\"\",\"\",'30m Sprint'!I113)","v":""},{"$f":"IF('30m Sprint'!J113=\"\",\"\",'30m Sprint'!J113)","v":""},{"$f":"IF(KaBu!I113=\"\",\"\",KaBu!I113)","v":""},{"$f":"IF(KaBu!J113=\"\",\"\",KaBu!J113)","v":""},{"$f":"IF(Seilspringen!I113=\"\",\"\",Seilspringen!I113)","v":""},{"$f":"IF(Seilspringen!J113=\"\",\"\",Seilspringen!J113)","v":""},{"$f":"IF(Liegestütz!I113=\"\",\"\",Liegestütz!I113)","v":""},{"$f":"IF(Liegestütz!J113=\"\",\"\",Liegestütz!J113)","v":""},{"$f":"IF(Balance!I113=\"\",\"\",Balance!I113)","v":""},{"$f":"IF(Balance!J113=\"\",\"\",Balance!J113)","v":""},{"$f":"IF('1000m'!I113=\"\",\"\",'1000m'!I113)","v":""},{"$f":"IF('1000m'!J113=\"\",\"\",'1000m'!J113)","v":""},{"$f":"IF(B113=\"\",\"\",(IF(AND(Messen_Beweglichkeit!L113=\"\",AB113=\"OK\"),VLOOKUP(G113&D113,$AJ$10:$AT$31,4,FALSE)+1,IF(AND(Messen_Beweglichkeit!J113=\"\",AB113=\"kein Test\"),\"\",Messen_Beweglichkeit!L113))+IF(AND('Jump-and-Reach'!J113=\"\",AB113=\"OK\"),VLOOKUP(G113&D113,$AJ$10:$AT$31,5,FALSE)+1,IF(AND('Jump-and-Reach'!J113=\"\",AB113=\"kein Test\"),\"\",'Jump-and-Reach'!J113))+IF(AND('30m Sprint'!J113=\"\",AB113=\"OK\"),VLOOKUP(G113&D113,$AJ$10:$AT$31,6,FALSE)+1,IF(AND('30m Sprint'!J113=\"\",AB113=\"kein Test\"),\"\",'30m Sprint'!J113))+IF(AND(KaBu!J113=\"\",AB113=\"OK\"),VLOOKUP(G113&D113,$AJ$10:$AT$31,7,FALSE)+1,IF(AND(KaBu!J113=\"\",AB113=\"kein Test\"),\"\",KaBu!J113))+IF(AND(Seilspringen!J113=\"\",AB113=\"OK\"),VLOOKUP(G113&D113,$AJ$10:$AT$31,8,FALSE)+1,IF(AND(Seilspringen!J113=\"\",AB113=\"kein Test\"),\"\",Seilspringen!J113))+IF(AND(Liegestütz!J113=\"\",AB113=\"OK\"),VLOOKUP(G113&D113,$AJ$10:$AT$31,9,FALSE)+1,IF(AND(Liegestütz!J113=\"\",AB113=\"kein Test\"),\"\",Liegestütz!J113))+IF(AND(Balance!J113=\"\",AB113=\"OK\"),VLOOKUP(G113&D113,$AJ$10:$AT$31,10,FALSE)+1,IF(AND(Balance!J113=\"\",AB113=\"kein Test\"),\"\",Balance!J113))+IF(AND('1000m'!J113=\"\",AB113=\"OK\"),VLOOKUP(G113&D113,$AJ$10:$AT$31,11,FALSE)+1,IF(AND('1000m'!J113=\"\",AB113=\"kein Test\"),\"\",'1000m'!J113)))/8)","v":""},null,null,"kein Test"]
[105,{"$f":"IF(Athletenliste!B114=\"\",\"\",Athletenliste!B114)","v":""},{"$f":"IF(Athletenliste!C114=\"\",\"\",Athletenliste!C114)","v":""},{"$f":"IF(Athletenliste!D114=\"\",\"\",Athletenliste!D114)","v":""},{"$f":"IF(Athletenliste!E114=\"\",\"\",Athletenliste!E114)","v":""},{"$f":"IF(Athletenliste!F114=\"\",\"\",Athletenliste!F114)","v":""},{"$f":"IF(Athletenliste!G114=\"\",\"\",Athletenliste!G114)","v":""},{"$f":"IF(Athletenliste!H114=\"\",\"\",Athletenliste!H114)","v":""},{"$f":"IF(Messen_Beweglichkeit!K114=\"\",\"\",Messen_Beweglichkeit!K114)","v":""},{"$f":"IF(Messen_Beweglichkeit!L114=\"\",\"\",Messen_Beweglichkeit!L114)","v":""},{"$f":"IF('Jump-and-Reach'!I114=\"\",\"\",'Jump-and-Reach'!I114)","v":""},{"$f":"IF('Jump-and-Reach'!J114=\"\",\"\",'Jump-and-Reach'!J114)","v":""},{"$f":"IF('30m Sprint'!I114=\"\",\"\",'30m Sprint'!I114)","v":""},{"$f":"IF('30m Sprint'!J114=\"\",\"\",'30m Sprint'!J114)","v":""},{"$f":"IF(KaBu!I114=\"\",\"\",KaBu!I114)","v":""},{"$f":"IF(KaBu!J114=\"\",\"\",KaBu!J114)","v":""},{"$f":"IF(Seilspringen!I114=\"\",\"\",Seilspringen!I114)","v":""},{"$f":"IF(Seilspringen!J114=\"\",\"\",Seilspringen!J114)","v":""},{"$f":"IF(Liegestütz!I114=\"\",\"\",Liegestütz!I114)","v":""},{"$f":"IF(Liegestütz!J114=\"\",\"\",Liegestütz!J114)","v":""},{"$f":"IF(Balance!I114=\"\",\"\",Balance!I114)","v":""},{"$f":"IF(Balance!J114=\"\",\"\",Balance!J114)","v":""},{"$f":"IF('1000m'!I114=\"\",\"\",'1000m'!I114)","v":""},{"$f":"IF('1000m'!J114=\"\",\"\",'1000m'!J114)","v":""},{"$f":"IF(B114=\"\",\"\",(IF(AND(Messen_Beweglichkeit!L114=\"\",AB114=\"OK\"),VLOOKUP(G114&D114,$AJ$10:$AT$31,4,FALSE)+1,IF(AND(Messen_Beweglichkeit!J114=\"\",AB114=\"kein Test\"),\"\",Messen_Beweglichkeit!L114))+IF(AND('Jump-and-Reach'!J114=\"\",AB114=\"OK\"),VLOOKUP(G114&D114,$AJ$10:$AT$31,5,FALSE)+1,IF(AND('Jump-and-Reach'!J114=\"\",AB114=\"kein Test\"),\"\",'Jump-and-Reach'!J114))+IF(AND('30m Sprint'!J114=\"\",AB114=\"OK\"),VLOOKUP(G114&D114,$AJ$10:$AT$31,6,FALSE)+1,IF(AND('30m Sprint'!J114=\"\",AB114=\"kein Test\"),\"\",'30m Sprint'!J114))+IF(AND(KaBu!J114=\"\",AB114=\"OK\"),VLOOKUP(G114&D114,$AJ$10:$AT$31,7,FALSE)+1,IF(AND(KaBu!J114=\"\",AB114=\"kein Test\"),\"\",KaBu!J114))+IF(AND(Seilspringen!J114=\"\",AB114=\"OK\"),VLOOKUP(G114&D114,$AJ$10:$AT$31,8,FALSE)+1,IF(AND(Seilspringen!J114=\"\",AB114=\"kein Test\"),\"\",Seilspringen!J114))+IF(AND(Liegestütz!J114=\"\",AB114=\"OK\"),VLOOKUP(G114&D114,$AJ$10:$AT$31,9,FALSE)+1,IF(AND(Liegestütz!J114=\"\",AB114=\"kein Test\"),\"\",Liegestütz!J114))+IF(AND(Balance!J114=\"\",AB114=\"OK\"),VLOOKUP(G114&D114,$AJ$10:$AT$31,10,FALSE)+1,IF(AND(Balance!J114=\"\",AB114=\"kein Test\"),\"\",Balance!J114))+IF(AND('1000m'!J114=\"\",AB114=\"OK\"),VLOOKUP(G114&D114,$AJ$10:$AT$31,11,FALSE)+1,IF(AND('1000m'!J114=\"\",AB114=\"kein Test\"),\"\",'1000m'!J114)))/8)","v":""},null,null,"kein Test"]
[106,{"$f":"IF(Athletenliste!B115=\"\",\"\",Athletenliste!B115)","v":""},{"$f":"IF(Athletenliste!C115=\"\",\"\",Athletenliste!C115)","v":""},{"$f":"IF(Athletenliste!D115=\"\",\"\",Athletenliste!D115)","v":""},{"$f":"IF(Athletenliste!E115=\"\",\"\",Athletenliste!E115)","v":""},{"$f":"IF(Athletenliste!F115=\"\",\"\",Athletenliste!F115)","v":""},{"$f":"IF(Athletenliste!G115=\"\",\"\",Athletenliste!G115)","v":""},{"$f":"IF(Athletenliste!H115=\"\",\"\",Athletenliste!H115)","v":""},{"$f":"IF(Messen_Beweglichkeit!K115=\"\",\"\",Messen_Beweglichkeit!K115)","v":""},{"$f":"IF(Messen_Beweglichkeit!L115=\"\",\"\",Messen_Beweglichkeit!L115)","v":""},{"$f":"IF('Jump-and-Reach'!I115=\"\",\"\",'Jump-and-Reach'!I115)","v":""},{"$f":"IF('Jump-and-Reach'!J115=\"\",\"\",'Jump-and-Reach'!J115)","v":""},{"$f":"IF('30m Sprint'!I115=\"\",\"\",'30m Sprint'!I115)","v":""},{"$f":"IF('30m Sprint'!J115=\"\",\"\",'30m Sprint'!J115)","v":""},{"$f":"IF(KaBu!I115=\"\",\"\",KaBu!I115)","v":""},{"$f":"IF(KaBu!J115=\"\",\"\",KaBu!J115)","v":""},{"$f":"IF(Seilspringen!I115=\"\",\"\",Seilspringen!I115)","v":""},{"$f":"IF(Seilspringen!J115=\"\",\"\",Seilspringen!J115)","v":""},{"$f":"IF(Liegestütz!I115=\"\",\"\",Liegestütz!I115)","v":""},{"$f":"IF(Liegestütz!J115=\"\",\"\",Liegestütz!J115)","v":""},{"$f":"IF(Balance!I115=\"\",\"\",Balance!I115)","v":""},{"$f":"IF(Balance!J115=\"\",\"\",Balance!J115)","v":""},{"$f":"IF('1000m'!I115=\"\",\"\",'1000m'!I115)","v":""},{"$f":"IF('1000m'!J115=\"\",\"\",'1000m'!J115)","v":""},{"$f":"IF(B115=\"\",\"\",(IF(AND(Messen_Beweglichkeit!L115=\"\",AB115=\"OK\"),VLOOKUP(G115&D115,$AJ$10:$AT$31,4,FALSE)+1,IF(AND(Messen_Beweglichkeit!J115=\"\",AB115=\"kein Test\"),\"\",Messen_Beweglichkeit!L115))+IF(AND('Jump-and-Reach'!J115=\"\",AB115=\"OK\"),VLOOKUP(G115&D115,$AJ$10:$AT$31,5,FALSE)+1,IF(AND('Jump-and-Reach'!J115=\"\",AB115=\"kein Test\"),\"\",'Jump-and-Reach'!J115))+IF(AND('30m Sprint'!J115=\"\",AB115=\"OK\"),VLOOKUP(G115&D115,$AJ$10:$AT$31,6,FALSE)+1,IF(AND('30m Sprint'!J115=\"\",AB115=\"kein Test\"),\"\",'30m Sprint'!J115))+IF(AND(KaBu!J115=\"\",AB115=\"OK\"),VLOOKUP(G115&D115,$AJ$10:$AT$31,7,FALSE)+1,IF(AND(KaBu!J115=\"\",AB115=\"kein Test\"),\"\",KaBu!J115))+IF(AND(Seilspringen!J115=\"\",AB115=\"OK\"),VLOOKUP(G115&D115,$AJ$10:$AT$31,8,FALSE)+1,IF(AND(Seilspringen!J115=\"\",AB115=\"kein Test\"),\"\",Seilspringen!J115))+IF(AND(Liegestütz!J115=\"\",AB115=\"OK\"),VLOOKUP(G115&D115,$AJ$10:$AT$31,9,FALSE)+1,IF(AND(Liegestütz!J115=\"\",AB115=\"kein Test\"),\"\",Liegestütz!J115))+IF(AND(Balance!J115=\"\",AB115=\"OK\"),VLOOKUP(G115&D115,$AJ$10:$AT$31,10,FALSE)+1,IF(AND(Balance!J115=\"\",AB115=\"kein Test\"),\"\",Balance!J115))+IF(AND('1000m'!J115=\"\",AB115=\"OK\"),VLOOKUP(G115&D115,$AJ$10:$AT$31,11,FALSE)+1,IF(AND('1000m'!J115=\"\",AB115=\"kein Test\"),\"\",'1000m'!J115)))/8)","v":""},null,null,"kein Test"]
[107,{"$f":"IF(Athletenliste!B116=\"\",\"\",Athletenliste!B116)","v":""},{"$f":"IF(Athletenliste!C116=\"\",\"\",Athletenliste!C116)","v":""},{"$f":"IF(Athletenliste!D116=\"\",\"\",Athletenliste!D116)","v":""},{"$f":"IF(Athletenliste!E116=\"\",\"\",Athletenliste!E116)","v":""},{"$f":"IF(Athletenliste!F116=\"\",\"\",Athletenliste!F116)","v":""},{"$f":"IF(Athletenliste!G116=\"\",\"\",Athletenliste!G116)","v":""},{"$f":"IF(Athletenliste!H116=\"\",\"\",Athletenliste!H116)","v":""},{"$f":"IF(Messen_Beweglichkeit!K116=\"\",\"\",Messen_Beweglichkeit!K116)","v":""},{"$f":"IF(Messen_Beweglichkeit!L116=\"\",\"\",Messen_Beweglichkeit!L116)","v":""},{"$f":"IF('Jump-and-Reach'!I116=\"\",\"\",'Jump-and-Reach'!I116)","v":""},{"$f":"IF('Jump-and-Reach'!J116=\"\",\"\",'Jump-and-Reach'!J116)","v":""},{"$f":"IF('30m Sprint'!I116=\"\",\"\",'30m Sprint'!I116)","v":""},{"$f":"IF('30m Sprint'!J116=\"\",\"\",'30m Sprint'!J116)","v":""},{"$f":"IF(KaBu!I116=\"\",\"\",KaBu!I116)","v":""},{"$f":"IF(KaBu!J116=\"\",\"\",KaBu!J116)","v":""},{"$f":"IF(Seilspringen!I116=\"\",\"\",Seilspringen!I116)","v":""},{"$f":"IF(Seilspringen!J116=\"\",\"\",Seilspringen!J116)","v":""},{"$f":"IF(Liegestütz!I116=\"\",\"\",Liegestütz!I116)","v":""},{"$f":"IF(Liegestütz!J116=\"\",\"\",Liegestütz!J116)","v":""},{"$f":"IF(Balance!I116=\"\",\"\",Balance!I116)","v":""},{"$f":"IF(Balance!J116=\"\",\"\",Balance!J116)","v":""},{"$f":"IF('1000m'!I116=\"\",\"\",'1000m'!I116)","v":""},{"$f":"IF('1000m'!J116=\"\",\"\",'1000m'!J116)","v":""},{"$f":"IF(B116=\"\",\"\",(IF(AND(Messen_Beweglichkeit!L116=\"\",AB116=\"OK\"),VLOOKUP(G116&D116,$AJ$10:$AT$31,4,FALSE)+1,IF(AND(Messen_Beweglichkeit!J116=\"\",AB116=\"kein Test\"),\"\",Messen_Beweglichkeit!L116))+IF(AND('Jump-and-Reach'!J116=\"\",AB116=\"OK\"),VLOOKUP(G116&D116,$AJ$10:$AT$31,5,FALSE)+1,IF(AND('Jump-and-Reach'!J116=\"\",AB116=\"kein Test\"),\"\",'Jump-and-Reach'!J116))+IF(AND('30m Sprint'!J116=\"\",AB116=\"OK\"),VLOOKUP(G116&D116,$AJ$10:$AT$31,6,FALSE)+1,IF(AND('30m Sprint'!J116=\"\",AB116=\"kein Test\"),\"\",'30m Sprint'!J116))+IF(AND(KaBu!J116=\"\",AB116=\"OK\"),VLOOKUP(G116&D116,$AJ$10:$AT$31,7,FALSE)+1,IF(AND(KaBu!J116=\"\",AB116=\"kein Test\"),\"\",KaBu!J116))+IF(AND(Seilspringen!J116=\"\",AB116=\"OK\"),VLOOKUP(G116&D116,$AJ$10:$AT$31,8,FALSE)+1,IF(AND(Seilspringen!J116=\"\",AB116=\"kein Test\"),\"\",Seilspringen!J116))+IF(AND(Liegestütz!J116=\"\",AB116=\"OK\"),VLOOKUP(G116&D116,$AJ$10:$AT$31,9,FALSE)+1,IF(AND(Liegestütz!J116=\"\",AB116=\"kein Test\"),\"\",Liegestütz!J116))+IF(AND(Balance!J116=\"\",AB116=\"OK\"),VLOOKUP(G116&D116,$AJ$10:$AT$31,10,FALSE)+1,IF(AND(Balance!J116=\"\",AB116=\"kein Test\"),\"\",Balance!J116))+IF(AND('1000m'!J116=\"\",AB116=\"OK\"),VLOOKUP(G116&D116,$AJ$10:$AT$31,11,FALSE)+1,IF(AND('1000m'!J116=\"\",AB116=\"kein Test\"),\"\",'1000m'!J116)))/8)","v":""},null,null,"kein Test"]
[108,{"$f":"IF(Athletenliste!B117=\"\",\"\",Athletenliste!B117)","v":""},{"$f":"IF(Athletenliste!C117=\"\",\"\",Athletenliste!C117)","v":""},{"$f":"IF(Athletenliste!D117=\"\",\"\",Athletenliste!D117)","v":""},{"$f":"IF(Athletenliste!E117=\"\",\"\",Athletenliste!E117)","v":""},{"$f":"IF(Athletenliste!F117=\"\",\"\",Athletenliste!F117)","v":""},{"$f":"IF(Athletenliste!G117=\"\",\"\",Athletenliste!G117)","v":""},{"$f":"IF(Athletenliste!H117=\"\",\"\",Athletenliste!H117)","v":""},{"$f":"IF(Messen_Beweglichkeit!K117=\"\",\"\",Messen_Beweglichkeit!K117)","v":""},{"$f":"IF(Messen_Beweglichkeit!L117=\"\",\"\",Messen_Beweglichkeit!L117)","v":""},{"$f":"IF('Jump-and-Reach'!I117=\"\",\"\",'Jump-and-Reach'!I117)","v":""},{"$f":"IF('Jump-and-Reach'!J117=\"\",\"\",'Jump-and-Reach'!J117)","v":""},{"$f":"IF('30m Sprint'!I117=\"\",\"\",'30m Sprint'!I117)","v":""},{"$f":"IF('30m Sprint'!J117=\"\",\"\",'30m Sprint'!J117)","v":""},{"$f":"IF(KaBu!I117=\"\",\"\",KaBu!I117)","v":""},{"$f":"IF(KaBu!J117=\"\",\"\",KaBu!J117)","v":""},{"$f":"IF(Seilspringen!I117=\"\",\"\",Seilspringen!I117)","v":""},{"$f":"IF(Seilspringen!J117=\"\",\"\",Seilspringen!J117)","v":""},{"$f":"IF(Liegestütz!I117=\"\",\"\",Liegestütz!I117)","v":""},{"$f":"IF(Liegestütz!J117=\"\",\"\",Liegestütz!J117)","v":""},{"$f":"IF(Balance!I117=\"\",\"\",Balance!I117)","v":""},{"$f":"IF(Balance!J117=\"\",\"\",Balance!J117)","v":""},{"$f":"IF('1000m'!I117=\"\",\"\",'1000m'!I117)","v":""},{"$f":"IF('1000m'!J117=\"\",\"\",'1000m'!J117)","v":""},{"$f":"IF(B117=\"\",\"\",(IF(AND(Messen_Beweglichkeit!L117=\"\",AB117=\"OK\"),VLOOKUP(G117&D117,$AJ$10:$AT$31,4,FALSE)+1,IF(AND(Messen_Beweglichkeit!J117=\"\",AB117=\"kein Test\"),\"\",Messen_Beweglichkeit!L117))+IF(AND('Jump-and-Reach'!J117=\"\",AB117=\"OK\"),VLOOKUP(G117&D117,$AJ$10:$AT$31,5,FALSE)+1,IF(AND('Jump-and-Reach'!J117=\"\",AB117=\"kein Test\"),\"\",'Jump-and-Reach'!J117))+IF(AND('30m Sprint'!J117=\"\",AB117=\"OK\"),VLOOKUP(G117&D117,$AJ$10:$AT$31,6,FALSE)+1,IF(AND('30m Sprint'!J117=\"\",AB117=\"kein Test\"),\"\",'30m Sprint'!J117))+IF(AND(KaBu!J117=\"\",AB117=\"OK\"),VLOOKUP(G117&D117,$AJ$10:$AT$31,7,FALSE)+1,IF(AND(KaBu!J117=\"\",AB117=\"kein Test\"),\"\",KaBu!J117))+IF(AND(Seilspringen!J117=\"\",AB117=\"OK\"),VLOOKUP(G117&D117,$AJ$10:$AT$31,8,FALSE)+1,IF(AND(Seilspringen!J117=\"\",AB117=\"kein Test\"),\"\",Seilspringen!J117))+IF(AND(Liegestütz!J117=\"\",AB117=\"OK\"),VLOOKUP(G117&D117,$AJ$10:$AT$31,9,FALSE)+1,IF(AND(Liegestütz!J117=\"\",AB117=\"kein Test\"),\"\",Liegestütz!J117))+IF(AND(Balance!J117=\"\",AB117=\"OK\"),VLOOKUP(G117&D117,$AJ$10:$AT$31,10,FALSE)+1,IF(AND(Balance!J117=\"\",AB117=\"kein Test\"),\"\",Balance!J117))+IF(AND('1000m'!J117=\"\",AB117=\"OK\"),VLOOKUP(G117&D117,$AJ$10:$AT$31,11,FALSE)+1,IF(AND('1000m'!J117=\"\",AB117=\"kein Test\"),\"\",'1000m'!J117)))/8)","v":""},null,null,"kein Test"]
[109,{"$f":"IF(Athletenliste!B118=\"\",\"\",Athletenliste!B118)","v":""},{"$f":"IF(Athletenliste!C118=\"\",\"\",Athletenliste!C118)","v":""},{"$f":"IF(Athletenliste!D118=\"\",\"\",Athletenliste!D118)","v":""},{"$f":"IF(Athletenliste!E118=\"\",\"\",Athletenliste!E118)","v":""},{"$f":"IF(Athletenliste!F118=\"\",\"\",Athletenliste!F118)","v":""},{"$f":"IF(Athletenliste!G118=\"\",\"\",Athletenliste!G118)","v":""},{"$f":"IF(Athletenliste!H118=\"\",\"\",Athletenliste!H118)","v":""},{"$f":"IF(Messen_Beweglichkeit!K118=\"\",\"\",Messen_Beweglichkeit!K118)","v":""},{"$f":"IF(Messen_Beweglichkeit!L118=\"\",\"\",Messen_Beweglichkeit!L118)","v":""},{"$f":"IF('Jump-and-Reach'!I118=\"\",\"\",'Jump-and-Reach'!I118)","v":""},{"$f":"IF('Jump-and-Reach'!J118=\"\",\"\",'Jump-and-Reach'!J118)","v":""},{"$f":"IF('30m Sprint'!I118=\"\",\"\",'30m Sprint'!I118)","v":""},{"$f":"IF('30m Sprint'!J118=\"\",\"\",'30m Sprint'!J118)","v":""},{"$f":"IF(KaBu!I118=\"\",\"\",KaBu!I118)","v":""},{"$f":"IF(KaBu!J118=\"\",\"\",KaBu!J118)","v":""},{"$f":"IF(Seilspringen!I118=\"\",\"\",Seilspringen!I118)","v":""},{"$f":"IF(Seilspringen!J118=\"\",\"\",Seilspringen!J118)","v":""},{"$f":"IF(Liegestütz!I118=\"\",\"\",Liegestütz!I118)","v":""},{"$f":"IF(Liegestütz!J118=\"\",\"\",Liegestütz!J118)","v":""},{"$f":"IF(Balance!I118=\"\",\"\",Balance!I118)","v":""},{"$f":"IF(Balance!J118=\"\",\"\",Balance!J118)","v":""},{"$f":"IF('1000m'!I118=\"\",\"\",'1000m'!I118)","v":""},{"$f":"IF('1000m'!J118=\"\",\"\",'1000m'!J118)","v":""},{"$f":"IF(B118=\"\",\"\",(IF(AND(Messen_Beweglichkeit!L118=\"\",AB118=\"OK\"),VLOOKUP(G118&D118,$AJ$10:$AT$31,4,FALSE)+1,IF(AND(Messen_Beweglichkeit!J118=\"\",AB118=\"kein Test\"),\"\",Messen_Beweglichkeit!L118))+IF(AND('Jump-and-Reach'!J118=\"\",AB118=\"OK\"),VLOOKUP(G118&D118,$AJ$10:$AT$31,5,FALSE)+1,IF(AND('Jump-and-Reach'!J118=\"\",AB118=\"kein Test\"),\"\",'Jump-and-Reach'!J118))+IF(AND('30m Sprint'!J118=\"\",AB118=\"OK\"),VLOOKUP(G118&D118,$AJ$10:$AT$31,6,FALSE)+1,IF(AND('30m Sprint'!J118=\"\",AB118=\"kein Test\"),\"\",'30m Sprint'!J118))+IF(AND(KaBu!J118=\"\",AB118=\"OK\"),VLOOKUP(G118&D118,$AJ$10:$AT$31,7,FALSE)+1,IF(AND(KaBu!J118=\"\",AB118=\"kein Test\"),\"\",KaBu!J118))+IF(AND(Seilspringen!J118=\"\",AB118=\"OK\"),VLOOKUP(G118&D118,$AJ$10:$AT$31,8,FALSE)+1,IF(AND(Seilspringen!J118=\"\",AB118=\"kein Test\"),\"\",Seilspringen!J118))+IF(AND(Liegestütz!J118=\"\",AB118=\"OK\"),VLOOKUP(G118&D118,$AJ$10:$AT$31,9,FALSE)+1,IF(AND(Liegestütz!J118=\"\",AB118=\"kein Test\"),\"\",Liegestütz!J118))+IF(AND(Balance!J118=\"\",AB118=\"OK\"),VLOOKUP(G118&D118,$AJ$10:$AT$31,10,FALSE)+1,IF(AND(Balance!J118=\"\",AB118=\"kein Test\"),\"\",Balance!J118))+IF(AND('1000m'!J118=\"\",AB118=\"OK\"),VLOOKUP(G118&D118,$AJ$10:$AT$31,11,FALSE)+1,IF(AND('1000m'!J118=\"\",AB118=\"kein Test\"),\"\",'1000m'!J118)))/8)","v":""},null,null,"kein Test"]
[110,{"$f":"IF(Athletenliste!B119=\"\",\"\",Athletenliste!B119)","v":""},{"$f":"IF(Athletenliste!C119=\"\",\"\",Athletenliste!C119)","v":""},{"$f":"IF(Athletenliste!D119=\"\",\"\",Athletenliste!D119)","v":""},{"$f":"IF(Athletenliste!E119=\"\",\"\",Athletenliste!E119)","v":""},{"$f":"IF(Athletenliste!F119=\"\",\"\",Athletenliste!F119)","v":""},{"$f":"IF(Athletenliste!G119=\"\",\"\",Athletenliste!G119)","v":""},{"$f":"IF(Athletenliste!H119=\"\",\"\",Athletenliste!H119)","v":""},{"$f":"IF(Messen_Beweglichkeit!K119=\"\",\"\",Messen_Beweglichkeit!K119)","v":""},{"$f":"IF(Messen_Beweglichkeit!L119=\"\",\"\",Messen_Beweglichkeit!L119)","v":""},{"$f":"IF('Jump-and-Reach'!I119=\"\",\"\",'Jump-and-Reach'!I119)","v":""},{"$f":"IF('Jump-and-Reach'!J119=\"\",\"\",'Jump-and-Reach'!J119)","v":""},{"$f":"IF('30m Sprint'!I119=\"\",\"\",'30m Sprint'!I119)","v":""},{"$f":"IF('30m Sprint'!J119=\"\",\"\",'30m Sprint'!J119)","v":""},{"$f":"IF(KaBu!I119=\"\",\"\",KaBu!I119)","v":""},{"$f":"IF(KaBu!J119=\"\",\"\",KaBu!J119)","v":""},{"$f":"IF(Seilspringen!I119=\"\",\"\",Seilspringen!I119)","v":""},{"$f":"IF(Seilspringen!J119=\"\",\"\",Seilspringen!J119)","v":""},{"$f":"IF(Liegestütz!I119=\"\",\"\",Liegestütz!I119)","v":""},{"$f":"IF(Liegestütz!J119=\"\",\"\",Liegestütz!J119)","v":""},{"$f":"IF(Balance!I119=\"\",\"\",Balance!I119)","v":""},{"$f":"IF(Balance!J119=\"\",\"\",Balance!J119)","v":""},{"$f":"IF('1000m'!I119=\"\",\"\",'1000m'!I119)","v":""},{"$f":"IF('1000m'!J119=\"\",\"\",'1000m'!J119)","v":""},{"$f":"IF(B119=\"\",\"\",(IF(AND(Messen_Beweglichkeit!L119=\"\",AB119=\"OK\"),VLOOKUP(G119&D119,$AJ$10:$AT$31,4,FALSE)+1,IF(AND(Messen_Beweglichkeit!J119=\"\",AB119=\"kein Test\"),\"\",Messen_Beweglichkeit!L119))+IF(AND('Jump-and-Reach'!J119=\"\",AB119=\"OK\"),VLOOKUP(G119&D119,$AJ$10:$AT$31,5,FALSE)+1,IF(AND('Jump-and-Reach'!J119=\"\",AB119=\"kein Test\"),\"\",'Jump-and-Reach'!J119))+IF(AND('30m Sprint'!J119=\"\",AB119=\"OK\"),VLOOKUP(G119&D119,$AJ$10:$AT$31,6,FALSE)+1,IF(AND('30m Sprint'!J119=\"\",AB119=\"kein Test\"),\"\",'30m Sprint'!J119))+IF(AND(KaBu!J119=\"\",AB119=\"OK\"),VLOOKUP(G119&D119,$AJ$10:$AT$31,7,FALSE)+1,IF(AND(KaBu!J119=\"\",AB119=\"kein Test\"),\"\",KaBu!J119))+IF(AND(Seilspringen!J119=\"\",AB119=\"OK\"),VLOOKUP(G119&D119,$AJ$10:$AT$31,8,FALSE)+1,IF(AND(Seilspringen!J119=\"\",AB119=\"kein Test\"),\"\",Seilspringen!J119))+IF(AND(Liegestütz!J119=\"\",AB119=\"OK\"),VLOOKUP(G119&D119,$AJ$10:$AT$31,9,FALSE)+1,IF(AND(Liegestütz!J119=\"\",AB119=\"kein Test\"),\"\",Liegestütz!J119))+IF(AND(Balance!J119=\"\",AB119=\"OK\"),VLOOKUP(G119&D119,$AJ$10:$AT$31,10,FALSE)+1,IF(AND(Balance!J119=\"\",AB119=\"kein Test\"),\"\",Balance!J119))+IF(AND('1000m'!J119=\"\",AB119=\"OK\"),VLOOKUP(G119&D119,$AJ$10:$AT$31,11,FALSE)+1,IF(AND('1000m'!J119=\"\",AB119=\"kein Test\"),\"\",'1000m'!J119)))/8)","v":""},null,null,"kein Test"]
[111,{"$f":"IF(Athletenliste!B120=\"\",\"\",Athletenliste!B120)","v":""},{"$f":"IF(Athletenliste!C120=\"\",\"\",Athletenliste!C120)","v":""},{"$f":"IF(Athletenliste!D120=\"\",\"\",Athletenliste!D120)","v":""},{"$f":"IF(Athletenliste!E120=\"\",\"\",Athletenliste!E120)","v":""},{"$f":"IF(Athletenliste!F120=\"\",\"\",Athletenliste!F120)","v":""},{"$f":"IF(Athletenliste!G120=\"\",\"\",Athletenliste!G120)","v":""},{"$f":"IF(Athletenliste!H120=\"\",\"\",Athletenliste!H120)","v":""},{"$f":"IF(Messen_Beweglichkeit!K120=\"\",\"\",Messen_Beweglichkeit!K120)","v":""},{"$f":"IF(Messen_Beweglichkeit!L120=\"\",\"\",Messen_Beweglichkeit!L120)","v":""},{"$f":"IF('Jump-and-Reach'!I120=\"\",\"\",'Jump-and-Reach'!I120)","v":""},{"$f":"IF('Jump-and-Reach'!J120=\"\",\"\",'Jump-and-Reach'!J120)","v":""},{"$f":"IF('30m Sprint'!I120=\"\",\"\",'30m Sprint'!I120)","v":""},{"$f":"IF('30m Sprint'!J120=\"\",\"\",'30m Sprint'!J120)","v":""},{"$f":"IF(KaBu!I120=\"\",\"\",KaBu!I120)","v":""},{"$f":"IF(KaBu!J120=\"\",\"\",KaBu!J120)","v":""},{"$f":"IF(Seilspringen!I120=\"\",\"\",Seilspringen!I120)","v":""},{"$f":"IF(Seilspringen!J120=\"\",\"\",Seilspringen!J120)","v":""},{"$f":"IF(Liegestütz!I120=\"\",\"\",Liegestütz!I120)","v":""},{"$f":"IF(Liegestütz!J120=\"\",\"\",Liegestütz!J120)","v":""},{"$f":"IF(Balance!I120=\"\",\"\",Balance!I120)","v":""},{"$f":"IF(Balance!J120=\"\",\"\",Balance!J120)","v":""},{"$f":"IF('1000m'!I120=\"\",\"\",'1000m'!I120)","v":""},{"$f":"IF('1000m'!J120=\"\",\"\",'1000m'!J120)","v":""},{"$f":"IF(B120=\"\",\"\",(IF(AND(Messen_Beweglichkeit!L120=\"\",AB120=\"OK\"),VLOOKUP(G120&D120,$AJ$10:$AT$31,4,FALSE)+1,IF(AND(Messen_Beweglichkeit!J120=\"\",AB120=\"kein Test\"),\"\",Messen_Beweglichkeit!L120))+IF(AND('Jump-and-Reach'!J120=\"\",AB120=\"OK\"),VLOOKUP(G120&D120,$AJ$10:$AT$31,5,FALSE)+1,IF(AND('Jump-and-Reach'!J120=\"\",AB120=\"kein Test\"),\"\",'Jump-and-Reach'!J120))+IF(AND('30m Sprint'!J120=\"\",AB120=\"OK\"),VLOOKUP(G120&D120,$AJ$10:$AT$31,6,FALSE)+1,IF(AND('30m Sprint'!J120=\"\",AB120=\"kein Test\"),\"\",'30m Sprint'!J120))+IF(AND(KaBu!J120=\"\",AB120=\"OK\"),VLOOKUP(G120&D120,$AJ$10:$AT$31,7,FALSE)+1,IF(AND(KaBu!J120=\"\",AB120=\"kein Test\"),\"\",KaBu!J120))+IF(AND(Seilspringen!J120=\"\",AB120=\"OK\"),VLOOKUP(G120&D120,$AJ$10:$AT$31,8,FALSE)+1,IF(AND(Seilspringen!J120=\"\",AB120=\"kein Test\"),\"\",Seilspringen!J120))+IF(AND(Liegestütz!J120=\"\",AB120=\"OK\"),VLOOKUP(G120&D120,$AJ$10:$AT$31,9,FALSE)+1,IF(AND(Liegestütz!J120=\"\",AB120=\"kein Test\"),\"\",Liegestütz!J120))+IF(AND(Balance!J120=\"\",AB120=\"OK\"),VLOOKUP(G120&D120,$AJ$10:$AT$31,10,FALSE)+1,IF(AND(Balance!J120=\"\",AB120=\"kein Test\"),\"\",Balance!J120))+IF(AND('1000m'!J120=\"\",AB120=\"OK\"),VLOOKUP(G120&D120,$AJ$10:$AT$31,11,FALSE)+1,IF(AND('1000m'!J120=\"\",AB120=\"kein Test\"),\"\",'1000m'!J120)))/8)","v":""},null,null,"kein Test"]
[112,{"$f":"IF(Athletenliste!B121=\"\",\"\",Athletenliste!B121)","v":""},{"$f":"IF(Athletenliste!C121=\"\",\"\",Athletenliste!C121)","v":""},{"$f":"IF(Athletenliste!D121=\"\",\"\",Athletenliste!D121)","v":""},{"$f":"IF(Athletenliste!E121=\"\",\"\",Athletenliste!E121)","v":""},{"$f":"IF(Athletenliste!F121=\"\",\"\",Athletenliste!F121)","v":""},{"$f":"IF(Athletenliste!G121=\"\",\"\",Athletenliste!G121)","v":""},{"$f":"IF(Athletenliste!H121=\"\",\"\",Athletenliste!H121)","v":""},{"$f":"IF(Messen_Beweglichkeit!K121=\"\",\"\",Messen_Beweglichkeit!K121)","v":""},{"$f":"IF(Messen_Beweglichkeit!L121=\"\",\"\",Messen_Beweglichkeit!L121)","v":""},{"$f":"IF('Jump-and-Reach'!I121=\"\",\"\",'Jump-and-Reach'!I121)","v":""},{"$f":"IF('Jump-and-Reach'!J121=\"\",\"\",'Jump-and-Reach'!J121)","v":""},{"$f":"IF('30m Sprint'!I121=\"\",\"\",'30m Sprint'!I121)","v":""},{"$f":"IF('30m Sprint'!J121=\"\",\"\",'30m Sprint'!J121)","v":""},{"$f":"IF(KaBu!I121=\"\",\"\",KaBu!I121)","v":""},{"$f":"IF(KaBu!J121=\"\",\"\",KaBu!J121)","v":""},{"$f":"IF(Seilspringen!I121=\"\",\"\",Seilspringen!I121)","v":""},{"$f":"IF(Seilspringen!J121=\"\",\"\",Seilspringen!J121)","v":""},{"$f":"IF(Liegestütz!I121=\"\",\"\",Liegestütz!I121)","v":""},{"$f":"IF(Liegestütz!J121=\"\",\"\",Liegestütz!J121)","v":""},{"$f":"IF(Balance!I121=\"\",\"\",Balance!I121)","v":""},{"$f":"IF(Balance!J121=\"\",\"\",Balance!J121)","v":""},{"$f":"IF('1000m'!I121=\"\",\"\",'1000m'!I121)","v":""},{"$f":"IF('1000m'!J121=\"\",\"\",'1000m'!J121)","v":""},{"$f":"IF(B121=\"\",\"\",(IF(AND(Messen_Beweglichkeit!L121=\"\",AB121=\"OK\"),VLOOKUP(G121&D121,$AJ$10:$AT$31,4,FALSE)+1,IF(AND(Messen_Beweglichkeit!J121=\"\",AB121=\"kein Test\"),\"\",Messen_Beweglichkeit!L121))+IF(AND('Jump-and-Reach'!J121=\"\",AB121=\"OK\"),VLOOKUP(G121&D121,$AJ$10:$AT$31,5,FALSE)+1,IF(AND('Jump-and-Reach'!J121=\"\",AB121=\"kein Test\"),\"\",'Jump-and-Reach'!J121))+IF(AND('30m Sprint'!J121=\"\",AB121=\"OK\"),VLOOKUP(G121&D121,$AJ$10:$AT$31,6,FALSE)+1,IF(AND('30m Sprint'!J121=\"\",AB121=\"kein Test\"),\"\",'30m Sprint'!J121))+IF(AND(KaBu!J121=\"\",AB121=\"OK\"),VLOOKUP(G121&D121,$AJ$10:$AT$31,7,FALSE)+1,IF(AND(KaBu!J121=\"\",AB121=\"kein Test\"),\"\",KaBu!J121))+IF(AND(Seilspringen!J121=\"\",AB121=\"OK\"),VLOOKUP(G121&D121,$AJ$10:$AT$31,8,FALSE)+1,IF(AND(Seilspringen!J121=\"\",AB121=\"kein Test\"),\"\",Seilspringen!J121))+IF(AND(Liegestütz!J121=\"\",AB121=\"OK\"),VLOOKUP(G121&D121,$AJ$10:$AT$31,9,FALSE)+1,IF(AND(Liegestütz!J121=\"\",AB121=\"kein Test\"),\"\",Liegestütz!J121))+IF(AND(Balance!J121=\"\",AB121=\"OK\"),VLOOKUP(G121&D121,$AJ$10:$AT$31,10,FALSE)+1,IF(AND(Balance!J121=\"\",AB121=\"kein Test\"),\"\",Balance!J121))+IF(AND('1000m'!J121=\"\",AB121=\"OK\"),VLOOKUP(G121&D121,$AJ$10:$AT$31,11,FALSE)+1,IF(AND('1000m'!J121=\"\",AB121=\"kein Test\"),\"\",'1000m'!J121)))/8)","v":""},null,null,"kein Test"]
[113,{"$f":"IF(Athletenliste!B122=\"\",\"\",Athletenliste!B122)","v":""},{"$f":"IF(Athletenliste!C122=\"\",\"\",Athletenliste!C122)","v":""},{"$f":"IF(Athletenliste!D122=\"\",\"\",Athletenliste!D122)","v":""},{"$f":"IF(Athletenliste!E122=\"\",\"\",Athletenliste!E122)","v":""},{"$f":"IF(Athletenliste!F122=\"\",\"\",Athletenliste!F122)","v":""},{"$f":"IF(Athletenliste!G122=\"\",\"\",Athletenliste!G122)","v":""},{"$f":"IF(Athletenliste!H122=\"\",\"\",Athletenliste!H122)","v":""},{"$f":"IF(Messen_Beweglichkeit!K122=\"\",\"\",Messen_Beweglichkeit!K122)","v":""},{"$f":"IF(Messen_Beweglichkeit!L122=\"\",\"\",Messen_Beweglichkeit!L122)","v":""},{"$f":"IF('Jump-and-Reach'!I122=\"\",\"\",'Jump-and-Reach'!I122)","v":""},{"$f":"IF('Jump-and-Reach'!J122=\"\",\"\",'Jump-and-Reach'!J122)","v":""},{"$f":"IF('30m Sprint'!I122=\"\",\"\",'30m Sprint'!I122)","v":""},{"$f":"IF('30m Sprint'!J122=\"\",\"\",'30m Sprint'!J122)","v":""},{"$f":"IF(KaBu!I122=\"\",\"\",KaBu!I122)","v":""},{"$f":"IF(KaBu!J122=\"\",\"\",KaBu!J122)","v":""},{"$f":"IF(Seilspringen!I122=\"\",\"\",Seilspringen!I122)","v":""},{"$f":"IF(Seilspringen!J122=\"\",\"\",Seilspringen!J122)","v":""},{"$f":"IF(Liegestütz!I122=\"\",\"\",Liegestütz!I122)","v":""},{"$f":"IF(Liegestütz!J122=\"\",\"\",Liegestütz!J122)","v":""},{"$f":"IF(Balance!I122=\"\",\"\",Balance!I122)","v":""},{"$f":"IF(Balance!J122=\"\",\"\",Balance!J122)","v":""},{"$f":"IF('1000m'!I122=\"\",\"\",'1000m'!I122)","v":""},{"$f":"IF('1000m'!J122=\"\",\"\",'1000m'!J122)","v":""},{"$f":"IF(B122=\"\",\"\",(IF(AND(Messen_Beweglichkeit!L122=\"\",AB122=\"OK\"),VLOOKUP(G122&D122,$AJ$10:$AT$31,4,FALSE)+1,IF(AND(Messen_Beweglichkeit!J122=\"\",AB122=\"kein Test\"),\"\",Messen_Beweglichkeit!L122))+IF(AND('Jump-and-Reach'!J122=\"\",AB122=\"OK\"),VLOOKUP(G122&D122,$AJ$10:$AT$31,5,FALSE)+1,IF(AND('Jump-and-Reach'!J122=\"\",AB122=\"kein Test\"),\"\",'Jump-and-Reach'!J122))+IF(AND('30m Sprint'!J122=\"\",AB122=\"OK\"),VLOOKUP(G122&D122,$AJ$10:$AT$31,6,FALSE)+1,IF(AND('30m Sprint'!J122=\"\",AB122=\"kein Test\"),\"\",'30m Sprint'!J122))+IF(AND(KaBu!J122=\"\",AB122=\"OK\"),VLOOKUP(G122&D122,$AJ$10:$AT$31,7,FALSE)+1,IF(AND(KaBu!J122=\"\",AB122=\"kein Test\"),\"\",KaBu!J122))+IF(AND(Seilspringen!J122=\"\",AB122=\"OK\"),VLOOKUP(G122&D122,$AJ$10:$AT$31,8,FALSE)+1,IF(AND(Seilspringen!J122=\"\",AB122=\"kein Test\"),\"\",Seilspringen!J122))+IF(AND(Liegestütz!J122=\"\",AB122=\"OK\"),VLOOKUP(G122&D122,$AJ$10:$AT$31,9,FALSE)+1,IF(AND(Liegestütz!J122=\"\",AB122=\"kein Test\"),\"\",Liegestütz!J122))+IF(AND(Balance!J122=\"\",AB122=\"OK\"),VLOOKUP(G122&D122,$AJ$10:$AT$31,10,FALSE)+1,IF(AND(Balance!J122=\"\",AB122=\"kein Test\"),\"\",Balance!J122))+IF(AND('1000m'!J122=\"\",AB122=\"OK\"),VLOOKUP(G122&D122,$AJ$10:$AT$31,11,FALSE)+1,IF(AND('1000m'!J122=\"\",AB122=\"kein Test\"),\"\",'1000m'!J122)))/8)","v":""},null,null,"kein Test"]
[114,{"$f":"IF(Athletenliste!B123=\"\",\"\",Athletenliste!B123)","v":""},{"$f":"IF(Athletenliste!C123=\"\",\"\",Athletenliste!C123)","v":""},{"$f":"IF(Athletenliste!D123=\"\",\"\",Athletenliste!D123)","v":""},{"$f":"IF(Athletenliste!E123=\"\",\"\",Athletenliste!E123)","v":""},{"$f":"IF(Athletenliste!F123=\"\",\"\",Athletenliste!F123)","v":""},{"$f":"IF(Athletenliste!G123=\"\",\"\",Athletenliste!G123)","v":""},{"$f":"IF(Athletenliste!H123=\"\",\"\",Athletenliste!H123)","v":""},{"$f":"IF(Messen_Beweglichkeit!K123=\"\",\"\",Messen_Beweglichkeit!K123)","v":""},{"$f":"IF(Messen_Beweglichkeit!L123=\"\",\"\",Messen_Beweglichkeit!L123)","v":""},{"$f":"IF('Jump-and-Reach'!I123=\"\",\"\",'Jump-and-Reach'!I123)","v":""},{"$f":"IF('Jump-and-Reach'!J123=\"\",\"\",'Jump-and-Reach'!J123)","v":""},{"$f":"IF('30m Sprint'!I123=\"\",\"\",'30m Sprint'!I123)","v":""},{"$f":"IF('30m Sprint'!J123=\"\",\"\",'30m Sprint'!J123)","v":""},{"$f":"IF(KaBu!I123=\"\",\"\",KaBu!I123)","v":""},{"$f":"IF(KaBu!J123=\"\",\"\",KaBu!J123)","v":""},{"$f":"IF(Seilspringen!I123=\"\",\"\",Seilspringen!I123)","v":""},{"$f":"IF(Seilspringen!J123=\"\",\"\",Seilspringen!J123)","v":""},{"$f":"IF(Liegestütz!I123=\"\",\"\",Liegestütz!I123)","v":""},{"$f":"IF(Liegestütz!J123=\"\",\"\",Liegestütz!J123)","v":""},{"$f":"IF(Balance!I123=\"\",\"\",Balance!I123)","v":""},{"$f":"IF(Balance!J123=\"\",\"\",Balance!J123)","v":""},{"$f":"IF('1000m'!I123=\"\",\"\",'1000m'!I123)","v":""},{"$f":"IF('1000m'!J123=\"\",\"\",'1000m'!J123)","v":""},{"$f":"IF(B123=\"\",\"\",(IF(AND(Messen_Beweglichkeit!L123=\"\",AB123=\"OK\"),VLOOKUP(G123&D123,$AJ$10:$AT$31,4,FALSE)+1,IF(AND(Messen_Beweglichkeit!J123=\"\",AB123=\"kein Test\"),\"\",Messen_Beweglichkeit!L123))+IF(AND('Jump-and-Reach'!J123=\"\",AB123=\"OK\"),VLOOKUP(G123&D123,$AJ$10:$AT$31,5,FALSE)+1,IF(AND('Jump-and-Reach'!J123=\"\",AB123=\"kein Test\"),\"\",'Jump-and-Reach'!J123))+IF(AND('30m Sprint'!J123=\"\",AB123=\"OK\"),VLOOKUP(G123&D123,$AJ$10:$AT$31,6,FALSE)+1,IF(AND('30m Sprint'!J123=\"\",AB123=\"kein Test\"),\"\",'30m Sprint'!J123))+IF(AND(KaBu!J123=\"\",AB123=\"OK\"),VLOOKUP(G123&D123,$AJ$10:$AT$31,7,FALSE)+1,IF(AND(KaBu!J123=\"\",AB123=\"kein Test\"),\"\",KaBu!J123))+IF(AND(Seilspringen!J123=\"\",AB123=\"OK\"),VLOOKUP(G123&D123,$AJ$10:$AT$31,8,FALSE)+1,IF(AND(Seilspringen!J123=\"\",AB123=\"kein Test\"),\"\",Seilspringen!J123))+IF(AND(Liegestütz!J123=\"\",AB123=\"OK\"),VLOOKUP(G123&D123,$AJ$10:$AT$31,9,FALSE)+1,IF(AND(Liegestütz!J123=\"\",AB123=\"kein Test\"),\"\",Liegestütz!J123))+IF(AND(Balance!J123=\"\",AB123=\"OK\"),VLOOKUP(G123&D123,$AJ$10:$AT$31,10,FALSE)+1,IF(AND(Balance!J123=\"\",AB123=\"kein Test\"),\"\",Balance!J123))+IF(AND('1000m'!J123=\"\",AB123=\"OK\"),VLOOKUP(G123&D123,$AJ$10:$AT$31,11,FALSE)+1,IF(AND('1000m'!J123=\"\",AB123=\"kein Test\"),\"\",'1000m'!J123)))/8)","v":""},null,null,"kein Test"]
[115,{"$f":"IF(Athletenliste!B124=\"\",\"\",Athletenliste!B124)","v":""},{"$f":"IF(Athletenliste!C124=\"\",\"\",Athletenliste!C124)","v":""},{"$f":"IF(Athletenliste!D124=\"\",\"\",Athletenliste!D124)","v":""},{"$f":"IF(Athletenliste!E124=\"\",\"\",Athletenliste!E124)","v":""},{"$f":"IF(Athletenliste!F124=\"\",\"\",Athletenliste!F124)","v":""},{"$f":"IF(Athletenliste!G124=\"\",\"\",Athletenliste!G124)","v":""},{"$f":"IF(Athletenliste!H124=\"\",\"\",Athletenliste!H124)","v":""},{"$f":"IF(Messen_Beweglichkeit!K124=\"\",\"\",Messen_Beweglichkeit!K124)","v":""},{"$f":"IF(Messen_Beweglichkeit!L124=\"\",\"\",Messen_Beweglichkeit!L124)","v":""},{"$f":"IF('Jump-and-Reach'!I124=\"\",\"\",'Jump-and-Reach'!I124)","v":""},{"$f":"IF('Jump-and-Reach'!J124=\"\",\"\",'Jump-and-Reach'!J124)","v":""},{"$f":"IF('30m Sprint'!I124=\"\",\"\",'30m Sprint'!I124)","v":""},{"$f":"IF('30m Sprint'!J124=\"\",\"\",'30m Sprint'!J124)","v":""},{"$f":"IF(KaBu!I124=\"\",\"\",KaBu!I124)","v":""},{"$f":"IF(KaBu!J124=\"\",\"\",KaBu!J124)","v":""},{"$f":"IF(Seilspringen!I124=\"\",\"\",Seilspringen!I124)","v":""},{"$f":"IF(Seilspringen!J124=\"\",\"\",Seilspringen!J124)","v":""},{"$f":"IF(Liegestütz!I124=\"\",\"\",Liegestütz!I124)","v":""},{"$f":"IF(Liegestütz!J124=\"\",\"\",Liegestütz!J124)","v":""},{"$f":"IF(Balance!I124=\"\",\"\",Balance!I124)","v":""},{"$f":"IF(Balance!J124=\"\",\"\",Balance!J124)","v":""},{"$f":"IF('1000m'!I124=\"\",\"\",'1000m'!I124)","v":""},{"$f":"IF('1000m'!J124=\"\",\"\",'1000m'!J124)","v":""},{"$f":"IF(B124=\"\",\"\",(IF(AND(Messen_Beweglichkeit!L124=\"\",AB124=\"OK\"),VLOOKUP(G124&D124,$AJ$10:$AT$31,4,FALSE)+1,IF(AND(Messen_Beweglichkeit!J124=\"\",AB124=\"kein Test\"),\"\",Messen_Beweglichkeit!L124))+IF(AND('Jump-and-Reach'!J124=\"\",AB124=\"OK\"),VLOOKUP(G124&D124,$AJ$10:$AT$31,5,FALSE)+1,IF(AND('Jump-and-Reach'!J124=\"\",AB124=\"kein Test\"),\"\",'Jump-and-Reach'!J124))+IF(AND('30m Sprint'!J124=\"\",AB124=\"OK\"),VLOOKUP(G124&D124,$AJ$10:$AT$31,6,FALSE)+1,IF(AND('30m Sprint'!J124=\"\",AB124=\"kein Test\"),\"\",'30m Sprint'!J124))+IF(AND(KaBu!J124=\"\",AB124=\"OK\"),VLOOKUP(G124&D124,$AJ$10:$AT$31,7,FALSE)+1,IF(AND(KaBu!J124=\"\",AB124=\"kein Test\"),\"\",KaBu!J124))+IF(AND(Seilspringen!J124=\"\",AB124=\"OK\"),VLOOKUP(G124&D124,$AJ$10:$AT$31,8,FALSE)+1,IF(AND(Seilspringen!J124=\"\",AB124=\"kein Test\"),\"\",Seilspringen!J124))+IF(AND(Liegestütz!J124=\"\",AB124=\"OK\"),VLOOKUP(G124&D124,$AJ$10:$AT$31,9,FALSE)+1,IF(AND(Liegestütz!J124=\"\",AB124=\"kein Test\"),\"\",Liegestütz!J124))+IF(AND(Balance!J124=\"\",AB124=\"OK\"),VLOOKUP(G124&D124,$AJ$10:$AT$31,10,FALSE)+1,IF(AND(Balance!J124=\"\",AB124=\"kein Test\"),\"\",Balance!J124))+IF(AND('1000m'!J124=\"\",AB124=\"OK\"),VLOOKUP(G124&D124,$AJ$10:$AT$31,11,FALSE)+1,IF(AND('1000m'!J124=\"\",AB124=\"kein Test\"),\"\",'1000m'!J124)))/8)","v":""},null,null,"kein Test"]
[116,{"$f":"IF(Athletenliste!B125=\"\",\"\",Athletenliste!B125)","v":""},{"$f":"IF(Athletenliste!C125=\"\",\"\",Athletenliste!C125)","v":""},{"$f":"IF(Athletenliste!D125=\"\",\"\",Athletenliste!D125)","v":""},{"$f":"IF(Athletenliste!E125=\"\",\"\",Athletenliste!E125)","v":""},{"$f":"IF(Athletenliste!F125=\"\",\"\",Athletenliste!F125)","v":""},{"$f":"IF(Athletenliste!G125=\"\",\"\",Athletenliste!G125)","v":""},{"$f":"IF(Athletenliste!H125=\"\",\"\",Athletenliste!H125)","v":""},{"$f":"IF(Messen_Beweglichkeit!K125=\"\",\"\",Messen_Beweglichkeit!K125)","v":""},{"$f":"IF(Messen_Beweglichkeit!L125=\"\",\"\",Messen_Beweglichkeit!L125)","v":""},{"$f":"IF('Jump-and-Reach'!I125=\"\",\"\",'Jump-and-Reach'!I125)","v":""},{"$f":"IF('Jump-and-Reach'!J125=\"\",\"\",'Jump-and-Reach'!J125)","v":""},{"$f":"IF('30m Sprint'!I125=\"\",\"\",'30m Sprint'!I125)","v":""},{"$f":"IF('30m Sprint'!J125=\"\",\"\",'30m Sprint'!J125)","v":""},{"$f":"IF(KaBu!I125=\"\",\"\",KaBu!I125)","v":""},{"$f":"IF(KaBu!J125=\"\",\"\",KaBu!J125)","v":""},{"$f":"IF(Seilspringen!I125=\"\",\"\",Seilspringen!I125)","v":""},{"$f":"IF(Seilspringen!J125=\"\",\"\",Seilspringen!J125)","v":""},{"$f":"IF(Liegestütz!I125=\"\",\"\",Liegestütz!I125)","v":""},{"$f":"IF(Liegestütz!J125=\"\",\"\",Liegestütz!J125)","v":""},{"$f":"IF(Balance!I125=\"\",\"\",Balance!I125)","v":""},{"$f":"IF(Balance!J125=\"\",\"\",Balance!J125)","v":""},{"$f":"IF('1000m'!I125=\"\",\"\",'1000m'!I125)","v":""},{"$f":"IF('1000m'!J125=\"\",\"\",'1000m'!J125)","v":""},{"$f":"IF(B125=\"\",\"\",(IF(AND(Messen_Beweglichkeit!L125=\"\",AB125=\"OK\"),VLOOKUP(G125&D125,$AJ$10:$AT$31,4,FALSE)+1,IF(AND(Messen_Beweglichkeit!J125=\"\",AB125=\"kein Test\"),\"\",Messen_Beweglichkeit!L125))+IF(AND('Jump-and-Reach'!J125=\"\",AB125=\"OK\"),VLOOKUP(G125&D125,$AJ$10:$AT$31,5,FALSE)+1,IF(AND('Jump-and-Reach'!J125=\"\",AB125=\"kein Test\"),\"\",'Jump-and-Reach'!J125))+IF(AND('30m Sprint'!J125=\"\",AB125=\"OK\"),VLOOKUP(G125&D125,$AJ$10:$AT$31,6,FALSE)+1,IF(AND('30m Sprint'!J125=\"\",AB125=\"kein Test\"),\"\",'30m Sprint'!J125))+IF(AND(KaBu!J125=\"\",AB125=\"OK\"),VLOOKUP(G125&D125,$AJ$10:$AT$31,7,FALSE)+1,IF(AND(KaBu!J125=\"\",AB125=\"kein Test\"),\"\",KaBu!J125))+IF(AND(Seilspringen!J125=\"\",AB125=\"OK\"),VLOOKUP(G125&D125,$AJ$10:$AT$31,8,FALSE)+1,IF(AND(Seilspringen!J125=\"\",AB125=\"kein Test\"),\"\",Seilspringen!J125))+IF(AND(Liegestütz!J125=\"\",AB125=\"OK\"),VLOOKUP(G125&D125,$AJ$10:$AT$31,9,FALSE)+1,IF(AND(Liegestütz!J125=\"\",AB125=\"kein Test\"),\"\",Liegestütz!J125))+IF(AND(Balance!J125=\"\",AB125=\"OK\"),VLOOKUP(G125&D125,$AJ$10:$AT$31,10,FALSE)+1,IF(AND(Balance!J125=\"\",AB125=\"kein Test\"),\"\",Balance!J125))+IF(AND('1000m'!J125=\"\",AB125=\"OK\"),VLOOKUP(G125&D125,$AJ$10:$AT$31,11,FALSE)+1,IF(AND('1000m'!J125=\"\",AB125=\"kein Test\"),\"\",'1000m'!J125)))/8)","v":""},null,null,"kein Test"]
[117,{"$f":"IF(Athletenliste!B126=\"\",\"\",Athletenliste!B126)","v":""},{"$f":"IF(Athletenliste!C126=\"\",\"\",Athletenliste!C126)","v":""},{"$f":"IF(Athletenliste!D126=\"\",\"\",Athletenliste!D126)","v":""},{"$f":"IF(Athletenliste!E126=\"\",\"\",Athletenliste!E126)","v":""},{"$f":"IF(Athletenliste!F126=\"\",\"\",Athletenliste!F126)","v":""},{"$f":"IF(Athletenliste!G126=\"\",\"\",Athletenliste!G126)","v":""},{"$f":"IF(Athletenliste!H126=\"\",\"\",Athletenliste!H126)","v":""},{"$f":"IF(Messen_Beweglichkeit!K126=\"\",\"\",Messen_Beweglichkeit!K126)","v":""},{"$f":"IF(Messen_Beweglichkeit!L126=\"\",\"\",Messen_Beweglichkeit!L126)","v":""},{"$f":"IF('Jump-and-Reach'!I126=\"\",\"\",'Jump-and-Reach'!I126)","v":""},{"$f":"IF('Jump-and-Reach'!J126=\"\",\"\",'Jump-and-Reach'!J126)","v":""},{"$f":"IF('30m Sprint'!I126=\"\",\"\",'30m Sprint'!I126)","v":""},{"$f":"IF('30m Sprint'!J126=\"\",\"\",'30m Sprint'!J126)","v":""},{"$f":"IF(KaBu!I126=\"\",\"\",KaBu!I126)","v":""},{"$f":"IF(KaBu!J126=\"\",\"\",KaBu!J126)","v":""},{"$f":"IF(Seilspringen!I126=\"\",\"\",Seilspringen!I126)","v":""},{"$f":"IF(Seilspringen!J126=\"\",\"\",Seilspringen!J126)","v":""},{"$f":"IF(Liegestütz!I126=\"\",\"\",Liegestütz!I126)","v":""},{"$f":"IF(Liegestütz!J126=\"\",\"\",Liegestütz!J126)","v":""},{"$f":"IF(Balance!I126=\"\",\"\",Balance!I126)","v":""},{"$f":"IF(Balance!J126=\"\",\"\",Balance!J126)","v":""},{"$f":"IF('1000m'!I126=\"\",\"\",'1000m'!I126)","v":""},{"$f":"IF('1000m'!J126=\"\",\"\",'1000m'!J126)","v":""},{"$f":"IF(B126=\"\",\"\",(IF(AND(Messen_Beweglichkeit!L126=\"\",AB126=\"OK\"),VLOOKUP(G126&D126,$AJ$10:$AT$31,4,FALSE)+1,IF(AND(Messen_Beweglichkeit!J126=\"\",AB126=\"kein Test\"),\"\",Messen_Beweglichkeit!L126))+IF(AND('Jump-and-Reach'!J126=\"\",AB126=\"OK\"),VLOOKUP(G126&D126,$AJ$10:$AT$31,5,FALSE)+1,IF(AND('Jump-and-Reach'!J126=\"\",AB126=\"kein Test\"),\"\",'Jump-and-Reach'!J126))+IF(AND('30m Sprint'!J126=\"\",AB126=\"OK\"),VLOOKUP(G126&D126,$AJ$10:$AT$31,6,FALSE)+1,IF(AND('30m Sprint'!J126=\"\",AB126=\"kein Test\"),\"\",'30m Sprint'!J126))+IF(AND(KaBu!J126=\"\",AB126=\"OK\"),VLOOKUP(G126&D126,$AJ$10:$AT$31,7,FALSE)+1,IF(AND(KaBu!J126=\"\",AB126=\"kein Test\"),\"\",KaBu!J126))+IF(AND(Seilspringen!J126=\"\",AB126=\"OK\"),VLOOKUP(G126&D126,$AJ$10:$AT$31,8,FALSE)+1,IF(AND(Seilspringen!J126=\"\",AB126=\"kein Test\"),\"\",Seilspringen!J126))+IF(AND(Liegestütz!J126=\"\",AB126=\"OK\"),VLOOKUP(G126&D126,$AJ$10:$AT$31,9,FALSE)+1,IF(AND(Liegestütz!J126=\"\",AB126=\"kein Test\"),\"\",Liegestütz!J126))+IF(AND(Balance!J126=\"\",AB126=\"OK\"),VLOOKUP(G126&D126,$AJ$10:$AT$31,10,FALSE)+1,IF(AND(Balance!J126=\"\",AB126=\"kein Test\"),\"\",Balance!J126))+IF(AND('1000m'!J126=\"\",AB126=\"OK\"),VLOOKUP(G126&D126,$AJ$10:$AT$31,11,FALSE)+1,IF(AND('1000m'!J126=\"\",AB126=\"kein Test\"),\"\",'1000m'!J126)))/8)","v":""},null,null,"kein Test"]
[118,{"$f":"IF(Athletenliste!B127=\"\",\"\",Athletenliste!B127)","v":""},{"$f":"IF(Athletenliste!C127=\"\",\"\",Athletenliste!C127)","v":""},{"$f":"IF(Athletenliste!D127=\"\",\"\",Athletenliste!D127)","v":""},{"$f":"IF(Athletenliste!E127=\"\",\"\",Athletenliste!E127)","v":""},{"$f":"IF(Athletenliste!F127=\"\",\"\",Athletenliste!F127)","v":""},{"$f":"IF(Athletenliste!G127=\"\",\"\",Athletenliste!G127)","v":""},{"$f":"IF(Athletenliste!H127=\"\",\"\",Athletenliste!H127)","v":""},{"$f":"IF(Messen_Beweglichkeit!K127=\"\",\"\",Messen_Beweglichkeit!K127)","v":""},{"$f":"IF(Messen_Beweglichkeit!L127=\"\",\"\",Messen_Beweglichkeit!L127)","v":""},{"$f":"IF('Jump-and-Reach'!I127=\"\",\"\",'Jump-and-Reach'!I127)","v":""},{"$f":"IF('Jump-and-Reach'!J127=\"\",\"\",'Jump-and-Reach'!J127)","v":""},{"$f":"IF('30m Sprint'!I127=\"\",\"\",'30m Sprint'!I127)","v":""},{"$f":"IF('30m Sprint'!J127=\"\",\"\",'30m Sprint'!J127)","v":""},{"$f":"IF(KaBu!I127=\"\",\"\",KaBu!I127)","v":""},{"$f":"IF(KaBu!J127=\"\",\"\",KaBu!J127)","v":""},{"$f":"IF(Seilspringen!I127=\"\",\"\",Seilspringen!I127)","v":""},{"$f":"IF(Seilspringen!J127=\"\",\"\",Seilspringen!J127)","v":""},{"$f":"IF(Liegestütz!I127=\"\",\"\",Liegestütz!I127)","v":""},{"$f":"IF(Liegestütz!J127=\"\",\"\",Liegestütz!J127)","v":""},{"$f":"IF(Balance!I127=\"\",\"\",Balance!I127)","v":""},{"$f":"IF(Balance!J127=\"\",\"\",Balance!J127)","v":""},{"$f":"IF('1000m'!I127=\"\",\"\",'1000m'!I127)","v":""},{"$f":"IF('1000m'!J127=\"\",\"\",'1000m'!J127)","v":""},{"$f":"IF(B127=\"\",\"\",(IF(AND(Messen_Beweglichkeit!L127=\"\",AB127=\"OK\"),VLOOKUP(G127&D127,$AJ$10:$AT$31,4,FALSE)+1,IF(AND(Messen_Beweglichkeit!J127=\"\",AB127=\"kein Test\"),\"\",Messen_Beweglichkeit!L127))+IF(AND('Jump-and-Reach'!J127=\"\",AB127=\"OK\"),VLOOKUP(G127&D127,$AJ$10:$AT$31,5,FALSE)+1,IF(AND('Jump-and-Reach'!J127=\"\",AB127=\"kein Test\"),\"\",'Jump-and-Reach'!J127))+IF(AND('30m Sprint'!J127=\"\",AB127=\"OK\"),VLOOKUP(G127&D127,$AJ$10:$AT$31,6,FALSE)+1,IF(AND('30m Sprint'!J127=\"\",AB127=\"kein Test\"),\"\",'30m Sprint'!J127))+IF(AND(KaBu!J127=\"\",AB127=\"OK\"),VLOOKUP(G127&D127,$AJ$10:$AT$31,7,FALSE)+1,IF(AND(KaBu!J127=\"\",AB127=\"kein Test\"),\"\",KaBu!J127))+IF(AND(Seilspringen!J127=\"\",AB127=\"OK\"),VLOOKUP(G127&D127,$AJ$10:$AT$31,8,FALSE)+1,IF(AND(Seilspringen!J127=\"\",AB127=\"kein Test\"),\"\",Seilspringen!J127))+IF(AND(Liegestütz!J127=\"\",AB127=\"OK\"),VLOOKUP(G127&D127,$AJ$10:$AT$31,9,FALSE)+1,IF(AND(Liegestütz!J127=\"\",AB127=\"kein Test\"),\"\",Liegestütz!J127))+IF(AND(Balance!J127=\"\",AB127=\"OK\"),VLOOKUP(G127&D127,$AJ$10:$AT$31,10,FALSE)+1,IF(AND(Balance!J127=\"\",AB127=\"kein Test\"),\"\",Balance!J127))+IF(AND('1000m'!J127=\"\",AB127=\"OK\"),VLOOKUP(G127&D127,$AJ$10:$AT$31,11,FALSE)+1,IF(AND('1000m'!J127=\"\",AB127=\"kein Test\"),\"\",'1000m'!J127)))/8)","v":""},null,null,"kein Test"]
[119,{"$f":"IF(Athletenliste!B128=\"\",\"\",Athletenliste!B128)","v":""},{"$f":"IF(Athletenliste!C128=\"\",\"\",Athletenliste!C128)","v":""},{"$f":"IF(Athletenliste!D128=\"\",\"\",Athletenliste!D128)","v":""},{"$f":"IF(Athletenliste!E128=\"\",\"\",Athletenliste!E128)","v":""},{"$f":"IF(Athletenliste!F128=\"\",\"\",Athletenliste!F128)","v":""},{"$f":"IF(Athletenliste!G128=\"\",\"\",Athletenliste!G128)","v":""},{"$f":"IF(Athletenliste!H128=\"\",\"\",Athletenliste!H128)","v":""},{"$f":"IF(Messen_Beweglichkeit!K128=\"\",\"\",Messen_Beweglichkeit!K128)","v":""},{"$f":"IF(Messen_Beweglichkeit!L128=\"\",\"\",Messen_Beweglichkeit!L128)","v":""},{"$f":"IF('Jump-and-Reach'!I128=\"\",\"\",'Jump-and-Reach'!I128)","v":""},{"$f":"IF('Jump-and-Reach'!J128=\"\",\"\",'Jump-and-Reach'!J128)","v":""},{"$f":"IF('30m Sprint'!I128=\"\",\"\",'30m Sprint'!I128)","v":""},{"$f":"IF('30m Sprint'!J128=\"\",\"\",'30m Sprint'!J128)","v":""},{"$f":"IF(KaBu!I128=\"\",\"\",KaBu!I128)","v":""},{"$f":"IF(KaBu!J128=\"\",\"\",KaBu!J128)","v":""},{"$f":"IF(Seilspringen!I128=\"\",\"\",Seilspringen!I128)","v":""},{"$f":"IF(Seilspringen!J128=\"\",\"\",Seilspringen!J128)","v":""},{"$f":"IF(Liegestütz!I128=\"\",\"\",Liegestütz!I128)","v":""},{"$f":"IF(Liegestütz!J128=\"\",\"\",Liegestütz!J128)","v":""},{"$f":"IF(Balance!I128=\"\",\"\",Balance!I128)","v":""},{"$f":"IF(Balance!J128=\"\",\"\",Balance!J128)","v":""},{"$f":"IF('1000m'!I128=\"\",\"\",'1000m'!I128)","v":""},{"$f":"IF('1000m'!J128=\"\",\"\",'1000m'!J128)","v":""},{"$f":"IF(B128=\"\",\"\",(IF(AND(Messen_Beweglichkeit!L128=\"\",AB128=\"OK\"),VLOOKUP(G128&D128,$AJ$10:$AT$31,4,FALSE)+1,IF(AND(Messen_Beweglichkeit!J128=\"\",AB128=\"kein Test\"),\"\",Messen_Beweglichkeit!L128))+IF(AND('Jump-and-Reach'!J128=\"\",AB128=\"OK\"),VLOOKUP(G128&D128,$AJ$10:$AT$31,5,FALSE)+1,IF(AND('Jump-and-Reach'!J128=\"\",AB128=\"kein Test\"),\"\",'Jump-and-Reach'!J128))+IF(AND('30m Sprint'!J128=\"\",AB128=\"OK\"),VLOOKUP(G128&D128,$AJ$10:$AT$31,6,FALSE)+1,IF(AND('30m Sprint'!J128=\"\",AB128=\"kein Test\"),\"\",'30m Sprint'!J128))+IF(AND(KaBu!J128=\"\",AB128=\"OK\"),VLOOKUP(G128&D128,$AJ$10:$AT$31,7,FALSE)+1,IF(AND(KaBu!J128=\"\",AB128=\"kein Test\"),\"\",KaBu!J128))+IF(AND(Seilspringen!J128=\"\",AB128=\"OK\"),VLOOKUP(G128&D128,$AJ$10:$AT$31,8,FALSE)+1,IF(AND(Seilspringen!J128=\"\",AB128=\"kein Test\"),\"\",Seilspringen!J128))+IF(AND(Liegestütz!J128=\"\",AB128=\"OK\"),VLOOKUP(G128&D128,$AJ$10:$AT$31,9,FALSE)+1,IF(AND(Liegestütz!J128=\"\",AB128=\"kein Test\"),\"\",Liegestütz!J128))+IF(AND(Balance!J128=\"\",AB128=\"OK\"),VLOOKUP(G128&D128,$AJ$10:$AT$31,10,FALSE)+1,IF(AND(Balance!J128=\"\",AB128=\"kein Test\"),\"\",Balance!J128))+IF(AND('1000m'!J128=\"\",AB128=\"OK\"),VLOOKUP(G128&D128,$AJ$10:$AT$31,11,FALSE)+1,IF(AND('1000m'!J128=\"\",AB128=\"kein Test\"),\"\",'1000m'!J128)))/8)","v":""},null,null,"kein Test"]
[120,{"$f":"IF(Athletenliste!B129=\"\",\"\",Athletenliste!B129)","v":""},{"$f":"IF(Athletenliste!C129=\"\",\"\",Athletenliste!C129)","v":""},{"$f":"IF(Athletenliste!D129=\"\",\"\",Athletenliste!D129)","v":""},{"$f":"IF(Athletenliste!E129=\"\",\"\",Athletenliste!E129)","v":""},{"$f":"IF(Athletenliste!F129=\"\",\"\",Athletenliste!F129)","v":""},{"$f":"IF(Athletenliste!G129=\"\",\"\",Athletenliste!G129)","v":""},{"$f":"IF(Athletenliste!H129=\"\",\"\",Athletenliste!H129)","v":""},{"$f":"IF(Messen_Beweglichkeit!K129=\"\",\"\",Messen_Beweglichkeit!K129)","v":""},{"$f":"IF(Messen_Beweglichkeit!L129=\"\",\"\",Messen_Beweglichkeit!L129)","v":""},{"$f":"IF('Jump-and-Reach'!I129=\"\",\"\",'Jump-and-Reach'!I129)","v":""},{"$f":"IF('Jump-and-Reach'!J129=\"\",\"\",'Jump-and-Reach'!J129)","v":""},{"$f":"IF('30m Sprint'!I129=\"\",\"\",'30m Sprint'!I129)","v":""},{"$f":"IF('30m Sprint'!J129=\"\",\"\",'30m Sprint'!J129)","v":""},{"$f":"IF(KaBu!I129=\"\",\"\",KaBu!I129)","v":""},{"$f":"IF(KaBu!J129=\"\",\"\",KaBu!J129)","v":""},{"$f":"IF(Seilspringen!I129=\"\",\"\",Seilspringen!I129)","v":""},{"$f":"IF(Seilspringen!J129=\"\",\"\",Seilspringen!J129)","v":""},{"$f":"IF(Liegestütz!I129=\"\",\"\",Liegestütz!I129)","v":""},{"$f":"IF(Liegestütz!J129=\"\",\"\",Liegestütz!J129)","v":""},{"$f":"IF(Balance!I129=\"\",\"\",Balance!I129)","v":""},{"$f":"IF(Balance!J129=\"\",\"\",Balance!J129)","v":""},{"$f":"IF('1000m'!I129=\"\",\"\",'1000m'!I129)","v":""},{"$f":"IF('1000m'!J129=\"\",\"\",'1000m'!J129)","v":""},{"$f":"IF(B129=\"\",\"\",(IF(AND(Messen_Beweglichkeit!L129=\"\",AB129=\"OK\"),VLOOKUP(G129&D129,$AJ$10:$AT$31,4,FALSE)+1,IF(AND(Messen_Beweglichkeit!J129=\"\",AB129=\"kein Test\"),\"\",Messen_Beweglichkeit!L129))+IF(AND('Jump-and-Reach'!J129=\"\",AB129=\"OK\"),VLOOKUP(G129&D129,$AJ$10:$AT$31,5,FALSE)+1,IF(AND('Jump-and-Reach'!J129=\"\",AB129=\"kein Test\"),\"\",'Jump-and-Reach'!J129))+IF(AND('30m Sprint'!J129=\"\",AB129=\"OK\"),VLOOKUP(G129&D129,$AJ$10:$AT$31,6,FALSE)+1,IF(AND('30m Sprint'!J129=\"\",AB129=\"kein Test\"),\"\",'30m Sprint'!J129))+IF(AND(KaBu!J129=\"\",AB129=\"OK\"),VLOOKUP(G129&D129,$AJ$10:$AT$31,7,FALSE)+1,IF(AND(KaBu!J129=\"\",AB129=\"kein Test\"),\"\",KaBu!J129))+IF(AND(Seilspringen!J129=\"\",AB129=\"OK\"),VLOOKUP(G129&D129,$AJ$10:$AT$31,8,FALSE)+1,IF(AND(Seilspringen!J129=\"\",AB129=\"kein Test\"),\"\",Seilspringen!J129))+IF(AND(Liegestütz!J129=\"\",AB129=\"OK\"),VLOOKUP(G129&D129,$AJ$10:$AT$31,9,FALSE)+1,IF(AND(Liegestütz!J129=\"\",AB129=\"kein Test\"),\"\",Liegestütz!J129))+IF(AND(Balance!J129=\"\",AB129=\"OK\"),VLOOKUP(G129&D129,$AJ$10:$AT$31,10,FALSE)+1,IF(AND(Balance!J129=\"\",AB129=\"kein Test\"),\"\",Balance!J129))+IF(AND('1000m'!J129=\"\",AB129=\"OK\"),VLOOKUP(G129&D129,$AJ$10:$AT$31,11,FALSE)+1,IF(AND('1000m'!J129=\"\",AB129=\"kein Test\"),\"\",'1000m'!J129)))/8)","v":""},null,null,"kein Test"]
[121,{"$f":"IF(Athletenliste!B130=\"\",\"\",Athletenliste!B130)","v":""},{"$f":"IF(Athletenliste!C130=\"\",\"\",Athletenliste!C130)","v":""},{"$f":"IF(Athletenliste!D130=\"\",\"\",Athletenliste!D130)","v":""},{"$f":"IF(Athletenliste!E130=\"\",\"\",Athletenliste!E130)","v":""},{"$f":"IF(Athletenliste!F130=\"\",\"\",Athletenliste!F130)","v":""},{"$f":"IF(Athletenliste!G130=\"\",\"\",Athletenliste!G130)","v":""},{"$f":"IF(Athletenliste!H130=\"\",\"\",Athletenliste!H130)","v":""},{"$f":"IF(Messen_Beweglichkeit!K130=\"\",\"\",Messen_Beweglichkeit!K130)","v":""},{"$f":"IF(Messen_Beweglichkeit!L130=\"\",\"\",Messen_Beweglichkeit!L130)","v":""},{"$f":"IF('Jump-and-Reach'!I130=\"\",\"\",'Jump-and-Reach'!I130)","v":""},{"$f":"IF('Jump-and-Reach'!J130=\"\",\"\",'Jump-and-Reach'!J130)","v":""},{"$f":"IF('30m Sprint'!I130=\"\",\"\",'30m Sprint'!I130)","v":""},{"$f":"IF('30m Sprint'!J130=\"\",\"\",'30m Sprint'!J130)","v":""},{"$f":"IF(KaBu!I130=\"\",\"\",KaBu!I130)","v":""},{"$f":"IF(KaBu!J130=\"\",\"\",KaBu!J130)","v":""},{"$f":"IF(Seilspringen!I130=\"\",\"\",Seilspringen!I130)","v":""},{"$f":"IF(Seilspringen!J130=\"\",\"\",Seilspringen!J130)","v":""},{"$f":"IF(Liegestütz!I130=\"\",\"\",Liegestütz!I130)","v":""},{"$f":"IF(Liegestütz!J130=\"\",\"\",Liegestütz!J130)","v":""},{"$f":"IF(Balance!I130=\"\",\"\",Balance!I130)","v":""},{"$f":"IF(Balance!J130=\"\",\"\",Balance!J130)","v":""},{"$f":"IF('1000m'!I130=\"\",\"\",'1000m'!I130)","v":""},{"$f":"IF('1000m'!J130=\"\",\"\",'1000m'!J130)","v":""},{"$f":"IF(B130=\"\",\"\",(IF(AND(Messen_Beweglichkeit!L130=\"\",AB130=\"OK\"),VLOOKUP(G130&D130,$AJ$10:$AT$31,4,FALSE)+1,IF(AND(Messen_Beweglichkeit!J130=\"\",AB130=\"kein Test\"),\"\",Messen_Beweglichkeit!L130))+IF(AND('Jump-and-Reach'!J130=\"\",AB130=\"OK\"),VLOOKUP(G130&D130,$AJ$10:$AT$31,5,FALSE)+1,IF(AND('Jump-and-Reach'!J130=\"\",AB130=\"kein Test\"),\"\",'Jump-and-Reach'!J130))+IF(AND('30m Sprint'!J130=\"\",AB130=\"OK\"),VLOOKUP(G130&D130,$AJ$10:$AT$31,6,FALSE)+1,IF(AND('30m Sprint'!J130=\"\",AB130=\"kein Test\"),\"\",'30m Sprint'!J130))+IF(AND(KaBu!J130=\"\",AB130=\"OK\"),VLOOKUP(G130&D130,$AJ$10:$AT$31,7,FALSE)+1,IF(AND(KaBu!J130=\"\",AB130=\"kein Test\"),\"\",KaBu!J130))+IF(AND(Seilspringen!J130=\"\",AB130=\"OK\"),VLOOKUP(G130&D130,$AJ$10:$AT$31,8,FALSE)+1,IF(AND(Seilspringen!J130=\"\",AB130=\"kein Test\"),\"\",Seilspringen!J130))+IF(AND(Liegestütz!J130=\"\",AB130=\"OK\"),VLOOKUP(G130&D130,$AJ$10:$AT$31,9,FALSE)+1,IF(AND(Liegestütz!J130=\"\",AB130=\"kein Test\"),\"\",Liegestütz!J130))+IF(AND(Balance!J130=\"\",AB130=\"OK\"),VLOOKUP(G130&D130,$AJ$10:$AT$31,10,FALSE)+1,IF(AND(Balance!J130=\"\",AB130=\"kein Test\"),\"\",Balance!J130))+IF(AND('1000m'!J130=\"\",AB130=\"OK\"),VLOOKUP(G130&D130,$AJ$10:$AT$31,11,FALSE)+1,IF(AND('1000m'!J130=\"\",AB130=\"kein Test\"),\"\",'1000m'!J130)))/8)","v":""},null,null,"kein Test"]
[122,{"$f":"IF(Athletenliste!B131=\"\",\"\",Athletenliste!B131)","v":""},{"$f":"IF(Athletenliste!C131=\"\",\"\",Athletenliste!C131)","v":""},{"$f":"IF(Athletenliste!D131=\"\",\"\",Athletenliste!D131)","v":""},{"$f":"IF(Athletenliste!E131=\"\",\"\",Athletenliste!E131)","v":""},{"$f":"IF(Athletenliste!F131=\"\",\"\",Athletenliste!F131)","v":""},{"$f":"IF(Athletenliste!G131=\"\",\"\",Athletenliste!G131)","v":""},{"$f":"IF(Athletenliste!H131=\"\",\"\",Athletenliste!H131)","v":""},{"$f":"IF(Messen_Beweglichkeit!K131=\"\",\"\",Messen_Beweglichkeit!K131)","v":""},{"$f":"IF(Messen_Beweglichkeit!L131=\"\",\"\",Messen_Beweglichkeit!L131)","v":""},{"$f":"IF('Jump-and-Reach'!I131=\"\",\"\",'Jump-and-Reach'!I131)","v":""},{"$f":"IF('Jump-and-Reach'!J131=\"\",\"\",'Jump-and-Reach'!J131)","v":""},{"$f":"IF('30m Sprint'!I131=\"\",\"\",'30m Sprint'!I131)","v":""},{"$f":"IF('30m Sprint'!J131=\"\",\"\",'30m Sprint'!J131)","v":""},{"$f":"IF(KaBu!I131=\"\",\"\",KaBu!I131)","v":""},{"$f":"IF(KaBu!J131=\"\",\"\",KaBu!J131)","v":""},{"$f":"IF(Seilspringen!I131=\"\",\"\",Seilspringen!I131)","v":""},{"$f":"IF(Seilspringen!J131=\"\",\"\",Seilspringen!J131)","v":""},{"$f":"IF(Liegestütz!I131=\"\",\"\",Liegestütz!I131)","v":""},{"$f":"IF(Liegestütz!J131=\"\",\"\",Liegestütz!J131)","v":""},{"$f":"IF(Balance!I131=\"\",\"\",Balance!I131)","v":""},{"$f":"IF(Balance!J131=\"\",\"\",Balance!J131)","v":""},{"$f":"IF('1000m'!I131=\"\",\"\",'1000m'!I131)","v":""},{"$f":"IF('1000m'!J131=\"\",\"\",'1000m'!J131)","v":""},{"$f":"IF(B131=\"\",\"\",(IF(AND(Messen_Beweglichkeit!L131=\"\",AB131=\"OK\"),VLOOKUP(G131&D131,$AJ$10:$AT$31,4,FALSE)+1,IF(AND(Messen_Beweglichkeit!J131=\"\",AB131=\"kein Test\"),\"\",Messen_Beweglichkeit!L131))+IF(AND('Jump-and-Reach'!J131=\"\",AB131=\"OK\"),VLOOKUP(G131&D131,$AJ$10:$AT$31,5,FALSE)+1,IF(AND('Jump-and-Reach'!J131=\"\",AB131=\"kein Test\"),\"\",'Jump-and-Reach'!J131))+IF(AND('30m Sprint'!J131=\"\",AB131=\"OK\"),VLOOKUP(G131&D131,$AJ$10:$AT$31,6,FALSE)+1,IF(AND('30m Sprint'!J131=\"\",AB131=\"kein Test\"),\"\",'30m Sprint'!J131))+IF(AND(KaBu!J131=\"\",AB131=\"OK\"),VLOOKUP(G131&D131,$AJ$10:$AT$31,7,FALSE)+1,IF(AND(KaBu!J131=\"\",AB131=\"kein Test\"),\"\",KaBu!J131))+IF(AND(Seilspringen!J131=\"\",AB131=\"OK\"),VLOOKUP(G131&D131,$AJ$10:$AT$31,8,FALSE)+1,IF(AND(Seilspringen!J131=\"\",AB131=\"kein Test\"),\"\",Seilspringen!J131))+IF(AND(Liegestütz!J131=\"\",AB131=\"OK\"),VLOOKUP(G131&D131,$AJ$10:$AT$31,9,FALSE)+1,IF(AND(Liegestütz!J131=\"\",AB131=\"kein Test\"),\"\",Liegestütz!J131))+IF(AND(Balance!J131=\"\",AB131=\"OK\"),VLOOKUP(G131&D131,$AJ$10:$AT$31,10,FALSE)+1,IF(AND(Balance!J131=\"\",AB131=\"kein Test\"),\"\",Balance!J131))+IF(AND('1000m'!J131=\"\",AB131=\"OK\"),VLOOKUP(G131&D131,$AJ$10:$AT$31,11,FALSE)+1,IF(AND('1000m'!J131=\"\",AB131=\"kein Test\"),\"\",'1000m'!J131)))/8)","v":""},null,null,"kein Test"]
[123,{"$f":"IF(Athletenliste!B132=\"\",\"\",Athletenliste!B132)","v":""},{"$f":"IF(Athletenliste!C132=\"\",\"\",Athletenliste!C132)","v":""},{"$f":"IF(Athletenliste!D132=\"\",\"\",Athletenliste!D132)","v":""},{"$f":"IF(Athletenliste!E132=\"\",\"\",Athletenliste!E132)","v":""},{"$f":"IF(Athletenliste!F132=\"\",\"\",Athletenliste!F132)","v":""},{"$f":"IF(Athletenliste!G132=\"\",\"\",Athletenliste!G132)","v":""},{"$f":"IF(Athletenliste!H132=\"\",\"\",Athletenliste!H132)","v":""},{"$f":"IF(Messen_Beweglichkeit!K132=\"\",\"\",Messen_Beweglichkeit!K132)","v":""},{"$f":"IF(Messen_Beweglichkeit!L132=\"\",\"\",Messen_Beweglichkeit!L132)","v":""},{"$f":"IF('Jump-and-Reach'!I132=\"\",\"\",'Jump-and-Reach'!I132)","v":""},{"$f":"IF('Jump-and-Reach'!J132=\"\",\"\",'Jump-and-Reach'!J132)","v":""},{"$f":"IF('30m Sprint'!I132=\"\",\"\",'30m Sprint'!I132)","v":""},{"$f":"IF('30m Sprint'!J132=\"\",\"\",'30m Sprint'!J132)","v":""},{"$f":"IF(KaBu!I132=\"\",\"\",KaBu!I132)","v":""},{"$f":"IF(KaBu!J132=\"\",\"\",KaBu!J132)","v":""},{"$f":"IF(Seilspringen!I132=\"\",\"\",Seilspringen!I132)","v":""},{"$f":"IF(Seilspringen!J132=\"\",\"\",Seilspringen!J132)","v":""},{"$f":"IF(Liegestütz!I132=\"\",\"\",Liegestütz!I132)","v":""},{"$f":"IF(Liegestütz!J132=\"\",\"\",Liegestütz!J132)","v":""},{"$f":"IF(Balance!I132=\"\",\"\",Balance!I132)","v":""},{"$f":"IF(Balance!J132=\"\",\"\",Balance!J132)","v":""},{"$f":"IF('1000m'!I132=\"\",\"\",'1000m'!I132)","v":""},{"$f":"IF('1000m'!J132=\"\",\"\",'1000m'!J132)","v":""},{"$f":"IF(B132=\"\",\"\",(IF(AND(Messen_Beweglichkeit!L132=\"\",AB132=\"OK\"),VLOOKUP(G132&D132,$AJ$10:$AT$31,4,FALSE)+1,IF(AND(Messen_Beweglichkeit!J132=\"\",AB132=\"kein Test\"),\"\",Messen_Beweglichkeit!L132))+IF(AND('Jump-and-Reach'!J132=\"\",AB132=\"OK\"),VLOOKUP(G132&D132,$AJ$10:$AT$31,5,FALSE)+1,IF(AND('Jump-and-Reach'!J132=\"\",AB132=\"kein Test\"),\"\",'Jump-and-Reach'!J132))+IF(AND('30m Sprint'!J132=\"\",AB132=\"OK\"),VLOOKUP(G132&D132,$AJ$10:$AT$31,6,FALSE)+1,IF(AND('30m Sprint'!J132=\"\",AB132=\"kein Test\"),\"\",'30m Sprint'!J132))+IF(AND(KaBu!J132=\"\",AB132=\"OK\"),VLOOKUP(G132&D132,$AJ$10:$AT$31,7,FALSE)+1,IF(AND(KaBu!J132=\"\",AB132=\"kein Test\"),\"\",KaBu!J132))+IF(AND(Seilspringen!J132=\"\",AB132=\"OK\"),VLOOKUP(G132&D132,$AJ$10:$AT$31,8,FALSE)+1,IF(AND(Seilspringen!J132=\"\",AB132=\"kein Test\"),\"\",Seilspringen!J132))+IF(AND(Liegestütz!J132=\"\",AB132=\"OK\"),VLOOKUP(G132&D132,$AJ$10:$AT$31,9,FALSE)+1,IF(AND(Liegestütz!J132=\"\",AB132=\"kein Test\"),\"\",Liegestütz!J132))+IF(AND(Balance!J132=\"\",AB132=\"OK\"),VLOOKUP(G132&D132,$AJ$10:$AT$31,10,FALSE)+1,IF(AND(Balance!J132=\"\",AB132=\"kein Test\"),\"\",Balance!J132))+IF(AND('1000m'!J132=\"\",AB132=\"OK\"),VLOOKUP(G132&D132,$AJ$10:$AT$31,11,FALSE)+1,IF(AND('1000m'!J132=\"\",AB132=\"kein Test\"),\"\",'1000m'!J132)))/8)","v":""},null,null,"kein Test"]
[124,{"$f":"IF(Athletenliste!B133=\"\",\"\",Athletenliste!B133)","v":""},{"$f":"IF(Athletenliste!C133=\"\",\"\",Athletenliste!C133)","v":""},{"$f":"IF(Athletenliste!D133=\"\",\"\",Athletenliste!D133)","v":""},{"$f":"IF(Athletenliste!E133=\"\",\"\",Athletenliste!E133)","v":""},{"$f":"IF(Athletenliste!F133=\"\",\"\",Athletenliste!F133)","v":""},{"$f":"IF(Athletenliste!G133=\"\",\"\",Athletenliste!G133)","v":""},{"$f":"IF(Athletenliste!H133=\"\",\"\",Athletenliste!H133)","v":""},{"$f":"IF(Messen_Beweglichkeit!K133=\"\",\"\",Messen_Beweglichkeit!K133)","v":""},{"$f":"IF(Messen_Beweglichkeit!L133=\"\",\"\",Messen_Beweglichkeit!L133)","v":""},{"$f":"IF('Jump-and-Reach'!I133=\"\",\"\",'Jump-and-Reach'!I133)","v":""},{"$f":"IF('Jump-and-Reach'!J133=\"\",\"\",'Jump-and-Reach'!J133)","v":""},{"$f":"IF('30m Sprint'!I133=\"\",\"\",'30m Sprint'!I133)","v":""},{"$f":"IF('30m Sprint'!J133=\"\",\"\",'30m Sprint'!J133)","v":""},{"$f":"IF(KaBu!I133=\"\",\"\",KaBu!I133)","v":""},{"$f":"IF(KaBu!J133=\"\",\"\",KaBu!J133)","v":""},{"$f":"IF(Seilspringen!I133=\"\",\"\",Seilspringen!I133)","v":""},{"$f":"IF(Seilspringen!J133=\"\",\"\",Seilspringen!J133)","v":""},{"$f":"IF(Liegestütz!I133=\"\",\"\",Liegestütz!I133)","v":""},{"$f":"IF(Liegestütz!J133=\"\",\"\",Liegestütz!J133)","v":""},{"$f":"IF(Balance!I133=\"\",\"\",Balance!I133)","v":""},{"$f":"IF(Balance!J133=\"\",\"\",Balance!J133)","v":""},{"$f":"IF('1000m'!I133=\"\",\"\",'1000m'!I133)","v":""},{"$f":"IF('1000m'!J133=\"\",\"\",'1000m'!J133)","v":""},{"$f":"IF(B133=\"\",\"\",(IF(AND(Messen_Beweglichkeit!L133=\"\",AB133=\"OK\"),VLOOKUP(G133&D133,$AJ$10:$AT$31,4,FALSE)+1,IF(AND(Messen_Beweglichkeit!J133=\"\",AB133=\"kein Test\"),\"\",Messen_Beweglichkeit!L133))+IF(AND('Jump-and-Reach'!J133=\"\",AB133=\"OK\"),VLOOKUP(G133&D133,$AJ$10:$AT$31,5,FALSE)+1,IF(AND('Jump-and-Reach'!J133=\"\",AB133=\"kein Test\"),\"\",'Jump-and-Reach'!J133))+IF(AND('30m Sprint'!J133=\"\",AB133=\"OK\"),VLOOKUP(G133&D133,$AJ$10:$AT$31,6,FALSE)+1,IF(AND('30m Sprint'!J133=\"\",AB133=\"kein Test\"),\"\",'30m Sprint'!J133))+IF(AND(KaBu!J133=\"\",AB133=\"OK\"),VLOOKUP(G133&D133,$AJ$10:$AT$31,7,FALSE)+1,IF(AND(KaBu!J133=\"\",AB133=\"kein Test\"),\"\",KaBu!J133))+IF(AND(Seilspringen!J133=\"\",AB133=\"OK\"),VLOOKUP(G133&D133,$AJ$10:$AT$31,8,FALSE)+1,IF(AND(Seilspringen!J133=\"\",AB133=\"kein Test\"),\"\",Seilspringen!J133))+IF(AND(Liegestütz!J133=\"\",AB133=\"OK\"),VLOOKUP(G133&D133,$AJ$10:$AT$31,9,FALSE)+1,IF(AND(Liegestütz!J133=\"\",AB133=\"kein Test\"),\"\",Liegestütz!J133))+IF(AND(Balance!J133=\"\",AB133=\"OK\"),VLOOKUP(G133&D133,$AJ$10:$AT$31,10,FALSE)+1,IF(AND(Balance!J133=\"\",AB133=\"kein Test\"),\"\",Balance!J133))+IF(AND('1000m'!J133=\"\",AB133=\"OK\"),VLOOKUP(G133&D133,$AJ$10:$AT$31,11,FALSE)+1,IF(AND('1000m'!J133=\"\",AB133=\"kein Test\"),\"\",'1000m'!J133)))/8)","v":""},null,null,"kein Test"]
[125,{"$f":"IF(Athletenliste!B134=\"\",\"\",Athletenliste!B134)","v":""},{"$f":"IF(Athletenliste!C134=\"\",\"\",Athletenliste!C134)","v":""},{"$f":"IF(Athletenliste!D134=\"\",\"\",Athletenliste!D134)","v":""},{"$f":"IF(Athletenliste!E134=\"\",\"\",Athletenliste!E134)","v":""},{"$f":"IF(Athletenliste!F134=\"\",\"\",Athletenliste!F134)","v":""},{"$f":"IF(Athletenliste!G134=\"\",\"\",Athletenliste!G134)","v":""},{"$f":"IF(Athletenliste!H134=\"\",\"\",Athletenliste!H134)","v":""},{"$f":"IF(Messen_Beweglichkeit!K134=\"\",\"\",Messen_Beweglichkeit!K134)","v":""},{"$f":"IF(Messen_Beweglichkeit!L134=\"\",\"\",Messen_Beweglichkeit!L134)","v":""},{"$f":"IF('Jump-and-Reach'!I134=\"\",\"\",'Jump-and-Reach'!I134)","v":""},{"$f":"IF('Jump-and-Reach'!J134=\"\",\"\",'Jump-and-Reach'!J134)","v":""},{"$f":"IF('30m Sprint'!I134=\"\",\"\",'30m Sprint'!I134)","v":""},{"$f":"IF('30m Sprint'!J134=\"\",\"\",'30m Sprint'!J134)","v":""},{"$f":"IF(KaBu!I134=\"\",\"\",KaBu!I134)","v":""},{"$f":"IF(KaBu!J134=\"\",\"\",KaBu!J134)","v":""},{"$f":"IF(Seilspringen!I134=\"\",\"\",Seilspringen!I134)","v":""},{"$f":"IF(Seilspringen!J134=\"\",\"\",Seilspringen!J134)","v":""},{"$f":"IF(Liegestütz!I134=\"\",\"\",Liegestütz!I134)","v":""},{"$f":"IF(Liegestütz!J134=\"\",\"\",Liegestütz!J134)","v":""},{"$f":"IF(Balance!I134=\"\",\"\",Balance!I134)","v":""},{"$f":"IF(Balance!J134=\"\",\"\",Balance!J134)","v":""},{"$f":"IF('1000m'!I134=\"\",\"\",'1000m'!I134)","v":""},{"$f":"IF('1000m'!J134=\"\",\"\",'1000m'!J134)","v":""},{"$f":"IF(B134=\"\",\"\",(IF(AND(Messen_Beweglichkeit!L134=\"\",AB134=\"OK\"),VLOOKUP(G134&D134,$AJ$10:$AT$31,4,FALSE)+1,IF(AND(Messen_Beweglichkeit!J134=\"\",AB134=\"kein Test\"),\"\",Messen_Beweglichkeit!L134))+IF(AND('Jump-and-Reach'!J134=\"\",AB134=\"OK\"),VLOOKUP(G134&D134,$AJ$10:$AT$31,5,FALSE)+1,IF(AND('Jump-and-Reach'!J134=\"\",AB134=\"kein Test\"),\"\",'Jump-and-Reach'!J134))+IF(AND('30m Sprint'!J134=\"\",AB134=\"OK\"),VLOOKUP(G134&D134,$AJ$10:$AT$31,6,FALSE)+1,IF(AND('30m Sprint'!J134=\"\",AB134=\"kein Test\"),\"\",'30m Sprint'!J134))+IF(AND(KaBu!J134=\"\",AB134=\"OK\"),VLOOKUP(G134&D134,$AJ$10:$AT$31,7,FALSE)+1,IF(AND(KaBu!J134=\"\",AB134=\"kein Test\"),\"\",KaBu!J134))+IF(AND(Seilspringen!J134=\"\",AB134=\"OK\"),VLOOKUP(G134&D134,$AJ$10:$AT$31,8,FALSE)+1,IF(AND(Seilspringen!J134=\"\",AB134=\"kein Test\"),\"\",Seilspringen!J134))+IF(AND(Liegestütz!J134=\"\",AB134=\"OK\"),VLOOKUP(G134&D134,$AJ$10:$AT$31,9,FALSE)+1,IF(AND(Liegestütz!J134=\"\",AB134=\"kein Test\"),\"\",Liegestütz!J134))+IF(AND(Balance!J134=\"\",AB134=\"OK\"),VLOOKUP(G134&D134,$AJ$10:$AT$31,10,FALSE)+1,IF(AND(Balance!J134=\"\",AB134=\"kein Test\"),\"\",Balance!J134))+IF(AND('1000m'!J134=\"\",AB134=\"OK\"),VLOOKUP(G134&D134,$AJ$10:$AT$31,11,FALSE)+1,IF(AND('1000m'!J134=\"\",AB134=\"kein Test\"),\"\",'1000m'!J134)))/8)","v":""},null,null,"kein Test"]
[126,{"$f":"IF(Athletenliste!B135=\"\",\"\",Athletenliste!B135)","v":""},{"$f":"IF(Athletenliste!C135=\"\",\"\",Athletenliste!C135)","v":""},{"$f":"IF(Athletenliste!D135=\"\",\"\",Athletenliste!D135)","v":""},{"$f":"IF(Athletenliste!E135=\"\",\"\",Athletenliste!E135)","v":""},{"$f":"IF(Athletenliste!F135=\"\",\"\",Athletenliste!F135)","v":""},{"$f":"IF(Athletenliste!G135=\"\",\"\",Athletenliste!G135)","v":""},{"$f":"IF(Athletenliste!H135=\"\",\"\",Athletenliste!H135)","v":""},{"$f":"IF(Messen_Beweglichkeit!K135=\"\",\"\",Messen_Beweglichkeit!K135)","v":""},{"$f":"IF(Messen_Beweglichkeit!L135=\"\",\"\",Messen_Beweglichkeit!L135)","v":""},{"$f":"IF('Jump-and-Reach'!I135=\"\",\"\",'Jump-and-Reach'!I135)","v":""},{"$f":"IF('Jump-and-Reach'!J135=\"\",\"\",'Jump-and-Reach'!J135)","v":""},{"$f":"IF('30m Sprint'!I135=\"\",\"\",'30m Sprint'!I135)","v":""},{"$f":"IF('30m Sprint'!J135=\"\",\"\",'30m Sprint'!J135)","v":""},{"$f":"IF(KaBu!I135=\"\",\"\",KaBu!I135)","v":""},{"$f":"IF(KaBu!J135=\"\",\"\",KaBu!J135)","v":""},{"$f":"IF(Seilspringen!I135=\"\",\"\",Seilspringen!I135)","v":""},{"$f":"IF(Seilspringen!J135=\"\",\"\",Seilspringen!J135)","v":""},{"$f":"IF(Liegestütz!I135=\"\",\"\",Liegestütz!I135)","v":""},{"$f":"IF(Liegestütz!J135=\"\",\"\",Liegestütz!J135)","v":""},{"$f":"IF(Balance!I135=\"\",\"\",Balance!I135)","v":""},{"$f":"IF(Balance!J135=\"\",\"\",Balance!J135)","v":""},{"$f":"IF('1000m'!I135=\"\",\"\",'1000m'!I135)","v":""},{"$f":"IF('1000m'!J135=\"\",\"\",'1000m'!J135)","v":""},{"$f":"IF(B135=\"\",\"\",(IF(AND(Messen_Beweglichkeit!L135=\"\",AB135=\"OK\"),VLOOKUP(G135&D135,$AJ$10:$AT$31,4,FALSE)+1,IF(AND(Messen_Beweglichkeit!J135=\"\",AB135=\"kein Test\"),\"\",Messen_Beweglichkeit!L135))+IF(AND('Jump-and-Reach'!J135=\"\",AB135=\"OK\"),VLOOKUP(G135&D135,$AJ$10:$AT$31,5,FALSE)+1,IF(AND('Jump-and-Reach'!J135=\"\",AB135=\"kein Test\"),\"\",'Jump-and-Reach'!J135))+IF(AND('30m Sprint'!J135=\"\",AB135=\"OK\"),VLOOKUP(G135&D135,$AJ$10:$AT$31,6,FALSE)+1,IF(AND('30m Sprint'!J135=\"\",AB135=\"kein Test\"),\"\",'30m Sprint'!J135))+IF(AND(KaBu!J135=\"\",AB135=\"OK\"),VLOOKUP(G135&D135,$AJ$10:$AT$31,7,FALSE)+1,IF(AND(KaBu!J135=\"\",AB135=\"kein Test\"),\"\",KaBu!J135))+IF(AND(Seilspringen!J135=\"\",AB135=\"OK\"),VLOOKUP(G135&D135,$AJ$10:$AT$31,8,FALSE)+1,IF(AND(Seilspringen!J135=\"\",AB135=\"kein Test\"),\"\",Seilspringen!J135))+IF(AND(Liegestütz!J135=\"\",AB135=\"OK\"),VLOOKUP(G135&D135,$AJ$10:$AT$31,9,FALSE)+1,IF(AND(Liegestütz!J135=\"\",AB135=\"kein Test\"),\"\",Liegestütz!J135))+IF(AND(Balance!J135=\"\",AB135=\"OK\"),VLOOKUP(G135&D135,$AJ$10:$AT$31,10,FALSE)+1,IF(AND(Balance!J135=\"\",AB135=\"kein Test\"),\"\",Balance!J135))+IF(AND('1000m'!J135=\"\",AB135=\"OK\"),VLOOKUP(G135&D135,$AJ$10:$AT$31,11,FALSE)+1,IF(AND('1000m'!J135=\"\",AB135=\"kein Test\"),\"\",'1000m'!J135)))/8)","v":""},null,null,"kein Test"]
[127,{"$f":"IF(Athletenliste!B136=\"\",\"\",Athletenliste!B136)","v":""},{"$f":"IF(Athletenliste!C136=\"\",\"\",Athletenliste!C136)","v":""},{"$f":"IF(Athletenliste!D136=\"\",\"\",Athletenliste!D136)","v":""},{"$f":"IF(Athletenliste!E136=\"\",\"\",Athletenliste!E136)","v":""},{"$f":"IF(Athletenliste!F136=\"\",\"\",Athletenliste!F136)","v":""},{"$f":"IF(Athletenliste!G136=\"\",\"\",Athletenliste!G136)","v":""},{"$f":"IF(Athletenliste!H136=\"\",\"\",Athletenliste!H136)","v":""},{"$f":"IF(Messen_Beweglichkeit!K136=\"\",\"\",Messen_Beweglichkeit!K136)","v":""},{"$f":"IF(Messen_Beweglichkeit!L136=\"\",\"\",Messen_Beweglichkeit!L136)","v":""},{"$f":"IF('Jump-and-Reach'!I136=\"\",\"\",'Jump-and-Reach'!I136)","v":""},{"$f":"IF('Jump-and-Reach'!J136=\"\",\"\",'Jump-and-Reach'!J136)","v":""},{"$f":"IF('30m Sprint'!I136=\"\",\"\",'30m Sprint'!I136)","v":""},{"$f":"IF('30m Sprint'!J136=\"\",\"\",'30m Sprint'!J136)","v":""},{"$f":"IF(KaBu!I136=\"\",\"\",KaBu!I136)","v":""},{"$f":"IF(KaBu!J136=\"\",\"\",KaBu!J136)","v":""},{"$f":"IF(Seilspringen!I136=\"\",\"\",Seilspringen!I136)","v":""},{"$f":"IF(Seilspringen!J136=\"\",\"\",Seilspringen!J136)","v":""},{"$f":"IF(Liegestütz!I136=\"\",\"\",Liegestütz!I136)","v":""},{"$f":"IF(Liegestütz!J136=\"\",\"\",Liegestütz!J136)","v":""},{"$f":"IF(Balance!I136=\"\",\"\",Balance!I136)","v":""},{"$f":"IF(Balance!J136=\"\",\"\",Balance!J136)","v":""},{"$f":"IF('1000m'!I136=\"\",\"\",'1000m'!I136)","v":""},{"$f":"IF('1000m'!J136=\"\",\"\",'1000m'!J136)","v":""},{"$f":"IF(B136=\"\",\"\",(IF(AND(Messen_Beweglichkeit!L136=\"\",AB136=\"OK\"),VLOOKUP(G136&D136,$AJ$10:$AT$31,4,FALSE)+1,IF(AND(Messen_Beweglichkeit!J136=\"\",AB136=\"kein Test\"),\"\",Messen_Beweglichkeit!L136))+IF(AND('Jump-and-Reach'!J136=\"\",AB136=\"OK\"),VLOOKUP(G136&D136,$AJ$10:$AT$31,5,FALSE)+1,IF(AND('Jump-and-Reach'!J136=\"\",AB136=\"kein Test\"),\"\",'Jump-and-Reach'!J136))+IF(AND('30m Sprint'!J136=\"\",AB136=\"OK\"),VLOOKUP(G136&D136,$AJ$10:$AT$31,6,FALSE)+1,IF(AND('30m Sprint'!J136=\"\",AB136=\"kein Test\"),\"\",'30m Sprint'!J136))+IF(AND(KaBu!J136=\"\",AB136=\"OK\"),VLOOKUP(G136&D136,$AJ$10:$AT$31,7,FALSE)+1,IF(AND(KaBu!J136=\"\",AB136=\"kein Test\"),\"\",KaBu!J136))+IF(AND(Seilspringen!J136=\"\",AB136=\"OK\"),VLOOKUP(G136&D136,$AJ$10:$AT$31,8,FALSE)+1,IF(AND(Seilspringen!J136=\"\",AB136=\"kein Test\"),\"\",Seilspringen!J136))+IF(AND(Liegestütz!J136=\"\",AB136=\"OK\"),VLOOKUP(G136&D136,$AJ$10:$AT$31,9,FALSE)+1,IF(AND(Liegestütz!J136=\"\",AB136=\"kein Test\"),\"\",Liegestütz!J136))+IF(AND(Balance!J136=\"\",AB136=\"OK\"),VLOOKUP(G136&D136,$AJ$10:$AT$31,10,FALSE)+1,IF(AND(Balance!J136=\"\",AB136=\"kein Test\"),\"\",Balance!J136))+IF(AND('1000m'!J136=\"\",AB136=\"OK\"),VLOOKUP(G136&D136,$AJ$10:$AT$31,11,FALSE)+1,IF(AND('1000m'!J136=\"\",AB136=\"kein Test\"),\"\",'1000m'!J136)))/8)","v":""},null,null,"kein Test"]
[128,{"$f":"IF(Athletenliste!B137=\"\",\"\",Athletenliste!B137)","v":""},{"$f":"IF(Athletenliste!C137=\"\",\"\",Athletenliste!C137)","v":""},{"$f":"IF(Athletenliste!D137=\"\",\"\",Athletenliste!D137)","v":""},{"$f":"IF(Athletenliste!E137=\"\",\"\",Athletenliste!E137)","v":""},{"$f":"IF(Athletenliste!F137=\"\",\"\",Athletenliste!F137)","v":""},{"$f":"IF(Athletenliste!G137=\"\",\"\",Athletenliste!G137)","v":""},{"$f":"IF(Athletenliste!H137=\"\",\"\",Athletenliste!H137)","v":""},{"$f":"IF(Messen_Beweglichkeit!K137=\"\",\"\",Messen_Beweglichkeit!K137)","v":""},{"$f":"IF(Messen_Beweglichkeit!L137=\"\",\"\",Messen_Beweglichkeit!L137)","v":""},{"$f":"IF('Jump-and-Reach'!I137=\"\",\"\",'Jump-and-Reach'!I137)","v":""},{"$f":"IF('Jump-and-Reach'!J137=\"\",\"\",'Jump-and-Reach'!J137)","v":""},{"$f":"IF('30m Sprint'!I137=\"\",\"\",'30m Sprint'!I137)","v":""},{"$f":"IF('30m Sprint'!J137=\"\",\"\",'30m Sprint'!J137)","v":""},{"$f":"IF(KaBu!I137=\"\",\"\",KaBu!I137)","v":""},{"$f":"IF(KaBu!J137=\"\",\"\",KaBu!J137)","v":""},{"$f":"IF(Seilspringen!I137=\"\",\"\",Seilspringen!I137)","v":""},{"$f":"IF(Seilspringen!J137=\"\",\"\",Seilspringen!J137)","v":""},{"$f":"IF(Liegestütz!I137=\"\",\"\",Liegestütz!I137)","v":""},{"$f":"IF(Liegestütz!J137=\"\",\"\",Liegestütz!J137)","v":""},{"$f":"IF(Balance!I137=\"\",\"\",Balance!I137)","v":""},{"$f":"IF(Balance!J137=\"\",\"\",Balance!J137)","v":""},{"$f":"IF('1000m'!I137=\"\",\"\",'1000m'!I137)","v":""},{"$f":"IF('1000m'!J137=\"\",\"\",'1000m'!J137)","v":""},{"$f":"IF(B137=\"\",\"\",(IF(AND(Messen_Beweglichkeit!L137=\"\",AB137=\"OK\"),VLOOKUP(G137&D137,$AJ$10:$AT$31,4,FALSE)+1,IF(AND(Messen_Beweglichkeit!J137=\"\",AB137=\"kein Test\"),\"\",Messen_Beweglichkeit!L137))+IF(AND('Jump-and-Reach'!J137=\"\",AB137=\"OK\"),VLOOKUP(G137&D137,$AJ$10:$AT$31,5,FALSE)+1,IF(AND('Jump-and-Reach'!J137=\"\",AB137=\"kein Test\"),\"\",'Jump-and-Reach'!J137))+IF(AND('30m Sprint'!J137=\"\",AB137=\"OK\"),VLOOKUP(G137&D137,$AJ$10:$AT$31,6,FALSE)+1,IF(AND('30m Sprint'!J137=\"\",AB137=\"kein Test\"),\"\",'30m Sprint'!J137))+IF(AND(KaBu!J137=\"\",AB137=\"OK\"),VLOOKUP(G137&D137,$AJ$10:$AT$31,7,FALSE)+1,IF(AND(KaBu!J137=\"\",AB137=\"kein Test\"),\"\",KaBu!J137))+IF(AND(Seilspringen!J137=\"\",AB137=\"OK\"),VLOOKUP(G137&D137,$AJ$10:$AT$31,8,FALSE)+1,IF(AND(Seilspringen!J137=\"\",AB137=\"kein Test\"),\"\",Seilspringen!J137))+IF(AND(Liegestütz!J137=\"\",AB137=\"OK\"),VLOOKUP(G137&D137,$AJ$10:$AT$31,9,FALSE)+1,IF(AND(Liegestütz!J137=\"\",AB137=\"kein Test\"),\"\",Liegestütz!J137))+IF(AND(Balance!J137=\"\",AB137=\"OK\"),VLOOKUP(G137&D137,$AJ$10:$AT$31,10,FALSE)+1,IF(AND(Balance!J137=\"\",AB137=\"kein Test\"),\"\",Balance!J137))+IF(AND('1000m'!J137=\"\",AB137=\"OK\"),VLOOKUP(G137&D137,$AJ$10:$AT$31,11,FALSE)+1,IF(AND('1000m'!J137=\"\",AB137=\"kein Test\"),\"\",'1000m'!J137)))/8)","v":""},null,null,"kein Test"]
[129,{"$f":"IF(Athletenliste!B138=\"\",\"\",Athletenliste!B138)","v":""},{"$f":"IF(Athletenliste!C138=\"\",\"\",Athletenliste!C138)","v":""},{"$f":"IF(Athletenliste!D138=\"\",\"\",Athletenliste!D138)","v":""},{"$f":"IF(Athletenliste!E138=\"\",\"\",Athletenliste!E138)","v":""},{"$f":"IF(Athletenliste!F138=\"\",\"\",Athletenliste!F138)","v":""},{"$f":"IF(Athletenliste!G138=\"\",\"\",Athletenliste!G138)","v":""},{"$f":"IF(Athletenliste!H138=\"\",\"\",Athletenliste!H138)","v":""},{"$f":"IF(Messen_Beweglichkeit!K138=\"\",\"\",Messen_Beweglichkeit!K138)","v":""},{"$f":"IF(Messen_Beweglichkeit!L138=\"\",\"\",Messen_Beweglichkeit!L138)","v":""},{"$f":"IF('Jump-and-Reach'!I138=\"\",\"\",'Jump-and-Reach'!I138)","v":""},{"$f":"IF('Jump-and-Reach'!J138=\"\",\"\",'Jump-and-Reach'!J138)","v":""},{"$f":"IF('30m Sprint'!I138=\"\",\"\",'30m Sprint'!I138)","v":""},{"$f":"IF('30m Sprint'!J138=\"\",\"\",'30m Sprint'!J138)","v":""},{"$f":"IF(KaBu!I138=\"\",\"\",KaBu!I138)","v":""},{"$f":"IF(KaBu!J138=\"\",\"\",KaBu!J138)","v":""},{"$f":"IF(Seilspringen!I138=\"\",\"\",Seilspringen!I138)","v":""},{"$f":"IF(Seilspringen!J138=\"\",\"\",Seilspringen!J138)","v":""},{"$f":"IF(Liegestütz!I138=\"\",\"\",Liegestütz!I138)","v":""},{"$f":"IF(Liegestütz!J138=\"\",\"\",Liegestütz!J138)","v":""},{"$f":"IF(Balance!I138=\"\",\"\",Balance!I138)","v":""},{"$f":"IF(Balance!J138=\"\",\"\",Balance!J138)","v":""},{"$f":"IF('1000m'!I138=\"\",\"\",'1000m'!I138)","v":""},{"$f":"IF('1000m'!J138=\"\",\"\",'1000m'!J138)","v":""},{"$f":"IF(B138=\"\",\"\",(IF(AND(Messen_Beweglichkeit!L138=\"\",AB138=\"OK\"),VLOOKUP(G138&D138,$AJ$10:$AT$31,4,FALSE)+1,IF(AND(Messen_Beweglichkeit!J138=\"\",AB138=\"kein Test\"),\"\",Messen_Beweglichkeit!L138))+IF(AND('Jump-and-Reach'!J138=\"\",AB138=\"OK\"),VLOOKUP(G138&D138,$AJ$10:$AT$31,5,FALSE)+1,IF(AND('Jump-and-Reach'!J138=\"\",AB138=\"kein Test\"),\"\",'Jump-and-Reach'!J138))+IF(AND('30m Sprint'!J138=\"\",AB138=\"OK\"),VLOOKUP(G138&D138,$AJ$10:$AT$31,6,FALSE)+1,IF(AND('30m Sprint'!J138=\"\",AB138=\"kein Test\"),\"\",'30m Sprint'!J138))+IF(AND(KaBu!J138=\"\",AB138=\"OK\"),VLOOKUP(G138&D138,$AJ$10:$AT$31,7,FALSE)+1,IF(AND(KaBu!J138=\"\",AB138=\"kein Test\"),\"\",KaBu!J138))+IF(AND(Seilspringen!J138=\"\",AB138=\"OK\"),VLOOKUP(G138&D138,$AJ$10:$AT$31,8,FALSE)+1,IF(AND(Seilspringen!J138=\"\",AB138=\"kein Test\"),\"\",Seilspringen!J138))+IF(AND(Liegestütz!J138=\"\",AB138=\"OK\"),VLOOKUP(G138&D138,$AJ$10:$AT$31,9,FALSE)+1,IF(AND(Liegestütz!J138=\"\",AB138=\"kein Test\"),\"\",Liegestütz!J138))+IF(AND(Balance!J138=\"\",AB138=\"OK\"),VLOOKUP(G138&D138,$AJ$10:$AT$31,10,FALSE)+1,IF(AND(Balance!J138=\"\",AB138=\"kein Test\"),\"\",Balance!J138))+IF(AND('1000m'!J138=\"\",AB138=\"OK\"),VLOOKUP(G138&D138,$AJ$10:$AT$31,11,FALSE)+1,IF(AND('1000m'!J138=\"\",AB138=\"kein Test\"),\"\",'1000m'!J138)))/8)","v":""},null,null,{"$f":"IF(AND(I138=\"\",K138=\"\",M138=\"\",O138=\"\",Q138=\"\",S138=\"\",U138=\"\",W138=\"\"),\"kein Test\",\"OK\")","v":"kein Test"}]
[130,{"$f":"IF(Athletenliste!B139=\"\",\"\",Athletenliste!B139)","v":""},{"$f":"IF(Athletenliste!C139=\"\",\"\",Athletenliste!C139)","v":""},{"$f":"IF(Athletenliste!D139=\"\",\"\",Athletenliste!D139)","v":""},{"$f":"IF(Athletenliste!E139=\"\",\"\",Athletenliste!E139)","v":""},{"$f":"IF(Athletenliste!F139=\"\",\"\",Athletenliste!F139)","v":""},{"$f":"IF(Athletenliste!G139=\"\",\"\",Athletenliste!G139)","v":""},{"$f":"IF(Athletenliste!H139=\"\",\"\",Athletenliste!H139)","v":""},{"$f":"IF(Messen_Beweglichkeit!K139=\"\",\"\",Messen_Beweglichkeit!K139)","v":""},{"$f":"IF(Messen_Beweglichkeit!L139=\"\",\"\",Messen_Beweglichkeit!L139)","v":""},{"$f":"IF('Jump-and-Reach'!I139=\"\",\"\",'Jump-and-Reach'!I139)","v":""},{"$f":"IF('Jump-and-Reach'!J139=\"\",\"\",'Jump-and-Reach'!J139)","v":""},{"$f":"IF('30m Sprint'!I139=\"\",\"\",'30m Sprint'!I139)","v":""},{"$f":"IF('30m Sprint'!J139=\"\",\"\",'30m Sprint'!J139)","v":""},{"$f":"IF(KaBu!I139=\"\",\"\",KaBu!I139)","v":""},{"$f":"IF(KaBu!J139=\"\",\"\",KaBu!J139)","v":""},{"$f":"IF(Seilspringen!I139=\"\",\"\",Seilspringen!I139)","v":""},{"$f":"IF(Seilspringen!J139=\"\",\"\",Seilspringen!J139)","v":""},{"$f":"IF(Liegestütz!I139=\"\",\"\",Liegestütz!I139)","v":""},{"$f":"IF(Liegestütz!J139=\"\",\"\",Liegestütz!J139)","v":""},{"$f":"IF(Balance!I139=\"\",\"\",Balance!I139)","v":""},{"$f":"IF(Balance!J139=\"\",\"\",Balance!J139)","v":""},{"$f":"IF('1000m'!I139=\"\",\"\",'1000m'!I139)","v":""},{"$f":"IF('1000m'!J139=\"\",\"\",'1000m'!J139)","v":""},{"$f":"IF(B139=\"\",\"\",(IF(AND(Messen_Beweglichkeit!L139=\"\",AB139=\"OK\"),VLOOKUP(G139&D139,$AJ$10:$AT$31,4,FALSE)+1,IF(AND(Messen_Beweglichkeit!J139=\"\",AB139=\"kein Test\"),\"\",Messen_Beweglichkeit!L139))+IF(AND('Jump-and-Reach'!J139=\"\",AB139=\"OK\"),VLOOKUP(G139&D139,$AJ$10:$AT$31,5,FALSE)+1,IF(AND('Jump-and-Reach'!J139=\"\",AB139=\"kein Test\"),\"\",'Jump-and-Reach'!J139))+IF(AND('30m Sprint'!J139=\"\",AB139=\"OK\"),VLOOKUP(G139&D139,$AJ$10:$AT$31,6,FALSE)+1,IF(AND('30m Sprint'!J139=\"\",AB139=\"kein Test\"),\"\",'30m Sprint'!J139))+IF(AND(KaBu!J139=\"\",AB139=\"OK\"),VLOOKUP(G139&D139,$AJ$10:$AT$31,7,FALSE)+1,IF(AND(KaBu!J139=\"\",AB139=\"kein Test\"),\"\",KaBu!J139))+IF(AND(Seilspringen!J139=\"\",AB139=\"OK\"),VLOOKUP(G139&D139,$AJ$10:$AT$31,8,FALSE)+1,IF(AND(Seilspringen!J139=\"\",AB139=\"kein Test\"),\"\",Seilspringen!J139))+IF(AND(Liegestütz!J139=\"\",AB139=\"OK\"),VLOOKUP(G139&D139,$AJ$10:$AT$31,9,FALSE)+1,IF(AND(Liegestütz!J139=\"\",AB139=\"kein Test\"),\"\",Liegestütz!J139))+IF(AND(Balance!J139=\"\",AB139=\"OK\"),VLOOKUP(G139&D139,$AJ$10:$AT$31,10,FALSE)+1,IF(AND(Balance!J139=\"\",AB139=\"kein Test\"),\"\",Balance!J139))+IF(AND('1000m'!J139=\"\",AB139=\"OK\"),VLOOKUP(G139&D139,$AJ$10:$AT$31,11,FALSE)+1,IF(AND('1000m'!J139=\"\",AB139=\"kein Test\"),\"\",'1000m'!J139)))/8)","v":""},null,null,"kein Test"]
[131,{"$f":"IF(Athletenliste!B140=\"\",\"\",Athletenliste!B140)","v":""},{"$f":"IF(Athletenliste!C140=\"\",\"\",Athletenliste!C140)","v":""},{"$f":"IF(Athletenliste!D140=\"\",\"\",Athletenliste!D140)","v":""},{"$f":"IF(Athletenliste!E140=\"\",\"\",Athletenliste!E140)","v":""},{"$f":"IF(Athletenliste!F140=\"\",\"\",Athletenliste!F140)","v":""},{"$f":"IF(Athletenliste!G140=\"\",\"\",Athletenliste!G140)","v":""},{"$f":"IF(Athletenliste!H140=\"\",\"\",Athletenliste!H140)","v":""},{"$f":"IF(Messen_Beweglichkeit!K140=\"\",\"\",Messen_Beweglichkeit!K140)","v":""},{"$f":"IF(Messen_Beweglichkeit!L140=\"\",\"\",Messen_Beweglichkeit!L140)","v":""},{"$f":"IF('Jump-and-Reach'!I140=\"\",\"\",'Jump-and-Reach'!I140)","v":""},{"$f":"IF('Jump-and-Reach'!J140=\"\",\"\",'Jump-and-Reach'!J140)","v":""},{"$f":"IF('30m Sprint'!I140=\"\",\"\",'30m Sprint'!I140)","v":""},{"$f":"IF('30m Sprint'!J140=\"\",\"\",'30m Sprint'!J140)","v":""},{"$f":"IF(KaBu!I140=\"\",\"\",KaBu!I140)","v":""},{"$f":"IF(KaBu!J140=\"\",\"\",KaBu!J140)","v":""},{"$f":"IF(Seilspringen!I140=\"\",\"\",Seilspringen!I140)","v":""},{"$f":"IF(Seilspringen!J140=\"\",\"\",Seilspringen!J140)","v":""},{"$f":"IF(Liegestütz!I140=\"\",\"\",Liegestütz!I140)","v":""},{"$f":"IF(Liegestütz!J140=\"\",\"\",Liegestütz!J140)","v":""},{"$f":"IF(Balance!I140=\"\",\"\",Balance!I140)","v":""},{"$f":"IF(Balance!J140=\"\",\"\",Balance!J140)","v":""},{"$f":"IF('1000m'!I140=\"\",\"\",'1000m'!I140)","v":""},{"$f":"IF('1000m'!J140=\"\",\"\",'1000m'!J140)","v":""},{"$f":"IF(B140=\"\",\"\",(IF(AND(Messen_Beweglichkeit!L140=\"\",AB140=\"OK\"),VLOOKUP(G140&D140,$AJ$10:$AT$31,4,FALSE)+1,IF(AND(Messen_Beweglichkeit!J140=\"\",AB140=\"kein Test\"),\"\",Messen_Beweglichkeit!L140))+IF(AND('Jump-and-Reach'!J140=\"\",AB140=\"OK\"),VLOOKUP(G140&D140,$AJ$10:$AT$31,5,FALSE)+1,IF(AND('Jump-and-Reach'!J140=\"\",AB140=\"kein Test\"),\"\",'Jump-and-Reach'!J140))+IF(AND('30m Sprint'!J140=\"\",AB140=\"OK\"),VLOOKUP(G140&D140,$AJ$10:$AT$31,6,FALSE)+1,IF(AND('30m Sprint'!J140=\"\",AB140=\"kein Test\"),\"\",'30m Sprint'!J140))+IF(AND(KaBu!J140=\"\",AB140=\"OK\"),VLOOKUP(G140&D140,$AJ$10:$AT$31,7,FALSE)+1,IF(AND(KaBu!J140=\"\",AB140=\"kein Test\"),\"\",KaBu!J140))+IF(AND(Seilspringen!J140=\"\",AB140=\"OK\"),VLOOKUP(G140&D140,$AJ$10:$AT$31,8,FALSE)+1,IF(AND(Seilspringen!J140=\"\",AB140=\"kein Test\"),\"\",Seilspringen!J140))+IF(AND(Liegestütz!J140=\"\",AB140=\"OK\"),VLOOKUP(G140&D140,$AJ$10:$AT$31,9,FALSE)+1,IF(AND(Liegestütz!J140=\"\",AB140=\"kein Test\"),\"\",Liegestütz!J140))+IF(AND(Balance!J140=\"\",AB140=\"OK\"),VLOOKUP(G140&D140,$AJ$10:$AT$31,10,FALSE)+1,IF(AND(Balance!J140=\"\",AB140=\"kein Test\"),\"\",Balance!J140))+IF(AND('1000m'!J140=\"\",AB140=\"OK\"),VLOOKUP(G140&D140,$AJ$10:$AT$31,11,FALSE)+1,IF(AND('1000m'!J140=\"\",AB140=\"kein Test\"),\"\",'1000m'!J140)))/8)","v":""},null,null,"kein Test"]
[132,{"$f":"IF(Athletenliste!B141=\"\",\"\",Athletenliste!B141)","v":""},{"$f":"IF(Athletenliste!C141=\"\",\"\",Athletenliste!C141)","v":""},{"$f":"IF(Athletenliste!D141=\"\",\"\",Athletenliste!D141)","v":""},{"$f":"IF(Athletenliste!E141=\"\",\"\",Athletenliste!E141)","v":""},{"$f":"IF(Athletenliste!F141=\"\",\"\",Athletenliste!F141)","v":""},{"$f":"IF(Athletenliste!G141=\"\",\"\",Athletenliste!G141)","v":""},{"$f":"IF(Athletenliste!H141=\"\",\"\",Athletenliste!H141)","v":""},{"$f":"IF(Messen_Beweglichkeit!K141=\"\",\"\",Messen_Beweglichkeit!K141)","v":""},{"$f":"IF(Messen_Beweglichkeit!L141=\"\",\"\",Messen_Beweglichkeit!L141)","v":""},{"$f":"IF('Jump-and-Reach'!I141=\"\",\"\",'Jump-and-Reach'!I141)","v":""},{"$f":"IF('Jump-and-Reach'!J141=\"\",\"\",'Jump-and-Reach'!J141)","v":""},{"$f":"IF('30m Sprint'!I141=\"\",\"\",'30m Sprint'!I141)","v":""},{"$f":"IF('30m Sprint'!J141=\"\",\"\",'30m Sprint'!J141)","v":""},{"$f":"IF(KaBu!I141=\"\",\"\",KaBu!I141)","v":""},{"$f":"IF(KaBu!J141=\"\",\"\",KaBu!J141)","v":""},{"$f":"IF(Seilspringen!I141=\"\",\"\",Seilspringen!I141)","v":""},{"$f":"IF(Seilspringen!J141=\"\",\"\",Seilspringen!J141)","v":""},{"$f":"IF(Liegestütz!I141=\"\",\"\",Liegestütz!I141)","v":""},{"$f":"IF(Liegestütz!J141=\"\",\"\",Liegestütz!J141)","v":""},{"$f":"IF(Balance!I141=\"\",\"\",Balance!I141)","v":""},{"$f":"IF(Balance!J141=\"\",\"\",Balance!J141)","v":""},{"$f":"IF('1000m'!I141=\"\",\"\",'1000m'!I141)","v":""},{"$f":"IF('1000m'!J141=\"\",\"\",'1000m'!J141)","v":""},{"$f":"IF(B141=\"\",\"\",(IF(AND(Messen_Beweglichkeit!L141=\"\",AB141=\"OK\"),VLOOKUP(G141&D141,$AJ$10:$AT$31,4,FALSE)+1,IF(AND(Messen_Beweglichkeit!J141=\"\",AB141=\"kein Test\"),\"\",Messen_Beweglichkeit!L141))+IF(AND('Jump-and-Reach'!J141=\"\",AB141=\"OK\"),VLOOKUP(G141&D141,$AJ$10:$AT$31,5,FALSE)+1,IF(AND('Jump-and-Reach'!J141=\"\",AB141=\"kein Test\"),\"\",'Jump-and-Reach'!J141))+IF(AND('30m Sprint'!J141=\"\",AB141=\"OK\"),VLOOKUP(G141&D141,$AJ$10:$AT$31,6,FALSE)+1,IF(AND('30m Sprint'!J141=\"\",AB141=\"kein Test\"),\"\",'30m Sprint'!J141))+IF(AND(KaBu!J141=\"\",AB141=\"OK\"),VLOOKUP(G141&D141,$AJ$10:$AT$31,7,FALSE)+1,IF(AND(KaBu!J141=\"\",AB141=\"kein Test\"),\"\",KaBu!J141))+IF(AND(Seilspringen!J141=\"\",AB141=\"OK\"),VLOOKUP(G141&D141,$AJ$10:$AT$31,8,FALSE)+1,IF(AND(Seilspringen!J141=\"\",AB141=\"kein Test\"),\"\",Seilspringen!J141))+IF(AND(Liegestütz!J141=\"\",AB141=\"OK\"),VLOOKUP(G141&D141,$AJ$10:$AT$31,9,FALSE)+1,IF(AND(Liegestütz!J141=\"\",AB141=\"kein Test\"),\"\",Liegestütz!J141))+IF(AND(Balance!J141=\"\",AB141=\"OK\"),VLOOKUP(G141&D141,$AJ$10:$AT$31,10,FALSE)+1,IF(AND(Balance!J141=\"\",AB141=\"kein Test\"),\"\",Balance!J141))+IF(AND('1000m'!J141=\"\",AB141=\"OK\"),VLOOKUP(G141&D141,$AJ$10:$AT$31,11,FALSE)+1,IF(AND('1000m'!J141=\"\",AB141=\"kein Test\"),\"\",'1000m'!J141)))/8)","v":""},null,null,"kein Test"]
[133,{"$f":"IF(Athletenliste!B142=\"\",\"\",Athletenliste!B142)","v":""},{"$f":"IF(Athletenliste!C142=\"\",\"\",Athletenliste!C142)","v":""},{"$f":"IF(Athletenliste!D142=\"\",\"\",Athletenliste!D142)","v":""},{"$f":"IF(Athletenliste!E142=\"\",\"\",Athletenliste!E142)","v":""},{"$f":"IF(Athletenliste!F142=\"\",\"\",Athletenliste!F142)","v":""},{"$f":"IF(Athletenliste!G142=\"\",\"\",Athletenliste!G142)","v":""},{"$f":"IF(Athletenliste!H142=\"\",\"\",Athletenliste!H142)","v":""},{"$f":"IF(Messen_Beweglichkeit!K142=\"\",\"\",Messen_Beweglichkeit!K142)","v":""},{"$f":"IF(Messen_Beweglichkeit!L142=\"\",\"\",Messen_Beweglichkeit!L142)","v":""},{"$f":"IF('Jump-and-Reach'!I142=\"\",\"\",'Jump-and-Reach'!I142)","v":""},{"$f":"IF('Jump-and-Reach'!J142=\"\",\"\",'Jump-and-Reach'!J142)","v":""},{"$f":"IF('30m Sprint'!I142=\"\",\"\",'30m Sprint'!I142)","v":""},{"$f":"IF('30m Sprint'!J142=\"\",\"\",'30m Sprint'!J142)","v":""},{"$f":"IF(KaBu!I142=\"\",\"\",KaBu!I142)","v":""},{"$f":"IF(KaBu!J142=\"\",\"\",KaBu!J142)","v":""},{"$f":"IF(Seilspringen!I142=\"\",\"\",Seilspringen!I142)","v":""},{"$f":"IF(Seilspringen!J142=\"\",\"\",Seilspringen!J142)","v":""},{"$f":"IF(Liegestütz!I142=\"\",\"\",Liegestütz!I142)","v":""},{"$f":"IF(Liegestütz!J142=\"\",\"\",Liegestütz!J142)","v":""},{"$f":"IF(Balance!I142=\"\",\"\",Balance!I142)","v":""},{"$f":"IF(Balance!J142=\"\",\"\",Balance!J142)","v":""},{"$f":"IF('1000m'!I142=\"\",\"\",'1000m'!I142)","v":""},{"$f":"IF('1000m'!J142=\"\",\"\",'1000m'!J142)","v":""},{"$f":"IF(B142=\"\",\"\",(IF(AND(Messen_Beweglichkeit!L142=\"\",AB142=\"OK\"),VLOOKUP(G142&D142,$AJ$10:$AT$31,4,FALSE)+1,IF(AND(Messen_Beweglichkeit!J142=\"\",AB142=\"kein Test\"),\"\",Messen_Beweglichkeit!L142))+IF(AND('Jump-and-Reach'!J142=\"\",AB142=\"OK\"),VLOOKUP(G142&D142,$AJ$10:$AT$31,5,FALSE)+1,IF(AND('Jump-and-Reach'!J142=\"\",AB142=\"kein Test\"),\"\",'Jump-and-Reach'!J142))+IF(AND('30m Sprint'!J142=\"\",AB142=\"OK\"),VLOOKUP(G142&D142,$AJ$10:$AT$31,6,FALSE)+1,IF(AND('30m Sprint'!J142=\"\",AB142=\"kein Test\"),\"\",'30m Sprint'!J142))+IF(AND(KaBu!J142=\"\",AB142=\"OK\"),VLOOKUP(G142&D142,$AJ$10:$AT$31,7,FALSE)+1,IF(AND(KaBu!J142=\"\",AB142=\"kein Test\"),\"\",KaBu!J142))+IF(AND(Seilspringen!J142=\"\",AB142=\"OK\"),VLOOKUP(G142&D142,$AJ$10:$AT$31,8,FALSE)+1,IF(AND(Seilspringen!J142=\"\",AB142=\"kein Test\"),\"\",Seilspringen!J142))+IF(AND(Liegestütz!J142=\"\",AB142=\"OK\"),VLOOKUP(G142&D142,$AJ$10:$AT$31,9,FALSE)+1,IF(AND(Liegestütz!J142=\"\",AB142=\"kein Test\"),\"\",Liegestütz!J142))+IF(AND(Balance!J142=\"\",AB142=\"OK\"),VLOOKUP(G142&D142,$AJ$10:$AT$31,10,FALSE)+1,IF(AND(Balance!J142=\"\",AB142=\"kein Test\"),\"\",Balance!J142))+IF(AND('1000m'!J142=\"\",AB142=\"OK\"),VLOOKUP(G142&D142,$AJ$10:$AT$31,11,FALSE)+1,IF(AND('1000m'!J142=\"\",AB142=\"kein Test\"),\"\",'1000m'!J142)))/8)","v":""},null,null,"kein Test"]
[134,{"$f":"IF(Athletenliste!B143=\"\",\"\",Athletenliste!B143)","v":""},{"$f":"IF(Athletenliste!C143=\"\",\"\",Athletenliste!C143)","v":""},{"$f":"IF(Athletenliste!D143=\"\",\"\",Athletenliste!D143)","v":""},{"$f":"IF(Athletenliste!E143=\"\",\"\",Athletenliste!E143)","v":""},{"$f":"IF(Athletenliste!F143=\"\",\"\",Athletenliste!F143)","v":""},{"$f":"IF(Athletenliste!G143=\"\",\"\",Athletenliste!G143)","v":""},{"$f":"IF(Athletenliste!H143=\"\",\"\",Athletenliste!H143)","v":""},{"$f":"IF(Messen_Beweglichkeit!K143=\"\",\"\",Messen_Beweglichkeit!K143)","v":""},{"$f":"IF(Messen_Beweglichkeit!L143=\"\",\"\",Messen_Beweglichkeit!L143)","v":""},{"$f":"IF('Jump-and-Reach'!I143=\"\",\"\",'Jump-and-Reach'!I143)","v":""},{"$f":"IF('Jump-and-Reach'!J143=\"\",\"\",'Jump-and-Reach'!J143)","v":""},{"$f":"IF('30m Sprint'!I143=\"\",\"\",'30m Sprint'!I143)","v":""},{"$f":"IF('30m Sprint'!J143=\"\",\"\",'30m Sprint'!J143)","v":""},{"$f":"IF(KaBu!I143=\"\",\"\",KaBu!I143)","v":""},{"$f":"IF(KaBu!J143=\"\",\"\",KaBu!J143)","v":""},{"$f":"IF(Seilspringen!I143=\"\",\"\",Seilspringen!I143)","v":""},{"$f":"IF(Seilspringen!J143=\"\",\"\",Seilspringen!J143)","v":""},{"$f":"IF(Liegestütz!I143=\"\",\"\",Liegestütz!I143)","v":""},{"$f":"IF(Liegestütz!J143=\"\",\"\",Liegestütz!J143)","v":""},{"$f":"IF(Balance!I143=\"\",\"\",Balance!I143)","v":""},{"$f":"IF(Balance!J143=\"\",\"\",Balance!J143)","v":""},{"$f":"IF('1000m'!I143=\"\",\"\",'1000m'!I143)","v":""},{"$f":"IF('1000m'!J143=\"\",\"\",'1000m'!J143)","v":""},{"$f":"IF(B143=\"\",\"\",(IF(AND(Messen_Beweglichkeit!L143=\"\",AB143=\"OK\"),VLOOKUP(G143&D143,$AJ$10:$AT$31,4,FALSE)+1,IF(AND(Messen_Beweglichkeit!J143=\"\",AB143=\"kein Test\"),\"\",Messen_Beweglichkeit!L143))+IF(AND('Jump-and-Reach'!J143=\"\",AB143=\"OK\"),VLOOKUP(G143&D143,$AJ$10:$AT$31,5,FALSE)+1,IF(AND('Jump-and-Reach'!J143=\"\",AB143=\"kein Test\"),\"\",'Jump-and-Reach'!J143))+IF(AND('30m Sprint'!J143=\"\",AB143=\"OK\"),VLOOKUP(G143&D143,$AJ$10:$AT$31,6,FALSE)+1,IF(AND('30m Sprint'!J143=\"\",AB143=\"kein Test\"),\"\",'30m Sprint'!J143))+IF(AND(KaBu!J143=\"\",AB143=\"OK\"),VLOOKUP(G143&D143,$AJ$10:$AT$31,7,FALSE)+1,IF(AND(KaBu!J143=\"\",AB143=\"kein Test\"),\"\",KaBu!J143))+IF(AND(Seilspringen!J143=\"\",AB143=\"OK\"),VLOOKUP(G143&D143,$AJ$10:$AT$31,8,FALSE)+1,IF(AND(Seilspringen!J143=\"\",AB143=\"kein Test\"),\"\",Seilspringen!J143))+IF(AND(Liegestütz!J143=\"\",AB143=\"OK\"),VLOOKUP(G143&D143,$AJ$10:$AT$31,9,FALSE)+1,IF(AND(Liegestütz!J143=\"\",AB143=\"kein Test\"),\"\",Liegestütz!J143))+IF(AND(Balance!J143=\"\",AB143=\"OK\"),VLOOKUP(G143&D143,$AJ$10:$AT$31,10,FALSE)+1,IF(AND(Balance!J143=\"\",AB143=\"kein Test\"),\"\",Balance!J143))+IF(AND('1000m'!J143=\"\",AB143=\"OK\"),VLOOKUP(G143&D143,$AJ$10:$AT$31,11,FALSE)+1,IF(AND('1000m'!J143=\"\",AB143=\"kein Test\"),\"\",'1000m'!J143)))/8)","v":""},null,null,"kein Test"]
[135,{"$f":"IF(Athletenliste!B144=\"\",\"\",Athletenliste!B144)","v":""},{"$f":"IF(Athletenliste!C144=\"\",\"\",Athletenliste!C144)","v":""},{"$f":"IF(Athletenliste!D144=\"\",\"\",Athletenliste!D144)","v":""},{"$f":"IF(Athletenliste!E144=\"\",\"\",Athletenliste!E144)","v":""},{"$f":"IF(Athletenliste!F144=\"\",\"\",Athletenliste!F144)","v":""},{"$f":"IF(Athletenliste!G144=\"\",\"\",Athletenliste!G144)","v":""},{"$f":"IF(Athletenliste!H144=\"\",\"\",Athletenliste!H144)","v":""},{"$f":"IF(Messen_Beweglichkeit!K144=\"\",\"\",Messen_Beweglichkeit!K144)","v":""},{"$f":"IF(Messen_Beweglichkeit!L144=\"\",\"\",Messen_Beweglichkeit!L144)","v":""},{"$f":"IF('Jump-and-Reach'!I144=\"\",\"\",'Jump-and-Reach'!I144)","v":""},{"$f":"IF('Jump-and-Reach'!J144=\"\",\"\",'Jump-and-Reach'!J144)","v":""},{"$f":"IF('30m Sprint'!I144=\"\",\"\",'30m Sprint'!I144)","v":""},{"$f":"IF('30m Sprint'!J144=\"\",\"\",'30m Sprint'!J144)","v":""},{"$f":"IF(KaBu!I144=\"\",\"\",KaBu!I144)","v":""},{"$f":"IF(KaBu!J144=\"\",\"\",KaBu!J144)","v":""},{"$f":"IF(Seilspringen!I144=\"\",\"\",Seilspringen!I144)","v":""},{"$f":"IF(Seilspringen!J144=\"\",\"\",Seilspringen!J144)","v":""},{"$f":"IF(Liegestütz!I144=\"\",\"\",Liegestütz!I144)","v":""},{"$f":"IF(Liegestütz!J144=\"\",\"\",Liegestütz!J144)","v":""},{"$f":"IF(Balance!I144=\"\",\"\",Balance!I144)","v":""},{"$f":"IF(Balance!J144=\"\",\"\",Balance!J144)","v":""},{"$f":"IF('1000m'!I144=\"\",\"\",'1000m'!I144)","v":""},{"$f":"IF('1000m'!J144=\"\",\"\",'1000m'!J144)","v":""},{"$f":"IF(B144=\"\",\"\",(IF(AND(Messen_Beweglichkeit!L144=\"\",AB144=\"OK\"),VLOOKUP(G144&D144,$AJ$10:$AT$31,4,FALSE)+1,IF(AND(Messen_Beweglichkeit!J144=\"\",AB144=\"kein Test\"),\"\",Messen_Beweglichkeit!L144))+IF(AND('Jump-and-Reach'!J144=\"\",AB144=\"OK\"),VLOOKUP(G144&D144,$AJ$10:$AT$31,5,FALSE)+1,IF(AND('Jump-and-Reach'!J144=\"\",AB144=\"kein Test\"),\"\",'Jump-and-Reach'!J144))+IF(AND('30m Sprint'!J144=\"\",AB144=\"OK\"),VLOOKUP(G144&D144,$AJ$10:$AT$31,6,FALSE)+1,IF(AND('30m Sprint'!J144=\"\",AB144=\"kein Test\"),\"\",'30m Sprint'!J144))+IF(AND(KaBu!J144=\"\",AB144=\"OK\"),VLOOKUP(G144&D144,$AJ$10:$AT$31,7,FALSE)+1,IF(AND(KaBu!J144=\"\",AB144=\"kein Test\"),\"\",KaBu!J144))+IF(AND(Seilspringen!J144=\"\",AB144=\"OK\"),VLOOKUP(G144&D144,$AJ$10:$AT$31,8,FALSE)+1,IF(AND(Seilspringen!J144=\"\",AB144=\"kein Test\"),\"\",Seilspringen!J144))+IF(AND(Liegestütz!J144=\"\",AB144=\"OK\"),VLOOKUP(G144&D144,$AJ$10:$AT$31,9,FALSE)+1,IF(AND(Liegestütz!J144=\"\",AB144=\"kein Test\"),\"\",Liegestütz!J144))+IF(AND(Balance!J144=\"\",AB144=\"OK\"),VLOOKUP(G144&D144,$AJ$10:$AT$31,10,FALSE)+1,IF(AND(Balance!J144=\"\",AB144=\"kein Test\"),\"\",Balance!J144))+IF(AND('1000m'!J144=\"\",AB144=\"OK\"),VLOOKUP(G144&D144,$AJ$10:$AT$31,11,FALSE)+1,IF(AND('1000m'!J144=\"\",AB144=\"kein Test\"),\"\",'1000m'!J144)))/8)","v":""},null,null,"kein Test"]
[136,{"$f":"IF(Athletenliste!B145=\"\",\"\",Athletenliste!B145)","v":""},{"$f":"IF(Athletenliste!C145=\"\",\"\",Athletenliste!C145)","v":""},{"$f":"IF(Athletenliste!D145=\"\",\"\",Athletenliste!D145)","v":""},{"$f":"IF(Athletenliste!E145=\"\",\"\",Athletenliste!E145)","v":""},{"$f":"IF(Athletenliste!F145=\"\",\"\",Athletenliste!F145)","v":""},{"$f":"IF(Athletenliste!G145=\"\",\"\",Athletenliste!G145)","v":""},{"$f":"IF(Athletenliste!H145=\"\",\"\",Athletenliste!H145)","v":""},{"$f":"IF(Messen_Beweglichkeit!K145=\"\",\"\",Messen_Beweglichkeit!K145)","v":""},{"$f":"IF(Messen_Beweglichkeit!L145=\"\",\"\",Messen_Beweglichkeit!L145)","v":""},{"$f":"IF('Jump-and-Reach'!I145=\"\",\"\",'Jump-and-Reach'!I145)","v":""},{"$f":"IF('Jump-and-Reach'!J145=\"\",\"\",'Jump-and-Reach'!J145)","v":""},{"$f":"IF('30m Sprint'!I145=\"\",\"\",'30m Sprint'!I145)","v":""},{"$f":"IF('30m Sprint'!J145=\"\",\"\",'30m Sprint'!J145)","v":""},{"$f":"IF(KaBu!I145=\"\",\"\",KaBu!I145)","v":""},{"$f":"IF(KaBu!J145=\"\",\"\",KaBu!J145)","v":""},{"$f":"IF(Seilspringen!I145=\"\",\"\",Seilspringen!I145)","v":""},{"$f":"IF(Seilspringen!J145=\"\",\"\",Seilspringen!J145)","v":""},{"$f":"IF(Liegestütz!I145=\"\",\"\",Liegestütz!I145)","v":""},{"$f":"IF(Liegestütz!J145=\"\",\"\",Liegestütz!J145)","v":""},{"$f":"IF(Balance!I145=\"\",\"\",Balance!I145)","v":""},{"$f":"IF(Balance!J145=\"\",\"\",Balance!J145)","v":""},{"$f":"IF('1000m'!I145=\"\",\"\",'1000m'!I145)","v":""},{"$f":"IF('1000m'!J145=\"\",\"\",'1000m'!J145)","v":""},{"$f":"IF(B145=\"\",\"\",(IF(AND(Messen_Beweglichkeit!L145=\"\",AB145=\"OK\"),VLOOKUP(G145&D145,$AJ$10:$AT$31,4,FALSE)+1,IF(AND(Messen_Beweglichkeit!J145=\"\",AB145=\"kein Test\"),\"\",Messen_Beweglichkeit!L145))+IF(AND('Jump-and-Reach'!J145=\"\",AB145=\"OK\"),VLOOKUP(G145&D145,$AJ$10:$AT$31,5,FALSE)+1,IF(AND('Jump-and-Reach'!J145=\"\",AB145=\"kein Test\"),\"\",'Jump-and-Reach'!J145))+IF(AND('30m Sprint'!J145=\"\",AB145=\"OK\"),VLOOKUP(G145&D145,$AJ$10:$AT$31,6,FALSE)+1,IF(AND('30m Sprint'!J145=\"\",AB145=\"kein Test\"),\"\",'30m Sprint'!J145))+IF(AND(KaBu!J145=\"\",AB145=\"OK\"),VLOOKUP(G145&D145,$AJ$10:$AT$31,7,FALSE)+1,IF(AND(KaBu!J145=\"\",AB145=\"kein Test\"),\"\",KaBu!J145))+IF(AND(Seilspringen!J145=\"\",AB145=\"OK\"),VLOOKUP(G145&D145,$AJ$10:$AT$31,8,FALSE)+1,IF(AND(Seilspringen!J145=\"\",AB145=\"kein Test\"),\"\",Seilspringen!J145))+IF(AND(Liegestütz!J145=\"\",AB145=\"OK\"),VLOOKUP(G145&D145,$AJ$10:$AT$31,9,FALSE)+1,IF(AND(Liegestütz!J145=\"\",AB145=\"kein Test\"),\"\",Liegestütz!J145))+IF(AND(Balance!J145=\"\",AB145=\"OK\"),VLOOKUP(G145&D145,$AJ$10:$AT$31,10,FALSE)+1,IF(AND(Balance!J145=\"\",AB145=\"kein Test\"),\"\",Balance!J145))+IF(AND('1000m'!J145=\"\",AB145=\"OK\"),VLOOKUP(G145&D145,$AJ$10:$AT$31,11,FALSE)+1,IF(AND('1000m'!J145=\"\",AB145=\"kein Test\"),\"\",'1000m'!J145)))/8)","v":""},null,null,"kein Test"]
[137,{"$f":"IF(Athletenliste!B146=\"\",\"\",Athletenliste!B146)","v":""},{"$f":"IF(Athletenliste!C146=\"\",\"\",Athletenliste!C146)","v":""},{"$f":"IF(Athletenliste!D146=\"\",\"\",Athletenliste!D146)","v":""},{"$f":"IF(Athletenliste!E146=\"\",\"\",Athletenliste!E146)","v":""},{"$f":"IF(Athletenliste!F146=\"\",\"\",Athletenliste!F146)","v":""},{"$f":"IF(Athletenliste!G146=\"\",\"\",Athletenliste!G146)","v":""},{"$f":"IF(Athletenliste!H146=\"\",\"\",Athletenliste!H146)","v":""},{"$f":"IF(Messen_Beweglichkeit!K146=\"\",\"\",Messen_Beweglichkeit!K146)","v":""},{"$f":"IF(Messen_Beweglichkeit!L146=\"\",\"\",Messen_Beweglichkeit!L146)","v":""},{"$f":"IF('Jump-and-Reach'!I146=\"\",\"\",'Jump-and-Reach'!I146)","v":""},{"$f":"IF('Jump-and-Reach'!J146=\"\",\"\",'Jump-and-Reach'!J146)","v":""},{"$f":"IF('30m Sprint'!I146=\"\",\"\",'30m Sprint'!I146)","v":""},{"$f":"IF('30m Sprint'!J146=\"\",\"\",'30m Sprint'!J146)","v":""},{"$f":"IF(KaBu!I146=\"\",\"\",KaBu!I146)","v":""},{"$f":"IF(KaBu!J146=\"\",\"\",KaBu!J146)","v":""},{"$f":"IF(Seilspringen!I146=\"\",\"\",Seilspringen!I146)","v":""},{"$f":"IF(Seilspringen!J146=\"\",\"\",Seilspringen!J146)","v":""},{"$f":"IF(Liegestütz!I146=\"\",\"\",Liegestütz!I146)","v":""},{"$f":"IF(Liegestütz!J146=\"\",\"\",Liegestütz!J146)","v":""},{"$f":"IF(Balance!I146=\"\",\"\",Balance!I146)","v":""},{"$f":"IF(Balance!J146=\"\",\"\",Balance!J146)","v":""},{"$f":"IF('1000m'!I146=\"\",\"\",'1000m'!I146)","v":""},{"$f":"IF('1000m'!J146=\"\",\"\",'1000m'!J146)","v":""},{"$f":"IF(B146=\"\",\"\",(IF(AND(Messen_Beweglichkeit!L146=\"\",AB146=\"OK\"),VLOOKUP(G146&D146,$AJ$10:$AT$31,4,FALSE)+1,IF(AND(Messen_Beweglichkeit!J146=\"\",AB146=\"kein Test\"),\"\",Messen_Beweglichkeit!L146))+IF(AND('Jump-and-Reach'!J146=\"\",AB146=\"OK\"),VLOOKUP(G146&D146,$AJ$10:$AT$31,5,FALSE)+1,IF(AND('Jump-and-Reach'!J146=\"\",AB146=\"kein Test\"),\"\",'Jump-and-Reach'!J146))+IF(AND('30m Sprint'!J146=\"\",AB146=\"OK\"),VLOOKUP(G146&D146,$AJ$10:$AT$31,6,FALSE)+1,IF(AND('30m Sprint'!J146=\"\",AB146=\"kein Test\"),\"\",'30m Sprint'!J146))+IF(AND(KaBu!J146=\"\",AB146=\"OK\"),VLOOKUP(G146&D146,$AJ$10:$AT$31,7,FALSE)+1,IF(AND(KaBu!J146=\"\",AB146=\"kein Test\"),\"\",KaBu!J146))+IF(AND(Seilspringen!J146=\"\",AB146=\"OK\"),VLOOKUP(G146&D146,$AJ$10:$AT$31,8,FALSE)+1,IF(AND(Seilspringen!J146=\"\",AB146=\"kein Test\"),\"\",Seilspringen!J146))+IF(AND(Liegestütz!J146=\"\",AB146=\"OK\"),VLOOKUP(G146&D146,$AJ$10:$AT$31,9,FALSE)+1,IF(AND(Liegestütz!J146=\"\",AB146=\"kein Test\"),\"\",Liegestütz!J146))+IF(AND(Balance!J146=\"\",AB146=\"OK\"),VLOOKUP(G146&D146,$AJ$10:$AT$31,10,FALSE)+1,IF(AND(Balance!J146=\"\",AB146=\"kein Test\"),\"\",Balance!J146))+IF(AND('1000m'!J146=\"\",AB146=\"OK\"),VLOOKUP(G146&D146,$AJ$10:$AT$31,11,FALSE)+1,IF(AND('1000m'!J146=\"\",AB146=\"kein Test\"),\"\",'1000m'!J146)))/8)","v":""},null,null,"kein Test"]
[138,{"$f":"IF(Athletenliste!B147=\"\",\"\",Athletenliste!B147)","v":""},{"$f":"IF(Athletenliste!C147=\"\",\"\",Athletenliste!C147)","v":""},{"$f":"IF(Athletenliste!D147=\"\",\"\",Athletenliste!D147)","v":""},{"$f":"IF(Athletenliste!E147=\"\",\"\",Athletenliste!E147)","v":""},{"$f":"IF(Athletenliste!F147=\"\",\"\",Athletenliste!F147)","v":""},{"$f":"IF(Athletenliste!G147=\"\",\"\",Athletenliste!G147)","v":""},{"$f":"IF(Athletenliste!H147=\"\",\"\",Athletenliste!H147)","v":""},{"$f":"IF(Messen_Beweglichkeit!K147=\"\",\"\",Messen_Beweglichkeit!K147)","v":""},{"$f":"IF(Messen_Beweglichkeit!L147=\"\",\"\",Messen_Beweglichkeit!L147)","v":""},{"$f":"IF('Jump-and-Reach'!I147=\"\",\"\",'Jump-and-Reach'!I147)","v":""},{"$f":"IF('Jump-and-Reach'!J147=\"\",\"\",'Jump-and-Reach'!J147)","v":""},{"$f":"IF('30m Sprint'!I147=\"\",\"\",'30m Sprint'!I147)","v":""},{"$f":"IF('30m Sprint'!J147=\"\",\"\",'30m Sprint'!J147)","v":""},{"$f":"IF(KaBu!I147=\"\",\"\",KaBu!I147)","v":""},{"$f":"IF(KaBu!J147=\"\",\"\",KaBu!J147)","v":""},{"$f":"IF(Seilspringen!I147=\"\",\"\",Seilspringen!I147)","v":""},{"$f":"IF(Seilspringen!J147=\"\",\"\",Seilspringen!J147)","v":""},{"$f":"IF(Liegestütz!I147=\"\",\"\",Liegestütz!I147)","v":""},{"$f":"IF(Liegestütz!J147=\"\",\"\",Liegestütz!J147)","v":""},{"$f":"IF(Balance!I147=\"\",\"\",Balance!I147)","v":""},{"$f":"IF(Balance!J147=\"\",\"\",Balance!J147)","v":""},{"$f":"IF('1000m'!I147=\"\",\"\",'1000m'!I147)","v":""},{"$f":"IF('1000m'!J147=\"\",\"\",'1000m'!J147)","v":""},{"$f":"IF(B147=\"\",\"\",(IF(AND(Messen_Beweglichkeit!L147=\"\",AB147=\"OK\"),VLOOKUP(G147&D147,$AJ$10:$AT$31,4,FALSE)+1,IF(AND(Messen_Beweglichkeit!J147=\"\",AB147=\"kein Test\"),\"\",Messen_Beweglichkeit!L147))+IF(AND('Jump-and-Reach'!J147=\"\",AB147=\"OK\"),VLOOKUP(G147&D147,$AJ$10:$AT$31,5,FALSE)+1,IF(AND('Jump-and-Reach'!J147=\"\",AB147=\"kein Test\"),\"\",'Jump-and-Reach'!J147))+IF(AND('30m Sprint'!J147=\"\",AB147=\"OK\"),VLOOKUP(G147&D147,$AJ$10:$AT$31,6,FALSE)+1,IF(AND('30m Sprint'!J147=\"\",AB147=\"kein Test\"),\"\",'30m Sprint'!J147))+IF(AND(KaBu!J147=\"\",AB147=\"OK\"),VLOOKUP(G147&D147,$AJ$10:$AT$31,7,FALSE)+1,IF(AND(KaBu!J147=\"\",AB147=\"kein Test\"),\"\",KaBu!J147))+IF(AND(Seilspringen!J147=\"\",AB147=\"OK\"),VLOOKUP(G147&D147,$AJ$10:$AT$31,8,FALSE)+1,IF(AND(Seilspringen!J147=\"\",AB147=\"kein Test\"),\"\",Seilspringen!J147))+IF(AND(Liegestütz!J147=\"\",AB147=\"OK\"),VLOOKUP(G147&D147,$AJ$10:$AT$31,9,FALSE)+1,IF(AND(Liegestütz!J147=\"\",AB147=\"kein Test\"),\"\",Liegestütz!J147))+IF(AND(Balance!J147=\"\",AB147=\"OK\"),VLOOKUP(G147&D147,$AJ$10:$AT$31,10,FALSE)+1,IF(AND(Balance!J147=\"\",AB147=\"kein Test\"),\"\",Balance!J147))+IF(AND('1000m'!J147=\"\",AB147=\"OK\"),VLOOKUP(G147&D147,$AJ$10:$AT$31,11,FALSE)+1,IF(AND('1000m'!J147=\"\",AB147=\"kein Test\"),\"\",'1000m'!J147)))/8)","v":""},null,null,"kein Test"]
[139,{"$f":"IF(Athletenliste!B148=\"\",\"\",Athletenliste!B148)","v":""},{"$f":"IF(Athletenliste!C148=\"\",\"\",Athletenliste!C148)","v":""},{"$f":"IF(Athletenliste!D148=\"\",\"\",Athletenliste!D148)","v":""},{"$f":"IF(Athletenliste!E148=\"\",\"\",Athletenliste!E148)","v":""},{"$f":"IF(Athletenliste!F148=\"\",\"\",Athletenliste!F148)","v":""},{"$f":"IF(Athletenliste!G148=\"\",\"\",Athletenliste!G148)","v":""},{"$f":"IF(Athletenliste!H148=\"\",\"\",Athletenliste!H148)","v":""},{"$f":"IF(Messen_Beweglichkeit!K148=\"\",\"\",Messen_Beweglichkeit!K148)","v":""},{"$f":"IF(Messen_Beweglichkeit!L148=\"\",\"\",Messen_Beweglichkeit!L148)","v":""},{"$f":"IF('Jump-and-Reach'!I148=\"\",\"\",'Jump-and-Reach'!I148)","v":""},{"$f":"IF('Jump-and-Reach'!J148=\"\",\"\",'Jump-and-Reach'!J148)","v":""},{"$f":"IF('30m Sprint'!I148=\"\",\"\",'30m Sprint'!I148)","v":""},{"$f":"IF('30m Sprint'!J148=\"\",\"\",'30m Sprint'!J148)","v":""},{"$f":"IF(KaBu!I148=\"\",\"\",KaBu!I148)","v":""},{"$f":"IF(KaBu!J148=\"\",\"\",KaBu!J148)","v":""},{"$f":"IF(Seilspringen!I148=\"\",\"\",Seilspringen!I148)","v":""},{"$f":"IF(Seilspringen!J148=\"\",\"\",Seilspringen!J148)","v":""},{"$f":"IF(Liegestütz!I148=\"\",\"\",Liegestütz!I148)","v":""},{"$f":"IF(Liegestütz!J148=\"\",\"\",Liegestütz!J148)","v":""},{"$f":"IF(Balance!I148=\"\",\"\",Balance!I148)","v":""},{"$f":"IF(Balance!J148=\"\",\"\",Balance!J148)","v":""},{"$f":"IF('1000m'!I148=\"\",\"\",'1000m'!I148)","v":""},{"$f":"IF('1000m'!J148=\"\",\"\",'1000m'!J148)","v":""},{"$f":"IF(B148=\"\",\"\",(IF(AND(Messen_Beweglichkeit!L148=\"\",AB148=\"OK\"),VLOOKUP(G148&D148,$AJ$10:$AT$31,4,FALSE)+1,IF(AND(Messen_Beweglichkeit!J148=\"\",AB148=\"kein Test\"),\"\",Messen_Beweglichkeit!L148))+IF(AND('Jump-and-Reach'!J148=\"\",AB148=\"OK\"),VLOOKUP(G148&D148,$AJ$10:$AT$31,5,FALSE)+1,IF(AND('Jump-and-Reach'!J148=\"\",AB148=\"kein Test\"),\"\",'Jump-and-Reach'!J148))+IF(AND('30m Sprint'!J148=\"\",AB148=\"OK\"),VLOOKUP(G148&D148,$AJ$10:$AT$31,6,FALSE)+1,IF(AND('30m Sprint'!J148=\"\",AB148=\"kein Test\"),\"\",'30m Sprint'!J148))+IF(AND(KaBu!J148=\"\",AB148=\"OK\"),VLOOKUP(G148&D148,$AJ$10:$AT$31,7,FALSE)+1,IF(AND(KaBu!J148=\"\",AB148=\"kein Test\"),\"\",KaBu!J148))+IF(AND(Seilspringen!J148=\"\",AB148=\"OK\"),VLOOKUP(G148&D148,$AJ$10:$AT$31,8,FALSE)+1,IF(AND(Seilspringen!J148=\"\",AB148=\"kein Test\"),\"\",Seilspringen!J148))+IF(AND(Liegestütz!J148=\"\",AB148=\"OK\"),VLOOKUP(G148&D148,$AJ$10:$AT$31,9,FALSE)+1,IF(AND(Liegestütz!J148=\"\",AB148=\"kein Test\"),\"\",Liegestütz!J148))+IF(AND(Balance!J148=\"\",AB148=\"OK\"),VLOOKUP(G148&D148,$AJ$10:$AT$31,10,FALSE)+1,IF(AND(Balance!J148=\"\",AB148=\"kein Test\"),\"\",Balance!J148))+IF(AND('1000m'!J148=\"\",AB148=\"OK\"),VLOOKUP(G148&D148,$AJ$10:$AT$31,11,FALSE)+1,IF(AND('1000m'!J148=\"\",AB148=\"kein Test\"),\"\",'1000m'!J148)))/8)","v":""},null,null,"kein Test"]
[140,{"$f":"IF(Athletenliste!B149=\"\",\"\",Athletenliste!B149)","v":""},{"$f":"IF(Athletenliste!C149=\"\",\"\",Athletenliste!C149)","v":""},{"$f":"IF(Athletenliste!D149=\"\",\"\",Athletenliste!D149)","v":""},{"$f":"IF(Athletenliste!E149=\"\",\"\",Athletenliste!E149)","v":""},{"$f":"IF(Athletenliste!F149=\"\",\"\",Athletenliste!F149)","v":""},{"$f":"IF(Athletenliste!G149=\"\",\"\",Athletenliste!G149)","v":""},{"$f":"IF(Athletenliste!H149=\"\",\"\",Athletenliste!H149)","v":""},{"$f":"IF(Messen_Beweglichkeit!K149=\"\",\"\",Messen_Beweglichkeit!K149)","v":""},{"$f":"IF(Messen_Beweglichkeit!L149=\"\",\"\",Messen_Beweglichkeit!L149)","v":""},{"$f":"IF('Jump-and-Reach'!I149=\"\",\"\",'Jump-and-Reach'!I149)","v":""},{"$f":"IF('Jump-and-Reach'!J149=\"\",\"\",'Jump-and-Reach'!J149)","v":""},{"$f":"IF('30m Sprint'!I149=\"\",\"\",'30m Sprint'!I149)","v":""},{"$f":"IF('30m Sprint'!J149=\"\",\"\",'30m Sprint'!J149)","v":""},{"$f":"IF(KaBu!I149=\"\",\"\",KaBu!I149)","v":""},{"$f":"IF(KaBu!J149=\"\",\"\",KaBu!J149)","v":""},{"$f":"IF(Seilspringen!I149=\"\",\"\",Seilspringen!I149)","v":""},{"$f":"IF(Seilspringen!J149=\"\",\"\",Seilspringen!J149)","v":""},{"$f":"IF(Liegestütz!I149=\"\",\"\",Liegestütz!I149)","v":""},{"$f":"IF(Liegestütz!J149=\"\",\"\",Liegestütz!J149)","v":""},{"$f":"IF(Balance!I149=\"\",\"\",Balance!I149)","v":""},{"$f":"IF(Balance!J149=\"\",\"\",Balance!J149)","v":""},{"$f":"IF('1000m'!I149=\"\",\"\",'1000m'!I149)","v":""},{"$f":"IF('1000m'!J149=\"\",\"\",'1000m'!J149)","v":""},{"$f":"IF(B149=\"\",\"\",(IF(AND(Messen_Beweglichkeit!L149=\"\",AB149=\"OK\"),VLOOKUP(G149&D149,$AJ$10:$AT$31,4,FALSE)+1,IF(AND(Messen_Beweglichkeit!J149=\"\",AB149=\"kein Test\"),\"\",Messen_Beweglichkeit!L149))+IF(AND('Jump-and-Reach'!J149=\"\",AB149=\"OK\"),VLOOKUP(G149&D149,$AJ$10:$AT$31,5,FALSE)+1,IF(AND('Jump-and-Reach'!J149=\"\",AB149=\"kein Test\"),\"\",'Jump-and-Reach'!J149))+IF(AND('30m Sprint'!J149=\"\",AB149=\"OK\"),VLOOKUP(G149&D149,$AJ$10:$AT$31,6,FALSE)+1,IF(AND('30m Sprint'!J149=\"\",AB149=\"kein Test\"),\"\",'30m Sprint'!J149))+IF(AND(KaBu!J149=\"\",AB149=\"OK\"),VLOOKUP(G149&D149,$AJ$10:$AT$31,7,FALSE)+1,IF(AND(KaBu!J149=\"\",AB149=\"kein Test\"),\"\",KaBu!J149))+IF(AND(Seilspringen!J149=\"\",AB149=\"OK\"),VLOOKUP(G149&D149,$AJ$10:$AT$31,8,FALSE)+1,IF(AND(Seilspringen!J149=\"\",AB149=\"kein Test\"),\"\",Seilspringen!J149))+IF(AND(Liegestütz!J149=\"\",AB149=\"OK\"),VLOOKUP(G149&D149,$AJ$10:$AT$31,9,FALSE)+1,IF(AND(Liegestütz!J149=\"\",AB149=\"kein Test\"),\"\",Liegestütz!J149))+IF(AND(Balance!J149=\"\",AB149=\"OK\"),VLOOKUP(G149&D149,$AJ$10:$AT$31,10,FALSE)+1,IF(AND(Balance!J149=\"\",AB149=\"kein Test\"),\"\",Balance!J149))+IF(AND('1000m'!J149=\"\",AB149=\"OK\"),VLOOKUP(G149&D149,$AJ$10:$AT$31,11,FALSE)+1,IF(AND('1000m'!J149=\"\",AB149=\"kein Test\"),\"\",'1000m'!J149)))/8)","v":""},null,null,"kein Test"]
[141,{"$f":"IF(Athletenliste!B150=\"\",\"\",Athletenliste!B150)","v":""},{"$f":"IF(Athletenliste!C150=\"\",\"\",Athletenliste!C150)","v":""},{"$f":"IF(Athletenliste!D150=\"\",\"\",Athletenliste!D150)","v":""},{"$f":"IF(Athletenliste!E150=\"\",\"\",Athletenliste!E150)","v":""},{"$f":"IF(Athletenliste!F150=\"\",\"\",Athletenliste!F150)","v":""},{"$f":"IF(Athletenliste!G150=\"\",\"\",Athletenliste!G150)","v":""},{"$f":"IF(Athletenliste!H150=\"\",\"\",Athletenliste!H150)","v":""},{"$f":"IF(Messen_Beweglichkeit!K150=\"\",\"\",Messen_Beweglichkeit!K150)","v":""},{"$f":"IF(Messen_Beweglichkeit!L150=\"\",\"\",Messen_Beweglichkeit!L150)","v":""},{"$f":"IF('Jump-and-Reach'!I150=\"\",\"\",'Jump-and-Reach'!I150)","v":""},{"$f":"IF('Jump-and-Reach'!J150=\"\",\"\",'Jump-and-Reach'!J150)","v":""},{"$f":"IF('30m Sprint'!I150=\"\",\"\",'30m Sprint'!I150)","v":""},{"$f":"IF('30m Sprint'!J150=\"\",\"\",'30m Sprint'!J150)","v":""},{"$f":"IF(KaBu!I150=\"\",\"\",KaBu!I150)","v":""},{"$f":"IF(KaBu!J150=\"\",\"\",KaBu!J150)","v":""},{"$f":"IF(Seilspringen!I150=\"\",\"\",Seilspringen!I150)","v":""},{"$f":"IF(Seilspringen!J150=\"\",\"\",Seilspringen!J150)","v":""},{"$f":"IF(Liegestütz!I150=\"\",\"\",Liegestütz!I150)","v":""},{"$f":"IF(Liegestütz!J150=\"\",\"\",Liegestütz!J150)","v":""},{"$f":"IF(Balance!I150=\"\",\"\",Balance!I150)","v":""},{"$f":"IF(Balance!J150=\"\",\"\",Balance!J150)","v":""},{"$f":"IF('1000m'!I150=\"\",\"\",'1000m'!I150)","v":""},{"$f":"IF('1000m'!J150=\"\",\"\",'1000m'!J150)","v":""},{"$f":"IF(B150=\"\",\"\",(IF(AND(Messen_Beweglichkeit!L150=\"\",AB150=\"OK\"),VLOOKUP(G150&D150,$AJ$10:$AT$31,4,FALSE)+1,IF(AND(Messen_Beweglichkeit!J150=\"\",AB150=\"kein Test\"),\"\",Messen_Beweglichkeit!L150))+IF(AND('Jump-and-Reach'!J150=\"\",AB150=\"OK\"),VLOOKUP(G150&D150,$AJ$10:$AT$31,5,FALSE)+1,IF(AND('Jump-and-Reach'!J150=\"\",AB150=\"kein Test\"),\"\",'Jump-and-Reach'!J150))+IF(AND('30m Sprint'!J150=\"\",AB150=\"OK\"),VLOOKUP(G150&D150,$AJ$10:$AT$31,6,FALSE)+1,IF(AND('30m Sprint'!J150=\"\",AB150=\"kein Test\"),\"\",'30m Sprint'!J150))+IF(AND(KaBu!J150=\"\",AB150=\"OK\"),VLOOKUP(G150&D150,$AJ$10:$AT$31,7,FALSE)+1,IF(AND(KaBu!J150=\"\",AB150=\"kein Test\"),\"\",KaBu!J150))+IF(AND(Seilspringen!J150=\"\",AB150=\"OK\"),VLOOKUP(G150&D150,$AJ$10:$AT$31,8,FALSE)+1,IF(AND(Seilspringen!J150=\"\",AB150=\"kein Test\"),\"\",Seilspringen!J150))+IF(AND(Liegestütz!J150=\"\",AB150=\"OK\"),VLOOKUP(G150&D150,$AJ$10:$AT$31,9,FALSE)+1,IF(AND(Liegestütz!J150=\"\",AB150=\"kein Test\"),\"\",Liegestütz!J150))+IF(AND(Balance!J150=\"\",AB150=\"OK\"),VLOOKUP(G150&D150,$AJ$10:$AT$31,10,FALSE)+1,IF(AND(Balance!J150=\"\",AB150=\"kein Test\"),\"\",Balance!J150))+IF(AND('1000m'!J150=\"\",AB150=\"OK\"),VLOOKUP(G150&D150,$AJ$10:$AT$31,11,FALSE)+1,IF(AND('1000m'!J150=\"\",AB150=\"kein Test\"),\"\",'1000m'!J150)))/8)","v":""},null,null,"kein Test"]
[142,{"$f":"IF(Athletenliste!B151=\"\",\"\",Athletenliste!B151)","v":""},{"$f":"IF(Athletenliste!C151=\"\",\"\",Athletenliste!C151)","v":""},{"$f":"IF(Athletenliste!D151=\"\",\"\",Athletenliste!D151)","v":""},{"$f":"IF(Athletenliste!E151=\"\",\"\",Athletenliste!E151)","v":""},{"$f":"IF(Athletenliste!F151=\"\",\"\",Athletenliste!F151)","v":""},{"$f":"IF(Athletenliste!G151=\"\",\"\",Athletenliste!G151)","v":""},{"$f":"IF(Athletenliste!H151=\"\",\"\",Athletenliste!H151)","v":""},{"$f":"IF(Messen_Beweglichkeit!K151=\"\",\"\",Messen_Beweglichkeit!K151)","v":""},{"$f":"IF(Messen_Beweglichkeit!L151=\"\",\"\",Messen_Beweglichkeit!L151)","v":""},{"$f":"IF('Jump-and-Reach'!I151=\"\",\"\",'Jump-and-Reach'!I151)","v":""},{"$f":"IF('Jump-and-Reach'!J151=\"\",\"\",'Jump-and-Reach'!J151)","v":""},{"$f":"IF('30m Sprint'!I151=\"\",\"\",'30m Sprint'!I151)","v":""},{"$f":"IF('30m Sprint'!J151=\"\",\"\",'30m Sprint'!J151)","v":""},{"$f":"IF(KaBu!I151=\"\",\"\",KaBu!I151)","v":""},{"$f":"IF(KaBu!J151=\"\",\"\",KaBu!J151)","v":""},{"$f":"IF(Seilspringen!I151=\"\",\"\",Seilspringen!I151)","v":""},{"$f":"IF(Seilspringen!J151=\"\",\"\",Seilspringen!J151)","v":""},{"$f":"IF(Liegestütz!I151=\"\",\"\",Liegestütz!I151)","v":""},{"$f":"IF(Liegestütz!J151=\"\",\"\",Liegestütz!J151)","v":""},{"$f":"IF(Balance!I151=\"\",\"\",Balance!I151)","v":""},{"$f":"IF(Balance!J151=\"\",\"\",Balance!J151)","v":""},{"$f":"IF('1000m'!I151=\"\",\"\",'1000m'!I151)","v":""},{"$f":"IF('1000m'!J151=\"\",\"\",'1000m'!J151)","v":""},{"$f":"IF(B151=\"\",\"\",(IF(AND(Messen_Beweglichkeit!L151=\"\",AB151=\"OK\"),VLOOKUP(G151&D151,$AJ$10:$AT$31,4,FALSE)+1,IF(AND(Messen_Beweglichkeit!J151=\"\",AB151=\"kein Test\"),\"\",Messen_Beweglichkeit!L151))+IF(AND('Jump-and-Reach'!J151=\"\",AB151=\"OK\"),VLOOKUP(G151&D151,$AJ$10:$AT$31,5,FALSE)+1,IF(AND('Jump-and-Reach'!J151=\"\",AB151=\"kein Test\"),\"\",'Jump-and-Reach'!J151))+IF(AND('30m Sprint'!J151=\"\",AB151=\"OK\"),VLOOKUP(G151&D151,$AJ$10:$AT$31,6,FALSE)+1,IF(AND('30m Sprint'!J151=\"\",AB151=\"kein Test\"),\"\",'30m Sprint'!J151))+IF(AND(KaBu!J151=\"\",AB151=\"OK\"),VLOOKUP(G151&D151,$AJ$10:$AT$31,7,FALSE)+1,IF(AND(KaBu!J151=\"\",AB151=\"kein Test\"),\"\",KaBu!J151))+IF(AND(Seilspringen!J151=\"\",AB151=\"OK\"),VLOOKUP(G151&D151,$AJ$10:$AT$31,8,FALSE)+1,IF(AND(Seilspringen!J151=\"\",AB151=\"kein Test\"),\"\",Seilspringen!J151))+IF(AND(Liegestütz!J151=\"\",AB151=\"OK\"),VLOOKUP(G151&D151,$AJ$10:$AT$31,9,FALSE)+1,IF(AND(Liegestütz!J151=\"\",AB151=\"kein Test\"),\"\",Liegestütz!J151))+IF(AND(Balance!J151=\"\",AB151=\"OK\"),VLOOKUP(G151&D151,$AJ$10:$AT$31,10,FALSE)+1,IF(AND(Balance!J151=\"\",AB151=\"kein Test\"),\"\",Balance!J151))+IF(AND('1000m'!J151=\"\",AB151=\"OK\"),VLOOKUP(G151&D151,$AJ$10:$AT$31,11,FALSE)+1,IF(AND('1000m'!J151=\"\",AB151=\"kein Test\"),\"\",'1000m'!J151)))/8)","v":""},null,null,"kein Test"]
[143,{"$f":"IF(Athletenliste!B152=\"\",\"\",Athletenliste!B152)","v":""},{"$f":"IF(Athletenliste!C152=\"\",\"\",Athletenliste!C152)","v":""},{"$f":"IF(Athletenliste!D152=\"\",\"\",Athletenliste!D152)","v":""},{"$f":"IF(Athletenliste!E152=\"\",\"\",Athletenliste!E152)","v":""},{"$f":"IF(Athletenliste!F152=\"\",\"\",Athletenliste!F152)","v":""},{"$f":"IF(Athletenliste!G152=\"\",\"\",Athletenliste!G152)","v":""},{"$f":"IF(Athletenliste!H152=\"\",\"\",Athletenliste!H152)","v":""},{"$f":"IF(Messen_Beweglichkeit!K152=\"\",\"\",Messen_Beweglichkeit!K152)","v":""},{"$f":"IF(Messen_Beweglichkeit!L152=\"\",\"\",Messen_Beweglichkeit!L152)","v":""},{"$f":"IF('Jump-and-Reach'!I152=\"\",\"\",'Jump-and-Reach'!I152)","v":""},{"$f":"IF('Jump-and-Reach'!J152=\"\",\"\",'Jump-and-Reach'!J152)","v":""},{"$f":"IF('30m Sprint'!I152=\"\",\"\",'30m Sprint'!I152)","v":""},{"$f":"IF('30m Sprint'!J152=\"\",\"\",'30m Sprint'!J152)","v":""},{"$f":"IF(KaBu!I152=\"\",\"\",KaBu!I152)","v":""},{"$f":"IF(KaBu!J152=\"\",\"\",KaBu!J152)","v":""},{"$f":"IF(Seilspringen!I152=\"\",\"\",Seilspringen!I152)","v":""},{"$f":"IF(Seilspringen!J152=\"\",\"\",Seilspringen!J152)","v":""},{"$f":"IF(Liegestütz!I152=\"\",\"\",Liegestütz!I152)","v":""},{"$f":"IF(Liegestütz!J152=\"\",\"\",Liegestütz!J152)","v":""},{"$f":"IF(Balance!I152=\"\",\"\",Balance!I152)","v":""},{"$f":"IF(Balance!J152=\"\",\"\",Balance!J152)","v":""},{"$f":"IF('1000m'!I152=\"\",\"\",'1000m'!I152)","v":""},{"$f":"IF('1000m'!J152=\"\",\"\",'1000m'!J152)","v":""},{"$f":"IF(B152=\"\",\"\",(IF(AND(Messen_Beweglichkeit!L152=\"\",AB152=\"OK\"),VLOOKUP(G152&D152,$AJ$10:$AT$31,4,FALSE)+1,IF(AND(Messen_Beweglichkeit!J152=\"\",AB152=\"kein Test\"),\"\",Messen_Beweglichkeit!L152))+IF(AND('Jump-and-Reach'!J152=\"\",AB152=\"OK\"),VLOOKUP(G152&D152,$AJ$10:$AT$31,5,FALSE)+1,IF(AND('Jump-and-Reach'!J152=\"\",AB152=\"kein Test\"),\"\",'Jump-and-Reach'!J152))+IF(AND('30m Sprint'!J152=\"\",AB152=\"OK\"),VLOOKUP(G152&D152,$AJ$10:$AT$31,6,FALSE)+1,IF(AND('30m Sprint'!J152=\"\",AB152=\"kein Test\"),\"\",'30m Sprint'!J152))+IF(AND(KaBu!J152=\"\",AB152=\"OK\"),VLOOKUP(G152&D152,$AJ$10:$AT$31,7,FALSE)+1,IF(AND(KaBu!J152=\"\",AB152=\"kein Test\"),\"\",KaBu!J152))+IF(AND(Seilspringen!J152=\"\",AB152=\"OK\"),VLOOKUP(G152&D152,$AJ$10:$AT$31,8,FALSE)+1,IF(AND(Seilspringen!J152=\"\",AB152=\"kein Test\"),\"\",Seilspringen!J152))+IF(AND(Liegestütz!J152=\"\",AB152=\"OK\"),VLOOKUP(G152&D152,$AJ$10:$AT$31,9,FALSE)+1,IF(AND(Liegestütz!J152=\"\",AB152=\"kein Test\"),\"\",Liegestütz!J152))+IF(AND(Balance!J152=\"\",AB152=\"OK\"),VLOOKUP(G152&D152,$AJ$10:$AT$31,10,FALSE)+1,IF(AND(Balance!J152=\"\",AB152=\"kein Test\"),\"\",Balance!J152))+IF(AND('1000m'!J152=\"\",AB152=\"OK\"),VLOOKUP(G152&D152,$AJ$10:$AT$31,11,FALSE)+1,IF(AND('1000m'!J152=\"\",AB152=\"kein Test\"),\"\",'1000m'!J152)))/8)","v":""},null,null,"kein Test"]
[144,{"$f":"IF(Athletenliste!B153=\"\",\"\",Athletenliste!B153)","v":""},{"$f":"IF(Athletenliste!C153=\"\",\"\",Athletenliste!C153)","v":""},{"$f":"IF(Athletenliste!D153=\"\",\"\",Athletenliste!D153)","v":""},{"$f":"IF(Athletenliste!E153=\"\",\"\",Athletenliste!E153)","v":""},{"$f":"IF(Athletenliste!F153=\"\",\"\",Athletenliste!F153)","v":""},{"$f":"IF(Athletenliste!G153=\"\",\"\",Athletenliste!G153)","v":""},{"$f":"IF(Athletenliste!H153=\"\",\"\",Athletenliste!H153)","v":""},{"$f":"IF(Messen_Beweglichkeit!K153=\"\",\"\",Messen_Beweglichkeit!K153)","v":""},{"$f":"IF(Messen_Beweglichkeit!L153=\"\",\"\",Messen_Beweglichkeit!L153)","v":""},{"$f":"IF('Jump-and-Reach'!I153=\"\",\"\",'Jump-and-Reach'!I153)","v":""},{"$f":"IF('Jump-and-Reach'!J153=\"\",\"\",'Jump-and-Reach'!J153)","v":""},{"$f":"IF('30m Sprint'!I153=\"\",\"\",'30m Sprint'!I153)","v":""},{"$f":"IF('30m Sprint'!J153=\"\",\"\",'30m Sprint'!J153)","v":""},{"$f":"IF(KaBu!I153=\"\",\"\",KaBu!I153)","v":""},{"$f":"IF(KaBu!J153=\"\",\"\",KaBu!J153)","v":""},{"$f":"IF(Seilspringen!I153=\"\",\"\",Seilspringen!I153)","v":""},{"$f":"IF(Seilspringen!J153=\"\",\"\",Seilspringen!J153)","v":""},{"$f":"IF(Liegestütz!I153=\"\",\"\",Liegestütz!I153)","v":""},{"$f":"IF(Liegestütz!J153=\"\",\"\",Liegestütz!J153)","v":""},{"$f":"IF(Balance!I153=\"\",\"\",Balance!I153)","v":""},{"$f":"IF(Balance!J153=\"\",\"\",Balance!J153)","v":""},{"$f":"IF('1000m'!I153=\"\",\"\",'1000m'!I153)","v":""},{"$f":"IF('1000m'!J153=\"\",\"\",'1000m'!J153)","v":""},{"$f":"IF(B153=\"\",\"\",(IF(AND(Messen_Beweglichkeit!L153=\"\",AB153=\"OK\"),VLOOKUP(G153&D153,$AJ$10:$AT$31,4,FALSE)+1,IF(AND(Messen_Beweglichkeit!J153=\"\",AB153=\"kein Test\"),\"\",Messen_Beweglichkeit!L153))+IF(AND('Jump-and-Reach'!J153=\"\",AB153=\"OK\"),VLOOKUP(G153&D153,$AJ$10:$AT$31,5,FALSE)+1,IF(AND('Jump-and-Reach'!J153=\"\",AB153=\"kein Test\"),\"\",'Jump-and-Reach'!J153))+IF(AND('30m Sprint'!J153=\"\",AB153=\"OK\"),VLOOKUP(G153&D153,$AJ$10:$AT$31,6,FALSE)+1,IF(AND('30m Sprint'!J153=\"\",AB153=\"kein Test\"),\"\",'30m Sprint'!J153))+IF(AND(KaBu!J153=\"\",AB153=\"OK\"),VLOOKUP(G153&D153,$AJ$10:$AT$31,7,FALSE)+1,IF(AND(KaBu!J153=\"\",AB153=\"kein Test\"),\"\",KaBu!J153))+IF(AND(Seilspringen!J153=\"\",AB153=\"OK\"),VLOOKUP(G153&D153,$AJ$10:$AT$31,8,FALSE)+1,IF(AND(Seilspringen!J153=\"\",AB153=\"kein Test\"),\"\",Seilspringen!J153))+IF(AND(Liegestütz!J153=\"\",AB153=\"OK\"),VLOOKUP(G153&D153,$AJ$10:$AT$31,9,FALSE)+1,IF(AND(Liegestütz!J153=\"\",AB153=\"kein Test\"),\"\",Liegestütz!J153))+IF(AND(Balance!J153=\"\",AB153=\"OK\"),VLOOKUP(G153&D153,$AJ$10:$AT$31,10,FALSE)+1,IF(AND(Balance!J153=\"\",AB153=\"kein Test\"),\"\",Balance!J153))+IF(AND('1000m'!J153=\"\",AB153=\"OK\"),VLOOKUP(G153&D153,$AJ$10:$AT$31,11,FALSE)+1,IF(AND('1000m'!J153=\"\",AB153=\"kein Test\"),\"\",'1000m'!J153)))/8)","v":""},null,null,"kein Test"]
[145,{"$f":"IF(Athletenliste!B154=\"\",\"\",Athletenliste!B154)","v":""},{"$f":"IF(Athletenliste!C154=\"\",\"\",Athletenliste!C154)","v":""},{"$f":"IF(Athletenliste!D154=\"\",\"\",Athletenliste!D154)","v":""},{"$f":"IF(Athletenliste!E154=\"\",\"\",Athletenliste!E154)","v":""},{"$f":"IF(Athletenliste!F154=\"\",\"\",Athletenliste!F154)","v":""},{"$f":"IF(Athletenliste!G154=\"\",\"\",Athletenliste!G154)","v":""},{"$f":"IF(Athletenliste!H154=\"\",\"\",Athletenliste!H154)","v":""},{"$f":"IF(Messen_Beweglichkeit!K154=\"\",\"\",Messen_Beweglichkeit!K154)","v":""},{"$f":"IF(Messen_Beweglichkeit!L154=\"\",\"\",Messen_Beweglichkeit!L154)","v":""},{"$f":"IF('Jump-and-Reach'!I154=\"\",\"\",'Jump-and-Reach'!I154)","v":""},{"$f":"IF('Jump-and-Reach'!J154=\"\",\"\",'Jump-and-Reach'!J154)","v":""},{"$f":"IF('30m Sprint'!I154=\"\",\"\",'30m Sprint'!I154)","v":""},{"$f":"IF('30m Sprint'!J154=\"\",\"\",'30m Sprint'!J154)","v":""},{"$f":"IF(KaBu!I154=\"\",\"\",KaBu!I154)","v":""},{"$f":"IF(KaBu!J154=\"\",\"\",KaBu!J154)","v":""},{"$f":"IF(Seilspringen!I154=\"\",\"\",Seilspringen!I154)","v":""},{"$f":"IF(Seilspringen!J154=\"\",\"\",Seilspringen!J154)","v":""},{"$f":"IF(Liegestütz!I154=\"\",\"\",Liegestütz!I154)","v":""},{"$f":"IF(Liegestütz!J154=\"\",\"\",Liegestütz!J154)","v":""},{"$f":"IF(Balance!I154=\"\",\"\",Balance!I154)","v":""},{"$f":"IF(Balance!J154=\"\",\"\",Balance!J154)","v":""},{"$f":"IF('1000m'!I154=\"\",\"\",'1000m'!I154)","v":""},{"$f":"IF('1000m'!J154=\"\",\"\",'1000m'!J154)","v":""},{"$f":"IF(B154=\"\",\"\",(IF(AND(Messen_Beweglichkeit!L154=\"\",AB154=\"OK\"),VLOOKUP(G154&D154,$AJ$10:$AT$31,4,FALSE)+1,IF(AND(Messen_Beweglichkeit!J154=\"\",AB154=\"kein Test\"),\"\",Messen_Beweglichkeit!L154))+IF(AND('Jump-and-Reach'!J154=\"\",AB154=\"OK\"),VLOOKUP(G154&D154,$AJ$10:$AT$31,5,FALSE)+1,IF(AND('Jump-and-Reach'!J154=\"\",AB154=\"kein Test\"),\"\",'Jump-and-Reach'!J154))+IF(AND('30m Sprint'!J154=\"\",AB154=\"OK\"),VLOOKUP(G154&D154,$AJ$10:$AT$31,6,FALSE)+1,IF(AND('30m Sprint'!J154=\"\",AB154=\"kein Test\"),\"\",'30m Sprint'!J154))+IF(AND(KaBu!J154=\"\",AB154=\"OK\"),VLOOKUP(G154&D154,$AJ$10:$AT$31,7,FALSE)+1,IF(AND(KaBu!J154=\"\",AB154=\"kein Test\"),\"\",KaBu!J154))+IF(AND(Seilspringen!J154=\"\",AB154=\"OK\"),VLOOKUP(G154&D154,$AJ$10:$AT$31,8,FALSE)+1,IF(AND(Seilspringen!J154=\"\",AB154=\"kein Test\"),\"\",Seilspringen!J154))+IF(AND(Liegestütz!J154=\"\",AB154=\"OK\"),VLOOKUP(G154&D154,$AJ$10:$AT$31,9,FALSE)+1,IF(AND(Liegestütz!J154=\"\",AB154=\"kein Test\"),\"\",Liegestütz!J154))+IF(AND(Balance!J154=\"\",AB154=\"OK\"),VLOOKUP(G154&D154,$AJ$10:$AT$31,10,FALSE)+1,IF(AND(Balance!J154=\"\",AB154=\"kein Test\"),\"\",Balance!J154))+IF(AND('1000m'!J154=\"\",AB154=\"OK\"),VLOOKUP(G154&D154,$AJ$10:$AT$31,11,FALSE)+1,IF(AND('1000m'!J154=\"\",AB154=\"kein Test\"),\"\",'1000m'!J154)))/8)","v":""},null,null,"kein Test"]
[146,{"$f":"IF(Athletenliste!B155=\"\",\"\",Athletenliste!B155)","v":""},{"$f":"IF(Athletenliste!C155=\"\",\"\",Athletenliste!C155)","v":""},{"$f":"IF(Athletenliste!D155=\"\",\"\",Athletenliste!D155)","v":""},{"$f":"IF(Athletenliste!E155=\"\",\"\",Athletenliste!E155)","v":""},{"$f":"IF(Athletenliste!F155=\"\",\"\",Athletenliste!F155)","v":""},{"$f":"IF(Athletenliste!G155=\"\",\"\",Athletenliste!G155)","v":""},{"$f":"IF(Athletenliste!H155=\"\",\"\",Athletenliste!H155)","v":""},{"$f":"IF(Messen_Beweglichkeit!K155=\"\",\"\",Messen_Beweglichkeit!K155)","v":""},{"$f":"IF(Messen_Beweglichkeit!L155=\"\",\"\",Messen_Beweglichkeit!L155)","v":""},{"$f":"IF('Jump-and-Reach'!I155=\"\",\"\",'Jump-and-Reach'!I155)","v":""},{"$f":"IF('Jump-and-Reach'!J155=\"\",\"\",'Jump-and-Reach'!J155)","v":""},{"$f":"IF('30m Sprint'!I155=\"\",\"\",'30m Sprint'!I155)","v":""},{"$f":"IF('30m Sprint'!J155=\"\",\"\",'30m Sprint'!J155)","v":""},{"$f":"IF(KaBu!I155=\"\",\"\",KaBu!I155)","v":""},{"$f":"IF(KaBu!J155=\"\",\"\",KaBu!J155)","v":""},{"$f":"IF(Seilspringen!I155=\"\",\"\",Seilspringen!I155)","v":""},{"$f":"IF(Seilspringen!J155=\"\",\"\",Seilspringen!J155)","v":""},{"$f":"IF(Liegestütz!I155=\"\",\"\",Liegestütz!I155)","v":""},{"$f":"IF(Liegestütz!J155=\"\",\"\",Liegestütz!J155)","v":""},{"$f":"IF(Balance!I155=\"\",\"\",Balance!I155)","v":""},{"$f":"IF(Balance!J155=\"\",\"\",Balance!J155)","v":""},{"$f":"IF('1000m'!I155=\"\",\"\",'1000m'!I155)","v":""},{"$f":"IF('1000m'!J155=\"\",\"\",'1000m'!J155)","v":""},{"$f":"IF(B155=\"\",\"\",(IF(AND(Messen_Beweglichkeit!L155=\"\",AB155=\"OK\"),VLOOKUP(G155&D155,$AJ$10:$AT$31,4,FALSE)+1,IF(AND(Messen_Beweglichkeit!J155=\"\",AB155=\"kein Test\"),\"\",Messen_Beweglichkeit!L155))+IF(AND('Jump-and-Reach'!J155=\"\",AB155=\"OK\"),VLOOKUP(G155&D155,$AJ$10:$AT$31,5,FALSE)+1,IF(AND('Jump-and-Reach'!J155=\"\",AB155=\"kein Test\"),\"\",'Jump-and-Reach'!J155))+IF(AND('30m Sprint'!J155=\"\",AB155=\"OK\"),VLOOKUP(G155&D155,$AJ$10:$AT$31,6,FALSE)+1,IF(AND('30m Sprint'!J155=\"\",AB155=\"kein Test\"),\"\",'30m Sprint'!J155))+IF(AND(KaBu!J155=\"\",AB155=\"OK\"),VLOOKUP(G155&D155,$AJ$10:$AT$31,7,FALSE)+1,IF(AND(KaBu!J155=\"\",AB155=\"kein Test\"),\"\",KaBu!J155))+IF(AND(Seilspringen!J155=\"\",AB155=\"OK\"),VLOOKUP(G155&D155,$AJ$10:$AT$31,8,FALSE)+1,IF(AND(Seilspringen!J155=\"\",AB155=\"kein Test\"),\"\",Seilspringen!J155))+IF(AND(Liegestütz!J155=\"\",AB155=\"OK\"),VLOOKUP(G155&D155,$AJ$10:$AT$31,9,FALSE)+1,IF(AND(Liegestütz!J155=\"\",AB155=\"kein Test\"),\"\",Liegestütz!J155))+IF(AND(Balance!J155=\"\",AB155=\"OK\"),VLOOKUP(G155&D155,$AJ$10:$AT$31,10,FALSE)+1,IF(AND(Balance!J155=\"\",AB155=\"kein Test\"),\"\",Balance!J155))+IF(AND('1000m'!J155=\"\",AB155=\"OK\"),VLOOKUP(G155&D155,$AJ$10:$AT$31,11,FALSE)+1,IF(AND('1000m'!J155=\"\",AB155=\"kein Test\"),\"\",'1000m'!J155)))/8)","v":""},null,null,"kein Test"]
[147,{"$f":"IF(Athletenliste!B156=\"\",\"\",Athletenliste!B156)","v":""},{"$f":"IF(Athletenliste!C156=\"\",\"\",Athletenliste!C156)","v":""},{"$f":"IF(Athletenliste!D156=\"\",\"\",Athletenliste!D156)","v":""},{"$f":"IF(Athletenliste!E156=\"\",\"\",Athletenliste!E156)","v":""},{"$f":"IF(Athletenliste!F156=\"\",\"\",Athletenliste!F156)","v":""},{"$f":"IF(Athletenliste!G156=\"\",\"\",Athletenliste!G156)","v":""},{"$f":"IF(Athletenliste!H156=\"\",\"\",Athletenliste!H156)","v":""},{"$f":"IF(Messen_Beweglichkeit!K156=\"\",\"\",Messen_Beweglichkeit!K156)","v":""},{"$f":"IF(Messen_Beweglichkeit!L156=\"\",\"\",Messen_Beweglichkeit!L156)","v":""},{"$f":"IF('Jump-and-Reach'!I156=\"\",\"\",'Jump-and-Reach'!I156)","v":""},{"$f":"IF('Jump-and-Reach'!J156=\"\",\"\",'Jump-and-Reach'!J156)","v":""},{"$f":"IF('30m Sprint'!I156=\"\",\"\",'30m Sprint'!I156)","v":""},{"$f":"IF('30m Sprint'!J156=\"\",\"\",'30m Sprint'!J156)","v":""},{"$f":"IF(KaBu!I156=\"\",\"\",KaBu!I156)","v":""},{"$f":"IF(KaBu!J156=\"\",\"\",KaBu!J156)","v":""},{"$f":"IF(Seilspringen!I156=\"\",\"\",Seilspringen!I156)","v":""},{"$f":"IF(Seilspringen!J156=\"\",\"\",Seilspringen!J156)","v":""},{"$f":"IF(Liegestütz!I156=\"\",\"\",Liegestütz!I156)","v":""},{"$f":"IF(Liegestütz!J156=\"\",\"\",Liegestütz!J156)","v":""},{"$f":"IF(Balance!I156=\"\",\"\",Balance!I156)","v":""},{"$f":"IF(Balance!J156=\"\",\"\",Balance!J156)","v":""},{"$f":"IF('1000m'!I156=\"\",\"\",'1000m'!I156)","v":""},{"$f":"IF('1000m'!J156=\"\",\"\",'1000m'!J156)","v":""},{"$f":"IF(B156=\"\",\"\",(IF(AND(Messen_Beweglichkeit!L156=\"\",AB156=\"OK\"),VLOOKUP(G156&D156,$AJ$10:$AT$31,4,FALSE)+1,IF(AND(Messen_Beweglichkeit!J156=\"\",AB156=\"kein Test\"),\"\",Messen_Beweglichkeit!L156))+IF(AND('Jump-and-Reach'!J156=\"\",AB156=\"OK\"),VLOOKUP(G156&D156,$AJ$10:$AT$31,5,FALSE)+1,IF(AND('Jump-and-Reach'!J156=\"\",AB156=\"kein Test\"),\"\",'Jump-and-Reach'!J156))+IF(AND('30m Sprint'!J156=\"\",AB156=\"OK\"),VLOOKUP(G156&D156,$AJ$10:$AT$31,6,FALSE)+1,IF(AND('30m Sprint'!J156=\"\",AB156=\"kein Test\"),\"\",'30m Sprint'!J156))+IF(AND(KaBu!J156=\"\",AB156=\"OK\"),VLOOKUP(G156&D156,$AJ$10:$AT$31,7,FALSE)+1,IF(AND(KaBu!J156=\"\",AB156=\"kein Test\"),\"\",KaBu!J156))+IF(AND(Seilspringen!J156=\"\",AB156=\"OK\"),VLOOKUP(G156&D156,$AJ$10:$AT$31,8,FALSE)+1,IF(AND(Seilspringen!J156=\"\",AB156=\"kein Test\"),\"\",Seilspringen!J156))+IF(AND(Liegestütz!J156=\"\",AB156=\"OK\"),VLOOKUP(G156&D156,$AJ$10:$AT$31,9,FALSE)+1,IF(AND(Liegestütz!J156=\"\",AB156=\"kein Test\"),\"\",Liegestütz!J156))+IF(AND(Balance!J156=\"\",AB156=\"OK\"),VLOOKUP(G156&D156,$AJ$10:$AT$31,10,FALSE)+1,IF(AND(Balance!J156=\"\",AB156=\"kein Test\"),\"\",Balance!J156))+IF(AND('1000m'!J156=\"\",AB156=\"OK\"),VLOOKUP(G156&D156,$AJ$10:$AT$31,11,FALSE)+1,IF(AND('1000m'!J156=\"\",AB156=\"kein Test\"),\"\",'1000m'!J156)))/8)","v":""},null,null,"kein Test"]
[148,{"$f":"IF(Athletenliste!B157=\"\",\"\",Athletenliste!B157)","v":""},{"$f":"IF(Athletenliste!C157=\"\",\"\",Athletenliste!C157)","v":""},{"$f":"IF(Athletenliste!D157=\"\",\"\",Athletenliste!D157)","v":""},{"$f":"IF(Athletenliste!E157=\"\",\"\",Athletenliste!E157)","v":""},{"$f":"IF(Athletenliste!F157=\"\",\"\",Athletenliste!F157)","v":""},{"$f":"IF(Athletenliste!G157=\"\",\"\",Athletenliste!G157)","v":""},{"$f":"IF(Athletenliste!H157=\"\",\"\",Athletenliste!H157)","v":""},{"$f":"IF(Messen_Beweglichkeit!K157=\"\",\"\",Messen_Beweglichkeit!K157)","v":""},{"$f":"IF(Messen_Beweglichkeit!L157=\"\",\"\",Messen_Beweglichkeit!L157)","v":""},{"$f":"IF('Jump-and-Reach'!I157=\"\",\"\",'Jump-and-Reach'!I157)","v":""},{"$f":"IF('Jump-and-Reach'!J157=\"\",\"\",'Jump-and-Reach'!J157)","v":""},{"$f":"IF('30m Sprint'!I157=\"\",\"\",'30m Sprint'!I157)","v":""},{"$f":"IF('30m Sprint'!J157=\"\",\"\",'30m Sprint'!J157)","v":""},{"$f":"IF(KaBu!I157=\"\",\"\",KaBu!I157)","v":""},{"$f":"IF(KaBu!J157=\"\",\"\",KaBu!J157)","v":""},{"$f":"IF(Seilspringen!I157=\"\",\"\",Seilspringen!I157)","v":""},{"$f":"IF(Seilspringen!J157=\"\",\"\",Seilspringen!J157)","v":""},{"$f":"IF(Liegestütz!I157=\"\",\"\",Liegestütz!I157)","v":""},{"$f":"IF(Liegestütz!J157=\"\",\"\",Liegestütz!J157)","v":""},{"$f":"IF(Balance!I157=\"\",\"\",Balance!I157)","v":""},{"$f":"IF(Balance!J157=\"\",\"\",Balance!J157)","v":""},{"$f":"IF('1000m'!I157=\"\",\"\",'1000m'!I157)","v":""},{"$f":"IF('1000m'!J157=\"\",\"\",'1000m'!J157)","v":""},{"$f":"IF(B157=\"\",\"\",(IF(AND(Messen_Beweglichkeit!L157=\"\",AB157=\"OK\"),VLOOKUP(G157&D157,$AJ$10:$AT$31,4,FALSE)+1,IF(AND(Messen_Beweglichkeit!J157=\"\",AB157=\"kein Test\"),\"\",Messen_Beweglichkeit!L157))+IF(AND('Jump-and-Reach'!J157=\"\",AB157=\"OK\"),VLOOKUP(G157&D157,$AJ$10:$AT$31,5,FALSE)+1,IF(AND('Jump-and-Reach'!J157=\"\",AB157=\"kein Test\"),\"\",'Jump-and-Reach'!J157))+IF(AND('30m Sprint'!J157=\"\",AB157=\"OK\"),VLOOKUP(G157&D157,$AJ$10:$AT$31,6,FALSE)+1,IF(AND('30m Sprint'!J157=\"\",AB157=\"kein Test\"),\"\",'30m Sprint'!J157))+IF(AND(KaBu!J157=\"\",AB157=\"OK\"),VLOOKUP(G157&D157,$AJ$10:$AT$31,7,FALSE)+1,IF(AND(KaBu!J157=\"\",AB157=\"kein Test\"),\"\",KaBu!J157))+IF(AND(Seilspringen!J157=\"\",AB157=\"OK\"),VLOOKUP(G157&D157,$AJ$10:$AT$31,8,FALSE)+1,IF(AND(Seilspringen!J157=\"\",AB157=\"kein Test\"),\"\",Seilspringen!J157))+IF(AND(Liegestütz!J157=\"\",AB157=\"OK\"),VLOOKUP(G157&D157,$AJ$10:$AT$31,9,FALSE)+1,IF(AND(Liegestütz!J157=\"\",AB157=\"kein Test\"),\"\",Liegestütz!J157))+IF(AND(Balance!J157=\"\",AB157=\"OK\"),VLOOKUP(G157&D157,$AJ$10:$AT$31,10,FALSE)+1,IF(AND(Balance!J157=\"\",AB157=\"kein Test\"),\"\",Balance!J157))+IF(AND('1000m'!J157=\"\",AB157=\"OK\"),VLOOKUP(G157&D157,$AJ$10:$AT$31,11,FALSE)+1,IF(AND('1000m'!J157=\"\",AB157=\"kein Test\"),\"\",'1000m'!J157)))/8)","v":""},null,null,"kein Test"]
[149,{"$f":"IF(Athletenliste!B158=\"\",\"\",Athletenliste!B158)","v":""},{"$f":"IF(Athletenliste!C158=\"\",\"\",Athletenliste!C158)","v":""},{"$f":"IF(Athletenliste!D158=\"\",\"\",Athletenliste!D158)","v":""},{"$f":"IF(Athletenliste!E158=\"\",\"\",Athletenliste!E158)","v":""},{"$f":"IF(Athletenliste!F158=\"\",\"\",Athletenliste!F158)","v":""},{"$f":"IF(Athletenliste!G158=\"\",\"\",Athletenliste!G158)","v":""},{"$f":"IF(Athletenliste!H158=\"\",\"\",Athletenliste!H158)","v":""},{"$f":"IF(Messen_Beweglichkeit!K158=\"\",\"\",Messen_Beweglichkeit!K158)","v":""},{"$f":"IF(Messen_Beweglichkeit!L158=\"\",\"\",Messen_Beweglichkeit!L158)","v":""},{"$f":"IF('Jump-and-Reach'!I158=\"\",\"\",'Jump-and-Reach'!I158)","v":""},{"$f":"IF('Jump-and-Reach'!J158=\"\",\"\",'Jump-and-Reach'!J158)","v":""},{"$f":"IF('30m Sprint'!I158=\"\",\"\",'30m Sprint'!I158)","v":""},{"$f":"IF('30m Sprint'!J158=\"\",\"\",'30m Sprint'!J158)","v":""},{"$f":"IF(KaBu!I158=\"\",\"\",KaBu!I158)","v":""},{"$f":"IF(KaBu!J158=\"\",\"\",KaBu!J158)","v":""},{"$f":"IF(Seilspringen!I158=\"\",\"\",Seilspringen!I158)","v":""},{"$f":"IF(Seilspringen!J158=\"\",\"\",Seilspringen!J158)","v":""},{"$f":"IF(Liegestütz!I158=\"\",\"\",Liegestütz!I158)","v":""},{"$f":"IF(Liegestütz!J158=\"\",\"\",Liegestütz!J158)","v":""},{"$f":"IF(Balance!I158=\"\",\"\",Balance!I158)","v":""},{"$f":"IF(Balance!J158=\"\",\"\",Balance!J158)","v":""},{"$f":"IF('1000m'!I158=\"\",\"\",'1000m'!I158)","v":""},{"$f":"IF('1000m'!J158=\"\",\"\",'1000m'!J158)","v":""},{"$f":"IF(B158=\"\",\"\",(IF(AND(Messen_Beweglichkeit!L158=\"\",AB158=\"OK\"),VLOOKUP(G158&D158,$AJ$10:$AT$31,4,FALSE)+1,IF(AND(Messen_Beweglichkeit!J158=\"\",AB158=\"kein Test\"),\"\",Messen_Beweglichkeit!L158))+IF(AND('Jump-and-Reach'!J158=\"\",AB158=\"OK\"),VLOOKUP(G158&D158,$AJ$10:$AT$31,5,FALSE)+1,IF(AND('Jump-and-Reach'!J158=\"\",AB158=\"kein Test\"),\"\",'Jump-and-Reach'!J158))+IF(AND('30m Sprint'!J158=\"\",AB158=\"OK\"),VLOOKUP(G158&D158,$AJ$10:$AT$31,6,FALSE)+1,IF(AND('30m Sprint'!J158=\"\",AB158=\"kein Test\"),\"\",'30m Sprint'!J158))+IF(AND(KaBu!J158=\"\",AB158=\"OK\"),VLOOKUP(G158&D158,$AJ$10:$AT$31,7,FALSE)+1,IF(AND(KaBu!J158=\"\",AB158=\"kein Test\"),\"\",KaBu!J158))+IF(AND(Seilspringen!J158=\"\",AB158=\"OK\"),VLOOKUP(G158&D158,$AJ$10:$AT$31,8,FALSE)+1,IF(AND(Seilspringen!J158=\"\",AB158=\"kein Test\"),\"\",Seilspringen!J158))+IF(AND(Liegestütz!J158=\"\",AB158=\"OK\"),VLOOKUP(G158&D158,$AJ$10:$AT$31,9,FALSE)+1,IF(AND(Liegestütz!J158=\"\",AB158=\"kein Test\"),\"\",Liegestütz!J158))+IF(AND(Balance!J158=\"\",AB158=\"OK\"),VLOOKUP(G158&D158,$AJ$10:$AT$31,10,FALSE)+1,IF(AND(Balance!J158=\"\",AB158=\"kein Test\"),\"\",Balance!J158))+IF(AND('1000m'!J158=\"\",AB158=\"OK\"),VLOOKUP(G158&D158,$AJ$10:$AT$31,11,FALSE)+1,IF(AND('1000m'!J158=\"\",AB158=\"kein Test\"),\"\",'1000m'!J158)))/8)","v":""},null,null,"kein Test"]
[150,{"$f":"IF(Athletenliste!B159=\"\",\"\",Athletenliste!B159)","v":""},{"$f":"IF(Athletenliste!C159=\"\",\"\",Athletenliste!C159)","v":""},{"$f":"IF(Athletenliste!D159=\"\",\"\",Athletenliste!D159)","v":""},{"$f":"IF(Athletenliste!E159=\"\",\"\",Athletenliste!E159)","v":""},{"$f":"IF(Athletenliste!F159=\"\",\"\",Athletenliste!F159)","v":""},{"$f":"IF(Athletenliste!G159=\"\",\"\",Athletenliste!G159)","v":""},{"$f":"IF(Athletenliste!H159=\"\",\"\",Athletenliste!H159)","v":""},{"$f":"IF(Messen_Beweglichkeit!K159=\"\",\"\",Messen_Beweglichkeit!K159)","v":""},{"$f":"IF(Messen_Beweglichkeit!L159=\"\",\"\",Messen_Beweglichkeit!L159)","v":""},{"$f":"IF('Jump-and-Reach'!I159=\"\",\"\",'Jump-and-Reach'!I159)","v":""},{"$f":"IF('Jump-and-Reach'!J159=\"\",\"\",'Jump-and-Reach'!J159)","v":""},{"$f":"IF('30m Sprint'!I159=\"\",\"\",'30m Sprint'!I159)","v":""},{"$f":"IF('30m Sprint'!J159=\"\",\"\",'30m Sprint'!J159)","v":""},{"$f":"IF(KaBu!I159=\"\",\"\",KaBu!I159)","v":""},{"$f":"IF(KaBu!J159=\"\",\"\",KaBu!J159)","v":""},{"$f":"IF(Seilspringen!I159=\"\",\"\",Seilspringen!I159)","v":""},{"$f":"IF(Seilspringen!J159=\"\",\"\",Seilspringen!J159)","v":""},{"$f":"IF(Liegestütz!I159=\"\",\"\",Liegestütz!I159)","v":""},{"$f":"IF(Liegestütz!J159=\"\",\"\",Liegestütz!J159)","v":""},{"$f":"IF(Balance!I159=\"\",\"\",Balance!I159)","v":""},{"$f":"IF(Balance!J159=\"\",\"\",Balance!J159)","v":""},{"$f":"IF('1000m'!I159=\"\",\"\",'1000m'!I159)","v":""},{"$f":"IF('1000m'!J159=\"\",\"\",'1000m'!J159)","v":""},{"$f":"IF(B159=\"\",\"\",(IF(AND(Messen_Beweglichkeit!L159=\"\",AB159=\"OK\"),VLOOKUP(G159&D159,$AJ$10:$AT$31,4,FALSE)+1,IF(AND(Messen_Beweglichkeit!J159=\"\",AB159=\"kein Test\"),\"\",Messen_Beweglichkeit!L159))+IF(AND('Jump-and-Reach'!J159=\"\",AB159=\"OK\"),VLOOKUP(G159&D159,$AJ$10:$AT$31,5,FALSE)+1,IF(AND('Jump-and-Reach'!J159=\"\",AB159=\"kein Test\"),\"\",'Jump-and-Reach'!J159))+IF(AND('30m Sprint'!J159=\"\",AB159=\"OK\"),VLOOKUP(G159&D159,$AJ$10:$AT$31,6,FALSE)+1,IF(AND('30m Sprint'!J159=\"\",AB159=\"kein Test\"),\"\",'30m Sprint'!J159))+IF(AND(KaBu!J159=\"\",AB159=\"OK\"),VLOOKUP(G159&D159,$AJ$10:$AT$31,7,FALSE)+1,IF(AND(KaBu!J159=\"\",AB159=\"kein Test\"),\"\",KaBu!J159))+IF(AND(Seilspringen!J159=\"\",AB159=\"OK\"),VLOOKUP(G159&D159,$AJ$10:$AT$31,8,FALSE)+1,IF(AND(Seilspringen!J159=\"\",AB159=\"kein Test\"),\"\",Seilspringen!J159))+IF(AND(Liegestütz!J159=\"\",AB159=\"OK\"),VLOOKUP(G159&D159,$AJ$10:$AT$31,9,FALSE)+1,IF(AND(Liegestütz!J159=\"\",AB159=\"kein Test\"),\"\",Liegestütz!J159))+IF(AND(Balance!J159=\"\",AB159=\"OK\"),VLOOKUP(G159&D159,$AJ$10:$AT$31,10,FALSE)+1,IF(AND(Balance!J159=\"\",AB159=\"kein Test\"),\"\",Balance!J159))+IF(AND('1000m'!J159=\"\",AB159=\"OK\"),VLOOKUP(G159&D159,$AJ$10:$AT$31,11,FALSE)+1,IF(AND('1000m'!J159=\"\",AB159=\"kein Test\"),\"\",'1000m'!J159)))/8)","v":""},null,null,"kein Test"]
[151,{"$f":"IF(Athletenliste!B160=\"\",\"\",Athletenliste!B160)","v":""},{"$f":"IF(Athletenliste!C160=\"\",\"\",Athletenliste!C160)","v":""},{"$f":"IF(Athletenliste!D160=\"\",\"\",Athletenliste!D160)","v":""},{"$f":"IF(Athletenliste!E160=\"\",\"\",Athletenliste!E160)","v":""},{"$f":"IF(Athletenliste!F160=\"\",\"\",Athletenliste!F160)","v":""},{"$f":"IF(Athletenliste!G160=\"\",\"\",Athletenliste!G160)","v":""},{"$f":"IF(Athletenliste!H160=\"\",\"\",Athletenliste!H160)","v":""},{"$f":"IF(Messen_Beweglichkeit!K160=\"\",\"\",Messen_Beweglichkeit!K160)","v":""},{"$f":"IF(Messen_Beweglichkeit!L160=\"\",\"\",Messen_Beweglichkeit!L160)","v":""},{"$f":"IF('Jump-and-Reach'!I160=\"\",\"\",'Jump-and-Reach'!I160)","v":""},{"$f":"IF('Jump-and-Reach'!J160=\"\",\"\",'Jump-and-Reach'!J160)","v":""},{"$f":"IF('30m Sprint'!I160=\"\",\"\",'30m Sprint'!I160)","v":""},{"$f":"IF('30m Sprint'!J160=\"\",\"\",'30m Sprint'!J160)","v":""},{"$f":"IF(KaBu!I160=\"\",\"\",KaBu!I160)","v":""},{"$f":"IF(KaBu!J160=\"\",\"\",KaBu!J160)","v":""},{"$f":"IF(Seilspringen!I160=\"\",\"\",Seilspringen!I160)","v":""},{"$f":"IF(Seilspringen!J160=\"\",\"\",Seilspringen!J160)","v":""},{"$f":"IF(Liegestütz!I160=\"\",\"\",Liegestütz!I160)","v":""},{"$f":"IF(Liegestütz!J160=\"\",\"\",Liegestütz!J160)","v":""},{"$f":"IF(Balance!I160=\"\",\"\",Balance!I160)","v":""},{"$f":"IF(Balance!J160=\"\",\"\",Balance!J160)","v":""},{"$f":"IF('1000m'!I160=\"\",\"\",'1000m'!I160)","v":""},{"$f":"IF('1000m'!J160=\"\",\"\",'1000m'!J160)","v":""},{"$f":"IF(B160=\"\",\"\",(IF(AND(Messen_Beweglichkeit!L160=\"\",AB160=\"OK\"),VLOOKUP(G160&D160,$AJ$10:$AT$31,4,FALSE)+1,IF(AND(Messen_Beweglichkeit!J160=\"\",AB160=\"kein Test\"),\"\",Messen_Beweglichkeit!L160))+IF(AND('Jump-and-Reach'!J160=\"\",AB160=\"OK\"),VLOOKUP(G160&D160,$AJ$10:$AT$31,5,FALSE)+1,IF(AND('Jump-and-Reach'!J160=\"\",AB160=\"kein Test\"),\"\",'Jump-and-Reach'!J160))+IF(AND('30m Sprint'!J160=\"\",AB160=\"OK\"),VLOOKUP(G160&D160,$AJ$10:$AT$31,6,FALSE)+1,IF(AND('30m Sprint'!J160=\"\",AB160=\"kein Test\"),\"\",'30m Sprint'!J160))+IF(AND(KaBu!J160=\"\",AB160=\"OK\"),VLOOKUP(G160&D160,$AJ$10:$AT$31,7,FALSE)+1,IF(AND(KaBu!J160=\"\",AB160=\"kein Test\"),\"\",KaBu!J160))+IF(AND(Seilspringen!J160=\"\",AB160=\"OK\"),VLOOKUP(G160&D160,$AJ$10:$AT$31,8,FALSE)+1,IF(AND(Seilspringen!J160=\"\",AB160=\"kein Test\"),\"\",Seilspringen!J160))+IF(AND(Liegestütz!J160=\"\",AB160=\"OK\"),VLOOKUP(G160&D160,$AJ$10:$AT$31,9,FALSE)+1,IF(AND(Liegestütz!J160=\"\",AB160=\"kein Test\"),\"\",Liegestütz!J160))+IF(AND(Balance!J160=\"\",AB160=\"OK\"),VLOOKUP(G160&D160,$AJ$10:$AT$31,10,FALSE)+1,IF(AND(Balance!J160=\"\",AB160=\"kein Test\"),\"\",Balance!J160))+IF(AND('1000m'!J160=\"\",AB160=\"OK\"),VLOOKUP(G160&D160,$AJ$10:$AT$31,11,FALSE)+1,IF(AND('1000m'!J160=\"\",AB160=\"kein Test\"),\"\",'1000m'!J160)))/8)","v":""},null,null,"kein Test"]
[152,{"$f":"IF(Athletenliste!B161=\"\",\"\",Athletenliste!B161)","v":""},{"$f":"IF(Athletenliste!C161=\"\",\"\",Athletenliste!C161)","v":""},{"$f":"IF(Athletenliste!D161=\"\",\"\",Athletenliste!D161)","v":""},{"$f":"IF(Athletenliste!E161=\"\",\"\",Athletenliste!E161)","v":""},{"$f":"IF(Athletenliste!F161=\"\",\"\",Athletenliste!F161)","v":""},{"$f":"IF(Athletenliste!G161=\"\",\"\",Athletenliste!G161)","v":""},{"$f":"IF(Athletenliste!H161=\"\",\"\",Athletenliste!H161)","v":""},{"$f":"IF(Messen_Beweglichkeit!K161=\"\",\"\",Messen_Beweglichkeit!K161)","v":""},{"$f":"IF(Messen_Beweglichkeit!L161=\"\",\"\",Messen_Beweglichkeit!L161)","v":""},{"$f":"IF('Jump-and-Reach'!I161=\"\",\"\",'Jump-and-Reach'!I161)","v":""},{"$f":"IF('Jump-and-Reach'!J161=\"\",\"\",'Jump-and-Reach'!J161)","v":""},{"$f":"IF('30m Sprint'!I161=\"\",\"\",'30m Sprint'!I161)","v":""},{"$f":"IF('30m Sprint'!J161=\"\",\"\",'30m Sprint'!J161)","v":""},{"$f":"IF(KaBu!I161=\"\",\"\",KaBu!I161)","v":""},{"$f":"IF(KaBu!J161=\"\",\"\",KaBu!J161)","v":""},{"$f":"IF(Seilspringen!I161=\"\",\"\",Seilspringen!I161)","v":""},{"$f":"IF(Seilspringen!J161=\"\",\"\",Seilspringen!J161)","v":""},{"$f":"IF(Liegestütz!I161=\"\",\"\",Liegestütz!I161)","v":""},{"$f":"IF(Liegestütz!J161=\"\",\"\",Liegestütz!J161)","v":""},{"$f":"IF(Balance!I161=\"\",\"\",Balance!I161)","v":""},{"$f":"IF(Balance!J161=\"\",\"\",Balance!J161)","v":""},{"$f":"IF('1000m'!I161=\"\",\"\",'1000m'!I161)","v":""},{"$f":"IF('1000m'!J161=\"\",\"\",'1000m'!J161)","v":""},{"$f":"IF(B161=\"\",\"\",(IF(AND(Messen_Beweglichkeit!L161=\"\",AB161=\"OK\"),VLOOKUP(G161&D161,$AJ$10:$AT$31,4,FALSE)+1,IF(AND(Messen_Beweglichkeit!J161=\"\",AB161=\"kein Test\"),\"\",Messen_Beweglichkeit!L161))+IF(AND('Jump-and-Reach'!J161=\"\",AB161=\"OK\"),VLOOKUP(G161&D161,$AJ$10:$AT$31,5,FALSE)+1,IF(AND('Jump-and-Reach'!J161=\"\",AB161=\"kein Test\"),\"\",'Jump-and-Reach'!J161))+IF(AND('30m Sprint'!J161=\"\",AB161=\"OK\"),VLOOKUP(G161&D161,$AJ$10:$AT$31,6,FALSE)+1,IF(AND('30m Sprint'!J161=\"\",AB161=\"kein Test\"),\"\",'30m Sprint'!J161))+IF(AND(KaBu!J161=\"\",AB161=\"OK\"),VLOOKUP(G161&D161,$AJ$10:$AT$31,7,FALSE)+1,IF(AND(KaBu!J161=\"\",AB161=\"kein Test\"),\"\",KaBu!J161))+IF(AND(Seilspringen!J161=\"\",AB161=\"OK\"),VLOOKUP(G161&D161,$AJ$10:$AT$31,8,FALSE)+1,IF(AND(Seilspringen!J161=\"\",AB161=\"kein Test\"),\"\",Seilspringen!J161))+IF(AND(Liegestütz!J161=\"\",AB161=\"OK\"),VLOOKUP(G161&D161,$AJ$10:$AT$31,9,FALSE)+1,IF(AND(Liegestütz!J161=\"\",AB161=\"kein Test\"),\"\",Liegestütz!J161))+IF(AND(Balance!J161=\"\",AB161=\"OK\"),VLOOKUP(G161&D161,$AJ$10:$AT$31,10,FALSE)+1,IF(AND(Balance!J161=\"\",AB161=\"kein Test\"),\"\",Balance!J161))+IF(AND('1000m'!J161=\"\",AB161=\"OK\"),VLOOKUP(G161&D161,$AJ$10:$AT$31,11,FALSE)+1,IF(AND('1000m'!J161=\"\",AB161=\"kein Test\"),\"\",'1000m'!J161)))/8)","v":""},null,null,"kein Test"]
[153,{"$f":"IF(Athletenliste!B162=\"\",\"\",Athletenliste!B162)","v":""},{"$f":"IF(Athletenliste!C162=\"\",\"\",Athletenliste!C162)","v":""},{"$f":"IF(Athletenliste!D162=\"\",\"\",Athletenliste!D162)","v":""},{"$f":"IF(Athletenliste!E162=\"\",\"\",Athletenliste!E162)","v":""},{"$f":"IF(Athletenliste!F162=\"\",\"\",Athletenliste!F162)","v":""},{"$f":"IF(Athletenliste!G162=\"\",\"\",Athletenliste!G162)","v":""},{"$f":"IF(Athletenliste!H162=\"\",\"\",Athletenliste!H162)","v":""},{"$f":"IF(Messen_Beweglichkeit!K162=\"\",\"\",Messen_Beweglichkeit!K162)","v":""},{"$f":"IF(Messen_Beweglichkeit!L162=\"\",\"\",Messen_Beweglichkeit!L162)","v":""},{"$f":"IF('Jump-and-Reach'!I162=\"\",\"\",'Jump-and-Reach'!I162)","v":""},{"$f":"IF('Jump-and-Reach'!J162=\"\",\"\",'Jump-and-Reach'!J162)","v":""},{"$f":"IF('30m Sprint'!I162=\"\",\"\",'30m Sprint'!I162)","v":""},{"$f":"IF('30m Sprint'!J162=\"\",\"\",'30m Sprint'!J162)","v":""},{"$f":"IF(KaBu!I162=\"\",\"\",KaBu!I162)","v":""},{"$f":"IF(KaBu!J162=\"\",\"\",KaBu!J162)","v":""},{"$f":"IF(Seilspringen!I162=\"\",\"\",Seilspringen!I162)","v":""},{"$f":"IF(Seilspringen!J162=\"\",\"\",Seilspringen!J162)","v":""},{"$f":"IF(Liegestütz!I162=\"\",\"\",Liegestütz!I162)","v":""},{"$f":"IF(Liegestütz!J162=\"\",\"\",Liegestütz!J162)","v":""},{"$f":"IF(Balance!I162=\"\",\"\",Balance!I162)","v":""},{"$f":"IF(Balance!J162=\"\",\"\",Balance!J162)","v":""},{"$f":"IF('1000m'!I162=\"\",\"\",'1000m'!I162)","v":""},{"$f":"IF('1000m'!J162=\"\",\"\",'1000m'!J162)","v":""},{"$f":"IF(B162=\"\",\"\",(IF(AND(Messen_Beweglichkeit!L162=\"\",AB162=\"OK\"),VLOOKUP(G162&D162,$AJ$10:$AT$31,4,FALSE)+1,IF(AND(Messen_Beweglichkeit!J162=\"\",AB162=\"kein Test\"),\"\",Messen_Beweglichkeit!L162))+IF(AND('Jump-and-Reach'!J162=\"\",AB162=\"OK\"),VLOOKUP(G162&D162,$AJ$10:$AT$31,5,FALSE)+1,IF(AND('Jump-and-Reach'!J162=\"\",AB162=\"kein Test\"),\"\",'Jump-and-Reach'!J162))+IF(AND('30m Sprint'!J162=\"\",AB162=\"OK\"),VLOOKUP(G162&D162,$AJ$10:$AT$31,6,FALSE)+1,IF(AND('30m Sprint'!J162=\"\",AB162=\"kein Test\"),\"\",'30m Sprint'!J162))+IF(AND(KaBu!J162=\"\",AB162=\"OK\"),VLOOKUP(G162&D162,$AJ$10:$AT$31,7,FALSE)+1,IF(AND(KaBu!J162=\"\",AB162=\"kein Test\"),\"\",KaBu!J162))+IF(AND(Seilspringen!J162=\"\",AB162=\"OK\"),VLOOKUP(G162&D162,$AJ$10:$AT$31,8,FALSE)+1,IF(AND(Seilspringen!J162=\"\",AB162=\"kein Test\"),\"\",Seilspringen!J162))+IF(AND(Liegestütz!J162=\"\",AB162=\"OK\"),VLOOKUP(G162&D162,$AJ$10:$AT$31,9,FALSE)+1,IF(AND(Liegestütz!J162=\"\",AB162=\"kein Test\"),\"\",Liegestütz!J162))+IF(AND(Balance!J162=\"\",AB162=\"OK\"),VLOOKUP(G162&D162,$AJ$10:$AT$31,10,FALSE)+1,IF(AND(Balance!J162=\"\",AB162=\"kein Test\"),\"\",Balance!J162))+IF(AND('1000m'!J162=\"\",AB162=\"OK\"),VLOOKUP(G162&D162,$AJ$10:$AT$31,11,FALSE)+1,IF(AND('1000m'!J162=\"\",AB162=\"kein Test\"),\"\",'1000m'!J162)))/8)","v":""},null,null,"kein Test"]
[154,{"$f":"IF(Athletenliste!B163=\"\",\"\",Athletenliste!B163)","v":""},{"$f":"IF(Athletenliste!C163=\"\",\"\",Athletenliste!C163)","v":""},{"$f":"IF(Athletenliste!D163=\"\",\"\",Athletenliste!D163)","v":""},{"$f":"IF(Athletenliste!E163=\"\",\"\",Athletenliste!E163)","v":""},{"$f":"IF(Athletenliste!F163=\"\",\"\",Athletenliste!F163)","v":""},{"$f":"IF(Athletenliste!G163=\"\",\"\",Athletenliste!G163)","v":""},{"$f":"IF(Athletenliste!H163=\"\",\"\",Athletenliste!H163)","v":""},{"$f":"IF(Messen_Beweglichkeit!K163=\"\",\"\",Messen_Beweglichkeit!K163)","v":""},{"$f":"IF(Messen_Beweglichkeit!L163=\"\",\"\",Messen_Beweglichkeit!L163)","v":""},{"$f":"IF('Jump-and-Reach'!I163=\"\",\"\",'Jump-and-Reach'!I163)","v":""},{"$f":"IF('Jump-and-Reach'!J163=\"\",\"\",'Jump-and-Reach'!J163)","v":""},{"$f":"IF('30m Sprint'!I163=\"\",\"\",'30m Sprint'!I163)","v":""},{"$f":"IF('30m Sprint'!J163=\"\",\"\",'30m Sprint'!J163)","v":""},{"$f":"IF(KaBu!I163=\"\",\"\",KaBu!I163)","v":""},{"$f":"IF(KaBu!J163=\"\",\"\",KaBu!J163)","v":""},{"$f":"IF(Seilspringen!I163=\"\",\"\",Seilspringen!I163)","v":""},{"$f":"IF(Seilspringen!J163=\"\",\"\",Seilspringen!J163)","v":""},{"$f":"IF(Liegestütz!I163=\"\",\"\",Liegestütz!I163)","v":""},{"$f":"IF(Liegestütz!J163=\"\",\"\",Liegestütz!J163)","v":""},{"$f":"IF(Balance!I163=\"\",\"\",Balance!I163)","v":""},{"$f":"IF(Balance!J163=\"\",\"\",Balance!J163)","v":""},{"$f":"IF('1000m'!I163=\"\",\"\",'1000m'!I163)","v":""},{"$f":"IF('1000m'!J163=\"\",\"\",'1000m'!J163)","v":""},{"$f":"IF(B163=\"\",\"\",(IF(AND(Messen_Beweglichkeit!L163=\"\",AB163=\"OK\"),VLOOKUP(G163&D163,$AJ$10:$AT$31,4,FALSE)+1,IF(AND(Messen_Beweglichkeit!J163=\"\",AB163=\"kein Test\"),\"\",Messen_Beweglichkeit!L163))+IF(AND('Jump-and-Reach'!J163=\"\",AB163=\"OK\"),VLOOKUP(G163&D163,$AJ$10:$AT$31,5,FALSE)+1,IF(AND('Jump-and-Reach'!J163=\"\",AB163=\"kein Test\"),\"\",'Jump-and-Reach'!J163))+IF(AND('30m Sprint'!J163=\"\",AB163=\"OK\"),VLOOKUP(G163&D163,$AJ$10:$AT$31,6,FALSE)+1,IF(AND('30m Sprint'!J163=\"\",AB163=\"kein Test\"),\"\",'30m Sprint'!J163))+IF(AND(KaBu!J163=\"\",AB163=\"OK\"),VLOOKUP(G163&D163,$AJ$10:$AT$31,7,FALSE)+1,IF(AND(KaBu!J163=\"\",AB163=\"kein Test\"),\"\",KaBu!J163))+IF(AND(Seilspringen!J163=\"\",AB163=\"OK\"),VLOOKUP(G163&D163,$AJ$10:$AT$31,8,FALSE)+1,IF(AND(Seilspringen!J163=\"\",AB163=\"kein Test\"),\"\",Seilspringen!J163))+IF(AND(Liegestütz!J163=\"\",AB163=\"OK\"),VLOOKUP(G163&D163,$AJ$10:$AT$31,9,FALSE)+1,IF(AND(Liegestütz!J163=\"\",AB163=\"kein Test\"),\"\",Liegestütz!J163))+IF(AND(Balance!J163=\"\",AB163=\"OK\"),VLOOKUP(G163&D163,$AJ$10:$AT$31,10,FALSE)+1,IF(AND(Balance!J163=\"\",AB163=\"kein Test\"),\"\",Balance!J163))+IF(AND('1000m'!J163=\"\",AB163=\"OK\"),VLOOKUP(G163&D163,$AJ$10:$AT$31,11,FALSE)+1,IF(AND('1000m'!J163=\"\",AB163=\"kein Test\"),\"\",'1000m'!J163)))/8)","v":""},null,null,"kein Test"]
[155,{"$f":"IF(Athletenliste!B164=\"\",\"\",Athletenliste!B164)","v":""},{"$f":"IF(Athletenliste!C164=\"\",\"\",Athletenliste!C164)","v":""},{"$f":"IF(Athletenliste!D164=\"\",\"\",Athletenliste!D164)","v":""},{"$f":"IF(Athletenliste!E164=\"\",\"\",Athletenliste!E164)","v":""},{"$f":"IF(Athletenliste!F164=\"\",\"\",Athletenliste!F164)","v":""},{"$f":"IF(Athletenliste!G164=\"\",\"\",Athletenliste!G164)","v":""},{"$f":"IF(Athletenliste!H164=\"\",\"\",Athletenliste!H164)","v":""},{"$f":"IF(Messen_Beweglichkeit!K164=\"\",\"\",Messen_Beweglichkeit!K164)","v":""},{"$f":"IF(Messen_Beweglichkeit!L164=\"\",\"\",Messen_Beweglichkeit!L164)","v":""},{"$f":"IF('Jump-and-Reach'!I164=\"\",\"\",'Jump-and-Reach'!I164)","v":""},{"$f":"IF('Jump-and-Reach'!J164=\"\",\"\",'Jump-and-Reach'!J164)","v":""},{"$f":"IF('30m Sprint'!I164=\"\",\"\",'30m Sprint'!I164)","v":""},{"$f":"IF('30m Sprint'!J164=\"\",\"\",'30m Sprint'!J164)","v":""},{"$f":"IF(KaBu!I164=\"\",\"\",KaBu!I164)","v":""},{"$f":"IF(KaBu!J164=\"\",\"\",KaBu!J164)","v":""},{"$f":"IF(Seilspringen!I164=\"\",\"\",Seilspringen!I164)","v":""},{"$f":"IF(Seilspringen!J164=\"\",\"\",Seilspringen!J164)","v":""},{"$f":"IF(Liegestütz!I164=\"\",\"\",Liegestütz!I164)","v":""},{"$f":"IF(Liegestütz!J164=\"\",\"\",Liegestütz!J164)","v":""},{"$f":"IF(Balance!I164=\"\",\"\",Balance!I164)","v":""},{"$f":"IF(Balance!J164=\"\",\"\",Balance!J164)","v":""},{"$f":"IF('1000m'!I164=\"\",\"\",'1000m'!I164)","v":""},{"$f":"IF('1000m'!J164=\"\",\"\",'1000m'!J164)","v":""},{"$f":"IF(B164=\"\",\"\",(IF(AND(Messen_Beweglichkeit!L164=\"\",AB164=\"OK\"),VLOOKUP(G164&D164,$AJ$10:$AT$31,4,FALSE)+1,IF(AND(Messen_Beweglichkeit!J164=\"\",AB164=\"kein Test\"),\"\",Messen_Beweglichkeit!L164))+IF(AND('Jump-and-Reach'!J164=\"\",AB164=\"OK\"),VLOOKUP(G164&D164,$AJ$10:$AT$31,5,FALSE)+1,IF(AND('Jump-and-Reach'!J164=\"\",AB164=\"kein Test\"),\"\",'Jump-and-Reach'!J164))+IF(AND('30m Sprint'!J164=\"\",AB164=\"OK\"),VLOOKUP(G164&D164,$AJ$10:$AT$31,6,FALSE)+1,IF(AND('30m Sprint'!J164=\"\",AB164=\"kein Test\"),\"\",'30m Sprint'!J164))+IF(AND(KaBu!J164=\"\",AB164=\"OK\"),VLOOKUP(G164&D164,$AJ$10:$AT$31,7,FALSE)+1,IF(AND(KaBu!J164=\"\",AB164=\"kein Test\"),\"\",KaBu!J164))+IF(AND(Seilspringen!J164=\"\",AB164=\"OK\"),VLOOKUP(G164&D164,$AJ$10:$AT$31,8,FALSE)+1,IF(AND(Seilspringen!J164=\"\",AB164=\"kein Test\"),\"\",Seilspringen!J164))+IF(AND(Liegestütz!J164=\"\",AB164=\"OK\"),VLOOKUP(G164&D164,$AJ$10:$AT$31,9,FALSE)+1,IF(AND(Liegestütz!J164=\"\",AB164=\"kein Test\"),\"\",Liegestütz!J164))+IF(AND(Balance!J164=\"\",AB164=\"OK\"),VLOOKUP(G164&D164,$AJ$10:$AT$31,10,FALSE)+1,IF(AND(Balance!J164=\"\",AB164=\"kein Test\"),\"\",Balance!J164))+IF(AND('1000m'!J164=\"\",AB164=\"OK\"),VLOOKUP(G164&D164,$AJ$10:$AT$31,11,FALSE)+1,IF(AND('1000m'!J164=\"\",AB164=\"kein Test\"),\"\",'1000m'!J164)))/8)","v":""},null,null,"kein Test"]
[156,{"$f":"IF(Athletenliste!B165=\"\",\"\",Athletenliste!B165)","v":""},{"$f":"IF(Athletenliste!C165=\"\",\"\",Athletenliste!C165)","v":""},{"$f":"IF(Athletenliste!D165=\"\",\"\",Athletenliste!D165)","v":""},{"$f":"IF(Athletenliste!E165=\"\",\"\",Athletenliste!E165)","v":""},{"$f":"IF(Athletenliste!F165=\"\",\"\",Athletenliste!F165)","v":""},{"$f":"IF(Athletenliste!G165=\"\",\"\",Athletenliste!G165)","v":""},{"$f":"IF(Athletenliste!H165=\"\",\"\",Athletenliste!H165)","v":""},{"$f":"IF(Messen_Beweglichkeit!K165=\"\",\"\",Messen_Beweglichkeit!K165)","v":""},{"$f":"IF(Messen_Beweglichkeit!L165=\"\",\"\",Messen_Beweglichkeit!L165)","v":""},{"$f":"IF('Jump-and-Reach'!I165=\"\",\"\",'Jump-and-Reach'!I165)","v":""},{"$f":"IF('Jump-and-Reach'!J165=\"\",\"\",'Jump-and-Reach'!J165)","v":""},{"$f":"IF('30m Sprint'!I165=\"\",\"\",'30m Sprint'!I165)","v":""},{"$f":"IF('30m Sprint'!J165=\"\",\"\",'30m Sprint'!J165)","v":""},{"$f":"IF(KaBu!I165=\"\",\"\",KaBu!I165)","v":""},{"$f":"IF(KaBu!J165=\"\",\"\",KaBu!J165)","v":""},{"$f":"IF(Seilspringen!I165=\"\",\"\",Seilspringen!I165)","v":""},{"$f":"IF(Seilspringen!J165=\"\",\"\",Seilspringen!J165)","v":""},{"$f":"IF(Liegestütz!I165=\"\",\"\",Liegestütz!I165)","v":""},{"$f":"IF(Liegestütz!J165=\"\",\"\",Liegestütz!J165)","v":""},{"$f":"IF(Balance!I165=\"\",\"\",Balance!I165)","v":""},{"$f":"IF(Balance!J165=\"\",\"\",Balance!J165)","v":""},{"$f":"IF('1000m'!I165=\"\",\"\",'1000m'!I165)","v":""},{"$f":"IF('1000m'!J165=\"\",\"\",'1000m'!J165)","v":""},{"$f":"IF(B165=\"\",\"\",(IF(AND(Messen_Beweglichkeit!L165=\"\",AB165=\"OK\"),VLOOKUP(G165&D165,$AJ$10:$AT$31,4,FALSE)+1,IF(AND(Messen_Beweglichkeit!J165=\"\",AB165=\"kein Test\"),\"\",Messen_Beweglichkeit!L165))+IF(AND('Jump-and-Reach'!J165=\"\",AB165=\"OK\"),VLOOKUP(G165&D165,$AJ$10:$AT$31,5,FALSE)+1,IF(AND('Jump-and-Reach'!J165=\"\",AB165=\"kein Test\"),\"\",'Jump-and-Reach'!J165))+IF(AND('30m Sprint'!J165=\"\",AB165=\"OK\"),VLOOKUP(G165&D165,$AJ$10:$AT$31,6,FALSE)+1,IF(AND('30m Sprint'!J165=\"\",AB165=\"kein Test\"),\"\",'30m Sprint'!J165))+IF(AND(KaBu!J165=\"\",AB165=\"OK\"),VLOOKUP(G165&D165,$AJ$10:$AT$31,7,FALSE)+1,IF(AND(KaBu!J165=\"\",AB165=\"kein Test\"),\"\",KaBu!J165))+IF(AND(Seilspringen!J165=\"\",AB165=\"OK\"),VLOOKUP(G165&D165,$AJ$10:$AT$31,8,FALSE)+1,IF(AND(Seilspringen!J165=\"\",AB165=\"kein Test\"),\"\",Seilspringen!J165))+IF(AND(Liegestütz!J165=\"\",AB165=\"OK\"),VLOOKUP(G165&D165,$AJ$10:$AT$31,9,FALSE)+1,IF(AND(Liegestütz!J165=\"\",AB165=\"kein Test\"),\"\",Liegestütz!J165))+IF(AND(Balance!J165=\"\",AB165=\"OK\"),VLOOKUP(G165&D165,$AJ$10:$AT$31,10,FALSE)+1,IF(AND(Balance!J165=\"\",AB165=\"kein Test\"),\"\",Balance!J165))+IF(AND('1000m'!J165=\"\",AB165=\"OK\"),VLOOKUP(G165&D165,$AJ$10:$AT$31,11,FALSE)+1,IF(AND('1000m'!J165=\"\",AB165=\"kein Test\"),\"\",'1000m'!J165)))/8)","v":""},null,null,"kein Test"]
[157,{"$f":"IF(Athletenliste!B166=\"\",\"\",Athletenliste!B166)","v":""},{"$f":"IF(Athletenliste!C166=\"\",\"\",Athletenliste!C166)","v":""},{"$f":"IF(Athletenliste!D166=\"\",\"\",Athletenliste!D166)","v":""},{"$f":"IF(Athletenliste!E166=\"\",\"\",Athletenliste!E166)","v":""},{"$f":"IF(Athletenliste!F166=\"\",\"\",Athletenliste!F166)","v":""},{"$f":"IF(Athletenliste!G166=\"\",\"\",Athletenliste!G166)","v":""},{"$f":"IF(Athletenliste!H166=\"\",\"\",Athletenliste!H166)","v":""},{"$f":"IF(Messen_Beweglichkeit!K166=\"\",\"\",Messen_Beweglichkeit!K166)","v":""},{"$f":"IF(Messen_Beweglichkeit!L166=\"\",\"\",Messen_Beweglichkeit!L166)","v":""},{"$f":"IF('Jump-and-Reach'!I166=\"\",\"\",'Jump-and-Reach'!I166)","v":""},{"$f":"IF('Jump-and-Reach'!J166=\"\",\"\",'Jump-and-Reach'!J166)","v":""},{"$f":"IF('30m Sprint'!I166=\"\",\"\",'30m Sprint'!I166)","v":""},{"$f":"IF('30m Sprint'!J166=\"\",\"\",'30m Sprint'!J166)","v":""},{"$f":"IF(KaBu!I166=\"\",\"\",KaBu!I166)","v":""},{"$f":"IF(KaBu!J166=\"\",\"\",KaBu!J166)","v":""},{"$f":"IF(Seilspringen!I166=\"\",\"\",Seilspringen!I166)","v":""},{"$f":"IF(Seilspringen!J166=\"\",\"\",Seilspringen!J166)","v":""},{"$f":"IF(Liegestütz!I166=\"\",\"\",Liegestütz!I166)","v":""},{"$f":"IF(Liegestütz!J166=\"\",\"\",Liegestütz!J166)","v":""},{"$f":"IF(Balance!I166=\"\",\"\",Balance!I166)","v":""},{"$f":"IF(Balance!J166=\"\",\"\",Balance!J166)","v":""},{"$f":"IF('1000m'!I166=\"\",\"\",'1000m'!I166)","v":""},{"$f":"IF('1000m'!J166=\"\",\"\",'1000m'!J166)","v":""},{"$f":"IF(B166=\"\",\"\",(IF(AND(Messen_Beweglichkeit!L166=\"\",AB166=\"OK\"),VLOOKUP(G166&D166,$AJ$10:$AT$31,4,FALSE)+1,IF(AND(Messen_Beweglichkeit!J166=\"\",AB166=\"kein Test\"),\"\",Messen_Beweglichkeit!L166))+IF(AND('Jump-and-Reach'!J166=\"\",AB166=\"OK\"),VLOOKUP(G166&D166,$AJ$10:$AT$31,5,FALSE)+1,IF(AND('Jump-and-Reach'!J166=\"\",AB166=\"kein Test\"),\"\",'Jump-and-Reach'!J166))+IF(AND('30m Sprint'!J166=\"\",AB166=\"OK\"),VLOOKUP(G166&D166,$AJ$10:$AT$31,6,FALSE)+1,IF(AND('30m Sprint'!J166=\"\",AB166=\"kein Test\"),\"\",'30m Sprint'!J166))+IF(AND(KaBu!J166=\"\",AB166=\"OK\"),VLOOKUP(G166&D166,$AJ$10:$AT$31,7,FALSE)+1,IF(AND(KaBu!J166=\"\",AB166=\"kein Test\"),\"\",KaBu!J166))+IF(AND(Seilspringen!J166=\"\",AB166=\"OK\"),VLOOKUP(G166&D166,$AJ$10:$AT$31,8,FALSE)+1,IF(AND(Seilspringen!J166=\"\",AB166=\"kein Test\"),\"\",Seilspringen!J166))+IF(AND(Liegestütz!J166=\"\",AB166=\"OK\"),VLOOKUP(G166&D166,$AJ$10:$AT$31,9,FALSE)+1,IF(AND(Liegestütz!J166=\"\",AB166=\"kein Test\"),\"\",Liegestütz!J166))+IF(AND(Balance!J166=\"\",AB166=\"OK\"),VLOOKUP(G166&D166,$AJ$10:$AT$31,10,FALSE)+1,IF(AND(Balance!J166=\"\",AB166=\"kein Test\"),\"\",Balance!J166))+IF(AND('1000m'!J166=\"\",AB166=\"OK\"),VLOOKUP(G166&D166,$AJ$10:$AT$31,11,FALSE)+1,IF(AND('1000m'!J166=\"\",AB166=\"kein Test\"),\"\",'1000m'!J166)))/8)","v":""},null,null,"kein Test"]
[158,{"$f":"IF(Athletenliste!B167=\"\",\"\",Athletenliste!B167)","v":""},{"$f":"IF(Athletenliste!C167=\"\",\"\",Athletenliste!C167)","v":""},{"$f":"IF(Athletenliste!D167=\"\",\"\",Athletenliste!D167)","v":""},{"$f":"IF(Athletenliste!E167=\"\",\"\",Athletenliste!E167)","v":""},{"$f":"IF(Athletenliste!F167=\"\",\"\",Athletenliste!F167)","v":""},{"$f":"IF(Athletenliste!G167=\"\",\"\",Athletenliste!G167)","v":""},{"$f":"IF(Athletenliste!H167=\"\",\"\",Athletenliste!H167)","v":""},{"$f":"IF(Messen_Beweglichkeit!K167=\"\",\"\",Messen_Beweglichkeit!K167)","v":""},{"$f":"IF(Messen_Beweglichkeit!L167=\"\",\"\",Messen_Beweglichkeit!L167)","v":""},{"$f":"IF('Jump-and-Reach'!I167=\"\",\"\",'Jump-and-Reach'!I167)","v":""},{"$f":"IF('Jump-and-Reach'!J167=\"\",\"\",'Jump-and-Reach'!J167)","v":""},{"$f":"IF('30m Sprint'!I167=\"\",\"\",'30m Sprint'!I167)","v":""},{"$f":"IF('30m Sprint'!J167=\"\",\"\",'30m Sprint'!J167)","v":""},{"$f":"IF(KaBu!I167=\"\",\"\",KaBu!I167)","v":""},{"$f":"IF(KaBu!J167=\"\",\"\",KaBu!J167)","v":""},{"$f":"IF(Seilspringen!I167=\"\",\"\",Seilspringen!I167)","v":""},{"$f":"IF(Seilspringen!J167=\"\",\"\",Seilspringen!J167)","v":""},{"$f":"IF(Liegestütz!I167=\"\",\"\",Liegestütz!I167)","v":""},{"$f":"IF(Liegestütz!J167=\"\",\"\",Liegestütz!J167)","v":""},{"$f":"IF(Balance!I167=\"\",\"\",Balance!I167)","v":""},{"$f":"IF(Balance!J167=\"\",\"\",Balance!J167)","v":""},{"$f":"IF('1000m'!I167=\"\",\"\",'1000m'!I167)","v":""},{"$f":"IF('1000m'!J167=\"\",\"\",'1000m'!J167)","v":""},{"$f":"IF(B167=\"\",\"\",(IF(AND(Messen_Beweglichkeit!L167=\"\",AB167=\"OK\"),VLOOKUP(G167&D167,$AJ$10:$AT$31,4,FALSE)+1,IF(AND(Messen_Beweglichkeit!J167=\"\",AB167=\"kein Test\"),\"\",Messen_Beweglichkeit!L167))+IF(AND('Jump-and-Reach'!J167=\"\",AB167=\"OK\"),VLOOKUP(G167&D167,$AJ$10:$AT$31,5,FALSE)+1,IF(AND('Jump-and-Reach'!J167=\"\",AB167=\"kein Test\"),\"\",'Jump-and-Reach'!J167))+IF(AND('30m Sprint'!J167=\"\",AB167=\"OK\"),VLOOKUP(G167&D167,$AJ$10:$AT$31,6,FALSE)+1,IF(AND('30m Sprint'!J167=\"\",AB167=\"kein Test\"),\"\",'30m Sprint'!J167))+IF(AND(KaBu!J167=\"\",AB167=\"OK\"),VLOOKUP(G167&D167,$AJ$10:$AT$31,7,FALSE)+1,IF(AND(KaBu!J167=\"\",AB167=\"kein Test\"),\"\",KaBu!J167))+IF(AND(Seilspringen!J167=\"\",AB167=\"OK\"),VLOOKUP(G167&D167,$AJ$10:$AT$31,8,FALSE)+1,IF(AND(Seilspringen!J167=\"\",AB167=\"kein Test\"),\"\",Seilspringen!J167))+IF(AND(Liegestütz!J167=\"\",AB167=\"OK\"),VLOOKUP(G167&D167,$AJ$10:$AT$31,9,FALSE)+1,IF(AND(Liegestütz!J167=\"\",AB167=\"kein Test\"),\"\",Liegestütz!J167))+IF(AND(Balance!J167=\"\",AB167=\"OK\"),VLOOKUP(G167&D167,$AJ$10:$AT$31,10,FALSE)+1,IF(AND(Balance!J167=\"\",AB167=\"kein Test\"),\"\",Balance!J167))+IF(AND('1000m'!J167=\"\",AB167=\"OK\"),VLOOKUP(G167&D167,$AJ$10:$AT$31,11,FALSE)+1,IF(AND('1000m'!J167=\"\",AB167=\"kein Test\"),\"\",'1000m'!J167)))/8)","v":""},null,null,"kein Test"]
[159,{"$f":"IF(Athletenliste!B168=\"\",\"\",Athletenliste!B168)","v":""},{"$f":"IF(Athletenliste!C168=\"\",\"\",Athletenliste!C168)","v":""},{"$f":"IF(Athletenliste!D168=\"\",\"\",Athletenliste!D168)","v":""},{"$f":"IF(Athletenliste!E168=\"\",\"\",Athletenliste!E168)","v":""},{"$f":"IF(Athletenliste!F168=\"\",\"\",Athletenliste!F168)","v":""},{"$f":"IF(Athletenliste!G168=\"\",\"\",Athletenliste!G168)","v":""},{"$f":"IF(Athletenliste!H168=\"\",\"\",Athletenliste!H168)","v":""},{"$f":"IF(Messen_Beweglichkeit!K168=\"\",\"\",Messen_Beweglichkeit!K168)","v":""},{"$f":"IF(Messen_Beweglichkeit!L168=\"\",\"\",Messen_Beweglichkeit!L168)","v":""},{"$f":"IF('Jump-and-Reach'!I168=\"\",\"\",'Jump-and-Reach'!I168)","v":""},{"$f":"IF('Jump-and-Reach'!J168=\"\",\"\",'Jump-and-Reach'!J168)","v":""},{"$f":"IF('30m Sprint'!I168=\"\",\"\",'30m Sprint'!I168)","v":""},{"$f":"IF('30m Sprint'!J168=\"\",\"\",'30m Sprint'!J168)","v":""},{"$f":"IF(KaBu!I168=\"\",\"\",KaBu!I168)","v":""},{"$f":"IF(KaBu!J168=\"\",\"\",KaBu!J168)","v":""},{"$f":"IF(Seilspringen!I168=\"\",\"\",Seilspringen!I168)","v":""},{"$f":"IF(Seilspringen!J168=\"\",\"\",Seilspringen!J168)","v":""},{"$f":"IF(Liegestütz!I168=\"\",\"\",Liegestütz!I168)","v":""},{"$f":"IF(Liegestütz!J168=\"\",\"\",Liegestütz!J168)","v":""},{"$f":"IF(Balance!I168=\"\",\"\",Balance!I168)","v":""},{"$f":"IF(Balance!J168=\"\",\"\",Balance!J168)","v":""},{"$f":"IF('1000m'!I168=\"\",\"\",'1000m'!I168)","v":""},{"$f":"IF('1000m'!J168=\"\",\"\",'1000m'!J168)","v":""},{"$f":"IF(B168=\"\",\"\",(IF(AND(Messen_Beweglichkeit!L168=\"\",AB168=\"OK\"),VLOOKUP(G168&D168,$AJ$10:$AT$31,4,FALSE)+1,IF(AND(Messen_Beweglichkeit!J168=\"\",AB168=\"kein Test\"),\"\",Messen_Beweglichkeit!L168))+IF(AND('Jump-and-Reach'!J168=\"\",AB168=\"OK\"),VLOOKUP(G168&D168,$AJ$10:$AT$31,5,FALSE)+1,IF(AND('Jump-and-Reach'!J168=\"\",AB168=\"kein Test\"),\"\",'Jump-and-Reach'!J168))+IF(AND('30m Sprint'!J168=\"\",AB168=\"OK\"),VLOOKUP(G168&D168,$AJ$10:$AT$31,6,FALSE)+1,IF(AND('30m Sprint'!J168=\"\",AB168=\"kein Test\"),\"\",'30m Sprint'!J168))+IF(AND(KaBu!J168=\"\",AB168=\"OK\"),VLOOKUP(G168&D168,$AJ$10:$AT$31,7,FALSE)+1,IF(AND(KaBu!J168=\"\",AB168=\"kein Test\"),\"\",KaBu!J168))+IF(AND(Seilspringen!J168=\"\",AB168=\"OK\"),VLOOKUP(G168&D168,$AJ$10:$AT$31,8,FALSE)+1,IF(AND(Seilspringen!J168=\"\",AB168=\"kein Test\"),\"\",Seilspringen!J168))+IF(AND(Liegestütz!J168=\"\",AB168=\"OK\"),VLOOKUP(G168&D168,$AJ$10:$AT$31,9,FALSE)+1,IF(AND(Liegestütz!J168=\"\",AB168=\"kein Test\"),\"\",Liegestütz!J168))+IF(AND(Balance!J168=\"\",AB168=\"OK\"),VLOOKUP(G168&D168,$AJ$10:$AT$31,10,FALSE)+1,IF(AND(Balance!J168=\"\",AB168=\"kein Test\"),\"\",Balance!J168))+IF(AND('1000m'!J168=\"\",AB168=\"OK\"),VLOOKUP(G168&D168,$AJ$10:$AT$31,11,FALSE)+1,IF(AND('1000m'!J168=\"\",AB168=\"kein Test\"),\"\",'1000m'!J168)))/8)","v":""},null,null,"kein Test"]
[160,{"$f":"IF(Athletenliste!B169=\"\",\"\",Athletenliste!B169)","v":""},{"$f":"IF(Athletenliste!C169=\"\",\"\",Athletenliste!C169)","v":""},{"$f":"IF(Athletenliste!D169=\"\",\"\",Athletenliste!D169)","v":""},{"$f":"IF(Athletenliste!E169=\"\",\"\",Athletenliste!E169)","v":""},{"$f":"IF(Athletenliste!F169=\"\",\"\",Athletenliste!F169)","v":""},{"$f":"IF(Athletenliste!G169=\"\",\"\",Athletenliste!G169)","v":""},{"$f":"IF(Athletenliste!H169=\"\",\"\",Athletenliste!H169)","v":""},{"$f":"IF(Messen_Beweglichkeit!K169=\"\",\"\",Messen_Beweglichkeit!K169)","v":""},{"$f":"IF(Messen_Beweglichkeit!L169=\"\",\"\",Messen_Beweglichkeit!L169)","v":""},{"$f":"IF('Jump-and-Reach'!I169=\"\",\"\",'Jump-and-Reach'!I169)","v":""},{"$f":"IF('Jump-and-Reach'!J169=\"\",\"\",'Jump-and-Reach'!J169)","v":""},{"$f":"IF('30m Sprint'!I169=\"\",\"\",'30m Sprint'!I169)","v":""},{"$f":"IF('30m Sprint'!J169=\"\",\"\",'30m Sprint'!J169)","v":""},{"$f":"IF(KaBu!I169=\"\",\"\",KaBu!I169)","v":""},{"$f":"IF(KaBu!J169=\"\",\"\",KaBu!J169)","v":""},{"$f":"IF(Seilspringen!I169=\"\",\"\",Seilspringen!I169)","v":""},{"$f":"IF(Seilspringen!J169=\"\",\"\",Seilspringen!J169)","v":""},{"$f":"IF(Liegestütz!I169=\"\",\"\",Liegestütz!I169)","v":""},{"$f":"IF(Liegestütz!J169=\"\",\"\",Liegestütz!J169)","v":""},{"$f":"IF(Balance!I169=\"\",\"\",Balance!I169)","v":""},{"$f":"IF(Balance!J169=\"\",\"\",Balance!J169)","v":""},{"$f":"IF('1000m'!I169=\"\",\"\",'1000m'!I169)","v":""},{"$f":"IF('1000m'!J169=\"\",\"\",'1000m'!J169)","v":""},{"$f":"IF(B169=\"\",\"\",(IF(AND(Messen_Beweglichkeit!L169=\"\",AB169=\"OK\"),VLOOKUP(G169&D169,$AJ$10:$AT$31,4,FALSE)+1,IF(AND(Messen_Beweglichkeit!J169=\"\",AB169=\"kein Test\"),\"\",Messen_Beweglichkeit!L169))+IF(AND('Jump-and-Reach'!J169=\"\",AB169=\"OK\"),VLOOKUP(G169&D169,$AJ$10:$AT$31,5,FALSE)+1,IF(AND('Jump-and-Reach'!J169=\"\",AB169=\"kein Test\"),\"\",'Jump-and-Reach'!J169))+IF(AND('30m Sprint'!J169=\"\",AB169=\"OK\"),VLOOKUP(G169&D169,$AJ$10:$AT$31,6,FALSE)+1,IF(AND('30m Sprint'!J169=\"\",AB169=\"kein Test\"),\"\",'30m Sprint'!J169))+IF(AND(KaBu!J169=\"\",AB169=\"OK\"),VLOOKUP(G169&D169,$AJ$10:$AT$31,7,FALSE)+1,IF(AND(KaBu!J169=\"\",AB169=\"kein Test\"),\"\",KaBu!J169))+IF(AND(Seilspringen!J169=\"\",AB169=\"OK\"),VLOOKUP(G169&D169,$AJ$10:$AT$31,8,FALSE)+1,IF(AND(Seilspringen!J169=\"\",AB169=\"kein Test\"),\"\",Seilspringen!J169))+IF(AND(Liegestütz!J169=\"\",AB169=\"OK\"),VLOOKUP(G169&D169,$AJ$10:$AT$31,9,FALSE)+1,IF(AND(Liegestütz!J169=\"\",AB169=\"kein Test\"),\"\",Liegestütz!J169))+IF(AND(Balance!J169=\"\",AB169=\"OK\"),VLOOKUP(G169&D169,$AJ$10:$AT$31,10,FALSE)+1,IF(AND(Balance!J169=\"\",AB169=\"kein Test\"),\"\",Balance!J169))+IF(AND('1000m'!J169=\"\",AB169=\"OK\"),VLOOKUP(G169&D169,$AJ$10:$AT$31,11,FALSE)+1,IF(AND('1000m'!J169=\"\",AB169=\"kein Test\"),\"\",'1000m'!J169)))/8)","v":""},null,null,"kein Test"]
[161,{"$f":"IF(Athletenliste!B170=\"\",\"\",Athletenliste!B170)","v":""},{"$f":"IF(Athletenliste!C170=\"\",\"\",Athletenliste!C170)","v":""},{"$f":"IF(Athletenliste!D170=\"\",\"\",Athletenliste!D170)","v":""},{"$f":"IF(Athletenliste!E170=\"\",\"\",Athletenliste!E170)","v":""},{"$f":"IF(Athletenliste!F170=\"\",\"\",Athletenliste!F170)","v":""},{"$f":"IF(Athletenliste!G170=\"\",\"\",Athletenliste!G170)","v":""},{"$f":"IF(Athletenliste!H170=\"\",\"\",Athletenliste!H170)","v":""},{"$f":"IF(Messen_Beweglichkeit!K170=\"\",\"\",Messen_Beweglichkeit!K170)","v":""},{"$f":"IF(Messen_Beweglichkeit!L170=\"\",\"\",Messen_Beweglichkeit!L170)","v":""},{"$f":"IF('Jump-and-Reach'!I170=\"\",\"\",'Jump-and-Reach'!I170)","v":""},{"$f":"IF('Jump-and-Reach'!J170=\"\",\"\",'Jump-and-Reach'!J170)","v":""},{"$f":"IF('30m Sprint'!I170=\"\",\"\",'30m Sprint'!I170)","v":""},{"$f":"IF('30m Sprint'!J170=\"\",\"\",'30m Sprint'!J170)","v":""},{"$f":"IF(KaBu!I170=\"\",\"\",KaBu!I170)","v":""},{"$f":"IF(KaBu!J170=\"\",\"\",KaBu!J170)","v":""},{"$f":"IF(Seilspringen!I170=\"\",\"\",Seilspringen!I170)","v":""},{"$f":"IF(Seilspringen!J170=\"\",\"\",Seilspringen!J170)","v":""},{"$f":"IF(Liegestütz!I170=\"\",\"\",Liegestütz!I170)","v":""},{"$f":"IF(Liegestütz!J170=\"\",\"\",Liegestütz!J170)","v":""},{"$f":"IF(Balance!I170=\"\",\"\",Balance!I170)","v":""},{"$f":"IF(Balance!J170=\"\",\"\",Balance!J170)","v":""},{"$f":"IF('1000m'!I170=\"\",\"\",'1000m'!I170)","v":""},{"$f":"IF('1000m'!J170=\"\",\"\",'1000m'!J170)","v":""},{"$f":"IF(B170=\"\",\"\",(IF(AND(Messen_Beweglichkeit!L170=\"\",AB170=\"OK\"),VLOOKUP(G170&D170,$AJ$10:$AT$31,4,FALSE)+1,IF(AND(Messen_Beweglichkeit!J170=\"\",AB170=\"kein Test\"),\"\",Messen_Beweglichkeit!L170))+IF(AND('Jump-and-Reach'!J170=\"\",AB170=\"OK\"),VLOOKUP(G170&D170,$AJ$10:$AT$31,5,FALSE)+1,IF(AND('Jump-and-Reach'!J170=\"\",AB170=\"kein Test\"),\"\",'Jump-and-Reach'!J170))+IF(AND('30m Sprint'!J170=\"\",AB170=\"OK\"),VLOOKUP(G170&D170,$AJ$10:$AT$31,6,FALSE)+1,IF(AND('30m Sprint'!J170=\"\",AB170=\"kein Test\"),\"\",'30m Sprint'!J170))+IF(AND(KaBu!J170=\"\",AB170=\"OK\"),VLOOKUP(G170&D170,$AJ$10:$AT$31,7,FALSE)+1,IF(AND(KaBu!J170=\"\",AB170=\"kein Test\"),\"\",KaBu!J170))+IF(AND(Seilspringen!J170=\"\",AB170=\"OK\"),VLOOKUP(G170&D170,$AJ$10:$AT$31,8,FALSE)+1,IF(AND(Seilspringen!J170=\"\",AB170=\"kein Test\"),\"\",Seilspringen!J170))+IF(AND(Liegestütz!J170=\"\",AB170=\"OK\"),VLOOKUP(G170&D170,$AJ$10:$AT$31,9,FALSE)+1,IF(AND(Liegestütz!J170=\"\",AB170=\"kein Test\"),\"\",Liegestütz!J170))+IF(AND(Balance!J170=\"\",AB170=\"OK\"),VLOOKUP(G170&D170,$AJ$10:$AT$31,10,FALSE)+1,IF(AND(Balance!J170=\"\",AB170=\"kein Test\"),\"\",Balance!J170))+IF(AND('1000m'!J170=\"\",AB170=\"OK\"),VLOOKUP(G170&D170,$AJ$10:$AT$31,11,FALSE)+1,IF(AND('1000m'!J170=\"\",AB170=\"kein Test\"),\"\",'1000m'!J170)))/8)","v":""},null,null,{"$f":"IF(AND(I170=\"\",K170=\"\",M170=\"\",O170=\"\",Q170=\"\",S170=\"\",U170=\"\",W170=\"\"),\"kein Test\",\"OK\")","v":"kein Test"}]
[162,{"$f":"IF(Athletenliste!B171=\"\",\"\",Athletenliste!B171)","v":""},{"$f":"IF(Athletenliste!C171=\"\",\"\",Athletenliste!C171)","v":""},{"$f":"IF(Athletenliste!D171=\"\",\"\",Athletenliste!D171)","v":""},{"$f":"IF(Athletenliste!E171=\"\",\"\",Athletenliste!E171)","v":""},{"$f":"IF(Athletenliste!F171=\"\",\"\",Athletenliste!F171)","v":""},{"$f":"IF(Athletenliste!G171=\"\",\"\",Athletenliste!G171)","v":""},{"$f":"IF(Athletenliste!H171=\"\",\"\",Athletenliste!H171)","v":""},{"$f":"IF(Messen_Beweglichkeit!K171=\"\",\"\",Messen_Beweglichkeit!K171)","v":""},{"$f":"IF(Messen_Beweglichkeit!L171=\"\",\"\",Messen_Beweglichkeit!L171)","v":""},{"$f":"IF('Jump-and-Reach'!I171=\"\",\"\",'Jump-and-Reach'!I171)","v":""},{"$f":"IF('Jump-and-Reach'!J171=\"\",\"\",'Jump-and-Reach'!J171)","v":""},{"$f":"IF('30m Sprint'!I171=\"\",\"\",'30m Sprint'!I171)","v":""},{"$f":"IF('30m Sprint'!J171=\"\",\"\",'30m Sprint'!J171)","v":""},{"$f":"IF(KaBu!I171=\"\",\"\",KaBu!I171)","v":""},{"$f":"IF(KaBu!J171=\"\",\"\",KaBu!J171)","v":""},{"$f":"IF(Seilspringen!I171=\"\",\"\",Seilspringen!I171)","v":""},{"$f":"IF(Seilspringen!J171=\"\",\"\",Seilspringen!J171)","v":""},{"$f":"IF(Liegestütz!I171=\"\",\"\",Liegestütz!I171)","v":""},{"$f":"IF(Liegestütz!J171=\"\",\"\",Liegestütz!J171)","v":""},{"$f":"IF(Balance!I171=\"\",\"\",Balance!I171)","v":""},{"$f":"IF(Balance!J171=\"\",\"\",Balance!J171)","v":""},{"$f":"IF('1000m'!I171=\"\",\"\",'1000m'!I171)","v":""},{"$f":"IF('1000m'!J171=\"\",\"\",'1000m'!J171)","v":""},{"$f":"IF(B171=\"\",\"\",(IF(AND(Messen_Beweglichkeit!L171=\"\",AB171=\"OK\"),VLOOKUP(G171&D171,$AJ$10:$AT$31,4,FALSE)+1,IF(AND(Messen_Beweglichkeit!J171=\"\",AB171=\"kein Test\"),\"\",Messen_Beweglichkeit!L171))+IF(AND('Jump-and-Reach'!J171=\"\",AB171=\"OK\"),VLOOKUP(G171&D171,$AJ$10:$AT$31,5,FALSE)+1,IF(AND('Jump-and-Reach'!J171=\"\",AB171=\"kein Test\"),\"\",'Jump-and-Reach'!J171))+IF(AND('30m Sprint'!J171=\"\",AB171=\"OK\"),VLOOKUP(G171&D171,$AJ$10:$AT$31,6,FALSE)+1,IF(AND('30m Sprint'!J171=\"\",AB171=\"kein Test\"),\"\",'30m Sprint'!J171))+IF(AND(KaBu!J171=\"\",AB171=\"OK\"),VLOOKUP(G171&D171,$AJ$10:$AT$31,7,FALSE)+1,IF(AND(KaBu!J171=\"\",AB171=\"kein Test\"),\"\",KaBu!J171))+IF(AND(Seilspringen!J171=\"\",AB171=\"OK\"),VLOOKUP(G171&D171,$AJ$10:$AT$31,8,FALSE)+1,IF(AND(Seilspringen!J171=\"\",AB171=\"kein Test\"),\"\",Seilspringen!J171))+IF(AND(Liegestütz!J171=\"\",AB171=\"OK\"),VLOOKUP(G171&D171,$AJ$10:$AT$31,9,FALSE)+1,IF(AND(Liegestütz!J171=\"\",AB171=\"kein Test\"),\"\",Liegestütz!J171))+IF(AND(Balance!J171=\"\",AB171=\"OK\"),VLOOKUP(G171&D171,$AJ$10:$AT$31,10,FALSE)+1,IF(AND(Balance!J171=\"\",AB171=\"kein Test\"),\"\",Balance!J171))+IF(AND('1000m'!J171=\"\",AB171=\"OK\"),VLOOKUP(G171&D171,$AJ$10:$AT$31,11,FALSE)+1,IF(AND('1000m'!J171=\"\",AB171=\"kein Test\"),\"\",'1000m'!J171)))/8)","v":""},null,null,"kein Test"]
[163,{"$f":"IF(Athletenliste!B172=\"\",\"\",Athletenliste!B172)","v":""},{"$f":"IF(Athletenliste!C172=\"\",\"\",Athletenliste!C172)","v":""},{"$f":"IF(Athletenliste!D172=\"\",\"\",Athletenliste!D172)","v":""},{"$f":"IF(Athletenliste!E172=\"\",\"\",Athletenliste!E172)","v":""},{"$f":"IF(Athletenliste!F172=\"\",\"\",Athletenliste!F172)","v":""},{"$f":"IF(Athletenliste!G172=\"\",\"\",Athletenliste!G172)","v":""},{"$f":"IF(Athletenliste!H172=\"\",\"\",Athletenliste!H172)","v":""},{"$f":"IF(Messen_Beweglichkeit!K172=\"\",\"\",Messen_Beweglichkeit!K172)","v":""},{"$f":"IF(Messen_Beweglichkeit!L172=\"\",\"\",Messen_Beweglichkeit!L172)","v":""},{"$f":"IF('Jump-and-Reach'!I172=\"\",\"\",'Jump-and-Reach'!I172)","v":""},{"$f":"IF('Jump-and-Reach'!J172=\"\",\"\",'Jump-and-Reach'!J172)","v":""},{"$f":"IF('30m Sprint'!I172=\"\",\"\",'30m Sprint'!I172)","v":""},{"$f":"IF('30m Sprint'!J172=\"\",\"\",'30m Sprint'!J172)","v":""},{"$f":"IF(KaBu!I172=\"\",\"\",KaBu!I172)","v":""},{"$f":"IF(KaBu!J172=\"\",\"\",KaBu!J172)","v":""},{"$f":"IF(Seilspringen!I172=\"\",\"\",Seilspringen!I172)","v":""},{"$f":"IF(Seilspringen!J172=\"\",\"\",Seilspringen!J172)","v":""},{"$f":"IF(Liegestütz!I172=\"\",\"\",Liegestütz!I172)","v":""},{"$f":"IF(Liegestütz!J172=\"\",\"\",Liegestütz!J172)","v":""},{"$f":"IF(Balance!I172=\"\",\"\",Balance!I172)","v":""},{"$f":"IF(Balance!J172=\"\",\"\",Balance!J172)","v":""},{"$f":"IF('1000m'!I172=\"\",\"\",'1000m'!I172)","v":""},{"$f":"IF('1000m'!J172=\"\",\"\",'1000m'!J172)","v":""},{"$f":"IF(B172=\"\",\"\",(IF(AND(Messen_Beweglichkeit!L172=\"\",AB172=\"OK\"),VLOOKUP(G172&D172,$AJ$10:$AT$31,4,FALSE)+1,IF(AND(Messen_Beweglichkeit!J172=\"\",AB172=\"kein Test\"),\"\",Messen_Beweglichkeit!L172))+IF(AND('Jump-and-Reach'!J172=\"\",AB172=\"OK\"),VLOOKUP(G172&D172,$AJ$10:$AT$31,5,FALSE)+1,IF(AND('Jump-and-Reach'!J172=\"\",AB172=\"kein Test\"),\"\",'Jump-and-Reach'!J172))+IF(AND('30m Sprint'!J172=\"\",AB172=\"OK\"),VLOOKUP(G172&D172,$AJ$10:$AT$31,6,FALSE)+1,IF(AND('30m Sprint'!J172=\"\",AB172=\"kein Test\"),\"\",'30m Sprint'!J172))+IF(AND(KaBu!J172=\"\",AB172=\"OK\"),VLOOKUP(G172&D172,$AJ$10:$AT$31,7,FALSE)+1,IF(AND(KaBu!J172=\"\",AB172=\"kein Test\"),\"\",KaBu!J172))+IF(AND(Seilspringen!J172=\"\",AB172=\"OK\"),VLOOKUP(G172&D172,$AJ$10:$AT$31,8,FALSE)+1,IF(AND(Seilspringen!J172=\"\",AB172=\"kein Test\"),\"\",Seilspringen!J172))+IF(AND(Liegestütz!J172=\"\",AB172=\"OK\"),VLOOKUP(G172&D172,$AJ$10:$AT$31,9,FALSE)+1,IF(AND(Liegestütz!J172=\"\",AB172=\"kein Test\"),\"\",Liegestütz!J172))+IF(AND(Balance!J172=\"\",AB172=\"OK\"),VLOOKUP(G172&D172,$AJ$10:$AT$31,10,FALSE)+1,IF(AND(Balance!J172=\"\",AB172=\"kein Test\"),\"\",Balance!J172))+IF(AND('1000m'!J172=\"\",AB172=\"OK\"),VLOOKUP(G172&D172,$AJ$10:$AT$31,11,FALSE)+1,IF(AND('1000m'!J172=\"\",AB172=\"kein Test\"),\"\",'1000m'!J172)))/8)","v":""},null,null,"kein Test"]
[164,{"$f":"IF(Athletenliste!B173=\"\",\"\",Athletenliste!B173)","v":""},{"$f":"IF(Athletenliste!C173=\"\",\"\",Athletenliste!C173)","v":""},{"$f":"IF(Athletenliste!D173=\"\",\"\",Athletenliste!D173)","v":""},{"$f":"IF(Athletenliste!E173=\"\",\"\",Athletenliste!E173)","v":""},{"$f":"IF(Athletenliste!F173=\"\",\"\",Athletenliste!F173)","v":""},{"$f":"IF(Athletenliste!G173=\"\",\"\",Athletenliste!G173)","v":""},{"$f":"IF(Athletenliste!H173=\"\",\"\",Athletenliste!H173)","v":""},{"$f":"IF(Messen_Beweglichkeit!K173=\"\",\"\",Messen_Beweglichkeit!K173)","v":""},{"$f":"IF(Messen_Beweglichkeit!L173=\"\",\"\",Messen_Beweglichkeit!L173)","v":""},{"$f":"IF('Jump-and-Reach'!I173=\"\",\"\",'Jump-and-Reach'!I173)","v":""},{"$f":"IF('Jump-and-Reach'!J173=\"\",\"\",'Jump-and-Reach'!J173)","v":""},{"$f":"IF('30m Sprint'!I173=\"\",\"\",'30m Sprint'!I173)","v":""},{"$f":"IF('30m Sprint'!J173=\"\",\"\",'30m Sprint'!J173)","v":""},{"$f":"IF(KaBu!I173=\"\",\"\",KaBu!I173)","v":""},{"$f":"IF(KaBu!J173=\"\",\"\",KaBu!J173)","v":""},{"$f":"IF(Seilspringen!I173=\"\",\"\",Seilspringen!I173)","v":""},{"$f":"IF(Seilspringen!J173=\"\",\"\",Seilspringen!J173)","v":""},{"$f":"IF(Liegestütz!I173=\"\",\"\",Liegestütz!I173)","v":""},{"$f":"IF(Liegestütz!J173=\"\",\"\",Liegestütz!J173)","v":""},{"$f":"IF(Balance!I173=\"\",\"\",Balance!I173)","v":""},{"$f":"IF(Balance!J173=\"\",\"\",Balance!J173)","v":""},{"$f":"IF('1000m'!I173=\"\",\"\",'1000m'!I173)","v":""},{"$f":"IF('1000m'!J173=\"\",\"\",'1000m'!J173)","v":""},{"$f":"IF(B173=\"\",\"\",(IF(AND(Messen_Beweglichkeit!L173=\"\",AB173=\"OK\"),VLOOKUP(G173&D173,$AJ$10:$AT$31,4,FALSE)+1,IF(AND(Messen_Beweglichkeit!J173=\"\",AB173=\"kein Test\"),\"\",Messen_Beweglichkeit!L173))+IF(AND('Jump-and-Reach'!J173=\"\",AB173=\"OK\"),VLOOKUP(G173&D173,$AJ$10:$AT$31,5,FALSE)+1,IF(AND('Jump-and-Reach'!J173=\"\",AB173=\"kein Test\"),\"\",'Jump-and-Reach'!J173))+IF(AND('30m Sprint'!J173=\"\",AB173=\"OK\"),VLOOKUP(G173&D173,$AJ$10:$AT$31,6,FALSE)+1,IF(AND('30m Sprint'!J173=\"\",AB173=\"kein Test\"),\"\",'30m Sprint'!J173))+IF(AND(KaBu!J173=\"\",AB173=\"OK\"),VLOOKUP(G173&D173,$AJ$10:$AT$31,7,FALSE)+1,IF(AND(KaBu!J173=\"\",AB173=\"kein Test\"),\"\",KaBu!J173))+IF(AND(Seilspringen!J173=\"\",AB173=\"OK\"),VLOOKUP(G173&D173,$AJ$10:$AT$31,8,FALSE)+1,IF(AND(Seilspringen!J173=\"\",AB173=\"kein Test\"),\"\",Seilspringen!J173))+IF(AND(Liegestütz!J173=\"\",AB173=\"OK\"),VLOOKUP(G173&D173,$AJ$10:$AT$31,9,FALSE)+1,IF(AND(Liegestütz!J173=\"\",AB173=\"kein Test\"),\"\",Liegestütz!J173))+IF(AND(Balance!J173=\"\",AB173=\"OK\"),VLOOKUP(G173&D173,$AJ$10:$AT$31,10,FALSE)+1,IF(AND(Balance!J173=\"\",AB173=\"kein Test\"),\"\",Balance!J173))+IF(AND('1000m'!J173=\"\",AB173=\"OK\"),VLOOKUP(G173&D173,$AJ$10:$AT$31,11,FALSE)+1,IF(AND('1000m'!J173=\"\",AB173=\"kein Test\"),\"\",'1000m'!J173)))/8)","v":""},null,null,"kein Test"]
[165,{"$f":"IF(Athletenliste!B174=\"\",\"\",Athletenliste!B174)","v":""},{"$f":"IF(Athletenliste!C174=\"\",\"\",Athletenliste!C174)","v":""},{"$f":"IF(Athletenliste!D174=\"\",\"\",Athletenliste!D174)","v":""},{"$f":"IF(Athletenliste!E174=\"\",\"\",Athletenliste!E174)","v":""},{"$f":"IF(Athletenliste!F174=\"\",\"\",Athletenliste!F174)","v":""},{"$f":"IF(Athletenliste!G174=\"\",\"\",Athletenliste!G174)","v":""},{"$f":"IF(Athletenliste!H174=\"\",\"\",Athletenliste!H174)","v":""},{"$f":"IF(Messen_Beweglichkeit!K174=\"\",\"\",Messen_Beweglichkeit!K174)","v":""},{"$f":"IF(Messen_Beweglichkeit!L174=\"\",\"\",Messen_Beweglichkeit!L174)","v":""},{"$f":"IF('Jump-and-Reach'!I174=\"\",\"\",'Jump-and-Reach'!I174)","v":""},{"$f":"IF('Jump-and-Reach'!J174=\"\",\"\",'Jump-and-Reach'!J174)","v":""},{"$f":"IF('30m Sprint'!I174=\"\",\"\",'30m Sprint'!I174)","v":""},{"$f":"IF('30m Sprint'!J174=\"\",\"\",'30m Sprint'!J174)","v":""},{"$f":"IF(KaBu!I174=\"\",\"\",KaBu!I174)","v":""},{"$f":"IF(KaBu!J174=\"\",\"\",KaBu!J174)","v":""},{"$f":"IF(Seilspringen!I174=\"\",\"\",Seilspringen!I174)","v":""},{"$f":"IF(Seilspringen!J174=\"\",\"\",Seilspringen!J174)","v":""},{"$f":"IF(Liegestütz!I174=\"\",\"\",Liegestütz!I174)","v":""},{"$f":"IF(Liegestütz!J174=\"\",\"\",Liegestütz!J174)","v":""},{"$f":"IF(Balance!I174=\"\",\"\",Balance!I174)","v":""},{"$f":"IF(Balance!J174=\"\",\"\",Balance!J174)","v":""},{"$f":"IF('1000m'!I174=\"\",\"\",'1000m'!I174)","v":""},{"$f":"IF('1000m'!J174=\"\",\"\",'1000m'!J174)","v":""},{"$f":"IF(B174=\"\",\"\",(IF(AND(Messen_Beweglichkeit!L174=\"\",AB174=\"OK\"),VLOOKUP(G174&D174,$AJ$10:$AT$31,4,FALSE)+1,IF(AND(Messen_Beweglichkeit!J174=\"\",AB174=\"kein Test\"),\"\",Messen_Beweglichkeit!L174))+IF(AND('Jump-and-Reach'!J174=\"\",AB174=\"OK\"),VLOOKUP(G174&D174,$AJ$10:$AT$31,5,FALSE)+1,IF(AND('Jump-and-Reach'!J174=\"\",AB174=\"kein Test\"),\"\",'Jump-and-Reach'!J174))+IF(AND('30m Sprint'!J174=\"\",AB174=\"OK\"),VLOOKUP(G174&D174,$AJ$10:$AT$31,6,FALSE)+1,IF(AND('30m Sprint'!J174=\"\",AB174=\"kein Test\"),\"\",'30m Sprint'!J174))+IF(AND(KaBu!J174=\"\",AB174=\"OK\"),VLOOKUP(G174&D174,$AJ$10:$AT$31,7,FALSE)+1,IF(AND(KaBu!J174=\"\",AB174=\"kein Test\"),\"\",KaBu!J174))+IF(AND(Seilspringen!J174=\"\",AB174=\"OK\"),VLOOKUP(G174&D174,$AJ$10:$AT$31,8,FALSE)+1,IF(AND(Seilspringen!J174=\"\",AB174=\"kein Test\"),\"\",Seilspringen!J174))+IF(AND(Liegestütz!J174=\"\",AB174=\"OK\"),VLOOKUP(G174&D174,$AJ$10:$AT$31,9,FALSE)+1,IF(AND(Liegestütz!J174=\"\",AB174=\"kein Test\"),\"\",Liegestütz!J174))+IF(AND(Balance!J174=\"\",AB174=\"OK\"),VLOOKUP(G174&D174,$AJ$10:$AT$31,10,FALSE)+1,IF(AND(Balance!J174=\"\",AB174=\"kein Test\"),\"\",Balance!J174))+IF(AND('1000m'!J174=\"\",AB174=\"OK\"),VLOOKUP(G174&D174,$AJ$10:$AT$31,11,FALSE)+1,IF(AND('1000m'!J174=\"\",AB174=\"kein Test\"),\"\",'1000m'!J174)))/8)","v":""},null,null,"kein Test"]
[166,{"$f":"IF(Athletenliste!B175=\"\",\"\",Athletenliste!B175)","v":""},{"$f":"IF(Athletenliste!C175=\"\",\"\",Athletenliste!C175)","v":""},{"$f":"IF(Athletenliste!D175=\"\",\"\",Athletenliste!D175)","v":""},{"$f":"IF(Athletenliste!E175=\"\",\"\",Athletenliste!E175)","v":""},{"$f":"IF(Athletenliste!F175=\"\",\"\",Athletenliste!F175)","v":""},{"$f":"IF(Athletenliste!G175=\"\",\"\",Athletenliste!G175)","v":""},{"$f":"IF(Athletenliste!H175=\"\",\"\",Athletenliste!H175)","v":""},{"$f":"IF(Messen_Beweglichkeit!K175=\"\",\"\",Messen_Beweglichkeit!K175)","v":""},{"$f":"IF(Messen_Beweglichkeit!L175=\"\",\"\",Messen_Beweglichkeit!L175)","v":""},{"$f":"IF('Jump-and-Reach'!I175=\"\",\"\",'Jump-and-Reach'!I175)","v":""},{"$f":"IF('Jump-and-Reach'!J175=\"\",\"\",'Jump-and-Reach'!J175)","v":""},{"$f":"IF('30m Sprint'!I175=\"\",\"\",'30m Sprint'!I175)","v":""},{"$f":"IF('30m Sprint'!J175=\"\",\"\",'30m Sprint'!J175)","v":""},{"$f":"IF(KaBu!I175=\"\",\"\",KaBu!I175)","v":""},{"$f":"IF(KaBu!J175=\"\",\"\",KaBu!J175)","v":""},{"$f":"IF(Seilspringen!I175=\"\",\"\",Seilspringen!I175)","v":""},{"$f":"IF(Seilspringen!J175=\"\",\"\",Seilspringen!J175)","v":""},{"$f":"IF(Liegestütz!I175=\"\",\"\",Liegestütz!I175)","v":""},{"$f":"IF(Liegestütz!J175=\"\",\"\",Liegestütz!J175)","v":""},{"$f":"IF(Balance!I175=\"\",\"\",Balance!I175)","v":""},{"$f":"IF(Balance!J175=\"\",\"\",Balance!J175)","v":""},{"$f":"IF('1000m'!I175=\"\",\"\",'1000m'!I175)","v":""},{"$f":"IF('1000m'!J175=\"\",\"\",'1000m'!J175)","v":""},{"$f":"IF(B175=\"\",\"\",(IF(AND(Messen_Beweglichkeit!L175=\"\",AB175=\"OK\"),VLOOKUP(G175&D175,$AJ$10:$AT$31,4,FALSE)+1,IF(AND(Messen_Beweglichkeit!J175=\"\",AB175=\"kein Test\"),\"\",Messen_Beweglichkeit!L175))+IF(AND('Jump-and-Reach'!J175=\"\",AB175=\"OK\"),VLOOKUP(G175&D175,$AJ$10:$AT$31,5,FALSE)+1,IF(AND('Jump-and-Reach'!J175=\"\",AB175=\"kein Test\"),\"\",'Jump-and-Reach'!J175))+IF(AND('30m Sprint'!J175=\"\",AB175=\"OK\"),VLOOKUP(G175&D175,$AJ$10:$AT$31,6,FALSE)+1,IF(AND('30m Sprint'!J175=\"\",AB175=\"kein Test\"),\"\",'30m Sprint'!J175))+IF(AND(KaBu!J175=\"\",AB175=\"OK\"),VLOOKUP(G175&D175,$AJ$10:$AT$31,7,FALSE)+1,IF(AND(KaBu!J175=\"\",AB175=\"kein Test\"),\"\",KaBu!J175))+IF(AND(Seilspringen!J175=\"\",AB175=\"OK\"),VLOOKUP(G175&D175,$AJ$10:$AT$31,8,FALSE)+1,IF(AND(Seilspringen!J175=\"\",AB175=\"kein Test\"),\"\",Seilspringen!J175))+IF(AND(Liegestütz!J175=\"\",AB175=\"OK\"),VLOOKUP(G175&D175,$AJ$10:$AT$31,9,FALSE)+1,IF(AND(Liegestütz!J175=\"\",AB175=\"kein Test\"),\"\",Liegestütz!J175))+IF(AND(Balance!J175=\"\",AB175=\"OK\"),VLOOKUP(G175&D175,$AJ$10:$AT$31,10,FALSE)+1,IF(AND(Balance!J175=\"\",AB175=\"kein Test\"),\"\",Balance!J175))+IF(AND('1000m'!J175=\"\",AB175=\"OK\"),VLOOKUP(G175&D175,$AJ$10:$AT$31,11,FALSE)+1,IF(AND('1000m'!J175=\"\",AB175=\"kein Test\"),\"\",'1000m'!J175)))/8)","v":""},null,null,"kein Test"]
[167,{"$f":"IF(Athletenliste!B176=\"\",\"\",Athletenliste!B176)","v":""},{"$f":"IF(Athletenliste!C176=\"\",\"\",Athletenliste!C176)","v":""},{"$f":"IF(Athletenliste!D176=\"\",\"\",Athletenliste!D176)","v":""},{"$f":"IF(Athletenliste!E176=\"\",\"\",Athletenliste!E176)","v":""},{"$f":"IF(Athletenliste!F176=\"\",\"\",Athletenliste!F176)","v":""},{"$f":"IF(Athletenliste!G176=\"\",\"\",Athletenliste!G176)","v":""},{"$f":"IF(Athletenliste!H176=\"\",\"\",Athletenliste!H176)","v":""},{"$f":"IF(Messen_Beweglichkeit!K176=\"\",\"\",Messen_Beweglichkeit!K176)","v":""},{"$f":"IF(Messen_Beweglichkeit!L176=\"\",\"\",Messen_Beweglichkeit!L176)","v":""},{"$f":"IF('Jump-and-Reach'!I176=\"\",\"\",'Jump-and-Reach'!I176)","v":""},{"$f":"IF('Jump-and-Reach'!J176=\"\",\"\",'Jump-and-Reach'!J176)","v":""},{"$f":"IF('30m Sprint'!I176=\"\",\"\",'30m Sprint'!I176)","v":""},{"$f":"IF('30m Sprint'!J176=\"\",\"\",'30m Sprint'!J176)","v":""},{"$f":"IF(KaBu!I176=\"\",\"\",KaBu!I176)","v":""},{"$f":"IF(KaBu!J176=\"\",\"\",KaBu!J176)","v":""},{"$f":"IF(Seilspringen!I176=\"\",\"\",Seilspringen!I176)","v":""},{"$f":"IF(Seilspringen!J176=\"\",\"\",Seilspringen!J176)","v":""},{"$f":"IF(Liegestütz!I176=\"\",\"\",Liegestütz!I176)","v":""},{"$f":"IF(Liegestütz!J176=\"\",\"\",Liegestütz!J176)","v":""},{"$f":"IF(Balance!I176=\"\",\"\",Balance!I176)","v":""},{"$f":"IF(Balance!J176=\"\",\"\",Balance!J176)","v":""},{"$f":"IF('1000m'!I176=\"\",\"\",'1000m'!I176)","v":""},{"$f":"IF('1000m'!J176=\"\",\"\",'1000m'!J176)","v":""},{"$f":"IF(B176=\"\",\"\",(IF(AND(Messen_Beweglichkeit!L176=\"\",AB176=\"OK\"),VLOOKUP(G176&D176,$AJ$10:$AT$31,4,FALSE)+1,IF(AND(Messen_Beweglichkeit!J176=\"\",AB176=\"kein Test\"),\"\",Messen_Beweglichkeit!L176))+IF(AND('Jump-and-Reach'!J176=\"\",AB176=\"OK\"),VLOOKUP(G176&D176,$AJ$10:$AT$31,5,FALSE)+1,IF(AND('Jump-and-Reach'!J176=\"\",AB176=\"kein Test\"),\"\",'Jump-and-Reach'!J176))+IF(AND('30m Sprint'!J176=\"\",AB176=\"OK\"),VLOOKUP(G176&D176,$AJ$10:$AT$31,6,FALSE)+1,IF(AND('30m Sprint'!J176=\"\",AB176=\"kein Test\"),\"\",'30m Sprint'!J176))+IF(AND(KaBu!J176=\"\",AB176=\"OK\"),VLOOKUP(G176&D176,$AJ$10:$AT$31,7,FALSE)+1,IF(AND(KaBu!J176=\"\",AB176=\"kein Test\"),\"\",KaBu!J176))+IF(AND(Seilspringen!J176=\"\",AB176=\"OK\"),VLOOKUP(G176&D176,$AJ$10:$AT$31,8,FALSE)+1,IF(AND(Seilspringen!J176=\"\",AB176=\"kein Test\"),\"\",Seilspringen!J176))+IF(AND(Liegestütz!J176=\"\",AB176=\"OK\"),VLOOKUP(G176&D176,$AJ$10:$AT$31,9,FALSE)+1,IF(AND(Liegestütz!J176=\"\",AB176=\"kein Test\"),\"\",Liegestütz!J176))+IF(AND(Balance!J176=\"\",AB176=\"OK\"),VLOOKUP(G176&D176,$AJ$10:$AT$31,10,FALSE)+1,IF(AND(Balance!J176=\"\",AB176=\"kein Test\"),\"\",Balance!J176))+IF(AND('1000m'!J176=\"\",AB176=\"OK\"),VLOOKUP(G176&D176,$AJ$10:$AT$31,11,FALSE)+1,IF(AND('1000m'!J176=\"\",AB176=\"kein Test\"),\"\",'1000m'!J176)))/8)","v":""},null,null,"kein Test"]
[168,{"$f":"IF(Athletenliste!B177=\"\",\"\",Athletenliste!B177)","v":""},{"$f":"IF(Athletenliste!C177=\"\",\"\",Athletenliste!C177)","v":""},{"$f":"IF(Athletenliste!D177=\"\",\"\",Athletenliste!D177)","v":""},{"$f":"IF(Athletenliste!E177=\"\",\"\",Athletenliste!E177)","v":""},{"$f":"IF(Athletenliste!F177=\"\",\"\",Athletenliste!F177)","v":""},{"$f":"IF(Athletenliste!G177=\"\",\"\",Athletenliste!G177)","v":""},{"$f":"IF(Athletenliste!H177=\"\",\"\",Athletenliste!H177)","v":""},{"$f":"IF(Messen_Beweglichkeit!K177=\"\",\"\",Messen_Beweglichkeit!K177)","v":""},{"$f":"IF(Messen_Beweglichkeit!L177=\"\",\"\",Messen_Beweglichkeit!L177)","v":""},{"$f":"IF('Jump-and-Reach'!I177=\"\",\"\",'Jump-and-Reach'!I177)","v":""},{"$f":"IF('Jump-and-Reach'!J177=\"\",\"\",'Jump-and-Reach'!J177)","v":""},{"$f":"IF('30m Sprint'!I177=\"\",\"\",'30m Sprint'!I177)","v":""},{"$f":"IF('30m Sprint'!J177=\"\",\"\",'30m Sprint'!J177)","v":""},{"$f":"IF(KaBu!I177=\"\",\"\",KaBu!I177)","v":""},{"$f":"IF(KaBu!J177=\"\",\"\",KaBu!J177)","v":""},{"$f":"IF(Seilspringen!I177=\"\",\"\",Seilspringen!I177)","v":""},{"$f":"IF(Seilspringen!J177=\"\",\"\",Seilspringen!J177)","v":""},{"$f":"IF(Liegestütz!I177=\"\",\"\",Liegestütz!I177)","v":""},{"$f":"IF(Liegestütz!J177=\"\",\"\",Liegestütz!J177)","v":""},{"$f":"IF(Balance!I177=\"\",\"\",Balance!I177)","v":""},{"$f":"IF(Balance!J177=\"\",\"\",Balance!J177)","v":""},{"$f":"IF('1000m'!I177=\"\",\"\",'1000m'!I177)","v":""},{"$f":"IF('1000m'!J177=\"\",\"\",'1000m'!J177)","v":""},{"$f":"IF(B177=\"\",\"\",(IF(AND(Messen_Beweglichkeit!L177=\"\",AB177=\"OK\"),VLOOKUP(G177&D177,$AJ$10:$AT$31,4,FALSE)+1,IF(AND(Messen_Beweglichkeit!J177=\"\",AB177=\"kein Test\"),\"\",Messen_Beweglichkeit!L177))+IF(AND('Jump-and-Reach'!J177=\"\",AB177=\"OK\"),VLOOKUP(G177&D177,$AJ$10:$AT$31,5,FALSE)+1,IF(AND('Jump-and-Reach'!J177=\"\",AB177=\"kein Test\"),\"\",'Jump-and-Reach'!J177))+IF(AND('30m Sprint'!J177=\"\",AB177=\"OK\"),VLOOKUP(G177&D177,$AJ$10:$AT$31,6,FALSE)+1,IF(AND('30m Sprint'!J177=\"\",AB177=\"kein Test\"),\"\",'30m Sprint'!J177))+IF(AND(KaBu!J177=\"\",AB177=\"OK\"),VLOOKUP(G177&D177,$AJ$10:$AT$31,7,FALSE)+1,IF(AND(KaBu!J177=\"\",AB177=\"kein Test\"),\"\",KaBu!J177))+IF(AND(Seilspringen!J177=\"\",AB177=\"OK\"),VLOOKUP(G177&D177,$AJ$10:$AT$31,8,FALSE)+1,IF(AND(Seilspringen!J177=\"\",AB177=\"kein Test\"),\"\",Seilspringen!J177))+IF(AND(Liegestütz!J177=\"\",AB177=\"OK\"),VLOOKUP(G177&D177,$AJ$10:$AT$31,9,FALSE)+1,IF(AND(Liegestütz!J177=\"\",AB177=\"kein Test\"),\"\",Liegestütz!J177))+IF(AND(Balance!J177=\"\",AB177=\"OK\"),VLOOKUP(G177&D177,$AJ$10:$AT$31,10,FALSE)+1,IF(AND(Balance!J177=\"\",AB177=\"kein Test\"),\"\",Balance!J177))+IF(AND('1000m'!J177=\"\",AB177=\"OK\"),VLOOKUP(G177&D177,$AJ$10:$AT$31,11,FALSE)+1,IF(AND('1000m'!J177=\"\",AB177=\"kein Test\"),\"\",'1000m'!J177)))/8)","v":""},null,null,"kein Test"]
[169,{"$f":"IF(Athletenliste!B178=\"\",\"\",Athletenliste!B178)","v":""},{"$f":"IF(Athletenliste!C178=\"\",\"\",Athletenliste!C178)","v":""},{"$f":"IF(Athletenliste!D178=\"\",\"\",Athletenliste!D178)","v":""},{"$f":"IF(Athletenliste!E178=\"\",\"\",Athletenliste!E178)","v":""},{"$f":"IF(Athletenliste!F178=\"\",\"\",Athletenliste!F178)","v":""},{"$f":"IF(Athletenliste!G178=\"\",\"\",Athletenliste!G178)","v":""},{"$f":"IF(Athletenliste!H178=\"\",\"\",Athletenliste!H178)","v":""},{"$f":"IF(Messen_Beweglichkeit!K178=\"\",\"\",Messen_Beweglichkeit!K178)","v":""},{"$f":"IF(Messen_Beweglichkeit!L178=\"\",\"\",Messen_Beweglichkeit!L178)","v":""},{"$f":"IF('Jump-and-Reach'!I178=\"\",\"\",'Jump-and-Reach'!I178)","v":""},{"$f":"IF('Jump-and-Reach'!J178=\"\",\"\",'Jump-and-Reach'!J178)","v":""},{"$f":"IF('30m Sprint'!I178=\"\",\"\",'30m Sprint'!I178)","v":""},{"$f":"IF('30m Sprint'!J178=\"\",\"\",'30m Sprint'!J178)","v":""},{"$f":"IF(KaBu!I178=\"\",\"\",KaBu!I178)","v":""},{"$f":"IF(KaBu!J178=\"\",\"\",KaBu!J178)","v":""},{"$f":"IF(Seilspringen!I178=\"\",\"\",Seilspringen!I178)","v":""},{"$f":"IF(Seilspringen!J178=\"\",\"\",Seilspringen!J178)","v":""},{"$f":"IF(Liegestütz!I178=\"\",\"\",Liegestütz!I178)","v":""},{"$f":"IF(Liegestütz!J178=\"\",\"\",Liegestütz!J178)","v":""},{"$f":"IF(Balance!I178=\"\",\"\",Balance!I178)","v":""},{"$f":"IF(Balance!J178=\"\",\"\",Balance!J178)","v":""},{"$f":"IF('1000m'!I178=\"\",\"\",'1000m'!I178)","v":""},{"$f":"IF('1000m'!J178=\"\",\"\",'1000m'!J178)","v":""},{"$f":"IF(B178=\"\",\"\",(IF(AND(Messen_Beweglichkeit!L178=\"\",AB178=\"OK\"),VLOOKUP(G178&D178,$AJ$10:$AT$31,4,FALSE)+1,IF(AND(Messen_Beweglichkeit!J178=\"\",AB178=\"kein Test\"),\"\",Messen_Beweglichkeit!L178))+IF(AND('Jump-and-Reach'!J178=\"\",AB178=\"OK\"),VLOOKUP(G178&D178,$AJ$10:$AT$31,5,FALSE)+1,IF(AND('Jump-and-Reach'!J178=\"\",AB178=\"kein Test\"),\"\",'Jump-and-Reach'!J178))+IF(AND('30m Sprint'!J178=\"\",AB178=\"OK\"),VLOOKUP(G178&D178,$AJ$10:$AT$31,6,FALSE)+1,IF(AND('30m Sprint'!J178=\"\",AB178=\"kein Test\"),\"\",'30m Sprint'!J178))+IF(AND(KaBu!J178=\"\",AB178=\"OK\"),VLOOKUP(G178&D178,$AJ$10:$AT$31,7,FALSE)+1,IF(AND(KaBu!J178=\"\",AB178=\"kein Test\"),\"\",KaBu!J178))+IF(AND(Seilspringen!J178=\"\",AB178=\"OK\"),VLOOKUP(G178&D178,$AJ$10:$AT$31,8,FALSE)+1,IF(AND(Seilspringen!J178=\"\",AB178=\"kein Test\"),\"\",Seilspringen!J178))+IF(AND(Liegestütz!J178=\"\",AB178=\"OK\"),VLOOKUP(G178&D178,$AJ$10:$AT$31,9,FALSE)+1,IF(AND(Liegestütz!J178=\"\",AB178=\"kein Test\"),\"\",Liegestütz!J178))+IF(AND(Balance!J178=\"\",AB178=\"OK\"),VLOOKUP(G178&D178,$AJ$10:$AT$31,10,FALSE)+1,IF(AND(Balance!J178=\"\",AB178=\"kein Test\"),\"\",Balance!J178))+IF(AND('1000m'!J178=\"\",AB178=\"OK\"),VLOOKUP(G178&D178,$AJ$10:$AT$31,11,FALSE)+1,IF(AND('1000m'!J178=\"\",AB178=\"kein Test\"),\"\",'1000m'!J178)))/8)","v":""},null,null,"kein Test"]
[170,{"$f":"IF(Athletenliste!B179=\"\",\"\",Athletenliste!B179)","v":""},{"$f":"IF(Athletenliste!C179=\"\",\"\",Athletenliste!C179)","v":""},{"$f":"IF(Athletenliste!D179=\"\",\"\",Athletenliste!D179)","v":""},{"$f":"IF(Athletenliste!E179=\"\",\"\",Athletenliste!E179)","v":""},{"$f":"IF(Athletenliste!F179=\"\",\"\",Athletenliste!F179)","v":""},{"$f":"IF(Athletenliste!G179=\"\",\"\",Athletenliste!G179)","v":""},{"$f":"IF(Athletenliste!H179=\"\",\"\",Athletenliste!H179)","v":""},{"$f":"IF(Messen_Beweglichkeit!K179=\"\",\"\",Messen_Beweglichkeit!K179)","v":""},{"$f":"IF(Messen_Beweglichkeit!L179=\"\",\"\",Messen_Beweglichkeit!L179)","v":""},{"$f":"IF('Jump-and-Reach'!I179=\"\",\"\",'Jump-and-Reach'!I179)","v":""},{"$f":"IF('Jump-and-Reach'!J179=\"\",\"\",'Jump-and-Reach'!J179)","v":""},{"$f":"IF('30m Sprint'!I179=\"\",\"\",'30m Sprint'!I179)","v":""},{"$f":"IF('30m Sprint'!J179=\"\",\"\",'30m Sprint'!J179)","v":""},{"$f":"IF(KaBu!I179=\"\",\"\",KaBu!I179)","v":""},{"$f":"IF(KaBu!J179=\"\",\"\",KaBu!J179)","v":""},{"$f":"IF(Seilspringen!I179=\"\",\"\",Seilspringen!I179)","v":""},{"$f":"IF(Seilspringen!J179=\"\",\"\",Seilspringen!J179)","v":""},{"$f":"IF(Liegestütz!I179=\"\",\"\",Liegestütz!I179)","v":""},{"$f":"IF(Liegestütz!J179=\"\",\"\",Liegestütz!J179)","v":""},{"$f":"IF(Balance!I179=\"\",\"\",Balance!I179)","v":""},{"$f":"IF(Balance!J179=\"\",\"\",Balance!J179)","v":""},{"$f":"IF('1000m'!I179=\"\",\"\",'1000m'!I179)","v":""},{"$f":"IF('1000m'!J179=\"\",\"\",'1000m'!J179)","v":""},{"$f":"IF(B179=\"\",\"\",(IF(AND(Messen_Beweglichkeit!L179=\"\",AB179=\"OK\"),VLOOKUP(G179&D179,$AJ$10:$AT$31,4,FALSE)+1,IF(AND(Messen_Beweglichkeit!J179=\"\",AB179=\"kein Test\"),\"\",Messen_Beweglichkeit!L179))+IF(AND('Jump-and-Reach'!J179=\"\",AB179=\"OK\"),VLOOKUP(G179&D179,$AJ$10:$AT$31,5,FALSE)+1,IF(AND('Jump-and-Reach'!J179=\"\",AB179=\"kein Test\"),\"\",'Jump-and-Reach'!J179))+IF(AND('30m Sprint'!J179=\"\",AB179=\"OK\"),VLOOKUP(G179&D179,$AJ$10:$AT$31,6,FALSE)+1,IF(AND('30m Sprint'!J179=\"\",AB179=\"kein Test\"),\"\",'30m Sprint'!J179))+IF(AND(KaBu!J179=\"\",AB179=\"OK\"),VLOOKUP(G179&D179,$AJ$10:$AT$31,7,FALSE)+1,IF(AND(KaBu!J179=\"\",AB179=\"kein Test\"),\"\",KaBu!J179))+IF(AND(Seilspringen!J179=\"\",AB179=\"OK\"),VLOOKUP(G179&D179,$AJ$10:$AT$31,8,FALSE)+1,IF(AND(Seilspringen!J179=\"\",AB179=\"kein Test\"),\"\",Seilspringen!J179))+IF(AND(Liegestütz!J179=\"\",AB179=\"OK\"),VLOOKUP(G179&D179,$AJ$10:$AT$31,9,FALSE)+1,IF(AND(Liegestütz!J179=\"\",AB179=\"kein Test\"),\"\",Liegestütz!J179))+IF(AND(Balance!J179=\"\",AB179=\"OK\"),VLOOKUP(G179&D179,$AJ$10:$AT$31,10,FALSE)+1,IF(AND(Balance!J179=\"\",AB179=\"kein Test\"),\"\",Balance!J179))+IF(AND('1000m'!J179=\"\",AB179=\"OK\"),VLOOKUP(G179&D179,$AJ$10:$AT$31,11,FALSE)+1,IF(AND('1000m'!J179=\"\",AB179=\"kein Test\"),\"\",'1000m'!J179)))/8)","v":""},null,null,"kein Test"]
[171,{"$f":"IF(Athletenliste!B180=\"\",\"\",Athletenliste!B180)","v":""},{"$f":"IF(Athletenliste!C180=\"\",\"\",Athletenliste!C180)","v":""},{"$f":"IF(Athletenliste!D180=\"\",\"\",Athletenliste!D180)","v":""},{"$f":"IF(Athletenliste!E180=\"\",\"\",Athletenliste!E180)","v":""},{"$f":"IF(Athletenliste!F180=\"\",\"\",Athletenliste!F180)","v":""},{"$f":"IF(Athletenliste!G180=\"\",\"\",Athletenliste!G180)","v":""},{"$f":"IF(Athletenliste!H180=\"\",\"\",Athletenliste!H180)","v":""},{"$f":"IF(Messen_Beweglichkeit!K180=\"\",\"\",Messen_Beweglichkeit!K180)","v":""},{"$f":"IF(Messen_Beweglichkeit!L180=\"\",\"\",Messen_Beweglichkeit!L180)","v":""},{"$f":"IF('Jump-and-Reach'!I180=\"\",\"\",'Jump-and-Reach'!I180)","v":""},{"$f":"IF('Jump-and-Reach'!J180=\"\",\"\",'Jump-and-Reach'!J180)","v":""},{"$f":"IF('30m Sprint'!I180=\"\",\"\",'30m Sprint'!I180)","v":""},{"$f":"IF('30m Sprint'!J180=\"\",\"\",'30m Sprint'!J180)","v":""},{"$f":"IF(KaBu!I180=\"\",\"\",KaBu!I180)","v":""},{"$f":"IF(KaBu!J180=\"\",\"\",KaBu!J180)","v":""},{"$f":"IF(Seilspringen!I180=\"\",\"\",Seilspringen!I180)","v":""},{"$f":"IF(Seilspringen!J180=\"\",\"\",Seilspringen!J180)","v":""},{"$f":"IF(Liegestütz!I180=\"\",\"\",Liegestütz!I180)","v":""},{"$f":"IF(Liegestütz!J180=\"\",\"\",Liegestütz!J180)","v":""},{"$f":"IF(Balance!I180=\"\",\"\",Balance!I180)","v":""},{"$f":"IF(Balance!J180=\"\",\"\",Balance!J180)","v":""},{"$f":"IF('1000m'!I180=\"\",\"\",'1000m'!I180)","v":""},{"$f":"IF('1000m'!J180=\"\",\"\",'1000m'!J180)","v":""},{"$f":"IF(B180=\"\",\"\",(IF(AND(Messen_Beweglichkeit!L180=\"\",AB180=\"OK\"),VLOOKUP(G180&D180,$AJ$10:$AT$31,4,FALSE)+1,IF(AND(Messen_Beweglichkeit!J180=\"\",AB180=\"kein Test\"),\"\",Messen_Beweglichkeit!L180))+IF(AND('Jump-and-Reach'!J180=\"\",AB180=\"OK\"),VLOOKUP(G180&D180,$AJ$10:$AT$31,5,FALSE)+1,IF(AND('Jump-and-Reach'!J180=\"\",AB180=\"kein Test\"),\"\",'Jump-and-Reach'!J180))+IF(AND('30m Sprint'!J180=\"\",AB180=\"OK\"),VLOOKUP(G180&D180,$AJ$10:$AT$31,6,FALSE)+1,IF(AND('30m Sprint'!J180=\"\",AB180=\"kein Test\"),\"\",'30m Sprint'!J180))+IF(AND(KaBu!J180=\"\",AB180=\"OK\"),VLOOKUP(G180&D180,$AJ$10:$AT$31,7,FALSE)+1,IF(AND(KaBu!J180=\"\",AB180=\"kein Test\"),\"\",KaBu!J180))+IF(AND(Seilspringen!J180=\"\",AB180=\"OK\"),VLOOKUP(G180&D180,$AJ$10:$AT$31,8,FALSE)+1,IF(AND(Seilspringen!J180=\"\",AB180=\"kein Test\"),\"\",Seilspringen!J180))+IF(AND(Liegestütz!J180=\"\",AB180=\"OK\"),VLOOKUP(G180&D180,$AJ$10:$AT$31,9,FALSE)+1,IF(AND(Liegestütz!J180=\"\",AB180=\"kein Test\"),\"\",Liegestütz!J180))+IF(AND(Balance!J180=\"\",AB180=\"OK\"),VLOOKUP(G180&D180,$AJ$10:$AT$31,10,FALSE)+1,IF(AND(Balance!J180=\"\",AB180=\"kein Test\"),\"\",Balance!J180))+IF(AND('1000m'!J180=\"\",AB180=\"OK\"),VLOOKUP(G180&D180,$AJ$10:$AT$31,11,FALSE)+1,IF(AND('1000m'!J180=\"\",AB180=\"kein Test\"),\"\",'1000m'!J180)))/8)","v":""},null,null,"kein Test"]
[172,{"$f":"IF(Athletenliste!B181=\"\",\"\",Athletenliste!B181)","v":""},{"$f":"IF(Athletenliste!C181=\"\",\"\",Athletenliste!C181)","v":""},{"$f":"IF(Athletenliste!D181=\"\",\"\",Athletenliste!D181)","v":""},{"$f":"IF(Athletenliste!E181=\"\",\"\",Athletenliste!E181)","v":""},{"$f":"IF(Athletenliste!F181=\"\",\"\",Athletenliste!F181)","v":""},{"$f":"IF(Athletenliste!G181=\"\",\"\",Athletenliste!G181)","v":""},{"$f":"IF(Athletenliste!H181=\"\",\"\",Athletenliste!H181)","v":""},{"$f":"IF(Messen_Beweglichkeit!K181=\"\",\"\",Messen_Beweglichkeit!K181)","v":""},{"$f":"IF(Messen_Beweglichkeit!L181=\"\",\"\",Messen_Beweglichkeit!L181)","v":""},{"$f":"IF('Jump-and-Reach'!I181=\"\",\"\",'Jump-and-Reach'!I181)","v":""},{"$f":"IF('Jump-and-Reach'!J181=\"\",\"\",'Jump-and-Reach'!J181)","v":""},{"$f":"IF('30m Sprint'!I181=\"\",\"\",'30m Sprint'!I181)","v":""},{"$f":"IF('30m Sprint'!J181=\"\",\"\",'30m Sprint'!J181)","v":""},{"$f":"IF(KaBu!I181=\"\",\"\",KaBu!I181)","v":""},{"$f":"IF(KaBu!J181=\"\",\"\",KaBu!J181)","v":""},{"$f":"IF(Seilspringen!I181=\"\",\"\",Seilspringen!I181)","v":""},{"$f":"IF(Seilspringen!J181=\"\",\"\",Seilspringen!J181)","v":""},{"$f":"IF(Liegestütz!I181=\"\",\"\",Liegestütz!I181)","v":""},{"$f":"IF(Liegestütz!J181=\"\",\"\",Liegestütz!J181)","v":""},{"$f":"IF(Balance!I181=\"\",\"\",Balance!I181)","v":""},{"$f":"IF(Balance!J181=\"\",\"\",Balance!J181)","v":""},{"$f":"IF('1000m'!I181=\"\",\"\",'1000m'!I181)","v":""},{"$f":"IF('1000m'!J181=\"\",\"\",'1000m'!J181)","v":""},{"$f":"IF(B181=\"\",\"\",(IF(AND(Messen_Beweglichkeit!L181=\"\",AB181=\"OK\"),VLOOKUP(G181&D181,$AJ$10:$AT$31,4,FALSE)+1,IF(AND(Messen_Beweglichkeit!J181=\"\",AB181=\"kein Test\"),\"\",Messen_Beweglichkeit!L181))+IF(AND('Jump-and-Reach'!J181=\"\",AB181=\"OK\"),VLOOKUP(G181&D181,$AJ$10:$AT$31,5,FALSE)+1,IF(AND('Jump-and-Reach'!J181=\"\",AB181=\"kein Test\"),\"\",'Jump-and-Reach'!J181))+IF(AND('30m Sprint'!J181=\"\",AB181=\"OK\"),VLOOKUP(G181&D181,$AJ$10:$AT$31,6,FALSE)+1,IF(AND('30m Sprint'!J181=\"\",AB181=\"kein Test\"),\"\",'30m Sprint'!J181))+IF(AND(KaBu!J181=\"\",AB181=\"OK\"),VLOOKUP(G181&D181,$AJ$10:$AT$31,7,FALSE)+1,IF(AND(KaBu!J181=\"\",AB181=\"kein Test\"),\"\",KaBu!J181))+IF(AND(Seilspringen!J181=\"\",AB181=\"OK\"),VLOOKUP(G181&D181,$AJ$10:$AT$31,8,FALSE)+1,IF(AND(Seilspringen!J181=\"\",AB181=\"kein Test\"),\"\",Seilspringen!J181))+IF(AND(Liegestütz!J181=\"\",AB181=\"OK\"),VLOOKUP(G181&D181,$AJ$10:$AT$31,9,FALSE)+1,IF(AND(Liegestütz!J181=\"\",AB181=\"kein Test\"),\"\",Liegestütz!J181))+IF(AND(Balance!J181=\"\",AB181=\"OK\"),VLOOKUP(G181&D181,$AJ$10:$AT$31,10,FALSE)+1,IF(AND(Balance!J181=\"\",AB181=\"kein Test\"),\"\",Balance!J181))+IF(AND('1000m'!J181=\"\",AB181=\"OK\"),VLOOKUP(G181&D181,$AJ$10:$AT$31,11,FALSE)+1,IF(AND('1000m'!J181=\"\",AB181=\"kein Test\"),\"\",'1000m'!J181)))/8)","v":""},null,null,"kein Test"]
[173,{"$f":"IF(Athletenliste!B182=\"\",\"\",Athletenliste!B182)","v":""},{"$f":"IF(Athletenliste!C182=\"\",\"\",Athletenliste!C182)","v":""},{"$f":"IF(Athletenliste!D182=\"\",\"\",Athletenliste!D182)","v":""},{"$f":"IF(Athletenliste!E182=\"\",\"\",Athletenliste!E182)","v":""},{"$f":"IF(Athletenliste!F182=\"\",\"\",Athletenliste!F182)","v":""},{"$f":"IF(Athletenliste!G182=\"\",\"\",Athletenliste!G182)","v":""},{"$f":"IF(Athletenliste!H182=\"\",\"\",Athletenliste!H182)","v":""},{"$f":"IF(Messen_Beweglichkeit!K182=\"\",\"\",Messen_Beweglichkeit!K182)","v":""},{"$f":"IF(Messen_Beweglichkeit!L182=\"\",\"\",Messen_Beweglichkeit!L182)","v":""},{"$f":"IF('Jump-and-Reach'!I182=\"\",\"\",'Jump-and-Reach'!I182)","v":""},{"$f":"IF('Jump-and-Reach'!J182=\"\",\"\",'Jump-and-Reach'!J182)","v":""},{"$f":"IF('30m Sprint'!I182=\"\",\"\",'30m Sprint'!I182)","v":""},{"$f":"IF('30m Sprint'!J182=\"\",\"\",'30m Sprint'!J182)","v":""},{"$f":"IF(KaBu!I182=\"\",\"\",KaBu!I182)","v":""},{"$f":"IF(KaBu!J182=\"\",\"\",KaBu!J182)","v":""},{"$f":"IF(Seilspringen!I182=\"\",\"\",Seilspringen!I182)","v":""},{"$f":"IF(Seilspringen!J182=\"\",\"\",Seilspringen!J182)","v":""},{"$f":"IF(Liegestütz!I182=\"\",\"\",Liegestütz!I182)","v":""},{"$f":"IF(Liegestütz!J182=\"\",\"\",Liegestütz!J182)","v":""},{"$f":"IF(Balance!I182=\"\",\"\",Balance!I182)","v":""},{"$f":"IF(Balance!J182=\"\",\"\",Balance!J182)","v":""},{"$f":"IF('1000m'!I182=\"\",\"\",'1000m'!I182)","v":""},{"$f":"IF('1000m'!J182=\"\",\"\",'1000m'!J182)","v":""},{"$f":"IF(B182=\"\",\"\",(IF(AND(Messen_Beweglichkeit!L182=\"\",AB182=\"OK\"),VLOOKUP(G182&D182,$AJ$10:$AT$31,4,FALSE)+1,IF(AND(Messen_Beweglichkeit!J182=\"\",AB182=\"kein Test\"),\"\",Messen_Beweglichkeit!L182))+IF(AND('Jump-and-Reach'!J182=\"\",AB182=\"OK\"),VLOOKUP(G182&D182,$AJ$10:$AT$31,5,FALSE)+1,IF(AND('Jump-and-Reach'!J182=\"\",AB182=\"kein Test\"),\"\",'Jump-and-Reach'!J182))+IF(AND('30m Sprint'!J182=\"\",AB182=\"OK\"),VLOOKUP(G182&D182,$AJ$10:$AT$31,6,FALSE)+1,IF(AND('30m Sprint'!J182=\"\",AB182=\"kein Test\"),\"\",'30m Sprint'!J182))+IF(AND(KaBu!J182=\"\",AB182=\"OK\"),VLOOKUP(G182&D182,$AJ$10:$AT$31,7,FALSE)+1,IF(AND(KaBu!J182=\"\",AB182=\"kein Test\"),\"\",KaBu!J182))+IF(AND(Seilspringen!J182=\"\",AB182=\"OK\"),VLOOKUP(G182&D182,$AJ$10:$AT$31,8,FALSE)+1,IF(AND(Seilspringen!J182=\"\",AB182=\"kein Test\"),\"\",Seilspringen!J182))+IF(AND(Liegestütz!J182=\"\",AB182=\"OK\"),VLOOKUP(G182&D182,$AJ$10:$AT$31,9,FALSE)+1,IF(AND(Liegestütz!J182=\"\",AB182=\"kein Test\"),\"\",Liegestütz!J182))+IF(AND(Balance!J182=\"\",AB182=\"OK\"),VLOOKUP(G182&D182,$AJ$10:$AT$31,10,FALSE)+1,IF(AND(Balance!J182=\"\",AB182=\"kein Test\"),\"\",Balance!J182))+IF(AND('1000m'!J182=\"\",AB182=\"OK\"),VLOOKUP(G182&D182,$AJ$10:$AT$31,11,FALSE)+1,IF(AND('1000m'!J182=\"\",AB182=\"kein Test\"),\"\",'1000m'!J182)))/8)","v":""},null,null,"kein Test"]
[174,{"$f":"IF(Athletenliste!B183=\"\",\"\",Athletenliste!B183)","v":""},{"$f":"IF(Athletenliste!C183=\"\",\"\",Athletenliste!C183)","v":""},{"$f":"IF(Athletenliste!D183=\"\",\"\",Athletenliste!D183)","v":""},{"$f":"IF(Athletenliste!E183=\"\",\"\",Athletenliste!E183)","v":""},{"$f":"IF(Athletenliste!F183=\"\",\"\",Athletenliste!F183)","v":""},{"$f":"IF(Athletenliste!G183=\"\",\"\",Athletenliste!G183)","v":""},{"$f":"IF(Athletenliste!H183=\"\",\"\",Athletenliste!H183)","v":""},{"$f":"IF(Messen_Beweglichkeit!K183=\"\",\"\",Messen_Beweglichkeit!K183)","v":""},{"$f":"IF(Messen_Beweglichkeit!L183=\"\",\"\",Messen_Beweglichkeit!L183)","v":""},{"$f":"IF('Jump-and-Reach'!I183=\"\",\"\",'Jump-and-Reach'!I183)","v":""},{"$f":"IF('Jump-and-Reach'!J183=\"\",\"\",'Jump-and-Reach'!J183)","v":""},{"$f":"IF('30m Sprint'!I183=\"\",\"\",'30m Sprint'!I183)","v":""},{"$f":"IF('30m Sprint'!J183=\"\",\"\",'30m Sprint'!J183)","v":""},{"$f":"IF(KaBu!I183=\"\",\"\",KaBu!I183)","v":""},{"$f":"IF(KaBu!J183=\"\",\"\",KaBu!J183)","v":""},{"$f":"IF(Seilspringen!I183=\"\",\"\",Seilspringen!I183)","v":""},{"$f":"IF(Seilspringen!J183=\"\",\"\",Seilspringen!J183)","v":""},{"$f":"IF(Liegestütz!I183=\"\",\"\",Liegestütz!I183)","v":""},{"$f":"IF(Liegestütz!J183=\"\",\"\",Liegestütz!J183)","v":""},{"$f":"IF(Balance!I183=\"\",\"\",Balance!I183)","v":""},{"$f":"IF(Balance!J183=\"\",\"\",Balance!J183)","v":""},{"$f":"IF('1000m'!I183=\"\",\"\",'1000m'!I183)","v":""},{"$f":"IF('1000m'!J183=\"\",\"\",'1000m'!J183)","v":""},{"$f":"IF(B183=\"\",\"\",(IF(AND(Messen_Beweglichkeit!L183=\"\",AB183=\"OK\"),VLOOKUP(G183&D183,$AJ$10:$AT$31,4,FALSE)+1,IF(AND(Messen_Beweglichkeit!J183=\"\",AB183=\"kein Test\"),\"\",Messen_Beweglichkeit!L183))+IF(AND('Jump-and-Reach'!J183=\"\",AB183=\"OK\"),VLOOKUP(G183&D183,$AJ$10:$AT$31,5,FALSE)+1,IF(AND('Jump-and-Reach'!J183=\"\",AB183=\"kein Test\"),\"\",'Jump-and-Reach'!J183))+IF(AND('30m Sprint'!J183=\"\",AB183=\"OK\"),VLOOKUP(G183&D183,$AJ$10:$AT$31,6,FALSE)+1,IF(AND('30m Sprint'!J183=\"\",AB183=\"kein Test\"),\"\",'30m Sprint'!J183))+IF(AND(KaBu!J183=\"\",AB183=\"OK\"),VLOOKUP(G183&D183,$AJ$10:$AT$31,7,FALSE)+1,IF(AND(KaBu!J183=\"\",AB183=\"kein Test\"),\"\",KaBu!J183))+IF(AND(Seilspringen!J183=\"\",AB183=\"OK\"),VLOOKUP(G183&D183,$AJ$10:$AT$31,8,FALSE)+1,IF(AND(Seilspringen!J183=\"\",AB183=\"kein Test\"),\"\",Seilspringen!J183))+IF(AND(Liegestütz!J183=\"\",AB183=\"OK\"),VLOOKUP(G183&D183,$AJ$10:$AT$31,9,FALSE)+1,IF(AND(Liegestütz!J183=\"\",AB183=\"kein Test\"),\"\",Liegestütz!J183))+IF(AND(Balance!J183=\"\",AB183=\"OK\"),VLOOKUP(G183&D183,$AJ$10:$AT$31,10,FALSE)+1,IF(AND(Balance!J183=\"\",AB183=\"kein Test\"),\"\",Balance!J183))+IF(AND('1000m'!J183=\"\",AB183=\"OK\"),VLOOKUP(G183&D183,$AJ$10:$AT$31,11,FALSE)+1,IF(AND('1000m'!J183=\"\",AB183=\"kein Test\"),\"\",'1000m'!J183)))/8)","v":""},null,null,"kein Test"]
[175,{"$f":"IF(Athletenliste!B184=\"\",\"\",Athletenliste!B184)","v":""},{"$f":"IF(Athletenliste!C184=\"\",\"\",Athletenliste!C184)","v":""},{"$f":"IF(Athletenliste!D184=\"\",\"\",Athletenliste!D184)","v":""},{"$f":"IF(Athletenliste!E184=\"\",\"\",Athletenliste!E184)","v":""},{"$f":"IF(Athletenliste!F184=\"\",\"\",Athletenliste!F184)","v":""},{"$f":"IF(Athletenliste!G184=\"\",\"\",Athletenliste!G184)","v":""},{"$f":"IF(Athletenliste!H184=\"\",\"\",Athletenliste!H184)","v":""},{"$f":"IF(Messen_Beweglichkeit!K184=\"\",\"\",Messen_Beweglichkeit!K184)","v":""},{"$f":"IF(Messen_Beweglichkeit!L184=\"\",\"\",Messen_Beweglichkeit!L184)","v":""},{"$f":"IF('Jump-and-Reach'!I184=\"\",\"\",'Jump-and-Reach'!I184)","v":""},{"$f":"IF('Jump-and-Reach'!J184=\"\",\"\",'Jump-and-Reach'!J184)","v":""},{"$f":"IF('30m Sprint'!I184=\"\",\"\",'30m Sprint'!I184)","v":""},{"$f":"IF('30m Sprint'!J184=\"\",\"\",'30m Sprint'!J184)","v":""},{"$f":"IF(KaBu!I184=\"\",\"\",KaBu!I184)","v":""},{"$f":"IF(KaBu!J184=\"\",\"\",KaBu!J184)","v":""},{"$f":"IF(Seilspringen!I184=\"\",\"\",Seilspringen!I184)","v":""},{"$f":"IF(Seilspringen!J184=\"\",\"\",Seilspringen!J184)","v":""},{"$f":"IF(Liegestütz!I184=\"\",\"\",Liegestütz!I184)","v":""},{"$f":"IF(Liegestütz!J184=\"\",\"\",Liegestütz!J184)","v":""},{"$f":"IF(Balance!I184=\"\",\"\",Balance!I184)","v":""},{"$f":"IF(Balance!J184=\"\",\"\",Balance!J184)","v":""},{"$f":"IF('1000m'!I184=\"\",\"\",'1000m'!I184)","v":""},{"$f":"IF('1000m'!J184=\"\",\"\",'1000m'!J184)","v":""},{"$f":"IF(B184=\"\",\"\",(IF(AND(Messen_Beweglichkeit!L184=\"\",AB184=\"OK\"),VLOOKUP(G184&D184,$AJ$10:$AT$31,4,FALSE)+1,IF(AND(Messen_Beweglichkeit!J184=\"\",AB184=\"kein Test\"),\"\",Messen_Beweglichkeit!L184))+IF(AND('Jump-and-Reach'!J184=\"\",AB184=\"OK\"),VLOOKUP(G184&D184,$AJ$10:$AT$31,5,FALSE)+1,IF(AND('Jump-and-Reach'!J184=\"\",AB184=\"kein Test\"),\"\",'Jump-and-Reach'!J184))+IF(AND('30m Sprint'!J184=\"\",AB184=\"OK\"),VLOOKUP(G184&D184,$AJ$10:$AT$31,6,FALSE)+1,IF(AND('30m Sprint'!J184=\"\",AB184=\"kein Test\"),\"\",'30m Sprint'!J184))+IF(AND(KaBu!J184=\"\",AB184=\"OK\"),VLOOKUP(G184&D184,$AJ$10:$AT$31,7,FALSE)+1,IF(AND(KaBu!J184=\"\",AB184=\"kein Test\"),\"\",KaBu!J184))+IF(AND(Seilspringen!J184=\"\",AB184=\"OK\"),VLOOKUP(G184&D184,$AJ$10:$AT$31,8,FALSE)+1,IF(AND(Seilspringen!J184=\"\",AB184=\"kein Test\"),\"\",Seilspringen!J184))+IF(AND(Liegestütz!J184=\"\",AB184=\"OK\"),VLOOKUP(G184&D184,$AJ$10:$AT$31,9,FALSE)+1,IF(AND(Liegestütz!J184=\"\",AB184=\"kein Test\"),\"\",Liegestütz!J184))+IF(AND(Balance!J184=\"\",AB184=\"OK\"),VLOOKUP(G184&D184,$AJ$10:$AT$31,10,FALSE)+1,IF(AND(Balance!J184=\"\",AB184=\"kein Test\"),\"\",Balance!J184))+IF(AND('1000m'!J184=\"\",AB184=\"OK\"),VLOOKUP(G184&D184,$AJ$10:$AT$31,11,FALSE)+1,IF(AND('1000m'!J184=\"\",AB184=\"kein Test\"),\"\",'1000m'!J184)))/8)","v":""},null,null,"kein Test"]
[176,{"$f":"IF(Athletenliste!B185=\"\",\"\",Athletenliste!B185)","v":""},{"$f":"IF(Athletenliste!C185=\"\",\"\",Athletenliste!C185)","v":""},{"$f":"IF(Athletenliste!D185=\"\",\"\",Athletenliste!D185)","v":""},{"$f":"IF(Athletenliste!E185=\"\",\"\",Athletenliste!E185)","v":""},{"$f":"IF(Athletenliste!F185=\"\",\"\",Athletenliste!F185)","v":""},{"$f":"IF(Athletenliste!G185=\"\",\"\",Athletenliste!G185)","v":""},{"$f":"IF(Athletenliste!H185=\"\",\"\",Athletenliste!H185)","v":""},{"$f":"IF(Messen_Beweglichkeit!K185=\"\",\"\",Messen_Beweglichkeit!K185)","v":""},{"$f":"IF(Messen_Beweglichkeit!L185=\"\",\"\",Messen_Beweglichkeit!L185)","v":""},{"$f":"IF('Jump-and-Reach'!I185=\"\",\"\",'Jump-and-Reach'!I185)","v":""},{"$f":"IF('Jump-and-Reach'!J185=\"\",\"\",'Jump-and-Reach'!J185)","v":""},{"$f":"IF('30m Sprint'!I185=\"\",\"\",'30m Sprint'!I185)","v":""},{"$f":"IF('30m Sprint'!J185=\"\",\"\",'30m Sprint'!J185)","v":""},{"$f":"IF(KaBu!I185=\"\",\"\",KaBu!I185)","v":""},{"$f":"IF(KaBu!J185=\"\",\"\",KaBu!J185)","v":""},{"$f":"IF(Seilspringen!I185=\"\",\"\",Seilspringen!I185)","v":""},{"$f":"IF(Seilspringen!J185=\"\",\"\",Seilspringen!J185)","v":""},{"$f":"IF(Liegestütz!I185=\"\",\"\",Liegestütz!I185)","v":""},{"$f":"IF(Liegestütz!J185=\"\",\"\",Liegestütz!J185)","v":""},{"$f":"IF(Balance!I185=\"\",\"\",Balance!I185)","v":""},{"$f":"IF(Balance!J185=\"\",\"\",Balance!J185)","v":""},{"$f":"IF('1000m'!I185=\"\",\"\",'1000m'!I185)","v":""},{"$f":"IF('1000m'!J185=\"\",\"\",'1000m'!J185)","v":""},{"$f":"IF(B185=\"\",\"\",(IF(AND(Messen_Beweglichkeit!L185=\"\",AB185=\"OK\"),VLOOKUP(G185&D185,$AJ$10:$AT$31,4,FALSE)+1,IF(AND(Messen_Beweglichkeit!J185=\"\",AB185=\"kein Test\"),\"\",Messen_Beweglichkeit!L185))+IF(AND('Jump-and-Reach'!J185=\"\",AB185=\"OK\"),VLOOKUP(G185&D185,$AJ$10:$AT$31,5,FALSE)+1,IF(AND('Jump-and-Reach'!J185=\"\",AB185=\"kein Test\"),\"\",'Jump-and-Reach'!J185))+IF(AND('30m Sprint'!J185=\"\",AB185=\"OK\"),VLOOKUP(G185&D185,$AJ$10:$AT$31,6,FALSE)+1,IF(AND('30m Sprint'!J185=\"\",AB185=\"kein Test\"),\"\",'30m Sprint'!J185))+IF(AND(KaBu!J185=\"\",AB185=\"OK\"),VLOOKUP(G185&D185,$AJ$10:$AT$31,7,FALSE)+1,IF(AND(KaBu!J185=\"\",AB185=\"kein Test\"),\"\",KaBu!J185))+IF(AND(Seilspringen!J185=\"\",AB185=\"OK\"),VLOOKUP(G185&D185,$AJ$10:$AT$31,8,FALSE)+1,IF(AND(Seilspringen!J185=\"\",AB185=\"kein Test\"),\"\",Seilspringen!J185))+IF(AND(Liegestütz!J185=\"\",AB185=\"OK\"),VLOOKUP(G185&D185,$AJ$10:$AT$31,9,FALSE)+1,IF(AND(Liegestütz!J185=\"\",AB185=\"kein Test\"),\"\",Liegestütz!J185))+IF(AND(Balance!J185=\"\",AB185=\"OK\"),VLOOKUP(G185&D185,$AJ$10:$AT$31,10,FALSE)+1,IF(AND(Balance!J185=\"\",AB185=\"kein Test\"),\"\",Balance!J185))+IF(AND('1000m'!J185=\"\",AB185=\"OK\"),VLOOKUP(G185&D185,$AJ$10:$AT$31,11,FALSE)+1,IF(AND('1000m'!J185=\"\",AB185=\"kein Test\"),\"\",'1000m'!J185)))/8)","v":""},null,null,"kein Test"]
[177,{"$f":"IF(Athletenliste!B186=\"\",\"\",Athletenliste!B186)","v":""},{"$f":"IF(Athletenliste!C186=\"\",\"\",Athletenliste!C186)","v":""},{"$f":"IF(Athletenliste!D186=\"\",\"\",Athletenliste!D186)","v":""},{"$f":"IF(Athletenliste!E186=\"\",\"\",Athletenliste!E186)","v":""},{"$f":"IF(Athletenliste!F186=\"\",\"\",Athletenliste!F186)","v":""},{"$f":"IF(Athletenliste!G186=\"\",\"\",Athletenliste!G186)","v":""},{"$f":"IF(Athletenliste!H186=\"\",\"\",Athletenliste!H186)","v":""},{"$f":"IF(Messen_Beweglichkeit!K186=\"\",\"\",Messen_Beweglichkeit!K186)","v":""},{"$f":"IF(Messen_Beweglichkeit!L186=\"\",\"\",Messen_Beweglichkeit!L186)","v":""},{"$f":"IF('Jump-and-Reach'!I186=\"\",\"\",'Jump-and-Reach'!I186)","v":""},{"$f":"IF('Jump-and-Reach'!J186=\"\",\"\",'Jump-and-Reach'!J186)","v":""},{"$f":"IF('30m Sprint'!I186=\"\",\"\",'30m Sprint'!I186)","v":""},{"$f":"IF('30m Sprint'!J186=\"\",\"\",'30m Sprint'!J186)","v":""},{"$f":"IF(KaBu!I186=\"\",\"\",KaBu!I186)","v":""},{"$f":"IF(KaBu!J186=\"\",\"\",KaBu!J186)","v":""},{"$f":"IF(Seilspringen!I186=\"\",\"\",Seilspringen!I186)","v":""},{"$f":"IF(Seilspringen!J186=\"\",\"\",Seilspringen!J186)","v":""},{"$f":"IF(Liegestütz!I186=\"\",\"\",Liegestütz!I186)","v":""},{"$f":"IF(Liegestütz!J186=\"\",\"\",Liegestütz!J186)","v":""},{"$f":"IF(Balance!I186=\"\",\"\",Balance!I186)","v":""},{"$f":"IF(Balance!J186=\"\",\"\",Balance!J186)","v":""},{"$f":"IF('1000m'!I186=\"\",\"\",'1000m'!I186)","v":""},{"$f":"IF('1000m'!J186=\"\",\"\",'1000m'!J186)","v":""},{"$f":"IF(B186=\"\",\"\",(IF(AND(Messen_Beweglichkeit!L186=\"\",AB186=\"OK\"),VLOOKUP(G186&D186,$AJ$10:$AT$31,4,FALSE)+1,IF(AND(Messen_Beweglichkeit!J186=\"\",AB186=\"kein Test\"),\"\",Messen_Beweglichkeit!L186))+IF(AND('Jump-and-Reach'!J186=\"\",AB186=\"OK\"),VLOOKUP(G186&D186,$AJ$10:$AT$31,5,FALSE)+1,IF(AND('Jump-and-Reach'!J186=\"\",AB186=\"kein Test\"),\"\",'Jump-and-Reach'!J186))+IF(AND('30m Sprint'!J186=\"\",AB186=\"OK\"),VLOOKUP(G186&D186,$AJ$10:$AT$31,6,FALSE)+1,IF(AND('30m Sprint'!J186=\"\",AB186=\"kein Test\"),\"\",'30m Sprint'!J186))+IF(AND(KaBu!J186=\"\",AB186=\"OK\"),VLOOKUP(G186&D186,$AJ$10:$AT$31,7,FALSE)+1,IF(AND(KaBu!J186=\"\",AB186=\"kein Test\"),\"\",KaBu!J186))+IF(AND(Seilspringen!J186=\"\",AB186=\"OK\"),VLOOKUP(G186&D186,$AJ$10:$AT$31,8,FALSE)+1,IF(AND(Seilspringen!J186=\"\",AB186=\"kein Test\"),\"\",Seilspringen!J186))+IF(AND(Liegestütz!J186=\"\",AB186=\"OK\"),VLOOKUP(G186&D186,$AJ$10:$AT$31,9,FALSE)+1,IF(AND(Liegestütz!J186=\"\",AB186=\"kein Test\"),\"\",Liegestütz!J186))+IF(AND(Balance!J186=\"\",AB186=\"OK\"),VLOOKUP(G186&D186,$AJ$10:$AT$31,10,FALSE)+1,IF(AND(Balance!J186=\"\",AB186=\"kein Test\"),\"\",Balance!J186))+IF(AND('1000m'!J186=\"\",AB186=\"OK\"),VLOOKUP(G186&D186,$AJ$10:$AT$31,11,FALSE)+1,IF(AND('1000m'!J186=\"\",AB186=\"kein Test\"),\"\",'1000m'!J186)))/8)","v":""},null,null,"kein Test"]
[178,{"$f":"IF(Athletenliste!B187=\"\",\"\",Athletenliste!B187)","v":""},{"$f":"IF(Athletenliste!C187=\"\",\"\",Athletenliste!C187)","v":""},{"$f":"IF(Athletenliste!D187=\"\",\"\",Athletenliste!D187)","v":""},{"$f":"IF(Athletenliste!E187=\"\",\"\",Athletenliste!E187)","v":""},{"$f":"IF(Athletenliste!F187=\"\",\"\",Athletenliste!F187)","v":""},{"$f":"IF(Athletenliste!G187=\"\",\"\",Athletenliste!G187)","v":""},{"$f":"IF(Athletenliste!H187=\"\",\"\",Athletenliste!H187)","v":""},{"$f":"IF(Messen_Beweglichkeit!K187=\"\",\"\",Messen_Beweglichkeit!K187)","v":""},{"$f":"IF(Messen_Beweglichkeit!L187=\"\",\"\",Messen_Beweglichkeit!L187)","v":""},{"$f":"IF('Jump-and-Reach'!I187=\"\",\"\",'Jump-and-Reach'!I187)","v":""},{"$f":"IF('Jump-and-Reach'!J187=\"\",\"\",'Jump-and-Reach'!J187)","v":""},{"$f":"IF('30m Sprint'!I187=\"\",\"\",'30m Sprint'!I187)","v":""},{"$f":"IF('30m Sprint'!J187=\"\",\"\",'30m Sprint'!J187)","v":""},{"$f":"IF(KaBu!I187=\"\",\"\",KaBu!I187)","v":""},{"$f":"IF(KaBu!J187=\"\",\"\",KaBu!J187)","v":""},{"$f":"IF(Seilspringen!I187=\"\",\"\",Seilspringen!I187)","v":""},{"$f":"IF(Seilspringen!J187=\"\",\"\",Seilspringen!J187)","v":""},{"$f":"IF(Liegestütz!I187=\"\",\"\",Liegestütz!I187)","v":""},{"$f":"IF(Liegestütz!J187=\"\",\"\",Liegestütz!J187)","v":""},{"$f":"IF(Balance!I187=\"\",\"\",Balance!I187)","v":""},{"$f":"IF(Balance!J187=\"\",\"\",Balance!J187)","v":""},{"$f":"IF('1000m'!I187=\"\",\"\",'1000m'!I187)","v":""},{"$f":"IF('1000m'!J187=\"\",\"\",'1000m'!J187)","v":""},{"$f":"IF(B187=\"\",\"\",(IF(AND(Messen_Beweglichkeit!L187=\"\",AB187=\"OK\"),VLOOKUP(G187&D187,$AJ$10:$AT$31,4,FALSE)+1,IF(AND(Messen_Beweglichkeit!J187=\"\",AB187=\"kein Test\"),\"\",Messen_Beweglichkeit!L187))+IF(AND('Jump-and-Reach'!J187=\"\",AB187=\"OK\"),VLOOKUP(G187&D187,$AJ$10:$AT$31,5,FALSE)+1,IF(AND('Jump-and-Reach'!J187=\"\",AB187=\"kein Test\"),\"\",'Jump-and-Reach'!J187))+IF(AND('30m Sprint'!J187=\"\",AB187=\"OK\"),VLOOKUP(G187&D187,$AJ$10:$AT$31,6,FALSE)+1,IF(AND('30m Sprint'!J187=\"\",AB187=\"kein Test\"),\"\",'30m Sprint'!J187))+IF(AND(KaBu!J187=\"\",AB187=\"OK\"),VLOOKUP(G187&D187,$AJ$10:$AT$31,7,FALSE)+1,IF(AND(KaBu!J187=\"\",AB187=\"kein Test\"),\"\",KaBu!J187))+IF(AND(Seilspringen!J187=\"\",AB187=\"OK\"),VLOOKUP(G187&D187,$AJ$10:$AT$31,8,FALSE)+1,IF(AND(Seilspringen!J187=\"\",AB187=\"kein Test\"),\"\",Seilspringen!J187))+IF(AND(Liegestütz!J187=\"\",AB187=\"OK\"),VLOOKUP(G187&D187,$AJ$10:$AT$31,9,FALSE)+1,IF(AND(Liegestütz!J187=\"\",AB187=\"kein Test\"),\"\",Liegestütz!J187))+IF(AND(Balance!J187=\"\",AB187=\"OK\"),VLOOKUP(G187&D187,$AJ$10:$AT$31,10,FALSE)+1,IF(AND(Balance!J187=\"\",AB187=\"kein Test\"),\"\",Balance!J187))+IF(AND('1000m'!J187=\"\",AB187=\"OK\"),VLOOKUP(G187&D187,$AJ$10:$AT$31,11,FALSE)+1,IF(AND('1000m'!J187=\"\",AB187=\"kein Test\"),\"\",'1000m'!J187)))/8)","v":""},null,null,"kein Test"]
[179,{"$f":"IF(Athletenliste!B188=\"\",\"\",Athletenliste!B188)","v":""},{"$f":"IF(Athletenliste!C188=\"\",\"\",Athletenliste!C188)","v":""},{"$f":"IF(Athletenliste!D188=\"\",\"\",Athletenliste!D188)","v":""},{"$f":"IF(Athletenliste!E188=\"\",\"\",Athletenliste!E188)","v":""},{"$f":"IF(Athletenliste!F188=\"\",\"\",Athletenliste!F188)","v":""},{"$f":"IF(Athletenliste!G188=\"\",\"\",Athletenliste!G188)","v":""},{"$f":"IF(Athletenliste!H188=\"\",\"\",Athletenliste!H188)","v":""},{"$f":"IF(Messen_Beweglichkeit!K188=\"\",\"\",Messen_Beweglichkeit!K188)","v":""},{"$f":"IF(Messen_Beweglichkeit!L188=\"\",\"\",Messen_Beweglichkeit!L188)","v":""},{"$f":"IF('Jump-and-Reach'!I188=\"\",\"\",'Jump-and-Reach'!I188)","v":""},{"$f":"IF('Jump-and-Reach'!J188=\"\",\"\",'Jump-and-Reach'!J188)","v":""},{"$f":"IF('30m Sprint'!I188=\"\",\"\",'30m Sprint'!I188)","v":""},{"$f":"IF('30m Sprint'!J188=\"\",\"\",'30m Sprint'!J188)","v":""},{"$f":"IF(KaBu!I188=\"\",\"\",KaBu!I188)","v":""},{"$f":"IF(KaBu!J188=\"\",\"\",KaBu!J188)","v":""},{"$f":"IF(Seilspringen!I188=\"\",\"\",Seilspringen!I188)","v":""},{"$f":"IF(Seilspringen!J188=\"\",\"\",Seilspringen!J188)","v":""},{"$f":"IF(Liegestütz!I188=\"\",\"\",Liegestütz!I188)","v":""},{"$f":"IF(Liegestütz!J188=\"\",\"\",Liegestütz!J188)","v":""},{"$f":"IF(Balance!I188=\"\",\"\",Balance!I188)","v":""},{"$f":"IF(Balance!J188=\"\",\"\",Balance!J188)","v":""},{"$f":"IF('1000m'!I188=\"\",\"\",'1000m'!I188)","v":""},{"$f":"IF('1000m'!J188=\"\",\"\",'1000m'!J188)","v":""},{"$f":"IF(B188=\"\",\"\",(IF(AND(Messen_Beweglichkeit!L188=\"\",AB188=\"OK\"),VLOOKUP(G188&D188,$AJ$10:$AT$31,4,FALSE)+1,IF(AND(Messen_Beweglichkeit!J188=\"\",AB188=\"kein Test\"),\"\",Messen_Beweglichkeit!L188))+IF(AND('Jump-and-Reach'!J188=\"\",AB188=\"OK\"),VLOOKUP(G188&D188,$AJ$10:$AT$31,5,FALSE)+1,IF(AND('Jump-and-Reach'!J188=\"\",AB188=\"kein Test\"),\"\",'Jump-and-Reach'!J188))+IF(AND('30m Sprint'!J188=\"\",AB188=\"OK\"),VLOOKUP(G188&D188,$AJ$10:$AT$31,6,FALSE)+1,IF(AND('30m Sprint'!J188=\"\",AB188=\"kein Test\"),\"\",'30m Sprint'!J188))+IF(AND(KaBu!J188=\"\",AB188=\"OK\"),VLOOKUP(G188&D188,$AJ$10:$AT$31,7,FALSE)+1,IF(AND(KaBu!J188=\"\",AB188=\"kein Test\"),\"\",KaBu!J188))+IF(AND(Seilspringen!J188=\"\",AB188=\"OK\"),VLOOKUP(G188&D188,$AJ$10:$AT$31,8,FALSE)+1,IF(AND(Seilspringen!J188=\"\",AB188=\"kein Test\"),\"\",Seilspringen!J188))+IF(AND(Liegestütz!J188=\"\",AB188=\"OK\"),VLOOKUP(G188&D188,$AJ$10:$AT$31,9,FALSE)+1,IF(AND(Liegestütz!J188=\"\",AB188=\"kein Test\"),\"\",Liegestütz!J188))+IF(AND(Balance!J188=\"\",AB188=\"OK\"),VLOOKUP(G188&D188,$AJ$10:$AT$31,10,FALSE)+1,IF(AND(Balance!J188=\"\",AB188=\"kein Test\"),\"\",Balance!J188))+IF(AND('1000m'!J188=\"\",AB188=\"OK\"),VLOOKUP(G188&D188,$AJ$10:$AT$31,11,FALSE)+1,IF(AND('1000m'!J188=\"\",AB188=\"kein Test\"),\"\",'1000m'!J188)))/8)","v":""},null,null,"kein Test"]
[180,{"$f":"IF(Athletenliste!B189=\"\",\"\",Athletenliste!B189)","v":""},{"$f":"IF(Athletenliste!C189=\"\",\"\",Athletenliste!C189)","v":""},{"$f":"IF(Athletenliste!D189=\"\",\"\",Athletenliste!D189)","v":""},{"$f":"IF(Athletenliste!E189=\"\",\"\",Athletenliste!E189)","v":""},{"$f":"IF(Athletenliste!F189=\"\",\"\",Athletenliste!F189)","v":""},{"$f":"IF(Athletenliste!G189=\"\",\"\",Athletenliste!G189)","v":""},{"$f":"IF(Athletenliste!H189=\"\",\"\",Athletenliste!H189)","v":""},{"$f":"IF(Messen_Beweglichkeit!K189=\"\",\"\",Messen_Beweglichkeit!K189)","v":""},{"$f":"IF(Messen_Beweglichkeit!L189=\"\",\"\",Messen_Beweglichkeit!L189)","v":""},{"$f":"IF('Jump-and-Reach'!I189=\"\",\"\",'Jump-and-Reach'!I189)","v":""},{"$f":"IF('Jump-and-Reach'!J189=\"\",\"\",'Jump-and-Reach'!J189)","v":""},{"$f":"IF('30m Sprint'!I189=\"\",\"\",'30m Sprint'!I189)","v":""},{"$f":"IF('30m Sprint'!J189=\"\",\"\",'30m Sprint'!J189)","v":""},{"$f":"IF(KaBu!I189=\"\",\"\",KaBu!I189)","v":""},{"$f":"IF(KaBu!J189=\"\",\"\",KaBu!J189)","v":""},{"$f":"IF(Seilspringen!I189=\"\",\"\",Seilspringen!I189)","v":""},{"$f":"IF(Seilspringen!J189=\"\",\"\",Seilspringen!J189)","v":""},{"$f":"IF(Liegestütz!I189=\"\",\"\",Liegestütz!I189)","v":""},{"$f":"IF(Liegestütz!J189=\"\",\"\",Liegestütz!J189)","v":""},{"$f":"IF(Balance!I189=\"\",\"\",Balance!I189)","v":""},{"$f":"IF(Balance!J189=\"\",\"\",Balance!J189)","v":""},{"$f":"IF('1000m'!I189=\"\",\"\",'1000m'!I189)","v":""},{"$f":"IF('1000m'!J189=\"\",\"\",'1000m'!J189)","v":""},{"$f":"IF(B189=\"\",\"\",(IF(AND(Messen_Beweglichkeit!L189=\"\",AB189=\"OK\"),VLOOKUP(G189&D189,$AJ$10:$AT$31,4,FALSE)+1,IF(AND(Messen_Beweglichkeit!J189=\"\",AB189=\"kein Test\"),\"\",Messen_Beweglichkeit!L189))+IF(AND('Jump-and-Reach'!J189=\"\",AB189=\"OK\"),VLOOKUP(G189&D189,$AJ$10:$AT$31,5,FALSE)+1,IF(AND('Jump-and-Reach'!J189=\"\",AB189=\"kein Test\"),\"\",'Jump-and-Reach'!J189))+IF(AND('30m Sprint'!J189=\"\",AB189=\"OK\"),VLOOKUP(G189&D189,$AJ$10:$AT$31,6,FALSE)+1,IF(AND('30m Sprint'!J189=\"\",AB189=\"kein Test\"),\"\",'30m Sprint'!J189))+IF(AND(KaBu!J189=\"\",AB189=\"OK\"),VLOOKUP(G189&D189,$AJ$10:$AT$31,7,FALSE)+1,IF(AND(KaBu!J189=\"\",AB189=\"kein Test\"),\"\",KaBu!J189))+IF(AND(Seilspringen!J189=\"\",AB189=\"OK\"),VLOOKUP(G189&D189,$AJ$10:$AT$31,8,FALSE)+1,IF(AND(Seilspringen!J189=\"\",AB189=\"kein Test\"),\"\",Seilspringen!J189))+IF(AND(Liegestütz!J189=\"\",AB189=\"OK\"),VLOOKUP(G189&D189,$AJ$10:$AT$31,9,FALSE)+1,IF(AND(Liegestütz!J189=\"\",AB189=\"kein Test\"),\"\",Liegestütz!J189))+IF(AND(Balance!J189=\"\",AB189=\"OK\"),VLOOKUP(G189&D189,$AJ$10:$AT$31,10,FALSE)+1,IF(AND(Balance!J189=\"\",AB189=\"kein Test\"),\"\",Balance!J189))+IF(AND('1000m'!J189=\"\",AB189=\"OK\"),VLOOKUP(G189&D189,$AJ$10:$AT$31,11,FALSE)+1,IF(AND('1000m'!J189=\"\",AB189=\"kein Test\"),\"\",'1000m'!J189)))/8)","v":""},null,null,"kein Test"]
[181,{"$f":"IF(Athletenliste!B190=\"\",\"\",Athletenliste!B190)","v":""},{"$f":"IF(Athletenliste!C190=\"\",\"\",Athletenliste!C190)","v":""},{"$f":"IF(Athletenliste!D190=\"\",\"\",Athletenliste!D190)","v":""},{"$f":"IF(Athletenliste!E190=\"\",\"\",Athletenliste!E190)","v":""},{"$f":"IF(Athletenliste!F190=\"\",\"\",Athletenliste!F190)","v":""},{"$f":"IF(Athletenliste!G190=\"\",\"\",Athletenliste!G190)","v":""},{"$f":"IF(Athletenliste!H190=\"\",\"\",Athletenliste!H190)","v":""},{"$f":"IF(Messen_Beweglichkeit!K190=\"\",\"\",Messen_Beweglichkeit!K190)","v":""},{"$f":"IF(Messen_Beweglichkeit!L190=\"\",\"\",Messen_Beweglichkeit!L190)","v":""},{"$f":"IF('Jump-and-Reach'!I190=\"\",\"\",'Jump-and-Reach'!I190)","v":""},{"$f":"IF('Jump-and-Reach'!J190=\"\",\"\",'Jump-and-Reach'!J190)","v":""},{"$f":"IF('30m Sprint'!I190=\"\",\"\",'30m Sprint'!I190)","v":""},{"$f":"IF('30m Sprint'!J190=\"\",\"\",'30m Sprint'!J190)","v":""},{"$f":"IF(KaBu!I190=\"\",\"\",KaBu!I190)","v":""},{"$f":"IF(KaBu!J190=\"\",\"\",KaBu!J190)","v":""},{"$f":"IF(Seilspringen!I190=\"\",\"\",Seilspringen!I190)","v":""},{"$f":"IF(Seilspringen!J190=\"\",\"\",Seilspringen!J190)","v":""},{"$f":"IF(Liegestütz!I190=\"\",\"\",Liegestütz!I190)","v":""},{"$f":"IF(Liegestütz!J190=\"\",\"\",Liegestütz!J190)","v":""},{"$f":"IF(Balance!I190=\"\",\"\",Balance!I190)","v":""},{"$f":"IF(Balance!J190=\"\",\"\",Balance!J190)","v":""},{"$f":"IF('1000m'!I190=\"\",\"\",'1000m'!I190)","v":""},{"$f":"IF('1000m'!J190=\"\",\"\",'1000m'!J190)","v":""},{"$f":"IF(B190=\"\",\"\",(IF(AND(Messen_Beweglichkeit!L190=\"\",AB190=\"OK\"),VLOOKUP(G190&D190,$AJ$10:$AT$31,4,FALSE)+1,IF(AND(Messen_Beweglichkeit!J190=\"\",AB190=\"kein Test\"),\"\",Messen_Beweglichkeit!L190))+IF(AND('Jump-and-Reach'!J190=\"\",AB190=\"OK\"),VLOOKUP(G190&D190,$AJ$10:$AT$31,5,FALSE)+1,IF(AND('Jump-and-Reach'!J190=\"\",AB190=\"kein Test\"),\"\",'Jump-and-Reach'!J190))+IF(AND('30m Sprint'!J190=\"\",AB190=\"OK\"),VLOOKUP(G190&D190,$AJ$10:$AT$31,6,FALSE)+1,IF(AND('30m Sprint'!J190=\"\",AB190=\"kein Test\"),\"\",'30m Sprint'!J190))+IF(AND(KaBu!J190=\"\",AB190=\"OK\"),VLOOKUP(G190&D190,$AJ$10:$AT$31,7,FALSE)+1,IF(AND(KaBu!J190=\"\",AB190=\"kein Test\"),\"\",KaBu!J190))+IF(AND(Seilspringen!J190=\"\",AB190=\"OK\"),VLOOKUP(G190&D190,$AJ$10:$AT$31,8,FALSE)+1,IF(AND(Seilspringen!J190=\"\",AB190=\"kein Test\"),\"\",Seilspringen!J190))+IF(AND(Liegestütz!J190=\"\",AB190=\"OK\"),VLOOKUP(G190&D190,$AJ$10:$AT$31,9,FALSE)+1,IF(AND(Liegestütz!J190=\"\",AB190=\"kein Test\"),\"\",Liegestütz!J190))+IF(AND(Balance!J190=\"\",AB190=\"OK\"),VLOOKUP(G190&D190,$AJ$10:$AT$31,10,FALSE)+1,IF(AND(Balance!J190=\"\",AB190=\"kein Test\"),\"\",Balance!J190))+IF(AND('1000m'!J190=\"\",AB190=\"OK\"),VLOOKUP(G190&D190,$AJ$10:$AT$31,11,FALSE)+1,IF(AND('1000m'!J190=\"\",AB190=\"kein Test\"),\"\",'1000m'!J190)))/8)","v":""},null,null,"kein Test"]
[182,{"$f":"IF(Athletenliste!B191=\"\",\"\",Athletenliste!B191)","v":""},{"$f":"IF(Athletenliste!C191=\"\",\"\",Athletenliste!C191)","v":""},{"$f":"IF(Athletenliste!D191=\"\",\"\",Athletenliste!D191)","v":""},{"$f":"IF(Athletenliste!E191=\"\",\"\",Athletenliste!E191)","v":""},{"$f":"IF(Athletenliste!F191=\"\",\"\",Athletenliste!F191)","v":""},{"$f":"IF(Athletenliste!G191=\"\",\"\",Athletenliste!G191)","v":""},{"$f":"IF(Athletenliste!H191=\"\",\"\",Athletenliste!H191)","v":""},{"$f":"IF(Messen_Beweglichkeit!K191=\"\",\"\",Messen_Beweglichkeit!K191)","v":""},{"$f":"IF(Messen_Beweglichkeit!L191=\"\",\"\",Messen_Beweglichkeit!L191)","v":""},{"$f":"IF('Jump-and-Reach'!I191=\"\",\"\",'Jump-and-Reach'!I191)","v":""},{"$f":"IF('Jump-and-Reach'!J191=\"\",\"\",'Jump-and-Reach'!J191)","v":""},{"$f":"IF('30m Sprint'!I191=\"\",\"\",'30m Sprint'!I191)","v":""},{"$f":"IF('30m Sprint'!J191=\"\",\"\",'30m Sprint'!J191)","v":""},{"$f":"IF(KaBu!I191=\"\",\"\",KaBu!I191)","v":""},{"$f":"IF(KaBu!J191=\"\",\"\",KaBu!J191)","v":""},{"$f":"IF(Seilspringen!I191=\"\",\"\",Seilspringen!I191)","v":""},{"$f":"IF(Seilspringen!J191=\"\",\"\",Seilspringen!J191)","v":""},{"$f":"IF(Liegestütz!I191=\"\",\"\",Liegestütz!I191)","v":""},{"$f":"IF(Liegestütz!J191=\"\",\"\",Liegestütz!J191)","v":""},{"$f":"IF(Balance!I191=\"\",\"\",Balance!I191)","v":""},{"$f":"IF(Balance!J191=\"\",\"\",Balance!J191)","v":""},{"$f":"IF('1000m'!I191=\"\",\"\",'1000m'!I191)","v":""},{"$f":"IF('1000m'!J191=\"\",\"\",'1000m'!J191)","v":""},{"$f":"IF(B191=\"\",\"\",(IF(AND(Messen_Beweglichkeit!L191=\"\",AB191=\"OK\"),VLOOKUP(G191&D191,$AJ$10:$AT$31,4,FALSE)+1,IF(AND(Messen_Beweglichkeit!J191=\"\",AB191=\"kein Test\"),\"\",Messen_Beweglichkeit!L191))+IF(AND('Jump-and-Reach'!J191=\"\",AB191=\"OK\"),VLOOKUP(G191&D191,$AJ$10:$AT$31,5,FALSE)+1,IF(AND('Jump-and-Reach'!J191=\"\",AB191=\"kein Test\"),\"\",'Jump-and-Reach'!J191))+IF(AND('30m Sprint'!J191=\"\",AB191=\"OK\"),VLOOKUP(G191&D191,$AJ$10:$AT$31,6,FALSE)+1,IF(AND('30m Sprint'!J191=\"\",AB191=\"kein Test\"),\"\",'30m Sprint'!J191))+IF(AND(KaBu!J191=\"\",AB191=\"OK\"),VLOOKUP(G191&D191,$AJ$10:$AT$31,7,FALSE)+1,IF(AND(KaBu!J191=\"\",AB191=\"kein Test\"),\"\",KaBu!J191))+IF(AND(Seilspringen!J191=\"\",AB191=\"OK\"),VLOOKUP(G191&D191,$AJ$10:$AT$31,8,FALSE)+1,IF(AND(Seilspringen!J191=\"\",AB191=\"kein Test\"),\"\",Seilspringen!J191))+IF(AND(Liegestütz!J191=\"\",AB191=\"OK\"),VLOOKUP(G191&D191,$AJ$10:$AT$31,9,FALSE)+1,IF(AND(Liegestütz!J191=\"\",AB191=\"kein Test\"),\"\",Liegestütz!J191))+IF(AND(Balance!J191=\"\",AB191=\"OK\"),VLOOKUP(G191&D191,$AJ$10:$AT$31,10,FALSE)+1,IF(AND(Balance!J191=\"\",AB191=\"kein Test\"),\"\",Balance!J191))+IF(AND('1000m'!J191=\"\",AB191=\"OK\"),VLOOKUP(G191&D191,$AJ$10:$AT$31,11,FALSE)+1,IF(AND('1000m'!J191=\"\",AB191=\"kein Test\"),\"\",'1000m'!J191)))/8)","v":""},null,null,"kein Test"]
[183,{"$f":"IF(Athletenliste!B192=\"\",\"\",Athletenliste!B192)","v":""},{"$f":"IF(Athletenliste!C192=\"\",\"\",Athletenliste!C192)","v":""},{"$f":"IF(Athletenliste!D192=\"\",\"\",Athletenliste!D192)","v":""},{"$f":"IF(Athletenliste!E192=\"\",\"\",Athletenliste!E192)","v":""},{"$f":"IF(Athletenliste!F192=\"\",\"\",Athletenliste!F192)","v":""},{"$f":"IF(Athletenliste!G192=\"\",\"\",Athletenliste!G192)","v":""},{"$f":"IF(Athletenliste!H192=\"\",\"\",Athletenliste!H192)","v":""},{"$f":"IF(Messen_Beweglichkeit!K192=\"\",\"\",Messen_Beweglichkeit!K192)","v":""},{"$f":"IF(Messen_Beweglichkeit!L192=\"\",\"\",Messen_Beweglichkeit!L192)","v":""},{"$f":"IF('Jump-and-Reach'!I192=\"\",\"\",'Jump-and-Reach'!I192)","v":""},{"$f":"IF('Jump-and-Reach'!J192=\"\",\"\",'Jump-and-Reach'!J192)","v":""},{"$f":"IF('30m Sprint'!I192=\"\",\"\",'30m Sprint'!I192)","v":""},{"$f":"IF('30m Sprint'!J192=\"\",\"\",'30m Sprint'!J192)","v":""},{"$f":"IF(KaBu!I192=\"\",\"\",KaBu!I192)","v":""},{"$f":"IF(KaBu!J192=\"\",\"\",KaBu!J192)","v":""},{"$f":"IF(Seilspringen!I192=\"\",\"\",Seilspringen!I192)","v":""},{"$f":"IF(Seilspringen!J192=\"\",\"\",Seilspringen!J192)","v":""},{"$f":"IF(Liegestütz!I192=\"\",\"\",Liegestütz!I192)","v":""},{"$f":"IF(Liegestütz!J192=\"\",\"\",Liegestütz!J192)","v":""},{"$f":"IF(Balance!I192=\"\",\"\",Balance!I192)","v":""},{"$f":"IF(Balance!J192=\"\",\"\",Balance!J192)","v":""},{"$f":"IF('1000m'!I192=\"\",\"\",'1000m'!I192)","v":""},{"$f":"IF('1000m'!J192=\"\",\"\",'1000m'!J192)","v":""},{"$f":"IF(B192=\"\",\"\",(IF(AND(Messen_Beweglichkeit!L192=\"\",AB192=\"OK\"),VLOOKUP(G192&D192,$AJ$10:$AT$31,4,FALSE)+1,IF(AND(Messen_Beweglichkeit!J192=\"\",AB192=\"kein Test\"),\"\",Messen_Beweglichkeit!L192))+IF(AND('Jump-and-Reach'!J192=\"\",AB192=\"OK\"),VLOOKUP(G192&D192,$AJ$10:$AT$31,5,FALSE)+1,IF(AND('Jump-and-Reach'!J192=\"\",AB192=\"kein Test\"),\"\",'Jump-and-Reach'!J192))+IF(AND('30m Sprint'!J192=\"\",AB192=\"OK\"),VLOOKUP(G192&D192,$AJ$10:$AT$31,6,FALSE)+1,IF(AND('30m Sprint'!J192=\"\",AB192=\"kein Test\"),\"\",'30m Sprint'!J192))+IF(AND(KaBu!J192=\"\",AB192=\"OK\"),VLOOKUP(G192&D192,$AJ$10:$AT$31,7,FALSE)+1,IF(AND(KaBu!J192=\"\",AB192=\"kein Test\"),\"\",KaBu!J192))+IF(AND(Seilspringen!J192=\"\",AB192=\"OK\"),VLOOKUP(G192&D192,$AJ$10:$AT$31,8,FALSE)+1,IF(AND(Seilspringen!J192=\"\",AB192=\"kein Test\"),\"\",Seilspringen!J192))+IF(AND(Liegestütz!J192=\"\",AB192=\"OK\"),VLOOKUP(G192&D192,$AJ$10:$AT$31,9,FALSE)+1,IF(AND(Liegestütz!J192=\"\",AB192=\"kein Test\"),\"\",Liegestütz!J192))+IF(AND(Balance!J192=\"\",AB192=\"OK\"),VLOOKUP(G192&D192,$AJ$10:$AT$31,10,FALSE)+1,IF(AND(Balance!J192=\"\",AB192=\"kein Test\"),\"\",Balance!J192))+IF(AND('1000m'!J192=\"\",AB192=\"OK\"),VLOOKUP(G192&D192,$AJ$10:$AT$31,11,FALSE)+1,IF(AND('1000m'!J192=\"\",AB192=\"kein Test\"),\"\",'1000m'!J192)))/8)","v":""},null,null,"kein Test"]
[184,{"$f":"IF(Athletenliste!B193=\"\",\"\",Athletenliste!B193)","v":""},{"$f":"IF(Athletenliste!C193=\"\",\"\",Athletenliste!C193)","v":""},{"$f":"IF(Athletenliste!D193=\"\",\"\",Athletenliste!D193)","v":""},{"$f":"IF(Athletenliste!E193=\"\",\"\",Athletenliste!E193)","v":""},{"$f":"IF(Athletenliste!F193=\"\",\"\",Athletenliste!F193)","v":""},{"$f":"IF(Athletenliste!G193=\"\",\"\",Athletenliste!G193)","v":""},{"$f":"IF(Athletenliste!H193=\"\",\"\",Athletenliste!H193)","v":""},{"$f":"IF(Messen_Beweglichkeit!K193=\"\",\"\",Messen_Beweglichkeit!K193)","v":""},{"$f":"IF(Messen_Beweglichkeit!L193=\"\",\"\",Messen_Beweglichkeit!L193)","v":""},{"$f":"IF('Jump-and-Reach'!I193=\"\",\"\",'Jump-and-Reach'!I193)","v":""},{"$f":"IF('Jump-and-Reach'!J193=\"\",\"\",'Jump-and-Reach'!J193)","v":""},{"$f":"IF('30m Sprint'!I193=\"\",\"\",'30m Sprint'!I193)","v":""},{"$f":"IF('30m Sprint'!J193=\"\",\"\",'30m Sprint'!J193)","v":""},{"$f":"IF(KaBu!I193=\"\",\"\",KaBu!I193)","v":""},{"$f":"IF(KaBu!J193=\"\",\"\",KaBu!J193)","v":""},{"$f":"IF(Seilspringen!I193=\"\",\"\",Seilspringen!I193)","v":""},{"$f":"IF(Seilspringen!J193=\"\",\"\",Seilspringen!J193)","v":""},{"$f":"IF(Liegestütz!I193=\"\",\"\",Liegestütz!I193)","v":""},{"$f":"IF(Liegestütz!J193=\"\",\"\",Liegestütz!J193)","v":""},{"$f":"IF(Balance!I193=\"\",\"\",Balance!I193)","v":""},{"$f":"IF(Balance!J193=\"\",\"\",Balance!J193)","v":""},{"$f":"IF('1000m'!I193=\"\",\"\",'1000m'!I193)","v":""},{"$f":"IF('1000m'!J193=\"\",\"\",'1000m'!J193)","v":""},{"$f":"IF(B193=\"\",\"\",(IF(AND(Messen_Beweglichkeit!L193=\"\",AB193=\"OK\"),VLOOKUP(G193&D193,$AJ$10:$AT$31,4,FALSE)+1,IF(AND(Messen_Beweglichkeit!J193=\"\",AB193=\"kein Test\"),\"\",Messen_Beweglichkeit!L193))+IF(AND('Jump-and-Reach'!J193=\"\",AB193=\"OK\"),VLOOKUP(G193&D193,$AJ$10:$AT$31,5,FALSE)+1,IF(AND('Jump-and-Reach'!J193=\"\",AB193=\"kein Test\"),\"\",'Jump-and-Reach'!J193))+IF(AND('30m Sprint'!J193=\"\",AB193=\"OK\"),VLOOKUP(G193&D193,$AJ$10:$AT$31,6,FALSE)+1,IF(AND('30m Sprint'!J193=\"\",AB193=\"kein Test\"),\"\",'30m Sprint'!J193))+IF(AND(KaBu!J193=\"\",AB193=\"OK\"),VLOOKUP(G193&D193,$AJ$10:$AT$31,7,FALSE)+1,IF(AND(KaBu!J193=\"\",AB193=\"kein Test\"),\"\",KaBu!J193))+IF(AND(Seilspringen!J193=\"\",AB193=\"OK\"),VLOOKUP(G193&D193,$AJ$10:$AT$31,8,FALSE)+1,IF(AND(Seilspringen!J193=\"\",AB193=\"kein Test\"),\"\",Seilspringen!J193))+IF(AND(Liegestütz!J193=\"\",AB193=\"OK\"),VLOOKUP(G193&D193,$AJ$10:$AT$31,9,FALSE)+1,IF(AND(Liegestütz!J193=\"\",AB193=\"kein Test\"),\"\",Liegestütz!J193))+IF(AND(Balance!J193=\"\",AB193=\"OK\"),VLOOKUP(G193&D193,$AJ$10:$AT$31,10,FALSE)+1,IF(AND(Balance!J193=\"\",AB193=\"kein Test\"),\"\",Balance!J193))+IF(AND('1000m'!J193=\"\",AB193=\"OK\"),VLOOKUP(G193&D193,$AJ$10:$AT$31,11,FALSE)+1,IF(AND('1000m'!J193=\"\",AB193=\"kein Test\"),\"\",'1000m'!J193)))/8)","v":""},null,null,"kein Test"]
[185,{"$f":"IF(Athletenliste!B194=\"\",\"\",Athletenliste!B194)","v":""},{"$f":"IF(Athletenliste!C194=\"\",\"\",Athletenliste!C194)","v":""},{"$f":"IF(Athletenliste!D194=\"\",\"\",Athletenliste!D194)","v":""},{"$f":"IF(Athletenliste!E194=\"\",\"\",Athletenliste!E194)","v":""},{"$f":"IF(Athletenliste!F194=\"\",\"\",Athletenliste!F194)","v":""},{"$f":"IF(Athletenliste!G194=\"\",\"\",Athletenliste!G194)","v":""},{"$f":"IF(Athletenliste!H194=\"\",\"\",Athletenliste!H194)","v":""},{"$f":"IF(Messen_Beweglichkeit!K194=\"\",\"\",Messen_Beweglichkeit!K194)","v":""},{"$f":"IF(Messen_Beweglichkeit!L194=\"\",\"\",Messen_Beweglichkeit!L194)","v":""},{"$f":"IF('Jump-and-Reach'!I194=\"\",\"\",'Jump-and-Reach'!I194)","v":""},{"$f":"IF('Jump-and-Reach'!J194=\"\",\"\",'Jump-and-Reach'!J194)","v":""},{"$f":"IF('30m Sprint'!I194=\"\",\"\",'30m Sprint'!I194)","v":""},{"$f":"IF('30m Sprint'!J194=\"\",\"\",'30m Sprint'!J194)","v":""},{"$f":"IF(KaBu!I194=\"\",\"\",KaBu!I194)","v":""},{"$f":"IF(KaBu!J194=\"\",\"\",KaBu!J194)","v":""},{"$f":"IF(Seilspringen!I194=\"\",\"\",Seilspringen!I194)","v":""},{"$f":"IF(Seilspringen!J194=\"\",\"\",Seilspringen!J194)","v":""},{"$f":"IF(Liegestütz!I194=\"\",\"\",Liegestütz!I194)","v":""},{"$f":"IF(Liegestütz!J194=\"\",\"\",Liegestütz!J194)","v":""},{"$f":"IF(Balance!I194=\"\",\"\",Balance!I194)","v":""},{"$f":"IF(Balance!J194=\"\",\"\",Balance!J194)","v":""},{"$f":"IF('1000m'!I194=\"\",\"\",'1000m'!I194)","v":""},{"$f":"IF('1000m'!J194=\"\",\"\",'1000m'!J194)","v":""},{"$f":"IF(B194=\"\",\"\",(IF(AND(Messen_Beweglichkeit!L194=\"\",AB194=\"OK\"),VLOOKUP(G194&D194,$AJ$10:$AT$31,4,FALSE)+1,IF(AND(Messen_Beweglichkeit!J194=\"\",AB194=\"kein Test\"),\"\",Messen_Beweglichkeit!L194))+IF(AND('Jump-and-Reach'!J194=\"\",AB194=\"OK\"),VLOOKUP(G194&D194,$AJ$10:$AT$31,5,FALSE)+1,IF(AND('Jump-and-Reach'!J194=\"\",AB194=\"kein Test\"),\"\",'Jump-and-Reach'!J194))+IF(AND('30m Sprint'!J194=\"\",AB194=\"OK\"),VLOOKUP(G194&D194,$AJ$10:$AT$31,6,FALSE)+1,IF(AND('30m Sprint'!J194=\"\",AB194=\"kein Test\"),\"\",'30m Sprint'!J194))+IF(AND(KaBu!J194=\"\",AB194=\"OK\"),VLOOKUP(G194&D194,$AJ$10:$AT$31,7,FALSE)+1,IF(AND(KaBu!J194=\"\",AB194=\"kein Test\"),\"\",KaBu!J194))+IF(AND(Seilspringen!J194=\"\",AB194=\"OK\"),VLOOKUP(G194&D194,$AJ$10:$AT$31,8,FALSE)+1,IF(AND(Seilspringen!J194=\"\",AB194=\"kein Test\"),\"\",Seilspringen!J194))+IF(AND(Liegestütz!J194=\"\",AB194=\"OK\"),VLOOKUP(G194&D194,$AJ$10:$AT$31,9,FALSE)+1,IF(AND(Liegestütz!J194=\"\",AB194=\"kein Test\"),\"\",Liegestütz!J194))+IF(AND(Balance!J194=\"\",AB194=\"OK\"),VLOOKUP(G194&D194,$AJ$10:$AT$31,10,FALSE)+1,IF(AND(Balance!J194=\"\",AB194=\"kein Test\"),\"\",Balance!J194))+IF(AND('1000m'!J194=\"\",AB194=\"OK\"),VLOOKUP(G194&D194,$AJ$10:$AT$31,11,FALSE)+1,IF(AND('1000m'!J194=\"\",AB194=\"kein Test\"),\"\",'1000m'!J194)))/8)","v":""},null,null,"kein Test"]
[186,{"$f":"IF(Athletenliste!B195=\"\",\"\",Athletenliste!B195)","v":""},{"$f":"IF(Athletenliste!C195=\"\",\"\",Athletenliste!C195)","v":""},{"$f":"IF(Athletenliste!D195=\"\",\"\",Athletenliste!D195)","v":""},{"$f":"IF(Athletenliste!E195=\"\",\"\",Athletenliste!E195)","v":""},{"$f":"IF(Athletenliste!F195=\"\",\"\",Athletenliste!F195)","v":""},{"$f":"IF(Athletenliste!G195=\"\",\"\",Athletenliste!G195)","v":""},{"$f":"IF(Athletenliste!H195=\"\",\"\",Athletenliste!H195)","v":""},{"$f":"IF(Messen_Beweglichkeit!K195=\"\",\"\",Messen_Beweglichkeit!K195)","v":""},{"$f":"IF(Messen_Beweglichkeit!L195=\"\",\"\",Messen_Beweglichkeit!L195)","v":""},{"$f":"IF('Jump-and-Reach'!I195=\"\",\"\",'Jump-and-Reach'!I195)","v":""},{"$f":"IF('Jump-and-Reach'!J195=\"\",\"\",'Jump-and-Reach'!J195)","v":""},{"$f":"IF('30m Sprint'!I195=\"\",\"\",'30m Sprint'!I195)","v":""},{"$f":"IF('30m Sprint'!J195=\"\",\"\",'30m Sprint'!J195)","v":""},{"$f":"IF(KaBu!I195=\"\",\"\",KaBu!I195)","v":""},{"$f":"IF(KaBu!J195=\"\",\"\",KaBu!J195)","v":""},{"$f":"IF(Seilspringen!I195=\"\",\"\",Seilspringen!I195)","v":""},{"$f":"IF(Seilspringen!J195=\"\",\"\",Seilspringen!J195)","v":""},{"$f":"IF(Liegestütz!I195=\"\",\"\",Liegestütz!I195)","v":""},{"$f":"IF(Liegestütz!J195=\"\",\"\",Liegestütz!J195)","v":""},{"$f":"IF(Balance!I195=\"\",\"\",Balance!I195)","v":""},{"$f":"IF(Balance!J195=\"\",\"\",Balance!J195)","v":""},{"$f":"IF('1000m'!I195=\"\",\"\",'1000m'!I195)","v":""},{"$f":"IF('1000m'!J195=\"\",\"\",'1000m'!J195)","v":""},{"$f":"IF(B195=\"\",\"\",(IF(AND(Messen_Beweglichkeit!L195=\"\",AB195=\"OK\"),VLOOKUP(G195&D195,$AJ$10:$AT$31,4,FALSE)+1,IF(AND(Messen_Beweglichkeit!J195=\"\",AB195=\"kein Test\"),\"\",Messen_Beweglichkeit!L195))+IF(AND('Jump-and-Reach'!J195=\"\",AB195=\"OK\"),VLOOKUP(G195&D195,$AJ$10:$AT$31,5,FALSE)+1,IF(AND('Jump-and-Reach'!J195=\"\",AB195=\"kein Test\"),\"\",'Jump-and-Reach'!J195))+IF(AND('30m Sprint'!J195=\"\",AB195=\"OK\"),VLOOKUP(G195&D195,$AJ$10:$AT$31,6,FALSE)+1,IF(AND('30m Sprint'!J195=\"\",AB195=\"kein Test\"),\"\",'30m Sprint'!J195))+IF(AND(KaBu!J195=\"\",AB195=\"OK\"),VLOOKUP(G195&D195,$AJ$10:$AT$31,7,FALSE)+1,IF(AND(KaBu!J195=\"\",AB195=\"kein Test\"),\"\",KaBu!J195))+IF(AND(Seilspringen!J195=\"\",AB195=\"OK\"),VLOOKUP(G195&D195,$AJ$10:$AT$31,8,FALSE)+1,IF(AND(Seilspringen!J195=\"\",AB195=\"kein Test\"),\"\",Seilspringen!J195))+IF(AND(Liegestütz!J195=\"\",AB195=\"OK\"),VLOOKUP(G195&D195,$AJ$10:$AT$31,9,FALSE)+1,IF(AND(Liegestütz!J195=\"\",AB195=\"kein Test\"),\"\",Liegestütz!J195))+IF(AND(Balance!J195=\"\",AB195=\"OK\"),VLOOKUP(G195&D195,$AJ$10:$AT$31,10,FALSE)+1,IF(AND(Balance!J195=\"\",AB195=\"kein Test\"),\"\",Balance!J195))+IF(AND('1000m'!J195=\"\",AB195=\"OK\"),VLOOKUP(G195&D195,$AJ$10:$AT$31,11,FALSE)+1,IF(AND('1000m'!J195=\"\",AB195=\"kein Test\"),\"\",'1000m'!J195)))/8)","v":""},null,null,"kein Test"]
[187,{"$f":"IF(Athletenliste!B196=\"\",\"\",Athletenliste!B196)","v":""},{"$f":"IF(Athletenliste!C196=\"\",\"\",Athletenliste!C196)","v":""},{"$f":"IF(Athletenliste!D196=\"\",\"\",Athletenliste!D196)","v":""},{"$f":"IF(Athletenliste!E196=\"\",\"\",Athletenliste!E196)","v":""},{"$f":"IF(Athletenliste!F196=\"\",\"\",Athletenliste!F196)","v":""},{"$f":"IF(Athletenliste!G196=\"\",\"\",Athletenliste!G196)","v":""},{"$f":"IF(Athletenliste!H196=\"\",\"\",Athletenliste!H196)","v":""},{"$f":"IF(Messen_Beweglichkeit!K196=\"\",\"\",Messen_Beweglichkeit!K196)","v":""},{"$f":"IF(Messen_Beweglichkeit!L196=\"\",\"\",Messen_Beweglichkeit!L196)","v":""},{"$f":"IF('Jump-and-Reach'!I196=\"\",\"\",'Jump-and-Reach'!I196)","v":""},{"$f":"IF('Jump-and-Reach'!J196=\"\",\"\",'Jump-and-Reach'!J196)","v":""},{"$f":"IF('30m Sprint'!I196=\"\",\"\",'30m Sprint'!I196)","v":""},{"$f":"IF('30m Sprint'!J196=\"\",\"\",'30m Sprint'!J196)","v":""},{"$f":"IF(KaBu!I196=\"\",\"\",KaBu!I196)","v":""},{"$f":"IF(KaBu!J196=\"\",\"\",KaBu!J196)","v":""},{"$f":"IF(Seilspringen!I196=\"\",\"\",Seilspringen!I196)","v":""},{"$f":"IF(Seilspringen!J196=\"\",\"\",Seilspringen!J196)","v":""},{"$f":"IF(Liegestütz!I196=\"\",\"\",Liegestütz!I196)","v":""},{"$f":"IF(Liegestütz!J196=\"\",\"\",Liegestütz!J196)","v":""},{"$f":"IF(Balance!I196=\"\",\"\",Balance!I196)","v":""},{"$f":"IF(Balance!J196=\"\",\"\",Balance!J196)","v":""},{"$f":"IF('1000m'!I196=\"\",\"\",'1000m'!I196)","v":""},{"$f":"IF('1000m'!J196=\"\",\"\",'1000m'!J196)","v":""},{"$f":"IF(B196=\"\",\"\",(IF(AND(Messen_Beweglichkeit!L196=\"\",AB196=\"OK\"),VLOOKUP(G196&D196,$AJ$10:$AT$31,4,FALSE)+1,IF(AND(Messen_Beweglichkeit!J196=\"\",AB196=\"kein Test\"),\"\",Messen_Beweglichkeit!L196))+IF(AND('Jump-and-Reach'!J196=\"\",AB196=\"OK\"),VLOOKUP(G196&D196,$AJ$10:$AT$31,5,FALSE)+1,IF(AND('Jump-and-Reach'!J196=\"\",AB196=\"kein Test\"),\"\",'Jump-and-Reach'!J196))+IF(AND('30m Sprint'!J196=\"\",AB196=\"OK\"),VLOOKUP(G196&D196,$AJ$10:$AT$31,6,FALSE)+1,IF(AND('30m Sprint'!J196=\"\",AB196=\"kein Test\"),\"\",'30m Sprint'!J196))+IF(AND(KaBu!J196=\"\",AB196=\"OK\"),VLOOKUP(G196&D196,$AJ$10:$AT$31,7,FALSE)+1,IF(AND(KaBu!J196=\"\",AB196=\"kein Test\"),\"\",KaBu!J196))+IF(AND(Seilspringen!J196=\"\",AB196=\"OK\"),VLOOKUP(G196&D196,$AJ$10:$AT$31,8,FALSE)+1,IF(AND(Seilspringen!J196=\"\",AB196=\"kein Test\"),\"\",Seilspringen!J196))+IF(AND(Liegestütz!J196=\"\",AB196=\"OK\"),VLOOKUP(G196&D196,$AJ$10:$AT$31,9,FALSE)+1,IF(AND(Liegestütz!J196=\"\",AB196=\"kein Test\"),\"\",Liegestütz!J196))+IF(AND(Balance!J196=\"\",AB196=\"OK\"),VLOOKUP(G196&D196,$AJ$10:$AT$31,10,FALSE)+1,IF(AND(Balance!J196=\"\",AB196=\"kein Test\"),\"\",Balance!J196))+IF(AND('1000m'!J196=\"\",AB196=\"OK\"),VLOOKUP(G196&D196,$AJ$10:$AT$31,11,FALSE)+1,IF(AND('1000m'!J196=\"\",AB196=\"kein Test\"),\"\",'1000m'!J196)))/8)","v":""},null,null,"kein Test"]
[188,{"$f":"IF(Athletenliste!B197=\"\",\"\",Athletenliste!B197)","v":""},{"$f":"IF(Athletenliste!C197=\"\",\"\",Athletenliste!C197)","v":""},{"$f":"IF(Athletenliste!D197=\"\",\"\",Athletenliste!D197)","v":""},{"$f":"IF(Athletenliste!E197=\"\",\"\",Athletenliste!E197)","v":""},{"$f":"IF(Athletenliste!F197=\"\",\"\",Athletenliste!F197)","v":""},{"$f":"IF(Athletenliste!G197=\"\",\"\",Athletenliste!G197)","v":""},{"$f":"IF(Athletenliste!H197=\"\",\"\",Athletenliste!H197)","v":""},{"$f":"IF(Messen_Beweglichkeit!K197=\"\",\"\",Messen_Beweglichkeit!K197)","v":""},{"$f":"IF(Messen_Beweglichkeit!L197=\"\",\"\",Messen_Beweglichkeit!L197)","v":""},{"$f":"IF('Jump-and-Reach'!I197=\"\",\"\",'Jump-and-Reach'!I197)","v":""},{"$f":"IF('Jump-and-Reach'!J197=\"\",\"\",'Jump-and-Reach'!J197)","v":""},{"$f":"IF('30m Sprint'!I197=\"\",\"\",'30m Sprint'!I197)","v":""},{"$f":"IF('30m Sprint'!J197=\"\",\"\",'30m Sprint'!J197)","v":""},{"$f":"IF(KaBu!I197=\"\",\"\",KaBu!I197)","v":""},{"$f":"IF(KaBu!J197=\"\",\"\",KaBu!J197)","v":""},{"$f":"IF(Seilspringen!I197=\"\",\"\",Seilspringen!I197)","v":""},{"$f":"IF(Seilspringen!J197=\"\",\"\",Seilspringen!J197)","v":""},{"$f":"IF(Liegestütz!I197=\"\",\"\",Liegestütz!I197)","v":""},{"$f":"IF(Liegestütz!J197=\"\",\"\",Liegestütz!J197)","v":""},{"$f":"IF(Balance!I197=\"\",\"\",Balance!I197)","v":""},{"$f":"IF(Balance!J197=\"\",\"\",Balance!J197)","v":""},{"$f":"IF('1000m'!I197=\"\",\"\",'1000m'!I197)","v":""},{"$f":"IF('1000m'!J197=\"\",\"\",'1000m'!J197)","v":""},{"$f":"IF(B197=\"\",\"\",(IF(AND(Messen_Beweglichkeit!L197=\"\",AB197=\"OK\"),VLOOKUP(G197&D197,$AJ$10:$AT$31,4,FALSE)+1,IF(AND(Messen_Beweglichkeit!J197=\"\",AB197=\"kein Test\"),\"\",Messen_Beweglichkeit!L197))+IF(AND('Jump-and-Reach'!J197=\"\",AB197=\"OK\"),VLOOKUP(G197&D197,$AJ$10:$AT$31,5,FALSE)+1,IF(AND('Jump-and-Reach'!J197=\"\",AB197=\"kein Test\"),\"\",'Jump-and-Reach'!J197))+IF(AND('30m Sprint'!J197=\"\",AB197=\"OK\"),VLOOKUP(G197&D197,$AJ$10:$AT$31,6,FALSE)+1,IF(AND('30m Sprint'!J197=\"\",AB197=\"kein Test\"),\"\",'30m Sprint'!J197))+IF(AND(KaBu!J197=\"\",AB197=\"OK\"),VLOOKUP(G197&D197,$AJ$10:$AT$31,7,FALSE)+1,IF(AND(KaBu!J197=\"\",AB197=\"kein Test\"),\"\",KaBu!J197))+IF(AND(Seilspringen!J197=\"\",AB197=\"OK\"),VLOOKUP(G197&D197,$AJ$10:$AT$31,8,FALSE)+1,IF(AND(Seilspringen!J197=\"\",AB197=\"kein Test\"),\"\",Seilspringen!J197))+IF(AND(Liegestütz!J197=\"\",AB197=\"OK\"),VLOOKUP(G197&D197,$AJ$10:$AT$31,9,FALSE)+1,IF(AND(Liegestütz!J197=\"\",AB197=\"kein Test\"),\"\",Liegestütz!J197))+IF(AND(Balance!J197=\"\",AB197=\"OK\"),VLOOKUP(G197&D197,$AJ$10:$AT$31,10,FALSE)+1,IF(AND(Balance!J197=\"\",AB197=\"kein Test\"),\"\",Balance!J197))+IF(AND('1000m'!J197=\"\",AB197=\"OK\"),VLOOKUP(G197&D197,$AJ$10:$AT$31,11,FALSE)+1,IF(AND('1000m'!J197=\"\",AB197=\"kein Test\"),\"\",'1000m'!J197)))/8)","v":""},null,null,"kein Test"]
[189,{"$f":"IF(Athletenliste!B198=\"\",\"\",Athletenliste!B198)","v":""},{"$f":"IF(Athletenliste!C198=\"\",\"\",Athletenliste!C198)","v":""},{"$f":"IF(Athletenliste!D198=\"\",\"\",Athletenliste!D198)","v":""},{"$f":"IF(Athletenliste!E198=\"\",\"\",Athletenliste!E198)","v":""},{"$f":"IF(Athletenliste!F198=\"\",\"\",Athletenliste!F198)","v":""},{"$f":"IF(Athletenliste!G198=\"\",\"\",Athletenliste!G198)","v":""},{"$f":"IF(Athletenliste!H198=\"\",\"\",Athletenliste!H198)","v":""},{"$f":"IF(Messen_Beweglichkeit!K198=\"\",\"\",Messen_Beweglichkeit!K198)","v":""},{"$f":"IF(Messen_Beweglichkeit!L198=\"\",\"\",Messen_Beweglichkeit!L198)","v":""},{"$f":"IF('Jump-and-Reach'!I198=\"\",\"\",'Jump-and-Reach'!I198)","v":""},{"$f":"IF('Jump-and-Reach'!J198=\"\",\"\",'Jump-and-Reach'!J198)","v":""},{"$f":"IF('30m Sprint'!I198=\"\",\"\",'30m Sprint'!I198)","v":""},{"$f":"IF('30m Sprint'!J198=\"\",\"\",'30m Sprint'!J198)","v":""},{"$f":"IF(KaBu!I198=\"\",\"\",KaBu!I198)","v":""},{"$f":"IF(KaBu!J198=\"\",\"\",KaBu!J198)","v":""},{"$f":"IF(Seilspringen!I198=\"\",\"\",Seilspringen!I198)","v":""},{"$f":"IF(Seilspringen!J198=\"\",\"\",Seilspringen!J198)","v":""},{"$f":"IF(Liegestütz!I198=\"\",\"\",Liegestütz!I198)","v":""},{"$f":"IF(Liegestütz!J198=\"\",\"\",Liegestütz!J198)","v":""},{"$f":"IF(Balance!I198=\"\",\"\",Balance!I198)","v":""},{"$f":"IF(Balance!J198=\"\",\"\",Balance!J198)","v":""},{"$f":"IF('1000m'!I198=\"\",\"\",'1000m'!I198)","v":""},{"$f":"IF('1000m'!J198=\"\",\"\",'1000m'!J198)","v":""},{"$f":"IF(B198=\"\",\"\",(IF(AND(Messen_Beweglichkeit!L198=\"\",AB198=\"OK\"),VLOOKUP(G198&D198,$AJ$10:$AT$31,4,FALSE)+1,IF(AND(Messen_Beweglichkeit!J198=\"\",AB198=\"kein Test\"),\"\",Messen_Beweglichkeit!L198))+IF(AND('Jump-and-Reach'!J198=\"\",AB198=\"OK\"),VLOOKUP(G198&D198,$AJ$10:$AT$31,5,FALSE)+1,IF(AND('Jump-and-Reach'!J198=\"\",AB198=\"kein Test\"),\"\",'Jump-and-Reach'!J198))+IF(AND('30m Sprint'!J198=\"\",AB198=\"OK\"),VLOOKUP(G198&D198,$AJ$10:$AT$31,6,FALSE)+1,IF(AND('30m Sprint'!J198=\"\",AB198=\"kein Test\"),\"\",'30m Sprint'!J198))+IF(AND(KaBu!J198=\"\",AB198=\"OK\"),VLOOKUP(G198&D198,$AJ$10:$AT$31,7,FALSE)+1,IF(AND(KaBu!J198=\"\",AB198=\"kein Test\"),\"\",KaBu!J198))+IF(AND(Seilspringen!J198=\"\",AB198=\"OK\"),VLOOKUP(G198&D198,$AJ$10:$AT$31,8,FALSE)+1,IF(AND(Seilspringen!J198=\"\",AB198=\"kein Test\"),\"\",Seilspringen!J198))+IF(AND(Liegestütz!J198=\"\",AB198=\"OK\"),VLOOKUP(G198&D198,$AJ$10:$AT$31,9,FALSE)+1,IF(AND(Liegestütz!J198=\"\",AB198=\"kein Test\"),\"\",Liegestütz!J198))+IF(AND(Balance!J198=\"\",AB198=\"OK\"),VLOOKUP(G198&D198,$AJ$10:$AT$31,10,FALSE)+1,IF(AND(Balance!J198=\"\",AB198=\"kein Test\"),\"\",Balance!J198))+IF(AND('1000m'!J198=\"\",AB198=\"OK\"),VLOOKUP(G198&D198,$AJ$10:$AT$31,11,FALSE)+1,IF(AND('1000m'!J198=\"\",AB198=\"kein Test\"),\"\",'1000m'!J198)))/8)","v":""},null,null,"kein Test"]
[190,{"$f":"IF(Athletenliste!B199=\"\",\"\",Athletenliste!B199)","v":""},{"$f":"IF(Athletenliste!C199=\"\",\"\",Athletenliste!C199)","v":""},{"$f":"IF(Athletenliste!D199=\"\",\"\",Athletenliste!D199)","v":""},{"$f":"IF(Athletenliste!E199=\"\",\"\",Athletenliste!E199)","v":""},{"$f":"IF(Athletenliste!F199=\"\",\"\",Athletenliste!F199)","v":""},{"$f":"IF(Athletenliste!G199=\"\",\"\",Athletenliste!G199)","v":""},{"$f":"IF(Athletenliste!H199=\"\",\"\",Athletenliste!H199)","v":""},{"$f":"IF(Messen_Beweglichkeit!K199=\"\",\"\",Messen_Beweglichkeit!K199)","v":""},{"$f":"IF(Messen_Beweglichkeit!L199=\"\",\"\",Messen_Beweglichkeit!L199)","v":""},{"$f":"IF('Jump-and-Reach'!I199=\"\",\"\",'Jump-and-Reach'!I199)","v":""},{"$f":"IF('Jump-and-Reach'!J199=\"\",\"\",'Jump-and-Reach'!J199)","v":""},{"$f":"IF('30m Sprint'!I199=\"\",\"\",'30m Sprint'!I199)","v":""},{"$f":"IF('30m Sprint'!J199=\"\",\"\",'30m Sprint'!J199)","v":""},{"$f":"IF(KaBu!I199=\"\",\"\",KaBu!I199)","v":""},{"$f":"IF(KaBu!J199=\"\",\"\",KaBu!J199)","v":""},{"$f":"IF(Seilspringen!I199=\"\",\"\",Seilspringen!I199)","v":""},{"$f":"IF(Seilspringen!J199=\"\",\"\",Seilspringen!J199)","v":""},{"$f":"IF(Liegestütz!I199=\"\",\"\",Liegestütz!I199)","v":""},{"$f":"IF(Liegestütz!J199=\"\",\"\",Liegestütz!J199)","v":""},{"$f":"IF(Balance!I199=\"\",\"\",Balance!I199)","v":""},{"$f":"IF(Balance!J199=\"\",\"\",Balance!J199)","v":""},{"$f":"IF('1000m'!I199=\"\",\"\",'1000m'!I199)","v":""},{"$f":"IF('1000m'!J199=\"\",\"\",'1000m'!J199)","v":""},{"$f":"IF(B199=\"\",\"\",(IF(AND(Messen_Beweglichkeit!L199=\"\",AB199=\"OK\"),VLOOKUP(G199&D199,$AJ$10:$AT$31,4,FALSE)+1,IF(AND(Messen_Beweglichkeit!J199=\"\",AB199=\"kein Test\"),\"\",Messen_Beweglichkeit!L199))+IF(AND('Jump-and-Reach'!J199=\"\",AB199=\"OK\"),VLOOKUP(G199&D199,$AJ$10:$AT$31,5,FALSE)+1,IF(AND('Jump-and-Reach'!J199=\"\",AB199=\"kein Test\"),\"\",'Jump-and-Reach'!J199))+IF(AND('30m Sprint'!J199=\"\",AB199=\"OK\"),VLOOKUP(G199&D199,$AJ$10:$AT$31,6,FALSE)+1,IF(AND('30m Sprint'!J199=\"\",AB199=\"kein Test\"),\"\",'30m Sprint'!J199))+IF(AND(KaBu!J199=\"\",AB199=\"OK\"),VLOOKUP(G199&D199,$AJ$10:$AT$31,7,FALSE)+1,IF(AND(KaBu!J199=\"\",AB199=\"kein Test\"),\"\",KaBu!J199))+IF(AND(Seilspringen!J199=\"\",AB199=\"OK\"),VLOOKUP(G199&D199,$AJ$10:$AT$31,8,FALSE)+1,IF(AND(Seilspringen!J199=\"\",AB199=\"kein Test\"),\"\",Seilspringen!J199))+IF(AND(Liegestütz!J199=\"\",AB199=\"OK\"),VLOOKUP(G199&D199,$AJ$10:$AT$31,9,FALSE)+1,IF(AND(Liegestütz!J199=\"\",AB199=\"kein Test\"),\"\",Liegestütz!J199))+IF(AND(Balance!J199=\"\",AB199=\"OK\"),VLOOKUP(G199&D199,$AJ$10:$AT$31,10,FALSE)+1,IF(AND(Balance!J199=\"\",AB199=\"kein Test\"),\"\",Balance!J199))+IF(AND('1000m'!J199=\"\",AB199=\"OK\"),VLOOKUP(G199&D199,$AJ$10:$AT$31,11,FALSE)+1,IF(AND('1000m'!J199=\"\",AB199=\"kein Test\"),\"\",'1000m'!J199)))/8)","v":""},null,null,"kein Test"]
[191,{"$f":"IF(Athletenliste!B200=\"\",\"\",Athletenliste!B200)","v":""},{"$f":"IF(Athletenliste!C200=\"\",\"\",Athletenliste!C200)","v":""},{"$f":"IF(Athletenliste!D200=\"\",\"\",Athletenliste!D200)","v":""},{"$f":"IF(Athletenliste!E200=\"\",\"\",Athletenliste!E200)","v":""},{"$f":"IF(Athletenliste!F200=\"\",\"\",Athletenliste!F200)","v":""},{"$f":"IF(Athletenliste!G200=\"\",\"\",Athletenliste!G200)","v":""},{"$f":"IF(Athletenliste!H200=\"\",\"\",Athletenliste!H200)","v":""},{"$f":"IF(Messen_Beweglichkeit!K200=\"\",\"\",Messen_Beweglichkeit!K200)","v":""},{"$f":"IF(Messen_Beweglichkeit!L200=\"\",\"\",Messen_Beweglichkeit!L200)","v":""},{"$f":"IF('Jump-and-Reach'!I200=\"\",\"\",'Jump-and-Reach'!I200)","v":""},{"$f":"IF('Jump-and-Reach'!J200=\"\",\"\",'Jump-and-Reach'!J200)","v":""},{"$f":"IF('30m Sprint'!I200=\"\",\"\",'30m Sprint'!I200)","v":""},{"$f":"IF('30m Sprint'!J200=\"\",\"\",'30m Sprint'!J200)","v":""},{"$f":"IF(KaBu!I200=\"\",\"\",KaBu!I200)","v":""},{"$f":"IF(KaBu!J200=\"\",\"\",KaBu!J200)","v":""},{"$f":"IF(Seilspringen!I200=\"\",\"\",Seilspringen!I200)","v":""},{"$f":"IF(Seilspringen!J200=\"\",\"\",Seilspringen!J200)","v":""},{"$f":"IF(Liegestütz!I200=\"\",\"\",Liegestütz!I200)","v":""},{"$f":"IF(Liegestütz!J200=\"\",\"\",Liegestütz!J200)","v":""},{"$f":"IF(Balance!I200=\"\",\"\",Balance!I200)","v":""},{"$f":"IF(Balance!J200=\"\",\"\",Balance!J200)","v":""},{"$f":"IF('1000m'!I200=\"\",\"\",'1000m'!I200)","v":""},{"$f":"IF('1000m'!J200=\"\",\"\",'1000m'!J200)","v":""},{"$f":"IF(B200=\"\",\"\",(IF(AND(Messen_Beweglichkeit!L200=\"\",AB200=\"OK\"),VLOOKUP(G200&D200,$AJ$10:$AT$31,4,FALSE)+1,IF(AND(Messen_Beweglichkeit!J200=\"\",AB200=\"kein Test\"),\"\",Messen_Beweglichkeit!L200))+IF(AND('Jump-and-Reach'!J200=\"\",AB200=\"OK\"),VLOOKUP(G200&D200,$AJ$10:$AT$31,5,FALSE)+1,IF(AND('Jump-and-Reach'!J200=\"\",AB200=\"kein Test\"),\"\",'Jump-and-Reach'!J200))+IF(AND('30m Sprint'!J200=\"\",AB200=\"OK\"),VLOOKUP(G200&D200,$AJ$10:$AT$31,6,FALSE)+1,IF(AND('30m Sprint'!J200=\"\",AB200=\"kein Test\"),\"\",'30m Sprint'!J200))+IF(AND(KaBu!J200=\"\",AB200=\"OK\"),VLOOKUP(G200&D200,$AJ$10:$AT$31,7,FALSE)+1,IF(AND(KaBu!J200=\"\",AB200=\"kein Test\"),\"\",KaBu!J200))+IF(AND(Seilspringen!J200=\"\",AB200=\"OK\"),VLOOKUP(G200&D200,$AJ$10:$AT$31,8,FALSE)+1,IF(AND(Seilspringen!J200=\"\",AB200=\"kein Test\"),\"\",Seilspringen!J200))+IF(AND(Liegestütz!J200=\"\",AB200=\"OK\"),VLOOKUP(G200&D200,$AJ$10:$AT$31,9,FALSE)+1,IF(AND(Liegestütz!J200=\"\",AB200=\"kein Test\"),\"\",Liegestütz!J200))+IF(AND(Balance!J200=\"\",AB200=\"OK\"),VLOOKUP(G200&D200,$AJ$10:$AT$31,10,FALSE)+1,IF(AND(Balance!J200=\"\",AB200=\"kein Test\"),\"\",Balance!J200))+IF(AND('1000m'!J200=\"\",AB200=\"OK\"),VLOOKUP(G200&D200,$AJ$10:$AT$31,11,FALSE)+1,IF(AND('1000m'!J200=\"\",AB200=\"kein Test\"),\"\",'1000m'!J200)))/8)","v":""},null,null,"kein Test"]
[192,{"$f":"IF(Athletenliste!B201=\"\",\"\",Athletenliste!B201)","v":""},{"$f":"IF(Athletenliste!C201=\"\",\"\",Athletenliste!C201)","v":""},{"$f":"IF(Athletenliste!D201=\"\",\"\",Athletenliste!D201)","v":""},{"$f":"IF(Athletenliste!E201=\"\",\"\",Athletenliste!E201)","v":""},{"$f":"IF(Athletenliste!F201=\"\",\"\",Athletenliste!F201)","v":""},{"$f":"IF(Athletenliste!G201=\"\",\"\",Athletenliste!G201)","v":""},{"$f":"IF(Athletenliste!H201=\"\",\"\",Athletenliste!H201)","v":""},{"$f":"IF(Messen_Beweglichkeit!K201=\"\",\"\",Messen_Beweglichkeit!K201)","v":""},{"$f":"IF(Messen_Beweglichkeit!L201=\"\",\"\",Messen_Beweglichkeit!L201)","v":""},{"$f":"IF('Jump-and-Reach'!I201=\"\",\"\",'Jump-and-Reach'!I201)","v":""},{"$f":"IF('Jump-and-Reach'!J201=\"\",\"\",'Jump-and-Reach'!J201)","v":""},{"$f":"IF('30m Sprint'!I201=\"\",\"\",'30m Sprint'!I201)","v":""},{"$f":"IF('30m Sprint'!J201=\"\",\"\",'30m Sprint'!J201)","v":""},{"$f":"IF(KaBu!I201=\"\",\"\",KaBu!I201)","v":""},{"$f":"IF(KaBu!J201=\"\",\"\",KaBu!J201)","v":""},{"$f":"IF(Seilspringen!I201=\"\",\"\",Seilspringen!I201)","v":""},{"$f":"IF(Seilspringen!J201=\"\",\"\",Seilspringen!J201)","v":""},{"$f":"IF(Liegestütz!I201=\"\",\"\",Liegestütz!I201)","v":""},{"$f":"IF(Liegestütz!J201=\"\",\"\",Liegestütz!J201)","v":""},{"$f":"IF(Balance!I201=\"\",\"\",Balance!I201)","v":""},{"$f":"IF(Balance!J201=\"\",\"\",Balance!J201)","v":""},{"$f":"IF('1000m'!I201=\"\",\"\",'1000m'!I201)","v":""},{"$f":"IF('1000m'!J201=\"\",\"\",'1000m'!J201)","v":""},{"$f":"IF(B201=\"\",\"\",(IF(AND(Messen_Beweglichkeit!L201=\"\",AB201=\"OK\"),VLOOKUP(G201&D201,$AJ$10:$AT$31,4,FALSE)+1,IF(AND(Messen_Beweglichkeit!J201=\"\",AB201=\"kein Test\"),\"\",Messen_Beweglichkeit!L201))+IF(AND('Jump-and-Reach'!J201=\"\",AB201=\"OK\"),VLOOKUP(G201&D201,$AJ$10:$AT$31,5,FALSE)+1,IF(AND('Jump-and-Reach'!J201=\"\",AB201=\"kein Test\"),\"\",'Jump-and-Reach'!J201))+IF(AND('30m Sprint'!J201=\"\",AB201=\"OK\"),VLOOKUP(G201&D201,$AJ$10:$AT$31,6,FALSE)+1,IF(AND('30m Sprint'!J201=\"\",AB201=\"kein Test\"),\"\",'30m Sprint'!J201))+IF(AND(KaBu!J201=\"\",AB201=\"OK\"),VLOOKUP(G201&D201,$AJ$10:$AT$31,7,FALSE)+1,IF(AND(KaBu!J201=\"\",AB201=\"kein Test\"),\"\",KaBu!J201))+IF(AND(Seilspringen!J201=\"\",AB201=\"OK\"),VLOOKUP(G201&D201,$AJ$10:$AT$31,8,FALSE)+1,IF(AND(Seilspringen!J201=\"\",AB201=\"kein Test\"),\"\",Seilspringen!J201))+IF(AND(Liegestütz!J201=\"\",AB201=\"OK\"),VLOOKUP(G201&D201,$AJ$10:$AT$31,9,FALSE)+1,IF(AND(Liegestütz!J201=\"\",AB201=\"kein Test\"),\"\",Liegestütz!J201))+IF(AND(Balance!J201=\"\",AB201=\"OK\"),VLOOKUP(G201&D201,$AJ$10:$AT$31,10,FALSE)+1,IF(AND(Balance!J201=\"\",AB201=\"kein Test\"),\"\",Balance!J201))+IF(AND('1000m'!J201=\"\",AB201=\"OK\"),VLOOKUP(G201&D201,$AJ$10:$AT$31,11,FALSE)+1,IF(AND('1000m'!J201=\"\",AB201=\"kein Test\"),\"\",'1000m'!J201)))/8)","v":""},null,null,"kein Test"]
[193,{"$f":"IF(Athletenliste!B202=\"\",\"\",Athletenliste!B202)","v":""},{"$f":"IF(Athletenliste!C202=\"\",\"\",Athletenliste!C202)","v":""},{"$f":"IF(Athletenliste!D202=\"\",\"\",Athletenliste!D202)","v":""},{"$f":"IF(Athletenliste!E202=\"\",\"\",Athletenliste!E202)","v":""},{"$f":"IF(Athletenliste!F202=\"\",\"\",Athletenliste!F202)","v":""},{"$f":"IF(Athletenliste!G202=\"\",\"\",Athletenliste!G202)","v":""},{"$f":"IF(Athletenliste!H202=\"\",\"\",Athletenliste!H202)","v":""},{"$f":"IF(Messen_Beweglichkeit!K202=\"\",\"\",Messen_Beweglichkeit!K202)","v":""},{"$f":"IF(Messen_Beweglichkeit!L202=\"\",\"\",Messen_Beweglichkeit!L202)","v":""},{"$f":"IF('Jump-and-Reach'!I202=\"\",\"\",'Jump-and-Reach'!I202)","v":""},{"$f":"IF('Jump-and-Reach'!J202=\"\",\"\",'Jump-and-Reach'!J202)","v":""},{"$f":"IF('30m Sprint'!I202=\"\",\"\",'30m Sprint'!I202)","v":""},{"$f":"IF('30m Sprint'!J202=\"\",\"\",'30m Sprint'!J202)","v":""},{"$f":"IF(KaBu!I202=\"\",\"\",KaBu!I202)","v":""},{"$f":"IF(KaBu!J202=\"\",\"\",KaBu!J202)","v":""},{"$f":"IF(Seilspringen!I202=\"\",\"\",Seilspringen!I202)","v":""},{"$f":"IF(Seilspringen!J202=\"\",\"\",Seilspringen!J202)","v":""},{"$f":"IF(Liegestütz!I202=\"\",\"\",Liegestütz!I202)","v":""},{"$f":"IF(Liegestütz!J202=\"\",\"\",Liegestütz!J202)","v":""},{"$f":"IF(Balance!I202=\"\",\"\",Balance!I202)","v":""},{"$f":"IF(Balance!J202=\"\",\"\",Balance!J202)","v":""},{"$f":"IF('1000m'!I202=\"\",\"\",'1000m'!I202)","v":""},{"$f":"IF('1000m'!J202=\"\",\"\",'1000m'!J202)","v":""},{"$f":"IF(B202=\"\",\"\",(IF(AND(Messen_Beweglichkeit!L202=\"\",AB202=\"OK\"),VLOOKUP(G202&D202,$AJ$10:$AT$31,4,FALSE)+1,IF(AND(Messen_Beweglichkeit!J202=\"\",AB202=\"kein Test\"),\"\",Messen_Beweglichkeit!L202))+IF(AND('Jump-and-Reach'!J202=\"\",AB202=\"OK\"),VLOOKUP(G202&D202,$AJ$10:$AT$31,5,FALSE)+1,IF(AND('Jump-and-Reach'!J202=\"\",AB202=\"kein Test\"),\"\",'Jump-and-Reach'!J202))+IF(AND('30m Sprint'!J202=\"\",AB202=\"OK\"),VLOOKUP(G202&D202,$AJ$10:$AT$31,6,FALSE)+1,IF(AND('30m Sprint'!J202=\"\",AB202=\"kein Test\"),\"\",'30m Sprint'!J202))+IF(AND(KaBu!J202=\"\",AB202=\"OK\"),VLOOKUP(G202&D202,$AJ$10:$AT$31,7,FALSE)+1,IF(AND(KaBu!J202=\"\",AB202=\"kein Test\"),\"\",KaBu!J202))+IF(AND(Seilspringen!J202=\"\",AB202=\"OK\"),VLOOKUP(G202&D202,$AJ$10:$AT$31,8,FALSE)+1,IF(AND(Seilspringen!J202=\"\",AB202=\"kein Test\"),\"\",Seilspringen!J202))+IF(AND(Liegestütz!J202=\"\",AB202=\"OK\"),VLOOKUP(G202&D202,$AJ$10:$AT$31,9,FALSE)+1,IF(AND(Liegestütz!J202=\"\",AB202=\"kein Test\"),\"\",Liegestütz!J202))+IF(AND(Balance!J202=\"\",AB202=\"OK\"),VLOOKUP(G202&D202,$AJ$10:$AT$31,10,FALSE)+1,IF(AND(Balance!J202=\"\",AB202=\"kein Test\"),\"\",Balance!J202))+IF(AND('1000m'!J202=\"\",AB202=\"OK\"),VLOOKUP(G202&D202,$AJ$10:$AT$31,11,FALSE)+1,IF(AND('1000m'!J202=\"\",AB202=\"kein Test\"),\"\",'1000m'!J202)))/8)","v":""},null,null,"kein Test"]

{"sheet":"Bezüge","index":11,"n_rows":52,"n_cols":12,"rows_kept":52,"cut":false,"hidden":false,"merged":[]}
[]
[]
[]
[]
[]
[2016,"U06","AL",2016,"U06","O","m",null,null,null,null,"N10:O200"]
[2015,"U07","AN",2015,"U07","Q","w",null,null,null,null,"P10:Q200"]
[2014,"U08","AP",2014,"U08","S",null,null,null,null,null,"R10:S200"]
[2013,"U09","AR",2013,"U09","U",null,null,null,null,null,"T10:U200"]
[2012,"U10","AT",2012,"U10","W",null,null,null,null,null,"V10:W200"]
[2011,"U11","AV",2011,"U11","Y",null,null,null,null,null,"X10:Y200"]
[2010,"U12","AX",2010,"U12","AA",null,null,null,null,null,"Z10:AA200"]
[2009,"U13","AZ",2009,"U13","AC",null,null,null,null,null,"AB10:AC200"]
[2008,"U14","BB",2008,"U14","AE",null,null,null,null,null,"AD10:AE200"]
[2007,"U15","BD",2007,"U15","AG",null,null,null,null,null,"AF10:AG200"]
[2006,"U16","BF",2006,"U16","AI",null,null,null,null,null,"AH10:AI200"]
[2005,"U18",null,2005,"U18"]
[2004,"U18",null,2004,"U18"]
[2003,"U20",null,2003,"U20"]
[2002,"U20",null,2002,"U20"]
[2001,"U23",null,2001,"U23"]
[2000,"U23",null,2000,"U23"]
[1999,"U23",null,1999,"U23"]
[1998,"Damen",null,1998,"Herren"]
[1997,"Damen",null,1997,"Herren"]
[1996,"Damen",null,1996,"Herren"]
[1995,"Damen",null,1995,"Herren"]
[1994,"Damen",null,1994,"Herren"]
[1993,"Damen",null,1993,"Herren"]
[1992,"Damen",null,1992,"Herren"]
[1991,"Damen",null,1991,"Herren"]
[1990,"Damen",null,1990,"Herren"]
[1989,"Damen",null,1989,"Herren"]
[1988,"Damen",null,1988,"Herren"]
[1987,"Damen",null,1987,"Herren"]
[1986,"Damen",null,1986,"Herren"]
[1985,"Damen",null,1985,"Herren"]
[1984,"Damen",null,1984,"Herren"]
[1983,"Damen",null,1983,"Herren"]
[1982,"Damen",null,1982,"Herren"]
[1981,"Damen",null,1981,"Herren"]
[1980,"Damen",null,1980,"Herren"]
[1979,"Damen",null,1979,"Herren"]
[1978,"Damen",null,1978,"Herren"]
[1977,"Damen",null,1977,"Herren"]
[1976,"Damen",null,1976,"Herren"]
[1975,"Damen",null,1975,"Herren"]
[1974,"Damen",null,1974,"Herren"]
[1973,"Damen",null,1973,"Herren"]
[1972,"Damen",null,1972,"Herren"]
[1971,"Damen",null,1971,"Herren"]
[1970,"Damen",null,1970,"Herren"]